{"text_format":"1","workbook":"xlsx","n_sheets":2,"sheets":["CALENDRIER","SOLDES"],"not_rendered":{"charts":0,"images":1,"macros":1,"external_links":0,"defined_names":3,"comments":2,"pivot_tables":0},"unopened":[],"bounds":{"document_bytes":16777216,"sheet_cells":100000,"rows_first":2000,"rows_last":500,"rows_between":2000,"halvings":0,"cell_chars":16384,"cell_head_chars":4096},"cells_cut":0,"cells_raw":0,"read":"whole","date_system":"1900"}

{"sheet":"CALENDRIER","index":0,"n_rows":2199,"n_cols":256,"rows_kept":2199,"cut":false,"hidden":false,"merged":[]}
["CP","1/2 CP","période de référence (du 1er juin au 31 mai)",null,null,null,null,null,null,null,null,null,null,null,null,null,null,null,null,null,null,null,null,null,null,null,null,null,null,null,null,null,null,null,null,null,null,null,null,null,null,null,null,null,null,null,null,null,null,null,null,null,null,null,null,null,null,null,null,null,null,null,null,null,null,null,null,null,null,null,null,null,null,null,null,null,null,null,null,null,null,null,null,null,null,null,null,null,null,null,null,null,null,null,null,null,null,null,null,null,null,null,null,null,null,null,null,null,null,null,null,null,null,null,null,null,null,null,null,null,null,null,null,null,null,null,null,null,null,null,null,null,null,null,null,null,null,null,null,null,null,null,null,null,null,null,null,null,null,null,null,null,null,null,null,null,null,null,null,null,null,null,null,null,null,null,null,null,null,null,null,null,null,null,null,null,null,null,null,null,null,null,null,null,null,null,null,null,null,null,null,null,null,null,null,null,null,null,null,null,null,null,null,null,null,null,null,null,null,null,null,null,null,null,null,null,null,null,null,null,null,null,null,null,null,null,null,null,null,null,null,null,null,null,null,null,null,null,null,null,null,null,null,null,null,null,null,null,null,null,null,null,null,null,null,"Créé par Alexandra Durand (Gaz0line sur www.Excel-Pratique.com) - 08/03/2013 - Freeware - Vente interdite"]
["CP Anc","1/2 CP Anc","période de référence (du 1er juin au 31 mai)"]
["RTT","1/2 RTT","année civile (du 1er janvier au 31 décembre)"]
["…",{"$f":"\"1/2 \"&A4","v":"1/2 …"},"année civile (du 1er janvier au 31 décembre)"]
["…",{"$f":"\"1/2 \"&A5","v":"1/2 …"},"année civile (du 1er janvier au 31 décembre)"]
["…",{"$f":"\"1/2 \"&A6","v":"1/2 …"},"période de référence (du 1er juin au 31 mai)"]
[null,null,{"$f":"IF(SOLDES!C2=\"\",\"\",SOLDES!C2)","v":"0_NE PAS SUPPRIMER"},{"$f":"IF(SOLDES!D2=\"\",\"\",SOLDES!D2)","v":"Employé n°1"},{"$f":"IF(SOLDES!E2=\"\",\"\",SOLDES!E2)","v":"Employé n°2"},{"$f":"IF(SOLDES!F2=\"\",\"\",SOLDES!F2)","v":"Employé n°3"},{"$f":"IF(SOLDES!G2=\"\",\"\",SOLDES!G2)","v":"Employé n°4"},{"$f":"IF(SOLDES!H2=\"\",\"\",SOLDES!H2)","v":"Employé n°5"},{"$f":"IF(SOLDES!I2=\"\",\"\",SOLDES!I2)","v":"Employé n°6"},{"$f":"IF(SOLDES!J2=\"\",\"\",SOLDES!J2)","v":"Employé n°7"},{"$f":"IF(SOLDES!K2=\"\",\"\",SOLDES!K2)","v":"Employé n°8"},{"$f":"IF(SOLDES!L2=\"\",\"\",SOLDES!L2)","v":"Employé n°9"},{"$f":"IF(SOLDES!M2=\"\",\"\",SOLDES!M2)","v":"Employé n°10"},{"$f":"IF(SOLDES!N2=\"\",\"\",SOLDES!N2)","v":"Employé n°11"},{"$f":"IF(SOLDES!O2=\"\",\"\",SOLDES!O2)","v":"Etc…"},{"$f":"IF(SOLDES!P2=\"\",\"\",SOLDES!P2)","v":""},{"$f":"IF(SOLDES!Q2=\"\",\"\",SOLDES!Q2)","v":""},{"$f":"IF(SOLDES!R2=\"\",\"\",SOLDES!R2)","v":""},{"$f":"IF(SOLDES!S2=\"\",\"\",SOLDES!S2)","v":""},{"$f":"IF(SOLDES!T2=\"\",\"\",SOLDES!T2)","v":""},{"$f":"IF(SOLDES!U2=\"\",\"\",SOLDES!U2)","v":""},{"$f":"IF(SOLDES!V2=\"\",\"\",SOLDES!V2)","v":""},{"$f":"IF(SOLDES!W2=\"\",\"\",SOLDES!W2)","v":""},{"$f":"IF(SOLDES!X2=\"\",\"\",SOLDES!X2)","v":""},{"$f":"IF(SOLDES!Y2=\"\",\"\",SOLDES!Y2)","v":""},{"$f":"IF(SOLDES!Z2=\"\",\"\",SOLDES!Z2)","v":""},{"$f":"IF(SOLDES!AA2=\"\",\"\",SOLDES!AA2)","v":""},{"$f":"IF(SOLDES!AB2=\"\",\"\",SOLDES!AB2)","v":""},{"$f":"IF(SOLDES!AC2=\"\",\"\",SOLDES!AC2)","v":""},{"$f":"IF(SOLDES!AD2=\"\",\"\",SOLDES!AD2)","v":""},{"$f":"IF(SOLDES!AE2=\"\",\"\",SOLDES!AE2)","v":""},{"$f":"IF(SOLDES!AF2=\"\",\"\",SOLDES!AF2)","v":""},{"$f":"IF(SOLDES!AG2=\"\",\"\",SOLDES!AG2)","v":""},{"$f":"IF(SOLDES!AH2=\"\",\"\",SOLDES!AH2)","v":""},{"$f":"IF(SOLDES!AI2=\"\",\"\",SOLDES!AI2)","v":""},{"$f":"IF(SOLDES!AJ2=\"\",\"\",SOLDES!AJ2)","v":""},{"$f":"IF(SOLDES!AK2=\"\",\"\",SOLDES!AK2)","v":""},{"$f":"IF(SOLDES!AL2=\"\",\"\",SOLDES!AL2)","v":""},{"$f":"IF(SOLDES!AM2=\"\",\"\",SOLDES!AM2)","v":""},{"$f":"IF(SOLDES!AN2=\"\",\"\",SOLDES!AN2)","v":""},{"$f":"IF(SOLDES!AO2=\"\",\"\",SOLDES!AO2)","v":""},{"$f":"IF(SOLDES!AP2=\"\",\"\",SOLDES!AP2)","v":""},{"$f":"IF(SOLDES!AQ2=\"\",\"\",SOLDES!AQ2)","v":""},{"$f":"IF(SOLDES!AR2=\"\",\"\",SOLDES!AR2)","v":""},{"$f":"IF(SOLDES!AS2=\"\",\"\",SOLDES!AS2)","v":""},{"$f":"IF(SOLDES!AT2=\"\",\"\",SOLDES!AT2)","v":""},{"$f":"IF(SOLDES!AU2=\"\",\"\",SOLDES!AU2)","v":""},{"$f":"IF(SOLDES!AV2=\"\",\"\",SOLDES!AV2)","v":""},{"$f":"IF(SOLDES!AW2=\"\",\"\",SOLDES!AW2)","v":""},{"$f":"IF(SOLDES!AX2=\"\",\"\",SOLDES!AX2)","v":""},{"$f":"IF(SOLDES!AY2=\"\",\"\",SOLDES!AY2)","v":""},{"$f":"IF(SOLDES!AZ2=\"\",\"\",SOLDES!AZ2)","v":""},{"$f":"IF(SOLDES!BA2=\"\",\"\",SOLDES!BA2)","v":""},{"$f":"IF(SOLDES!BB2=\"\",\"\",SOLDES!BB2)","v":""},{"$f":"IF(SOLDES!BC2=\"\",\"\",SOLDES!BC2)","v":""},{"$f":"IF(SOLDES!BD2=\"\",\"\",SOLDES!BD2)","v":""},{"$f":"IF(SOLDES!BE2=\"\",\"\",SOLDES!BE2)","v":""},{"$f":"IF(SOLDES!BF2=\"\",\"\",SOLDES!BF2)","v":""},{"$f":"IF(SOLDES!BG2=\"\",\"\",SOLDES!BG2)","v":""},{"$f":"IF(SOLDES!BH2=\"\",\"\",SOLDES!BH2)","v":""},{"$f":"IF(SOLDES!BI2=\"\",\"\",SOLDES!BI2)","v":""},{"$f":"IF(SOLDES!BJ2=\"\",\"\",SOLDES!BJ2)","v":""},{"$f":"IF(SOLDES!BK2=\"\",\"\",SOLDES!BK2)","v":""},{"$f":"IF(SOLDES!BL2=\"\",\"\",SOLDES!BL2)","v":""},{"$f":"IF(SOLDES!BM2=\"\",\"\",SOLDES!BM2)","v":""},{"$f":"IF(SOLDES!BN2=\"\",\"\",SOLDES!BN2)","v":""},{"$f":"IF(SOLDES!BO2=\"\",\"\",SOLDES!BO2)","v":""},{"$f":"IF(SOLDES!BP2=\"\",\"\",SOLDES!BP2)","v":""},{"$f":"IF(SOLDES!BQ2=\"\",\"\",SOLDES!BQ2)","v":""},{"$f":"IF(SOLDES!BR2=\"\",\"\",SOLDES!BR2)","v":""},{"$f":"IF(SOLDES!BS2=\"\",\"\",SOLDES!BS2)","v":""},{"$f":"IF(SOLDES!BT2=\"\",\"\",SOLDES!BT2)","v":""},{"$f":"IF(SOLDES!BU2=\"\",\"\",SOLDES!BU2)","v":""},{"$f":"IF(SOLDES!BV2=\"\",\"\",SOLDES!BV2)","v":""},{"$f":"IF(SOLDES!BW2=\"\",\"\",SOLDES!BW2)","v":""},{"$f":"IF(SOLDES!BX2=\"\",\"\",SOLDES!BX2)","v":""},{"$f":"IF(SOLDES!BY2=\"\",\"\",SOLDES!BY2)","v":""},{"$f":"IF(SOLDES!BZ2=\"\",\"\",SOLDES!BZ2)","v":""},{"$f":"IF(SOLDES!CA2=\"\",\"\",SOLDES!CA2)","v":""},{"$f":"IF(SOLDES!CB2=\"\",\"\",SOLDES!CB2)","v":""},{"$f":"IF(SOLDES!CC2=\"\",\"\",SOLDES!CC2)","v":""},{"$f":"IF(SOLDES!CD2=\"\",\"\",SOLDES!CD2)","v":""},{"$f":"IF(SOLDES!CE2=\"\",\"\",SOLDES!CE2)","v":""},{"$f":"IF(SOLDES!CF2=\"\",\"\",SOLDES!CF2)","v":""},{"$f":"IF(SOLDES!CG2=\"\",\"\",SOLDES!CG2)","v":""},{"$f":"IF(SOLDES!CH2=\"\",\"\",SOLDES!CH2)","v":""},{"$f":"IF(SOLDES!CI2=\"\",\"\",SOLDES!CI2)","v":""},{"$f":"IF(SOLDES!CJ2=\"\",\"\",SOLDES!CJ2)","v":""},{"$f":"IF(SOLDES!CK2=\"\",\"\",SOLDES!CK2)","v":""},{"$f":"IF(SOLDES!CL2=\"\",\"\",SOLDES!CL2)","v":""},{"$f":"IF(SOLDES!CM2=\"\",\"\",SOLDES!CM2)","v":""},{"$f":"IF(SOLDES!CN2=\"\",\"\",SOLDES!CN2)","v":""},{"$f":"IF(SOLDES!CO2=\"\",\"\",SOLDES!CO2)","v":""},{"$f":"IF(SOLDES!CP2=\"\",\"\",SOLDES!CP2)","v":""},{"$f":"IF(SOLDES!CQ2=\"\",\"\",SOLDES!CQ2)","v":""},{"$f":"IF(SOLDES!CR2=\"\",\"\",SOLDES!CR2)","v":""},{"$f":"IF(SOLDES!CS2=\"\",\"\",SOLDES!CS2)","v":""},{"$f":"IF(SOLDES!CT2=\"\",\"\",SOLDES!CT2)","v":""},{"$f":"IF(SOLDES!CU2=\"\",\"\",SOLDES!CU2)","v":""},{"$f":"IF(SOLDES!CV2=\"\",\"\",SOLDES!CV2)","v":""},{"$f":"IF(SOLDES!CW2=\"\",\"\",SOLDES!CW2)","v":""},{"$f":"IF(SOLDES!CX2=\"\",\"\",SOLDES!CX2)","v":""},{"$f":"IF(SOLDES!CY2=\"\",\"\",SOLDES!CY2)","v":""},{"$f":"IF(SOLDES!CZ2=\"\",\"\",SOLDES!CZ2)","v":""},{"$f":"IF(SOLDES!DA2=\"\",\"\",SOLDES!DA2)","v":""},{"$f":"IF(SOLDES!DB2=\"\",\"\",SOLDES!DB2)","v":""},{"$f":"IF(SOLDES!DC2=\"\",\"\",SOLDES!DC2)","v":""},{"$f":"IF(SOLDES!DD2=\"\",\"\",SOLDES!DD2)","v":""},{"$f":"IF(SOLDES!DE2=\"\",\"\",SOLDES!DE2)","v":""},{"$f":"IF(SOLDES!DF2=\"\",\"\",SOLDES!DF2)","v":""},{"$f":"IF(SOLDES!DG2=\"\",\"\",SOLDES!DG2)","v":""},{"$f":"IF(SOLDES!DH2=\"\",\"\",SOLDES!DH2)","v":""},{"$f":"IF(SOLDES!DI2=\"\",\"\",SOLDES!DI2)","v":""},{"$f":"IF(SOLDES!DJ2=\"\",\"\",SOLDES!DJ2)","v":""},{"$f":"IF(SOLDES!DK2=\"\",\"\",SOLDES!DK2)","v":""},{"$f":"IF(SOLDES!DL2=\"\",\"\",SOLDES!DL2)","v":""},{"$f":"IF(SOLDES!DM2=\"\",\"\",SOLDES!DM2)","v":""},{"$f":"IF(SOLDES!DN2=\"\",\"\",SOLDES!DN2)","v":""},{"$f":"IF(SOLDES!DO2=\"\",\"\",SOLDES!DO2)","v":""},{"$f":"IF(SOLDES!DP2=\"\",\"\",SOLDES!DP2)","v":""},{"$f":"IF(SOLDES!DQ2=\"\",\"\",SOLDES!DQ2)","v":""},{"$f":"IF(SOLDES!DR2=\"\",\"\",SOLDES!DR2)","v":""},{"$f":"IF(SOLDES!DS2=\"\",\"\",SOLDES!DS2)","v":""},{"$f":"IF(SOLDES!DT2=\"\",\"\",SOLDES!DT2)","v":""},{"$f":"IF(SOLDES!DU2=\"\",\"\",SOLDES!DU2)","v":""},{"$f":"IF(SOLDES!DV2=\"\",\"\",SOLDES!DV2)","v":""},{"$f":"IF(SOLDES!DW2=\"\",\"\",SOLDES!DW2)","v":""},{"$f":"IF(SOLDES!DX2=\"\",\"\",SOLDES!DX2)","v":""},{"$f":"IF(SOLDES!DY2=\"\",\"\",SOLDES!DY2)","v":""},{"$f":"IF(SOLDES!DZ2=\"\",\"\",SOLDES!DZ2)","v":""},{"$f":"IF(SOLDES!EA2=\"\",\"\",SOLDES!EA2)","v":""},{"$f":"IF(SOLDES!EB2=\"\",\"\",SOLDES!EB2)","v":""},{"$f":"IF(SOLDES!EC2=\"\",\"\",SOLDES!EC2)","v":""},{"$f":"IF(SOLDES!ED2=\"\",\"\",SOLDES!ED2)","v":""},{"$f":"IF(SOLDES!EE2=\"\",\"\",SOLDES!EE2)","v":""},{"$f":"IF(SOLDES!EF2=\"\",\"\",SOLDES!EF2)","v":""},{"$f":"IF(SOLDES!EG2=\"\",\"\",SOLDES!EG2)","v":""},{"$f":"IF(SOLDES!EH2=\"\",\"\",SOLDES!EH2)","v":""},{"$f":"IF(SOLDES!EI2=\"\",\"\",SOLDES!EI2)","v":""},{"$f":"IF(SOLDES!EJ2=\"\",\"\",SOLDES!EJ2)","v":""},{"$f":"IF(SOLDES!EK2=\"\",\"\",SOLDES!EK2)","v":""},{"$f":"IF(SOLDES!EL2=\"\",\"\",SOLDES!EL2)","v":""},{"$f":"IF(SOLDES!EM2=\"\",\"\",SOLDES!EM2)","v":""},{"$f":"IF(SOLDES!EN2=\"\",\"\",SOLDES!EN2)","v":""},{"$f":"IF(SOLDES!EO2=\"\",\"\",SOLDES!EO2)","v":""},{"$f":"IF(SOLDES!EP2=\"\",\"\",SOLDES!EP2)","v":""},{"$f":"IF(SOLDES!EQ2=\"\",\"\",SOLDES!EQ2)","v":""},{"$f":"IF(SOLDES!ER2=\"\",\"\",SOLDES!ER2)","v":""},{"$f":"IF(SOLDES!ES2=\"\",\"\",SOLDES!ES2)","v":""},{"$f":"IF(SOLDES!ET2=\"\",\"\",SOLDES!ET2)","v":""},{"$f":"IF(SOLDES!EU2=\"\",\"\",SOLDES!EU2)","v":""},{"$f":"IF(SOLDES!EV2=\"\",\"\",SOLDES!EV2)","v":""},{"$f":"IF(SOLDES!EW2=\"\",\"\",SOLDES!EW2)","v":""},{"$f":"IF(SOLDES!EX2=\"\",\"\",SOLDES!EX2)","v":""},{"$f":"IF(SOLDES!EY2=\"\",\"\",SOLDES!EY2)","v":""},{"$f":"IF(SOLDES!EZ2=\"\",\"\",SOLDES!EZ2)","v":""},{"$f":"IF(SOLDES!FA2=\"\",\"\",SOLDES!FA2)","v":""},{"$f":"IF(SOLDES!FB2=\"\",\"\",SOLDES!FB2)","v":""},{"$f":"IF(SOLDES!FC2=\"\",\"\",SOLDES!FC2)","v":""},{"$f":"IF(SOLDES!FD2=\"\",\"\",SOLDES!FD2)","v":""},{"$f":"IF(SOLDES!FE2=\"\",\"\",SOLDES!FE2)","v":""},{"$f":"IF(SOLDES!FF2=\"\",\"\",SOLDES!FF2)","v":""},{"$f":"IF(SOLDES!FG2=\"\",\"\",SOLDES!FG2)","v":""},{"$f":"IF(SOLDES!FH2=\"\",\"\",SOLDES!FH2)","v":""},{"$f":"IF(SOLDES!FI2=\"\",\"\",SOLDES!FI2)","v":""},{"$f":"IF(SOLDES!FJ2=\"\",\"\",SOLDES!FJ2)","v":""},{"$f":"IF(SOLDES!FK2=\"\",\"\",SOLDES!FK2)","v":""},{"$f":"IF(SOLDES!FL2=\"\",\"\",SOLDES!FL2)","v":""},{"$f":"IF(SOLDES!FM2=\"\",\"\",SOLDES!FM2)","v":""},{"$f":"IF(SOLDES!FN2=\"\",\"\",SOLDES!FN2)","v":""},{"$f":"IF(SOLDES!FO2=\"\",\"\",SOLDES!FO2)","v":""},{"$f":"IF(SOLDES!FP2=\"\",\"\",SOLDES!FP2)","v":""},{"$f":"IF(SOLDES!FQ2=\"\",\"\",SOLDES!FQ2)","v":""},{"$f":"IF(SOLDES!FR2=\"\",\"\",SOLDES!FR2)","v":""},{"$f":"IF(SOLDES!FS2=\"\",\"\",SOLDES!FS2)","v":""},{"$f":"IF(SOLDES!FT2=\"\",\"\",SOLDES!FT2)","v":""},{"$f":"IF(SOLDES!FU2=\"\",\"\",SOLDES!FU2)","v":""},{"$f":"IF(SOLDES!FV2=\"\",\"\",SOLDES!FV2)","v":""},{"$f":"IF(SOLDES!FW2=\"\",\"\",SOLDES!FW2)","v":""},{"$f":"IF(SOLDES!FX2=\"\",\"\",SOLDES!FX2)","v":""},{"$f":"IF(SOLDES!FY2=\"\",\"\",SOLDES!FY2)","v":""},{"$f":"IF(SOLDES!FZ2=\"\",\"\",SOLDES!FZ2)","v":""},{"$f":"IF(SOLDES!GA2=\"\",\"\",SOLDES!GA2)","v":""},{"$f":"IF(SOLDES!GB2=\"\",\"\",SOLDES!GB2)","v":""},{"$f":"IF(SOLDES!GC2=\"\",\"\",SOLDES!GC2)","v":""},{"$f":"IF(SOLDES!GD2=\"\",\"\",SOLDES!GD2)","v":""},{"$f":"IF(SOLDES!GE2=\"\",\"\",SOLDES!GE2)","v":""},{"$f":"IF(SOLDES!GF2=\"\",\"\",SOLDES!GF2)","v":""},{"$f":"IF(SOLDES!GG2=\"\",\"\",SOLDES!GG2)","v":""},{"$f":"IF(SOLDES!GH2=\"\",\"\",SOLDES!GH2)","v":""},{"$f":"IF(SOLDES!GI2=\"\",\"\",SOLDES!GI2)","v":""},{"$f":"IF(SOLDES!GJ2=\"\",\"\",SOLDES!GJ2)","v":""},{"$f":"IF(SOLDES!GK2=\"\",\"\",SOLDES!GK2)","v":""},{"$f":"IF(SOLDES!GL2=\"\",\"\",SOLDES!GL2)","v":""},{"$f":"IF(SOLDES!GM2=\"\",\"\",SOLDES!GM2)","v":""},{"$f":"IF(SOLDES!GN2=\"\",\"\",SOLDES!GN2)","v":""},{"$f":"IF(SOLDES!GO2=\"\",\"\",SOLDES!GO2)","v":""},{"$f":"IF(SOLDES!GP2=\"\",\"\",SOLDES!GP2)","v":""},{"$f":"IF(SOLDES!GQ2=\"\",\"\",SOLDES!GQ2)","v":""},{"$f":"IF(SOLDES!GR2=\"\",\"\",SOLDES!GR2)","v":""}]
[{"$f":"B8","v":"2015-06-01"},"2015-06-01"]
[{"$f":"B9","v":"2015-06-02"},"2015-06-02"]
["2015-06-03","2015-06-03"]
["2015-06-04","2015-06-04"]
["2015-06-05","2015-06-05"]
[{"$f":"B13","v":"2015-06-06"},"2015-06-06"]
["2015-06-07","2015-06-07"]
["2015-06-08","2015-06-08"]
["2015-06-09","2015-06-09"]
["2015-06-10","2015-06-10"]
["2015-06-11","2015-06-11"]
["2015-06-12","2015-06-12"]
["2015-06-13","2015-06-13"]
["2015-06-14","2015-06-14"]
["2015-06-15","2015-06-15"]
["2015-06-16","2015-06-16"]
["2015-06-17","2015-06-17"]
["2015-06-18","2015-06-18"]
["2015-06-19","2015-06-19"]
["2015-06-20","2015-06-20"]
["2015-06-21","2015-06-21"]
["2015-06-22","2015-06-22"]
["2015-06-23","2015-06-23"]
["2015-06-24","2015-06-24"]
["2015-06-25","2015-06-25"]
["2015-06-26","2015-06-26"]
["2015-06-27","2015-06-27"]
["2015-06-28","2015-06-28"]
["2015-06-29","2015-06-29"]
["2015-06-30","2015-06-30"]
["2015-07-01","2015-07-01"]
["2015-07-02","2015-07-02"]
["2015-07-03","2015-07-03"]
["2015-07-04","2015-07-04"]
["2015-07-05","2015-07-05"]
["2015-07-06","2015-07-06"]
["2015-07-07","2015-07-07"]
["2015-07-08","2015-07-08"]
["2015-07-09","2015-07-09"]
["2015-07-10","2015-07-10"]
["2015-07-11","2015-07-11"]
["2015-07-12","2015-07-12"]
["2015-07-13","2015-07-13"]
["2015-07-14","2015-07-14"]
["2015-07-15","2015-07-15"]
["2015-07-16","2015-07-16"]
["2015-07-17","2015-07-17"]
["2015-07-18","2015-07-18"]
["2015-07-19","2015-07-19"]
["2015-07-20","2015-07-20"]
["2015-07-21","2015-07-21"]
["2015-07-22","2015-07-22"]
["2015-07-23","2015-07-23"]
["2015-07-24","2015-07-24"]
["2015-07-25","2015-07-25"]
["2015-07-26","2015-07-26"]
["2015-07-27","2015-07-27"]
["2015-07-28","2015-07-28"]
["2015-07-29","2015-07-29"]
["2015-07-30","2015-07-30"]
["2015-07-31","2015-07-31"]
["2015-08-01","2015-08-01"]
["2015-08-02","2015-08-02"]
["2015-08-03","2015-08-03"]
["2015-08-04","2015-08-04"]
[{"$f":"B73","v":"2015-08-05"},"2015-08-05"]
["2015-08-06","2015-08-06"]
["2015-08-07","2015-08-07"]
["2015-08-08","2015-08-08"]
["2015-08-09","2015-08-09"]
["2015-08-10","2015-08-10"]
["2015-08-11","2015-08-11"]
["2015-08-12","2015-08-12"]
["2015-08-13","2015-08-13"]
["2015-08-14","2015-08-14"]
["2015-08-15","2015-08-15"]
["2015-08-16","2015-08-16"]
["2015-08-17","2015-08-17"]
["2015-08-18","2015-08-18"]
["2015-08-19","2015-08-19"]
["2015-08-20","2015-08-20"]
["2015-08-21","2015-08-21"]
["2015-08-22","2015-08-22"]
["2015-08-23","2015-08-23"]
["2015-08-24","2015-08-24"]
["2015-08-25","2015-08-25"]
["2015-08-26","2015-08-26"]
["2015-08-27","2015-08-27"]
["2015-08-28","2015-08-28"]
["2015-08-29","2015-08-29"]
["2015-08-30","2015-08-30"]
["2015-08-31","2015-08-31"]
["2015-09-01","2015-09-01"]
["2015-09-02","2015-09-02"]
["2015-09-03","2015-09-03"]
["2015-09-04","2015-09-04"]
["2015-09-05","2015-09-05"]
["2015-09-06","2015-09-06"]
["2015-09-07","2015-09-07"]
["2015-09-08","2015-09-08"]
["2015-09-09","2015-09-09"]
["2015-09-10","2015-09-10"]
["2015-09-11","2015-09-11"]
["2015-09-12","2015-09-12"]
["2015-09-13","2015-09-13"]
["2015-09-14","2015-09-14"]
["2015-09-15","2015-09-15"]
["2015-09-16","2015-09-16"]
["2015-09-17","2015-09-17"]
["2015-09-18","2015-09-18"]
["2015-09-19","2015-09-19"]
["2015-09-20","2015-09-20"]
["2015-09-21","2015-09-21"]
["2015-09-22","2015-09-22"]
["2015-09-23","2015-09-23"]
["2015-09-24","2015-09-24"]
["2015-09-25","2015-09-25"]
["2015-09-26","2015-09-26"]
["2015-09-27","2015-09-27"]
["2015-09-28","2015-09-28"]
["2015-09-29","2015-09-29"]
["2015-09-30","2015-09-30"]
["2015-10-01","2015-10-01"]
["2015-10-02","2015-10-02"]
["2015-10-03","2015-10-03"]
["2015-10-04","2015-10-04"]
["2015-10-05","2015-10-05"]
["2015-10-06","2015-10-06"]
["2015-10-07","2015-10-07"]
[{"$f":"B137","v":"2015-10-08"},"2015-10-08"]
["2015-10-09","2015-10-09"]
["2015-10-10","2015-10-10"]
["2015-10-11","2015-10-11"]
["2015-10-12","2015-10-12"]
["2015-10-13","2015-10-13"]
["2015-10-14","2015-10-14"]
["2015-10-15","2015-10-15"]
["2015-10-16","2015-10-16"]
["2015-10-17","2015-10-17"]
["2015-10-18","2015-10-18"]
["2015-10-19","2015-10-19"]
["2015-10-20","2015-10-20"]
["2015-10-21","2015-10-21"]
["2015-10-22","2015-10-22"]
["2015-10-23","2015-10-23"]
["2015-10-24","2015-10-24"]
["2015-10-25","2015-10-25"]
["2015-10-26","2015-10-26"]
["2015-10-27","2015-10-27"]
["2015-10-28","2015-10-28"]
["2015-10-29","2015-10-29"]
["2015-10-30","2015-10-30"]
["2015-10-31","2015-10-31"]
["2015-11-01","2015-11-01"]
["2015-11-02","2015-11-02"]
["2015-11-03","2015-11-03"]
["2015-11-04","2015-11-04"]
["2015-11-05","2015-11-05"]
["2015-11-06","2015-11-06"]
["2015-11-07","2015-11-07"]
["2015-11-08","2015-11-08"]
["2015-11-09","2015-11-09"]
["2015-11-10","2015-11-10"]
["2015-11-11","2015-11-11"]
["2015-11-12","2015-11-12"]
["2015-11-13","2015-11-13"]
["2015-11-14","2015-11-14"]
["2015-11-15","2015-11-15"]
["2015-11-16","2015-11-16"]
["2015-11-17","2015-11-17"]
["2015-11-18","2015-11-18"]
["2015-11-19","2015-11-19"]
["2015-11-20","2015-11-20"]
["2015-11-21","2015-11-21"]
["2015-11-22","2015-11-22"]
["2015-11-23","2015-11-23"]
["2015-11-24","2015-11-24"]
["2015-11-25","2015-11-25"]
["2015-11-26","2015-11-26"]
["2015-11-27","2015-11-27"]
["2015-11-28","2015-11-28"]
["2015-11-29","2015-11-29"]
["2015-11-30","2015-11-30"]
["2015-12-01","2015-12-01"]
["2015-12-02","2015-12-02"]
["2015-12-03","2015-12-03"]
["2015-12-04","2015-12-04"]
["2015-12-05","2015-12-05"]
["2015-12-06","2015-12-06"]
["2015-12-07","2015-12-07"]
["2015-12-08","2015-12-08"]
["2015-12-09","2015-12-09"]
["2015-12-10","2015-12-10"]
[{"$f":"B201","v":"2015-12-11"},"2015-12-11"]
["2015-12-12","2015-12-12"]
["2015-12-13","2015-12-13"]
["2015-12-14","2015-12-14"]
["2015-12-15","2015-12-15"]
["2015-12-16","2015-12-16"]
["2015-12-17","2015-12-17"]
["2015-12-18","2015-12-18"]
["2015-12-19","2015-12-19"]
["2015-12-20","2015-12-20"]
["2015-12-21","2015-12-21"]
["2015-12-22","2015-12-22"]
["2015-12-23","2015-12-23"]
["2015-12-24","2015-12-24"]
["2015-12-25","2015-12-25"]
["2015-12-26","2015-12-26"]
["2015-12-27","2015-12-27"]
["2015-12-28","2015-12-28"]
["2015-12-29","2015-12-29"]
["2015-12-30","2015-12-30"]
["2015-12-31","2015-12-31"]
["2016-01-01","2016-01-01"]
["2016-01-02","2016-01-02"]
["2016-01-03","2016-01-03"]
["2016-01-04","2016-01-04"]
["2016-01-05","2016-01-05"]
["2016-01-06","2016-01-06"]
["2016-01-07","2016-01-07"]
["2016-01-08","2016-01-08"]
["2016-01-09","2016-01-09"]
["2016-01-10","2016-01-10"]
["2016-01-11","2016-01-11"]
["2016-01-12","2016-01-12"]
["2016-01-13","2016-01-13"]
["2016-01-14","2016-01-14"]
["2016-01-15","2016-01-15"]
["2016-01-16","2016-01-16"]
["2016-01-17","2016-01-17"]
["2016-01-18","2016-01-18"]
["2016-01-19","2016-01-19"]
["2016-01-20","2016-01-20"]
["2016-01-21","2016-01-21"]
["2016-01-22","2016-01-22"]
["2016-01-23","2016-01-23"]
["2016-01-24","2016-01-24"]
["2016-01-25","2016-01-25"]
["2016-01-26","2016-01-26"]
["2016-01-27","2016-01-27"]
["2016-01-28","2016-01-28"]
["2016-01-29","2016-01-29"]
["2016-01-30","2016-01-30"]
["2016-01-31","2016-01-31"]
["2016-02-01","2016-02-01"]
["2016-02-02","2016-02-02"]
["2016-02-03","2016-02-03"]
["2016-02-04","2016-02-04"]
["2016-02-05","2016-02-05"]
["2016-02-06","2016-02-06"]
["2016-02-07","2016-02-07"]
["2016-02-08","2016-02-08"]
["2016-02-09","2016-02-09"]
["2016-02-10","2016-02-10"]
["2016-02-11","2016-02-11"]
["2016-02-12","2016-02-12"]
[{"$f":"B265","v":"2016-02-13"},"2016-02-13"]
["2016-02-14","2016-02-14"]
["2016-02-15","2016-02-15"]
["2016-02-16","2016-02-16"]
["2016-02-17","2016-02-17"]
["2016-02-18","2016-02-18"]
["2016-02-19","2016-02-19"]
["2016-02-20","2016-02-20"]
["2016-02-21","2016-02-21"]
["2016-02-22","2016-02-22"]
["2016-02-23","2016-02-23"]
["2016-02-24","2016-02-24"]
["2016-02-25","2016-02-25"]
["2016-02-26","2016-02-26"]
["2016-02-27","2016-02-27"]
["2016-02-28","2016-02-28"]
["2016-02-29","2016-02-29"]
["2016-03-01","2016-03-01"]
["2016-03-02","2016-03-02"]
["2016-03-03","2016-03-03"]
["2016-03-04","2016-03-04"]
["2016-03-05","2016-03-05"]
["2016-03-06","2016-03-06"]
["2016-03-07","2016-03-07"]
["2016-03-08","2016-03-08"]
["2016-03-09","2016-03-09"]
["2016-03-10","2016-03-10"]
["2016-03-11","2016-03-11"]
["2016-03-12","2016-03-12"]
["2016-03-13","2016-03-13"]
["2016-03-14","2016-03-14"]
["2016-03-15","2016-03-15"]
["2016-03-16","2016-03-16"]
["2016-03-17","2016-03-17"]
["2016-03-18","2016-03-18"]
["2016-03-19","2016-03-19"]
["2016-03-20","2016-03-20"]
["2016-03-21","2016-03-21"]
["2016-03-22","2016-03-22"]
["2016-03-23","2016-03-23"]
["2016-03-24","2016-03-24"]
["2016-03-25","2016-03-25"]
["2016-03-26","2016-03-26"]
["2016-03-27","2016-03-27"]
["2016-03-28","2016-03-28"]
["2016-03-29","2016-03-29"]
["2016-03-30","2016-03-30"]
["2016-03-31","2016-03-31"]
["2016-04-01","2016-04-01"]
["2016-04-02","2016-04-02"]
["2016-04-03","2016-04-03"]
["2016-04-04","2016-04-04"]
["2016-04-05","2016-04-05"]
["2016-04-06","2016-04-06"]
["2016-04-07","2016-04-07"]
["2016-04-08","2016-04-08"]
["2016-04-09","2016-04-09"]
["2016-04-10","2016-04-10"]
["2016-04-11","2016-04-11"]
["2016-04-12","2016-04-12"]
["2016-04-13","2016-04-13"]
["2016-04-14","2016-04-14"]
["2016-04-15","2016-04-15"]
["2016-04-16","2016-04-16"]
[{"$f":"B329","v":"2016-04-17"},"2016-04-17"]
["2016-04-18","2016-04-18"]
["2016-04-19","2016-04-19"]
["2016-04-20","2016-04-20"]
["2016-04-21","2016-04-21"]
["2016-04-22","2016-04-22"]
["2016-04-23","2016-04-23"]
["2016-04-24","2016-04-24"]
["2016-04-25","2016-04-25"]
["2016-04-26","2016-04-26"]
["2016-04-27","2016-04-27"]
["2016-04-28","2016-04-28"]
["2016-04-29","2016-04-29"]
["2016-04-30","2016-04-30"]
["2016-05-01","2016-05-01"]
["2016-05-02","2016-05-02"]
["2016-05-03","2016-05-03"]
["2016-05-04","2016-05-04"]
["2016-05-05","2016-05-05"]
["2016-05-06","2016-05-06"]
["2016-05-07","2016-05-07"]
["2016-05-08","2016-05-08"]
["2016-05-09","2016-05-09"]
["2016-05-10","2016-05-10"]
["2016-05-11","2016-05-11"]
["2016-05-12","2016-05-12"]
["2016-05-13","2016-05-13"]
["2016-05-14","2016-05-14"]
["2016-05-15","2016-05-15"]
["2016-05-16","2016-05-16"]
["2016-05-17","2016-05-17"]
["2016-05-18","2016-05-18"]
["2016-05-19","2016-05-19"]
["2016-05-20","2016-05-20"]
["2016-05-21","2016-05-21"]
["2016-05-22","2016-05-22"]
["2016-05-23","2016-05-23"]
["2016-05-24","2016-05-24"]
["2016-05-25","2016-05-25"]
["2016-05-26","2016-05-26"]
["2016-05-27","2016-05-27"]
["2016-05-28","2016-05-28"]
["2016-05-29","2016-05-29"]
["2016-05-30","2016-05-30"]
["2016-05-31","2016-05-31"]
["2016-06-01","2016-06-01"]
["2016-06-02","2016-06-02"]
["2016-06-03","2016-06-03"]
["2016-06-04","2016-06-04"]
["2016-06-05","2016-06-05"]
["2016-06-06","2016-06-06"]
["2016-06-07","2016-06-07"]
["2016-06-08","2016-06-08"]
["2016-06-09","2016-06-09"]
["2016-06-10","2016-06-10"]
["2016-06-11","2016-06-11"]
["2016-06-12","2016-06-12"]
["2016-06-13","2016-06-13"]
["2016-06-14","2016-06-14"]
["2016-06-15","2016-06-15"]
["2016-06-16","2016-06-16"]
["2016-06-17","2016-06-17"]
["2016-06-18","2016-06-18"]
["2016-06-19","2016-06-19"]
[{"$f":"B393","v":"2016-06-20"},"2016-06-20"]
["2016-06-21","2016-06-21"]
["2016-06-22","2016-06-22"]
["2016-06-23","2016-06-23"]
["2016-06-24","2016-06-24"]
["2016-06-25","2016-06-25"]
["2016-06-26","2016-06-26"]
["2016-06-27","2016-06-27"]
["2016-06-28","2016-06-28"]
["2016-06-29","2016-06-29"]
["2016-06-30","2016-06-30"]
["2016-07-01","2016-07-01"]
["2016-07-02","2016-07-02"]
["2016-07-03","2016-07-03"]
["2016-07-04","2016-07-04"]
["2016-07-05","2016-07-05"]
["2016-07-06","2016-07-06"]
["2016-07-07","2016-07-07"]
["2016-07-08","2016-07-08"]
["2016-07-09","2016-07-09"]
["2016-07-10","2016-07-10"]
["2016-07-11","2016-07-11"]
["2016-07-12","2016-07-12"]
["2016-07-13","2016-07-13"]
["2016-07-14","2016-07-14"]
["2016-07-15","2016-07-15"]
["2016-07-16","2016-07-16"]
["2016-07-17","2016-07-17"]
["2016-07-18","2016-07-18"]
["2016-07-19","2016-07-19"]
["2016-07-20","2016-07-20"]
["2016-07-21","2016-07-21"]
["2016-07-22","2016-07-22"]
["2016-07-23","2016-07-23"]
["2016-07-24","2016-07-24"]
["2016-07-25","2016-07-25"]
["2016-07-26","2016-07-26"]
["2016-07-27","2016-07-27"]
["2016-07-28","2016-07-28"]
["2016-07-29","2016-07-29"]
["2016-07-30","2016-07-30"]
["2016-07-31","2016-07-31"]
["2016-08-01","2016-08-01"]
["2016-08-02","2016-08-02"]
["2016-08-03","2016-08-03"]
["2016-08-04","2016-08-04"]
["2016-08-05","2016-08-05"]
["2016-08-06","2016-08-06"]
["2016-08-07","2016-08-07"]
["2016-08-08","2016-08-08"]
["2016-08-09","2016-08-09"]
["2016-08-10","2016-08-10"]
["2016-08-11","2016-08-11"]
["2016-08-12","2016-08-12"]
["2016-08-13","2016-08-13"]
["2016-08-14","2016-08-14"]
["2016-08-15","2016-08-15"]
["2016-08-16","2016-08-16"]
["2016-08-17","2016-08-17"]
["2016-08-18","2016-08-18"]
["2016-08-19","2016-08-19"]
["2016-08-20","2016-08-20"]
["2016-08-21","2016-08-21"]
["2016-08-22","2016-08-22"]
[{"$f":"B457","v":"2016-08-23"},"2016-08-23"]
["2016-08-24","2016-08-24"]
["2016-08-25","2016-08-25"]
["2016-08-26","2016-08-26"]
["2016-08-27","2016-08-27"]
["2016-08-28","2016-08-28"]
["2016-08-29","2016-08-29"]
["2016-08-30","2016-08-30"]
["2016-08-31","2016-08-31"]
["2016-09-01","2016-09-01"]
["2016-09-02","2016-09-02"]
["2016-09-03","2016-09-03"]
["2016-09-04","2016-09-04"]
["2016-09-05","2016-09-05"]
["2016-09-06","2016-09-06"]
["2016-09-07","2016-09-07"]
["2016-09-08","2016-09-08"]
["2016-09-09","2016-09-09"]
["2016-09-10","2016-09-10"]
["2016-09-11","2016-09-11"]
["2016-09-12","2016-09-12"]
["2016-09-13","2016-09-13"]
["2016-09-14","2016-09-14"]
["2016-09-15","2016-09-15"]
["2016-09-16","2016-09-16"]
["2016-09-17","2016-09-17"]
["2016-09-18","2016-09-18"]
["2016-09-19","2016-09-19"]
["2016-09-20","2016-09-20"]
["2016-09-21","2016-09-21"]
["2016-09-22","2016-09-22"]
["2016-09-23","2016-09-23"]
["2016-09-24","2016-09-24"]
["2016-09-25","2016-09-25"]
["2016-09-26","2016-09-26"]
["2016-09-27","2016-09-27"]
["2016-09-28","2016-09-28"]
["2016-09-29","2016-09-29"]
["2016-09-30","2016-09-30"]
["2016-10-01","2016-10-01"]
["2016-10-02","2016-10-02"]
["2016-10-03","2016-10-03"]
["2016-10-04","2016-10-04"]
["2016-10-05","2016-10-05"]
["2016-10-06","2016-10-06"]
["2016-10-07","2016-10-07"]
["2016-10-08","2016-10-08"]
["2016-10-09","2016-10-09"]
["2016-10-10","2016-10-10"]
["2016-10-11","2016-10-11"]
["2016-10-12","2016-10-12"]
["2016-10-13","2016-10-13"]
["2016-10-14","2016-10-14"]
["2016-10-15","2016-10-15"]
["2016-10-16","2016-10-16"]
["2016-10-17","2016-10-17"]
["2016-10-18","2016-10-18"]
["2016-10-19","2016-10-19"]
["2016-10-20","2016-10-20"]
["2016-10-21","2016-10-21"]
["2016-10-22","2016-10-22"]
["2016-10-23","2016-10-23"]
["2016-10-24","2016-10-24"]
["2016-10-25","2016-10-25"]
[{"$f":"B521","v":"2016-10-26"},"2016-10-26"]
["2016-10-27","2016-10-27"]
["2016-10-28","2016-10-28"]
["2016-10-29","2016-10-29"]
["2016-10-30","2016-10-30"]
["2016-10-31","2016-10-31"]
["2016-11-01","2016-11-01"]
["2016-11-02","2016-11-02"]
["2016-11-03","2016-11-03"]
["2016-11-04","2016-11-04"]
["2016-11-05","2016-11-05"]
["2016-11-06","2016-11-06"]
["2016-11-07","2016-11-07"]
["2016-11-08","2016-11-08"]
["2016-11-09","2016-11-09"]
["2016-11-10","2016-11-10"]
["2016-11-11","2016-11-11"]
["2016-11-12","2016-11-12"]
["2016-11-13","2016-11-13"]
["2016-11-14","2016-11-14"]
["2016-11-15","2016-11-15"]
["2016-11-16","2016-11-16"]
["2016-11-17","2016-11-17"]
["2016-11-18","2016-11-18"]
["2016-11-19","2016-11-19"]
["2016-11-20","2016-11-20"]
["2016-11-21","2016-11-21"]
["2016-11-22","2016-11-22"]
["2016-11-23","2016-11-23"]
["2016-11-24","2016-11-24"]
["2016-11-25","2016-11-25"]
["2016-11-26","2016-11-26"]
["2016-11-27","2016-11-27"]
["2016-11-28","2016-11-28"]
["2016-11-29","2016-11-29"]
["2016-11-30","2016-11-30"]
["2016-12-01","2016-12-01"]
["2016-12-02","2016-12-02"]
["2016-12-03","2016-12-03"]
["2016-12-04","2016-12-04"]
["2016-12-05","2016-12-05"]
["2016-12-06","2016-12-06"]
["2016-12-07","2016-12-07"]
["2016-12-08","2016-12-08"]
["2016-12-09","2016-12-09"]
["2016-12-10","2016-12-10"]
["2016-12-11","2016-12-11"]
["2016-12-12","2016-12-12"]
["2016-12-13","2016-12-13"]
["2016-12-14","2016-12-14"]
["2016-12-15","2016-12-15"]
["2016-12-16","2016-12-16"]
["2016-12-17","2016-12-17"]
["2016-12-18","2016-12-18"]
["2016-12-19","2016-12-19"]
["2016-12-20","2016-12-20"]
["2016-12-21","2016-12-21"]
["2016-12-22","2016-12-22"]
["2016-12-23","2016-12-23"]
["2016-12-24","2016-12-24"]
["2016-12-25","2016-12-25"]
["2016-12-26","2016-12-26"]
["2016-12-27","2016-12-27"]
["2016-12-28","2016-12-28"]
[{"$f":"B585","v":"2016-12-29"},"2016-12-29"]
["2016-12-30","2016-12-30"]
["2016-12-31","2016-12-31"]
["2017-01-01","2017-01-01"]
["2017-01-02","2017-01-02"]
["2017-01-03","2017-01-03"]
["2017-01-04","2017-01-04"]
["2017-01-05","2017-01-05"]
["2017-01-06","2017-01-06"]
["2017-01-07","2017-01-07"]
["2017-01-08","2017-01-08"]
["2017-01-09","2017-01-09"]
["2017-01-10","2017-01-10"]
["2017-01-11","2017-01-11"]
["2017-01-12","2017-01-12"]
["2017-01-13","2017-01-13"]
["2017-01-14","2017-01-14"]
["2017-01-15","2017-01-15"]
["2017-01-16","2017-01-16"]
["2017-01-17","2017-01-17"]
["2017-01-18","2017-01-18"]
["2017-01-19","2017-01-19"]
["2017-01-20","2017-01-20"]
["2017-01-21","2017-01-21"]
["2017-01-22","2017-01-22"]
["2017-01-23","2017-01-23"]
["2017-01-24","2017-01-24"]
["2017-01-25","2017-01-25"]
["2017-01-26","2017-01-26"]
["2017-01-27","2017-01-27"]
["2017-01-28","2017-01-28"]
["2017-01-29","2017-01-29"]
["2017-01-30","2017-01-30"]
["2017-01-31","2017-01-31"]
["2017-02-01","2017-02-01"]
["2017-02-02","2017-02-02"]
["2017-02-03","2017-02-03"]
["2017-02-04","2017-02-04"]
["2017-02-05","2017-02-05"]
["2017-02-06","2017-02-06"]
["2017-02-07","2017-02-07"]
["2017-02-08","2017-02-08"]
["2017-02-09","2017-02-09"]
["2017-02-10","2017-02-10"]
["2017-02-11","2017-02-11"]
["2017-02-12","2017-02-12"]
["2017-02-13","2017-02-13"]
["2017-02-14","2017-02-14"]
["2017-02-15","2017-02-15"]
["2017-02-16","2017-02-16"]
["2017-02-17","2017-02-17"]
["2017-02-18","2017-02-18"]
["2017-02-19","2017-02-19"]
["2017-02-20","2017-02-20"]
["2017-02-21","2017-02-21"]
["2017-02-22","2017-02-22"]
["2017-02-23","2017-02-23"]
["2017-02-24","2017-02-24"]
["2017-02-25","2017-02-25"]
["2017-02-26","2017-02-26"]
["2017-02-27","2017-02-27"]
["2017-02-28","2017-02-28"]
["2017-03-01","2017-03-01"]
["2017-03-02","2017-03-02"]
[{"$f":"B649","v":"2017-03-03"},"2017-03-03"]
["2017-03-04","2017-03-04"]
["2017-03-05","2017-03-05"]
["2017-03-06","2017-03-06"]
["2017-03-07","2017-03-07"]
["2017-03-08","2017-03-08"]
["2017-03-09","2017-03-09"]
["2017-03-10","2017-03-10"]
["2017-03-11","2017-03-11"]
["2017-03-12","2017-03-12"]
["2017-03-13","2017-03-13"]
["2017-03-14","2017-03-14"]
["2017-03-15","2017-03-15"]
["2017-03-16","2017-03-16"]
["2017-03-17","2017-03-17"]
["2017-03-18","2017-03-18"]
["2017-03-19","2017-03-19"]
["2017-03-20","2017-03-20"]
["2017-03-21","2017-03-21"]
["2017-03-22","2017-03-22"]
["2017-03-23","2017-03-23"]
["2017-03-24","2017-03-24"]
["2017-03-25","2017-03-25"]
["2017-03-26","2017-03-26"]
["2017-03-27","2017-03-27"]
["2017-03-28","2017-03-28"]
["2017-03-29","2017-03-29"]
["2017-03-30","2017-03-30"]
["2017-03-31","2017-03-31"]
["2017-04-01","2017-04-01"]
["2017-04-02","2017-04-02"]
["2017-04-03","2017-04-03"]
["2017-04-04","2017-04-04"]
["2017-04-05","2017-04-05"]
["2017-04-06","2017-04-06"]
["2017-04-07","2017-04-07"]
["2017-04-08","2017-04-08"]
["2017-04-09","2017-04-09"]
["2017-04-10","2017-04-10"]
["2017-04-11","2017-04-11"]
["2017-04-12","2017-04-12"]
["2017-04-13","2017-04-13"]
["2017-04-14","2017-04-14"]
["2017-04-15","2017-04-15"]
["2017-04-16","2017-04-16"]
["2017-04-17","2017-04-17"]
["2017-04-18","2017-04-18"]
["2017-04-19","2017-04-19"]
["2017-04-20","2017-04-20"]
["2017-04-21","2017-04-21"]
["2017-04-22","2017-04-22"]
["2017-04-23","2017-04-23"]
["2017-04-24","2017-04-24"]
["2017-04-25","2017-04-25"]
["2017-04-26","2017-04-26"]
["2017-04-27","2017-04-27"]
["2017-04-28","2017-04-28"]
["2017-04-29","2017-04-29"]
["2017-04-30","2017-04-30"]
[{"$f":"B708","v":"2017-05-01"},"2017-05-01"]
["2017-05-02","2017-05-02"]
["2017-05-03","2017-05-03"]
["2017-05-04","2017-05-04"]
["2017-05-05","2017-05-05"]
["2017-05-06","2017-05-06"]
["2017-05-07","2017-05-07"]
["2017-05-08","2017-05-08"]
["2017-05-09","2017-05-09"]
["2017-05-10","2017-05-10"]
["2017-05-11","2017-05-11"]
["2017-05-12","2017-05-12"]
["2017-05-13","2017-05-13"]
["2017-05-14","2017-05-14"]
["2017-05-15","2017-05-15"]
["2017-05-16","2017-05-16"]
["2017-05-17","2017-05-17"]
["2017-05-18","2017-05-18"]
["2017-05-19","2017-05-19"]
["2017-05-20","2017-05-20"]
["2017-05-21","2017-05-21"]
["2017-05-22","2017-05-22"]
["2017-05-23","2017-05-23"]
["2017-05-24","2017-05-24"]
["2017-05-25","2017-05-25"]
["2017-05-26","2017-05-26"]
["2017-05-27","2017-05-27"]
["2017-05-28","2017-05-28"]
["2017-05-29","2017-05-29"]
["2017-05-30","2017-05-30"]
[{"$f":"B738","v":"2017-05-31"},"2017-05-31"]
["2017-06-01","2017-06-01"]
["2017-06-02","2017-06-02"]
["2017-06-03","2017-06-03"]
["2017-06-04","2017-06-04"]
["2017-06-05","2017-06-05"]
["2017-06-06","2017-06-06"]
["2017-06-07","2017-06-07"]
["2017-06-08","2017-06-08"]
["2017-06-09","2017-06-09"]
["2017-06-10","2017-06-10"]
["2017-06-11","2017-06-11"]
["2017-06-12","2017-06-12"]
["2017-06-13","2017-06-13"]
["2017-06-14","2017-06-14"]
["2017-06-15","2017-06-15"]
["2017-06-16","2017-06-16"]
["2017-06-17","2017-06-17"]
["2017-06-18","2017-06-18"]
["2017-06-19","2017-06-19"]
["2017-06-20","2017-06-20"]
["2017-06-21","2017-06-21"]
["2017-06-22","2017-06-22"]
["2017-06-23","2017-06-23"]
["2017-06-24","2017-06-24"]
["2017-06-25","2017-06-25"]
["2017-06-26","2017-06-26"]
["2017-06-27","2017-06-27"]
["2017-06-28","2017-06-28"]
["2017-06-29","2017-06-29"]
["2017-06-30","2017-06-30"]
["2017-07-01","2017-07-01"]
["2017-07-02","2017-07-02"]
["2017-07-03","2017-07-03"]
["2017-07-04","2017-07-04"]
["2017-07-05","2017-07-05"]
["2017-07-06","2017-07-06"]
["2017-07-07","2017-07-07"]
["2017-07-08","2017-07-08"]
["2017-07-09","2017-07-09"]
["2017-07-10","2017-07-10"]
["2017-07-11","2017-07-11"]
["2017-07-12","2017-07-12"]
["2017-07-13","2017-07-13"]
["2017-07-14","2017-07-14"]
["2017-07-15","2017-07-15"]
["2017-07-16","2017-07-16"]
["2017-07-17","2017-07-17"]
["2017-07-18","2017-07-18"]
["2017-07-19","2017-07-19"]
["2017-07-20","2017-07-20"]
["2017-07-21","2017-07-21"]
["2017-07-22","2017-07-22"]
["2017-07-23","2017-07-23"]
["2017-07-24","2017-07-24"]
["2017-07-25","2017-07-25"]
["2017-07-26","2017-07-26"]
["2017-07-27","2017-07-27"]
["2017-07-28","2017-07-28"]
["2017-07-29","2017-07-29"]
["2017-07-30","2017-07-30"]
["2017-07-31","2017-07-31"]
["2017-08-01","2017-08-01"]
["2017-08-02","2017-08-02"]
[{"$f":"B802","v":"2017-08-03"},"2017-08-03"]
["2017-08-04","2017-08-04"]
["2017-08-05","2017-08-05"]
["2017-08-06","2017-08-06"]
["2017-08-07","2017-08-07"]
["2017-08-08","2017-08-08"]
["2017-08-09","2017-08-09"]
["2017-08-10","2017-08-10"]
["2017-08-11","2017-08-11"]
["2017-08-12","2017-08-12"]
["2017-08-13","2017-08-13"]
["2017-08-14","2017-08-14"]
["2017-08-15","2017-08-15"]
["2017-08-16","2017-08-16"]
["2017-08-17","2017-08-17"]
["2017-08-18","2017-08-18"]
["2017-08-19","2017-08-19"]
["2017-08-20","2017-08-20"]
["2017-08-21","2017-08-21"]
["2017-08-22","2017-08-22"]
["2017-08-23","2017-08-23"]
["2017-08-24","2017-08-24"]
["2017-08-25","2017-08-25"]
["2017-08-26","2017-08-26"]
["2017-08-27","2017-08-27"]
["2017-08-28","2017-08-28"]
["2017-08-29","2017-08-29"]
["2017-08-30","2017-08-30"]
["2017-08-31","2017-08-31"]
["2017-09-01","2017-09-01"]
["2017-09-02","2017-09-02"]
["2017-09-03","2017-09-03"]
["2017-09-04","2017-09-04"]
["2017-09-05","2017-09-05"]
["2017-09-06","2017-09-06"]
["2017-09-07","2017-09-07"]
["2017-09-08","2017-09-08"]
["2017-09-09","2017-09-09"]
["2017-09-10","2017-09-10"]
["2017-09-11","2017-09-11"]
["2017-09-12","2017-09-12"]
["2017-09-13","2017-09-13"]
["2017-09-14","2017-09-14"]
["2017-09-15","2017-09-15"]
["2017-09-16","2017-09-16"]
["2017-09-17","2017-09-17"]
["2017-09-18","2017-09-18"]
["2017-09-19","2017-09-19"]
["2017-09-20","2017-09-20"]
["2017-09-21","2017-09-21"]
["2017-09-22","2017-09-22"]
["2017-09-23","2017-09-23"]
["2017-09-24","2017-09-24"]
["2017-09-25","2017-09-25"]
["2017-09-26","2017-09-26"]
["2017-09-27","2017-09-27"]
["2017-09-28","2017-09-28"]
["2017-09-29","2017-09-29"]
["2017-09-30","2017-09-30"]
["2017-10-01","2017-10-01"]
["2017-10-02","2017-10-02"]
["2017-10-03","2017-10-03"]
["2017-10-04","2017-10-04"]
["2017-10-05","2017-10-05"]
[{"$f":"B866","v":"2017-10-06"},"2017-10-06"]
["2017-10-07","2017-10-07"]
["2017-10-08","2017-10-08"]
["2017-10-09","2017-10-09"]
["2017-10-10","2017-10-10"]
["2017-10-11","2017-10-11"]
["2017-10-12","2017-10-12"]
["2017-10-13","2017-10-13"]
["2017-10-14","2017-10-14"]
["2017-10-15","2017-10-15"]
["2017-10-16","2017-10-16"]
["2017-10-17","2017-10-17"]
["2017-10-18","2017-10-18"]
["2017-10-19","2017-10-19"]
["2017-10-20","2017-10-20"]
["2017-10-21","2017-10-21"]
["2017-10-22","2017-10-22"]
["2017-10-23","2017-10-23"]
["2017-10-24","2017-10-24"]
["2017-10-25","2017-10-25"]
["2017-10-26","2017-10-26"]
["2017-10-27","2017-10-27"]
["2017-10-28","2017-10-28"]
["2017-10-29","2017-10-29"]
["2017-10-30","2017-10-30"]
["2017-10-31","2017-10-31"]
["2017-11-01","2017-11-01"]
["2017-11-02","2017-11-02"]
["2017-11-03","2017-11-03"]
["2017-11-04","2017-11-04"]
["2017-11-05","2017-11-05"]
["2017-11-06","2017-11-06"]
["2017-11-07","2017-11-07"]
["2017-11-08","2017-11-08"]
["2017-11-09","2017-11-09"]
["2017-11-10","2017-11-10"]
["2017-11-11","2017-11-11"]
["2017-11-12","2017-11-12"]
["2017-11-13","2017-11-13"]
["2017-11-14","2017-11-14"]
["2017-11-15","2017-11-15"]
["2017-11-16","2017-11-16"]
["2017-11-17","2017-11-17"]
["2017-11-18","2017-11-18"]
["2017-11-19","2017-11-19"]
[{"$f":"B911","v":"2017-11-20"},"2017-11-20"]
["2017-11-21","2017-11-21"]
["2017-11-22","2017-11-22"]
["2017-11-23","2017-11-23"]
["2017-11-24","2017-11-24"]
["2017-11-25","2017-11-25"]
["2017-11-26","2017-11-26"]
["2017-11-27","2017-11-27"]
["2017-11-28","2017-11-28"]
["2017-11-29","2017-11-29"]
["2017-11-30","2017-11-30"]
["2017-12-01","2017-12-01"]
["2017-12-02","2017-12-02"]
["2017-12-03","2017-12-03"]
["2017-12-04","2017-12-04"]
["2017-12-05","2017-12-05"]
[{"$f":"B927","v":"2017-12-06"},"2017-12-06"]
["2017-12-07","2017-12-07"]
["2017-12-08","2017-12-08"]
["2017-12-09","2017-12-09"]
["2017-12-10","2017-12-10"]
["2017-12-11","2017-12-11"]
["2017-12-12","2017-12-12"]
["2017-12-13","2017-12-13"]
["2017-12-14","2017-12-14"]
["2017-12-15","2017-12-15"]
["2017-12-16","2017-12-16"]
["2017-12-17","2017-12-17"]
["2017-12-18","2017-12-18"]
["2017-12-19","2017-12-19"]
["2017-12-20","2017-12-20"]
["2017-12-21","2017-12-21"]
["2017-12-22","2017-12-22"]
["2017-12-23","2017-12-23"]
["2017-12-24","2017-12-24"]
["2017-12-25","2017-12-25"]
["2017-12-26","2017-12-26"]
["2017-12-27","2017-12-27"]
["2017-12-28","2017-12-28"]
["2017-12-29","2017-12-29"]
["2017-12-30","2017-12-30"]
[{"$f":"B952","v":"2017-12-31"},"2017-12-31"]
["2018-01-01","2018-01-01"]
["2018-01-02","2018-01-02"]
["2018-01-03","2018-01-03"]
["2018-01-04","2018-01-04"]
["2018-01-05","2018-01-05"]
["2018-01-06","2018-01-06"]
["2018-01-07","2018-01-07"]
["2018-01-08","2018-01-08"]
["2018-01-09","2018-01-09"]
["2018-01-10","2018-01-10"]
["2018-01-11","2018-01-11"]
["2018-01-12","2018-01-12"]
["2018-01-13","2018-01-13"]
["2018-01-14","2018-01-14"]
["2018-01-15","2018-01-15"]
["2018-01-16","2018-01-16"]
["2018-01-17","2018-01-17"]
["2018-01-18","2018-01-18"]
["2018-01-19","2018-01-19"]
["2018-01-20","2018-01-20"]
["2018-01-21","2018-01-21"]
["2018-01-22","2018-01-22"]
["2018-01-23","2018-01-23"]
["2018-01-24","2018-01-24"]
["2018-01-25","2018-01-25"]
["2018-01-26","2018-01-26"]
["2018-01-27","2018-01-27"]
["2018-01-28","2018-01-28"]
["2018-01-29","2018-01-29"]
["2018-01-30","2018-01-30"]
["2018-01-31","2018-01-31"]
["2018-02-01","2018-02-01"]
["2018-02-02","2018-02-02"]
["2018-02-03","2018-02-03"]
["2018-02-04","2018-02-04"]
["2018-02-05","2018-02-05"]
["2018-02-06","2018-02-06"]
["2018-02-07","2018-02-07"]
["2018-02-08","2018-02-08"]
["2018-02-09","2018-02-09"]
["2018-02-10","2018-02-10"]
["2018-02-11","2018-02-11"]
["2018-02-12","2018-02-12"]
["2018-02-13","2018-02-13"]
["2018-02-14","2018-02-14"]
["2018-02-15","2018-02-15"]
["2018-02-16","2018-02-16"]
["2018-02-17","2018-02-17"]
["2018-02-18","2018-02-18"]
["2018-02-19","2018-02-19"]
["2018-02-20","2018-02-20"]
["2018-02-21","2018-02-21"]
["2018-02-22","2018-02-22"]
["2018-02-23","2018-02-23"]
["2018-02-24","2018-02-24"]
["2018-02-25","2018-02-25"]
["2018-02-26","2018-02-26"]
["2018-02-27","2018-02-27"]
["2018-02-28","2018-02-28"]
["2018-03-01","2018-03-01"]
["2018-03-02","2018-03-02"]
["2018-03-03","2018-03-03"]
["2018-03-04","2018-03-04"]
[{"$f":"B1016","v":"2018-03-05"},"2018-03-05"]
["2018-03-06","2018-03-06"]
["2018-03-07","2018-03-07"]
["2018-03-08","2018-03-08"]
["2018-03-09","2018-03-09"]
["2018-03-10","2018-03-10"]
["2018-03-11","2018-03-11"]
["2018-03-12","2018-03-12"]
["2018-03-13","2018-03-13"]
["2018-03-14","2018-03-14"]
["2018-03-15","2018-03-15"]
["2018-03-16","2018-03-16"]
["2018-03-17","2018-03-17"]
["2018-03-18","2018-03-18"]
["2018-03-19","2018-03-19"]
["2018-03-20","2018-03-20"]
["2018-03-21","2018-03-21"]
["2018-03-22","2018-03-22"]
["2018-03-23","2018-03-23"]
["2018-03-24","2018-03-24"]
["2018-03-25","2018-03-25"]
["2018-03-26","2018-03-26"]
["2018-03-27","2018-03-27"]
["2018-03-28","2018-03-28"]
["2018-03-29","2018-03-29"]
["2018-03-30","2018-03-30"]
["2018-03-31","2018-03-31"]
["2018-04-01","2018-04-01"]
["2018-04-02","2018-04-02"]
["2018-04-03","2018-04-03"]
["2018-04-04","2018-04-04"]
["2018-04-05","2018-04-05"]
["2018-04-06","2018-04-06"]
["2018-04-07","2018-04-07"]
["2018-04-08","2018-04-08"]
["2018-04-09","2018-04-09"]
["2018-04-10","2018-04-10"]
["2018-04-11","2018-04-11"]
["2018-04-12","2018-04-12"]
["2018-04-13","2018-04-13"]
["2018-04-14","2018-04-14"]
["2018-04-15","2018-04-15"]
["2018-04-16","2018-04-16"]
["2018-04-17","2018-04-17"]
["2018-04-18","2018-04-18"]
["2018-04-19","2018-04-19"]
["2018-04-20","2018-04-20"]
["2018-04-21","2018-04-21"]
["2018-04-22","2018-04-22"]
["2018-04-23","2018-04-23"]
["2018-04-24","2018-04-24"]
["2018-04-25","2018-04-25"]
["2018-04-26","2018-04-26"]
["2018-04-27","2018-04-27"]
["2018-04-28","2018-04-28"]
["2018-04-29","2018-04-29"]
["2018-04-30","2018-04-30"]
["2018-05-01","2018-05-01"]
["2018-05-02","2018-05-02"]
["2018-05-03","2018-05-03"]
["2018-05-04","2018-05-04"]
["2018-05-05","2018-05-05"]
["2018-05-06","2018-05-06"]
["2018-05-07","2018-05-07"]
[{"$f":"B1080","v":"2018-05-08"},"2018-05-08"]
["2018-05-09","2018-05-09"]
["2018-05-10","2018-05-10"]
["2018-05-11","2018-05-11"]
["2018-05-12","2018-05-12"]
["2018-05-13","2018-05-13"]
["2018-05-14","2018-05-14"]
["2018-05-15","2018-05-15"]
["2018-05-16","2018-05-16"]
["2018-05-17","2018-05-17"]
["2018-05-18","2018-05-18"]
["2018-05-19","2018-05-19"]
["2018-05-20","2018-05-20"]
["2018-05-21","2018-05-21"]
["2018-05-22","2018-05-22"]
["2018-05-23","2018-05-23"]
["2018-05-24","2018-05-24"]
["2018-05-25","2018-05-25"]
["2018-05-26","2018-05-26"]
["2018-05-27","2018-05-27"]
["2018-05-28","2018-05-28"]
["2018-05-29","2018-05-29"]
[{"$f":"B1102","v":"2018-05-30"},"2018-05-30"]
["2018-05-31","2018-05-31"]
["2018-06-01","2018-06-01"]
["2018-06-02","2018-06-02"]
["2018-06-03","2018-06-03"]
["2018-06-04","2018-06-04"]
["2018-06-05","2018-06-05"]
["2018-06-06","2018-06-06"]
["2018-06-07","2018-06-07"]
["2018-06-08","2018-06-08"]
["2018-06-09","2018-06-09"]
["2018-06-10","2018-06-10"]
["2018-06-11","2018-06-11"]
["2018-06-12","2018-06-12"]
[{"$f":"B1116","v":"2018-06-13"},"2018-06-13"]
["2018-06-14","2018-06-14"]
["2018-06-15","2018-06-15"]
["2018-06-16","2018-06-16"]
["2018-06-17","2018-06-17"]
["2018-06-18","2018-06-18"]
["2018-06-19","2018-06-19"]
["2018-06-20","2018-06-20"]
["2018-06-21","2018-06-21"]
["2018-06-22","2018-06-22"]
["2018-06-23","2018-06-23"]
["2018-06-24","2018-06-24"]
["2018-06-25","2018-06-25"]
["2018-06-26","2018-06-26"]
["2018-06-27","2018-06-27"]
["2018-06-28","2018-06-28"]
["2018-06-29","2018-06-29"]
["2018-06-30","2018-06-30"]
["2018-07-01","2018-07-01"]
["2018-07-02","2018-07-02"]
["2018-07-03","2018-07-03"]
["2018-07-04","2018-07-04"]
["2018-07-05","2018-07-05"]
["2018-07-06","2018-07-06"]
["2018-07-07","2018-07-07"]
["2018-07-08","2018-07-08"]
["2018-07-09","2018-07-09"]
["2018-07-10","2018-07-10"]
["2018-07-11","2018-07-11"]
["2018-07-12","2018-07-12"]
["2018-07-13","2018-07-13"]
["2018-07-14","2018-07-14"]
["2018-07-15","2018-07-15"]
["2018-07-16","2018-07-16"]
["2018-07-17","2018-07-17"]
["2018-07-18","2018-07-18"]
["2018-07-19","2018-07-19"]
["2018-07-20","2018-07-20"]
["2018-07-21","2018-07-21"]
["2018-07-22","2018-07-22"]
["2018-07-23","2018-07-23"]
["2018-07-24","2018-07-24"]
["2018-07-25","2018-07-25"]
["2018-07-26","2018-07-26"]
["2018-07-27","2018-07-27"]
["2018-07-28","2018-07-28"]
["2018-07-29","2018-07-29"]
["2018-07-30","2018-07-30"]
["2018-07-31","2018-07-31"]
["2018-08-01","2018-08-01"]
["2018-08-02","2018-08-02"]
["2018-08-03","2018-08-03"]
["2018-08-04","2018-08-04"]
["2018-08-05","2018-08-05"]
["2018-08-06","2018-08-06"]
["2018-08-07","2018-08-07"]
["2018-08-08","2018-08-08"]
["2018-08-09","2018-08-09"]
["2018-08-10","2018-08-10"]
["2018-08-11","2018-08-11"]
["2018-08-12","2018-08-12"]
["2018-08-13","2018-08-13"]
["2018-08-14","2018-08-14"]
["2018-08-15","2018-08-15"]
[{"$f":"B1180","v":"2018-08-16"},"2018-08-16"]
["2018-08-17","2018-08-17"]
["2018-08-18","2018-08-18"]
["2018-08-19","2018-08-19"]
["2018-08-20","2018-08-20"]
["2018-08-21","2018-08-21"]
["2018-08-22","2018-08-22"]
["2018-08-23","2018-08-23"]
["2018-08-24","2018-08-24"]
["2018-08-25","2018-08-25"]
["2018-08-26","2018-08-26"]
["2018-08-27","2018-08-27"]
["2018-08-28","2018-08-28"]
["2018-08-29","2018-08-29"]
["2018-08-30","2018-08-30"]
["2018-08-31","2018-08-31"]
["2018-09-01","2018-09-01"]
["2018-09-02","2018-09-02"]
["2018-09-03","2018-09-03"]
["2018-09-04","2018-09-04"]
["2018-09-05","2018-09-05"]
["2018-09-06","2018-09-06"]
["2018-09-07","2018-09-07"]
["2018-09-08","2018-09-08"]
["2018-09-09","2018-09-09"]
["2018-09-10","2018-09-10"]
["2018-09-11","2018-09-11"]
["2018-09-12","2018-09-12"]
["2018-09-13","2018-09-13"]
["2018-09-14","2018-09-14"]
["2018-09-15","2018-09-15"]
["2018-09-16","2018-09-16"]
["2018-09-17","2018-09-17"]
["2018-09-18","2018-09-18"]
["2018-09-19","2018-09-19"]
["2018-09-20","2018-09-20"]
["2018-09-21","2018-09-21"]
["2018-09-22","2018-09-22"]
["2018-09-23","2018-09-23"]
["2018-09-24","2018-09-24"]
["2018-09-25","2018-09-25"]
["2018-09-26","2018-09-26"]
["2018-09-27","2018-09-27"]
["2018-09-28","2018-09-28"]
["2018-09-29","2018-09-29"]
["2018-09-30","2018-09-30"]
["2018-10-01","2018-10-01"]
["2018-10-02","2018-10-02"]
["2018-10-03","2018-10-03"]
["2018-10-04","2018-10-04"]
["2018-10-05","2018-10-05"]
["2018-10-06","2018-10-06"]
["2018-10-07","2018-10-07"]
["2018-10-08","2018-10-08"]
["2018-10-09","2018-10-09"]
["2018-10-10","2018-10-10"]
["2018-10-11","2018-10-11"]
["2018-10-12","2018-10-12"]
["2018-10-13","2018-10-13"]
["2018-10-14","2018-10-14"]
["2018-10-15","2018-10-15"]
["2018-10-16","2018-10-16"]
["2018-10-17","2018-10-17"]
["2018-10-18","2018-10-18"]
[{"$f":"B1244","v":"2018-10-19"},"2018-10-19"]
["2018-10-20","2018-10-20"]
["2018-10-21","2018-10-21"]
["2018-10-22","2018-10-22"]
["2018-10-23","2018-10-23"]
["2018-10-24","2018-10-24"]
["2018-10-25","2018-10-25"]
["2018-10-26","2018-10-26"]
["2018-10-27","2018-10-27"]
["2018-10-28","2018-10-28"]
["2018-10-29","2018-10-29"]
["2018-10-30","2018-10-30"]
["2018-10-31","2018-10-31"]
["2018-11-01","2018-11-01"]
["2018-11-02","2018-11-02"]
["2018-11-03","2018-11-03"]
["2018-11-04","2018-11-04"]
["2018-11-05","2018-11-05"]
["2018-11-06","2018-11-06"]
["2018-11-07","2018-11-07"]
["2018-11-08","2018-11-08"]
["2018-11-09","2018-11-09"]
["2018-11-10","2018-11-10"]
["2018-11-11","2018-11-11"]
["2018-11-12","2018-11-12"]
["2018-11-13","2018-11-13"]
["2018-11-14","2018-11-14"]
["2018-11-15","2018-11-15"]
["2018-11-16","2018-11-16"]
["2018-11-17","2018-11-17"]
["2018-11-18","2018-11-18"]
["2018-11-19","2018-11-19"]
["2018-11-20","2018-11-20"]
["2018-11-21","2018-11-21"]
["2018-11-22","2018-11-22"]
["2018-11-23","2018-11-23"]
["2018-11-24","2018-11-24"]
["2018-11-25","2018-11-25"]
["2018-11-26","2018-11-26"]
["2018-11-27","2018-11-27"]
["2018-11-28","2018-11-28"]
["2018-11-29","2018-11-29"]
["2018-11-30","2018-11-30"]
["2018-12-01","2018-12-01"]
["2018-12-02","2018-12-02"]
["2018-12-03","2018-12-03"]
["2018-12-04","2018-12-04"]
["2018-12-05","2018-12-05"]
["2018-12-06","2018-12-06"]
["2018-12-07","2018-12-07"]
["2018-12-08","2018-12-08"]
["2018-12-09","2018-12-09"]
["2018-12-10","2018-12-10"]
["2018-12-11","2018-12-11"]
["2018-12-12","2018-12-12"]
["2018-12-13","2018-12-13"]
["2018-12-14","2018-12-14"]
["2018-12-15","2018-12-15"]
["2018-12-16","2018-12-16"]
["2018-12-17","2018-12-17"]
["2018-12-18","2018-12-18"]
["2018-12-19","2018-12-19"]
["2018-12-20","2018-12-20"]
["2018-12-21","2018-12-21"]
[{"$f":"B1308","v":"2018-12-22"},"2018-12-22"]
["2018-12-23","2018-12-23"]
["2018-12-24","2018-12-24"]
["2018-12-25","2018-12-25"]
["2018-12-26","2018-12-26"]
["2018-12-27","2018-12-27"]
["2018-12-28","2018-12-28"]
["2018-12-29","2018-12-29"]
["2018-12-30","2018-12-30"]
["2018-12-31","2018-12-31"]
["2019-01-01","2019-01-01"]
["2019-01-02","2019-01-02"]
["2019-01-03","2019-01-03"]
["2019-01-04","2019-01-04"]
["2019-01-05","2019-01-05"]
["2019-01-06","2019-01-06"]
["2019-01-07","2019-01-07"]
["2019-01-08","2019-01-08"]
["2019-01-09","2019-01-09"]
["2019-01-10","2019-01-10"]
["2019-01-11","2019-01-11"]
["2019-01-12","2019-01-12"]
["2019-01-13","2019-01-13"]
["2019-01-14","2019-01-14"]
["2019-01-15","2019-01-15"]
["2019-01-16","2019-01-16"]
["2019-01-17","2019-01-17"]
["2019-01-18","2019-01-18"]
["2019-01-19","2019-01-19"]
["2019-01-20","2019-01-20"]
["2019-01-21","2019-01-21"]
["2019-01-22","2019-01-22"]
["2019-01-23","2019-01-23"]
["2019-01-24","2019-01-24"]
["2019-01-25","2019-01-25"]
["2019-01-26","2019-01-26"]
["2019-01-27","2019-01-27"]
["2019-01-28","2019-01-28"]
["2019-01-29","2019-01-29"]
["2019-01-30","2019-01-30"]
["2019-01-31","2019-01-31"]
["2019-02-01","2019-02-01"]
["2019-02-02","2019-02-02"]
["2019-02-03","2019-02-03"]
["2019-02-04","2019-02-04"]
["2019-02-05","2019-02-05"]
["2019-02-06","2019-02-06"]
["2019-02-07","2019-02-07"]
["2019-02-08","2019-02-08"]
["2019-02-09","2019-02-09"]
["2019-02-10","2019-02-10"]
["2019-02-11","2019-02-11"]
["2019-02-12","2019-02-12"]
["2019-02-13","2019-02-13"]
["2019-02-14","2019-02-14"]
["2019-02-15","2019-02-15"]
["2019-02-16","2019-02-16"]
["2019-02-17","2019-02-17"]
["2019-02-18","2019-02-18"]
["2019-02-19","2019-02-19"]
["2019-02-20","2019-02-20"]
["2019-02-21","2019-02-21"]
["2019-02-22","2019-02-22"]
["2019-02-23","2019-02-23"]
[{"$f":"B1372","v":"2019-02-24"},"2019-02-24"]
["2019-02-25","2019-02-25"]
["2019-02-26","2019-02-26"]
["2019-02-27","2019-02-27"]
["2019-02-28","2019-02-28"]
["2019-03-01","2019-03-01"]
["2019-03-02","2019-03-02"]
["2019-03-03","2019-03-03"]
["2019-03-04","2019-03-04"]
["2019-03-05","2019-03-05"]
["2019-03-06","2019-03-06"]
["2019-03-07","2019-03-07"]
["2019-03-08","2019-03-08"]
["2019-03-09","2019-03-09"]
["2019-03-10","2019-03-10"]
["2019-03-11","2019-03-11"]
["2019-03-12","2019-03-12"]
["2019-03-13","2019-03-13"]
["2019-03-14","2019-03-14"]
["2019-03-15","2019-03-15"]
["2019-03-16","2019-03-16"]
["2019-03-17","2019-03-17"]
["2019-03-18","2019-03-18"]
["2019-03-19","2019-03-19"]
["2019-03-20","2019-03-20"]
["2019-03-21","2019-03-21"]
["2019-03-22","2019-03-22"]
["2019-03-23","2019-03-23"]
["2019-03-24","2019-03-24"]
["2019-03-25","2019-03-25"]
["2019-03-26","2019-03-26"]
["2019-03-27","2019-03-27"]
["2019-03-28","2019-03-28"]
["2019-03-29","2019-03-29"]
["2019-03-30","2019-03-30"]
["2019-03-31","2019-03-31"]
["2019-04-01","2019-04-01"]
["2019-04-02","2019-04-02"]
["2019-04-03","2019-04-03"]
["2019-04-04","2019-04-04"]
["2019-04-05","2019-04-05"]
["2019-04-06","2019-04-06"]
["2019-04-07","2019-04-07"]
["2019-04-08","2019-04-08"]
["2019-04-09","2019-04-09"]
["2019-04-10","2019-04-10"]
["2019-04-11","2019-04-11"]
["2019-04-12","2019-04-12"]
["2019-04-13","2019-04-13"]
["2019-04-14","2019-04-14"]
["2019-04-15","2019-04-15"]
["2019-04-16","2019-04-16"]
["2019-04-17","2019-04-17"]
["2019-04-18","2019-04-18"]
["2019-04-19","2019-04-19"]
["2019-04-20","2019-04-20"]
["2019-04-21","2019-04-21"]
["2019-04-22","2019-04-22"]
["2019-04-23","2019-04-23"]
["2019-04-24","2019-04-24"]
["2019-04-25","2019-04-25"]
["2019-04-26","2019-04-26"]
["2019-04-27","2019-04-27"]
["2019-04-28","2019-04-28"]
[{"$f":"B1436","v":"2019-04-29"},"2019-04-29"]
["2019-04-30","2019-04-30"]
["2019-05-01","2019-05-01"]
["2019-05-02","2019-05-02"]
["2019-05-03","2019-05-03"]
["2019-05-04","2019-05-04"]
["2019-05-05","2019-05-05"]
["2019-05-06","2019-05-06"]
["2019-05-07","2019-05-07"]
["2019-05-08","2019-05-08"]
["2019-05-09","2019-05-09"]
["2019-05-10","2019-05-10"]
["2019-05-11","2019-05-11"]
["2019-05-12","2019-05-12"]
["2019-05-13","2019-05-13"]
["2019-05-14","2019-05-14"]
["2019-05-15","2019-05-15"]
["2019-05-16","2019-05-16"]
["2019-05-17","2019-05-17"]
["2019-05-18","2019-05-18"]
["2019-05-19","2019-05-19"]
["2019-05-20","2019-05-20"]
["2019-05-21","2019-05-21"]
["2019-05-22","2019-05-22"]
["2019-05-23","2019-05-23"]
["2019-05-24","2019-05-24"]
["2019-05-25","2019-05-25"]
["2019-05-26","2019-05-26"]
["2019-05-27","2019-05-27"]
["2019-05-28","2019-05-28"]
["2019-05-29","2019-05-29"]
["2019-05-30","2019-05-30"]
["2019-05-31","2019-05-31"]
["2019-06-01","2019-06-01"]
["2019-06-02","2019-06-02"]
["2019-06-03","2019-06-03"]
["2019-06-04","2019-06-04"]
["2019-06-05","2019-06-05"]
["2019-06-06","2019-06-06"]
["2019-06-07","2019-06-07"]
["2019-06-08","2019-06-08"]
["2019-06-09","2019-06-09"]
["2019-06-10","2019-06-10"]
["2019-06-11","2019-06-11"]
["2019-06-12","2019-06-12"]
["2019-06-13","2019-06-13"]
["2019-06-14","2019-06-14"]
["2019-06-15","2019-06-15"]
["2019-06-16","2019-06-16"]
["2019-06-17","2019-06-17"]
["2019-06-18","2019-06-18"]
["2019-06-19","2019-06-19"]
["2019-06-20","2019-06-20"]
["2019-06-21","2019-06-21"]
["2019-06-22","2019-06-22"]
["2019-06-23","2019-06-23"]
["2019-06-24","2019-06-24"]
["2019-06-25","2019-06-25"]
["2019-06-26","2019-06-26"]
["2019-06-27","2019-06-27"]
["2019-06-28","2019-06-28"]
["2019-06-29","2019-06-29"]
["2019-06-30","2019-06-30"]
["2019-07-01","2019-07-01"]
[{"$f":"B1500","v":"2019-07-02"},"2019-07-02"]
["2019-07-03","2019-07-03"]
["2019-07-04","2019-07-04"]
["2019-07-05","2019-07-05"]
["2019-07-06","2019-07-06"]
["2019-07-07","2019-07-07"]
["2019-07-08","2019-07-08"]
["2019-07-09","2019-07-09"]
["2019-07-10","2019-07-10"]
["2019-07-11","2019-07-11"]
["2019-07-12","2019-07-12"]
["2019-07-13","2019-07-13"]
["2019-07-14","2019-07-14"]
["2019-07-15","2019-07-15"]
["2019-07-16","2019-07-16"]
["2019-07-17","2019-07-17"]
["2019-07-18","2019-07-18"]
["2019-07-19","2019-07-19"]
["2019-07-20","2019-07-20"]
["2019-07-21","2019-07-21"]
["2019-07-22","2019-07-22"]
["2019-07-23","2019-07-23"]
["2019-07-24","2019-07-24"]
["2019-07-25","2019-07-25"]
["2019-07-26","2019-07-26"]
["2019-07-27","2019-07-27"]
["2019-07-28","2019-07-28"]
["2019-07-29","2019-07-29"]
["2019-07-30","2019-07-30"]
["2019-07-31","2019-07-31"]
["2019-08-01","2019-08-01"]
["2019-08-02","2019-08-02"]
["2019-08-03","2019-08-03"]
["2019-08-04","2019-08-04"]
["2019-08-05","2019-08-05"]
["2019-08-06","2019-08-06"]
["2019-08-07","2019-08-07"]
["2019-08-08","2019-08-08"]
["2019-08-09","2019-08-09"]
["2019-08-10","2019-08-10"]
["2019-08-11","2019-08-11"]
["2019-08-12","2019-08-12"]
["2019-08-13","2019-08-13"]
["2019-08-14","2019-08-14"]
["2019-08-15","2019-08-15"]
["2019-08-16","2019-08-16"]
["2019-08-17","2019-08-17"]
["2019-08-18","2019-08-18"]
["2019-08-19","2019-08-19"]
["2019-08-20","2019-08-20"]
["2019-08-21","2019-08-21"]
["2019-08-22","2019-08-22"]
["2019-08-23","2019-08-23"]
["2019-08-24","2019-08-24"]
["2019-08-25","2019-08-25"]
["2019-08-26","2019-08-26"]
["2019-08-27","2019-08-27"]
["2019-08-28","2019-08-28"]
["2019-08-29","2019-08-29"]
["2019-08-30","2019-08-30"]
["2019-08-31","2019-08-31"]
["2019-09-01","2019-09-01"]
["2019-09-02","2019-09-02"]
["2019-09-03","2019-09-03"]
[{"$f":"B1564","v":"2019-09-04"},"2019-09-04"]
["2019-09-05","2019-09-05"]
["2019-09-06","2019-09-06"]
["2019-09-07","2019-09-07"]
["2019-09-08","2019-09-08"]
["2019-09-09","2019-09-09"]
["2019-09-10","2019-09-10"]
["2019-09-11","2019-09-11"]
["2019-09-12","2019-09-12"]
["2019-09-13","2019-09-13"]
["2019-09-14","2019-09-14"]
["2019-09-15","2019-09-15"]
["2019-09-16","2019-09-16"]
["2019-09-17","2019-09-17"]
["2019-09-18","2019-09-18"]
["2019-09-19","2019-09-19"]
["2019-09-20","2019-09-20"]
["2019-09-21","2019-09-21"]
["2019-09-22","2019-09-22"]
["2019-09-23","2019-09-23"]
["2019-09-24","2019-09-24"]
["2019-09-25","2019-09-25"]
["2019-09-26","2019-09-26"]
["2019-09-27","2019-09-27"]
["2019-09-28","2019-09-28"]
["2019-09-29","2019-09-29"]
["2019-09-30","2019-09-30"]
["2019-10-01","2019-10-01"]
["2019-10-02","2019-10-02"]
["2019-10-03","2019-10-03"]
["2019-10-04","2019-10-04"]
["2019-10-05","2019-10-05"]
["2019-10-06","2019-10-06"]
["2019-10-07","2019-10-07"]
["2019-10-08","2019-10-08"]
["2019-10-09","2019-10-09"]
["2019-10-10","2019-10-10"]
["2019-10-11","2019-10-11"]
["2019-10-12","2019-10-12"]
["2019-10-13","2019-10-13"]
["2019-10-14","2019-10-14"]
["2019-10-15","2019-10-15"]
["2019-10-16","2019-10-16"]
["2019-10-17","2019-10-17"]
["2019-10-18","2019-10-18"]
["2019-10-19","2019-10-19"]
["2019-10-20","2019-10-20"]
["2019-10-21","2019-10-21"]
["2019-10-22","2019-10-22"]
["2019-10-23","2019-10-23"]
["2019-10-24","2019-10-24"]
["2019-10-25","2019-10-25"]
["2019-10-26","2019-10-26"]
["2019-10-27","2019-10-27"]
["2019-10-28","2019-10-28"]
["2019-10-29","2019-10-29"]
["2019-10-30","2019-10-30"]
["2019-10-31","2019-10-31"]
["2019-11-01","2019-11-01"]
["2019-11-02","2019-11-02"]
["2019-11-03","2019-11-03"]
["2019-11-04","2019-11-04"]
["2019-11-05","2019-11-05"]
["2019-11-06","2019-11-06"]
[{"$f":"B1628","v":"2019-11-07"},"2019-11-07"]
["2019-11-08","2019-11-08"]
["2019-11-09","2019-11-09"]
["2019-11-10","2019-11-10"]
["2019-11-11","2019-11-11"]
["2019-11-12","2019-11-12"]
["2019-11-13","2019-11-13"]
["2019-11-14","2019-11-14"]
["2019-11-15","2019-11-15"]
["2019-11-16","2019-11-16"]
["2019-11-17","2019-11-17"]
["2019-11-18","2019-11-18"]
["2019-11-19","2019-11-19"]
["2019-11-20","2019-11-20"]
["2019-11-21","2019-11-21"]
["2019-11-22","2019-11-22"]
["2019-11-23","2019-11-23"]
["2019-11-24","2019-11-24"]
["2019-11-25","2019-11-25"]
["2019-11-26","2019-11-26"]
["2019-11-27","2019-11-27"]
["2019-11-28","2019-11-28"]
["2019-11-29","2019-11-29"]
["2019-11-30","2019-11-30"]
["2019-12-01","2019-12-01"]
["2019-12-02","2019-12-02"]
["2019-12-03","2019-12-03"]
["2019-12-04","2019-12-04"]
["2019-12-05","2019-12-05"]
["2019-12-06","2019-12-06"]
["2019-12-07","2019-12-07"]
["2019-12-08","2019-12-08"]
["2019-12-09","2019-12-09"]
["2019-12-10","2019-12-10"]
["2019-12-11","2019-12-11"]
["2019-12-12","2019-12-12"]
["2019-12-13","2019-12-13"]
["2019-12-14","2019-12-14"]
["2019-12-15","2019-12-15"]
["2019-12-16","2019-12-16"]
["2019-12-17","2019-12-17"]
["2019-12-18","2019-12-18"]
["2019-12-19","2019-12-19"]
["2019-12-20","2019-12-20"]
["2019-12-21","2019-12-21"]
["2019-12-22","2019-12-22"]
["2019-12-23","2019-12-23"]
["2019-12-24","2019-12-24"]
["2019-12-25","2019-12-25"]
["2019-12-26","2019-12-26"]
["2019-12-27","2019-12-27"]
["2019-12-28","2019-12-28"]
["2019-12-29","2019-12-29"]
["2019-12-30","2019-12-30"]
["2019-12-31","2019-12-31"]
["2020-01-01","2020-01-01"]
["2020-01-02","2020-01-02"]
["2020-01-03","2020-01-03"]
["2020-01-04","2020-01-04"]
["2020-01-05","2020-01-05"]
["2020-01-06","2020-01-06"]
["2020-01-07","2020-01-07"]
["2020-01-08","2020-01-08"]
["2020-01-09","2020-01-09"]
[{"$f":"B1692","v":"2020-01-10"},"2020-01-10"]
["2020-01-11","2020-01-11"]
["2020-01-12","2020-01-12"]
["2020-01-13","2020-01-13"]
["2020-01-14","2020-01-14"]
["2020-01-15","2020-01-15"]
["2020-01-16","2020-01-16"]
["2020-01-17","2020-01-17"]
["2020-01-18","2020-01-18"]
["2020-01-19","2020-01-19"]
["2020-01-20","2020-01-20"]
["2020-01-21","2020-01-21"]
["2020-01-22","2020-01-22"]
["2020-01-23","2020-01-23"]
["2020-01-24","2020-01-24"]
["2020-01-25","2020-01-25"]
["2020-01-26","2020-01-26"]
["2020-01-27","2020-01-27"]
["2020-01-28","2020-01-28"]
["2020-01-29","2020-01-29"]
["2020-01-30","2020-01-30"]
["2020-01-31","2020-01-31"]
["2020-02-01","2020-02-01"]
["2020-02-02","2020-02-02"]
["2020-02-03","2020-02-03"]
["2020-02-04","2020-02-04"]
["2020-02-05","2020-02-05"]
["2020-02-06","2020-02-06"]
["2020-02-07","2020-02-07"]
["2020-02-08","2020-02-08"]
["2020-02-09","2020-02-09"]
["2020-02-10","2020-02-10"]
["2020-02-11","2020-02-11"]
["2020-02-12","2020-02-12"]
["2020-02-13","2020-02-13"]
["2020-02-14","2020-02-14"]
["2020-02-15","2020-02-15"]
["2020-02-16","2020-02-16"]
["2020-02-17","2020-02-17"]
["2020-02-18","2020-02-18"]
["2020-02-19","2020-02-19"]
["2020-02-20","2020-02-20"]
["2020-02-21","2020-02-21"]
["2020-02-22","2020-02-22"]
["2020-02-23","2020-02-23"]
["2020-02-24","2020-02-24"]
["2020-02-25","2020-02-25"]
["2020-02-26","2020-02-26"]
["2020-02-27","2020-02-27"]
["2020-02-28","2020-02-28"]
["2020-02-29","2020-02-29"]
["2020-03-01","2020-03-01"]
["2020-03-02","2020-03-02"]
["2020-03-03","2020-03-03"]
["2020-03-04","2020-03-04"]
["2020-03-05","2020-03-05"]
["2020-03-06","2020-03-06"]
["2020-03-07","2020-03-07"]
["2020-03-08","2020-03-08"]
["2020-03-09","2020-03-09"]
["2020-03-10","2020-03-10"]
["2020-03-11","2020-03-11"]
["2020-03-12","2020-03-12"]
["2020-03-13","2020-03-13"]
[{"$f":"B1756","v":"2020-03-14"},"2020-03-14"]
["2020-03-15","2020-03-15"]
["2020-03-16","2020-03-16"]
["2020-03-17","2020-03-17"]
["2020-03-18","2020-03-18"]
["2020-03-19","2020-03-19"]
["2020-03-20","2020-03-20"]
["2020-03-21","2020-03-21"]
["2020-03-22","2020-03-22"]
["2020-03-23","2020-03-23"]
["2020-03-24","2020-03-24"]
["2020-03-25","2020-03-25"]
["2020-03-26","2020-03-26"]
["2020-03-27","2020-03-27"]
["2020-03-28","2020-03-28"]
["2020-03-29","2020-03-29"]
["2020-03-30","2020-03-30"]
["2020-03-31","2020-03-31"]
["2020-04-01","2020-04-01"]
["2020-04-02","2020-04-02"]
["2020-04-03","2020-04-03"]
["2020-04-04","2020-04-04"]
["2020-04-05","2020-04-05"]
["2020-04-06","2020-04-06"]
["2020-04-07","2020-04-07"]
["2020-04-08","2020-04-08"]
["2020-04-09","2020-04-09"]
["2020-04-10","2020-04-10"]
["2020-04-11","2020-04-11"]
["2020-04-12","2020-04-12"]
["2020-04-13","2020-04-13"]
["2020-04-14","2020-04-14"]
["2020-04-15","2020-04-15"]
["2020-04-16","2020-04-16"]
["2020-04-17","2020-04-17"]
["2020-04-18","2020-04-18"]
["2020-04-19","2020-04-19"]
["2020-04-20","2020-04-20"]
["2020-04-21","2020-04-21"]
["2020-04-22","2020-04-22"]
["2020-04-23","2020-04-23"]
["2020-04-24","2020-04-24"]
["2020-04-25","2020-04-25"]
["2020-04-26","2020-04-26"]
["2020-04-27","2020-04-27"]
["2020-04-28","2020-04-28"]
["2020-04-29","2020-04-29"]
["2020-04-30","2020-04-30"]
["2020-05-01","2020-05-01"]
["2020-05-02","2020-05-02"]
["2020-05-03","2020-05-03"]
["2020-05-04","2020-05-04"]
["2020-05-05","2020-05-05"]
["2020-05-06","2020-05-06"]
["2020-05-07","2020-05-07"]
["2020-05-08","2020-05-08"]
["2020-05-09","2020-05-09"]
["2020-05-10","2020-05-10"]
["2020-05-11","2020-05-11"]
["2020-05-12","2020-05-12"]
["2020-05-13","2020-05-13"]
["2020-05-14","2020-05-14"]
["2020-05-15","2020-05-15"]
["2020-05-16","2020-05-16"]
[{"$f":"B1820","v":"2020-05-17"},"2020-05-17"]
["2020-05-18","2020-05-18"]
["2020-05-19","2020-05-19"]
["2020-05-20","2020-05-20"]
["2020-05-21","2020-05-21"]
["2020-05-22","2020-05-22"]
["2020-05-23","2020-05-23"]
["2020-05-24","2020-05-24"]
["2020-05-25","2020-05-25"]
["2020-05-26","2020-05-26"]
["2020-05-27","2020-05-27"]
["2020-05-28","2020-05-28"]
["2020-05-29","2020-05-29"]
["2020-05-30","2020-05-30"]
["2020-05-31","2020-05-31"]
["2020-06-01","2020-06-01"]
["2020-06-02","2020-06-02"]
["2020-06-03","2020-06-03"]
["2020-06-04","2020-06-04"]
["2020-06-05","2020-06-05"]
["2020-06-06","2020-06-06"]
["2020-06-07","2020-06-07"]
["2020-06-08","2020-06-08"]
["2020-06-09","2020-06-09"]
["2020-06-10","2020-06-10"]
["2020-06-11","2020-06-11"]
["2020-06-12","2020-06-12"]
["2020-06-13","2020-06-13"]
["2020-06-14","2020-06-14"]
["2020-06-15","2020-06-15"]
["2020-06-16","2020-06-16"]
["2020-06-17","2020-06-17"]
["2020-06-18","2020-06-18"]
["2020-06-19","2020-06-19"]
["2020-06-20","2020-06-20"]
["2020-06-21","2020-06-21"]
["2020-06-22","2020-06-22"]
["2020-06-23","2020-06-23"]
["2020-06-24","2020-06-24"]
["2020-06-25","2020-06-25"]
["2020-06-26","2020-06-26"]
["2020-06-27","2020-06-27"]
["2020-06-28","2020-06-28"]
["2020-06-29","2020-06-29"]
["2020-06-30","2020-06-30"]
["2020-07-01","2020-07-01"]
["2020-07-02","2020-07-02"]
["2020-07-03","2020-07-03"]
["2020-07-04","2020-07-04"]
["2020-07-05","2020-07-05"]
["2020-07-06","2020-07-06"]
["2020-07-07","2020-07-07"]
["2020-07-08","2020-07-08"]
["2020-07-09","2020-07-09"]
["2020-07-10","2020-07-10"]
["2020-07-11","2020-07-11"]
["2020-07-12","2020-07-12"]
["2020-07-13","2020-07-13"]
["2020-07-14","2020-07-14"]
["2020-07-15","2020-07-15"]
["2020-07-16","2020-07-16"]
["2020-07-17","2020-07-17"]
["2020-07-18","2020-07-18"]
["2020-07-19","2020-07-19"]
[{"$f":"B1884","v":"2020-07-20"},"2020-07-20"]
["2020-07-21","2020-07-21"]
["2020-07-22","2020-07-22"]
["2020-07-23","2020-07-23"]
["2020-07-24","2020-07-24"]
["2020-07-25","2020-07-25"]
["2020-07-26","2020-07-26"]
["2020-07-27","2020-07-27"]
["2020-07-28","2020-07-28"]
["2020-07-29","2020-07-29"]
["2020-07-30","2020-07-30"]
["2020-07-31","2020-07-31"]
["2020-08-01","2020-08-01"]
["2020-08-02","2020-08-02"]
["2020-08-03","2020-08-03"]
["2020-08-04","2020-08-04"]
["2020-08-05","2020-08-05"]
["2020-08-06","2020-08-06"]
["2020-08-07","2020-08-07"]
["2020-08-08","2020-08-08"]
["2020-08-09","2020-08-09"]
["2020-08-10","2020-08-10"]
["2020-08-11","2020-08-11"]
["2020-08-12","2020-08-12"]
["2020-08-13","2020-08-13"]
["2020-08-14","2020-08-14"]
["2020-08-15","2020-08-15"]
["2020-08-16","2020-08-16"]
["2020-08-17","2020-08-17"]
["2020-08-18","2020-08-18"]
["2020-08-19","2020-08-19"]
["2020-08-20","2020-08-20"]
["2020-08-21","2020-08-21"]
["2020-08-22","2020-08-22"]
["2020-08-23","2020-08-23"]
["2020-08-24","2020-08-24"]
["2020-08-25","2020-08-25"]
["2020-08-26","2020-08-26"]
["2020-08-27","2020-08-27"]
["2020-08-28","2020-08-28"]
["2020-08-29","2020-08-29"]
["2020-08-30","2020-08-30"]
["2020-08-31","2020-08-31"]
["2020-09-01","2020-09-01"]
["2020-09-02","2020-09-02"]
["2020-09-03","2020-09-03"]
["2020-09-04","2020-09-04"]
["2020-09-05","2020-09-05"]
["2020-09-06","2020-09-06"]
["2020-09-07","2020-09-07"]
["2020-09-08","2020-09-08"]
["2020-09-09","2020-09-09"]
["2020-09-10","2020-09-10"]
["2020-09-11","2020-09-11"]
["2020-09-12","2020-09-12"]
["2020-09-13","2020-09-13"]
["2020-09-14","2020-09-14"]
["2020-09-15","2020-09-15"]
["2020-09-16","2020-09-16"]
["2020-09-17","2020-09-17"]
["2020-09-18","2020-09-18"]
["2020-09-19","2020-09-19"]
["2020-09-20","2020-09-20"]
["2020-09-21","2020-09-21"]
[{"$f":"B1948","v":"2020-09-22"},"2020-09-22"]
["2020-09-23","2020-09-23"]
["2020-09-24","2020-09-24"]
["2020-09-25","2020-09-25"]
["2020-09-26","2020-09-26"]
["2020-09-27","2020-09-27"]
["2020-09-28","2020-09-28"]
["2020-09-29","2020-09-29"]
["2020-09-30","2020-09-30"]
["2020-10-01","2020-10-01"]
["2020-10-02","2020-10-02"]
["2020-10-03","2020-10-03"]
["2020-10-04","2020-10-04"]
["2020-10-05","2020-10-05"]
["2020-10-06","2020-10-06"]
["2020-10-07","2020-10-07"]
["2020-10-08","2020-10-08"]
["2020-10-09","2020-10-09"]
["2020-10-10","2020-10-10"]
["2020-10-11","2020-10-11"]
["2020-10-12","2020-10-12"]
["2020-10-13","2020-10-13"]
["2020-10-14","2020-10-14"]
["2020-10-15","2020-10-15"]
["2020-10-16","2020-10-16"]
["2020-10-17","2020-10-17"]
["2020-10-18","2020-10-18"]
["2020-10-19","2020-10-19"]
["2020-10-20","2020-10-20"]
["2020-10-21","2020-10-21"]
["2020-10-22","2020-10-22"]
["2020-10-23","2020-10-23"]
["2020-10-24","2020-10-24"]
["2020-10-25","2020-10-25"]
["2020-10-26","2020-10-26"]
["2020-10-27","2020-10-27"]
["2020-10-28","2020-10-28"]
["2020-10-29","2020-10-29"]
["2020-10-30","2020-10-30"]
["2020-10-31","2020-10-31"]
["2020-11-01","2020-11-01"]
["2020-11-02","2020-11-02"]
["2020-11-03","2020-11-03"]
["2020-11-04","2020-11-04"]
["2020-11-05","2020-11-05"]
["2020-11-06","2020-11-06"]
["2020-11-07","2020-11-07"]
["2020-11-08","2020-11-08"]
["2020-11-09","2020-11-09"]
["2020-11-10","2020-11-10"]
["2020-11-11","2020-11-11"]
["2020-11-12","2020-11-12"]
["2020-11-13","2020-11-13"]
["2020-11-14","2020-11-14"]
["2020-11-15","2020-11-15"]
["2020-11-16","2020-11-16"]
["2020-11-17","2020-11-17"]
["2020-11-18","2020-11-18"]
["2020-11-19","2020-11-19"]
["2020-11-20","2020-11-20"]
["2020-11-21","2020-11-21"]
["2020-11-22","2020-11-22"]
["2020-11-23","2020-11-23"]
["2020-11-24","2020-11-24"]
[{"$f":"B2012","v":"2020-11-25"},"2020-11-25"]
["2020-11-26","2020-11-26"]
["2020-11-27","2020-11-27"]
["2020-11-28","2020-11-28"]
["2020-11-29","2020-11-29"]
["2020-11-30","2020-11-30"]
["2020-12-01","2020-12-01"]
["2020-12-02","2020-12-02"]
["2020-12-03","2020-12-03"]
["2020-12-04","2020-12-04"]
["2020-12-05","2020-12-05"]
["2020-12-06","2020-12-06"]
["2020-12-07","2020-12-07"]
["2020-12-08","2020-12-08"]
["2020-12-09","2020-12-09"]
["2020-12-10","2020-12-10"]
["2020-12-11","2020-12-11"]
["2020-12-12","2020-12-12"]
["2020-12-13","2020-12-13"]
["2020-12-14","2020-12-14"]
["2020-12-15","2020-12-15"]
["2020-12-16","2020-12-16"]
["2020-12-17","2020-12-17"]
["2020-12-18","2020-12-18"]
["2020-12-19","2020-12-19"]
["2020-12-20","2020-12-20"]
["2020-12-21","2020-12-21"]
["2020-12-22","2020-12-22"]
["2020-12-23","2020-12-23"]
["2020-12-24","2020-12-24"]
["2020-12-25","2020-12-25"]
["2020-12-26","2020-12-26"]
["2020-12-27","2020-12-27"]
["2020-12-28","2020-12-28"]
["2020-12-29","2020-12-29"]
["2020-12-30","2020-12-30"]
["2020-12-31","2020-12-31"]
["2021-01-01","2021-01-01"]
["2021-01-02","2021-01-02"]
["2021-01-03","2021-01-03"]
["2021-01-04","2021-01-04"]
["2021-01-05","2021-01-05"]
["2021-01-06","2021-01-06"]
["2021-01-07","2021-01-07"]
["2021-01-08","2021-01-08"]
["2021-01-09","2021-01-09"]
["2021-01-10","2021-01-10"]
["2021-01-11","2021-01-11"]
["2021-01-12","2021-01-12"]
["2021-01-13","2021-01-13"]
["2021-01-14","2021-01-14"]
["2021-01-15","2021-01-15"]
["2021-01-16","2021-01-16"]
["2021-01-17","2021-01-17"]
["2021-01-18","2021-01-18"]
["2021-01-19","2021-01-19"]
["2021-01-20","2021-01-20"]
["2021-01-21","2021-01-21"]
["2021-01-22","2021-01-22"]
["2021-01-23","2021-01-23"]
["2021-01-24","2021-01-24"]
["2021-01-25","2021-01-25"]
["2021-01-26","2021-01-26"]
["2021-01-27","2021-01-27"]
[{"$f":"B2076","v":"2021-01-28"},"2021-01-28"]
["2021-01-29","2021-01-29"]
["2021-01-30","2021-01-30"]
["2021-01-31","2021-01-31"]
["2021-02-01","2021-02-01"]
["2021-02-02","2021-02-02"]
["2021-02-03","2021-02-03"]
["2021-02-04","2021-02-04"]
["2021-02-05","2021-02-05"]
["2021-02-06","2021-02-06"]
["2021-02-07","2021-02-07"]
["2021-02-08","2021-02-08"]
["2021-02-09","2021-02-09"]
["2021-02-10","2021-02-10"]
["2021-02-11","2021-02-11"]
["2021-02-12","2021-02-12"]
["2021-02-13","2021-02-13"]
["2021-02-14","2021-02-14"]
["2021-02-15","2021-02-15"]
["2021-02-16","2021-02-16"]
["2021-02-17","2021-02-17"]
["2021-02-18","2021-02-18"]
["2021-02-19","2021-02-19"]
["2021-02-20","2021-02-20"]
["2021-02-21","2021-02-21"]
["2021-02-22","2021-02-22"]
["2021-02-23","2021-02-23"]
["2021-02-24","2021-02-24"]
["2021-02-25","2021-02-25"]
["2021-02-26","2021-02-26"]
["2021-02-27","2021-02-27"]
["2021-02-28","2021-02-28"]
["2021-03-01","2021-03-01"]
["2021-03-02","2021-03-02"]
["2021-03-03","2021-03-03"]
["2021-03-04","2021-03-04"]
["2021-03-05","2021-03-05"]
["2021-03-06","2021-03-06"]
["2021-03-07","2021-03-07"]
["2021-03-08","2021-03-08"]
["2021-03-09","2021-03-09"]
["2021-03-10","2021-03-10"]
["2021-03-11","2021-03-11"]
["2021-03-12","2021-03-12"]
["2021-03-13","2021-03-13"]
["2021-03-14","2021-03-14"]
["2021-03-15","2021-03-15"]
["2021-03-16","2021-03-16"]
["2021-03-17","2021-03-17"]
["2021-03-18","2021-03-18"]
["2021-03-19","2021-03-19"]
["2021-03-20","2021-03-20"]
["2021-03-21","2021-03-21"]
["2021-03-22","2021-03-22"]
["2021-03-23","2021-03-23"]
["2021-03-24","2021-03-24"]
["2021-03-25","2021-03-25"]
["2021-03-26","2021-03-26"]
["2021-03-27","2021-03-27"]
["2021-03-28","2021-03-28"]
["2021-03-29","2021-03-29"]
["2021-03-30","2021-03-30"]
["2021-03-31","2021-03-31"]
["2021-04-01","2021-04-01"]
[{"$f":"B2140","v":"2021-04-02"},"2021-04-02"]
["2021-04-03","2021-04-03"]
["2021-04-04","2021-04-04"]
["2021-04-05","2021-04-05"]
["2021-04-06","2021-04-06"]
["2021-04-07","2021-04-07"]
["2021-04-08","2021-04-08"]
["2021-04-09","2021-04-09"]
["2021-04-10","2021-04-10"]
["2021-04-11","2021-04-11"]
["2021-04-12","2021-04-12"]
["2021-04-13","2021-04-13"]
["2021-04-14","2021-04-14"]
["2021-04-15","2021-04-15"]
["2021-04-16","2021-04-16"]
["2021-04-17","2021-04-17"]
["2021-04-18","2021-04-18"]
["2021-04-19","2021-04-19"]
["2021-04-20","2021-04-20"]
["2021-04-21","2021-04-21"]
["2021-04-22","2021-04-22"]
["2021-04-23","2021-04-23"]
["2021-04-24","2021-04-24"]
["2021-04-25","2021-04-25"]
["2021-04-26","2021-04-26"]
["2021-04-27","2021-04-27"]
["2021-04-28","2021-04-28"]
["2021-04-29","2021-04-29"]
["2021-04-30","2021-04-30"]
["2021-05-01","2021-05-01"]
["2021-05-02","2021-05-02"]
["2021-05-03","2021-05-03"]
["2021-05-04","2021-05-04"]
["2021-05-05","2021-05-05"]
["2021-05-06","2021-05-06"]
["2021-05-07","2021-05-07"]
["2021-05-08","2021-05-08"]
["2021-05-09","2021-05-09"]
["2021-05-10","2021-05-10"]
["2021-05-11","2021-05-11"]
["2021-05-12","2021-05-12"]
["2021-05-13","2021-05-13"]
["2021-05-14","2021-05-14"]
["2021-05-15","2021-05-15"]
["2021-05-16","2021-05-16"]
["2021-05-17","2021-05-17"]
["2021-05-18","2021-05-18"]
["2021-05-19","2021-05-19"]
["2021-05-20","2021-05-20"]
["2021-05-21","2021-05-21"]
["2021-05-22","2021-05-22"]
["2021-05-23","2021-05-23"]
["2021-05-24","2021-05-24"]
["2021-05-25","2021-05-25"]
["2021-05-26","2021-05-26"]
["2021-05-27","2021-05-27"]
["2021-05-28","2021-05-28"]
["2021-05-29","2021-05-29"]
["2021-05-30","2021-05-30"]
["2021-05-31","2021-05-31"]

{"sheet":"SOLDES","index":1,"n_rows":277,"n_cols":256,"rows_kept":277,"cut":false,"hidden":false,"merged":[[273,0,276,0],[1,0,7,0],[118,0,121,0],[23,0,26,0],[28,0,31,0],[78,0,81,0],[268,0,271,0],[263,0,266,0],[258,0,261,0],[253,0,256,0],[13,0,16,0],[18,0,21,0],[68,0,71,0],[158,0,161,0],[63,0,66,0],[113,0,116,0],[123,0,126,0],[223,0,226,0],[218,0,221,0],[168,0,171,0],[173,0,176,0],[128,0,131,0],[133,0,136,0],[248,0,251,0],[203,0,206,0],[208,0,211,0],[163,0,166,0],[213,0,216,0],[178,0,181,0],[73,0,76,0],[33,0,36,0],[38,0,41,0],[83,0,86,0],[88,0,91,0]]}
[null,null,2,3,4,5,6,7,8,9,10,11,12,13,14,15,16,17,18,19,20,21,22,23,24,25,26,27,28,29,30,31,32,33,34,35,36,37,38,39,40,41,42,43,44,45,46,47,48,49,50,51,52,53,54,55,56,57,58,59,60,61,62,63,64,65,66,67,68,69,70,71,72,73,74,75,76,77,78,79,80,81,82,83,84,85,86,87,88,89,90,91,92,93,94,95,96,97,98,99,100,101,102,103,104,105,106,107,108,109,110,111,112,113,114,115,116,117,118,119,120,121,122,123,124,125,126,127,128,129,130,131,132,133,134,135,136,137,138,139,140,141,142,143,144,145,146,147,148,149,150,151,152,153,154,155,156,157,158,159,160,161,162,163,164,165,166,167,168,169,170,171,172,173,174,175,176,177,178,179,180,181,182,183,184,185,186,187,188,189,190,191,192,193,194,195,196,197,198,199,null,null,null,null,null,null,null,null,null,null,null,null,null,null,null,null,null,null,null,null,null,null,null,null,null,null,null,null,null,null,null,null,null,null,null,null,null,null,null,null,null,null,null,null,null,null,null,null,null,null,null,null,null,null,null,"Créé par Alexandra Durand (Gaz0line sur www.Excel-Pratique.com) - 08/03/2013 - Freeware - Vente interdite"]
["AFFICHAGE COMMENTAIRES","Agent : \n","0_NE PAS SUPPRIMER","Employé n°1","Employé n°2","Employé n°3","Employé n°4","Employé n°5","Employé n°6","Employé n°7","Employé n°8","Employé n°9","Employé n°10","Employé n°11","Etc…"]
[null,{"$f":"B22","v":"Solde CP 2016-2017 : "},{"$f":"IF(ISERROR(VLOOKUP($B3,$B$14:$GR$476,C$1,FALSE)),\"\",(VLOOKUP($B3,$B$14:$GR$476,C$1,FALSE)))","v":0},{"$f":"IF(ISERROR(VLOOKUP($B3,$B$14:$GR$476,D$1,FALSE)),\"\",(VLOOKUP($B3,$B$14:$GR$476,D$1,FALSE)))","v":0},0,0,0,0,0,0,0,0,0,{"$f":"IF(ISERROR(VLOOKUP($B3,$B$14:$GR$476,N$1,FALSE)),\"\",(VLOOKUP($B3,$B$14:$GR$476,N$1,FALSE)))","v":0},0,0,0,0,0,0,0,0,0,{"$f":"IF(ISERROR(VLOOKUP($B3,$B$14:$GR$476,X$1,FALSE)),\"\",(VLOOKUP($B3,$B$14:$GR$476,X$1,FALSE)))","v":0},0,0,0,0,0,0,0,0,0,{"$f":"IF(ISERROR(VLOOKUP($B3,$B$14:$GR$476,AH$1,FALSE)),\"\",(VLOOKUP($B3,$B$14:$GR$476,AH$1,FALSE)))","v":0},0,0,0,0,0,0,0,0,0,{"$f":"IF(ISERROR(VLOOKUP($B3,$B$14:$GR$476,AR$1,FALSE)),\"\",(VLOOKUP($B3,$B$14:$GR$476,AR$1,FALSE)))","v":0},0,0,0,0,0,0,0,0,0,{"$f":"IF(ISERROR(VLOOKUP($B3,$B$14:$GR$476,BB$1,FALSE)),\"\",(VLOOKUP($B3,$B$14:$GR$476,BB$1,FALSE)))","v":0},0,0,0,0,0,0,0,0,0,{"$f":"IF(ISERROR(VLOOKUP($B3,$B$14:$GR$476,BL$1,FALSE)),\"\",(VLOOKUP($B3,$B$14:$GR$476,BL$1,FALSE)))","v":0},0,0,0,0,0,0,0,0,0,{"$f":"IF(ISERROR(VLOOKUP($B3,$B$14:$GR$476,BV$1,FALSE)),\"\",(VLOOKUP($B3,$B$14:$GR$476,BV$1,FALSE)))","v":0},0,0,0,0,0,0,0,0,0,{"$f":"IF(ISERROR(VLOOKUP($B3,$B$14:$GR$476,CF$1,FALSE)),\"\",(VLOOKUP($B3,$B$14:$GR$476,CF$1,FALSE)))","v":0},0,0,0,0,0,0,0,0,0,{"$f":"IF(ISERROR(VLOOKUP($B3,$B$14:$GR$476,CP$1,FALSE)),\"\",(VLOOKUP($B3,$B$14:$GR$476,CP$1,FALSE)))","v":0},0,0,0,0,0,0,0,0,0,{"$f":"IF(ISERROR(VLOOKUP($B3,$B$14:$GR$476,CZ$1,FALSE)),\"\",(VLOOKUP($B3,$B$14:$GR$476,CZ$1,FALSE)))","v":0},0,0,0,0,0,0,0,0,0,{"$f":"IF(ISERROR(VLOOKUP($B3,$B$14:$GR$476,DJ$1,FALSE)),\"\",(VLOOKUP($B3,$B$14:$GR$476,DJ$1,FALSE)))","v":0},0,0,0,0,0,0,0,0,0,{"$f":"IF(ISERROR(VLOOKUP($B3,$B$14:$GR$476,DT$1,FALSE)),\"\",(VLOOKUP($B3,$B$14:$GR$476,DT$1,FALSE)))","v":0},0,0,0,0,0,0,0,0,0,{"$f":"IF(ISERROR(VLOOKUP($B3,$B$14:$GR$476,ED$1,FALSE)),\"\",(VLOOKUP($B3,$B$14:$GR$476,ED$1,FALSE)))","v":0},0,0,0,0,0,0,0,0,0,{"$f":"IF(ISERROR(VLOOKUP($B3,$B$14:$GR$476,EN$1,FALSE)),\"\",(VLOOKUP($B3,$B$14:$GR$476,EN$1,FALSE)))","v":0},0,0,0,0,0,0,0,0,0,{"$f":"IF(ISERROR(VLOOKUP($B3,$B$14:$GR$476,EX$1,FALSE)),\"\",(VLOOKUP($B3,$B$14:$GR$476,EX$1,FALSE)))","v":0},0,0,0,0,0,0,0,0,0,{"$f":"IF(ISERROR(VLOOKUP($B3,$B$14:$GR$476,FH$1,FALSE)),\"\",(VLOOKUP($B3,$B$14:$GR$476,FH$1,FALSE)))","v":0},0,0,0,0,0,0,0,0,0,{"$f":"IF(ISERROR(VLOOKUP($B3,$B$14:$GR$476,FR$1,FALSE)),\"\",(VLOOKUP($B3,$B$14:$GR$476,FR$1,FALSE)))","v":0},0,0,0,0,0,0,0,0,0,{"$f":"IF(ISERROR(VLOOKUP($B3,$B$14:$GR$476,GB$1,FALSE)),\"\",(VLOOKUP($B3,$B$14:$GR$476,GB$1,FALSE)))","v":0},0,0,0,0,0,0,0,0,0,{"$f":"IF(ISERROR(VLOOKUP($B3,$B$14:$GR$476,GL$1,FALSE)),\"\",(VLOOKUP($B3,$B$14:$GR$476,GL$1,FALSE)))","v":0},0,0,0,0,0,0]
[null,{"$f":"B72","v":"Solde CP Anc 2016-2017 : "},0,0,0,0,0,0,0,0,0,0,0,0,0,0,0,0,0,0,0,0,0,0,0,0,0,0,0,0,0,0,0,0,0,0,0,0,0,0,0,0,0,0,0,0,0,0,0,0,0,0,0,0,0,0,0,0,0,0,0,0,0,0,0,0,0,0,0,0,0,0,0,0,0,0,0,0,0,0,0,0,0,0,0,0,0,0,0,0,0,0,0,0,0,0,0,0,0,0,0,0,0,0,0,0,0,0,0,0,0,0,0,0,0,0,0,0,0,0,0,0,0,0,0,0,0,0,0,0,0,0,0,0,0,0,0,0,0,0,0,0,0,0,0,0,0,0,0,0,0,0,0,0,0,0,0,0,0,0,0,0,0,0,0,0,0,0,0,0,0,0,0,0,0,0,0,0,0,0,0,0,0,0,0,0,0,0,0,0,0,0,0,0,0,0,0,0,0,0]
[null,{"$f":"B117","v":"Solde RTT 2016 :"},0,0,0,0,0,0,0,0,0,0,0,0,0,0,0,0,0,0,0,0,0,0,0,0,0,0,0,0,0,0,0,0,0,0,0,0,0,0,0,0,0,0,0,0,0,0,0,0,0,0,0,0,0,0,0,0,0,0,0,0,0,0,0,0,0,0,0,0,0,0,0,0,0,0,0,0,0,0,0,0,0,0,0,0,0,0,0,0,0,0,0,0,0,0,0,0,0,0,0,0,0,0,0,0,0,0,0,0,0,0,0,0,0,0,0,0,0,0,0,0,0,0,0,0,0,0,0,0,0,0,0,0,0,0,0,0,0,0,0,0,0,0,0,0,0,0,0,0,0,0,0,0,0,0,0,0,0,0,0,0,0,0,0,0,0,0,0,0,0,0,0,0,0,0,0,0,0,0,0,0,0,0,0,0,0,0,0,0,0,0,0,0,0,0,0,0,0,0]
[null,{"$f":"B162","v":"Solde … 2016 : "},0,0,0,0,0,0,0,0,0,0,0,0,0,0,0,0,0,0,0,0,0,0,0,0,0,0,0,0,0,0,0,0,0,0,0,0,0,0,0,0,0,0,0,0,0,0,0,0,0,0,0,0,0,0,0,0,0,0,0,0,0,0,0,0,0,0,0,0,0,0,0,0,0,0,0,0,0,0,0,0,0,0,0,0,0,0,0,0,0,0,0,0,0,0,0,0,0,0,0,0,0,0,0,0,0,0,0,0,0,0,0,0,0,0,0,0,0,0,0,0,0,0,0,0,0,0,0,0,0,0,0,0,0,0,0,0,0,0,0,0,0,0,0,0,0,0,0,0,0,0,0,0,0,0,0,0,0,0,0,0,0,0,0,0,0,0,0,0,0,0,0,0,0,0,0,0,0,0,0,0,0,0,0,0,0,0,0,0,0,0,0,0,0,0,0,0,0,0]
[null,{"$f":"B207","v":"Solde … 2016 : "},0,0,0,0,0,0,0,0,0,0,0,0,0,0,0,0,0,0,0,0,0,0,0,0,0,0,0,0,0,0,0,0,0,0,0,0,0,0,0,0,0,0,0,0,0,0,0,0,0,0,0,0,0,0,0,0,0,0,0,0,0,0,0,0,0,0,0,0,0,0,0,0,0,0,0,0,0,0,0,0,0,0,0,0,0,0,0,0,0,0,0,0,0,0,0,0,0,0,0,0,0,0,0,0,0,0,0,0,0,0,0,0,0,0,0,0,0,0,0,0,0,0,0,0,0,0,0,0,0,0,0,0,0,0,0,0,0,0,0,0,0,0,0,0,0,0,0,0,0,0,0,0,0,0,0,0,0,0,0,0,0,0,0,0,0,0,0,0,0,0,0,0,0,0,0,0,0,0,0,0,0,0,0,0,0,0,0,0,0,0,0,0,0,0,0,0,0,0]
[null,{"$f":"B252","v":"Solde … 2015-2016 : "},0,0,0,0,0,0,0,0,0,0,0,0,0,0,0,0,0,0,0,0,0,0,0,0,0,0,0,0,0,0,0,0,0,0,0,0,0,0,0,0,0,0,0,0,0,0,0,0,0,0,0,0,0,0,0,0,0,0,0,0,0,0,0,0,0,0,0,0,0,0,0,0,0,0,0,0,0,0,0,0,0,0,0,0,0,0,0,0,0,0,0,0,0,0,0,0,0,0,0,0,0,0,0,0,0,0,0,0,0,0,0,0,0,0,0,0,0,0,0,0,0,0,0,0,0,0,0,0,0,0,0,0,0,0,0,0,0,0,0,0,0,0,0,0,0,0,0,0,0,0,0,0,0,0,0,0,0,0,0,0,0,0,0,0,0,0,0,0,0,0,0,0,0,0,0,0,0,0,0,0,0,0,0,0,0,0,0,0,0,0,0,0,0,0,0,0,0,0]
[]
[]
[]
[]
["période de référence (du 1er juin au 31 mai)"]
["2015-2016",{"$f":"CALENDRIER!$A$1","v":"CP"}]
[null,"SOLDE DEPART"]
[null,{"$f":"CALENDRIER!$A$1&\" PRIS\"","v":"CP PRIS"},{"$f":"(COUNTIF(CALENDRIER!C$8:C$373,CALENDRIER!$A$1))+((COUNTIF(CALENDRIER!C$8:C$373,CALENDRIER!$B$1))/2)","v":0},{"$f":"(COUNTIF(CALENDRIER!D$8:D$373,CALENDRIER!$A$1))+((COUNTIF(CALENDRIER!D$8:D$373,CALENDRIER!$B$1))/2)","v":0},{"$f":"(COUNTIF(CALENDRIER!E$8:E$373,CALENDRIER!$A$1))+((COUNTIF(CALENDRIER!E$8:E$373,CALENDRIER!$B$1))/2)","v":0},{"$f":"(COUNTIF(CALENDRIER!F$8:F$373,CALENDRIER!$A$1))+((COUNTIF(CALENDRIER!F$8:F$373,CALENDRIER!$B$1))/2)","v":0},{"$f":"(COUNTIF(CALENDRIER!G$8:G$373,CALENDRIER!$A$1))+((COUNTIF(CALENDRIER!G$8:G$373,CALENDRIER!$B$1))/2)","v":0},{"$f":"(COUNTIF(CALENDRIER!H$8:H$373,CALENDRIER!$A$1))+((COUNTIF(CALENDRIER!H$8:H$373,CALENDRIER!$B$1))/2)","v":0},{"$f":"(COUNTIF(CALENDRIER!I$8:I$373,CALENDRIER!$A$1))+((COUNTIF(CALENDRIER!I$8:I$373,CALENDRIER!$B$1))/2)","v":0},{"$f":"(COUNTIF(CALENDRIER!J$8:J$373,CALENDRIER!$A$1))+((COUNTIF(CALENDRIER!J$8:J$373,CALENDRIER!$B$1))/2)","v":0},{"$f":"(COUNTIF(CALENDRIER!K$8:K$373,CALENDRIER!$A$1))+((COUNTIF(CALENDRIER!K$8:K$373,CALENDRIER!$B$1))/2)","v":0},{"$f":"(COUNTIF(CALENDRIER!L$8:L$373,CALENDRIER!$A$1))+((COUNTIF(CALENDRIER!L$8:L$373,CALENDRIER!$B$1))/2)","v":0},{"$f":"(COUNTIF(CALENDRIER!M$8:M$373,CALENDRIER!$A$1))+((COUNTIF(CALENDRIER!M$8:M$373,CALENDRIER!$B$1))/2)","v":0},{"$f":"(COUNTIF(CALENDRIER!N$8:N$373,CALENDRIER!$A$1))+((COUNTIF(CALENDRIER!N$8:N$373,CALENDRIER!$B$1))/2)","v":0},{"$f":"(COUNTIF(CALENDRIER!O$8:O$373,CALENDRIER!$A$1))+((COUNTIF(CALENDRIER!O$8:O$373,CALENDRIER!$B$1))/2)","v":0},{"$f":"(COUNTIF(CALENDRIER!P$8:P$373,CALENDRIER!$A$1))+((COUNTIF(CALENDRIER!P$8:P$373,CALENDRIER!$B$1))/2)","v":0},{"$f":"(COUNTIF(CALENDRIER!Q$8:Q$373,CALENDRIER!$A$1))+((COUNTIF(CALENDRIER!Q$8:Q$373,CALENDRIER!$B$1))/2)","v":0},{"$f":"(COUNTIF(CALENDRIER!R$8:R$373,CALENDRIER!$A$1))+((COUNTIF(CALENDRIER!R$8:R$373,CALENDRIER!$B$1))/2)","v":0},{"$f":"(COUNTIF(CALENDRIER!S$8:S$373,CALENDRIER!$A$1))+((COUNTIF(CALENDRIER!S$8:S$373,CALENDRIER!$B$1))/2)","v":0},{"$f":"(COUNTIF(CALENDRIER!T$8:T$373,CALENDRIER!$A$1))+((COUNTIF(CALENDRIER!T$8:T$373,CALENDRIER!$B$1))/2)","v":0},{"$f":"(COUNTIF(CALENDRIER!U$8:U$373,CALENDRIER!$A$1))+((COUNTIF(CALENDRIER!U$8:U$373,CALENDRIER!$B$1))/2)","v":0},{"$f":"(COUNTIF(CALENDRIER!V$8:V$373,CALENDRIER!$A$1))+((COUNTIF(CALENDRIER!V$8:V$373,CALENDRIER!$B$1))/2)","v":0},{"$f":"(COUNTIF(CALENDRIER!W$8:W$373,CALENDRIER!$A$1))+((COUNTIF(CALENDRIER!W$8:W$373,CALENDRIER!$B$1))/2)","v":0},{"$f":"(COUNTIF(CALENDRIER!X$8:X$373,CALENDRIER!$A$1))+((COUNTIF(CALENDRIER!X$8:X$373,CALENDRIER!$B$1))/2)","v":0},{"$f":"(COUNTIF(CALENDRIER!Y$8:Y$373,CALENDRIER!$A$1))+((COUNTIF(CALENDRIER!Y$8:Y$373,CALENDRIER!$B$1))/2)","v":0},{"$f":"(COUNTIF(CALENDRIER!Z$8:Z$373,CALENDRIER!$A$1))+((COUNTIF(CALENDRIER!Z$8:Z$373,CALENDRIER!$B$1))/2)","v":0},{"$f":"(COUNTIF(CALENDRIER!AA$8:AA$373,CALENDRIER!$A$1))+((COUNTIF(CALENDRIER!AA$8:AA$373,CALENDRIER!$B$1))/2)","v":0},{"$f":"(COUNTIF(CALENDRIER!AB$8:AB$373,CALENDRIER!$A$1))+((COUNTIF(CALENDRIER!AB$8:AB$373,CALENDRIER!$B$1))/2)","v":0},{"$f":"(COUNTIF(CALENDRIER!AC$8:AC$373,CALENDRIER!$A$1))+((COUNTIF(CALENDRIER!AC$8:AC$373,CALENDRIER!$B$1))/2)","v":0},{"$f":"(COUNTIF(CALENDRIER!AD$8:AD$373,CALENDRIER!$A$1))+((COUNTIF(CALENDRIER!AD$8:AD$373,CALENDRIER!$B$1))/2)","v":0},{"$f":"(COUNTIF(CALENDRIER!AE$8:AE$373,CALENDRIER!$A$1))+((COUNTIF(CALENDRIER!AE$8:AE$373,CALENDRIER!$B$1))/2)","v":0},{"$f":"(COUNTIF(CALENDRIER!AF$8:AF$373,CALENDRIER!$A$1))+((COUNTIF(CALENDRIER!AF$8:AF$373,CALENDRIER!$B$1))/2)","v":0},{"$f":"(COUNTIF(CALENDRIER!AG$8:AG$373,CALENDRIER!$A$1))+((COUNTIF(CALENDRIER!AG$8:AG$373,CALENDRIER!$B$1))/2)","v":0},{"$f":"(COUNTIF(CALENDRIER!AH$8:AH$373,CALENDRIER!$A$1))+((COUNTIF(CALENDRIER!AH$8:AH$373,CALENDRIER!$B$1))/2)","v":0},{"$f":"(COUNTIF(CALENDRIER!AI$8:AI$373,CALENDRIER!$A$1))+((COUNTIF(CALENDRIER!AI$8:AI$373,CALENDRIER!$B$1))/2)","v":0},{"$f":"(COUNTIF(CALENDRIER!AJ$8:AJ$373,CALENDRIER!$A$1))+((COUNTIF(CALENDRIER!AJ$8:AJ$373,CALENDRIER!$B$1))/2)","v":0},{"$f":"(COUNTIF(CALENDRIER!AK$8:AK$373,CALENDRIER!$A$1))+((COUNTIF(CALENDRIER!AK$8:AK$373,CALENDRIER!$B$1))/2)","v":0},{"$f":"(COUNTIF(CALENDRIER!AL$8:AL$373,CALENDRIER!$A$1))+((COUNTIF(CALENDRIER!AL$8:AL$373,CALENDRIER!$B$1))/2)","v":0},{"$f":"(COUNTIF(CALENDRIER!AM$8:AM$373,CALENDRIER!$A$1))+((COUNTIF(CALENDRIER!AM$8:AM$373,CALENDRIER!$B$1))/2)","v":0},{"$f":"(COUNTIF(CALENDRIER!AN$8:AN$373,CALENDRIER!$A$1))+((COUNTIF(CALENDRIER!AN$8:AN$373,CALENDRIER!$B$1))/2)","v":0},{"$f":"(COUNTIF(CALENDRIER!AO$8:AO$373,CALENDRIER!$A$1))+((COUNTIF(CALENDRIER!AO$8:AO$373,CALENDRIER!$B$1))/2)","v":0},{"$f":"(COUNTIF(CALENDRIER!AP$8:AP$373,CALENDRIER!$A$1))+((COUNTIF(CALENDRIER!AP$8:AP$373,CALENDRIER!$B$1))/2)","v":0},{"$f":"(COUNTIF(CALENDRIER!AQ$8:AQ$373,CALENDRIER!$A$1))+((COUNTIF(CALENDRIER!AQ$8:AQ$373,CALENDRIER!$B$1))/2)","v":0},{"$f":"(COUNTIF(CALENDRIER!AR$8:AR$373,CALENDRIER!$A$1))+((COUNTIF(CALENDRIER!AR$8:AR$373,CALENDRIER!$B$1))/2)","v":0},{"$f":"(COUNTIF(CALENDRIER!AS$8:AS$373,CALENDRIER!$A$1))+((COUNTIF(CALENDRIER!AS$8:AS$373,CALENDRIER!$B$1))/2)","v":0},{"$f":"(COUNTIF(CALENDRIER!AT$8:AT$373,CALENDRIER!$A$1))+((COUNTIF(CALENDRIER!AT$8:AT$373,CALENDRIER!$B$1))/2)","v":0},{"$f":"(COUNTIF(CALENDRIER!AU$8:AU$373,CALENDRIER!$A$1))+((COUNTIF(CALENDRIER!AU$8:AU$373,CALENDRIER!$B$1))/2)","v":0},{"$f":"(COUNTIF(CALENDRIER!AV$8:AV$373,CALENDRIER!$A$1))+((COUNTIF(CALENDRIER!AV$8:AV$373,CALENDRIER!$B$1))/2)","v":0},{"$f":"(COUNTIF(CALENDRIER!AW$8:AW$373,CALENDRIER!$A$1))+((COUNTIF(CALENDRIER!AW$8:AW$373,CALENDRIER!$B$1))/2)","v":0},{"$f":"(COUNTIF(CALENDRIER!AX$8:AX$373,CALENDRIER!$A$1))+((COUNTIF(CALENDRIER!AX$8:AX$373,CALENDRIER!$B$1))/2)","v":0},{"$f":"(COUNTIF(CALENDRIER!AY$8:AY$373,CALENDRIER!$A$1))+((COUNTIF(CALENDRIER!AY$8:AY$373,CALENDRIER!$B$1))/2)","v":0},{"$f":"(COUNTIF(CALENDRIER!AZ$8:AZ$373,CALENDRIER!$A$1))+((COUNTIF(CALENDRIER!AZ$8:AZ$373,CALENDRIER!$B$1))/2)","v":0},{"$f":"(COUNTIF(CALENDRIER!BA$8:BA$373,CALENDRIER!$A$1))+((COUNTIF(CALENDRIER!BA$8:BA$373,CALENDRIER!$B$1))/2)","v":0},{"$f":"(COUNTIF(CALENDRIER!BB$8:BB$373,CALENDRIER!$A$1))+((COUNTIF(CALENDRIER!BB$8:BB$373,CALENDRIER!$B$1))/2)","v":0},{"$f":"(COUNTIF(CALENDRIER!BC$8:BC$373,CALENDRIER!$A$1))+((COUNTIF(CALENDRIER!BC$8:BC$373,CALENDRIER!$B$1))/2)","v":0},{"$f":"(COUNTIF(CALENDRIER!BD$8:BD$373,CALENDRIER!$A$1))+((COUNTIF(CALENDRIER!BD$8:BD$373,CALENDRIER!$B$1))/2)","v":0},{"$f":"(COUNTIF(CALENDRIER!BE$8:BE$373,CALENDRIER!$A$1))+((COUNTIF(CALENDRIER!BE$8:BE$373,CALENDRIER!$B$1))/2)","v":0},{"$f":"(COUNTIF(CALENDRIER!BF$8:BF$373,CALENDRIER!$A$1))+((COUNTIF(CALENDRIER!BF$8:BF$373,CALENDRIER!$B$1))/2)","v":0},{"$f":"(COUNTIF(CALENDRIER!BG$8:BG$373,CALENDRIER!$A$1))+((COUNTIF(CALENDRIER!BG$8:BG$373,CALENDRIER!$B$1))/2)","v":0},{"$f":"(COUNTIF(CALENDRIER!BH$8:BH$373,CALENDRIER!$A$1))+((COUNTIF(CALENDRIER!BH$8:BH$373,CALENDRIER!$B$1))/2)","v":0},{"$f":"(COUNTIF(CALENDRIER!BI$8:BI$373,CALENDRIER!$A$1))+((COUNTIF(CALENDRIER!BI$8:BI$373,CALENDRIER!$B$1))/2)","v":0},{"$f":"(COUNTIF(CALENDRIER!BJ$8:BJ$373,CALENDRIER!$A$1))+((COUNTIF(CALENDRIER!BJ$8:BJ$373,CALENDRIER!$B$1))/2)","v":0},{"$f":"(COUNTIF(CALENDRIER!BK$8:BK$373,CALENDRIER!$A$1))+((COUNTIF(CALENDRIER!BK$8:BK$373,CALENDRIER!$B$1))/2)","v":0},{"$f":"(COUNTIF(CALENDRIER!BL$8:BL$373,CALENDRIER!$A$1))+((COUNTIF(CALENDRIER!BL$8:BL$373,CALENDRIER!$B$1))/2)","v":0},{"$f":"(COUNTIF(CALENDRIER!BM$8:BM$373,CALENDRIER!$A$1))+((COUNTIF(CALENDRIER!BM$8:BM$373,CALENDRIER!$B$1))/2)","v":0},{"$f":"(COUNTIF(CALENDRIER!BN$8:BN$373,CALENDRIER!$A$1))+((COUNTIF(CALENDRIER!BN$8:BN$373,CALENDRIER!$B$1))/2)","v":0},{"$f":"(COUNTIF(CALENDRIER!BO$8:BO$373,CALENDRIER!$A$1))+((COUNTIF(CALENDRIER!BO$8:BO$373,CALENDRIER!$B$1))/2)","v":0},{"$f":"(COUNTIF(CALENDRIER!BP$8:BP$373,CALENDRIER!$A$1))+((COUNTIF(CALENDRIER!BP$8:BP$373,CALENDRIER!$B$1))/2)","v":0},{"$f":"(COUNTIF(CALENDRIER!BQ$8:BQ$373,CALENDRIER!$A$1))+((COUNTIF(CALENDRIER!BQ$8:BQ$373,CALENDRIER!$B$1))/2)","v":0},{"$f":"(COUNTIF(CALENDRIER!BR$8:BR$373,CALENDRIER!$A$1))+((COUNTIF(CALENDRIER!BR$8:BR$373,CALENDRIER!$B$1))/2)","v":0},{"$f":"(COUNTIF(CALENDRIER!BS$8:BS$373,CALENDRIER!$A$1))+((COUNTIF(CALENDRIER!BS$8:BS$373,CALENDRIER!$B$1))/2)","v":0},{"$f":"(COUNTIF(CALENDRIER!BT$8:BT$373,CALENDRIER!$A$1))+((COUNTIF(CALENDRIER!BT$8:BT$373,CALENDRIER!$B$1))/2)","v":0},{"$f":"(COUNTIF(CALENDRIER!BU$8:BU$373,CALENDRIER!$A$1))+((COUNTIF(CALENDRIER!BU$8:BU$373,CALENDRIER!$B$1))/2)","v":0},{"$f":"(COUNTIF(CALENDRIER!BV$8:BV$373,CALENDRIER!$A$1))+((COUNTIF(CALENDRIER!BV$8:BV$373,CALENDRIER!$B$1))/2)","v":0},{"$f":"(COUNTIF(CALENDRIER!BW$8:BW$373,CALENDRIER!$A$1))+((COUNTIF(CALENDRIER!BW$8:BW$373,CALENDRIER!$B$1))/2)","v":0},{"$f":"(COUNTIF(CALENDRIER!BX$8:BX$373,CALENDRIER!$A$1))+((COUNTIF(CALENDRIER!BX$8:BX$373,CALENDRIER!$B$1))/2)","v":0},{"$f":"(COUNTIF(CALENDRIER!BY$8:BY$373,CALENDRIER!$A$1))+((COUNTIF(CALENDRIER!BY$8:BY$373,CALENDRIER!$B$1))/2)","v":0},{"$f":"(COUNTIF(CALENDRIER!BZ$8:BZ$373,CALENDRIER!$A$1))+((COUNTIF(CALENDRIER!BZ$8:BZ$373,CALENDRIER!$B$1))/2)","v":0},{"$f":"(COUNTIF(CALENDRIER!CA$8:CA$373,CALENDRIER!$A$1))+((COUNTIF(CALENDRIER!CA$8:CA$373,CALENDRIER!$B$1))/2)","v":0},{"$f":"(COUNTIF(CALENDRIER!CB$8:CB$373,CALENDRIER!$A$1))+((COUNTIF(CALENDRIER!CB$8:CB$373,CALENDRIER!$B$1))/2)","v":0},{"$f":"(COUNTIF(CALENDRIER!CC$8:CC$373,CALENDRIER!$A$1))+((COUNTIF(CALENDRIER!CC$8:CC$373,CALENDRIER!$B$1))/2)","v":0},{"$f":"(COUNTIF(CALENDRIER!CD$8:CD$373,CALENDRIER!$A$1))+((COUNTIF(CALENDRIER!CD$8:CD$373,CALENDRIER!$B$1))/2)","v":0},{"$f":"(COUNTIF(CALENDRIER!CE$8:CE$373,CALENDRIER!$A$1))+((COUNTIF(CALENDRIER!CE$8:CE$373,CALENDRIER!$B$1))/2)","v":0},{"$f":"(COUNTIF(CALENDRIER!CF$8:CF$373,CALENDRIER!$A$1))+((COUNTIF(CALENDRIER!CF$8:CF$373,CALENDRIER!$B$1))/2)","v":0},{"$f":"(COUNTIF(CALENDRIER!CG$8:CG$373,CALENDRIER!$A$1))+((COUNTIF(CALENDRIER!CG$8:CG$373,CALENDRIER!$B$1))/2)","v":0},{"$f":"(COUNTIF(CALENDRIER!CH$8:CH$373,CALENDRIER!$A$1))+((COUNTIF(CALENDRIER!CH$8:CH$373,CALENDRIER!$B$1))/2)","v":0},{"$f":"(COUNTIF(CALENDRIER!CI$8:CI$373,CALENDRIER!$A$1))+((COUNTIF(CALENDRIER!CI$8:CI$373,CALENDRIER!$B$1))/2)","v":0},{"$f":"(COUNTIF(CALENDRIER!CJ$8:CJ$373,CALENDRIER!$A$1))+((COUNTIF(CALENDRIER!CJ$8:CJ$373,CALENDRIER!$B$1))/2)","v":0},{"$f":"(COUNTIF(CALENDRIER!CK$8:CK$373,CALENDRIER!$A$1))+((COUNTIF(CALENDRIER!CK$8:CK$373,CALENDRIER!$B$1))/2)","v":0},{"$f":"(COUNTIF(CALENDRIER!CL$8:CL$373,CALENDRIER!$A$1))+((COUNTIF(CALENDRIER!CL$8:CL$373,CALENDRIER!$B$1))/2)","v":0},{"$f":"(COUNTIF(CALENDRIER!CM$8:CM$373,CALENDRIER!$A$1))+((COUNTIF(CALENDRIER!CM$8:CM$373,CALENDRIER!$B$1))/2)","v":0},{"$f":"(COUNTIF(CALENDRIER!CN$8:CN$373,CALENDRIER!$A$1))+((COUNTIF(CALENDRIER!CN$8:CN$373,CALENDRIER!$B$1))/2)","v":0},{"$f":"(COUNTIF(CALENDRIER!CO$8:CO$373,CALENDRIER!$A$1))+((COUNTIF(CALENDRIER!CO$8:CO$373,CALENDRIER!$B$1))/2)","v":0},{"$f":"(COUNTIF(CALENDRIER!CP$8:CP$373,CALENDRIER!$A$1))+((COUNTIF(CALENDRIER!CP$8:CP$373,CALENDRIER!$B$1))/2)","v":0},{"$f":"(COUNTIF(CALENDRIER!CQ$8:CQ$373,CALENDRIER!$A$1))+((COUNTIF(CALENDRIER!CQ$8:CQ$373,CALENDRIER!$B$1))/2)","v":0},{"$f":"(COUNTIF(CALENDRIER!CR$8:CR$373,CALENDRIER!$A$1))+((COUNTIF(CALENDRIER!CR$8:CR$373,CALENDRIER!$B$1))/2)","v":0},{"$f":"(COUNTIF(CALENDRIER!CS$8:CS$373,CALENDRIER!$A$1))+((COUNTIF(CALENDRIER!CS$8:CS$373,CALENDRIER!$B$1))/2)","v":0},{"$f":"(COUNTIF(CALENDRIER!CT$8:CT$373,CALENDRIER!$A$1))+((COUNTIF(CALENDRIER!CT$8:CT$373,CALENDRIER!$B$1))/2)","v":0},{"$f":"(COUNTIF(CALENDRIER!CU$8:CU$373,CALENDRIER!$A$1))+((COUNTIF(CALENDRIER!CU$8:CU$373,CALENDRIER!$B$1))/2)","v":0},{"$f":"(COUNTIF(CALENDRIER!CV$8:CV$373,CALENDRIER!$A$1))+((COUNTIF(CALENDRIER!CV$8:CV$373,CALENDRIER!$B$1))/2)","v":0},{"$f":"(COUNTIF(CALENDRIER!CW$8:CW$373,CALENDRIER!$A$1))+((COUNTIF(CALENDRIER!CW$8:CW$373,CALENDRIER!$B$1))/2)","v":0},{"$f":"(COUNTIF(CALENDRIER!CX$8:CX$373,CALENDRIER!$A$1))+((COUNTIF(CALENDRIER!CX$8:CX$373,CALENDRIER!$B$1))/2)","v":0},{"$f":"(COUNTIF(CALENDRIER!CY$8:CY$373,CALENDRIER!$A$1))+((COUNTIF(CALENDRIER!CY$8:CY$373,CALENDRIER!$B$1))/2)","v":0},{"$f":"(COUNTIF(CALENDRIER!CZ$8:CZ$373,CALENDRIER!$A$1))+((COUNTIF(CALENDRIER!CZ$8:CZ$373,CALENDRIER!$B$1))/2)","v":0},{"$f":"(COUNTIF(CALENDRIER!DA$8:DA$373,CALENDRIER!$A$1))+((COUNTIF(CALENDRIER!DA$8:DA$373,CALENDRIER!$B$1))/2)","v":0},{"$f":"(COUNTIF(CALENDRIER!DB$8:DB$373,CALENDRIER!$A$1))+((COUNTIF(CALENDRIER!DB$8:DB$373,CALENDRIER!$B$1))/2)","v":0},{"$f":"(COUNTIF(CALENDRIER!DC$8:DC$373,CALENDRIER!$A$1))+((COUNTIF(CALENDRIER!DC$8:DC$373,CALENDRIER!$B$1))/2)","v":0},{"$f":"(COUNTIF(CALENDRIER!DD$8:DD$373,CALENDRIER!$A$1))+((COUNTIF(CALENDRIER!DD$8:DD$373,CALENDRIER!$B$1))/2)","v":0},{"$f":"(COUNTIF(CALENDRIER!DE$8:DE$373,CALENDRIER!$A$1))+((COUNTIF(CALENDRIER!DE$8:DE$373,CALENDRIER!$B$1))/2)","v":0},{"$f":"(COUNTIF(CALENDRIER!DF$8:DF$373,CALENDRIER!$A$1))+((COUNTIF(CALENDRIER!DF$8:DF$373,CALENDRIER!$B$1))/2)","v":0},{"$f":"(COUNTIF(CALENDRIER!DG$8:DG$373,CALENDRIER!$A$1))+((COUNTIF(CALENDRIER!DG$8:DG$373,CALENDRIER!$B$1))/2)","v":0},{"$f":"(COUNTIF(CALENDRIER!DH$8:DH$373,CALENDRIER!$A$1))+((COUNTIF(CALENDRIER!DH$8:DH$373,CALENDRIER!$B$1))/2)","v":0},{"$f":"(COUNTIF(CALENDRIER!DI$8:DI$373,CALENDRIER!$A$1))+((COUNTIF(CALENDRIER!DI$8:DI$373,CALENDRIER!$B$1))/2)","v":0},{"$f":"(COUNTIF(CALENDRIER!DJ$8:DJ$373,CALENDRIER!$A$1))+((COUNTIF(CALENDRIER!DJ$8:DJ$373,CALENDRIER!$B$1))/2)","v":0},{"$f":"(COUNTIF(CALENDRIER!DK$8:DK$373,CALENDRIER!$A$1))+((COUNTIF(CALENDRIER!DK$8:DK$373,CALENDRIER!$B$1))/2)","v":0},{"$f":"(COUNTIF(CALENDRIER!DL$8:DL$373,CALENDRIER!$A$1))+((COUNTIF(CALENDRIER!DL$8:DL$373,CALENDRIER!$B$1))/2)","v":0},{"$f":"(COUNTIF(CALENDRIER!DM$8:DM$373,CALENDRIER!$A$1))+((COUNTIF(CALENDRIER!DM$8:DM$373,CALENDRIER!$B$1))/2)","v":0},{"$f":"(COUNTIF(CALENDRIER!DN$8:DN$373,CALENDRIER!$A$1))+((COUNTIF(CALENDRIER!DN$8:DN$373,CALENDRIER!$B$1))/2)","v":0},{"$f":"(COUNTIF(CALENDRIER!DO$8:DO$373,CALENDRIER!$A$1))+((COUNTIF(CALENDRIER!DO$8:DO$373,CALENDRIER!$B$1))/2)","v":0},{"$f":"(COUNTIF(CALENDRIER!DP$8:DP$373,CALENDRIER!$A$1))+((COUNTIF(CALENDRIER!DP$8:DP$373,CALENDRIER!$B$1))/2)","v":0},{"$f":"(COUNTIF(CALENDRIER!DQ$8:DQ$373,CALENDRIER!$A$1))+((COUNTIF(CALENDRIER!DQ$8:DQ$373,CALENDRIER!$B$1))/2)","v":0},{"$f":"(COUNTIF(CALENDRIER!DR$8:DR$373,CALENDRIER!$A$1))+((COUNTIF(CALENDRIER!DR$8:DR$373,CALENDRIER!$B$1))/2)","v":0},{"$f":"(COUNTIF(CALENDRIER!DS$8:DS$373,CALENDRIER!$A$1))+((COUNTIF(CALENDRIER!DS$8:DS$373,CALENDRIER!$B$1))/2)","v":0},{"$f":"(COUNTIF(CALENDRIER!DT$8:DT$373,CALENDRIER!$A$1))+((COUNTIF(CALENDRIER!DT$8:DT$373,CALENDRIER!$B$1))/2)","v":0},{"$f":"(COUNTIF(CALENDRIER!DU$8:DU$373,CALENDRIER!$A$1))+((COUNTIF(CALENDRIER!DU$8:DU$373,CALENDRIER!$B$1))/2)","v":0},{"$f":"(COUNTIF(CALENDRIER!DV$8:DV$373,CALENDRIER!$A$1))+((COUNTIF(CALENDRIER!DV$8:DV$373,CALENDRIER!$B$1))/2)","v":0},{"$f":"(COUNTIF(CALENDRIER!DW$8:DW$373,CALENDRIER!$A$1))+((COUNTIF(CALENDRIER!DW$8:DW$373,CALENDRIER!$B$1))/2)","v":0},{"$f":"(COUNTIF(CALENDRIER!DX$8:DX$373,CALENDRIER!$A$1))+((COUNTIF(CALENDRIER!DX$8:DX$373,CALENDRIER!$B$1))/2)","v":0},{"$f":"(COUNTIF(CALENDRIER!DY$8:DY$373,CALENDRIER!$A$1))+((COUNTIF(CALENDRIER!DY$8:DY$373,CALENDRIER!$B$1))/2)","v":0},{"$f":"(COUNTIF(CALENDRIER!DZ$8:DZ$373,CALENDRIER!$A$1))+((COUNTIF(CALENDRIER!DZ$8:DZ$373,CALENDRIER!$B$1))/2)","v":0},{"$f":"(COUNTIF(CALENDRIER!EA$8:EA$373,CALENDRIER!$A$1))+((COUNTIF(CALENDRIER!EA$8:EA$373,CALENDRIER!$B$1))/2)","v":0},{"$f":"(COUNTIF(CALENDRIER!EB$8:EB$373,CALENDRIER!$A$1))+((COUNTIF(CALENDRIER!EB$8:EB$373,CALENDRIER!$B$1))/2)","v":0},{"$f":"(COUNTIF(CALENDRIER!EC$8:EC$373,CALENDRIER!$A$1))+((COUNTIF(CALENDRIER!EC$8:EC$373,CALENDRIER!$B$1))/2)","v":0},{"$f":"(COUNTIF(CALENDRIER!ED$8:ED$373,CALENDRIER!$A$1))+((COUNTIF(CALENDRIER!ED$8:ED$373,CALENDRIER!$B$1))/2)","v":0},{"$f":"(COUNTIF(CALENDRIER!EE$8:EE$373,CALENDRIER!$A$1))+((COUNTIF(CALENDRIER!EE$8:EE$373,CALENDRIER!$B$1))/2)","v":0},{"$f":"(COUNTIF(CALENDRIER!EF$8:EF$373,CALENDRIER!$A$1))+((COUNTIF(CALENDRIER!EF$8:EF$373,CALENDRIER!$B$1))/2)","v":0},{"$f":"(COUNTIF(CALENDRIER!EG$8:EG$373,CALENDRIER!$A$1))+((COUNTIF(CALENDRIER!EG$8:EG$373,CALENDRIER!$B$1))/2)","v":0},{"$f":"(COUNTIF(CALENDRIER!EH$8:EH$373,CALENDRIER!$A$1))+((COUNTIF(CALENDRIER!EH$8:EH$373,CALENDRIER!$B$1))/2)","v":0},{"$f":"(COUNTIF(CALENDRIER!EI$8:EI$373,CALENDRIER!$A$1))+((COUNTIF(CALENDRIER!EI$8:EI$373,CALENDRIER!$B$1))/2)","v":0},{"$f":"(COUNTIF(CALENDRIER!EJ$8:EJ$373,CALENDRIER!$A$1))+((COUNTIF(CALENDRIER!EJ$8:EJ$373,CALENDRIER!$B$1))/2)","v":0},{"$f":"(COUNTIF(CALENDRIER!EK$8:EK$373,CALENDRIER!$A$1))+((COUNTIF(CALENDRIER!EK$8:EK$373,CALENDRIER!$B$1))/2)","v":0},{"$f":"(COUNTIF(CALENDRIER!EL$8:EL$373,CALENDRIER!$A$1))+((COUNTIF(CALENDRIER!EL$8:EL$373,CALENDRIER!$B$1))/2)","v":0},{"$f":"(COUNTIF(CALENDRIER!EM$8:EM$373,CALENDRIER!$A$1))+((COUNTIF(CALENDRIER!EM$8:EM$373,CALENDRIER!$B$1))/2)","v":0},{"$f":"(COUNTIF(CALENDRIER!EN$8:EN$373,CALENDRIER!$A$1))+((COUNTIF(CALENDRIER!EN$8:EN$373,CALENDRIER!$B$1))/2)","v":0},{"$f":"(COUNTIF(CALENDRIER!EO$8:EO$373,CALENDRIER!$A$1))+((COUNTIF(CALENDRIER!EO$8:EO$373,CALENDRIER!$B$1))/2)","v":0},{"$f":"(COUNTIF(CALENDRIER!EP$8:EP$373,CALENDRIER!$A$1))+((COUNTIF(CALENDRIER!EP$8:EP$373,CALENDRIER!$B$1))/2)","v":0},{"$f":"(COUNTIF(CALENDRIER!EQ$8:EQ$373,CALENDRIER!$A$1))+((COUNTIF(CALENDRIER!EQ$8:EQ$373,CALENDRIER!$B$1))/2)","v":0},{"$f":"(COUNTIF(CALENDRIER!ER$8:ER$373,CALENDRIER!$A$1))+((COUNTIF(CALENDRIER!ER$8:ER$373,CALENDRIER!$B$1))/2)","v":0},{"$f":"(COUNTIF(CALENDRIER!ES$8:ES$373,CALENDRIER!$A$1))+((COUNTIF(CALENDRIER!ES$8:ES$373,CALENDRIER!$B$1))/2)","v":0},{"$f":"(COUNTIF(CALENDRIER!ET$8:ET$373,CALENDRIER!$A$1))+((COUNTIF(CALENDRIER!ET$8:ET$373,CALENDRIER!$B$1))/2)","v":0},{"$f":"(COUNTIF(CALENDRIER!EU$8:EU$373,CALENDRIER!$A$1))+((COUNTIF(CALENDRIER!EU$8:EU$373,CALENDRIER!$B$1))/2)","v":0},{"$f":"(COUNTIF(CALENDRIER!EV$8:EV$373,CALENDRIER!$A$1))+((COUNTIF(CALENDRIER!EV$8:EV$373,CALENDRIER!$B$1))/2)","v":0},{"$f":"(COUNTIF(CALENDRIER!EW$8:EW$373,CALENDRIER!$A$1))+((COUNTIF(CALENDRIER!EW$8:EW$373,CALENDRIER!$B$1))/2)","v":0},{"$f":"(COUNTIF(CALENDRIER!EX$8:EX$373,CALENDRIER!$A$1))+((COUNTIF(CALENDRIER!EX$8:EX$373,CALENDRIER!$B$1))/2)","v":0},{"$f":"(COUNTIF(CALENDRIER!EY$8:EY$373,CALENDRIER!$A$1))+((COUNTIF(CALENDRIER!EY$8:EY$373,CALENDRIER!$B$1))/2)","v":0},{"$f":"(COUNTIF(CALENDRIER!EZ$8:EZ$373,CALENDRIER!$A$1))+((COUNTIF(CALENDRIER!EZ$8:EZ$373,CALENDRIER!$B$1))/2)","v":0},{"$f":"(COUNTIF(CALENDRIER!FA$8:FA$373,CALENDRIER!$A$1))+((COUNTIF(CALENDRIER!FA$8:FA$373,CALENDRIER!$B$1))/2)","v":0},{"$f":"(COUNTIF(CALENDRIER!FB$8:FB$373,CALENDRIER!$A$1))+((COUNTIF(CALENDRIER!FB$8:FB$373,CALENDRIER!$B$1))/2)","v":0},{"$f":"(COUNTIF(CALENDRIER!FC$8:FC$373,CALENDRIER!$A$1))+((COUNTIF(CALENDRIER!FC$8:FC$373,CALENDRIER!$B$1))/2)","v":0},{"$f":"(COUNTIF(CALENDRIER!FD$8:FD$373,CALENDRIER!$A$1))+((COUNTIF(CALENDRIER!FD$8:FD$373,CALENDRIER!$B$1))/2)","v":0},{"$f":"(COUNTIF(CALENDRIER!FE$8:FE$373,CALENDRIER!$A$1))+((COUNTIF(CALENDRIER!FE$8:FE$373,CALENDRIER!$B$1))/2)","v":0},{"$f":"(COUNTIF(CALENDRIER!FF$8:FF$373,CALENDRIER!$A$1))+((COUNTIF(CALENDRIER!FF$8:FF$373,CALENDRIER!$B$1))/2)","v":0},{"$f":"(COUNTIF(CALENDRIER!FG$8:FG$373,CALENDRIER!$A$1))+((COUNTIF(CALENDRIER!FG$8:FG$373,CALENDRIER!$B$1))/2)","v":0},{"$f":"(COUNTIF(CALENDRIER!FH$8:FH$373,CALENDRIER!$A$1))+((COUNTIF(CALENDRIER!FH$8:FH$373,CALENDRIER!$B$1))/2)","v":0},{"$f":"(COUNTIF(CALENDRIER!FI$8:FI$373,CALENDRIER!$A$1))+((COUNTIF(CALENDRIER!FI$8:FI$373,CALENDRIER!$B$1))/2)","v":0},{"$f":"(COUNTIF(CALENDRIER!FJ$8:FJ$373,CALENDRIER!$A$1))+((COUNTIF(CALENDRIER!FJ$8:FJ$373,CALENDRIER!$B$1))/2)","v":0},{"$f":"(COUNTIF(CALENDRIER!FK$8:FK$373,CALENDRIER!$A$1))+((COUNTIF(CALENDRIER!FK$8:FK$373,CALENDRIER!$B$1))/2)","v":0},{"$f":"(COUNTIF(CALENDRIER!FL$8:FL$373,CALENDRIER!$A$1))+((COUNTIF(CALENDRIER!FL$8:FL$373,CALENDRIER!$B$1))/2)","v":0},{"$f":"(COUNTIF(CALENDRIER!FM$8:FM$373,CALENDRIER!$A$1))+((COUNTIF(CALENDRIER!FM$8:FM$373,CALENDRIER!$B$1))/2)","v":0},{"$f":"(COUNTIF(CALENDRIER!FN$8:FN$373,CALENDRIER!$A$1))+((COUNTIF(CALENDRIER!FN$8:FN$373,CALENDRIER!$B$1))/2)","v":0},{"$f":"(COUNTIF(CALENDRIER!FO$8:FO$373,CALENDRIER!$A$1))+((COUNTIF(CALENDRIER!FO$8:FO$373,CALENDRIER!$B$1))/2)","v":0},{"$f":"(COUNTIF(CALENDRIER!FP$8:FP$373,CALENDRIER!$A$1))+((COUNTIF(CALENDRIER!FP$8:FP$373,CALENDRIER!$B$1))/2)","v":0},{"$f":"(COUNTIF(CALENDRIER!FQ$8:FQ$373,CALENDRIER!$A$1))+((COUNTIF(CALENDRIER!FQ$8:FQ$373,CALENDRIER!$B$1))/2)","v":0},{"$f":"(COUNTIF(CALENDRIER!FR$8:FR$373,CALENDRIER!$A$1))+((COUNTIF(CALENDRIER!FR$8:FR$373,CALENDRIER!$B$1))/2)","v":0},{"$f":"(COUNTIF(CALENDRIER!FS$8:FS$373,CALENDRIER!$A$1))+((COUNTIF(CALENDRIER!FS$8:FS$373,CALENDRIER!$B$1))/2)","v":0},{"$f":"(COUNTIF(CALENDRIER!FT$8:FT$373,CALENDRIER!$A$1))+((COUNTIF(CALENDRIER!FT$8:FT$373,CALENDRIER!$B$1))/2)","v":0},{"$f":"(COUNTIF(CALENDRIER!FU$8:FU$373,CALENDRIER!$A$1))+((COUNTIF(CALENDRIER!FU$8:FU$373,CALENDRIER!$B$1))/2)","v":0},{"$f":"(COUNTIF(CALENDRIER!FV$8:FV$373,CALENDRIER!$A$1))+((COUNTIF(CALENDRIER!FV$8:FV$373,CALENDRIER!$B$1))/2)","v":0},{"$f":"(COUNTIF(CALENDRIER!FW$8:FW$373,CALENDRIER!$A$1))+((COUNTIF(CALENDRIER!FW$8:FW$373,CALENDRIER!$B$1))/2)","v":0},{"$f":"(COUNTIF(CALENDRIER!FX$8:FX$373,CALENDRIER!$A$1))+((COUNTIF(CALENDRIER!FX$8:FX$373,CALENDRIER!$B$1))/2)","v":0},{"$f":"(COUNTIF(CALENDRIER!FY$8:FY$373,CALENDRIER!$A$1))+((COUNTIF(CALENDRIER!FY$8:FY$373,CALENDRIER!$B$1))/2)","v":0},{"$f":"(COUNTIF(CALENDRIER!FZ$8:FZ$373,CALENDRIER!$A$1))+((COUNTIF(CALENDRIER!FZ$8:FZ$373,CALENDRIER!$B$1))/2)","v":0},{"$f":"(COUNTIF(CALENDRIER!GA$8:GA$373,CALENDRIER!$A$1))+((COUNTIF(CALENDRIER!GA$8:GA$373,CALENDRIER!$B$1))/2)","v":0},{"$f":"(COUNTIF(CALENDRIER!GB$8:GB$373,CALENDRIER!$A$1))+((COUNTIF(CALENDRIER!GB$8:GB$373,CALENDRIER!$B$1))/2)","v":0},{"$f":"(COUNTIF(CALENDRIER!GC$8:GC$373,CALENDRIER!$A$1))+((COUNTIF(CALENDRIER!GC$8:GC$373,CALENDRIER!$B$1))/2)","v":0},{"$f":"(COUNTIF(CALENDRIER!GD$8:GD$373,CALENDRIER!$A$1))+((COUNTIF(CALENDRIER!GD$8:GD$373,CALENDRIER!$B$1))/2)","v":0},{"$f":"(COUNTIF(CALENDRIER!GE$8:GE$373,CALENDRIER!$A$1))+((COUNTIF(CALENDRIER!GE$8:GE$373,CALENDRIER!$B$1))/2)","v":0},{"$f":"(COUNTIF(CALENDRIER!GF$8:GF$373,CALENDRIER!$A$1))+((COUNTIF(CALENDRIER!GF$8:GF$373,CALENDRIER!$B$1))/2)","v":0},{"$f":"(COUNTIF(CALENDRIER!GG$8:GG$373,CALENDRIER!$A$1))+((COUNTIF(CALENDRIER!GG$8:GG$373,CALENDRIER!$B$1))/2)","v":0},{"$f":"(COUNTIF(CALENDRIER!GH$8:GH$373,CALENDRIER!$A$1))+((COUNTIF(CALENDRIER!GH$8:GH$373,CALENDRIER!$B$1))/2)","v":0},{"$f":"(COUNTIF(CALENDRIER!GI$8:GI$373,CALENDRIER!$A$1))+((COUNTIF(CALENDRIER!GI$8:GI$373,CALENDRIER!$B$1))/2)","v":0},{"$f":"(COUNTIF(CALENDRIER!GJ$8:GJ$373,CALENDRIER!$A$1))+((COUNTIF(CALENDRIER!GJ$8:GJ$373,CALENDRIER!$B$1))/2)","v":0},{"$f":"(COUNTIF(CALENDRIER!GK$8:GK$373,CALENDRIER!$A$1))+((COUNTIF(CALENDRIER!GK$8:GK$373,CALENDRIER!$B$1))/2)","v":0},{"$f":"(COUNTIF(CALENDRIER!GL$8:GL$373,CALENDRIER!$A$1))+((COUNTIF(CALENDRIER!GL$8:GL$373,CALENDRIER!$B$1))/2)","v":0},{"$f":"(COUNTIF(CALENDRIER!GM$8:GM$373,CALENDRIER!$A$1))+((COUNTIF(CALENDRIER!GM$8:GM$373,CALENDRIER!$B$1))/2)","v":0},{"$f":"(COUNTIF(CALENDRIER!GN$8:GN$373,CALENDRIER!$A$1))+((COUNTIF(CALENDRIER!GN$8:GN$373,CALENDRIER!$B$1))/2)","v":0},{"$f":"(COUNTIF(CALENDRIER!GO$8:GO$373,CALENDRIER!$A$1))+((COUNTIF(CALENDRIER!GO$8:GO$373,CALENDRIER!$B$1))/2)","v":0},{"$f":"(COUNTIF(CALENDRIER!GP$8:GP$373,CALENDRIER!$A$1))+((COUNTIF(CALENDRIER!GP$8:GP$373,CALENDRIER!$B$1))/2)","v":0},{"$f":"(COUNTIF(CALENDRIER!GQ$8:GQ$373,CALENDRIER!$A$1))+((COUNTIF(CALENDRIER!GQ$8:GQ$373,CALENDRIER!$B$1))/2)","v":0},{"$f":"(COUNTIF(CALENDRIER!GR$8:GR$373,CALENDRIER!$A$1))+((COUNTIF(CALENDRIER!GR$8:GR$373,CALENDRIER!$B$1))/2)","v":0}]
[null,{"$f":"\"Solde \"&CALENDRIER!$A$1&\" \"&A14&\" : \"","v":"Solde CP 2015-2016 : "},{"$f":"C15-C16","v":0},{"$f":"D15-D16","v":0},0,0,0,0,0,0,0,0,0,0,0,0,0,0,0,0,0,0,0,0,0,0,0,0,0,0,0,0,0,0,0,0,0,0,0,0,0,0,0,0,0,0,0,0,0,0,0,0,0,0,0,0,0,0,0,0,0,0,0,0,0,0,0,{"$f":"BP15-BP16","v":0},0,0,0,0,0,0,0,0,0,0,0,0,0,0,0,0,0,0,0,0,0,0,0,0,0,0,0,0,0,0,0,0,0,0,0,0,0,0,0,0,0,0,0,0,0,0,0,0,0,0,0,0,0,0,0,0,0,0,0,0,0,0,0,{"$f":"EB15-EB16","v":0},0,0,0,0,0,0,0,0,0,0,0,0,0,0,0,0,0,0,0,0,0,0,0,0,0,0,0,0,0,0,0,0,0,0,0,0,0,0,0,0,0,0,0,0,0,0,0,0,0,0,0,0,0,0,0,0,0,0,0,0,0,0,0,{"$f":"GN15-GN16","v":0},0,0,0,0]
[]
["2016-2017",{"$f":"CALENDRIER!$A$1","v":"CP"}]
[null,"SOLDE DEPART"]
[null,{"$f":"CALENDRIER!$A$1&\" PRIS\"","v":"CP PRIS"},{"$f":"(COUNTIF(CALENDRIER!C$374:C$738,CALENDRIER!$A$1))+((COUNTIF(CALENDRIER!C$374:C$738,CALENDRIER!$B$1))/2)","v":0},{"$f":"(COUNTIF(CALENDRIER!D$374:D$738,CALENDRIER!$A$1))+((COUNTIF(CALENDRIER!D$374:D$738,CALENDRIER!$B$1))/2)","v":0},{"$f":"(COUNTIF(CALENDRIER!E$374:E$738,CALENDRIER!$A$1))+((COUNTIF(CALENDRIER!E$374:E$738,CALENDRIER!$B$1))/2)","v":0},{"$f":"(COUNTIF(CALENDRIER!F$374:F$738,CALENDRIER!$A$1))+((COUNTIF(CALENDRIER!F$374:F$738,CALENDRIER!$B$1))/2)","v":0},{"$f":"(COUNTIF(CALENDRIER!G$374:G$738,CALENDRIER!$A$1))+((COUNTIF(CALENDRIER!G$374:G$738,CALENDRIER!$B$1))/2)","v":0},{"$f":"(COUNTIF(CALENDRIER!H$374:H$738,CALENDRIER!$A$1))+((COUNTIF(CALENDRIER!H$374:H$738,CALENDRIER!$B$1))/2)","v":0},{"$f":"(COUNTIF(CALENDRIER!I$374:I$738,CALENDRIER!$A$1))+((COUNTIF(CALENDRIER!I$374:I$738,CALENDRIER!$B$1))/2)","v":0},{"$f":"(COUNTIF(CALENDRIER!J$374:J$738,CALENDRIER!$A$1))+((COUNTIF(CALENDRIER!J$374:J$738,CALENDRIER!$B$1))/2)","v":0},{"$f":"(COUNTIF(CALENDRIER!K$374:K$738,CALENDRIER!$A$1))+((COUNTIF(CALENDRIER!K$374:K$738,CALENDRIER!$B$1))/2)","v":0},{"$f":"(COUNTIF(CALENDRIER!L$374:L$738,CALENDRIER!$A$1))+((COUNTIF(CALENDRIER!L$374:L$738,CALENDRIER!$B$1))/2)","v":0},{"$f":"(COUNTIF(CALENDRIER!M$374:M$738,CALENDRIER!$A$1))+((COUNTIF(CALENDRIER!M$374:M$738,CALENDRIER!$B$1))/2)","v":0},{"$f":"(COUNTIF(CALENDRIER!N$374:N$738,CALENDRIER!$A$1))+((COUNTIF(CALENDRIER!N$374:N$738,CALENDRIER!$B$1))/2)","v":0},{"$f":"(COUNTIF(CALENDRIER!O$374:O$738,CALENDRIER!$A$1))+((COUNTIF(CALENDRIER!O$374:O$738,CALENDRIER!$B$1))/2)","v":0},{"$f":"(COUNTIF(CALENDRIER!P$374:P$738,CALENDRIER!$A$1))+((COUNTIF(CALENDRIER!P$374:P$738,CALENDRIER!$B$1))/2)","v":0},{"$f":"(COUNTIF(CALENDRIER!Q$374:Q$738,CALENDRIER!$A$1))+((COUNTIF(CALENDRIER!Q$374:Q$738,CALENDRIER!$B$1))/2)","v":0},{"$f":"(COUNTIF(CALENDRIER!R$374:R$738,CALENDRIER!$A$1))+((COUNTIF(CALENDRIER!R$374:R$738,CALENDRIER!$B$1))/2)","v":0},{"$f":"(COUNTIF(CALENDRIER!S$374:S$738,CALENDRIER!$A$1))+((COUNTIF(CALENDRIER!S$374:S$738,CALENDRIER!$B$1))/2)","v":0},{"$f":"(COUNTIF(CALENDRIER!T$374:T$738,CALENDRIER!$A$1))+((COUNTIF(CALENDRIER!T$374:T$738,CALENDRIER!$B$1))/2)","v":0},{"$f":"(COUNTIF(CALENDRIER!U$374:U$738,CALENDRIER!$A$1))+((COUNTIF(CALENDRIER!U$374:U$738,CALENDRIER!$B$1))/2)","v":0},{"$f":"(COUNTIF(CALENDRIER!V$374:V$738,CALENDRIER!$A$1))+((COUNTIF(CALENDRIER!V$374:V$738,CALENDRIER!$B$1))/2)","v":0},{"$f":"(COUNTIF(CALENDRIER!W$374:W$738,CALENDRIER!$A$1))+((COUNTIF(CALENDRIER!W$374:W$738,CALENDRIER!$B$1))/2)","v":0},{"$f":"(COUNTIF(CALENDRIER!X$374:X$738,CALENDRIER!$A$1))+((COUNTIF(CALENDRIER!X$374:X$738,CALENDRIER!$B$1))/2)","v":0},{"$f":"(COUNTIF(CALENDRIER!Y$374:Y$738,CALENDRIER!$A$1))+((COUNTIF(CALENDRIER!Y$374:Y$738,CALENDRIER!$B$1))/2)","v":0},{"$f":"(COUNTIF(CALENDRIER!Z$374:Z$738,CALENDRIER!$A$1))+((COUNTIF(CALENDRIER!Z$374:Z$738,CALENDRIER!$B$1))/2)","v":0},{"$f":"(COUNTIF(CALENDRIER!AA$374:AA$738,CALENDRIER!$A$1))+((COUNTIF(CALENDRIER!AA$374:AA$738,CALENDRIER!$B$1))/2)","v":0},{"$f":"(COUNTIF(CALENDRIER!AB$374:AB$738,CALENDRIER!$A$1))+((COUNTIF(CALENDRIER!AB$374:AB$738,CALENDRIER!$B$1))/2)","v":0},{"$f":"(COUNTIF(CALENDRIER!AC$374:AC$738,CALENDRIER!$A$1))+((COUNTIF(CALENDRIER!AC$374:AC$738,CALENDRIER!$B$1))/2)","v":0},{"$f":"(COUNTIF(CALENDRIER!AD$374:AD$738,CALENDRIER!$A$1))+((COUNTIF(CALENDRIER!AD$374:AD$738,CALENDRIER!$B$1))/2)","v":0},{"$f":"(COUNTIF(CALENDRIER!AE$374:AE$738,CALENDRIER!$A$1))+((COUNTIF(CALENDRIER!AE$374:AE$738,CALENDRIER!$B$1))/2)","v":0},{"$f":"(COUNTIF(CALENDRIER!AF$374:AF$738,CALENDRIER!$A$1))+((COUNTIF(CALENDRIER!AF$374:AF$738,CALENDRIER!$B$1))/2)","v":0},{"$f":"(COUNTIF(CALENDRIER!AG$374:AG$738,CALENDRIER!$A$1))+((COUNTIF(CALENDRIER!AG$374:AG$738,CALENDRIER!$B$1))/2)","v":0},{"$f":"(COUNTIF(CALENDRIER!AH$374:AH$738,CALENDRIER!$A$1))+((COUNTIF(CALENDRIER!AH$374:AH$738,CALENDRIER!$B$1))/2)","v":0},{"$f":"(COUNTIF(CALENDRIER!AI$374:AI$738,CALENDRIER!$A$1))+((COUNTIF(CALENDRIER!AI$374:AI$738,CALENDRIER!$B$1))/2)","v":0},{"$f":"(COUNTIF(CALENDRIER!AJ$374:AJ$738,CALENDRIER!$A$1))+((COUNTIF(CALENDRIER!AJ$374:AJ$738,CALENDRIER!$B$1))/2)","v":0},{"$f":"(COUNTIF(CALENDRIER!AK$374:AK$738,CALENDRIER!$A$1))+((COUNTIF(CALENDRIER!AK$374:AK$738,CALENDRIER!$B$1))/2)","v":0},{"$f":"(COUNTIF(CALENDRIER!AL$374:AL$738,CALENDRIER!$A$1))+((COUNTIF(CALENDRIER!AL$374:AL$738,CALENDRIER!$B$1))/2)","v":0},{"$f":"(COUNTIF(CALENDRIER!AM$374:AM$738,CALENDRIER!$A$1))+((COUNTIF(CALENDRIER!AM$374:AM$738,CALENDRIER!$B$1))/2)","v":0},{"$f":"(COUNTIF(CALENDRIER!AN$374:AN$738,CALENDRIER!$A$1))+((COUNTIF(CALENDRIER!AN$374:AN$738,CALENDRIER!$B$1))/2)","v":0},{"$f":"(COUNTIF(CALENDRIER!AO$374:AO$738,CALENDRIER!$A$1))+((COUNTIF(CALENDRIER!AO$374:AO$738,CALENDRIER!$B$1))/2)","v":0},{"$f":"(COUNTIF(CALENDRIER!AP$374:AP$738,CALENDRIER!$A$1))+((COUNTIF(CALENDRIER!AP$374:AP$738,CALENDRIER!$B$1))/2)","v":0},{"$f":"(COUNTIF(CALENDRIER!AQ$374:AQ$738,CALENDRIER!$A$1))+((COUNTIF(CALENDRIER!AQ$374:AQ$738,CALENDRIER!$B$1))/2)","v":0},{"$f":"(COUNTIF(CALENDRIER!AR$374:AR$738,CALENDRIER!$A$1))+((COUNTIF(CALENDRIER!AR$374:AR$738,CALENDRIER!$B$1))/2)","v":0},{"$f":"(COUNTIF(CALENDRIER!AS$374:AS$738,CALENDRIER!$A$1))+((COUNTIF(CALENDRIER!AS$374:AS$738,CALENDRIER!$B$1))/2)","v":0},{"$f":"(COUNTIF(CALENDRIER!AT$374:AT$738,CALENDRIER!$A$1))+((COUNTIF(CALENDRIER!AT$374:AT$738,CALENDRIER!$B$1))/2)","v":0},{"$f":"(COUNTIF(CALENDRIER!AU$374:AU$738,CALENDRIER!$A$1))+((COUNTIF(CALENDRIER!AU$374:AU$738,CALENDRIER!$B$1))/2)","v":0},{"$f":"(COUNTIF(CALENDRIER!AV$374:AV$738,CALENDRIER!$A$1))+((COUNTIF(CALENDRIER!AV$374:AV$738,CALENDRIER!$B$1))/2)","v":0},{"$f":"(COUNTIF(CALENDRIER!AW$374:AW$738,CALENDRIER!$A$1))+((COUNTIF(CALENDRIER!AW$374:AW$738,CALENDRIER!$B$1))/2)","v":0},{"$f":"(COUNTIF(CALENDRIER!AX$374:AX$738,CALENDRIER!$A$1))+((COUNTIF(CALENDRIER!AX$374:AX$738,CALENDRIER!$B$1))/2)","v":0},{"$f":"(COUNTIF(CALENDRIER!AY$374:AY$738,CALENDRIER!$A$1))+((COUNTIF(CALENDRIER!AY$374:AY$738,CALENDRIER!$B$1))/2)","v":0},{"$f":"(COUNTIF(CALENDRIER!AZ$374:AZ$738,CALENDRIER!$A$1))+((COUNTIF(CALENDRIER!AZ$374:AZ$738,CALENDRIER!$B$1))/2)","v":0},{"$f":"(COUNTIF(CALENDRIER!BA$374:BA$738,CALENDRIER!$A$1))+((COUNTIF(CALENDRIER!BA$374:BA$738,CALENDRIER!$B$1))/2)","v":0},{"$f":"(COUNTIF(CALENDRIER!BB$374:BB$738,CALENDRIER!$A$1))+((COUNTIF(CALENDRIER!BB$374:BB$738,CALENDRIER!$B$1))/2)","v":0},{"$f":"(COUNTIF(CALENDRIER!BC$374:BC$738,CALENDRIER!$A$1))+((COUNTIF(CALENDRIER!BC$374:BC$738,CALENDRIER!$B$1))/2)","v":0},{"$f":"(COUNTIF(CALENDRIER!BD$374:BD$738,CALENDRIER!$A$1))+((COUNTIF(CALENDRIER!BD$374:BD$738,CALENDRIER!$B$1))/2)","v":0},{"$f":"(COUNTIF(CALENDRIER!BE$374:BE$738,CALENDRIER!$A$1))+((COUNTIF(CALENDRIER!BE$374:BE$738,CALENDRIER!$B$1))/2)","v":0},{"$f":"(COUNTIF(CALENDRIER!BF$374:BF$738,CALENDRIER!$A$1))+((COUNTIF(CALENDRIER!BF$374:BF$738,CALENDRIER!$B$1))/2)","v":0},{"$f":"(COUNTIF(CALENDRIER!BG$374:BG$738,CALENDRIER!$A$1))+((COUNTIF(CALENDRIER!BG$374:BG$738,CALENDRIER!$B$1))/2)","v":0},{"$f":"(COUNTIF(CALENDRIER!BH$374:BH$738,CALENDRIER!$A$1))+((COUNTIF(CALENDRIER!BH$374:BH$738,CALENDRIER!$B$1))/2)","v":0},{"$f":"(COUNTIF(CALENDRIER!BI$374:BI$738,CALENDRIER!$A$1))+((COUNTIF(CALENDRIER!BI$374:BI$738,CALENDRIER!$B$1))/2)","v":0},{"$f":"(COUNTIF(CALENDRIER!BJ$374:BJ$738,CALENDRIER!$A$1))+((COUNTIF(CALENDRIER!BJ$374:BJ$738,CALENDRIER!$B$1))/2)","v":0},{"$f":"(COUNTIF(CALENDRIER!BK$374:BK$738,CALENDRIER!$A$1))+((COUNTIF(CALENDRIER!BK$374:BK$738,CALENDRIER!$B$1))/2)","v":0},{"$f":"(COUNTIF(CALENDRIER!BL$374:BL$738,CALENDRIER!$A$1))+((COUNTIF(CALENDRIER!BL$374:BL$738,CALENDRIER!$B$1))/2)","v":0},{"$f":"(COUNTIF(CALENDRIER!BM$374:BM$738,CALENDRIER!$A$1))+((COUNTIF(CALENDRIER!BM$374:BM$738,CALENDRIER!$B$1))/2)","v":0},{"$f":"(COUNTIF(CALENDRIER!BN$374:BN$738,CALENDRIER!$A$1))+((COUNTIF(CALENDRIER!BN$374:BN$738,CALENDRIER!$B$1))/2)","v":0},{"$f":"(COUNTIF(CALENDRIER!BO$374:BO$738,CALENDRIER!$A$1))+((COUNTIF(CALENDRIER!BO$374:BO$738,CALENDRIER!$B$1))/2)","v":0},{"$f":"(COUNTIF(CALENDRIER!BP$374:BP$738,CALENDRIER!$A$1))+((COUNTIF(CALENDRIER!BP$374:BP$738,CALENDRIER!$B$1))/2)","v":0},{"$f":"(COUNTIF(CALENDRIER!BQ$374:BQ$738,CALENDRIER!$A$1))+((COUNTIF(CALENDRIER!BQ$374:BQ$738,CALENDRIER!$B$1))/2)","v":0},{"$f":"(COUNTIF(CALENDRIER!BR$374:BR$738,CALENDRIER!$A$1))+((COUNTIF(CALENDRIER!BR$374:BR$738,CALENDRIER!$B$1))/2)","v":0},{"$f":"(COUNTIF(CALENDRIER!BS$374:BS$738,CALENDRIER!$A$1))+((COUNTIF(CALENDRIER!BS$374:BS$738,CALENDRIER!$B$1))/2)","v":0},{"$f":"(COUNTIF(CALENDRIER!BT$374:BT$738,CALENDRIER!$A$1))+((COUNTIF(CALENDRIER!BT$374:BT$738,CALENDRIER!$B$1))/2)","v":0},{"$f":"(COUNTIF(CALENDRIER!BU$374:BU$738,CALENDRIER!$A$1))+((COUNTIF(CALENDRIER!BU$374:BU$738,CALENDRIER!$B$1))/2)","v":0},{"$f":"(COUNTIF(CALENDRIER!BV$374:BV$738,CALENDRIER!$A$1))+((COUNTIF(CALENDRIER!BV$374:BV$738,CALENDRIER!$B$1))/2)","v":0},{"$f":"(COUNTIF(CALENDRIER!BW$374:BW$738,CALENDRIER!$A$1))+((COUNTIF(CALENDRIER!BW$374:BW$738,CALENDRIER!$B$1))/2)","v":0},{"$f":"(COUNTIF(CALENDRIER!BX$374:BX$738,CALENDRIER!$A$1))+((COUNTIF(CALENDRIER!BX$374:BX$738,CALENDRIER!$B$1))/2)","v":0},{"$f":"(COUNTIF(CALENDRIER!BY$374:BY$738,CALENDRIER!$A$1))+((COUNTIF(CALENDRIER!BY$374:BY$738,CALENDRIER!$B$1))/2)","v":0},{"$f":"(COUNTIF(CALENDRIER!BZ$374:BZ$738,CALENDRIER!$A$1))+((COUNTIF(CALENDRIER!BZ$374:BZ$738,CALENDRIER!$B$1))/2)","v":0},{"$f":"(COUNTIF(CALENDRIER!CA$374:CA$738,CALENDRIER!$A$1))+((COUNTIF(CALENDRIER!CA$374:CA$738,CALENDRIER!$B$1))/2)","v":0},{"$f":"(COUNTIF(CALENDRIER!CB$374:CB$738,CALENDRIER!$A$1))+((COUNTIF(CALENDRIER!CB$374:CB$738,CALENDRIER!$B$1))/2)","v":0},{"$f":"(COUNTIF(CALENDRIER!CC$374:CC$738,CALENDRIER!$A$1))+((COUNTIF(CALENDRIER!CC$374:CC$738,CALENDRIER!$B$1))/2)","v":0},{"$f":"(COUNTIF(CALENDRIER!CD$374:CD$738,CALENDRIER!$A$1))+((COUNTIF(CALENDRIER!CD$374:CD$738,CALENDRIER!$B$1))/2)","v":0},{"$f":"(COUNTIF(CALENDRIER!CE$374:CE$738,CALENDRIER!$A$1))+((COUNTIF(CALENDRIER!CE$374:CE$738,CALENDRIER!$B$1))/2)","v":0},{"$f":"(COUNTIF(CALENDRIER!CF$374:CF$738,CALENDRIER!$A$1))+((COUNTIF(CALENDRIER!CF$374:CF$738,CALENDRIER!$B$1))/2)","v":0},{"$f":"(COUNTIF(CALENDRIER!CG$374:CG$738,CALENDRIER!$A$1))+((COUNTIF(CALENDRIER!CG$374:CG$738,CALENDRIER!$B$1))/2)","v":0},{"$f":"(COUNTIF(CALENDRIER!CH$374:CH$738,CALENDRIER!$A$1))+((COUNTIF(CALENDRIER!CH$374:CH$738,CALENDRIER!$B$1))/2)","v":0},{"$f":"(COUNTIF(CALENDRIER!CI$374:CI$738,CALENDRIER!$A$1))+((COUNTIF(CALENDRIER!CI$374:CI$738,CALENDRIER!$B$1))/2)","v":0},{"$f":"(COUNTIF(CALENDRIER!CJ$374:CJ$738,CALENDRIER!$A$1))+((COUNTIF(CALENDRIER!CJ$374:CJ$738,CALENDRIER!$B$1))/2)","v":0},{"$f":"(COUNTIF(CALENDRIER!CK$374:CK$738,CALENDRIER!$A$1))+((COUNTIF(CALENDRIER!CK$374:CK$738,CALENDRIER!$B$1))/2)","v":0},{"$f":"(COUNTIF(CALENDRIER!CL$374:CL$738,CALENDRIER!$A$1))+((COUNTIF(CALENDRIER!CL$374:CL$738,CALENDRIER!$B$1))/2)","v":0},{"$f":"(COUNTIF(CALENDRIER!CM$374:CM$738,CALENDRIER!$A$1))+((COUNTIF(CALENDRIER!CM$374:CM$738,CALENDRIER!$B$1))/2)","v":0},{"$f":"(COUNTIF(CALENDRIER!CN$374:CN$738,CALENDRIER!$A$1))+((COUNTIF(CALENDRIER!CN$374:CN$738,CALENDRIER!$B$1))/2)","v":0},{"$f":"(COUNTIF(CALENDRIER!CO$374:CO$738,CALENDRIER!$A$1))+((COUNTIF(CALENDRIER!CO$374:CO$738,CALENDRIER!$B$1))/2)","v":0},{"$f":"(COUNTIF(CALENDRIER!CP$374:CP$738,CALENDRIER!$A$1))+((COUNTIF(CALENDRIER!CP$374:CP$738,CALENDRIER!$B$1))/2)","v":0},{"$f":"(COUNTIF(CALENDRIER!CQ$374:CQ$738,CALENDRIER!$A$1))+((COUNTIF(CALENDRIER!CQ$374:CQ$738,CALENDRIER!$B$1))/2)","v":0},{"$f":"(COUNTIF(CALENDRIER!CR$374:CR$738,CALENDRIER!$A$1))+((COUNTIF(CALENDRIER!CR$374:CR$738,CALENDRIER!$B$1))/2)","v":0},{"$f":"(COUNTIF(CALENDRIER!CS$374:CS$738,CALENDRIER!$A$1))+((COUNTIF(CALENDRIER!CS$374:CS$738,CALENDRIER!$B$1))/2)","v":0},{"$f":"(COUNTIF(CALENDRIER!CT$374:CT$738,CALENDRIER!$A$1))+((COUNTIF(CALENDRIER!CT$374:CT$738,CALENDRIER!$B$1))/2)","v":0},{"$f":"(COUNTIF(CALENDRIER!CU$374:CU$738,CALENDRIER!$A$1))+((COUNTIF(CALENDRIER!CU$374:CU$738,CALENDRIER!$B$1))/2)","v":0},{"$f":"(COUNTIF(CALENDRIER!CV$374:CV$738,CALENDRIER!$A$1))+((COUNTIF(CALENDRIER!CV$374:CV$738,CALENDRIER!$B$1))/2)","v":0},{"$f":"(COUNTIF(CALENDRIER!CW$374:CW$738,CALENDRIER!$A$1))+((COUNTIF(CALENDRIER!CW$374:CW$738,CALENDRIER!$B$1))/2)","v":0},{"$f":"(COUNTIF(CALENDRIER!CX$374:CX$738,CALENDRIER!$A$1))+((COUNTIF(CALENDRIER!CX$374:CX$738,CALENDRIER!$B$1))/2)","v":0},{"$f":"(COUNTIF(CALENDRIER!CY$374:CY$738,CALENDRIER!$A$1))+((COUNTIF(CALENDRIER!CY$374:CY$738,CALENDRIER!$B$1))/2)","v":0},{"$f":"(COUNTIF(CALENDRIER!CZ$374:CZ$738,CALENDRIER!$A$1))+((COUNTIF(CALENDRIER!CZ$374:CZ$738,CALENDRIER!$B$1))/2)","v":0},{"$f":"(COUNTIF(CALENDRIER!DA$374:DA$738,CALENDRIER!$A$1))+((COUNTIF(CALENDRIER!DA$374:DA$738,CALENDRIER!$B$1))/2)","v":0},{"$f":"(COUNTIF(CALENDRIER!DB$374:DB$738,CALENDRIER!$A$1))+((COUNTIF(CALENDRIER!DB$374:DB$738,CALENDRIER!$B$1))/2)","v":0},{"$f":"(COUNTIF(CALENDRIER!DC$374:DC$738,CALENDRIER!$A$1))+((COUNTIF(CALENDRIER!DC$374:DC$738,CALENDRIER!$B$1))/2)","v":0},{"$f":"(COUNTIF(CALENDRIER!DD$374:DD$738,CALENDRIER!$A$1))+((COUNTIF(CALENDRIER!DD$374:DD$738,CALENDRIER!$B$1))/2)","v":0},{"$f":"(COUNTIF(CALENDRIER!DE$374:DE$738,CALENDRIER!$A$1))+((COUNTIF(CALENDRIER!DE$374:DE$738,CALENDRIER!$B$1))/2)","v":0},{"$f":"(COUNTIF(CALENDRIER!DF$374:DF$738,CALENDRIER!$A$1))+((COUNTIF(CALENDRIER!DF$374:DF$738,CALENDRIER!$B$1))/2)","v":0},{"$f":"(COUNTIF(CALENDRIER!DG$374:DG$738,CALENDRIER!$A$1))+((COUNTIF(CALENDRIER!DG$374:DG$738,CALENDRIER!$B$1))/2)","v":0},{"$f":"(COUNTIF(CALENDRIER!DH$374:DH$738,CALENDRIER!$A$1))+((COUNTIF(CALENDRIER!DH$374:DH$738,CALENDRIER!$B$1))/2)","v":0},{"$f":"(COUNTIF(CALENDRIER!DI$374:DI$738,CALENDRIER!$A$1))+((COUNTIF(CALENDRIER!DI$374:DI$738,CALENDRIER!$B$1))/2)","v":0},{"$f":"(COUNTIF(CALENDRIER!DJ$374:DJ$738,CALENDRIER!$A$1))+((COUNTIF(CALENDRIER!DJ$374:DJ$738,CALENDRIER!$B$1))/2)","v":0},{"$f":"(COUNTIF(CALENDRIER!DK$374:DK$738,CALENDRIER!$A$1))+((COUNTIF(CALENDRIER!DK$374:DK$738,CALENDRIER!$B$1))/2)","v":0},{"$f":"(COUNTIF(CALENDRIER!DL$374:DL$738,CALENDRIER!$A$1))+((COUNTIF(CALENDRIER!DL$374:DL$738,CALENDRIER!$B$1))/2)","v":0},{"$f":"(COUNTIF(CALENDRIER!DM$374:DM$738,CALENDRIER!$A$1))+((COUNTIF(CALENDRIER!DM$374:DM$738,CALENDRIER!$B$1))/2)","v":0},{"$f":"(COUNTIF(CALENDRIER!DN$374:DN$738,CALENDRIER!$A$1))+((COUNTIF(CALENDRIER!DN$374:DN$738,CALENDRIER!$B$1))/2)","v":0},{"$f":"(COUNTIF(CALENDRIER!DO$374:DO$738,CALENDRIER!$A$1))+((COUNTIF(CALENDRIER!DO$374:DO$738,CALENDRIER!$B$1))/2)","v":0},{"$f":"(COUNTIF(CALENDRIER!DP$374:DP$738,CALENDRIER!$A$1))+((COUNTIF(CALENDRIER!DP$374:DP$738,CALENDRIER!$B$1))/2)","v":0},{"$f":"(COUNTIF(CALENDRIER!DQ$374:DQ$738,CALENDRIER!$A$1))+((COUNTIF(CALENDRIER!DQ$374:DQ$738,CALENDRIER!$B$1))/2)","v":0},{"$f":"(COUNTIF(CALENDRIER!DR$374:DR$738,CALENDRIER!$A$1))+((COUNTIF(CALENDRIER!DR$374:DR$738,CALENDRIER!$B$1))/2)","v":0},{"$f":"(COUNTIF(CALENDRIER!DS$374:DS$738,CALENDRIER!$A$1))+((COUNTIF(CALENDRIER!DS$374:DS$738,CALENDRIER!$B$1))/2)","v":0},{"$f":"(COUNTIF(CALENDRIER!DT$374:DT$738,CALENDRIER!$A$1))+((COUNTIF(CALENDRIER!DT$374:DT$738,CALENDRIER!$B$1))/2)","v":0},{"$f":"(COUNTIF(CALENDRIER!DU$374:DU$738,CALENDRIER!$A$1))+((COUNTIF(CALENDRIER!DU$374:DU$738,CALENDRIER!$B$1))/2)","v":0},{"$f":"(COUNTIF(CALENDRIER!DV$374:DV$738,CALENDRIER!$A$1))+((COUNTIF(CALENDRIER!DV$374:DV$738,CALENDRIER!$B$1))/2)","v":0},{"$f":"(COUNTIF(CALENDRIER!DW$374:DW$738,CALENDRIER!$A$1))+((COUNTIF(CALENDRIER!DW$374:DW$738,CALENDRIER!$B$1))/2)","v":0},{"$f":"(COUNTIF(CALENDRIER!DX$374:DX$738,CALENDRIER!$A$1))+((COUNTIF(CALENDRIER!DX$374:DX$738,CALENDRIER!$B$1))/2)","v":0},{"$f":"(COUNTIF(CALENDRIER!DY$374:DY$738,CALENDRIER!$A$1))+((COUNTIF(CALENDRIER!DY$374:DY$738,CALENDRIER!$B$1))/2)","v":0},{"$f":"(COUNTIF(CALENDRIER!DZ$374:DZ$738,CALENDRIER!$A$1))+((COUNTIF(CALENDRIER!DZ$374:DZ$738,CALENDRIER!$B$1))/2)","v":0},{"$f":"(COUNTIF(CALENDRIER!EA$374:EA$738,CALENDRIER!$A$1))+((COUNTIF(CALENDRIER!EA$374:EA$738,CALENDRIER!$B$1))/2)","v":0},{"$f":"(COUNTIF(CALENDRIER!EB$374:EB$738,CALENDRIER!$A$1))+((COUNTIF(CALENDRIER!EB$374:EB$738,CALENDRIER!$B$1))/2)","v":0},{"$f":"(COUNTIF(CALENDRIER!EC$374:EC$738,CALENDRIER!$A$1))+((COUNTIF(CALENDRIER!EC$374:EC$738,CALENDRIER!$B$1))/2)","v":0},{"$f":"(COUNTIF(CALENDRIER!ED$374:ED$738,CALENDRIER!$A$1))+((COUNTIF(CALENDRIER!ED$374:ED$738,CALENDRIER!$B$1))/2)","v":0},{"$f":"(COUNTIF(CALENDRIER!EE$374:EE$738,CALENDRIER!$A$1))+((COUNTIF(CALENDRIER!EE$374:EE$738,CALENDRIER!$B$1))/2)","v":0},{"$f":"(COUNTIF(CALENDRIER!EF$374:EF$738,CALENDRIER!$A$1))+((COUNTIF(CALENDRIER!EF$374:EF$738,CALENDRIER!$B$1))/2)","v":0},{"$f":"(COUNTIF(CALENDRIER!EG$374:EG$738,CALENDRIER!$A$1))+((COUNTIF(CALENDRIER!EG$374:EG$738,CALENDRIER!$B$1))/2)","v":0},{"$f":"(COUNTIF(CALENDRIER!EH$374:EH$738,CALENDRIER!$A$1))+((COUNTIF(CALENDRIER!EH$374:EH$738,CALENDRIER!$B$1))/2)","v":0},{"$f":"(COUNTIF(CALENDRIER!EI$374:EI$738,CALENDRIER!$A$1))+((COUNTIF(CALENDRIER!EI$374:EI$738,CALENDRIER!$B$1))/2)","v":0},{"$f":"(COUNTIF(CALENDRIER!EJ$374:EJ$738,CALENDRIER!$A$1))+((COUNTIF(CALENDRIER!EJ$374:EJ$738,CALENDRIER!$B$1))/2)","v":0},{"$f":"(COUNTIF(CALENDRIER!EK$374:EK$738,CALENDRIER!$A$1))+((COUNTIF(CALENDRIER!EK$374:EK$738,CALENDRIER!$B$1))/2)","v":0},{"$f":"(COUNTIF(CALENDRIER!EL$374:EL$738,CALENDRIER!$A$1))+((COUNTIF(CALENDRIER!EL$374:EL$738,CALENDRIER!$B$1))/2)","v":0},{"$f":"(COUNTIF(CALENDRIER!EM$374:EM$738,CALENDRIER!$A$1))+((COUNTIF(CALENDRIER!EM$374:EM$738,CALENDRIER!$B$1))/2)","v":0},{"$f":"(COUNTIF(CALENDRIER!EN$374:EN$738,CALENDRIER!$A$1))+((COUNTIF(CALENDRIER!EN$374:EN$738,CALENDRIER!$B$1))/2)","v":0},{"$f":"(COUNTIF(CALENDRIER!EO$374:EO$738,CALENDRIER!$A$1))+((COUNTIF(CALENDRIER!EO$374:EO$738,CALENDRIER!$B$1))/2)","v":0},{"$f":"(COUNTIF(CALENDRIER!EP$374:EP$738,CALENDRIER!$A$1))+((COUNTIF(CALENDRIER!EP$374:EP$738,CALENDRIER!$B$1))/2)","v":0},{"$f":"(COUNTIF(CALENDRIER!EQ$374:EQ$738,CALENDRIER!$A$1))+((COUNTIF(CALENDRIER!EQ$374:EQ$738,CALENDRIER!$B$1))/2)","v":0},{"$f":"(COUNTIF(CALENDRIER!ER$374:ER$738,CALENDRIER!$A$1))+((COUNTIF(CALENDRIER!ER$374:ER$738,CALENDRIER!$B$1))/2)","v":0},{"$f":"(COUNTIF(CALENDRIER!ES$374:ES$738,CALENDRIER!$A$1))+((COUNTIF(CALENDRIER!ES$374:ES$738,CALENDRIER!$B$1))/2)","v":0},{"$f":"(COUNTIF(CALENDRIER!ET$374:ET$738,CALENDRIER!$A$1))+((COUNTIF(CALENDRIER!ET$374:ET$738,CALENDRIER!$B$1))/2)","v":0},{"$f":"(COUNTIF(CALENDRIER!EU$374:EU$738,CALENDRIER!$A$1))+((COUNTIF(CALENDRIER!EU$374:EU$738,CALENDRIER!$B$1))/2)","v":0},{"$f":"(COUNTIF(CALENDRIER!EV$374:EV$738,CALENDRIER!$A$1))+((COUNTIF(CALENDRIER!EV$374:EV$738,CALENDRIER!$B$1))/2)","v":0},{"$f":"(COUNTIF(CALENDRIER!EW$374:EW$738,CALENDRIER!$A$1))+((COUNTIF(CALENDRIER!EW$374:EW$738,CALENDRIER!$B$1))/2)","v":0},{"$f":"(COUNTIF(CALENDRIER!EX$374:EX$738,CALENDRIER!$A$1))+((COUNTIF(CALENDRIER!EX$374:EX$738,CALENDRIER!$B$1))/2)","v":0},{"$f":"(COUNTIF(CALENDRIER!EY$374:EY$738,CALENDRIER!$A$1))+((COUNTIF(CALENDRIER!EY$374:EY$738,CALENDRIER!$B$1))/2)","v":0},{"$f":"(COUNTIF(CALENDRIER!EZ$374:EZ$738,CALENDRIER!$A$1))+((COUNTIF(CALENDRIER!EZ$374:EZ$738,CALENDRIER!$B$1))/2)","v":0},{"$f":"(COUNTIF(CALENDRIER!FA$374:FA$738,CALENDRIER!$A$1))+((COUNTIF(CALENDRIER!FA$374:FA$738,CALENDRIER!$B$1))/2)","v":0},{"$f":"(COUNTIF(CALENDRIER!FB$374:FB$738,CALENDRIER!$A$1))+((COUNTIF(CALENDRIER!FB$374:FB$738,CALENDRIER!$B$1))/2)","v":0},{"$f":"(COUNTIF(CALENDRIER!FC$374:FC$738,CALENDRIER!$A$1))+((COUNTIF(CALENDRIER!FC$374:FC$738,CALENDRIER!$B$1))/2)","v":0},{"$f":"(COUNTIF(CALENDRIER!FD$374:FD$738,CALENDRIER!$A$1))+((COUNTIF(CALENDRIER!FD$374:FD$738,CALENDRIER!$B$1))/2)","v":0},{"$f":"(COUNTIF(CALENDRIER!FE$374:FE$738,CALENDRIER!$A$1))+((COUNTIF(CALENDRIER!FE$374:FE$738,CALENDRIER!$B$1))/2)","v":0},{"$f":"(COUNTIF(CALENDRIER!FF$374:FF$738,CALENDRIER!$A$1))+((COUNTIF(CALENDRIER!FF$374:FF$738,CALENDRIER!$B$1))/2)","v":0},{"$f":"(COUNTIF(CALENDRIER!FG$374:FG$738,CALENDRIER!$A$1))+((COUNTIF(CALENDRIER!FG$374:FG$738,CALENDRIER!$B$1))/2)","v":0},{"$f":"(COUNTIF(CALENDRIER!FH$374:FH$738,CALENDRIER!$A$1))+((COUNTIF(CALENDRIER!FH$374:FH$738,CALENDRIER!$B$1))/2)","v":0},{"$f":"(COUNTIF(CALENDRIER!FI$374:FI$738,CALENDRIER!$A$1))+((COUNTIF(CALENDRIER!FI$374:FI$738,CALENDRIER!$B$1))/2)","v":0},{"$f":"(COUNTIF(CALENDRIER!FJ$374:FJ$738,CALENDRIER!$A$1))+((COUNTIF(CALENDRIER!FJ$374:FJ$738,CALENDRIER!$B$1))/2)","v":0},{"$f":"(COUNTIF(CALENDRIER!FK$374:FK$738,CALENDRIER!$A$1))+((COUNTIF(CALENDRIER!FK$374:FK$738,CALENDRIER!$B$1))/2)","v":0},{"$f":"(COUNTIF(CALENDRIER!FL$374:FL$738,CALENDRIER!$A$1))+((COUNTIF(CALENDRIER!FL$374:FL$738,CALENDRIER!$B$1))/2)","v":0},{"$f":"(COUNTIF(CALENDRIER!FM$374:FM$738,CALENDRIER!$A$1))+((COUNTIF(CALENDRIER!FM$374:FM$738,CALENDRIER!$B$1))/2)","v":0},{"$f":"(COUNTIF(CALENDRIER!FN$374:FN$738,CALENDRIER!$A$1))+((COUNTIF(CALENDRIER!FN$374:FN$738,CALENDRIER!$B$1))/2)","v":0},{"$f":"(COUNTIF(CALENDRIER!FO$374:FO$738,CALENDRIER!$A$1))+((COUNTIF(CALENDRIER!FO$374:FO$738,CALENDRIER!$B$1))/2)","v":0},{"$f":"(COUNTIF(CALENDRIER!FP$374:FP$738,CALENDRIER!$A$1))+((COUNTIF(CALENDRIER!FP$374:FP$738,CALENDRIER!$B$1))/2)","v":0},{"$f":"(COUNTIF(CALENDRIER!FQ$374:FQ$738,CALENDRIER!$A$1))+((COUNTIF(CALENDRIER!FQ$374:FQ$738,CALENDRIER!$B$1))/2)","v":0},{"$f":"(COUNTIF(CALENDRIER!FR$374:FR$738,CALENDRIER!$A$1))+((COUNTIF(CALENDRIER!FR$374:FR$738,CALENDRIER!$B$1))/2)","v":0},{"$f":"(COUNTIF(CALENDRIER!FS$374:FS$738,CALENDRIER!$A$1))+((COUNTIF(CALENDRIER!FS$374:FS$738,CALENDRIER!$B$1))/2)","v":0},{"$f":"(COUNTIF(CALENDRIER!FT$374:FT$738,CALENDRIER!$A$1))+((COUNTIF(CALENDRIER!FT$374:FT$738,CALENDRIER!$B$1))/2)","v":0},{"$f":"(COUNTIF(CALENDRIER!FU$374:FU$738,CALENDRIER!$A$1))+((COUNTIF(CALENDRIER!FU$374:FU$738,CALENDRIER!$B$1))/2)","v":0},{"$f":"(COUNTIF(CALENDRIER!FV$374:FV$738,CALENDRIER!$A$1))+((COUNTIF(CALENDRIER!FV$374:FV$738,CALENDRIER!$B$1))/2)","v":0},{"$f":"(COUNTIF(CALENDRIER!FW$374:FW$738,CALENDRIER!$A$1))+((COUNTIF(CALENDRIER!FW$374:FW$738,CALENDRIER!$B$1))/2)","v":0},{"$f":"(COUNTIF(CALENDRIER!FX$374:FX$738,CALENDRIER!$A$1))+((COUNTIF(CALENDRIER!FX$374:FX$738,CALENDRIER!$B$1))/2)","v":0},{"$f":"(COUNTIF(CALENDRIER!FY$374:FY$738,CALENDRIER!$A$1))+((COUNTIF(CALENDRIER!FY$374:FY$738,CALENDRIER!$B$1))/2)","v":0},{"$f":"(COUNTIF(CALENDRIER!FZ$374:FZ$738,CALENDRIER!$A$1))+((COUNTIF(CALENDRIER!FZ$374:FZ$738,CALENDRIER!$B$1))/2)","v":0},{"$f":"(COUNTIF(CALENDRIER!GA$374:GA$738,CALENDRIER!$A$1))+((COUNTIF(CALENDRIER!GA$374:GA$738,CALENDRIER!$B$1))/2)","v":0},{"$f":"(COUNTIF(CALENDRIER!GB$374:GB$738,CALENDRIER!$A$1))+((COUNTIF(CALENDRIER!GB$374:GB$738,CALENDRIER!$B$1))/2)","v":0},{"$f":"(COUNTIF(CALENDRIER!GC$374:GC$738,CALENDRIER!$A$1))+((COUNTIF(CALENDRIER!GC$374:GC$738,CALENDRIER!$B$1))/2)","v":0},{"$f":"(COUNTIF(CALENDRIER!GD$374:GD$738,CALENDRIER!$A$1))+((COUNTIF(CALENDRIER!GD$374:GD$738,CALENDRIER!$B$1))/2)","v":0},{"$f":"(COUNTIF(CALENDRIER!GE$374:GE$738,CALENDRIER!$A$1))+((COUNTIF(CALENDRIER!GE$374:GE$738,CALENDRIER!$B$1))/2)","v":0},{"$f":"(COUNTIF(CALENDRIER!GF$374:GF$738,CALENDRIER!$A$1))+((COUNTIF(CALENDRIER!GF$374:GF$738,CALENDRIER!$B$1))/2)","v":0},{"$f":"(COUNTIF(CALENDRIER!GG$374:GG$738,CALENDRIER!$A$1))+((COUNTIF(CALENDRIER!GG$374:GG$738,CALENDRIER!$B$1))/2)","v":0},{"$f":"(COUNTIF(CALENDRIER!GH$374:GH$738,CALENDRIER!$A$1))+((COUNTIF(CALENDRIER!GH$374:GH$738,CALENDRIER!$B$1))/2)","v":0},{"$f":"(COUNTIF(CALENDRIER!GI$374:GI$738,CALENDRIER!$A$1))+((COUNTIF(CALENDRIER!GI$374:GI$738,CALENDRIER!$B$1))/2)","v":0},{"$f":"(COUNTIF(CALENDRIER!GJ$374:GJ$738,CALENDRIER!$A$1))+((COUNTIF(CALENDRIER!GJ$374:GJ$738,CALENDRIER!$B$1))/2)","v":0},{"$f":"(COUNTIF(CALENDRIER!GK$374:GK$738,CALENDRIER!$A$1))+((COUNTIF(CALENDRIER!GK$374:GK$738,CALENDRIER!$B$1))/2)","v":0},{"$f":"(COUNTIF(CALENDRIER!GL$374:GL$738,CALENDRIER!$A$1))+((COUNTIF(CALENDRIER!GL$374:GL$738,CALENDRIER!$B$1))/2)","v":0},{"$f":"(COUNTIF(CALENDRIER!GM$374:GM$738,CALENDRIER!$A$1))+((COUNTIF(CALENDRIER!GM$374:GM$738,CALENDRIER!$B$1))/2)","v":0},{"$f":"(COUNTIF(CALENDRIER!GN$374:GN$738,CALENDRIER!$A$1))+((COUNTIF(CALENDRIER!GN$374:GN$738,CALENDRIER!$B$1))/2)","v":0},{"$f":"(COUNTIF(CALENDRIER!GO$374:GO$738,CALENDRIER!$A$1))+((COUNTIF(CALENDRIER!GO$374:GO$738,CALENDRIER!$B$1))/2)","v":0},{"$f":"(COUNTIF(CALENDRIER!GP$374:GP$738,CALENDRIER!$A$1))+((COUNTIF(CALENDRIER!GP$374:GP$738,CALENDRIER!$B$1))/2)","v":0},{"$f":"(COUNTIF(CALENDRIER!GQ$374:GQ$738,CALENDRIER!$A$1))+((COUNTIF(CALENDRIER!GQ$374:GQ$738,CALENDRIER!$B$1))/2)","v":0},{"$f":"(COUNTIF(CALENDRIER!GR$374:GR$738,CALENDRIER!$A$1))+((COUNTIF(CALENDRIER!GR$374:GR$738,CALENDRIER!$B$1))/2)","v":0}]
[null,{"$f":"\"Solde \"&CALENDRIER!$A$1&\" \"&A19&\" : \"","v":"Solde CP 2016-2017 : "},{"$f":"C20-C21","v":0},{"$f":"D20-D21","v":0},0,0,0,0,0,0,0,0,0,0,0,0,0,0,0,0,0,0,0,0,0,0,0,0,0,0,0,0,0,0,0,0,0,0,0,0,0,0,0,0,0,0,0,0,0,0,0,0,0,0,0,0,0,0,0,0,0,0,0,0,0,0,0,{"$f":"BP20-BP21","v":0},0,0,0,0,0,0,0,0,0,0,0,0,0,0,0,0,0,0,0,0,0,0,0,0,0,0,0,0,0,0,0,0,0,0,0,0,0,0,0,0,0,0,0,0,0,0,0,0,0,0,0,0,0,0,0,0,0,0,0,0,0,0,0,{"$f":"EB20-EB21","v":0},0,0,0,0,0,0,0,0,0,0,0,0,0,0,0,0,0,0,0,0,0,0,0,0,0,0,0,0,0,0,0,0,0,0,0,0,0,0,0,0,0,0,0,0,0,0,0,0,0,0,0,0,0,0,0,0,0,0,0,0,0,0,0,{"$f":"GN20-GN21","v":0},0,0,0,0]
[]
["2017-2018",{"$f":"CALENDRIER!$A$1","v":"CP"}]
[null,"SOLDE DEPART"]
[null,{"$f":"CALENDRIER!$A$1&\" PRIS\"","v":"CP PRIS"},{"$f":"(COUNTIF(CALENDRIER!C$739:C$1103,CALENDRIER!$A$1))+((COUNTIF(CALENDRIER!C$739:C$1103,CALENDRIER!$B$1))/2)","v":0},{"$f":"(COUNTIF(CALENDRIER!D$739:D$1103,CALENDRIER!$A$1))+((COUNTIF(CALENDRIER!D$739:D$1103,CALENDRIER!$B$1))/2)","v":0},{"$f":"(COUNTIF(CALENDRIER!E$739:E$1103,CALENDRIER!$A$1))+((COUNTIF(CALENDRIER!E$739:E$1103,CALENDRIER!$B$1))/2)","v":0},{"$f":"(COUNTIF(CALENDRIER!F$739:F$1103,CALENDRIER!$A$1))+((COUNTIF(CALENDRIER!F$739:F$1103,CALENDRIER!$B$1))/2)","v":0},{"$f":"(COUNTIF(CALENDRIER!G$739:G$1103,CALENDRIER!$A$1))+((COUNTIF(CALENDRIER!G$739:G$1103,CALENDRIER!$B$1))/2)","v":0},{"$f":"(COUNTIF(CALENDRIER!H$739:H$1103,CALENDRIER!$A$1))+((COUNTIF(CALENDRIER!H$739:H$1103,CALENDRIER!$B$1))/2)","v":0},{"$f":"(COUNTIF(CALENDRIER!I$739:I$1103,CALENDRIER!$A$1))+((COUNTIF(CALENDRIER!I$739:I$1103,CALENDRIER!$B$1))/2)","v":0},{"$f":"(COUNTIF(CALENDRIER!J$739:J$1103,CALENDRIER!$A$1))+((COUNTIF(CALENDRIER!J$739:J$1103,CALENDRIER!$B$1))/2)","v":0},{"$f":"(COUNTIF(CALENDRIER!K$739:K$1103,CALENDRIER!$A$1))+((COUNTIF(CALENDRIER!K$739:K$1103,CALENDRIER!$B$1))/2)","v":0},{"$f":"(COUNTIF(CALENDRIER!L$739:L$1103,CALENDRIER!$A$1))+((COUNTIF(CALENDRIER!L$739:L$1103,CALENDRIER!$B$1))/2)","v":0},{"$f":"(COUNTIF(CALENDRIER!M$739:M$1103,CALENDRIER!$A$1))+((COUNTIF(CALENDRIER!M$739:M$1103,CALENDRIER!$B$1))/2)","v":0},{"$f":"(COUNTIF(CALENDRIER!N$739:N$1103,CALENDRIER!$A$1))+((COUNTIF(CALENDRIER!N$739:N$1103,CALENDRIER!$B$1))/2)","v":0},{"$f":"(COUNTIF(CALENDRIER!O$739:O$1103,CALENDRIER!$A$1))+((COUNTIF(CALENDRIER!O$739:O$1103,CALENDRIER!$B$1))/2)","v":0},{"$f":"(COUNTIF(CALENDRIER!P$739:P$1103,CALENDRIER!$A$1))+((COUNTIF(CALENDRIER!P$739:P$1103,CALENDRIER!$B$1))/2)","v":0},{"$f":"(COUNTIF(CALENDRIER!Q$739:Q$1103,CALENDRIER!$A$1))+((COUNTIF(CALENDRIER!Q$739:Q$1103,CALENDRIER!$B$1))/2)","v":0},{"$f":"(COUNTIF(CALENDRIER!R$739:R$1103,CALENDRIER!$A$1))+((COUNTIF(CALENDRIER!R$739:R$1103,CALENDRIER!$B$1))/2)","v":0},{"$f":"(COUNTIF(CALENDRIER!S$739:S$1103,CALENDRIER!$A$1))+((COUNTIF(CALENDRIER!S$739:S$1103,CALENDRIER!$B$1))/2)","v":0},{"$f":"(COUNTIF(CALENDRIER!T$739:T$1103,CALENDRIER!$A$1))+((COUNTIF(CALENDRIER!T$739:T$1103,CALENDRIER!$B$1))/2)","v":0},{"$f":"(COUNTIF(CALENDRIER!U$739:U$1103,CALENDRIER!$A$1))+((COUNTIF(CALENDRIER!U$739:U$1103,CALENDRIER!$B$1))/2)","v":0},{"$f":"(COUNTIF(CALENDRIER!V$739:V$1103,CALENDRIER!$A$1))+((COUNTIF(CALENDRIER!V$739:V$1103,CALENDRIER!$B$1))/2)","v":0},{"$f":"(COUNTIF(CALENDRIER!W$739:W$1103,CALENDRIER!$A$1))+((COUNTIF(CALENDRIER!W$739:W$1103,CALENDRIER!$B$1))/2)","v":0},{"$f":"(COUNTIF(CALENDRIER!X$739:X$1103,CALENDRIER!$A$1))+((COUNTIF(CALENDRIER!X$739:X$1103,CALENDRIER!$B$1))/2)","v":0},{"$f":"(COUNTIF(CALENDRIER!Y$739:Y$1103,CALENDRIER!$A$1))+((COUNTIF(CALENDRIER!Y$739:Y$1103,CALENDRIER!$B$1))/2)","v":0},{"$f":"(COUNTIF(CALENDRIER!Z$739:Z$1103,CALENDRIER!$A$1))+((COUNTIF(CALENDRIER!Z$739:Z$1103,CALENDRIER!$B$1))/2)","v":0},{"$f":"(COUNTIF(CALENDRIER!AA$739:AA$1103,CALENDRIER!$A$1))+((COUNTIF(CALENDRIER!AA$739:AA$1103,CALENDRIER!$B$1))/2)","v":0},{"$f":"(COUNTIF(CALENDRIER!AB$739:AB$1103,CALENDRIER!$A$1))+((COUNTIF(CALENDRIER!AB$739:AB$1103,CALENDRIER!$B$1))/2)","v":0},{"$f":"(COUNTIF(CALENDRIER!AC$739:AC$1103,CALENDRIER!$A$1))+((COUNTIF(CALENDRIER!AC$739:AC$1103,CALENDRIER!$B$1))/2)","v":0},{"$f":"(COUNTIF(CALENDRIER!AD$739:AD$1103,CALENDRIER!$A$1))+((COUNTIF(CALENDRIER!AD$739:AD$1103,CALENDRIER!$B$1))/2)","v":0},{"$f":"(COUNTIF(CALENDRIER!AE$739:AE$1103,CALENDRIER!$A$1))+((COUNTIF(CALENDRIER!AE$739:AE$1103,CALENDRIER!$B$1))/2)","v":0},{"$f":"(COUNTIF(CALENDRIER!AF$739:AF$1103,CALENDRIER!$A$1))+((COUNTIF(CALENDRIER!AF$739:AF$1103,CALENDRIER!$B$1))/2)","v":0},{"$f":"(COUNTIF(CALENDRIER!AG$739:AG$1103,CALENDRIER!$A$1))+((COUNTIF(CALENDRIER!AG$739:AG$1103,CALENDRIER!$B$1))/2)","v":0},{"$f":"(COUNTIF(CALENDRIER!AH$739:AH$1103,CALENDRIER!$A$1))+((COUNTIF(CALENDRIER!AH$739:AH$1103,CALENDRIER!$B$1))/2)","v":0},{"$f":"(COUNTIF(CALENDRIER!AI$739:AI$1103,CALENDRIER!$A$1))+((COUNTIF(CALENDRIER!AI$739:AI$1103,CALENDRIER!$B$1))/2)","v":0},{"$f":"(COUNTIF(CALENDRIER!AJ$739:AJ$1103,CALENDRIER!$A$1))+((COUNTIF(CALENDRIER!AJ$739:AJ$1103,CALENDRIER!$B$1))/2)","v":0},{"$f":"(COUNTIF(CALENDRIER!AK$739:AK$1103,CALENDRIER!$A$1))+((COUNTIF(CALENDRIER!AK$739:AK$1103,CALENDRIER!$B$1))/2)","v":0},{"$f":"(COUNTIF(CALENDRIER!AL$739:AL$1103,CALENDRIER!$A$1))+((COUNTIF(CALENDRIER!AL$739:AL$1103,CALENDRIER!$B$1))/2)","v":0},{"$f":"(COUNTIF(CALENDRIER!AM$739:AM$1103,CALENDRIER!$A$1))+((COUNTIF(CALENDRIER!AM$739:AM$1103,CALENDRIER!$B$1))/2)","v":0},{"$f":"(COUNTIF(CALENDRIER!AN$739:AN$1103,CALENDRIER!$A$1))+((COUNTIF(CALENDRIER!AN$739:AN$1103,CALENDRIER!$B$1))/2)","v":0},{"$f":"(COUNTIF(CALENDRIER!AO$739:AO$1103,CALENDRIER!$A$1))+((COUNTIF(CALENDRIER!AO$739:AO$1103,CALENDRIER!$B$1))/2)","v":0},{"$f":"(COUNTIF(CALENDRIER!AP$739:AP$1103,CALENDRIER!$A$1))+((COUNTIF(CALENDRIER!AP$739:AP$1103,CALENDRIER!$B$1))/2)","v":0},{"$f":"(COUNTIF(CALENDRIER!AQ$739:AQ$1103,CALENDRIER!$A$1))+((COUNTIF(CALENDRIER!AQ$739:AQ$1103,CALENDRIER!$B$1))/2)","v":0},{"$f":"(COUNTIF(CALENDRIER!AR$739:AR$1103,CALENDRIER!$A$1))+((COUNTIF(CALENDRIER!AR$739:AR$1103,CALENDRIER!$B$1))/2)","v":0},{"$f":"(COUNTIF(CALENDRIER!AS$739:AS$1103,CALENDRIER!$A$1))+((COUNTIF(CALENDRIER!AS$739:AS$1103,CALENDRIER!$B$1))/2)","v":0},{"$f":"(COUNTIF(CALENDRIER!AT$739:AT$1103,CALENDRIER!$A$1))+((COUNTIF(CALENDRIER!AT$739:AT$1103,CALENDRIER!$B$1))/2)","v":0},{"$f":"(COUNTIF(CALENDRIER!AU$739:AU$1103,CALENDRIER!$A$1))+((COUNTIF(CALENDRIER!AU$739:AU$1103,CALENDRIER!$B$1))/2)","v":0},{"$f":"(COUNTIF(CALENDRIER!AV$739:AV$1103,CALENDRIER!$A$1))+((COUNTIF(CALENDRIER!AV$739:AV$1103,CALENDRIER!$B$1))/2)","v":0},{"$f":"(COUNTIF(CALENDRIER!AW$739:AW$1103,CALENDRIER!$A$1))+((COUNTIF(CALENDRIER!AW$739:AW$1103,CALENDRIER!$B$1))/2)","v":0},{"$f":"(COUNTIF(CALENDRIER!AX$739:AX$1103,CALENDRIER!$A$1))+((COUNTIF(CALENDRIER!AX$739:AX$1103,CALENDRIER!$B$1))/2)","v":0},{"$f":"(COUNTIF(CALENDRIER!AY$739:AY$1103,CALENDRIER!$A$1))+((COUNTIF(CALENDRIER!AY$739:AY$1103,CALENDRIER!$B$1))/2)","v":0},{"$f":"(COUNTIF(CALENDRIER!AZ$739:AZ$1103,CALENDRIER!$A$1))+((COUNTIF(CALENDRIER!AZ$739:AZ$1103,CALENDRIER!$B$1))/2)","v":0},{"$f":"(COUNTIF(CALENDRIER!BA$739:BA$1103,CALENDRIER!$A$1))+((COUNTIF(CALENDRIER!BA$739:BA$1103,CALENDRIER!$B$1))/2)","v":0},{"$f":"(COUNTIF(CALENDRIER!BB$739:BB$1103,CALENDRIER!$A$1))+((COUNTIF(CALENDRIER!BB$739:BB$1103,CALENDRIER!$B$1))/2)","v":0},{"$f":"(COUNTIF(CALENDRIER!BC$739:BC$1103,CALENDRIER!$A$1))+((COUNTIF(CALENDRIER!BC$739:BC$1103,CALENDRIER!$B$1))/2)","v":0},{"$f":"(COUNTIF(CALENDRIER!BD$739:BD$1103,CALENDRIER!$A$1))+((COUNTIF(CALENDRIER!BD$739:BD$1103,CALENDRIER!$B$1))/2)","v":0},{"$f":"(COUNTIF(CALENDRIER!BE$739:BE$1103,CALENDRIER!$A$1))+((COUNTIF(CALENDRIER!BE$739:BE$1103,CALENDRIER!$B$1))/2)","v":0},{"$f":"(COUNTIF(CALENDRIER!BF$739:BF$1103,CALENDRIER!$A$1))+((COUNTIF(CALENDRIER!BF$739:BF$1103,CALENDRIER!$B$1))/2)","v":0},{"$f":"(COUNTIF(CALENDRIER!BG$739:BG$1103,CALENDRIER!$A$1))+((COUNTIF(CALENDRIER!BG$739:BG$1103,CALENDRIER!$B$1))/2)","v":0},{"$f":"(COUNTIF(CALENDRIER!BH$739:BH$1103,CALENDRIER!$A$1))+((COUNTIF(CALENDRIER!BH$739:BH$1103,CALENDRIER!$B$1))/2)","v":0},{"$f":"(COUNTIF(CALENDRIER!BI$739:BI$1103,CALENDRIER!$A$1))+((COUNTIF(CALENDRIER!BI$739:BI$1103,CALENDRIER!$B$1))/2)","v":0},{"$f":"(COUNTIF(CALENDRIER!BJ$739:BJ$1103,CALENDRIER!$A$1))+((COUNTIF(CALENDRIER!BJ$739:BJ$1103,CALENDRIER!$B$1))/2)","v":0},{"$f":"(COUNTIF(CALENDRIER!BK$739:BK$1103,CALENDRIER!$A$1))+((COUNTIF(CALENDRIER!BK$739:BK$1103,CALENDRIER!$B$1))/2)","v":0},{"$f":"(COUNTIF(CALENDRIER!BL$739:BL$1103,CALENDRIER!$A$1))+((COUNTIF(CALENDRIER!BL$739:BL$1103,CALENDRIER!$B$1))/2)","v":0},{"$f":"(COUNTIF(CALENDRIER!BM$739:BM$1103,CALENDRIER!$A$1))+((COUNTIF(CALENDRIER!BM$739:BM$1103,CALENDRIER!$B$1))/2)","v":0},{"$f":"(COUNTIF(CALENDRIER!BN$739:BN$1103,CALENDRIER!$A$1))+((COUNTIF(CALENDRIER!BN$739:BN$1103,CALENDRIER!$B$1))/2)","v":0},{"$f":"(COUNTIF(CALENDRIER!BO$739:BO$1103,CALENDRIER!$A$1))+((COUNTIF(CALENDRIER!BO$739:BO$1103,CALENDRIER!$B$1))/2)","v":0},{"$f":"(COUNTIF(CALENDRIER!BP$739:BP$1103,CALENDRIER!$A$1))+((COUNTIF(CALENDRIER!BP$739:BP$1103,CALENDRIER!$B$1))/2)","v":0},{"$f":"(COUNTIF(CALENDRIER!BQ$739:BQ$1103,CALENDRIER!$A$1))+((COUNTIF(CALENDRIER!BQ$739:BQ$1103,CALENDRIER!$B$1))/2)","v":0},{"$f":"(COUNTIF(CALENDRIER!BR$739:BR$1103,CALENDRIER!$A$1))+((COUNTIF(CALENDRIER!BR$739:BR$1103,CALENDRIER!$B$1))/2)","v":0},{"$f":"(COUNTIF(CALENDRIER!BS$739:BS$1103,CALENDRIER!$A$1))+((COUNTIF(CALENDRIER!BS$739:BS$1103,CALENDRIER!$B$1))/2)","v":0},{"$f":"(COUNTIF(CALENDRIER!BT$739:BT$1103,CALENDRIER!$A$1))+((COUNTIF(CALENDRIER!BT$739:BT$1103,CALENDRIER!$B$1))/2)","v":0},{"$f":"(COUNTIF(CALENDRIER!BU$739:BU$1103,CALENDRIER!$A$1))+((COUNTIF(CALENDRIER!BU$739:BU$1103,CALENDRIER!$B$1))/2)","v":0},{"$f":"(COUNTIF(CALENDRIER!BV$739:BV$1103,CALENDRIER!$A$1))+((COUNTIF(CALENDRIER!BV$739:BV$1103,CALENDRIER!$B$1))/2)","v":0},{"$f":"(COUNTIF(CALENDRIER!BW$739:BW$1103,CALENDRIER!$A$1))+((COUNTIF(CALENDRIER!BW$739:BW$1103,CALENDRIER!$B$1))/2)","v":0},{"$f":"(COUNTIF(CALENDRIER!BX$739:BX$1103,CALENDRIER!$A$1))+((COUNTIF(CALENDRIER!BX$739:BX$1103,CALENDRIER!$B$1))/2)","v":0},{"$f":"(COUNTIF(CALENDRIER!BY$739:BY$1103,CALENDRIER!$A$1))+((COUNTIF(CALENDRIER!BY$739:BY$1103,CALENDRIER!$B$1))/2)","v":0},{"$f":"(COUNTIF(CALENDRIER!BZ$739:BZ$1103,CALENDRIER!$A$1))+((COUNTIF(CALENDRIER!BZ$739:BZ$1103,CALENDRIER!$B$1))/2)","v":0},{"$f":"(COUNTIF(CALENDRIER!CA$739:CA$1103,CALENDRIER!$A$1))+((COUNTIF(CALENDRIER!CA$739:CA$1103,CALENDRIER!$B$1))/2)","v":0},{"$f":"(COUNTIF(CALENDRIER!CB$739:CB$1103,CALENDRIER!$A$1))+((COUNTIF(CALENDRIER!CB$739:CB$1103,CALENDRIER!$B$1))/2)","v":0},{"$f":"(COUNTIF(CALENDRIER!CC$739:CC$1103,CALENDRIER!$A$1))+((COUNTIF(CALENDRIER!CC$739:CC$1103,CALENDRIER!$B$1))/2)","v":0},{"$f":"(COUNTIF(CALENDRIER!CD$739:CD$1103,CALENDRIER!$A$1))+((COUNTIF(CALENDRIER!CD$739:CD$1103,CALENDRIER!$B$1))/2)","v":0},{"$f":"(COUNTIF(CALENDRIER!CE$739:CE$1103,CALENDRIER!$A$1))+((COUNTIF(CALENDRIER!CE$739:CE$1103,CALENDRIER!$B$1))/2)","v":0},{"$f":"(COUNTIF(CALENDRIER!CF$739:CF$1103,CALENDRIER!$A$1))+((COUNTIF(CALENDRIER!CF$739:CF$1103,CALENDRIER!$B$1))/2)","v":0},{"$f":"(COUNTIF(CALENDRIER!CG$739:CG$1103,CALENDRIER!$A$1))+((COUNTIF(CALENDRIER!CG$739:CG$1103,CALENDRIER!$B$1))/2)","v":0},{"$f":"(COUNTIF(CALENDRIER!CH$739:CH$1103,CALENDRIER!$A$1))+((COUNTIF(CALENDRIER!CH$739:CH$1103,CALENDRIER!$B$1))/2)","v":0},{"$f":"(COUNTIF(CALENDRIER!CI$739:CI$1103,CALENDRIER!$A$1))+((COUNTIF(CALENDRIER!CI$739:CI$1103,CALENDRIER!$B$1))/2)","v":0},{"$f":"(COUNTIF(CALENDRIER!CJ$739:CJ$1103,CALENDRIER!$A$1))+((COUNTIF(CALENDRIER!CJ$739:CJ$1103,CALENDRIER!$B$1))/2)","v":0},{"$f":"(COUNTIF(CALENDRIER!CK$739:CK$1103,CALENDRIER!$A$1))+((COUNTIF(CALENDRIER!CK$739:CK$1103,CALENDRIER!$B$1))/2)","v":0},{"$f":"(COUNTIF(CALENDRIER!CL$739:CL$1103,CALENDRIER!$A$1))+((COUNTIF(CALENDRIER!CL$739:CL$1103,CALENDRIER!$B$1))/2)","v":0},{"$f":"(COUNTIF(CALENDRIER!CM$739:CM$1103,CALENDRIER!$A$1))+((COUNTIF(CALENDRIER!CM$739:CM$1103,CALENDRIER!$B$1))/2)","v":0},{"$f":"(COUNTIF(CALENDRIER!CN$739:CN$1103,CALENDRIER!$A$1))+((COUNTIF(CALENDRIER!CN$739:CN$1103,CALENDRIER!$B$1))/2)","v":0},{"$f":"(COUNTIF(CALENDRIER!CO$739:CO$1103,CALENDRIER!$A$1))+((COUNTIF(CALENDRIER!CO$739:CO$1103,CALENDRIER!$B$1))/2)","v":0},{"$f":"(COUNTIF(CALENDRIER!CP$739:CP$1103,CALENDRIER!$A$1))+((COUNTIF(CALENDRIER!CP$739:CP$1103,CALENDRIER!$B$1))/2)","v":0},{"$f":"(COUNTIF(CALENDRIER!CQ$739:CQ$1103,CALENDRIER!$A$1))+((COUNTIF(CALENDRIER!CQ$739:CQ$1103,CALENDRIER!$B$1))/2)","v":0},{"$f":"(COUNTIF(CALENDRIER!CR$739:CR$1103,CALENDRIER!$A$1))+((COUNTIF(CALENDRIER!CR$739:CR$1103,CALENDRIER!$B$1))/2)","v":0},{"$f":"(COUNTIF(CALENDRIER!CS$739:CS$1103,CALENDRIER!$A$1))+((COUNTIF(CALENDRIER!CS$739:CS$1103,CALENDRIER!$B$1))/2)","v":0},{"$f":"(COUNTIF(CALENDRIER!CT$739:CT$1103,CALENDRIER!$A$1))+((COUNTIF(CALENDRIER!CT$739:CT$1103,CALENDRIER!$B$1))/2)","v":0},{"$f":"(COUNTIF(CALENDRIER!CU$739:CU$1103,CALENDRIER!$A$1))+((COUNTIF(CALENDRIER!CU$739:CU$1103,CALENDRIER!$B$1))/2)","v":0},{"$f":"(COUNTIF(CALENDRIER!CV$739:CV$1103,CALENDRIER!$A$1))+((COUNTIF(CALENDRIER!CV$739:CV$1103,CALENDRIER!$B$1))/2)","v":0},{"$f":"(COUNTIF(CALENDRIER!CW$739:CW$1103,CALENDRIER!$A$1))+((COUNTIF(CALENDRIER!CW$739:CW$1103,CALENDRIER!$B$1))/2)","v":0},{"$f":"(COUNTIF(CALENDRIER!CX$739:CX$1103,CALENDRIER!$A$1))+((COUNTIF(CALENDRIER!CX$739:CX$1103,CALENDRIER!$B$1))/2)","v":0},{"$f":"(COUNTIF(CALENDRIER!CY$739:CY$1103,CALENDRIER!$A$1))+((COUNTIF(CALENDRIER!CY$739:CY$1103,CALENDRIER!$B$1))/2)","v":0},{"$f":"(COUNTIF(CALENDRIER!CZ$739:CZ$1103,CALENDRIER!$A$1))+((COUNTIF(CALENDRIER!CZ$739:CZ$1103,CALENDRIER!$B$1))/2)","v":0},{"$f":"(COUNTIF(CALENDRIER!DA$739:DA$1103,CALENDRIER!$A$1))+((COUNTIF(CALENDRIER!DA$739:DA$1103,CALENDRIER!$B$1))/2)","v":0},{"$f":"(COUNTIF(CALENDRIER!DB$739:DB$1103,CALENDRIER!$A$1))+((COUNTIF(CALENDRIER!DB$739:DB$1103,CALENDRIER!$B$1))/2)","v":0},{"$f":"(COUNTIF(CALENDRIER!DC$739:DC$1103,CALENDRIER!$A$1))+((COUNTIF(CALENDRIER!DC$739:DC$1103,CALENDRIER!$B$1))/2)","v":0},{"$f":"(COUNTIF(CALENDRIER!DD$739:DD$1103,CALENDRIER!$A$1))+((COUNTIF(CALENDRIER!DD$739:DD$1103,CALENDRIER!$B$1))/2)","v":0},{"$f":"(COUNTIF(CALENDRIER!DE$739:DE$1103,CALENDRIER!$A$1))+((COUNTIF(CALENDRIER!DE$739:DE$1103,CALENDRIER!$B$1))/2)","v":0},{"$f":"(COUNTIF(CALENDRIER!DF$739:DF$1103,CALENDRIER!$A$1))+((COUNTIF(CALENDRIER!DF$739:DF$1103,CALENDRIER!$B$1))/2)","v":0},{"$f":"(COUNTIF(CALENDRIER!DG$739:DG$1103,CALENDRIER!$A$1))+((COUNTIF(CALENDRIER!DG$739:DG$1103,CALENDRIER!$B$1))/2)","v":0},{"$f":"(COUNTIF(CALENDRIER!DH$739:DH$1103,CALENDRIER!$A$1))+((COUNTIF(CALENDRIER!DH$739:DH$1103,CALENDRIER!$B$1))/2)","v":0},{"$f":"(COUNTIF(CALENDRIER!DI$739:DI$1103,CALENDRIER!$A$1))+((COUNTIF(CALENDRIER!DI$739:DI$1103,CALENDRIER!$B$1))/2)","v":0},{"$f":"(COUNTIF(CALENDRIER!DJ$739:DJ$1103,CALENDRIER!$A$1))+((COUNTIF(CALENDRIER!DJ$739:DJ$1103,CALENDRIER!$B$1))/2)","v":0},{"$f":"(COUNTIF(CALENDRIER!DK$739:DK$1103,CALENDRIER!$A$1))+((COUNTIF(CALENDRIER!DK$739:DK$1103,CALENDRIER!$B$1))/2)","v":0},{"$f":"(COUNTIF(CALENDRIER!DL$739:DL$1103,CALENDRIER!$A$1))+((COUNTIF(CALENDRIER!DL$739:DL$1103,CALENDRIER!$B$1))/2)","v":0},{"$f":"(COUNTIF(CALENDRIER!DM$739:DM$1103,CALENDRIER!$A$1))+((COUNTIF(CALENDRIER!DM$739:DM$1103,CALENDRIER!$B$1))/2)","v":0},{"$f":"(COUNTIF(CALENDRIER!DN$739:DN$1103,CALENDRIER!$A$1))+((COUNTIF(CALENDRIER!DN$739:DN$1103,CALENDRIER!$B$1))/2)","v":0},{"$f":"(COUNTIF(CALENDRIER!DO$739:DO$1103,CALENDRIER!$A$1))+((COUNTIF(CALENDRIER!DO$739:DO$1103,CALENDRIER!$B$1))/2)","v":0},{"$f":"(COUNTIF(CALENDRIER!DP$739:DP$1103,CALENDRIER!$A$1))+((COUNTIF(CALENDRIER!DP$739:DP$1103,CALENDRIER!$B$1))/2)","v":0},{"$f":"(COUNTIF(CALENDRIER!DQ$739:DQ$1103,CALENDRIER!$A$1))+((COUNTIF(CALENDRIER!DQ$739:DQ$1103,CALENDRIER!$B$1))/2)","v":0},{"$f":"(COUNTIF(CALENDRIER!DR$739:DR$1103,CALENDRIER!$A$1))+((COUNTIF(CALENDRIER!DR$739:DR$1103,CALENDRIER!$B$1))/2)","v":0},{"$f":"(COUNTIF(CALENDRIER!DS$739:DS$1103,CALENDRIER!$A$1))+((COUNTIF(CALENDRIER!DS$739:DS$1103,CALENDRIER!$B$1))/2)","v":0},{"$f":"(COUNTIF(CALENDRIER!DT$739:DT$1103,CALENDRIER!$A$1))+((COUNTIF(CALENDRIER!DT$739:DT$1103,CALENDRIER!$B$1))/2)","v":0},{"$f":"(COUNTIF(CALENDRIER!DU$739:DU$1103,CALENDRIER!$A$1))+((COUNTIF(CALENDRIER!DU$739:DU$1103,CALENDRIER!$B$1))/2)","v":0},{"$f":"(COUNTIF(CALENDRIER!DV$739:DV$1103,CALENDRIER!$A$1))+((COUNTIF(CALENDRIER!DV$739:DV$1103,CALENDRIER!$B$1))/2)","v":0},{"$f":"(COUNTIF(CALENDRIER!DW$739:DW$1103,CALENDRIER!$A$1))+((COUNTIF(CALENDRIER!DW$739:DW$1103,CALENDRIER!$B$1))/2)","v":0},{"$f":"(COUNTIF(CALENDRIER!DX$739:DX$1103,CALENDRIER!$A$1))+((COUNTIF(CALENDRIER!DX$739:DX$1103,CALENDRIER!$B$1))/2)","v":0},{"$f":"(COUNTIF(CALENDRIER!DY$739:DY$1103,CALENDRIER!$A$1))+((COUNTIF(CALENDRIER!DY$739:DY$1103,CALENDRIER!$B$1))/2)","v":0},{"$f":"(COUNTIF(CALENDRIER!DZ$739:DZ$1103,CALENDRIER!$A$1))+((COUNTIF(CALENDRIER!DZ$739:DZ$1103,CALENDRIER!$B$1))/2)","v":0},{"$f":"(COUNTIF(CALENDRIER!EA$739:EA$1103,CALENDRIER!$A$1))+((COUNTIF(CALENDRIER!EA$739:EA$1103,CALENDRIER!$B$1))/2)","v":0},{"$f":"(COUNTIF(CALENDRIER!EB$739:EB$1103,CALENDRIER!$A$1))+((COUNTIF(CALENDRIER!EB$739:EB$1103,CALENDRIER!$B$1))/2)","v":0},{"$f":"(COUNTIF(CALENDRIER!EC$739:EC$1103,CALENDRIER!$A$1))+((COUNTIF(CALENDRIER!EC$739:EC$1103,CALENDRIER!$B$1))/2)","v":0},{"$f":"(COUNTIF(CALENDRIER!ED$739:ED$1103,CALENDRIER!$A$1))+((COUNTIF(CALENDRIER!ED$739:ED$1103,CALENDRIER!$B$1))/2)","v":0},{"$f":"(COUNTIF(CALENDRIER!EE$739:EE$1103,CALENDRIER!$A$1))+((COUNTIF(CALENDRIER!EE$739:EE$1103,CALENDRIER!$B$1))/2)","v":0},{"$f":"(COUNTIF(CALENDRIER!EF$739:EF$1103,CALENDRIER!$A$1))+((COUNTIF(CALENDRIER!EF$739:EF$1103,CALENDRIER!$B$1))/2)","v":0},{"$f":"(COUNTIF(CALENDRIER!EG$739:EG$1103,CALENDRIER!$A$1))+((COUNTIF(CALENDRIER!EG$739:EG$1103,CALENDRIER!$B$1))/2)","v":0},{"$f":"(COUNTIF(CALENDRIER!EH$739:EH$1103,CALENDRIER!$A$1))+((COUNTIF(CALENDRIER!EH$739:EH$1103,CALENDRIER!$B$1))/2)","v":0},{"$f":"(COUNTIF(CALENDRIER!EI$739:EI$1103,CALENDRIER!$A$1))+((COUNTIF(CALENDRIER!EI$739:EI$1103,CALENDRIER!$B$1))/2)","v":0},{"$f":"(COUNTIF(CALENDRIER!EJ$739:EJ$1103,CALENDRIER!$A$1))+((COUNTIF(CALENDRIER!EJ$739:EJ$1103,CALENDRIER!$B$1))/2)","v":0},{"$f":"(COUNTIF(CALENDRIER!EK$739:EK$1103,CALENDRIER!$A$1))+((COUNTIF(CALENDRIER!EK$739:EK$1103,CALENDRIER!$B$1))/2)","v":0},{"$f":"(COUNTIF(CALENDRIER!EL$739:EL$1103,CALENDRIER!$A$1))+((COUNTIF(CALENDRIER!EL$739:EL$1103,CALENDRIER!$B$1))/2)","v":0},{"$f":"(COUNTIF(CALENDRIER!EM$739:EM$1103,CALENDRIER!$A$1))+((COUNTIF(CALENDRIER!EM$739:EM$1103,CALENDRIER!$B$1))/2)","v":0},{"$f":"(COUNTIF(CALENDRIER!EN$739:EN$1103,CALENDRIER!$A$1))+((COUNTIF(CALENDRIER!EN$739:EN$1103,CALENDRIER!$B$1))/2)","v":0},{"$f":"(COUNTIF(CALENDRIER!EO$739:EO$1103,CALENDRIER!$A$1))+((COUNTIF(CALENDRIER!EO$739:EO$1103,CALENDRIER!$B$1))/2)","v":0},{"$f":"(COUNTIF(CALENDRIER!EP$739:EP$1103,CALENDRIER!$A$1))+((COUNTIF(CALENDRIER!EP$739:EP$1103,CALENDRIER!$B$1))/2)","v":0},{"$f":"(COUNTIF(CALENDRIER!EQ$739:EQ$1103,CALENDRIER!$A$1))+((COUNTIF(CALENDRIER!EQ$739:EQ$1103,CALENDRIER!$B$1))/2)","v":0},{"$f":"(COUNTIF(CALENDRIER!ER$739:ER$1103,CALENDRIER!$A$1))+((COUNTIF(CALENDRIER!ER$739:ER$1103,CALENDRIER!$B$1))/2)","v":0},{"$f":"(COUNTIF(CALENDRIER!ES$739:ES$1103,CALENDRIER!$A$1))+((COUNTIF(CALENDRIER!ES$739:ES$1103,CALENDRIER!$B$1))/2)","v":0},{"$f":"(COUNTIF(CALENDRIER!ET$739:ET$1103,CALENDRIER!$A$1))+((COUNTIF(CALENDRIER!ET$739:ET$1103,CALENDRIER!$B$1))/2)","v":0},{"$f":"(COUNTIF(CALENDRIER!EU$739:EU$1103,CALENDRIER!$A$1))+((COUNTIF(CALENDRIER!EU$739:EU$1103,CALENDRIER!$B$1))/2)","v":0},{"$f":"(COUNTIF(CALENDRIER!EV$739:EV$1103,CALENDRIER!$A$1))+((COUNTIF(CALENDRIER!EV$739:EV$1103,CALENDRIER!$B$1))/2)","v":0},{"$f":"(COUNTIF(CALENDRIER!EW$739:EW$1103,CALENDRIER!$A$1))+((COUNTIF(CALENDRIER!EW$739:EW$1103,CALENDRIER!$B$1))/2)","v":0},{"$f":"(COUNTIF(CALENDRIER!EX$739:EX$1103,CALENDRIER!$A$1))+((COUNTIF(CALENDRIER!EX$739:EX$1103,CALENDRIER!$B$1))/2)","v":0},{"$f":"(COUNTIF(CALENDRIER!EY$739:EY$1103,CALENDRIER!$A$1))+((COUNTIF(CALENDRIER!EY$739:EY$1103,CALENDRIER!$B$1))/2)","v":0},{"$f":"(COUNTIF(CALENDRIER!EZ$739:EZ$1103,CALENDRIER!$A$1))+((COUNTIF(CALENDRIER!EZ$739:EZ$1103,CALENDRIER!$B$1))/2)","v":0},{"$f":"(COUNTIF(CALENDRIER!FA$739:FA$1103,CALENDRIER!$A$1))+((COUNTIF(CALENDRIER!FA$739:FA$1103,CALENDRIER!$B$1))/2)","v":0},{"$f":"(COUNTIF(CALENDRIER!FB$739:FB$1103,CALENDRIER!$A$1))+((COUNTIF(CALENDRIER!FB$739:FB$1103,CALENDRIER!$B$1))/2)","v":0},{"$f":"(COUNTIF(CALENDRIER!FC$739:FC$1103,CALENDRIER!$A$1))+((COUNTIF(CALENDRIER!FC$739:FC$1103,CALENDRIER!$B$1))/2)","v":0},{"$f":"(COUNTIF(CALENDRIER!FD$739:FD$1103,CALENDRIER!$A$1))+((COUNTIF(CALENDRIER!FD$739:FD$1103,CALENDRIER!$B$1))/2)","v":0},{"$f":"(COUNTIF(CALENDRIER!FE$739:FE$1103,CALENDRIER!$A$1))+((COUNTIF(CALENDRIER!FE$739:FE$1103,CALENDRIER!$B$1))/2)","v":0},{"$f":"(COUNTIF(CALENDRIER!FF$739:FF$1103,CALENDRIER!$A$1))+((COUNTIF(CALENDRIER!FF$739:FF$1103,CALENDRIER!$B$1))/2)","v":0},{"$f":"(COUNTIF(CALENDRIER!FG$739:FG$1103,CALENDRIER!$A$1))+((COUNTIF(CALENDRIER!FG$739:FG$1103,CALENDRIER!$B$1))/2)","v":0},{"$f":"(COUNTIF(CALENDRIER!FH$739:FH$1103,CALENDRIER!$A$1))+((COUNTIF(CALENDRIER!FH$739:FH$1103,CALENDRIER!$B$1))/2)","v":0},{"$f":"(COUNTIF(CALENDRIER!FI$739:FI$1103,CALENDRIER!$A$1))+((COUNTIF(CALENDRIER!FI$739:FI$1103,CALENDRIER!$B$1))/2)","v":0},{"$f":"(COUNTIF(CALENDRIER!FJ$739:FJ$1103,CALENDRIER!$A$1))+((COUNTIF(CALENDRIER!FJ$739:FJ$1103,CALENDRIER!$B$1))/2)","v":0},{"$f":"(COUNTIF(CALENDRIER!FK$739:FK$1103,CALENDRIER!$A$1))+((COUNTIF(CALENDRIER!FK$739:FK$1103,CALENDRIER!$B$1))/2)","v":0},{"$f":"(COUNTIF(CALENDRIER!FL$739:FL$1103,CALENDRIER!$A$1))+((COUNTIF(CALENDRIER!FL$739:FL$1103,CALENDRIER!$B$1))/2)","v":0},{"$f":"(COUNTIF(CALENDRIER!FM$739:FM$1103,CALENDRIER!$A$1))+((COUNTIF(CALENDRIER!FM$739:FM$1103,CALENDRIER!$B$1))/2)","v":0},{"$f":"(COUNTIF(CALENDRIER!FN$739:FN$1103,CALENDRIER!$A$1))+((COUNTIF(CALENDRIER!FN$739:FN$1103,CALENDRIER!$B$1))/2)","v":0},{"$f":"(COUNTIF(CALENDRIER!FO$739:FO$1103,CALENDRIER!$A$1))+((COUNTIF(CALENDRIER!FO$739:FO$1103,CALENDRIER!$B$1))/2)","v":0},{"$f":"(COUNTIF(CALENDRIER!FP$739:FP$1103,CALENDRIER!$A$1))+((COUNTIF(CALENDRIER!FP$739:FP$1103,CALENDRIER!$B$1))/2)","v":0},{"$f":"(COUNTIF(CALENDRIER!FQ$739:FQ$1103,CALENDRIER!$A$1))+((COUNTIF(CALENDRIER!FQ$739:FQ$1103,CALENDRIER!$B$1))/2)","v":0},{"$f":"(COUNTIF(CALENDRIER!FR$739:FR$1103,CALENDRIER!$A$1))+((COUNTIF(CALENDRIER!FR$739:FR$1103,CALENDRIER!$B$1))/2)","v":0},{"$f":"(COUNTIF(CALENDRIER!FS$739:FS$1103,CALENDRIER!$A$1))+((COUNTIF(CALENDRIER!FS$739:FS$1103,CALENDRIER!$B$1))/2)","v":0},{"$f":"(COUNTIF(CALENDRIER!FT$739:FT$1103,CALENDRIER!$A$1))+((COUNTIF(CALENDRIER!FT$739:FT$1103,CALENDRIER!$B$1))/2)","v":0},{"$f":"(COUNTIF(CALENDRIER!FU$739:FU$1103,CALENDRIER!$A$1))+((COUNTIF(CALENDRIER!FU$739:FU$1103,CALENDRIER!$B$1))/2)","v":0},{"$f":"(COUNTIF(CALENDRIER!FV$739:FV$1103,CALENDRIER!$A$1))+((COUNTIF(CALENDRIER!FV$739:FV$1103,CALENDRIER!$B$1))/2)","v":0},{"$f":"(COUNTIF(CALENDRIER!FW$739:FW$1103,CALENDRIER!$A$1))+((COUNTIF(CALENDRIER!FW$739:FW$1103,CALENDRIER!$B$1))/2)","v":0},{"$f":"(COUNTIF(CALENDRIER!FX$739:FX$1103,CALENDRIER!$A$1))+((COUNTIF(CALENDRIER!FX$739:FX$1103,CALENDRIER!$B$1))/2)","v":0},{"$f":"(COUNTIF(CALENDRIER!FY$739:FY$1103,CALENDRIER!$A$1))+((COUNTIF(CALENDRIER!FY$739:FY$1103,CALENDRIER!$B$1))/2)","v":0},{"$f":"(COUNTIF(CALENDRIER!FZ$739:FZ$1103,CALENDRIER!$A$1))+((COUNTIF(CALENDRIER!FZ$739:FZ$1103,CALENDRIER!$B$1))/2)","v":0},{"$f":"(COUNTIF(CALENDRIER!GA$739:GA$1103,CALENDRIER!$A$1))+((COUNTIF(CALENDRIER!GA$739:GA$1103,CALENDRIER!$B$1))/2)","v":0},{"$f":"(COUNTIF(CALENDRIER!GB$739:GB$1103,CALENDRIER!$A$1))+((COUNTIF(CALENDRIER!GB$739:GB$1103,CALENDRIER!$B$1))/2)","v":0},{"$f":"(COUNTIF(CALENDRIER!GC$739:GC$1103,CALENDRIER!$A$1))+((COUNTIF(CALENDRIER!GC$739:GC$1103,CALENDRIER!$B$1))/2)","v":0},{"$f":"(COUNTIF(CALENDRIER!GD$739:GD$1103,CALENDRIER!$A$1))+((COUNTIF(CALENDRIER!GD$739:GD$1103,CALENDRIER!$B$1))/2)","v":0},{"$f":"(COUNTIF(CALENDRIER!GE$739:GE$1103,CALENDRIER!$A$1))+((COUNTIF(CALENDRIER!GE$739:GE$1103,CALENDRIER!$B$1))/2)","v":0},{"$f":"(COUNTIF(CALENDRIER!GF$739:GF$1103,CALENDRIER!$A$1))+((COUNTIF(CALENDRIER!GF$739:GF$1103,CALENDRIER!$B$1))/2)","v":0},{"$f":"(COUNTIF(CALENDRIER!GG$739:GG$1103,CALENDRIER!$A$1))+((COUNTIF(CALENDRIER!GG$739:GG$1103,CALENDRIER!$B$1))/2)","v":0},{"$f":"(COUNTIF(CALENDRIER!GH$739:GH$1103,CALENDRIER!$A$1))+((COUNTIF(CALENDRIER!GH$739:GH$1103,CALENDRIER!$B$1))/2)","v":0},{"$f":"(COUNTIF(CALENDRIER!GI$739:GI$1103,CALENDRIER!$A$1))+((COUNTIF(CALENDRIER!GI$739:GI$1103,CALENDRIER!$B$1))/2)","v":0},{"$f":"(COUNTIF(CALENDRIER!GJ$739:GJ$1103,CALENDRIER!$A$1))+((COUNTIF(CALENDRIER!GJ$739:GJ$1103,CALENDRIER!$B$1))/2)","v":0},{"$f":"(COUNTIF(CALENDRIER!GK$739:GK$1103,CALENDRIER!$A$1))+((COUNTIF(CALENDRIER!GK$739:GK$1103,CALENDRIER!$B$1))/2)","v":0},{"$f":"(COUNTIF(CALENDRIER!GL$739:GL$1103,CALENDRIER!$A$1))+((COUNTIF(CALENDRIER!GL$739:GL$1103,CALENDRIER!$B$1))/2)","v":0},{"$f":"(COUNTIF(CALENDRIER!GM$739:GM$1103,CALENDRIER!$A$1))+((COUNTIF(CALENDRIER!GM$739:GM$1103,CALENDRIER!$B$1))/2)","v":0},{"$f":"(COUNTIF(CALENDRIER!GN$739:GN$1103,CALENDRIER!$A$1))+((COUNTIF(CALENDRIER!GN$739:GN$1103,CALENDRIER!$B$1))/2)","v":0},{"$f":"(COUNTIF(CALENDRIER!GO$739:GO$1103,CALENDRIER!$A$1))+((COUNTIF(CALENDRIER!GO$739:GO$1103,CALENDRIER!$B$1))/2)","v":0},{"$f":"(COUNTIF(CALENDRIER!GP$739:GP$1103,CALENDRIER!$A$1))+((COUNTIF(CALENDRIER!GP$739:GP$1103,CALENDRIER!$B$1))/2)","v":0},{"$f":"(COUNTIF(CALENDRIER!GQ$739:GQ$1103,CALENDRIER!$A$1))+((COUNTIF(CALENDRIER!GQ$739:GQ$1103,CALENDRIER!$B$1))/2)","v":0},{"$f":"(COUNTIF(CALENDRIER!GR$739:GR$1103,CALENDRIER!$A$1))+((COUNTIF(CALENDRIER!GR$739:GR$1103,CALENDRIER!$B$1))/2)","v":0}]
[null,{"$f":"\"Solde \"&CALENDRIER!$A$1&\" \"&A24&\" : \"","v":"Solde CP 2017-2018 : "},{"$f":"C25-C26","v":0},{"$f":"D25-D26","v":0},0,0,0,0,0,0,0,0,0,0,0,0,0,0,0,0,0,0,0,0,0,0,0,0,0,0,0,0,0,0,0,0,0,0,0,0,0,0,0,0,0,0,0,0,0,0,0,0,0,0,0,0,0,0,0,0,0,0,0,0,0,0,0,{"$f":"BP25-BP26","v":0},0,0,0,0,0,0,0,0,0,0,0,0,0,0,0,0,0,0,0,0,0,0,0,0,0,0,0,0,0,0,0,0,0,0,0,0,0,0,0,0,0,0,0,0,0,0,0,0,0,0,0,0,0,0,0,0,0,0,0,0,0,0,0,{"$f":"EB25-EB26","v":0},0,0,0,0,0,0,0,0,0,0,0,0,0,0,0,0,0,0,0,0,0,0,0,0,0,0,0,0,0,0,0,0,0,0,0,0,0,0,0,0,0,0,0,0,0,0,0,0,0,0,0,0,0,0,0,0,0,0,0,0,0,0,0,{"$f":"GN25-GN26","v":0},0,0,0,0]
[]
["2018-2019",{"$f":"CALENDRIER!$A$1","v":"CP"}]
[null,"SOLDE DEPART"]
[null,{"$f":"CALENDRIER!$A$1&\" PRIS\"","v":"CP PRIS"},{"$f":"(COUNTIF(CALENDRIER!C$1104:C$1468,CALENDRIER!$A$1))+((COUNTIF(CALENDRIER!C$1104:C$1468,CALENDRIER!$B$1))/2)","v":0},{"$f":"(COUNTIF(CALENDRIER!D$1104:D$1468,CALENDRIER!$A$1))+((COUNTIF(CALENDRIER!D$1104:D$1468,CALENDRIER!$B$1))/2)","v":0},{"$f":"(COUNTIF(CALENDRIER!E$1104:E$1468,CALENDRIER!$A$1))+((COUNTIF(CALENDRIER!E$1104:E$1468,CALENDRIER!$B$1))/2)","v":0},{"$f":"(COUNTIF(CALENDRIER!F$1104:F$1468,CALENDRIER!$A$1))+((COUNTIF(CALENDRIER!F$1104:F$1468,CALENDRIER!$B$1))/2)","v":0},{"$f":"(COUNTIF(CALENDRIER!G$1104:G$1468,CALENDRIER!$A$1))+((COUNTIF(CALENDRIER!G$1104:G$1468,CALENDRIER!$B$1))/2)","v":0},{"$f":"(COUNTIF(CALENDRIER!H$1104:H$1468,CALENDRIER!$A$1))+((COUNTIF(CALENDRIER!H$1104:H$1468,CALENDRIER!$B$1))/2)","v":0},{"$f":"(COUNTIF(CALENDRIER!I$1104:I$1468,CALENDRIER!$A$1))+((COUNTIF(CALENDRIER!I$1104:I$1468,CALENDRIER!$B$1))/2)","v":0},{"$f":"(COUNTIF(CALENDRIER!J$1104:J$1468,CALENDRIER!$A$1))+((COUNTIF(CALENDRIER!J$1104:J$1468,CALENDRIER!$B$1))/2)","v":0},{"$f":"(COUNTIF(CALENDRIER!K$1104:K$1468,CALENDRIER!$A$1))+((COUNTIF(CALENDRIER!K$1104:K$1468,CALENDRIER!$B$1))/2)","v":0},{"$f":"(COUNTIF(CALENDRIER!L$1104:L$1468,CALENDRIER!$A$1))+((COUNTIF(CALENDRIER!L$1104:L$1468,CALENDRIER!$B$1))/2)","v":0},{"$f":"(COUNTIF(CALENDRIER!M$1104:M$1468,CALENDRIER!$A$1))+((COUNTIF(CALENDRIER!M$1104:M$1468,CALENDRIER!$B$1))/2)","v":0},{"$f":"(COUNTIF(CALENDRIER!N$1104:N$1468,CALENDRIER!$A$1))+((COUNTIF(CALENDRIER!N$1104:N$1468,CALENDRIER!$B$1))/2)","v":0},{"$f":"(COUNTIF(CALENDRIER!O$1104:O$1468,CALENDRIER!$A$1))+((COUNTIF(CALENDRIER!O$1104:O$1468,CALENDRIER!$B$1))/2)","v":0},{"$f":"(COUNTIF(CALENDRIER!P$1104:P$1468,CALENDRIER!$A$1))+((COUNTIF(CALENDRIER!P$1104:P$1468,CALENDRIER!$B$1))/2)","v":0},{"$f":"(COUNTIF(CALENDRIER!Q$1104:Q$1468,CALENDRIER!$A$1))+((COUNTIF(CALENDRIER!Q$1104:Q$1468,CALENDRIER!$B$1))/2)","v":0},{"$f":"(COUNTIF(CALENDRIER!R$1104:R$1468,CALENDRIER!$A$1))+((COUNTIF(CALENDRIER!R$1104:R$1468,CALENDRIER!$B$1))/2)","v":0},{"$f":"(COUNTIF(CALENDRIER!S$1104:S$1468,CALENDRIER!$A$1))+((COUNTIF(CALENDRIER!S$1104:S$1468,CALENDRIER!$B$1))/2)","v":0},{"$f":"(COUNTIF(CALENDRIER!T$1104:T$1468,CALENDRIER!$A$1))+((COUNTIF(CALENDRIER!T$1104:T$1468,CALENDRIER!$B$1))/2)","v":0},{"$f":"(COUNTIF(CALENDRIER!U$1104:U$1468,CALENDRIER!$A$1))+((COUNTIF(CALENDRIER!U$1104:U$1468,CALENDRIER!$B$1))/2)","v":0},{"$f":"(COUNTIF(CALENDRIER!V$1104:V$1468,CALENDRIER!$A$1))+((COUNTIF(CALENDRIER!V$1104:V$1468,CALENDRIER!$B$1))/2)","v":0},{"$f":"(COUNTIF(CALENDRIER!W$1104:W$1468,CALENDRIER!$A$1))+((COUNTIF(CALENDRIER!W$1104:W$1468,CALENDRIER!$B$1))/2)","v":0},{"$f":"(COUNTIF(CALENDRIER!X$1104:X$1468,CALENDRIER!$A$1))+((COUNTIF(CALENDRIER!X$1104:X$1468,CALENDRIER!$B$1))/2)","v":0},{"$f":"(COUNTIF(CALENDRIER!Y$1104:Y$1468,CALENDRIER!$A$1))+((COUNTIF(CALENDRIER!Y$1104:Y$1468,CALENDRIER!$B$1))/2)","v":0},{"$f":"(COUNTIF(CALENDRIER!Z$1104:Z$1468,CALENDRIER!$A$1))+((COUNTIF(CALENDRIER!Z$1104:Z$1468,CALENDRIER!$B$1))/2)","v":0},{"$f":"(COUNTIF(CALENDRIER!AA$1104:AA$1468,CALENDRIER!$A$1))+((COUNTIF(CALENDRIER!AA$1104:AA$1468,CALENDRIER!$B$1))/2)","v":0},{"$f":"(COUNTIF(CALENDRIER!AB$1104:AB$1468,CALENDRIER!$A$1))+((COUNTIF(CALENDRIER!AB$1104:AB$1468,CALENDRIER!$B$1))/2)","v":0},{"$f":"(COUNTIF(CALENDRIER!AC$1104:AC$1468,CALENDRIER!$A$1))+((COUNTIF(CALENDRIER!AC$1104:AC$1468,CALENDRIER!$B$1))/2)","v":0},{"$f":"(COUNTIF(CALENDRIER!AD$1104:AD$1468,CALENDRIER!$A$1))+((COUNTIF(CALENDRIER!AD$1104:AD$1468,CALENDRIER!$B$1))/2)","v":0},{"$f":"(COUNTIF(CALENDRIER!AE$1104:AE$1468,CALENDRIER!$A$1))+((COUNTIF(CALENDRIER!AE$1104:AE$1468,CALENDRIER!$B$1))/2)","v":0},{"$f":"(COUNTIF(CALENDRIER!AF$1104:AF$1468,CALENDRIER!$A$1))+((COUNTIF(CALENDRIER!AF$1104:AF$1468,CALENDRIER!$B$1))/2)","v":0},{"$f":"(COUNTIF(CALENDRIER!AG$1104:AG$1468,CALENDRIER!$A$1))+((COUNTIF(CALENDRIER!AG$1104:AG$1468,CALENDRIER!$B$1))/2)","v":0},{"$f":"(COUNTIF(CALENDRIER!AH$1104:AH$1468,CALENDRIER!$A$1))+((COUNTIF(CALENDRIER!AH$1104:AH$1468,CALENDRIER!$B$1))/2)","v":0},{"$f":"(COUNTIF(CALENDRIER!AI$1104:AI$1468,CALENDRIER!$A$1))+((COUNTIF(CALENDRIER!AI$1104:AI$1468,CALENDRIER!$B$1))/2)","v":0},{"$f":"(COUNTIF(CALENDRIER!AJ$1104:AJ$1468,CALENDRIER!$A$1))+((COUNTIF(CALENDRIER!AJ$1104:AJ$1468,CALENDRIER!$B$1))/2)","v":0},{"$f":"(COUNTIF(CALENDRIER!AK$1104:AK$1468,CALENDRIER!$A$1))+((COUNTIF(CALENDRIER!AK$1104:AK$1468,CALENDRIER!$B$1))/2)","v":0},{"$f":"(COUNTIF(CALENDRIER!AL$1104:AL$1468,CALENDRIER!$A$1))+((COUNTIF(CALENDRIER!AL$1104:AL$1468,CALENDRIER!$B$1))/2)","v":0},{"$f":"(COUNTIF(CALENDRIER!AM$1104:AM$1468,CALENDRIER!$A$1))+((COUNTIF(CALENDRIER!AM$1104:AM$1468,CALENDRIER!$B$1))/2)","v":0},{"$f":"(COUNTIF(CALENDRIER!AN$1104:AN$1468,CALENDRIER!$A$1))+((COUNTIF(CALENDRIER!AN$1104:AN$1468,CALENDRIER!$B$1))/2)","v":0},{"$f":"(COUNTIF(CALENDRIER!AO$1104:AO$1468,CALENDRIER!$A$1))+((COUNTIF(CALENDRIER!AO$1104:AO$1468,CALENDRIER!$B$1))/2)","v":0},{"$f":"(COUNTIF(CALENDRIER!AP$1104:AP$1468,CALENDRIER!$A$1))+((COUNTIF(CALENDRIER!AP$1104:AP$1468,CALENDRIER!$B$1))/2)","v":0},{"$f":"(COUNTIF(CALENDRIER!AQ$1104:AQ$1468,CALENDRIER!$A$1))+((COUNTIF(CALENDRIER!AQ$1104:AQ$1468,CALENDRIER!$B$1))/2)","v":0},{"$f":"(COUNTIF(CALENDRIER!AR$1104:AR$1468,CALENDRIER!$A$1))+((COUNTIF(CALENDRIER!AR$1104:AR$1468,CALENDRIER!$B$1))/2)","v":0},{"$f":"(COUNTIF(CALENDRIER!AS$1104:AS$1468,CALENDRIER!$A$1))+((COUNTIF(CALENDRIER!AS$1104:AS$1468,CALENDRIER!$B$1))/2)","v":0},{"$f":"(COUNTIF(CALENDRIER!AT$1104:AT$1468,CALENDRIER!$A$1))+((COUNTIF(CALENDRIER!AT$1104:AT$1468,CALENDRIER!$B$1))/2)","v":0},{"$f":"(COUNTIF(CALENDRIER!AU$1104:AU$1468,CALENDRIER!$A$1))+((COUNTIF(CALENDRIER!AU$1104:AU$1468,CALENDRIER!$B$1))/2)","v":0},{"$f":"(COUNTIF(CALENDRIER!AV$1104:AV$1468,CALENDRIER!$A$1))+((COUNTIF(CALENDRIER!AV$1104:AV$1468,CALENDRIER!$B$1))/2)","v":0},{"$f":"(COUNTIF(CALENDRIER!AW$1104:AW$1468,CALENDRIER!$A$1))+((COUNTIF(CALENDRIER!AW$1104:AW$1468,CALENDRIER!$B$1))/2)","v":0},{"$f":"(COUNTIF(CALENDRIER!AX$1104:AX$1468,CALENDRIER!$A$1))+((COUNTIF(CALENDRIER!AX$1104:AX$1468,CALENDRIER!$B$1))/2)","v":0},{"$f":"(COUNTIF(CALENDRIER!AY$1104:AY$1468,CALENDRIER!$A$1))+((COUNTIF(CALENDRIER!AY$1104:AY$1468,CALENDRIER!$B$1))/2)","v":0},{"$f":"(COUNTIF(CALENDRIER!AZ$1104:AZ$1468,CALENDRIER!$A$1))+((COUNTIF(CALENDRIER!AZ$1104:AZ$1468,CALENDRIER!$B$1))/2)","v":0},{"$f":"(COUNTIF(CALENDRIER!BA$1104:BA$1468,CALENDRIER!$A$1))+((COUNTIF(CALENDRIER!BA$1104:BA$1468,CALENDRIER!$B$1))/2)","v":0},{"$f":"(COUNTIF(CALENDRIER!BB$1104:BB$1468,CALENDRIER!$A$1))+((COUNTIF(CALENDRIER!BB$1104:BB$1468,CALENDRIER!$B$1))/2)","v":0},{"$f":"(COUNTIF(CALENDRIER!BC$1104:BC$1468,CALENDRIER!$A$1))+((COUNTIF(CALENDRIER!BC$1104:BC$1468,CALENDRIER!$B$1))/2)","v":0},{"$f":"(COUNTIF(CALENDRIER!BD$1104:BD$1468,CALENDRIER!$A$1))+((COUNTIF(CALENDRIER!BD$1104:BD$1468,CALENDRIER!$B$1))/2)","v":0},{"$f":"(COUNTIF(CALENDRIER!BE$1104:BE$1468,CALENDRIER!$A$1))+((COUNTIF(CALENDRIER!BE$1104:BE$1468,CALENDRIER!$B$1))/2)","v":0},{"$f":"(COUNTIF(CALENDRIER!BF$1104:BF$1468,CALENDRIER!$A$1))+((COUNTIF(CALENDRIER!BF$1104:BF$1468,CALENDRIER!$B$1))/2)","v":0},{"$f":"(COUNTIF(CALENDRIER!BG$1104:BG$1468,CALENDRIER!$A$1))+((COUNTIF(CALENDRIER!BG$1104:BG$1468,CALENDRIER!$B$1))/2)","v":0},{"$f":"(COUNTIF(CALENDRIER!BH$1104:BH$1468,CALENDRIER!$A$1))+((COUNTIF(CALENDRIER!BH$1104:BH$1468,CALENDRIER!$B$1))/2)","v":0},{"$f":"(COUNTIF(CALENDRIER!BI$1104:BI$1468,CALENDRIER!$A$1))+((COUNTIF(CALENDRIER!BI$1104:BI$1468,CALENDRIER!$B$1))/2)","v":0},{"$f":"(COUNTIF(CALENDRIER!BJ$1104:BJ$1468,CALENDRIER!$A$1))+((COUNTIF(CALENDRIER!BJ$1104:BJ$1468,CALENDRIER!$B$1))/2)","v":0},{"$f":"(COUNTIF(CALENDRIER!BK$1104:BK$1468,CALENDRIER!$A$1))+((COUNTIF(CALENDRIER!BK$1104:BK$1468,CALENDRIER!$B$1))/2)","v":0},{"$f":"(COUNTIF(CALENDRIER!BL$1104:BL$1468,CALENDRIER!$A$1))+((COUNTIF(CALENDRIER!BL$1104:BL$1468,CALENDRIER!$B$1))/2)","v":0},{"$f":"(COUNTIF(CALENDRIER!BM$1104:BM$1468,CALENDRIER!$A$1))+((COUNTIF(CALENDRIER!BM$1104:BM$1468,CALENDRIER!$B$1))/2)","v":0},{"$f":"(COUNTIF(CALENDRIER!BN$1104:BN$1468,CALENDRIER!$A$1))+((COUNTIF(CALENDRIER!BN$1104:BN$1468,CALENDRIER!$B$1))/2)","v":0},{"$f":"(COUNTIF(CALENDRIER!BO$1104:BO$1468,CALENDRIER!$A$1))+((COUNTIF(CALENDRIER!BO$1104:BO$1468,CALENDRIER!$B$1))/2)","v":0},{"$f":"(COUNTIF(CALENDRIER!BP$1104:BP$1468,CALENDRIER!$A$1))+((COUNTIF(CALENDRIER!BP$1104:BP$1468,CALENDRIER!$B$1))/2)","v":0},{"$f":"(COUNTIF(CALENDRIER!BQ$1104:BQ$1468,CALENDRIER!$A$1))+((COUNTIF(CALENDRIER!BQ$1104:BQ$1468,CALENDRIER!$B$1))/2)","v":0},{"$f":"(COUNTIF(CALENDRIER!BR$1104:BR$1468,CALENDRIER!$A$1))+((COUNTIF(CALENDRIER!BR$1104:BR$1468,CALENDRIER!$B$1))/2)","v":0},{"$f":"(COUNTIF(CALENDRIER!BS$1104:BS$1468,CALENDRIER!$A$1))+((COUNTIF(CALENDRIER!BS$1104:BS$1468,CALENDRIER!$B$1))/2)","v":0},{"$f":"(COUNTIF(CALENDRIER!BT$1104:BT$1468,CALENDRIER!$A$1))+((COUNTIF(CALENDRIER!BT$1104:BT$1468,CALENDRIER!$B$1))/2)","v":0},{"$f":"(COUNTIF(CALENDRIER!BU$1104:BU$1468,CALENDRIER!$A$1))+((COUNTIF(CALENDRIER!BU$1104:BU$1468,CALENDRIER!$B$1))/2)","v":0},{"$f":"(COUNTIF(CALENDRIER!BV$1104:BV$1468,CALENDRIER!$A$1))+((COUNTIF(CALENDRIER!BV$1104:BV$1468,CALENDRIER!$B$1))/2)","v":0},{"$f":"(COUNTIF(CALENDRIER!BW$1104:BW$1468,CALENDRIER!$A$1))+((COUNTIF(CALENDRIER!BW$1104:BW$1468,CALENDRIER!$B$1))/2)","v":0},{"$f":"(COUNTIF(CALENDRIER!BX$1104:BX$1468,CALENDRIER!$A$1))+((COUNTIF(CALENDRIER!BX$1104:BX$1468,CALENDRIER!$B$1))/2)","v":0},{"$f":"(COUNTIF(CALENDRIER!BY$1104:BY$1468,CALENDRIER!$A$1))+((COUNTIF(CALENDRIER!BY$1104:BY$1468,CALENDRIER!$B$1))/2)","v":0},{"$f":"(COUNTIF(CALENDRIER!BZ$1104:BZ$1468,CALENDRIER!$A$1))+((COUNTIF(CALENDRIER!BZ$1104:BZ$1468,CALENDRIER!$B$1))/2)","v":0},{"$f":"(COUNTIF(CALENDRIER!CA$1104:CA$1468,CALENDRIER!$A$1))+((COUNTIF(CALENDRIER!CA$1104:CA$1468,CALENDRIER!$B$1))/2)","v":0},{"$f":"(COUNTIF(CALENDRIER!CB$1104:CB$1468,CALENDRIER!$A$1))+((COUNTIF(CALENDRIER!CB$1104:CB$1468,CALENDRIER!$B$1))/2)","v":0},{"$f":"(COUNTIF(CALENDRIER!CC$1104:CC$1468,CALENDRIER!$A$1))+((COUNTIF(CALENDRIER!CC$1104:CC$1468,CALENDRIER!$B$1))/2)","v":0},{"$f":"(COUNTIF(CALENDRIER!CD$1104:CD$1468,CALENDRIER!$A$1))+((COUNTIF(CALENDRIER!CD$1104:CD$1468,CALENDRIER!$B$1))/2)","v":0},{"$f":"(COUNTIF(CALENDRIER!CE$1104:CE$1468,CALENDRIER!$A$1))+((COUNTIF(CALENDRIER!CE$1104:CE$1468,CALENDRIER!$B$1))/2)","v":0},{"$f":"(COUNTIF(CALENDRIER!CF$1104:CF$1468,CALENDRIER!$A$1))+((COUNTIF(CALENDRIER!CF$1104:CF$1468,CALENDRIER!$B$1))/2)","v":0},{"$f":"(COUNTIF(CALENDRIER!CG$1104:CG$1468,CALENDRIER!$A$1))+((COUNTIF(CALENDRIER!CG$1104:CG$1468,CALENDRIER!$B$1))/2)","v":0},{"$f":"(COUNTIF(CALENDRIER!CH$1104:CH$1468,CALENDRIER!$A$1))+((COUNTIF(CALENDRIER!CH$1104:CH$1468,CALENDRIER!$B$1))/2)","v":0},{"$f":"(COUNTIF(CALENDRIER!CI$1104:CI$1468,CALENDRIER!$A$1))+((COUNTIF(CALENDRIER!CI$1104:CI$1468,CALENDRIER!$B$1))/2)","v":0},{"$f":"(COUNTIF(CALENDRIER!CJ$1104:CJ$1468,CALENDRIER!$A$1))+((COUNTIF(CALENDRIER!CJ$1104:CJ$1468,CALENDRIER!$B$1))/2)","v":0},{"$f":"(COUNTIF(CALENDRIER!CK$1104:CK$1468,CALENDRIER!$A$1))+((COUNTIF(CALENDRIER!CK$1104:CK$1468,CALENDRIER!$B$1))/2)","v":0},{"$f":"(COUNTIF(CALENDRIER!CL$1104:CL$1468,CALENDRIER!$A$1))+((COUNTIF(CALENDRIER!CL$1104:CL$1468,CALENDRIER!$B$1))/2)","v":0},{"$f":"(COUNTIF(CALENDRIER!CM$1104:CM$1468,CALENDRIER!$A$1))+((COUNTIF(CALENDRIER!CM$1104:CM$1468,CALENDRIER!$B$1))/2)","v":0},{"$f":"(COUNTIF(CALENDRIER!CN$1104:CN$1468,CALENDRIER!$A$1))+((COUNTIF(CALENDRIER!CN$1104:CN$1468,CALENDRIER!$B$1))/2)","v":0},{"$f":"(COUNTIF(CALENDRIER!CO$1104:CO$1468,CALENDRIER!$A$1))+((COUNTIF(CALENDRIER!CO$1104:CO$1468,CALENDRIER!$B$1))/2)","v":0},{"$f":"(COUNTIF(CALENDRIER!CP$1104:CP$1468,CALENDRIER!$A$1))+((COUNTIF(CALENDRIER!CP$1104:CP$1468,CALENDRIER!$B$1))/2)","v":0},{"$f":"(COUNTIF(CALENDRIER!CQ$1104:CQ$1468,CALENDRIER!$A$1))+((COUNTIF(CALENDRIER!CQ$1104:CQ$1468,CALENDRIER!$B$1))/2)","v":0},{"$f":"(COUNTIF(CALENDRIER!CR$1104:CR$1468,CALENDRIER!$A$1))+((COUNTIF(CALENDRIER!CR$1104:CR$1468,CALENDRIER!$B$1))/2)","v":0},{"$f":"(COUNTIF(CALENDRIER!CS$1104:CS$1468,CALENDRIER!$A$1))+((COUNTIF(CALENDRIER!CS$1104:CS$1468,CALENDRIER!$B$1))/2)","v":0},{"$f":"(COUNTIF(CALENDRIER!CT$1104:CT$1468,CALENDRIER!$A$1))+((COUNTIF(CALENDRIER!CT$1104:CT$1468,CALENDRIER!$B$1))/2)","v":0},{"$f":"(COUNTIF(CALENDRIER!CU$1104:CU$1468,CALENDRIER!$A$1))+((COUNTIF(CALENDRIER!CU$1104:CU$1468,CALENDRIER!$B$1))/2)","v":0},{"$f":"(COUNTIF(CALENDRIER!CV$1104:CV$1468,CALENDRIER!$A$1))+((COUNTIF(CALENDRIER!CV$1104:CV$1468,CALENDRIER!$B$1))/2)","v":0},{"$f":"(COUNTIF(CALENDRIER!CW$1104:CW$1468,CALENDRIER!$A$1))+((COUNTIF(CALENDRIER!CW$1104:CW$1468,CALENDRIER!$B$1))/2)","v":0},{"$f":"(COUNTIF(CALENDRIER!CX$1104:CX$1468,CALENDRIER!$A$1))+((COUNTIF(CALENDRIER!CX$1104:CX$1468,CALENDRIER!$B$1))/2)","v":0},{"$f":"(COUNTIF(CALENDRIER!CY$1104:CY$1468,CALENDRIER!$A$1))+((COUNTIF(CALENDRIER!CY$1104:CY$1468,CALENDRIER!$B$1))/2)","v":0},{"$f":"(COUNTIF(CALENDRIER!CZ$1104:CZ$1468,CALENDRIER!$A$1))+((COUNTIF(CALENDRIER!CZ$1104:CZ$1468,CALENDRIER!$B$1))/2)","v":0},{"$f":"(COUNTIF(CALENDRIER!DA$1104:DA$1468,CALENDRIER!$A$1))+((COUNTIF(CALENDRIER!DA$1104:DA$1468,CALENDRIER!$B$1))/2)","v":0},{"$f":"(COUNTIF(CALENDRIER!DB$1104:DB$1468,CALENDRIER!$A$1))+((COUNTIF(CALENDRIER!DB$1104:DB$1468,CALENDRIER!$B$1))/2)","v":0},{"$f":"(COUNTIF(CALENDRIER!DC$1104:DC$1468,CALENDRIER!$A$1))+((COUNTIF(CALENDRIER!DC$1104:DC$1468,CALENDRIER!$B$1))/2)","v":0},{"$f":"(COUNTIF(CALENDRIER!DD$1104:DD$1468,CALENDRIER!$A$1))+((COUNTIF(CALENDRIER!DD$1104:DD$1468,CALENDRIER!$B$1))/2)","v":0},{"$f":"(COUNTIF(CALENDRIER!DE$1104:DE$1468,CALENDRIER!$A$1))+((COUNTIF(CALENDRIER!DE$1104:DE$1468,CALENDRIER!$B$1))/2)","v":0},{"$f":"(COUNTIF(CALENDRIER!DF$1104:DF$1468,CALENDRIER!$A$1))+((COUNTIF(CALENDRIER!DF$1104:DF$1468,CALENDRIER!$B$1))/2)","v":0},{"$f":"(COUNTIF(CALENDRIER!DG$1104:DG$1468,CALENDRIER!$A$1))+((COUNTIF(CALENDRIER!DG$1104:DG$1468,CALENDRIER!$B$1))/2)","v":0},{"$f":"(COUNTIF(CALENDRIER!DH$1104:DH$1468,CALENDRIER!$A$1))+((COUNTIF(CALENDRIER!DH$1104:DH$1468,CALENDRIER!$B$1))/2)","v":0},{"$f":"(COUNTIF(CALENDRIER!DI$1104:DI$1468,CALENDRIER!$A$1))+((COUNTIF(CALENDRIER!DI$1104:DI$1468,CALENDRIER!$B$1))/2)","v":0},{"$f":"(COUNTIF(CALENDRIER!DJ$1104:DJ$1468,CALENDRIER!$A$1))+((COUNTIF(CALENDRIER!DJ$1104:DJ$1468,CALENDRIER!$B$1))/2)","v":0},{"$f":"(COUNTIF(CALENDRIER!DK$1104:DK$1468,CALENDRIER!$A$1))+((COUNTIF(CALENDRIER!DK$1104:DK$1468,CALENDRIER!$B$1))/2)","v":0},{"$f":"(COUNTIF(CALENDRIER!DL$1104:DL$1468,CALENDRIER!$A$1))+((COUNTIF(CALENDRIER!DL$1104:DL$1468,CALENDRIER!$B$1))/2)","v":0},{"$f":"(COUNTIF(CALENDRIER!DM$1104:DM$1468,CALENDRIER!$A$1))+((COUNTIF(CALENDRIER!DM$1104:DM$1468,CALENDRIER!$B$1))/2)","v":0},{"$f":"(COUNTIF(CALENDRIER!DN$1104:DN$1468,CALENDRIER!$A$1))+((COUNTIF(CALENDRIER!DN$1104:DN$1468,CALENDRIER!$B$1))/2)","v":0},{"$f":"(COUNTIF(CALENDRIER!DO$1104:DO$1468,CALENDRIER!$A$1))+((COUNTIF(CALENDRIER!DO$1104:DO$1468,CALENDRIER!$B$1))/2)","v":0},{"$f":"(COUNTIF(CALENDRIER!DP$1104:DP$1468,CALENDRIER!$A$1))+((COUNTIF(CALENDRIER!DP$1104:DP$1468,CALENDRIER!$B$1))/2)","v":0},{"$f":"(COUNTIF(CALENDRIER!DQ$1104:DQ$1468,CALENDRIER!$A$1))+((COUNTIF(CALENDRIER!DQ$1104:DQ$1468,CALENDRIER!$B$1))/2)","v":0},{"$f":"(COUNTIF(CALENDRIER!DR$1104:DR$1468,CALENDRIER!$A$1))+((COUNTIF(CALENDRIER!DR$1104:DR$1468,CALENDRIER!$B$1))/2)","v":0},{"$f":"(COUNTIF(CALENDRIER!DS$1104:DS$1468,CALENDRIER!$A$1))+((COUNTIF(CALENDRIER!DS$1104:DS$1468,CALENDRIER!$B$1))/2)","v":0},{"$f":"(COUNTIF(CALENDRIER!DT$1104:DT$1468,CALENDRIER!$A$1))+((COUNTIF(CALENDRIER!DT$1104:DT$1468,CALENDRIER!$B$1))/2)","v":0},{"$f":"(COUNTIF(CALENDRIER!DU$1104:DU$1468,CALENDRIER!$A$1))+((COUNTIF(CALENDRIER!DU$1104:DU$1468,CALENDRIER!$B$1))/2)","v":0},{"$f":"(COUNTIF(CALENDRIER!DV$1104:DV$1468,CALENDRIER!$A$1))+((COUNTIF(CALENDRIER!DV$1104:DV$1468,CALENDRIER!$B$1))/2)","v":0},{"$f":"(COUNTIF(CALENDRIER!DW$1104:DW$1468,CALENDRIER!$A$1))+((COUNTIF(CALENDRIER!DW$1104:DW$1468,CALENDRIER!$B$1))/2)","v":0},{"$f":"(COUNTIF(CALENDRIER!DX$1104:DX$1468,CALENDRIER!$A$1))+((COUNTIF(CALENDRIER!DX$1104:DX$1468,CALENDRIER!$B$1))/2)","v":0},{"$f":"(COUNTIF(CALENDRIER!DY$1104:DY$1468,CALENDRIER!$A$1))+((COUNTIF(CALENDRIER!DY$1104:DY$1468,CALENDRIER!$B$1))/2)","v":0},{"$f":"(COUNTIF(CALENDRIER!DZ$1104:DZ$1468,CALENDRIER!$A$1))+((COUNTIF(CALENDRIER!DZ$1104:DZ$1468,CALENDRIER!$B$1))/2)","v":0},{"$f":"(COUNTIF(CALENDRIER!EA$1104:EA$1468,CALENDRIER!$A$1))+((COUNTIF(CALENDRIER!EA$1104:EA$1468,CALENDRIER!$B$1))/2)","v":0},{"$f":"(COUNTIF(CALENDRIER!EB$1104:EB$1468,CALENDRIER!$A$1))+((COUNTIF(CALENDRIER!EB$1104:EB$1468,CALENDRIER!$B$1))/2)","v":0},{"$f":"(COUNTIF(CALENDRIER!EC$1104:EC$1468,CALENDRIER!$A$1))+((COUNTIF(CALENDRIER!EC$1104:EC$1468,CALENDRIER!$B$1))/2)","v":0},{"$f":"(COUNTIF(CALENDRIER!ED$1104:ED$1468,CALENDRIER!$A$1))+((COUNTIF(CALENDRIER!ED$1104:ED$1468,CALENDRIER!$B$1))/2)","v":0},{"$f":"(COUNTIF(CALENDRIER!EE$1104:EE$1468,CALENDRIER!$A$1))+((COUNTIF(CALENDRIER!EE$1104:EE$1468,CALENDRIER!$B$1))/2)","v":0},{"$f":"(COUNTIF(CALENDRIER!EF$1104:EF$1468,CALENDRIER!$A$1))+((COUNTIF(CALENDRIER!EF$1104:EF$1468,CALENDRIER!$B$1))/2)","v":0},{"$f":"(COUNTIF(CALENDRIER!EG$1104:EG$1468,CALENDRIER!$A$1))+((COUNTIF(CALENDRIER!EG$1104:EG$1468,CALENDRIER!$B$1))/2)","v":0},{"$f":"(COUNTIF(CALENDRIER!EH$1104:EH$1468,CALENDRIER!$A$1))+((COUNTIF(CALENDRIER!EH$1104:EH$1468,CALENDRIER!$B$1))/2)","v":0},{"$f":"(COUNTIF(CALENDRIER!EI$1104:EI$1468,CALENDRIER!$A$1))+((COUNTIF(CALENDRIER!EI$1104:EI$1468,CALENDRIER!$B$1))/2)","v":0},{"$f":"(COUNTIF(CALENDRIER!EJ$1104:EJ$1468,CALENDRIER!$A$1))+((COUNTIF(CALENDRIER!EJ$1104:EJ$1468,CALENDRIER!$B$1))/2)","v":0},{"$f":"(COUNTIF(CALENDRIER!EK$1104:EK$1468,CALENDRIER!$A$1))+((COUNTIF(CALENDRIER!EK$1104:EK$1468,CALENDRIER!$B$1))/2)","v":0},{"$f":"(COUNTIF(CALENDRIER!EL$1104:EL$1468,CALENDRIER!$A$1))+((COUNTIF(CALENDRIER!EL$1104:EL$1468,CALENDRIER!$B$1))/2)","v":0},{"$f":"(COUNTIF(CALENDRIER!EM$1104:EM$1468,CALENDRIER!$A$1))+((COUNTIF(CALENDRIER!EM$1104:EM$1468,CALENDRIER!$B$1))/2)","v":0},{"$f":"(COUNTIF(CALENDRIER!EN$1104:EN$1468,CALENDRIER!$A$1))+((COUNTIF(CALENDRIER!EN$1104:EN$1468,CALENDRIER!$B$1))/2)","v":0},{"$f":"(COUNTIF(CALENDRIER!EO$1104:EO$1468,CALENDRIER!$A$1))+((COUNTIF(CALENDRIER!EO$1104:EO$1468,CALENDRIER!$B$1))/2)","v":0},{"$f":"(COUNTIF(CALENDRIER!EP$1104:EP$1468,CALENDRIER!$A$1))+((COUNTIF(CALENDRIER!EP$1104:EP$1468,CALENDRIER!$B$1))/2)","v":0},{"$f":"(COUNTIF(CALENDRIER!EQ$1104:EQ$1468,CALENDRIER!$A$1))+((COUNTIF(CALENDRIER!EQ$1104:EQ$1468,CALENDRIER!$B$1))/2)","v":0},{"$f":"(COUNTIF(CALENDRIER!ER$1104:ER$1468,CALENDRIER!$A$1))+((COUNTIF(CALENDRIER!ER$1104:ER$1468,CALENDRIER!$B$1))/2)","v":0},{"$f":"(COUNTIF(CALENDRIER!ES$1104:ES$1468,CALENDRIER!$A$1))+((COUNTIF(CALENDRIER!ES$1104:ES$1468,CALENDRIER!$B$1))/2)","v":0},{"$f":"(COUNTIF(CALENDRIER!ET$1104:ET$1468,CALENDRIER!$A$1))+((COUNTIF(CALENDRIER!ET$1104:ET$1468,CALENDRIER!$B$1))/2)","v":0},{"$f":"(COUNTIF(CALENDRIER!EU$1104:EU$1468,CALENDRIER!$A$1))+((COUNTIF(CALENDRIER!EU$1104:EU$1468,CALENDRIER!$B$1))/2)","v":0},{"$f":"(COUNTIF(CALENDRIER!EV$1104:EV$1468,CALENDRIER!$A$1))+((COUNTIF(CALENDRIER!EV$1104:EV$1468,CALENDRIER!$B$1))/2)","v":0},{"$f":"(COUNTIF(CALENDRIER!EW$1104:EW$1468,CALENDRIER!$A$1))+((COUNTIF(CALENDRIER!EW$1104:EW$1468,CALENDRIER!$B$1))/2)","v":0},{"$f":"(COUNTIF(CALENDRIER!EX$1104:EX$1468,CALENDRIER!$A$1))+((COUNTIF(CALENDRIER!EX$1104:EX$1468,CALENDRIER!$B$1))/2)","v":0},{"$f":"(COUNTIF(CALENDRIER!EY$1104:EY$1468,CALENDRIER!$A$1))+((COUNTIF(CALENDRIER!EY$1104:EY$1468,CALENDRIER!$B$1))/2)","v":0},{"$f":"(COUNTIF(CALENDRIER!EZ$1104:EZ$1468,CALENDRIER!$A$1))+((COUNTIF(CALENDRIER!EZ$1104:EZ$1468,CALENDRIER!$B$1))/2)","v":0},{"$f":"(COUNTIF(CALENDRIER!FA$1104:FA$1468,CALENDRIER!$A$1))+((COUNTIF(CALENDRIER!FA$1104:FA$1468,CALENDRIER!$B$1))/2)","v":0},{"$f":"(COUNTIF(CALENDRIER!FB$1104:FB$1468,CALENDRIER!$A$1))+((COUNTIF(CALENDRIER!FB$1104:FB$1468,CALENDRIER!$B$1))/2)","v":0},{"$f":"(COUNTIF(CALENDRIER!FC$1104:FC$1468,CALENDRIER!$A$1))+((COUNTIF(CALENDRIER!FC$1104:FC$1468,CALENDRIER!$B$1))/2)","v":0},{"$f":"(COUNTIF(CALENDRIER!FD$1104:FD$1468,CALENDRIER!$A$1))+((COUNTIF(CALENDRIER!FD$1104:FD$1468,CALENDRIER!$B$1))/2)","v":0},{"$f":"(COUNTIF(CALENDRIER!FE$1104:FE$1468,CALENDRIER!$A$1))+((COUNTIF(CALENDRIER!FE$1104:FE$1468,CALENDRIER!$B$1))/2)","v":0},{"$f":"(COUNTIF(CALENDRIER!FF$1104:FF$1468,CALENDRIER!$A$1))+((COUNTIF(CALENDRIER!FF$1104:FF$1468,CALENDRIER!$B$1))/2)","v":0},{"$f":"(COUNTIF(CALENDRIER!FG$1104:FG$1468,CALENDRIER!$A$1))+((COUNTIF(CALENDRIER!FG$1104:FG$1468,CALENDRIER!$B$1))/2)","v":0},{"$f":"(COUNTIF(CALENDRIER!FH$1104:FH$1468,CALENDRIER!$A$1))+((COUNTIF(CALENDRIER!FH$1104:FH$1468,CALENDRIER!$B$1))/2)","v":0},{"$f":"(COUNTIF(CALENDRIER!FI$1104:FI$1468,CALENDRIER!$A$1))+((COUNTIF(CALENDRIER!FI$1104:FI$1468,CALENDRIER!$B$1))/2)","v":0},{"$f":"(COUNTIF(CALENDRIER!FJ$1104:FJ$1468,CALENDRIER!$A$1))+((COUNTIF(CALENDRIER!FJ$1104:FJ$1468,CALENDRIER!$B$1))/2)","v":0},{"$f":"(COUNTIF(CALENDRIER!FK$1104:FK$1468,CALENDRIER!$A$1))+((COUNTIF(CALENDRIER!FK$1104:FK$1468,CALENDRIER!$B$1))/2)","v":0},{"$f":"(COUNTIF(CALENDRIER!FL$1104:FL$1468,CALENDRIER!$A$1))+((COUNTIF(CALENDRIER!FL$1104:FL$1468,CALENDRIER!$B$1))/2)","v":0},{"$f":"(COUNTIF(CALENDRIER!FM$1104:FM$1468,CALENDRIER!$A$1))+((COUNTIF(CALENDRIER!FM$1104:FM$1468,CALENDRIER!$B$1))/2)","v":0},{"$f":"(COUNTIF(CALENDRIER!FN$1104:FN$1468,CALENDRIER!$A$1))+((COUNTIF(CALENDRIER!FN$1104:FN$1468,CALENDRIER!$B$1))/2)","v":0},{"$f":"(COUNTIF(CALENDRIER!FO$1104:FO$1468,CALENDRIER!$A$1))+((COUNTIF(CALENDRIER!FO$1104:FO$1468,CALENDRIER!$B$1))/2)","v":0},{"$f":"(COUNTIF(CALENDRIER!FP$1104:FP$1468,CALENDRIER!$A$1))+((COUNTIF(CALENDRIER!FP$1104:FP$1468,CALENDRIER!$B$1))/2)","v":0},{"$f":"(COUNTIF(CALENDRIER!FQ$1104:FQ$1468,CALENDRIER!$A$1))+((COUNTIF(CALENDRIER!FQ$1104:FQ$1468,CALENDRIER!$B$1))/2)","v":0},{"$f":"(COUNTIF(CALENDRIER!FR$1104:FR$1468,CALENDRIER!$A$1))+((COUNTIF(CALENDRIER!FR$1104:FR$1468,CALENDRIER!$B$1))/2)","v":0},{"$f":"(COUNTIF(CALENDRIER!FS$1104:FS$1468,CALENDRIER!$A$1))+((COUNTIF(CALENDRIER!FS$1104:FS$1468,CALENDRIER!$B$1))/2)","v":0},{"$f":"(COUNTIF(CALENDRIER!FT$1104:FT$1468,CALENDRIER!$A$1))+((COUNTIF(CALENDRIER!FT$1104:FT$1468,CALENDRIER!$B$1))/2)","v":0},{"$f":"(COUNTIF(CALENDRIER!FU$1104:FU$1468,CALENDRIER!$A$1))+((COUNTIF(CALENDRIER!FU$1104:FU$1468,CALENDRIER!$B$1))/2)","v":0},{"$f":"(COUNTIF(CALENDRIER!FV$1104:FV$1468,CALENDRIER!$A$1))+((COUNTIF(CALENDRIER!FV$1104:FV$1468,CALENDRIER!$B$1))/2)","v":0},{"$f":"(COUNTIF(CALENDRIER!FW$1104:FW$1468,CALENDRIER!$A$1))+((COUNTIF(CALENDRIER!FW$1104:FW$1468,CALENDRIER!$B$1))/2)","v":0},{"$f":"(COUNTIF(CALENDRIER!FX$1104:FX$1468,CALENDRIER!$A$1))+((COUNTIF(CALENDRIER!FX$1104:FX$1468,CALENDRIER!$B$1))/2)","v":0},{"$f":"(COUNTIF(CALENDRIER!FY$1104:FY$1468,CALENDRIER!$A$1))+((COUNTIF(CALENDRIER!FY$1104:FY$1468,CALENDRIER!$B$1))/2)","v":0},{"$f":"(COUNTIF(CALENDRIER!FZ$1104:FZ$1468,CALENDRIER!$A$1))+((COUNTIF(CALENDRIER!FZ$1104:FZ$1468,CALENDRIER!$B$1))/2)","v":0},{"$f":"(COUNTIF(CALENDRIER!GA$1104:GA$1468,CALENDRIER!$A$1))+((COUNTIF(CALENDRIER!GA$1104:GA$1468,CALENDRIER!$B$1))/2)","v":0},{"$f":"(COUNTIF(CALENDRIER!GB$1104:GB$1468,CALENDRIER!$A$1))+((COUNTIF(CALENDRIER!GB$1104:GB$1468,CALENDRIER!$B$1))/2)","v":0},{"$f":"(COUNTIF(CALENDRIER!GC$1104:GC$1468,CALENDRIER!$A$1))+((COUNTIF(CALENDRIER!GC$1104:GC$1468,CALENDRIER!$B$1))/2)","v":0},{"$f":"(COUNTIF(CALENDRIER!GD$1104:GD$1468,CALENDRIER!$A$1))+((COUNTIF(CALENDRIER!GD$1104:GD$1468,CALENDRIER!$B$1))/2)","v":0},{"$f":"(COUNTIF(CALENDRIER!GE$1104:GE$1468,CALENDRIER!$A$1))+((COUNTIF(CALENDRIER!GE$1104:GE$1468,CALENDRIER!$B$1))/2)","v":0},{"$f":"(COUNTIF(CALENDRIER!GF$1104:GF$1468,CALENDRIER!$A$1))+((COUNTIF(CALENDRIER!GF$1104:GF$1468,CALENDRIER!$B$1))/2)","v":0},{"$f":"(COUNTIF(CALENDRIER!GG$1104:GG$1468,CALENDRIER!$A$1))+((COUNTIF(CALENDRIER!GG$1104:GG$1468,CALENDRIER!$B$1))/2)","v":0},{"$f":"(COUNTIF(CALENDRIER!GH$1104:GH$1468,CALENDRIER!$A$1))+((COUNTIF(CALENDRIER!GH$1104:GH$1468,CALENDRIER!$B$1))/2)","v":0},{"$f":"(COUNTIF(CALENDRIER!GI$1104:GI$1468,CALENDRIER!$A$1))+((COUNTIF(CALENDRIER!GI$1104:GI$1468,CALENDRIER!$B$1))/2)","v":0},{"$f":"(COUNTIF(CALENDRIER!GJ$1104:GJ$1468,CALENDRIER!$A$1))+((COUNTIF(CALENDRIER!GJ$1104:GJ$1468,CALENDRIER!$B$1))/2)","v":0},{"$f":"(COUNTIF(CALENDRIER!GK$1104:GK$1468,CALENDRIER!$A$1))+((COUNTIF(CALENDRIER!GK$1104:GK$1468,CALENDRIER!$B$1))/2)","v":0},{"$f":"(COUNTIF(CALENDRIER!GL$1104:GL$1468,CALENDRIER!$A$1))+((COUNTIF(CALENDRIER!GL$1104:GL$1468,CALENDRIER!$B$1))/2)","v":0},{"$f":"(COUNTIF(CALENDRIER!GM$1104:GM$1468,CALENDRIER!$A$1))+((COUNTIF(CALENDRIER!GM$1104:GM$1468,CALENDRIER!$B$1))/2)","v":0},{"$f":"(COUNTIF(CALENDRIER!GN$1104:GN$1468,CALENDRIER!$A$1))+((COUNTIF(CALENDRIER!GN$1104:GN$1468,CALENDRIER!$B$1))/2)","v":0},{"$f":"(COUNTIF(CALENDRIER!GO$1104:GO$1468,CALENDRIER!$A$1))+((COUNTIF(CALENDRIER!GO$1104:GO$1468,CALENDRIER!$B$1))/2)","v":0},{"$f":"(COUNTIF(CALENDRIER!GP$1104:GP$1468,CALENDRIER!$A$1))+((COUNTIF(CALENDRIER!GP$1104:GP$1468,CALENDRIER!$B$1))/2)","v":0},{"$f":"(COUNTIF(CALENDRIER!GQ$1104:GQ$1468,CALENDRIER!$A$1))+((COUNTIF(CALENDRIER!GQ$1104:GQ$1468,CALENDRIER!$B$1))/2)","v":0},{"$f":"(COUNTIF(CALENDRIER!GR$1104:GR$1468,CALENDRIER!$A$1))+((COUNTIF(CALENDRIER!GR$1104:GR$1468,CALENDRIER!$B$1))/2)","v":0}]
[null,{"$f":"\"Solde \"&CALENDRIER!$A$1&\" \"&A29&\" : \"","v":"Solde CP 2018-2019 : "},{"$f":"C30-C31","v":0},{"$f":"D30-D31","v":0},0,0,0,0,0,0,0,0,0,0,0,0,0,0,0,0,0,0,0,0,0,0,0,0,0,0,0,0,0,0,0,0,0,0,0,0,0,0,0,0,0,0,0,0,0,0,0,0,0,0,0,0,0,0,0,0,0,0,0,0,0,0,0,{"$f":"BP30-BP31","v":0},0,0,0,0,0,0,0,0,0,0,0,0,0,0,0,0,0,0,0,0,0,0,0,0,0,0,0,0,0,0,0,0,0,0,0,0,0,0,0,0,0,0,0,0,0,0,0,0,0,0,0,0,0,0,0,0,0,0,0,0,0,0,0,{"$f":"EB30-EB31","v":0},0,0,0,0,0,0,0,0,0,0,0,0,0,0,0,0,0,0,0,0,0,0,0,0,0,0,0,0,0,0,0,0,0,0,0,0,0,0,0,0,0,0,0,0,0,0,0,0,0,0,0,0,0,0,0,0,0,0,0,0,0,0,0,{"$f":"GN30-GN31","v":0},0,0,0,0]
[]
["2019-2020",{"$f":"CALENDRIER!$A$1","v":"CP"}]
[null,"SOLDE DEPART"]
[null,{"$f":"CALENDRIER!$A$1&\" PRIS\"","v":"CP PRIS"},{"$f":"(COUNTIF(CALENDRIER!C$1469:C$1834,CALENDRIER!$A$1))+((COUNTIF(CALENDRIER!C$1469:C$1834,CALENDRIER!$B$1))/2)","v":0},{"$f":"(COUNTIF(CALENDRIER!D$1469:D$1834,CALENDRIER!$A$1))+((COUNTIF(CALENDRIER!D$1469:D$1834,CALENDRIER!$B$1))/2)","v":0},{"$f":"(COUNTIF(CALENDRIER!E$1469:E$1834,CALENDRIER!$A$1))+((COUNTIF(CALENDRIER!E$1469:E$1834,CALENDRIER!$B$1))/2)","v":0},{"$f":"(COUNTIF(CALENDRIER!F$1469:F$1834,CALENDRIER!$A$1))+((COUNTIF(CALENDRIER!F$1469:F$1834,CALENDRIER!$B$1))/2)","v":0},{"$f":"(COUNTIF(CALENDRIER!G$1469:G$1834,CALENDRIER!$A$1))+((COUNTIF(CALENDRIER!G$1469:G$1834,CALENDRIER!$B$1))/2)","v":0},{"$f":"(COUNTIF(CALENDRIER!H$1469:H$1834,CALENDRIER!$A$1))+((COUNTIF(CALENDRIER!H$1469:H$1834,CALENDRIER!$B$1))/2)","v":0},{"$f":"(COUNTIF(CALENDRIER!I$1469:I$1834,CALENDRIER!$A$1))+((COUNTIF(CALENDRIER!I$1469:I$1834,CALENDRIER!$B$1))/2)","v":0},{"$f":"(COUNTIF(CALENDRIER!J$1469:J$1834,CALENDRIER!$A$1))+((COUNTIF(CALENDRIER!J$1469:J$1834,CALENDRIER!$B$1))/2)","v":0},{"$f":"(COUNTIF(CALENDRIER!K$1469:K$1834,CALENDRIER!$A$1))+((COUNTIF(CALENDRIER!K$1469:K$1834,CALENDRIER!$B$1))/2)","v":0},{"$f":"(COUNTIF(CALENDRIER!L$1469:L$1834,CALENDRIER!$A$1))+((COUNTIF(CALENDRIER!L$1469:L$1834,CALENDRIER!$B$1))/2)","v":0},{"$f":"(COUNTIF(CALENDRIER!M$1469:M$1834,CALENDRIER!$A$1))+((COUNTIF(CALENDRIER!M$1469:M$1834,CALENDRIER!$B$1))/2)","v":0},{"$f":"(COUNTIF(CALENDRIER!N$1469:N$1834,CALENDRIER!$A$1))+((COUNTIF(CALENDRIER!N$1469:N$1834,CALENDRIER!$B$1))/2)","v":0},{"$f":"(COUNTIF(CALENDRIER!O$1469:O$1834,CALENDRIER!$A$1))+((COUNTIF(CALENDRIER!O$1469:O$1834,CALENDRIER!$B$1))/2)","v":0},{"$f":"(COUNTIF(CALENDRIER!P$1469:P$1834,CALENDRIER!$A$1))+((COUNTIF(CALENDRIER!P$1469:P$1834,CALENDRIER!$B$1))/2)","v":0},{"$f":"(COUNTIF(CALENDRIER!Q$1469:Q$1834,CALENDRIER!$A$1))+((COUNTIF(CALENDRIER!Q$1469:Q$1834,CALENDRIER!$B$1))/2)","v":0},{"$f":"(COUNTIF(CALENDRIER!R$1469:R$1834,CALENDRIER!$A$1))+((COUNTIF(CALENDRIER!R$1469:R$1834,CALENDRIER!$B$1))/2)","v":0},{"$f":"(COUNTIF(CALENDRIER!S$1469:S$1834,CALENDRIER!$A$1))+((COUNTIF(CALENDRIER!S$1469:S$1834,CALENDRIER!$B$1))/2)","v":0},{"$f":"(COUNTIF(CALENDRIER!T$1469:T$1834,CALENDRIER!$A$1))+((COUNTIF(CALENDRIER!T$1469:T$1834,CALENDRIER!$B$1))/2)","v":0},{"$f":"(COUNTIF(CALENDRIER!U$1469:U$1834,CALENDRIER!$A$1))+((COUNTIF(CALENDRIER!U$1469:U$1834,CALENDRIER!$B$1))/2)","v":0},{"$f":"(COUNTIF(CALENDRIER!V$1469:V$1834,CALENDRIER!$A$1))+((COUNTIF(CALENDRIER!V$1469:V$1834,CALENDRIER!$B$1))/2)","v":0},{"$f":"(COUNTIF(CALENDRIER!W$1469:W$1834,CALENDRIER!$A$1))+((COUNTIF(CALENDRIER!W$1469:W$1834,CALENDRIER!$B$1))/2)","v":0},{"$f":"(COUNTIF(CALENDRIER!X$1469:X$1834,CALENDRIER!$A$1))+((COUNTIF(CALENDRIER!X$1469:X$1834,CALENDRIER!$B$1))/2)","v":0},{"$f":"(COUNTIF(CALENDRIER!Y$1469:Y$1834,CALENDRIER!$A$1))+((COUNTIF(CALENDRIER!Y$1469:Y$1834,CALENDRIER!$B$1))/2)","v":0},{"$f":"(COUNTIF(CALENDRIER!Z$1469:Z$1834,CALENDRIER!$A$1))+((COUNTIF(CALENDRIER!Z$1469:Z$1834,CALENDRIER!$B$1))/2)","v":0},{"$f":"(COUNTIF(CALENDRIER!AA$1469:AA$1834,CALENDRIER!$A$1))+((COUNTIF(CALENDRIER!AA$1469:AA$1834,CALENDRIER!$B$1))/2)","v":0},{"$f":"(COUNTIF(CALENDRIER!AB$1469:AB$1834,CALENDRIER!$A$1))+((COUNTIF(CALENDRIER!AB$1469:AB$1834,CALENDRIER!$B$1))/2)","v":0},{"$f":"(COUNTIF(CALENDRIER!AC$1469:AC$1834,CALENDRIER!$A$1))+((COUNTIF(CALENDRIER!AC$1469:AC$1834,CALENDRIER!$B$1))/2)","v":0},{"$f":"(COUNTIF(CALENDRIER!AD$1469:AD$1834,CALENDRIER!$A$1))+((COUNTIF(CALENDRIER!AD$1469:AD$1834,CALENDRIER!$B$1))/2)","v":0},{"$f":"(COUNTIF(CALENDRIER!AE$1469:AE$1834,CALENDRIER!$A$1))+((COUNTIF(CALENDRIER!AE$1469:AE$1834,CALENDRIER!$B$1))/2)","v":0},{"$f":"(COUNTIF(CALENDRIER!AF$1469:AF$1834,CALENDRIER!$A$1))+((COUNTIF(CALENDRIER!AF$1469:AF$1834,CALENDRIER!$B$1))/2)","v":0},{"$f":"(COUNTIF(CALENDRIER!AG$1469:AG$1834,CALENDRIER!$A$1))+((COUNTIF(CALENDRIER!AG$1469:AG$1834,CALENDRIER!$B$1))/2)","v":0},{"$f":"(COUNTIF(CALENDRIER!AH$1469:AH$1834,CALENDRIER!$A$1))+((COUNTIF(CALENDRIER!AH$1469:AH$1834,CALENDRIER!$B$1))/2)","v":0},{"$f":"(COUNTIF(CALENDRIER!AI$1469:AI$1834,CALENDRIER!$A$1))+((COUNTIF(CALENDRIER!AI$1469:AI$1834,CALENDRIER!$B$1))/2)","v":0},{"$f":"(COUNTIF(CALENDRIER!AJ$1469:AJ$1834,CALENDRIER!$A$1))+((COUNTIF(CALENDRIER!AJ$1469:AJ$1834,CALENDRIER!$B$1))/2)","v":0},{"$f":"(COUNTIF(CALENDRIER!AK$1469:AK$1834,CALENDRIER!$A$1))+((COUNTIF(CALENDRIER!AK$1469:AK$1834,CALENDRIER!$B$1))/2)","v":0},{"$f":"(COUNTIF(CALENDRIER!AL$1469:AL$1834,CALENDRIER!$A$1))+((COUNTIF(CALENDRIER!AL$1469:AL$1834,CALENDRIER!$B$1))/2)","v":0},{"$f":"(COUNTIF(CALENDRIER!AM$1469:AM$1834,CALENDRIER!$A$1))+((COUNTIF(CALENDRIER!AM$1469:AM$1834,CALENDRIER!$B$1))/2)","v":0},{"$f":"(COUNTIF(CALENDRIER!AN$1469:AN$1834,CALENDRIER!$A$1))+((COUNTIF(CALENDRIER!AN$1469:AN$1834,CALENDRIER!$B$1))/2)","v":0},{"$f":"(COUNTIF(CALENDRIER!AO$1469:AO$1834,CALENDRIER!$A$1))+((COUNTIF(CALENDRIER!AO$1469:AO$1834,CALENDRIER!$B$1))/2)","v":0},{"$f":"(COUNTIF(CALENDRIER!AP$1469:AP$1834,CALENDRIER!$A$1))+((COUNTIF(CALENDRIER!AP$1469:AP$1834,CALENDRIER!$B$1))/2)","v":0},{"$f":"(COUNTIF(CALENDRIER!AQ$1469:AQ$1834,CALENDRIER!$A$1))+((COUNTIF(CALENDRIER!AQ$1469:AQ$1834,CALENDRIER!$B$1))/2)","v":0},{"$f":"(COUNTIF(CALENDRIER!AR$1469:AR$1834,CALENDRIER!$A$1))+((COUNTIF(CALENDRIER!AR$1469:AR$1834,CALENDRIER!$B$1))/2)","v":0},{"$f":"(COUNTIF(CALENDRIER!AS$1469:AS$1834,CALENDRIER!$A$1))+((COUNTIF(CALENDRIER!AS$1469:AS$1834,CALENDRIER!$B$1))/2)","v":0},{"$f":"(COUNTIF(CALENDRIER!AT$1469:AT$1834,CALENDRIER!$A$1))+((COUNTIF(CALENDRIER!AT$1469:AT$1834,CALENDRIER!$B$1))/2)","v":0},{"$f":"(COUNTIF(CALENDRIER!AU$1469:AU$1834,CALENDRIER!$A$1))+((COUNTIF(CALENDRIER!AU$1469:AU$1834,CALENDRIER!$B$1))/2)","v":0},{"$f":"(COUNTIF(CALENDRIER!AV$1469:AV$1834,CALENDRIER!$A$1))+((COUNTIF(CALENDRIER!AV$1469:AV$1834,CALENDRIER!$B$1))/2)","v":0},{"$f":"(COUNTIF(CALENDRIER!AW$1469:AW$1834,CALENDRIER!$A$1))+((COUNTIF(CALENDRIER!AW$1469:AW$1834,CALENDRIER!$B$1))/2)","v":0},{"$f":"(COUNTIF(CALENDRIER!AX$1469:AX$1834,CALENDRIER!$A$1))+((COUNTIF(CALENDRIER!AX$1469:AX$1834,CALENDRIER!$B$1))/2)","v":0},{"$f":"(COUNTIF(CALENDRIER!AY$1469:AY$1834,CALENDRIER!$A$1))+((COUNTIF(CALENDRIER!AY$1469:AY$1834,CALENDRIER!$B$1))/2)","v":0},{"$f":"(COUNTIF(CALENDRIER!AZ$1469:AZ$1834,CALENDRIER!$A$1))+((COUNTIF(CALENDRIER!AZ$1469:AZ$1834,CALENDRIER!$B$1))/2)","v":0},{"$f":"(COUNTIF(CALENDRIER!BA$1469:BA$1834,CALENDRIER!$A$1))+((COUNTIF(CALENDRIER!BA$1469:BA$1834,CALENDRIER!$B$1))/2)","v":0},{"$f":"(COUNTIF(CALENDRIER!BB$1469:BB$1834,CALENDRIER!$A$1))+((COUNTIF(CALENDRIER!BB$1469:BB$1834,CALENDRIER!$B$1))/2)","v":0},{"$f":"(COUNTIF(CALENDRIER!BC$1469:BC$1834,CALENDRIER!$A$1))+((COUNTIF(CALENDRIER!BC$1469:BC$1834,CALENDRIER!$B$1))/2)","v":0},{"$f":"(COUNTIF(CALENDRIER!BD$1469:BD$1834,CALENDRIER!$A$1))+((COUNTIF(CALENDRIER!BD$1469:BD$1834,CALENDRIER!$B$1))/2)","v":0},{"$f":"(COUNTIF(CALENDRIER!BE$1469:BE$1834,CALENDRIER!$A$1))+((COUNTIF(CALENDRIER!BE$1469:BE$1834,CALENDRIER!$B$1))/2)","v":0},{"$f":"(COUNTIF(CALENDRIER!BF$1469:BF$1834,CALENDRIER!$A$1))+((COUNTIF(CALENDRIER!BF$1469:BF$1834,CALENDRIER!$B$1))/2)","v":0},{"$f":"(COUNTIF(CALENDRIER!BG$1469:BG$1834,CALENDRIER!$A$1))+((COUNTIF(CALENDRIER!BG$1469:BG$1834,CALENDRIER!$B$1))/2)","v":0},{"$f":"(COUNTIF(CALENDRIER!BH$1469:BH$1834,CALENDRIER!$A$1))+((COUNTIF(CALENDRIER!BH$1469:BH$1834,CALENDRIER!$B$1))/2)","v":0},{"$f":"(COUNTIF(CALENDRIER!BI$1469:BI$1834,CALENDRIER!$A$1))+((COUNTIF(CALENDRIER!BI$1469:BI$1834,CALENDRIER!$B$1))/2)","v":0},{"$f":"(COUNTIF(CALENDRIER!BJ$1469:BJ$1834,CALENDRIER!$A$1))+((COUNTIF(CALENDRIER!BJ$1469:BJ$1834,CALENDRIER!$B$1))/2)","v":0},{"$f":"(COUNTIF(CALENDRIER!BK$1469:BK$1834,CALENDRIER!$A$1))+((COUNTIF(CALENDRIER!BK$1469:BK$1834,CALENDRIER!$B$1))/2)","v":0},{"$f":"(COUNTIF(CALENDRIER!BL$1469:BL$1834,CALENDRIER!$A$1))+((COUNTIF(CALENDRIER!BL$1469:BL$1834,CALENDRIER!$B$1))/2)","v":0},{"$f":"(COUNTIF(CALENDRIER!BM$1469:BM$1834,CALENDRIER!$A$1))+((COUNTIF(CALENDRIER!BM$1469:BM$1834,CALENDRIER!$B$1))/2)","v":0},{"$f":"(COUNTIF(CALENDRIER!BN$1469:BN$1834,CALENDRIER!$A$1))+((COUNTIF(CALENDRIER!BN$1469:BN$1834,CALENDRIER!$B$1))/2)","v":0},{"$f":"(COUNTIF(CALENDRIER!BO$1469:BO$1834,CALENDRIER!$A$1))+((COUNTIF(CALENDRIER!BO$1469:BO$1834,CALENDRIER!$B$1))/2)","v":0},{"$f":"(COUNTIF(CALENDRIER!BP$1469:BP$1834,CALENDRIER!$A$1))+((COUNTIF(CALENDRIER!BP$1469:BP$1834,CALENDRIER!$B$1))/2)","v":0},{"$f":"(COUNTIF(CALENDRIER!BQ$1469:BQ$1834,CALENDRIER!$A$1))+((COUNTIF(CALENDRIER!BQ$1469:BQ$1834,CALENDRIER!$B$1))/2)","v":0},{"$f":"(COUNTIF(CALENDRIER!BR$1469:BR$1834,CALENDRIER!$A$1))+((COUNTIF(CALENDRIER!BR$1469:BR$1834,CALENDRIER!$B$1))/2)","v":0},{"$f":"(COUNTIF(CALENDRIER!BS$1469:BS$1834,CALENDRIER!$A$1))+((COUNTIF(CALENDRIER!BS$1469:BS$1834,CALENDRIER!$B$1))/2)","v":0},{"$f":"(COUNTIF(CALENDRIER!BT$1469:BT$1834,CALENDRIER!$A$1))+((COUNTIF(CALENDRIER!BT$1469:BT$1834,CALENDRIER!$B$1))/2)","v":0},{"$f":"(COUNTIF(CALENDRIER!BU$1469:BU$1834,CALENDRIER!$A$1))+((COUNTIF(CALENDRIER!BU$1469:BU$1834,CALENDRIER!$B$1))/2)","v":0},{"$f":"(COUNTIF(CALENDRIER!BV$1469:BV$1834,CALENDRIER!$A$1))+((COUNTIF(CALENDRIER!BV$1469:BV$1834,CALENDRIER!$B$1))/2)","v":0},{"$f":"(COUNTIF(CALENDRIER!BW$1469:BW$1834,CALENDRIER!$A$1))+((COUNTIF(CALENDRIER!BW$1469:BW$1834,CALENDRIER!$B$1))/2)","v":0},{"$f":"(COUNTIF(CALENDRIER!BX$1469:BX$1834,CALENDRIER!$A$1))+((COUNTIF(CALENDRIER!BX$1469:BX$1834,CALENDRIER!$B$1))/2)","v":0},{"$f":"(COUNTIF(CALENDRIER!BY$1469:BY$1834,CALENDRIER!$A$1))+((COUNTIF(CALENDRIER!BY$1469:BY$1834,CALENDRIER!$B$1))/2)","v":0},{"$f":"(COUNTIF(CALENDRIER!BZ$1469:BZ$1834,CALENDRIER!$A$1))+((COUNTIF(CALENDRIER!BZ$1469:BZ$1834,CALENDRIER!$B$1))/2)","v":0},{"$f":"(COUNTIF(CALENDRIER!CA$1469:CA$1834,CALENDRIER!$A$1))+((COUNTIF(CALENDRIER!CA$1469:CA$1834,CALENDRIER!$B$1))/2)","v":0},{"$f":"(COUNTIF(CALENDRIER!CB$1469:CB$1834,CALENDRIER!$A$1))+((COUNTIF(CALENDRIER!CB$1469:CB$1834,CALENDRIER!$B$1))/2)","v":0},{"$f":"(COUNTIF(CALENDRIER!CC$1469:CC$1834,CALENDRIER!$A$1))+((COUNTIF(CALENDRIER!CC$1469:CC$1834,CALENDRIER!$B$1))/2)","v":0},{"$f":"(COUNTIF(CALENDRIER!CD$1469:CD$1834,CALENDRIER!$A$1))+((COUNTIF(CALENDRIER!CD$1469:CD$1834,CALENDRIER!$B$1))/2)","v":0},{"$f":"(COUNTIF(CALENDRIER!CE$1469:CE$1834,CALENDRIER!$A$1))+((COUNTIF(CALENDRIER!CE$1469:CE$1834,CALENDRIER!$B$1))/2)","v":0},{"$f":"(COUNTIF(CALENDRIER!CF$1469:CF$1834,CALENDRIER!$A$1))+((COUNTIF(CALENDRIER!CF$1469:CF$1834,CALENDRIER!$B$1))/2)","v":0},{"$f":"(COUNTIF(CALENDRIER!CG$1469:CG$1834,CALENDRIER!$A$1))+((COUNTIF(CALENDRIER!CG$1469:CG$1834,CALENDRIER!$B$1))/2)","v":0},{"$f":"(COUNTIF(CALENDRIER!CH$1469:CH$1834,CALENDRIER!$A$1))+((COUNTIF(CALENDRIER!CH$1469:CH$1834,CALENDRIER!$B$1))/2)","v":0},{"$f":"(COUNTIF(CALENDRIER!CI$1469:CI$1834,CALENDRIER!$A$1))+((COUNTIF(CALENDRIER!CI$1469:CI$1834,CALENDRIER!$B$1))/2)","v":0},{"$f":"(COUNTIF(CALENDRIER!CJ$1469:CJ$1834,CALENDRIER!$A$1))+((COUNTIF(CALENDRIER!CJ$1469:CJ$1834,CALENDRIER!$B$1))/2)","v":0},{"$f":"(COUNTIF(CALENDRIER!CK$1469:CK$1834,CALENDRIER!$A$1))+((COUNTIF(CALENDRIER!CK$1469:CK$1834,CALENDRIER!$B$1))/2)","v":0},{"$f":"(COUNTIF(CALENDRIER!CL$1469:CL$1834,CALENDRIER!$A$1))+((COUNTIF(CALENDRIER!CL$1469:CL$1834,CALENDRIER!$B$1))/2)","v":0},{"$f":"(COUNTIF(CALENDRIER!CM$1469:CM$1834,CALENDRIER!$A$1))+((COUNTIF(CALENDRIER!CM$1469:CM$1834,CALENDRIER!$B$1))/2)","v":0},{"$f":"(COUNTIF(CALENDRIER!CN$1469:CN$1834,CALENDRIER!$A$1))+((COUNTIF(CALENDRIER!CN$1469:CN$1834,CALENDRIER!$B$1))/2)","v":0},{"$f":"(COUNTIF(CALENDRIER!CO$1469:CO$1834,CALENDRIER!$A$1))+((COUNTIF(CALENDRIER!CO$1469:CO$1834,CALENDRIER!$B$1))/2)","v":0},{"$f":"(COUNTIF(CALENDRIER!CP$1469:CP$1834,CALENDRIER!$A$1))+((COUNTIF(CALENDRIER!CP$1469:CP$1834,CALENDRIER!$B$1))/2)","v":0},{"$f":"(COUNTIF(CALENDRIER!CQ$1469:CQ$1834,CALENDRIER!$A$1))+((COUNTIF(CALENDRIER!CQ$1469:CQ$1834,CALENDRIER!$B$1))/2)","v":0},{"$f":"(COUNTIF(CALENDRIER!CR$1469:CR$1834,CALENDRIER!$A$1))+((COUNTIF(CALENDRIER!CR$1469:CR$1834,CALENDRIER!$B$1))/2)","v":0},{"$f":"(COUNTIF(CALENDRIER!CS$1469:CS$1834,CALENDRIER!$A$1))+((COUNTIF(CALENDRIER!CS$1469:CS$1834,CALENDRIER!$B$1))/2)","v":0},{"$f":"(COUNTIF(CALENDRIER!CT$1469:CT$1834,CALENDRIER!$A$1))+((COUNTIF(CALENDRIER!CT$1469:CT$1834,CALENDRIER!$B$1))/2)","v":0},{"$f":"(COUNTIF(CALENDRIER!CU$1469:CU$1834,CALENDRIER!$A$1))+((COUNTIF(CALENDRIER!CU$1469:CU$1834,CALENDRIER!$B$1))/2)","v":0},{"$f":"(COUNTIF(CALENDRIER!CV$1469:CV$1834,CALENDRIER!$A$1))+((COUNTIF(CALENDRIER!CV$1469:CV$1834,CALENDRIER!$B$1))/2)","v":0},{"$f":"(COUNTIF(CALENDRIER!CW$1469:CW$1834,CALENDRIER!$A$1))+((COUNTIF(CALENDRIER!CW$1469:CW$1834,CALENDRIER!$B$1))/2)","v":0},{"$f":"(COUNTIF(CALENDRIER!CX$1469:CX$1834,CALENDRIER!$A$1))+((COUNTIF(CALENDRIER!CX$1469:CX$1834,CALENDRIER!$B$1))/2)","v":0},{"$f":"(COUNTIF(CALENDRIER!CY$1469:CY$1834,CALENDRIER!$A$1))+((COUNTIF(CALENDRIER!CY$1469:CY$1834,CALENDRIER!$B$1))/2)","v":0},{"$f":"(COUNTIF(CALENDRIER!CZ$1469:CZ$1834,CALENDRIER!$A$1))+((COUNTIF(CALENDRIER!CZ$1469:CZ$1834,CALENDRIER!$B$1))/2)","v":0},{"$f":"(COUNTIF(CALENDRIER!DA$1469:DA$1834,CALENDRIER!$A$1))+((COUNTIF(CALENDRIER!DA$1469:DA$1834,CALENDRIER!$B$1))/2)","v":0},{"$f":"(COUNTIF(CALENDRIER!DB$1469:DB$1834,CALENDRIER!$A$1))+((COUNTIF(CALENDRIER!DB$1469:DB$1834,CALENDRIER!$B$1))/2)","v":0},{"$f":"(COUNTIF(CALENDRIER!DC$1469:DC$1834,CALENDRIER!$A$1))+((COUNTIF(CALENDRIER!DC$1469:DC$1834,CALENDRIER!$B$1))/2)","v":0},{"$f":"(COUNTIF(CALENDRIER!DD$1469:DD$1834,CALENDRIER!$A$1))+((COUNTIF(CALENDRIER!DD$1469:DD$1834,CALENDRIER!$B$1))/2)","v":0},{"$f":"(COUNTIF(CALENDRIER!DE$1469:DE$1834,CALENDRIER!$A$1))+((COUNTIF(CALENDRIER!DE$1469:DE$1834,CALENDRIER!$B$1))/2)","v":0},{"$f":"(COUNTIF(CALENDRIER!DF$1469:DF$1834,CALENDRIER!$A$1))+((COUNTIF(CALENDRIER!DF$1469:DF$1834,CALENDRIER!$B$1))/2)","v":0},{"$f":"(COUNTIF(CALENDRIER!DG$1469:DG$1834,CALENDRIER!$A$1))+((COUNTIF(CALENDRIER!DG$1469:DG$1834,CALENDRIER!$B$1))/2)","v":0},{"$f":"(COUNTIF(CALENDRIER!DH$1469:DH$1834,CALENDRIER!$A$1))+((COUNTIF(CALENDRIER!DH$1469:DH$1834,CALENDRIER!$B$1))/2)","v":0},{"$f":"(COUNTIF(CALENDRIER!DI$1469:DI$1834,CALENDRIER!$A$1))+((COUNTIF(CALENDRIER!DI$1469:DI$1834,CALENDRIER!$B$1))/2)","v":0},{"$f":"(COUNTIF(CALENDRIER!DJ$1469:DJ$1834,CALENDRIER!$A$1))+((COUNTIF(CALENDRIER!DJ$1469:DJ$1834,CALENDRIER!$B$1))/2)","v":0},{"$f":"(COUNTIF(CALENDRIER!DK$1469:DK$1834,CALENDRIER!$A$1))+((COUNTIF(CALENDRIER!DK$1469:DK$1834,CALENDRIER!$B$1))/2)","v":0},{"$f":"(COUNTIF(CALENDRIER!DL$1469:DL$1834,CALENDRIER!$A$1))+((COUNTIF(CALENDRIER!DL$1469:DL$1834,CALENDRIER!$B$1))/2)","v":0},{"$f":"(COUNTIF(CALENDRIER!DM$1469:DM$1834,CALENDRIER!$A$1))+((COUNTIF(CALENDRIER!DM$1469:DM$1834,CALENDRIER!$B$1))/2)","v":0},{"$f":"(COUNTIF(CALENDRIER!DN$1469:DN$1834,CALENDRIER!$A$1))+((COUNTIF(CALENDRIER!DN$1469:DN$1834,CALENDRIER!$B$1))/2)","v":0},{"$f":"(COUNTIF(CALENDRIER!DO$1469:DO$1834,CALENDRIER!$A$1))+((COUNTIF(CALENDRIER!DO$1469:DO$1834,CALENDRIER!$B$1))/2)","v":0},{"$f":"(COUNTIF(CALENDRIER!DP$1469:DP$1834,CALENDRIER!$A$1))+((COUNTIF(CALENDRIER!DP$1469:DP$1834,CALENDRIER!$B$1))/2)","v":0},{"$f":"(COUNTIF(CALENDRIER!DQ$1469:DQ$1834,CALENDRIER!$A$1))+((COUNTIF(CALENDRIER!DQ$1469:DQ$1834,CALENDRIER!$B$1))/2)","v":0},{"$f":"(COUNTIF(CALENDRIER!DR$1469:DR$1834,CALENDRIER!$A$1))+((COUNTIF(CALENDRIER!DR$1469:DR$1834,CALENDRIER!$B$1))/2)","v":0},{"$f":"(COUNTIF(CALENDRIER!DS$1469:DS$1834,CALENDRIER!$A$1))+((COUNTIF(CALENDRIER!DS$1469:DS$1834,CALENDRIER!$B$1))/2)","v":0},{"$f":"(COUNTIF(CALENDRIER!DT$1469:DT$1834,CALENDRIER!$A$1))+((COUNTIF(CALENDRIER!DT$1469:DT$1834,CALENDRIER!$B$1))/2)","v":0},{"$f":"(COUNTIF(CALENDRIER!DU$1469:DU$1834,CALENDRIER!$A$1))+((COUNTIF(CALENDRIER!DU$1469:DU$1834,CALENDRIER!$B$1))/2)","v":0},{"$f":"(COUNTIF(CALENDRIER!DV$1469:DV$1834,CALENDRIER!$A$1))+((COUNTIF(CALENDRIER!DV$1469:DV$1834,CALENDRIER!$B$1))/2)","v":0},{"$f":"(COUNTIF(CALENDRIER!DW$1469:DW$1834,CALENDRIER!$A$1))+((COUNTIF(CALENDRIER!DW$1469:DW$1834,CALENDRIER!$B$1))/2)","v":0},{"$f":"(COUNTIF(CALENDRIER!DX$1469:DX$1834,CALENDRIER!$A$1))+((COUNTIF(CALENDRIER!DX$1469:DX$1834,CALENDRIER!$B$1))/2)","v":0},{"$f":"(COUNTIF(CALENDRIER!DY$1469:DY$1834,CALENDRIER!$A$1))+((COUNTIF(CALENDRIER!DY$1469:DY$1834,CALENDRIER!$B$1))/2)","v":0},{"$f":"(COUNTIF(CALENDRIER!DZ$1469:DZ$1834,CALENDRIER!$A$1))+((COUNTIF(CALENDRIER!DZ$1469:DZ$1834,CALENDRIER!$B$1))/2)","v":0},{"$f":"(COUNTIF(CALENDRIER!EA$1469:EA$1834,CALENDRIER!$A$1))+((COUNTIF(CALENDRIER!EA$1469:EA$1834,CALENDRIER!$B$1))/2)","v":0},{"$f":"(COUNTIF(CALENDRIER!EB$1469:EB$1834,CALENDRIER!$A$1))+((COUNTIF(CALENDRIER!EB$1469:EB$1834,CALENDRIER!$B$1))/2)","v":0},{"$f":"(COUNTIF(CALENDRIER!EC$1469:EC$1834,CALENDRIER!$A$1))+((COUNTIF(CALENDRIER!EC$1469:EC$1834,CALENDRIER!$B$1))/2)","v":0},{"$f":"(COUNTIF(CALENDRIER!ED$1469:ED$1834,CALENDRIER!$A$1))+((COUNTIF(CALENDRIER!ED$1469:ED$1834,CALENDRIER!$B$1))/2)","v":0},{"$f":"(COUNTIF(CALENDRIER!EE$1469:EE$1834,CALENDRIER!$A$1))+((COUNTIF(CALENDRIER!EE$1469:EE$1834,CALENDRIER!$B$1))/2)","v":0},{"$f":"(COUNTIF(CALENDRIER!EF$1469:EF$1834,CALENDRIER!$A$1))+((COUNTIF(CALENDRIER!EF$1469:EF$1834,CALENDRIER!$B$1))/2)","v":0},{"$f":"(COUNTIF(CALENDRIER!EG$1469:EG$1834,CALENDRIER!$A$1))+((COUNTIF(CALENDRIER!EG$1469:EG$1834,CALENDRIER!$B$1))/2)","v":0},{"$f":"(COUNTIF(CALENDRIER!EH$1469:EH$1834,CALENDRIER!$A$1))+((COUNTIF(CALENDRIER!EH$1469:EH$1834,CALENDRIER!$B$1))/2)","v":0},{"$f":"(COUNTIF(CALENDRIER!EI$1469:EI$1834,CALENDRIER!$A$1))+((COUNTIF(CALENDRIER!EI$1469:EI$1834,CALENDRIER!$B$1))/2)","v":0},{"$f":"(COUNTIF(CALENDRIER!EJ$1469:EJ$1834,CALENDRIER!$A$1))+((COUNTIF(CALENDRIER!EJ$1469:EJ$1834,CALENDRIER!$B$1))/2)","v":0},{"$f":"(COUNTIF(CALENDRIER!EK$1469:EK$1834,CALENDRIER!$A$1))+((COUNTIF(CALENDRIER!EK$1469:EK$1834,CALENDRIER!$B$1))/2)","v":0},{"$f":"(COUNTIF(CALENDRIER!EL$1469:EL$1834,CALENDRIER!$A$1))+((COUNTIF(CALENDRIER!EL$1469:EL$1834,CALENDRIER!$B$1))/2)","v":0},{"$f":"(COUNTIF(CALENDRIER!EM$1469:EM$1834,CALENDRIER!$A$1))+((COUNTIF(CALENDRIER!EM$1469:EM$1834,CALENDRIER!$B$1))/2)","v":0},{"$f":"(COUNTIF(CALENDRIER!EN$1469:EN$1834,CALENDRIER!$A$1))+((COUNTIF(CALENDRIER!EN$1469:EN$1834,CALENDRIER!$B$1))/2)","v":0},{"$f":"(COUNTIF(CALENDRIER!EO$1469:EO$1834,CALENDRIER!$A$1))+((COUNTIF(CALENDRIER!EO$1469:EO$1834,CALENDRIER!$B$1))/2)","v":0},{"$f":"(COUNTIF(CALENDRIER!EP$1469:EP$1834,CALENDRIER!$A$1))+((COUNTIF(CALENDRIER!EP$1469:EP$1834,CALENDRIER!$B$1))/2)","v":0},{"$f":"(COUNTIF(CALENDRIER!EQ$1469:EQ$1834,CALENDRIER!$A$1))+((COUNTIF(CALENDRIER!EQ$1469:EQ$1834,CALENDRIER!$B$1))/2)","v":0},{"$f":"(COUNTIF(CALENDRIER!ER$1469:ER$1834,CALENDRIER!$A$1))+((COUNTIF(CALENDRIER!ER$1469:ER$1834,CALENDRIER!$B$1))/2)","v":0},{"$f":"(COUNTIF(CALENDRIER!ES$1469:ES$1834,CALENDRIER!$A$1))+((COUNTIF(CALENDRIER!ES$1469:ES$1834,CALENDRIER!$B$1))/2)","v":0},{"$f":"(COUNTIF(CALENDRIER!ET$1469:ET$1834,CALENDRIER!$A$1))+((COUNTIF(CALENDRIER!ET$1469:ET$1834,CALENDRIER!$B$1))/2)","v":0},{"$f":"(COUNTIF(CALENDRIER!EU$1469:EU$1834,CALENDRIER!$A$1))+((COUNTIF(CALENDRIER!EU$1469:EU$1834,CALENDRIER!$B$1))/2)","v":0},{"$f":"(COUNTIF(CALENDRIER!EV$1469:EV$1834,CALENDRIER!$A$1))+((COUNTIF(CALENDRIER!EV$1469:EV$1834,CALENDRIER!$B$1))/2)","v":0},{"$f":"(COUNTIF(CALENDRIER!EW$1469:EW$1834,CALENDRIER!$A$1))+((COUNTIF(CALENDRIER!EW$1469:EW$1834,CALENDRIER!$B$1))/2)","v":0},{"$f":"(COUNTIF(CALENDRIER!EX$1469:EX$1834,CALENDRIER!$A$1))+((COUNTIF(CALENDRIER!EX$1469:EX$1834,CALENDRIER!$B$1))/2)","v":0},{"$f":"(COUNTIF(CALENDRIER!EY$1469:EY$1834,CALENDRIER!$A$1))+((COUNTIF(CALENDRIER!EY$1469:EY$1834,CALENDRIER!$B$1))/2)","v":0},{"$f":"(COUNTIF(CALENDRIER!EZ$1469:EZ$1834,CALENDRIER!$A$1))+((COUNTIF(CALENDRIER!EZ$1469:EZ$1834,CALENDRIER!$B$1))/2)","v":0},{"$f":"(COUNTIF(CALENDRIER!FA$1469:FA$1834,CALENDRIER!$A$1))+((COUNTIF(CALENDRIER!FA$1469:FA$1834,CALENDRIER!$B$1))/2)","v":0},{"$f":"(COUNTIF(CALENDRIER!FB$1469:FB$1834,CALENDRIER!$A$1))+((COUNTIF(CALENDRIER!FB$1469:FB$1834,CALENDRIER!$B$1))/2)","v":0},{"$f":"(COUNTIF(CALENDRIER!FC$1469:FC$1834,CALENDRIER!$A$1))+((COUNTIF(CALENDRIER!FC$1469:FC$1834,CALENDRIER!$B$1))/2)","v":0},{"$f":"(COUNTIF(CALENDRIER!FD$1469:FD$1834,CALENDRIER!$A$1))+((COUNTIF(CALENDRIER!FD$1469:FD$1834,CALENDRIER!$B$1))/2)","v":0},{"$f":"(COUNTIF(CALENDRIER!FE$1469:FE$1834,CALENDRIER!$A$1))+((COUNTIF(CALENDRIER!FE$1469:FE$1834,CALENDRIER!$B$1))/2)","v":0},{"$f":"(COUNTIF(CALENDRIER!FF$1469:FF$1834,CALENDRIER!$A$1))+((COUNTIF(CALENDRIER!FF$1469:FF$1834,CALENDRIER!$B$1))/2)","v":0},{"$f":"(COUNTIF(CALENDRIER!FG$1469:FG$1834,CALENDRIER!$A$1))+((COUNTIF(CALENDRIER!FG$1469:FG$1834,CALENDRIER!$B$1))/2)","v":0},{"$f":"(COUNTIF(CALENDRIER!FH$1469:FH$1834,CALENDRIER!$A$1))+((COUNTIF(CALENDRIER!FH$1469:FH$1834,CALENDRIER!$B$1))/2)","v":0},{"$f":"(COUNTIF(CALENDRIER!FI$1469:FI$1834,CALENDRIER!$A$1))+((COUNTIF(CALENDRIER!FI$1469:FI$1834,CALENDRIER!$B$1))/2)","v":0},{"$f":"(COUNTIF(CALENDRIER!FJ$1469:FJ$1834,CALENDRIER!$A$1))+((COUNTIF(CALENDRIER!FJ$1469:FJ$1834,CALENDRIER!$B$1))/2)","v":0},{"$f":"(COUNTIF(CALENDRIER!FK$1469:FK$1834,CALENDRIER!$A$1))+((COUNTIF(CALENDRIER!FK$1469:FK$1834,CALENDRIER!$B$1))/2)","v":0},{"$f":"(COUNTIF(CALENDRIER!FL$1469:FL$1834,CALENDRIER!$A$1))+((COUNTIF(CALENDRIER!FL$1469:FL$1834,CALENDRIER!$B$1))/2)","v":0},{"$f":"(COUNTIF(CALENDRIER!FM$1469:FM$1834,CALENDRIER!$A$1))+((COUNTIF(CALENDRIER!FM$1469:FM$1834,CALENDRIER!$B$1))/2)","v":0},{"$f":"(COUNTIF(CALENDRIER!FN$1469:FN$1834,CALENDRIER!$A$1))+((COUNTIF(CALENDRIER!FN$1469:FN$1834,CALENDRIER!$B$1))/2)","v":0},{"$f":"(COUNTIF(CALENDRIER!FO$1469:FO$1834,CALENDRIER!$A$1))+((COUNTIF(CALENDRIER!FO$1469:FO$1834,CALENDRIER!$B$1))/2)","v":0},{"$f":"(COUNTIF(CALENDRIER!FP$1469:FP$1834,CALENDRIER!$A$1))+((COUNTIF(CALENDRIER!FP$1469:FP$1834,CALENDRIER!$B$1))/2)","v":0},{"$f":"(COUNTIF(CALENDRIER!FQ$1469:FQ$1834,CALENDRIER!$A$1))+((COUNTIF(CALENDRIER!FQ$1469:FQ$1834,CALENDRIER!$B$1))/2)","v":0},{"$f":"(COUNTIF(CALENDRIER!FR$1469:FR$1834,CALENDRIER!$A$1))+((COUNTIF(CALENDRIER!FR$1469:FR$1834,CALENDRIER!$B$1))/2)","v":0},{"$f":"(COUNTIF(CALENDRIER!FS$1469:FS$1834,CALENDRIER!$A$1))+((COUNTIF(CALENDRIER!FS$1469:FS$1834,CALENDRIER!$B$1))/2)","v":0},{"$f":"(COUNTIF(CALENDRIER!FT$1469:FT$1834,CALENDRIER!$A$1))+((COUNTIF(CALENDRIER!FT$1469:FT$1834,CALENDRIER!$B$1))/2)","v":0},{"$f":"(COUNTIF(CALENDRIER!FU$1469:FU$1834,CALENDRIER!$A$1))+((COUNTIF(CALENDRIER!FU$1469:FU$1834,CALENDRIER!$B$1))/2)","v":0},{"$f":"(COUNTIF(CALENDRIER!FV$1469:FV$1834,CALENDRIER!$A$1))+((COUNTIF(CALENDRIER!FV$1469:FV$1834,CALENDRIER!$B$1))/2)","v":0},{"$f":"(COUNTIF(CALENDRIER!FW$1469:FW$1834,CALENDRIER!$A$1))+((COUNTIF(CALENDRIER!FW$1469:FW$1834,CALENDRIER!$B$1))/2)","v":0},{"$f":"(COUNTIF(CALENDRIER!FX$1469:FX$1834,CALENDRIER!$A$1))+((COUNTIF(CALENDRIER!FX$1469:FX$1834,CALENDRIER!$B$1))/2)","v":0},{"$f":"(COUNTIF(CALENDRIER!FY$1469:FY$1834,CALENDRIER!$A$1))+((COUNTIF(CALENDRIER!FY$1469:FY$1834,CALENDRIER!$B$1))/2)","v":0},{"$f":"(COUNTIF(CALENDRIER!FZ$1469:FZ$1834,CALENDRIER!$A$1))+((COUNTIF(CALENDRIER!FZ$1469:FZ$1834,CALENDRIER!$B$1))/2)","v":0},{"$f":"(COUNTIF(CALENDRIER!GA$1469:GA$1834,CALENDRIER!$A$1))+((COUNTIF(CALENDRIER!GA$1469:GA$1834,CALENDRIER!$B$1))/2)","v":0},{"$f":"(COUNTIF(CALENDRIER!GB$1469:GB$1834,CALENDRIER!$A$1))+((COUNTIF(CALENDRIER!GB$1469:GB$1834,CALENDRIER!$B$1))/2)","v":0},{"$f":"(COUNTIF(CALENDRIER!GC$1469:GC$1834,CALENDRIER!$A$1))+((COUNTIF(CALENDRIER!GC$1469:GC$1834,CALENDRIER!$B$1))/2)","v":0},{"$f":"(COUNTIF(CALENDRIER!GD$1469:GD$1834,CALENDRIER!$A$1))+((COUNTIF(CALENDRIER!GD$1469:GD$1834,CALENDRIER!$B$1))/2)","v":0},{"$f":"(COUNTIF(CALENDRIER!GE$1469:GE$1834,CALENDRIER!$A$1))+((COUNTIF(CALENDRIER!GE$1469:GE$1834,CALENDRIER!$B$1))/2)","v":0},{"$f":"(COUNTIF(CALENDRIER!GF$1469:GF$1834,CALENDRIER!$A$1))+((COUNTIF(CALENDRIER!GF$1469:GF$1834,CALENDRIER!$B$1))/2)","v":0},{"$f":"(COUNTIF(CALENDRIER!GG$1469:GG$1834,CALENDRIER!$A$1))+((COUNTIF(CALENDRIER!GG$1469:GG$1834,CALENDRIER!$B$1))/2)","v":0},{"$f":"(COUNTIF(CALENDRIER!GH$1469:GH$1834,CALENDRIER!$A$1))+((COUNTIF(CALENDRIER!GH$1469:GH$1834,CALENDRIER!$B$1))/2)","v":0},{"$f":"(COUNTIF(CALENDRIER!GI$1469:GI$1834,CALENDRIER!$A$1))+((COUNTIF(CALENDRIER!GI$1469:GI$1834,CALENDRIER!$B$1))/2)","v":0},{"$f":"(COUNTIF(CALENDRIER!GJ$1469:GJ$1834,CALENDRIER!$A$1))+((COUNTIF(CALENDRIER!GJ$1469:GJ$1834,CALENDRIER!$B$1))/2)","v":0},{"$f":"(COUNTIF(CALENDRIER!GK$1469:GK$1834,CALENDRIER!$A$1))+((COUNTIF(CALENDRIER!GK$1469:GK$1834,CALENDRIER!$B$1))/2)","v":0},{"$f":"(COUNTIF(CALENDRIER!GL$1469:GL$1834,CALENDRIER!$A$1))+((COUNTIF(CALENDRIER!GL$1469:GL$1834,CALENDRIER!$B$1))/2)","v":0},{"$f":"(COUNTIF(CALENDRIER!GM$1469:GM$1834,CALENDRIER!$A$1))+((COUNTIF(CALENDRIER!GM$1469:GM$1834,CALENDRIER!$B$1))/2)","v":0},{"$f":"(COUNTIF(CALENDRIER!GN$1469:GN$1834,CALENDRIER!$A$1))+((COUNTIF(CALENDRIER!GN$1469:GN$1834,CALENDRIER!$B$1))/2)","v":0},{"$f":"(COUNTIF(CALENDRIER!GO$1469:GO$1834,CALENDRIER!$A$1))+((COUNTIF(CALENDRIER!GO$1469:GO$1834,CALENDRIER!$B$1))/2)","v":0},{"$f":"(COUNTIF(CALENDRIER!GP$1469:GP$1834,CALENDRIER!$A$1))+((COUNTIF(CALENDRIER!GP$1469:GP$1834,CALENDRIER!$B$1))/2)","v":0},{"$f":"(COUNTIF(CALENDRIER!GQ$1469:GQ$1834,CALENDRIER!$A$1))+((COUNTIF(CALENDRIER!GQ$1469:GQ$1834,CALENDRIER!$B$1))/2)","v":0},{"$f":"(COUNTIF(CALENDRIER!GR$1469:GR$1834,CALENDRIER!$A$1))+((COUNTIF(CALENDRIER!GR$1469:GR$1834,CALENDRIER!$B$1))/2)","v":0}]
[null,{"$f":"\"Solde \"&CALENDRIER!$A$1&\" \"&A34&\" : \"","v":"Solde CP 2019-2020 : "},{"$f":"C35-C36","v":0},{"$f":"D35-D36","v":0},0,0,0,0,0,0,0,0,0,0,0,0,0,0,0,0,0,0,0,0,0,0,0,0,0,0,0,0,0,0,0,0,0,0,0,0,0,0,0,0,0,0,0,0,0,0,0,0,0,0,0,0,0,0,0,0,0,0,0,0,0,0,0,{"$f":"BP35-BP36","v":0},0,0,0,0,0,0,0,0,0,0,0,0,0,0,0,0,0,0,0,0,0,0,0,0,0,0,0,0,0,0,0,0,0,0,0,0,0,0,0,0,0,0,0,0,0,0,0,0,0,0,0,0,0,0,0,0,0,0,0,0,0,0,0,{"$f":"EB35-EB36","v":0},0,0,0,0,0,0,0,0,0,0,0,0,0,0,0,0,0,0,0,0,0,0,0,0,0,0,0,0,0,0,0,0,0,0,0,0,0,0,0,0,0,0,0,0,0,0,0,0,0,0,0,0,0,0,0,0,0,0,0,0,0,0,0,{"$f":"GN35-GN36","v":0},0,0,0,0]
[]
["2020-2021",{"$f":"CALENDRIER!$A$1","v":"CP"}]
[null,"SOLDE DEPART"]
[null,{"$f":"CALENDRIER!$A$1&\" PRIS\"","v":"CP PRIS"},{"$f":"(COUNTIF(CALENDRIER!C$1835:C$2199,CALENDRIER!$A$1))+((COUNTIF(CALENDRIER!C$1835:C$2199,CALENDRIER!$B$1))/2)","v":0},{"$f":"(COUNTIF(CALENDRIER!D$1835:D$2199,CALENDRIER!$A$1))+((COUNTIF(CALENDRIER!D$1835:D$2199,CALENDRIER!$B$1))/2)","v":0},{"$f":"(COUNTIF(CALENDRIER!E$1835:E$2199,CALENDRIER!$A$1))+((COUNTIF(CALENDRIER!E$1835:E$2199,CALENDRIER!$B$1))/2)","v":0},{"$f":"(COUNTIF(CALENDRIER!F$1835:F$2199,CALENDRIER!$A$1))+((COUNTIF(CALENDRIER!F$1835:F$2199,CALENDRIER!$B$1))/2)","v":0},{"$f":"(COUNTIF(CALENDRIER!G$1835:G$2199,CALENDRIER!$A$1))+((COUNTIF(CALENDRIER!G$1835:G$2199,CALENDRIER!$B$1))/2)","v":0},{"$f":"(COUNTIF(CALENDRIER!H$1835:H$2199,CALENDRIER!$A$1))+((COUNTIF(CALENDRIER!H$1835:H$2199,CALENDRIER!$B$1))/2)","v":0},{"$f":"(COUNTIF(CALENDRIER!I$1835:I$2199,CALENDRIER!$A$1))+((COUNTIF(CALENDRIER!I$1835:I$2199,CALENDRIER!$B$1))/2)","v":0},{"$f":"(COUNTIF(CALENDRIER!J$1835:J$2199,CALENDRIER!$A$1))+((COUNTIF(CALENDRIER!J$1835:J$2199,CALENDRIER!$B$1))/2)","v":0},{"$f":"(COUNTIF(CALENDRIER!K$1835:K$2199,CALENDRIER!$A$1))+((COUNTIF(CALENDRIER!K$1835:K$2199,CALENDRIER!$B$1))/2)","v":0},{"$f":"(COUNTIF(CALENDRIER!L$1835:L$2199,CALENDRIER!$A$1))+((COUNTIF(CALENDRIER!L$1835:L$2199,CALENDRIER!$B$1))/2)","v":0},{"$f":"(COUNTIF(CALENDRIER!M$1835:M$2199,CALENDRIER!$A$1))+((COUNTIF(CALENDRIER!M$1835:M$2199,CALENDRIER!$B$1))/2)","v":0},{"$f":"(COUNTIF(CALENDRIER!N$1835:N$2199,CALENDRIER!$A$1))+((COUNTIF(CALENDRIER!N$1835:N$2199,CALENDRIER!$B$1))/2)","v":0},{"$f":"(COUNTIF(CALENDRIER!O$1835:O$2199,CALENDRIER!$A$1))+((COUNTIF(CALENDRIER!O$1835:O$2199,CALENDRIER!$B$1))/2)","v":0},{"$f":"(COUNTIF(CALENDRIER!P$1835:P$2199,CALENDRIER!$A$1))+((COUNTIF(CALENDRIER!P$1835:P$2199,CALENDRIER!$B$1))/2)","v":0},{"$f":"(COUNTIF(CALENDRIER!Q$1835:Q$2199,CALENDRIER!$A$1))+((COUNTIF(CALENDRIER!Q$1835:Q$2199,CALENDRIER!$B$1))/2)","v":0},{"$f":"(COUNTIF(CALENDRIER!R$1835:R$2199,CALENDRIER!$A$1))+((COUNTIF(CALENDRIER!R$1835:R$2199,CALENDRIER!$B$1))/2)","v":0},{"$f":"(COUNTIF(CALENDRIER!S$1835:S$2199,CALENDRIER!$A$1))+((COUNTIF(CALENDRIER!S$1835:S$2199,CALENDRIER!$B$1))/2)","v":0},{"$f":"(COUNTIF(CALENDRIER!T$1835:T$2199,CALENDRIER!$A$1))+((COUNTIF(CALENDRIER!T$1835:T$2199,CALENDRIER!$B$1))/2)","v":0},{"$f":"(COUNTIF(CALENDRIER!U$1835:U$2199,CALENDRIER!$A$1))+((COUNTIF(CALENDRIER!U$1835:U$2199,CALENDRIER!$B$1))/2)","v":0},{"$f":"(COUNTIF(CALENDRIER!V$1835:V$2199,CALENDRIER!$A$1))+((COUNTIF(CALENDRIER!V$1835:V$2199,CALENDRIER!$B$1))/2)","v":0},{"$f":"(COUNTIF(CALENDRIER!W$1835:W$2199,CALENDRIER!$A$1))+((COUNTIF(CALENDRIER!W$1835:W$2199,CALENDRIER!$B$1))/2)","v":0},{"$f":"(COUNTIF(CALENDRIER!X$1835:X$2199,CALENDRIER!$A$1))+((COUNTIF(CALENDRIER!X$1835:X$2199,CALENDRIER!$B$1))/2)","v":0},{"$f":"(COUNTIF(CALENDRIER!Y$1835:Y$2199,CALENDRIER!$A$1))+((COUNTIF(CALENDRIER!Y$1835:Y$2199,CALENDRIER!$B$1))/2)","v":0},{"$f":"(COUNTIF(CALENDRIER!Z$1835:Z$2199,CALENDRIER!$A$1))+((COUNTIF(CALENDRIER!Z$1835:Z$2199,CALENDRIER!$B$1))/2)","v":0},{"$f":"(COUNTIF(CALENDRIER!AA$1835:AA$2199,CALENDRIER!$A$1))+((COUNTIF(CALENDRIER!AA$1835:AA$2199,CALENDRIER!$B$1))/2)","v":0},{"$f":"(COUNTIF(CALENDRIER!AB$1835:AB$2199,CALENDRIER!$A$1))+((COUNTIF(CALENDRIER!AB$1835:AB$2199,CALENDRIER!$B$1))/2)","v":0},{"$f":"(COUNTIF(CALENDRIER!AC$1835:AC$2199,CALENDRIER!$A$1))+((COUNTIF(CALENDRIER!AC$1835:AC$2199,CALENDRIER!$B$1))/2)","v":0},{"$f":"(COUNTIF(CALENDRIER!AD$1835:AD$2199,CALENDRIER!$A$1))+((COUNTIF(CALENDRIER!AD$1835:AD$2199,CALENDRIER!$B$1))/2)","v":0},{"$f":"(COUNTIF(CALENDRIER!AE$1835:AE$2199,CALENDRIER!$A$1))+((COUNTIF(CALENDRIER!AE$1835:AE$2199,CALENDRIER!$B$1))/2)","v":0},{"$f":"(COUNTIF(CALENDRIER!AF$1835:AF$2199,CALENDRIER!$A$1))+((COUNTIF(CALENDRIER!AF$1835:AF$2199,CALENDRIER!$B$1))/2)","v":0},{"$f":"(COUNTIF(CALENDRIER!AG$1835:AG$2199,CALENDRIER!$A$1))+((COUNTIF(CALENDRIER!AG$1835:AG$2199,CALENDRIER!$B$1))/2)","v":0},{"$f":"(COUNTIF(CALENDRIER!AH$1835:AH$2199,CALENDRIER!$A$1))+((COUNTIF(CALENDRIER!AH$1835:AH$2199,CALENDRIER!$B$1))/2)","v":0},{"$f":"(COUNTIF(CALENDRIER!AI$1835:AI$2199,CALENDRIER!$A$1))+((COUNTIF(CALENDRIER!AI$1835:AI$2199,CALENDRIER!$B$1))/2)","v":0},{"$f":"(COUNTIF(CALENDRIER!AJ$1835:AJ$2199,CALENDRIER!$A$1))+((COUNTIF(CALENDRIER!AJ$1835:AJ$2199,CALENDRIER!$B$1))/2)","v":0},{"$f":"(COUNTIF(CALENDRIER!AK$1835:AK$2199,CALENDRIER!$A$1))+((COUNTIF(CALENDRIER!AK$1835:AK$2199,CALENDRIER!$B$1))/2)","v":0},{"$f":"(COUNTIF(CALENDRIER!AL$1835:AL$2199,CALENDRIER!$A$1))+((COUNTIF(CALENDRIER!AL$1835:AL$2199,CALENDRIER!$B$1))/2)","v":0},{"$f":"(COUNTIF(CALENDRIER!AM$1835:AM$2199,CALENDRIER!$A$1))+((COUNTIF(CALENDRIER!AM$1835:AM$2199,CALENDRIER!$B$1))/2)","v":0},{"$f":"(COUNTIF(CALENDRIER!AN$1835:AN$2199,CALENDRIER!$A$1))+((COUNTIF(CALENDRIER!AN$1835:AN$2199,CALENDRIER!$B$1))/2)","v":0},{"$f":"(COUNTIF(CALENDRIER!AO$1835:AO$2199,CALENDRIER!$A$1))+((COUNTIF(CALENDRIER!AO$1835:AO$2199,CALENDRIER!$B$1))/2)","v":0},{"$f":"(COUNTIF(CALENDRIER!AP$1835:AP$2199,CALENDRIER!$A$1))+((COUNTIF(CALENDRIER!AP$1835:AP$2199,CALENDRIER!$B$1))/2)","v":0},{"$f":"(COUNTIF(CALENDRIER!AQ$1835:AQ$2199,CALENDRIER!$A$1))+((COUNTIF(CALENDRIER!AQ$1835:AQ$2199,CALENDRIER!$B$1))/2)","v":0},{"$f":"(COUNTIF(CALENDRIER!AR$1835:AR$2199,CALENDRIER!$A$1))+((COUNTIF(CALENDRIER!AR$1835:AR$2199,CALENDRIER!$B$1))/2)","v":0},{"$f":"(COUNTIF(CALENDRIER!AS$1835:AS$2199,CALENDRIER!$A$1))+((COUNTIF(CALENDRIER!AS$1835:AS$2199,CALENDRIER!$B$1))/2)","v":0},{"$f":"(COUNTIF(CALENDRIER!AT$1835:AT$2199,CALENDRIER!$A$1))+((COUNTIF(CALENDRIER!AT$1835:AT$2199,CALENDRIER!$B$1))/2)","v":0},{"$f":"(COUNTIF(CALENDRIER!AU$1835:AU$2199,CALENDRIER!$A$1))+((COUNTIF(CALENDRIER!AU$1835:AU$2199,CALENDRIER!$B$1))/2)","v":0},{"$f":"(COUNTIF(CALENDRIER!AV$1835:AV$2199,CALENDRIER!$A$1))+((COUNTIF(CALENDRIER!AV$1835:AV$2199,CALENDRIER!$B$1))/2)","v":0},{"$f":"(COUNTIF(CALENDRIER!AW$1835:AW$2199,CALENDRIER!$A$1))+((COUNTIF(CALENDRIER!AW$1835:AW$2199,CALENDRIER!$B$1))/2)","v":0},{"$f":"(COUNTIF(CALENDRIER!AX$1835:AX$2199,CALENDRIER!$A$1))+((COUNTIF(CALENDRIER!AX$1835:AX$2199,CALENDRIER!$B$1))/2)","v":0},{"$f":"(COUNTIF(CALENDRIER!AY$1835:AY$2199,CALENDRIER!$A$1))+((COUNTIF(CALENDRIER!AY$1835:AY$2199,CALENDRIER!$B$1))/2)","v":0},{"$f":"(COUNTIF(CALENDRIER!AZ$1835:AZ$2199,CALENDRIER!$A$1))+((COUNTIF(CALENDRIER!AZ$1835:AZ$2199,CALENDRIER!$B$1))/2)","v":0},{"$f":"(COUNTIF(CALENDRIER!BA$1835:BA$2199,CALENDRIER!$A$1))+((COUNTIF(CALENDRIER!BA$1835:BA$2199,CALENDRIER!$B$1))/2)","v":0},{"$f":"(COUNTIF(CALENDRIER!BB$1835:BB$2199,CALENDRIER!$A$1))+((COUNTIF(CALENDRIER!BB$1835:BB$2199,CALENDRIER!$B$1))/2)","v":0},{"$f":"(COUNTIF(CALENDRIER!BC$1835:BC$2199,CALENDRIER!$A$1))+((COUNTIF(CALENDRIER!BC$1835:BC$2199,CALENDRIER!$B$1))/2)","v":0},{"$f":"(COUNTIF(CALENDRIER!BD$1835:BD$2199,CALENDRIER!$A$1))+((COUNTIF(CALENDRIER!BD$1835:BD$2199,CALENDRIER!$B$1))/2)","v":0},{"$f":"(COUNTIF(CALENDRIER!BE$1835:BE$2199,CALENDRIER!$A$1))+((COUNTIF(CALENDRIER!BE$1835:BE$2199,CALENDRIER!$B$1))/2)","v":0},{"$f":"(COUNTIF(CALENDRIER!BF$1835:BF$2199,CALENDRIER!$A$1))+((COUNTIF(CALENDRIER!BF$1835:BF$2199,CALENDRIER!$B$1))/2)","v":0},{"$f":"(COUNTIF(CALENDRIER!BG$1835:BG$2199,CALENDRIER!$A$1))+((COUNTIF(CALENDRIER!BG$1835:BG$2199,CALENDRIER!$B$1))/2)","v":0},{"$f":"(COUNTIF(CALENDRIER!BH$1835:BH$2199,CALENDRIER!$A$1))+((COUNTIF(CALENDRIER!BH$1835:BH$2199,CALENDRIER!$B$1))/2)","v":0},{"$f":"(COUNTIF(CALENDRIER!BI$1835:BI$2199,CALENDRIER!$A$1))+((COUNTIF(CALENDRIER!BI$1835:BI$2199,CALENDRIER!$B$1))/2)","v":0},{"$f":"(COUNTIF(CALENDRIER!BJ$1835:BJ$2199,CALENDRIER!$A$1))+((COUNTIF(CALENDRIER!BJ$1835:BJ$2199,CALENDRIER!$B$1))/2)","v":0},{"$f":"(COUNTIF(CALENDRIER!BK$1835:BK$2199,CALENDRIER!$A$1))+((COUNTIF(CALENDRIER!BK$1835:BK$2199,CALENDRIER!$B$1))/2)","v":0},{"$f":"(COUNTIF(CALENDRIER!BL$1835:BL$2199,CALENDRIER!$A$1))+((COUNTIF(CALENDRIER!BL$1835:BL$2199,CALENDRIER!$B$1))/2)","v":0},{"$f":"(COUNTIF(CALENDRIER!BM$1835:BM$2199,CALENDRIER!$A$1))+((COUNTIF(CALENDRIER!BM$1835:BM$2199,CALENDRIER!$B$1))/2)","v":0},{"$f":"(COUNTIF(CALENDRIER!BN$1835:BN$2199,CALENDRIER!$A$1))+((COUNTIF(CALENDRIER!BN$1835:BN$2199,CALENDRIER!$B$1))/2)","v":0},{"$f":"(COUNTIF(CALENDRIER!BO$1835:BO$2199,CALENDRIER!$A$1))+((COUNTIF(CALENDRIER!BO$1835:BO$2199,CALENDRIER!$B$1))/2)","v":0},{"$f":"(COUNTIF(CALENDRIER!BP$1835:BP$2199,CALENDRIER!$A$1))+((COUNTIF(CALENDRIER!BP$1835:BP$2199,CALENDRIER!$B$1))/2)","v":0},{"$f":"(COUNTIF(CALENDRIER!BQ$1835:BQ$2199,CALENDRIER!$A$1))+((COUNTIF(CALENDRIER!BQ$1835:BQ$2199,CALENDRIER!$B$1))/2)","v":0},{"$f":"(COUNTIF(CALENDRIER!BR$1835:BR$2199,CALENDRIER!$A$1))+((COUNTIF(CALENDRIER!BR$1835:BR$2199,CALENDRIER!$B$1))/2)","v":0},{"$f":"(COUNTIF(CALENDRIER!BS$1835:BS$2199,CALENDRIER!$A$1))+((COUNTIF(CALENDRIER!BS$1835:BS$2199,CALENDRIER!$B$1))/2)","v":0},{"$f":"(COUNTIF(CALENDRIER!BT$1835:BT$2199,CALENDRIER!$A$1))+((COUNTIF(CALENDRIER!BT$1835:BT$2199,CALENDRIER!$B$1))/2)","v":0},{"$f":"(COUNTIF(CALENDRIER!BU$1835:BU$2199,CALENDRIER!$A$1))+((COUNTIF(CALENDRIER!BU$1835:BU$2199,CALENDRIER!$B$1))/2)","v":0},{"$f":"(COUNTIF(CALENDRIER!BV$1835:BV$2199,CALENDRIER!$A$1))+((COUNTIF(CALENDRIER!BV$1835:BV$2199,CALENDRIER!$B$1))/2)","v":0},{"$f":"(COUNTIF(CALENDRIER!BW$1835:BW$2199,CALENDRIER!$A$1))+((COUNTIF(CALENDRIER!BW$1835:BW$2199,CALENDRIER!$B$1))/2)","v":0},{"$f":"(COUNTIF(CALENDRIER!BX$1835:BX$2199,CALENDRIER!$A$1))+((COUNTIF(CALENDRIER!BX$1835:BX$2199,CALENDRIER!$B$1))/2)","v":0},{"$f":"(COUNTIF(CALENDRIER!BY$1835:BY$2199,CALENDRIER!$A$1))+((COUNTIF(CALENDRIER!BY$1835:BY$2199,CALENDRIER!$B$1))/2)","v":0},{"$f":"(COUNTIF(CALENDRIER!BZ$1835:BZ$2199,CALENDRIER!$A$1))+((COUNTIF(CALENDRIER!BZ$1835:BZ$2199,CALENDRIER!$B$1))/2)","v":0},{"$f":"(COUNTIF(CALENDRIER!CA$1835:CA$2199,CALENDRIER!$A$1))+((COUNTIF(CALENDRIER!CA$1835:CA$2199,CALENDRIER!$B$1))/2)","v":0},{"$f":"(COUNTIF(CALENDRIER!CB$1835:CB$2199,CALENDRIER!$A$1))+((COUNTIF(CALENDRIER!CB$1835:CB$2199,CALENDRIER!$B$1))/2)","v":0},{"$f":"(COUNTIF(CALENDRIER!CC$1835:CC$2199,CALENDRIER!$A$1))+((COUNTIF(CALENDRIER!CC$1835:CC$2199,CALENDRIER!$B$1))/2)","v":0},{"$f":"(COUNTIF(CALENDRIER!CD$1835:CD$2199,CALENDRIER!$A$1))+((COUNTIF(CALENDRIER!CD$1835:CD$2199,CALENDRIER!$B$1))/2)","v":0},{"$f":"(COUNTIF(CALENDRIER!CE$1835:CE$2199,CALENDRIER!$A$1))+((COUNTIF(CALENDRIER!CE$1835:CE$2199,CALENDRIER!$B$1))/2)","v":0},{"$f":"(COUNTIF(CALENDRIER!CF$1835:CF$2199,CALENDRIER!$A$1))+((COUNTIF(CALENDRIER!CF$1835:CF$2199,CALENDRIER!$B$1))/2)","v":0},{"$f":"(COUNTIF(CALENDRIER!CG$1835:CG$2199,CALENDRIER!$A$1))+((COUNTIF(CALENDRIER!CG$1835:CG$2199,CALENDRIER!$B$1))/2)","v":0},{"$f":"(COUNTIF(CALENDRIER!CH$1835:CH$2199,CALENDRIER!$A$1))+((COUNTIF(CALENDRIER!CH$1835:CH$2199,CALENDRIER!$B$1))/2)","v":0},{"$f":"(COUNTIF(CALENDRIER!CI$1835:CI$2199,CALENDRIER!$A$1))+((COUNTIF(CALENDRIER!CI$1835:CI$2199,CALENDRIER!$B$1))/2)","v":0},{"$f":"(COUNTIF(CALENDRIER!CJ$1835:CJ$2199,CALENDRIER!$A$1))+((COUNTIF(CALENDRIER!CJ$1835:CJ$2199,CALENDRIER!$B$1))/2)","v":0},{"$f":"(COUNTIF(CALENDRIER!CK$1835:CK$2199,CALENDRIER!$A$1))+((COUNTIF(CALENDRIER!CK$1835:CK$2199,CALENDRIER!$B$1))/2)","v":0},{"$f":"(COUNTIF(CALENDRIER!CL$1835:CL$2199,CALENDRIER!$A$1))+((COUNTIF(CALENDRIER!CL$1835:CL$2199,CALENDRIER!$B$1))/2)","v":0},{"$f":"(COUNTIF(CALENDRIER!CM$1835:CM$2199,CALENDRIER!$A$1))+((COUNTIF(CALENDRIER!CM$1835:CM$2199,CALENDRIER!$B$1))/2)","v":0},{"$f":"(COUNTIF(CALENDRIER!CN$1835:CN$2199,CALENDRIER!$A$1))+((COUNTIF(CALENDRIER!CN$1835:CN$2199,CALENDRIER!$B$1))/2)","v":0},{"$f":"(COUNTIF(CALENDRIER!CO$1835:CO$2199,CALENDRIER!$A$1))+((COUNTIF(CALENDRIER!CO$1835:CO$2199,CALENDRIER!$B$1))/2)","v":0},{"$f":"(COUNTIF(CALENDRIER!CP$1835:CP$2199,CALENDRIER!$A$1))+((COUNTIF(CALENDRIER!CP$1835:CP$2199,CALENDRIER!$B$1))/2)","v":0},{"$f":"(COUNTIF(CALENDRIER!CQ$1835:CQ$2199,CALENDRIER!$A$1))+((COUNTIF(CALENDRIER!CQ$1835:CQ$2199,CALENDRIER!$B$1))/2)","v":0},{"$f":"(COUNTIF(CALENDRIER!CR$1835:CR$2199,CALENDRIER!$A$1))+((COUNTIF(CALENDRIER!CR$1835:CR$2199,CALENDRIER!$B$1))/2)","v":0},{"$f":"(COUNTIF(CALENDRIER!CS$1835:CS$2199,CALENDRIER!$A$1))+((COUNTIF(CALENDRIER!CS$1835:CS$2199,CALENDRIER!$B$1))/2)","v":0},{"$f":"(COUNTIF(CALENDRIER!CT$1835:CT$2199,CALENDRIER!$A$1))+((COUNTIF(CALENDRIER!CT$1835:CT$2199,CALENDRIER!$B$1))/2)","v":0},{"$f":"(COUNTIF(CALENDRIER!CU$1835:CU$2199,CALENDRIER!$A$1))+((COUNTIF(CALENDRIER!CU$1835:CU$2199,CALENDRIER!$B$1))/2)","v":0},{"$f":"(COUNTIF(CALENDRIER!CV$1835:CV$2199,CALENDRIER!$A$1))+((COUNTIF(CALENDRIER!CV$1835:CV$2199,CALENDRIER!$B$1))/2)","v":0},{"$f":"(COUNTIF(CALENDRIER!CW$1835:CW$2199,CALENDRIER!$A$1))+((COUNTIF(CALENDRIER!CW$1835:CW$2199,CALENDRIER!$B$1))/2)","v":0},{"$f":"(COUNTIF(CALENDRIER!CX$1835:CX$2199,CALENDRIER!$A$1))+((COUNTIF(CALENDRIER!CX$1835:CX$2199,CALENDRIER!$B$1))/2)","v":0},{"$f":"(COUNTIF(CALENDRIER!CY$1835:CY$2199,CALENDRIER!$A$1))+((COUNTIF(CALENDRIER!CY$1835:CY$2199,CALENDRIER!$B$1))/2)","v":0},{"$f":"(COUNTIF(CALENDRIER!CZ$1835:CZ$2199,CALENDRIER!$A$1))+((COUNTIF(CALENDRIER!CZ$1835:CZ$2199,CALENDRIER!$B$1))/2)","v":0},{"$f":"(COUNTIF(CALENDRIER!DA$1835:DA$2199,CALENDRIER!$A$1))+((COUNTIF(CALENDRIER!DA$1835:DA$2199,CALENDRIER!$B$1))/2)","v":0},{"$f":"(COUNTIF(CALENDRIER!DB$1835:DB$2199,CALENDRIER!$A$1))+((COUNTIF(CALENDRIER!DB$1835:DB$2199,CALENDRIER!$B$1))/2)","v":0},{"$f":"(COUNTIF(CALENDRIER!DC$1835:DC$2199,CALENDRIER!$A$1))+((COUNTIF(CALENDRIER!DC$1835:DC$2199,CALENDRIER!$B$1))/2)","v":0},{"$f":"(COUNTIF(CALENDRIER!DD$1835:DD$2199,CALENDRIER!$A$1))+((COUNTIF(CALENDRIER!DD$1835:DD$2199,CALENDRIER!$B$1))/2)","v":0},{"$f":"(COUNTIF(CALENDRIER!DE$1835:DE$2199,CALENDRIER!$A$1))+((COUNTIF(CALENDRIER!DE$1835:DE$2199,CALENDRIER!$B$1))/2)","v":0},{"$f":"(COUNTIF(CALENDRIER!DF$1835:DF$2199,CALENDRIER!$A$1))+((COUNTIF(CALENDRIER!DF$1835:DF$2199,CALENDRIER!$B$1))/2)","v":0},{"$f":"(COUNTIF(CALENDRIER!DG$1835:DG$2199,CALENDRIER!$A$1))+((COUNTIF(CALENDRIER!DG$1835:DG$2199,CALENDRIER!$B$1))/2)","v":0},{"$f":"(COUNTIF(CALENDRIER!DH$1835:DH$2199,CALENDRIER!$A$1))+((COUNTIF(CALENDRIER!DH$1835:DH$2199,CALENDRIER!$B$1))/2)","v":0},{"$f":"(COUNTIF(CALENDRIER!DI$1835:DI$2199,CALENDRIER!$A$1))+((COUNTIF(CALENDRIER!DI$1835:DI$2199,CALENDRIER!$B$1))/2)","v":0},{"$f":"(COUNTIF(CALENDRIER!DJ$1835:DJ$2199,CALENDRIER!$A$1))+((COUNTIF(CALENDRIER!DJ$1835:DJ$2199,CALENDRIER!$B$1))/2)","v":0},{"$f":"(COUNTIF(CALENDRIER!DK$1835:DK$2199,CALENDRIER!$A$1))+((COUNTIF(CALENDRIER!DK$1835:DK$2199,CALENDRIER!$B$1))/2)","v":0},{"$f":"(COUNTIF(CALENDRIER!DL$1835:DL$2199,CALENDRIER!$A$1))+((COUNTIF(CALENDRIER!DL$1835:DL$2199,CALENDRIER!$B$1))/2)","v":0},{"$f":"(COUNTIF(CALENDRIER!DM$1835:DM$2199,CALENDRIER!$A$1))+((COUNTIF(CALENDRIER!DM$1835:DM$2199,CALENDRIER!$B$1))/2)","v":0},{"$f":"(COUNTIF(CALENDRIER!DN$1835:DN$2199,CALENDRIER!$A$1))+((COUNTIF(CALENDRIER!DN$1835:DN$2199,CALENDRIER!$B$1))/2)","v":0},{"$f":"(COUNTIF(CALENDRIER!DO$1835:DO$2199,CALENDRIER!$A$1))+((COUNTIF(CALENDRIER!DO$1835:DO$2199,CALENDRIER!$B$1))/2)","v":0},{"$f":"(COUNTIF(CALENDRIER!DP$1835:DP$2199,CALENDRIER!$A$1))+((COUNTIF(CALENDRIER!DP$1835:DP$2199,CALENDRIER!$B$1))/2)","v":0},{"$f":"(COUNTIF(CALENDRIER!DQ$1835:DQ$2199,CALENDRIER!$A$1))+((COUNTIF(CALENDRIER!DQ$1835:DQ$2199,CALENDRIER!$B$1))/2)","v":0},{"$f":"(COUNTIF(CALENDRIER!DR$1835:DR$2199,CALENDRIER!$A$1))+((COUNTIF(CALENDRIER!DR$1835:DR$2199,CALENDRIER!$B$1))/2)","v":0},{"$f":"(COUNTIF(CALENDRIER!DS$1835:DS$2199,CALENDRIER!$A$1))+((COUNTIF(CALENDRIER!DS$1835:DS$2199,CALENDRIER!$B$1))/2)","v":0},{"$f":"(COUNTIF(CALENDRIER!DT$1835:DT$2199,CALENDRIER!$A$1))+((COUNTIF(CALENDRIER!DT$1835:DT$2199,CALENDRIER!$B$1))/2)","v":0},{"$f":"(COUNTIF(CALENDRIER!DU$1835:DU$2199,CALENDRIER!$A$1))+((COUNTIF(CALENDRIER!DU$1835:DU$2199,CALENDRIER!$B$1))/2)","v":0},{"$f":"(COUNTIF(CALENDRIER!DV$1835:DV$2199,CALENDRIER!$A$1))+((COUNTIF(CALENDRIER!DV$1835:DV$2199,CALENDRIER!$B$1))/2)","v":0},{"$f":"(COUNTIF(CALENDRIER!DW$1835:DW$2199,CALENDRIER!$A$1))+((COUNTIF(CALENDRIER!DW$1835:DW$2199,CALENDRIER!$B$1))/2)","v":0},{"$f":"(COUNTIF(CALENDRIER!DX$1835:DX$2199,CALENDRIER!$A$1))+((COUNTIF(CALENDRIER!DX$1835:DX$2199,CALENDRIER!$B$1))/2)","v":0},{"$f":"(COUNTIF(CALENDRIER!DY$1835:DY$2199,CALENDRIER!$A$1))+((COUNTIF(CALENDRIER!DY$1835:DY$2199,CALENDRIER!$B$1))/2)","v":0},{"$f":"(COUNTIF(CALENDRIER!DZ$1835:DZ$2199,CALENDRIER!$A$1))+((COUNTIF(CALENDRIER!DZ$1835:DZ$2199,CALENDRIER!$B$1))/2)","v":0},{"$f":"(COUNTIF(CALENDRIER!EA$1835:EA$2199,CALENDRIER!$A$1))+((COUNTIF(CALENDRIER!EA$1835:EA$2199,CALENDRIER!$B$1))/2)","v":0},{"$f":"(COUNTIF(CALENDRIER!EB$1835:EB$2199,CALENDRIER!$A$1))+((COUNTIF(CALENDRIER!EB$1835:EB$2199,CALENDRIER!$B$1))/2)","v":0},{"$f":"(COUNTIF(CALENDRIER!EC$1835:EC$2199,CALENDRIER!$A$1))+((COUNTIF(CALENDRIER!EC$1835:EC$2199,CALENDRIER!$B$1))/2)","v":0},{"$f":"(COUNTIF(CALENDRIER!ED$1835:ED$2199,CALENDRIER!$A$1))+((COUNTIF(CALENDRIER!ED$1835:ED$2199,CALENDRIER!$B$1))/2)","v":0},{"$f":"(COUNTIF(CALENDRIER!EE$1835:EE$2199,CALENDRIER!$A$1))+((COUNTIF(CALENDRIER!EE$1835:EE$2199,CALENDRIER!$B$1))/2)","v":0},{"$f":"(COUNTIF(CALENDRIER!EF$1835:EF$2199,CALENDRIER!$A$1))+((COUNTIF(CALENDRIER!EF$1835:EF$2199,CALENDRIER!$B$1))/2)","v":0},{"$f":"(COUNTIF(CALENDRIER!EG$1835:EG$2199,CALENDRIER!$A$1))+((COUNTIF(CALENDRIER!EG$1835:EG$2199,CALENDRIER!$B$1))/2)","v":0},{"$f":"(COUNTIF(CALENDRIER!EH$1835:EH$2199,CALENDRIER!$A$1))+((COUNTIF(CALENDRIER!EH$1835:EH$2199,CALENDRIER!$B$1))/2)","v":0},{"$f":"(COUNTIF(CALENDRIER!EI$1835:EI$2199,CALENDRIER!$A$1))+((COUNTIF(CALENDRIER!EI$1835:EI$2199,CALENDRIER!$B$1))/2)","v":0},{"$f":"(COUNTIF(CALENDRIER!EJ$1835:EJ$2199,CALENDRIER!$A$1))+((COUNTIF(CALENDRIER!EJ$1835:EJ$2199,CALENDRIER!$B$1))/2)","v":0},{"$f":"(COUNTIF(CALENDRIER!EK$1835:EK$2199,CALENDRIER!$A$1))+((COUNTIF(CALENDRIER!EK$1835:EK$2199,CALENDRIER!$B$1))/2)","v":0},{"$f":"(COUNTIF(CALENDRIER!EL$1835:EL$2199,CALENDRIER!$A$1))+((COUNTIF(CALENDRIER!EL$1835:EL$2199,CALENDRIER!$B$1))/2)","v":0},{"$f":"(COUNTIF(CALENDRIER!EM$1835:EM$2199,CALENDRIER!$A$1))+((COUNTIF(CALENDRIER!EM$1835:EM$2199,CALENDRIER!$B$1))/2)","v":0},{"$f":"(COUNTIF(CALENDRIER!EN$1835:EN$2199,CALENDRIER!$A$1))+((COUNTIF(CALENDRIER!EN$1835:EN$2199,CALENDRIER!$B$1))/2)","v":0},{"$f":"(COUNTIF(CALENDRIER!EO$1835:EO$2199,CALENDRIER!$A$1))+((COUNTIF(CALENDRIER!EO$1835:EO$2199,CALENDRIER!$B$1))/2)","v":0},{"$f":"(COUNTIF(CALENDRIER!EP$1835:EP$2199,CALENDRIER!$A$1))+((COUNTIF(CALENDRIER!EP$1835:EP$2199,CALENDRIER!$B$1))/2)","v":0},{"$f":"(COUNTIF(CALENDRIER!EQ$1835:EQ$2199,CALENDRIER!$A$1))+((COUNTIF(CALENDRIER!EQ$1835:EQ$2199,CALENDRIER!$B$1))/2)","v":0},{"$f":"(COUNTIF(CALENDRIER!ER$1835:ER$2199,CALENDRIER!$A$1))+((COUNTIF(CALENDRIER!ER$1835:ER$2199,CALENDRIER!$B$1))/2)","v":0},{"$f":"(COUNTIF(CALENDRIER!ES$1835:ES$2199,CALENDRIER!$A$1))+((COUNTIF(CALENDRIER!ES$1835:ES$2199,CALENDRIER!$B$1))/2)","v":0},{"$f":"(COUNTIF(CALENDRIER!ET$1835:ET$2199,CALENDRIER!$A$1))+((COUNTIF(CALENDRIER!ET$1835:ET$2199,CALENDRIER!$B$1))/2)","v":0},{"$f":"(COUNTIF(CALENDRIER!EU$1835:EU$2199,CALENDRIER!$A$1))+((COUNTIF(CALENDRIER!EU$1835:EU$2199,CALENDRIER!$B$1))/2)","v":0},{"$f":"(COUNTIF(CALENDRIER!EV$1835:EV$2199,CALENDRIER!$A$1))+((COUNTIF(CALENDRIER!EV$1835:EV$2199,CALENDRIER!$B$1))/2)","v":0},{"$f":"(COUNTIF(CALENDRIER!EW$1835:EW$2199,CALENDRIER!$A$1))+((COUNTIF(CALENDRIER!EW$1835:EW$2199,CALENDRIER!$B$1))/2)","v":0},{"$f":"(COUNTIF(CALENDRIER!EX$1835:EX$2199,CALENDRIER!$A$1))+((COUNTIF(CALENDRIER!EX$1835:EX$2199,CALENDRIER!$B$1))/2)","v":0},{"$f":"(COUNTIF(CALENDRIER!EY$1835:EY$2199,CALENDRIER!$A$1))+((COUNTIF(CALENDRIER!EY$1835:EY$2199,CALENDRIER!$B$1))/2)","v":0},{"$f":"(COUNTIF(CALENDRIER!EZ$1835:EZ$2199,CALENDRIER!$A$1))+((COUNTIF(CALENDRIER!EZ$1835:EZ$2199,CALENDRIER!$B$1))/2)","v":0},{"$f":"(COUNTIF(CALENDRIER!FA$1835:FA$2199,CALENDRIER!$A$1))+((COUNTIF(CALENDRIER!FA$1835:FA$2199,CALENDRIER!$B$1))/2)","v":0},{"$f":"(COUNTIF(CALENDRIER!FB$1835:FB$2199,CALENDRIER!$A$1))+((COUNTIF(CALENDRIER!FB$1835:FB$2199,CALENDRIER!$B$1))/2)","v":0},{"$f":"(COUNTIF(CALENDRIER!FC$1835:FC$2199,CALENDRIER!$A$1))+((COUNTIF(CALENDRIER!FC$1835:FC$2199,CALENDRIER!$B$1))/2)","v":0},{"$f":"(COUNTIF(CALENDRIER!FD$1835:FD$2199,CALENDRIER!$A$1))+((COUNTIF(CALENDRIER!FD$1835:FD$2199,CALENDRIER!$B$1))/2)","v":0},{"$f":"(COUNTIF(CALENDRIER!FE$1835:FE$2199,CALENDRIER!$A$1))+((COUNTIF(CALENDRIER!FE$1835:FE$2199,CALENDRIER!$B$1))/2)","v":0},{"$f":"(COUNTIF(CALENDRIER!FF$1835:FF$2199,CALENDRIER!$A$1))+((COUNTIF(CALENDRIER!FF$1835:FF$2199,CALENDRIER!$B$1))/2)","v":0},{"$f":"(COUNTIF(CALENDRIER!FG$1835:FG$2199,CALENDRIER!$A$1))+((COUNTIF(CALENDRIER!FG$1835:FG$2199,CALENDRIER!$B$1))/2)","v":0},{"$f":"(COUNTIF(CALENDRIER!FH$1835:FH$2199,CALENDRIER!$A$1))+((COUNTIF(CALENDRIER!FH$1835:FH$2199,CALENDRIER!$B$1))/2)","v":0},{"$f":"(COUNTIF(CALENDRIER!FI$1835:FI$2199,CALENDRIER!$A$1))+((COUNTIF(CALENDRIER!FI$1835:FI$2199,CALENDRIER!$B$1))/2)","v":0},{"$f":"(COUNTIF(CALENDRIER!FJ$1835:FJ$2199,CALENDRIER!$A$1))+((COUNTIF(CALENDRIER!FJ$1835:FJ$2199,CALENDRIER!$B$1))/2)","v":0},{"$f":"(COUNTIF(CALENDRIER!FK$1835:FK$2199,CALENDRIER!$A$1))+((COUNTIF(CALENDRIER!FK$1835:FK$2199,CALENDRIER!$B$1))/2)","v":0},{"$f":"(COUNTIF(CALENDRIER!FL$1835:FL$2199,CALENDRIER!$A$1))+((COUNTIF(CALENDRIER!FL$1835:FL$2199,CALENDRIER!$B$1))/2)","v":0},{"$f":"(COUNTIF(CALENDRIER!FM$1835:FM$2199,CALENDRIER!$A$1))+((COUNTIF(CALENDRIER!FM$1835:FM$2199,CALENDRIER!$B$1))/2)","v":0},{"$f":"(COUNTIF(CALENDRIER!FN$1835:FN$2199,CALENDRIER!$A$1))+((COUNTIF(CALENDRIER!FN$1835:FN$2199,CALENDRIER!$B$1))/2)","v":0},{"$f":"(COUNTIF(CALENDRIER!FO$1835:FO$2199,CALENDRIER!$A$1))+((COUNTIF(CALENDRIER!FO$1835:FO$2199,CALENDRIER!$B$1))/2)","v":0},{"$f":"(COUNTIF(CALENDRIER!FP$1835:FP$2199,CALENDRIER!$A$1))+((COUNTIF(CALENDRIER!FP$1835:FP$2199,CALENDRIER!$B$1))/2)","v":0},{"$f":"(COUNTIF(CALENDRIER!FQ$1835:FQ$2199,CALENDRIER!$A$1))+((COUNTIF(CALENDRIER!FQ$1835:FQ$2199,CALENDRIER!$B$1))/2)","v":0},{"$f":"(COUNTIF(CALENDRIER!FR$1835:FR$2199,CALENDRIER!$A$1))+((COUNTIF(CALENDRIER!FR$1835:FR$2199,CALENDRIER!$B$1))/2)","v":0},{"$f":"(COUNTIF(CALENDRIER!FS$1835:FS$2199,CALENDRIER!$A$1))+((COUNTIF(CALENDRIER!FS$1835:FS$2199,CALENDRIER!$B$1))/2)","v":0},{"$f":"(COUNTIF(CALENDRIER!FT$1835:FT$2199,CALENDRIER!$A$1))+((COUNTIF(CALENDRIER!FT$1835:FT$2199,CALENDRIER!$B$1))/2)","v":0},{"$f":"(COUNTIF(CALENDRIER!FU$1835:FU$2199,CALENDRIER!$A$1))+((COUNTIF(CALENDRIER!FU$1835:FU$2199,CALENDRIER!$B$1))/2)","v":0},{"$f":"(COUNTIF(CALENDRIER!FV$1835:FV$2199,CALENDRIER!$A$1))+((COUNTIF(CALENDRIER!FV$1835:FV$2199,CALENDRIER!$B$1))/2)","v":0},{"$f":"(COUNTIF(CALENDRIER!FW$1835:FW$2199,CALENDRIER!$A$1))+((COUNTIF(CALENDRIER!FW$1835:FW$2199,CALENDRIER!$B$1))/2)","v":0},{"$f":"(COUNTIF(CALENDRIER!FX$1835:FX$2199,CALENDRIER!$A$1))+((COUNTIF(CALENDRIER!FX$1835:FX$2199,CALENDRIER!$B$1))/2)","v":0},{"$f":"(COUNTIF(CALENDRIER!FY$1835:FY$2199,CALENDRIER!$A$1))+((COUNTIF(CALENDRIER!FY$1835:FY$2199,CALENDRIER!$B$1))/2)","v":0},{"$f":"(COUNTIF(CALENDRIER!FZ$1835:FZ$2199,CALENDRIER!$A$1))+((COUNTIF(CALENDRIER!FZ$1835:FZ$2199,CALENDRIER!$B$1))/2)","v":0},{"$f":"(COUNTIF(CALENDRIER!GA$1835:GA$2199,CALENDRIER!$A$1))+((COUNTIF(CALENDRIER!GA$1835:GA$2199,CALENDRIER!$B$1))/2)","v":0},{"$f":"(COUNTIF(CALENDRIER!GB$1835:GB$2199,CALENDRIER!$A$1))+((COUNTIF(CALENDRIER!GB$1835:GB$2199,CALENDRIER!$B$1))/2)","v":0},{"$f":"(COUNTIF(CALENDRIER!GC$1835:GC$2199,CALENDRIER!$A$1))+((COUNTIF(CALENDRIER!GC$1835:GC$2199,CALENDRIER!$B$1))/2)","v":0},{"$f":"(COUNTIF(CALENDRIER!GD$1835:GD$2199,CALENDRIER!$A$1))+((COUNTIF(CALENDRIER!GD$1835:GD$2199,CALENDRIER!$B$1))/2)","v":0},{"$f":"(COUNTIF(CALENDRIER!GE$1835:GE$2199,CALENDRIER!$A$1))+((COUNTIF(CALENDRIER!GE$1835:GE$2199,CALENDRIER!$B$1))/2)","v":0},{"$f":"(COUNTIF(CALENDRIER!GF$1835:GF$2199,CALENDRIER!$A$1))+((COUNTIF(CALENDRIER!GF$1835:GF$2199,CALENDRIER!$B$1))/2)","v":0},{"$f":"(COUNTIF(CALENDRIER!GG$1835:GG$2199,CALENDRIER!$A$1))+((COUNTIF(CALENDRIER!GG$1835:GG$2199,CALENDRIER!$B$1))/2)","v":0},{"$f":"(COUNTIF(CALENDRIER!GH$1835:GH$2199,CALENDRIER!$A$1))+((COUNTIF(CALENDRIER!GH$1835:GH$2199,CALENDRIER!$B$1))/2)","v":0},{"$f":"(COUNTIF(CALENDRIER!GI$1835:GI$2199,CALENDRIER!$A$1))+((COUNTIF(CALENDRIER!GI$1835:GI$2199,CALENDRIER!$B$1))/2)","v":0},{"$f":"(COUNTIF(CALENDRIER!GJ$1835:GJ$2199,CALENDRIER!$A$1))+((COUNTIF(CALENDRIER!GJ$1835:GJ$2199,CALENDRIER!$B$1))/2)","v":0},{"$f":"(COUNTIF(CALENDRIER!GK$1835:GK$2199,CALENDRIER!$A$1))+((COUNTIF(CALENDRIER!GK$1835:GK$2199,CALENDRIER!$B$1))/2)","v":0},{"$f":"(COUNTIF(CALENDRIER!GL$1835:GL$2199,CALENDRIER!$A$1))+((COUNTIF(CALENDRIER!GL$1835:GL$2199,CALENDRIER!$B$1))/2)","v":0},{"$f":"(COUNTIF(CALENDRIER!GM$1835:GM$2199,CALENDRIER!$A$1))+((COUNTIF(CALENDRIER!GM$1835:GM$2199,CALENDRIER!$B$1))/2)","v":0},{"$f":"(COUNTIF(CALENDRIER!GN$1835:GN$2199,CALENDRIER!$A$1))+((COUNTIF(CALENDRIER!GN$1835:GN$2199,CALENDRIER!$B$1))/2)","v":0},{"$f":"(COUNTIF(CALENDRIER!GO$1835:GO$2199,CALENDRIER!$A$1))+((COUNTIF(CALENDRIER!GO$1835:GO$2199,CALENDRIER!$B$1))/2)","v":0},{"$f":"(COUNTIF(CALENDRIER!GP$1835:GP$2199,CALENDRIER!$A$1))+((COUNTIF(CALENDRIER!GP$1835:GP$2199,CALENDRIER!$B$1))/2)","v":0},{"$f":"(COUNTIF(CALENDRIER!GQ$1835:GQ$2199,CALENDRIER!$A$1))+((COUNTIF(CALENDRIER!GQ$1835:GQ$2199,CALENDRIER!$B$1))/2)","v":0},{"$f":"(COUNTIF(CALENDRIER!GR$1835:GR$2199,CALENDRIER!$A$1))+((COUNTIF(CALENDRIER!GR$1835:GR$2199,CALENDRIER!$B$1))/2)","v":0}]
[null,{"$f":"\"Solde \"&CALENDRIER!$A$1&\" \"&A39&\" : \"","v":"Solde CP 2020-2021 : "},{"$f":"C40-C41","v":0},{"$f":"D40-D41","v":0},0,0,0,0,0,0,0,0,0,0,0,0,0,0,0,0,0,0,0,0,0,0,0,0,0,0,0,0,0,0,0,0,0,0,0,0,0,0,0,0,0,0,0,0,0,0,0,0,0,0,0,0,0,0,0,0,0,0,0,0,0,0,0,{"$f":"BP40-BP41","v":0},0,0,0,0,0,0,0,0,0,0,0,0,0,0,0,0,0,0,0,0,0,0,0,0,0,0,0,0,0,0,0,0,0,0,0,0,0,0,0,0,0,0,0,0,0,0,0,0,0,0,0,0,0,0,0,0,0,0,0,0,0,0,0,{"$f":"EB40-EB41","v":0},0,0,0,0,0,0,0,0,0,0,0,0,0,0,0,0,0,0,0,0,0,0,0,0,0,0,0,0,0,0,0,0,0,0,0,0,0,0,0,0,0,0,0,0,0,0,0,0,0,0,0,0,0,0,0,0,0,0,0,0,0,0,0,{"$f":"GN40-GN41","v":0},0,0,0,0]
[]
[]
[]
[]
[]
[]
[]
[]
[]
[]
[]
[]
[]
[]
[]
[]
[]
[]
[]
[]
[]
["2015-2016",{"$f":"CALENDRIER!$A$2","v":"CP Anc"}]
[null,"SOLDE DEPART"]
[null,{"$f":"CALENDRIER!$A$2&\" PRIS\"","v":"CP Anc PRIS"},{"$f":"(COUNTIF(CALENDRIER!C$8:C$373,CALENDRIER!$A$2))+((COUNTIF(CALENDRIER!C$8:C$373,CALENDRIER!$B$2))/2)","v":0},{"$f":"(COUNTIF(CALENDRIER!D$8:D$373,CALENDRIER!$A$2))+((COUNTIF(CALENDRIER!D$8:D$373,CALENDRIER!$B$2))/2)","v":0},{"$f":"(COUNTIF(CALENDRIER!E$8:E$373,CALENDRIER!$A$2))+((COUNTIF(CALENDRIER!E$8:E$373,CALENDRIER!$B$2))/2)","v":0},{"$f":"(COUNTIF(CALENDRIER!F$8:F$373,CALENDRIER!$A$2))+((COUNTIF(CALENDRIER!F$8:F$373,CALENDRIER!$B$2))/2)","v":0},{"$f":"(COUNTIF(CALENDRIER!G$8:G$373,CALENDRIER!$A$2))+((COUNTIF(CALENDRIER!G$8:G$373,CALENDRIER!$B$2))/2)","v":0},{"$f":"(COUNTIF(CALENDRIER!H$8:H$373,CALENDRIER!$A$2))+((COUNTIF(CALENDRIER!H$8:H$373,CALENDRIER!$B$2))/2)","v":0},{"$f":"(COUNTIF(CALENDRIER!I$8:I$373,CALENDRIER!$A$2))+((COUNTIF(CALENDRIER!I$8:I$373,CALENDRIER!$B$2))/2)","v":0},{"$f":"(COUNTIF(CALENDRIER!J$8:J$373,CALENDRIER!$A$2))+((COUNTIF(CALENDRIER!J$8:J$373,CALENDRIER!$B$2))/2)","v":0},{"$f":"(COUNTIF(CALENDRIER!K$8:K$373,CALENDRIER!$A$2))+((COUNTIF(CALENDRIER!K$8:K$373,CALENDRIER!$B$2))/2)","v":0},{"$f":"(COUNTIF(CALENDRIER!L$8:L$373,CALENDRIER!$A$2))+((COUNTIF(CALENDRIER!L$8:L$373,CALENDRIER!$B$2))/2)","v":0},{"$f":"(COUNTIF(CALENDRIER!M$8:M$373,CALENDRIER!$A$2))+((COUNTIF(CALENDRIER!M$8:M$373,CALENDRIER!$B$2))/2)","v":0},{"$f":"(COUNTIF(CALENDRIER!N$8:N$373,CALENDRIER!$A$2))+((COUNTIF(CALENDRIER!N$8:N$373,CALENDRIER!$B$2))/2)","v":0},{"$f":"(COUNTIF(CALENDRIER!O$8:O$373,CALENDRIER!$A$2))+((COUNTIF(CALENDRIER!O$8:O$373,CALENDRIER!$B$2))/2)","v":0},{"$f":"(COUNTIF(CALENDRIER!P$8:P$373,CALENDRIER!$A$2))+((COUNTIF(CALENDRIER!P$8:P$373,CALENDRIER!$B$2))/2)","v":0},{"$f":"(COUNTIF(CALENDRIER!Q$8:Q$373,CALENDRIER!$A$2))+((COUNTIF(CALENDRIER!Q$8:Q$373,CALENDRIER!$B$2))/2)","v":0},{"$f":"(COUNTIF(CALENDRIER!R$8:R$373,CALENDRIER!$A$2))+((COUNTIF(CALENDRIER!R$8:R$373,CALENDRIER!$B$2))/2)","v":0},{"$f":"(COUNTIF(CALENDRIER!S$8:S$373,CALENDRIER!$A$2))+((COUNTIF(CALENDRIER!S$8:S$373,CALENDRIER!$B$2))/2)","v":0},{"$f":"(COUNTIF(CALENDRIER!T$8:T$373,CALENDRIER!$A$2))+((COUNTIF(CALENDRIER!T$8:T$373,CALENDRIER!$B$2))/2)","v":0},{"$f":"(COUNTIF(CALENDRIER!U$8:U$373,CALENDRIER!$A$2))+((COUNTIF(CALENDRIER!U$8:U$373,CALENDRIER!$B$2))/2)","v":0},{"$f":"(COUNTIF(CALENDRIER!V$8:V$373,CALENDRIER!$A$2))+((COUNTIF(CALENDRIER!V$8:V$373,CALENDRIER!$B$2))/2)","v":0},{"$f":"(COUNTIF(CALENDRIER!W$8:W$373,CALENDRIER!$A$2))+((COUNTIF(CALENDRIER!W$8:W$373,CALENDRIER!$B$2))/2)","v":0},{"$f":"(COUNTIF(CALENDRIER!X$8:X$373,CALENDRIER!$A$2))+((COUNTIF(CALENDRIER!X$8:X$373,CALENDRIER!$B$2))/2)","v":0},{"$f":"(COUNTIF(CALENDRIER!Y$8:Y$373,CALENDRIER!$A$2))+((COUNTIF(CALENDRIER!Y$8:Y$373,CALENDRIER!$B$2))/2)","v":0},{"$f":"(COUNTIF(CALENDRIER!Z$8:Z$373,CALENDRIER!$A$2))+((COUNTIF(CALENDRIER!Z$8:Z$373,CALENDRIER!$B$2))/2)","v":0},{"$f":"(COUNTIF(CALENDRIER!AA$8:AA$373,CALENDRIER!$A$2))+((COUNTIF(CALENDRIER!AA$8:AA$373,CALENDRIER!$B$2))/2)","v":0},{"$f":"(COUNTIF(CALENDRIER!AB$8:AB$373,CALENDRIER!$A$2))+((COUNTIF(CALENDRIER!AB$8:AB$373,CALENDRIER!$B$2))/2)","v":0},{"$f":"(COUNTIF(CALENDRIER!AC$8:AC$373,CALENDRIER!$A$2))+((COUNTIF(CALENDRIER!AC$8:AC$373,CALENDRIER!$B$2))/2)","v":0},{"$f":"(COUNTIF(CALENDRIER!AD$8:AD$373,CALENDRIER!$A$2))+((COUNTIF(CALENDRIER!AD$8:AD$373,CALENDRIER!$B$2))/2)","v":0},{"$f":"(COUNTIF(CALENDRIER!AE$8:AE$373,CALENDRIER!$A$2))+((COUNTIF(CALENDRIER!AE$8:AE$373,CALENDRIER!$B$2))/2)","v":0},{"$f":"(COUNTIF(CALENDRIER!AF$8:AF$373,CALENDRIER!$A$2))+((COUNTIF(CALENDRIER!AF$8:AF$373,CALENDRIER!$B$2))/2)","v":0},{"$f":"(COUNTIF(CALENDRIER!AG$8:AG$373,CALENDRIER!$A$2))+((COUNTIF(CALENDRIER!AG$8:AG$373,CALENDRIER!$B$2))/2)","v":0},{"$f":"(COUNTIF(CALENDRIER!AH$8:AH$373,CALENDRIER!$A$2))+((COUNTIF(CALENDRIER!AH$8:AH$373,CALENDRIER!$B$2))/2)","v":0},{"$f":"(COUNTIF(CALENDRIER!AI$8:AI$373,CALENDRIER!$A$2))+((COUNTIF(CALENDRIER!AI$8:AI$373,CALENDRIER!$B$2))/2)","v":0},{"$f":"(COUNTIF(CALENDRIER!AJ$8:AJ$373,CALENDRIER!$A$2))+((COUNTIF(CALENDRIER!AJ$8:AJ$373,CALENDRIER!$B$2))/2)","v":0},{"$f":"(COUNTIF(CALENDRIER!AK$8:AK$373,CALENDRIER!$A$2))+((COUNTIF(CALENDRIER!AK$8:AK$373,CALENDRIER!$B$2))/2)","v":0},{"$f":"(COUNTIF(CALENDRIER!AL$8:AL$373,CALENDRIER!$A$2))+((COUNTIF(CALENDRIER!AL$8:AL$373,CALENDRIER!$B$2))/2)","v":0},{"$f":"(COUNTIF(CALENDRIER!AM$8:AM$373,CALENDRIER!$A$2))+((COUNTIF(CALENDRIER!AM$8:AM$373,CALENDRIER!$B$2))/2)","v":0},{"$f":"(COUNTIF(CALENDRIER!AN$8:AN$373,CALENDRIER!$A$2))+((COUNTIF(CALENDRIER!AN$8:AN$373,CALENDRIER!$B$2))/2)","v":0},{"$f":"(COUNTIF(CALENDRIER!AO$8:AO$373,CALENDRIER!$A$2))+((COUNTIF(CALENDRIER!AO$8:AO$373,CALENDRIER!$B$2))/2)","v":0},{"$f":"(COUNTIF(CALENDRIER!AP$8:AP$373,CALENDRIER!$A$2))+((COUNTIF(CALENDRIER!AP$8:AP$373,CALENDRIER!$B$2))/2)","v":0},{"$f":"(COUNTIF(CALENDRIER!AQ$8:AQ$373,CALENDRIER!$A$2))+((COUNTIF(CALENDRIER!AQ$8:AQ$373,CALENDRIER!$B$2))/2)","v":0},{"$f":"(COUNTIF(CALENDRIER!AR$8:AR$373,CALENDRIER!$A$2))+((COUNTIF(CALENDRIER!AR$8:AR$373,CALENDRIER!$B$2))/2)","v":0},{"$f":"(COUNTIF(CALENDRIER!AS$8:AS$373,CALENDRIER!$A$2))+((COUNTIF(CALENDRIER!AS$8:AS$373,CALENDRIER!$B$2))/2)","v":0},{"$f":"(COUNTIF(CALENDRIER!AT$8:AT$373,CALENDRIER!$A$2))+((COUNTIF(CALENDRIER!AT$8:AT$373,CALENDRIER!$B$2))/2)","v":0},{"$f":"(COUNTIF(CALENDRIER!AU$8:AU$373,CALENDRIER!$A$2))+((COUNTIF(CALENDRIER!AU$8:AU$373,CALENDRIER!$B$2))/2)","v":0},{"$f":"(COUNTIF(CALENDRIER!AV$8:AV$373,CALENDRIER!$A$2))+((COUNTIF(CALENDRIER!AV$8:AV$373,CALENDRIER!$B$2))/2)","v":0},{"$f":"(COUNTIF(CALENDRIER!AW$8:AW$373,CALENDRIER!$A$2))+((COUNTIF(CALENDRIER!AW$8:AW$373,CALENDRIER!$B$2))/2)","v":0},{"$f":"(COUNTIF(CALENDRIER!AX$8:AX$373,CALENDRIER!$A$2))+((COUNTIF(CALENDRIER!AX$8:AX$373,CALENDRIER!$B$2))/2)","v":0},{"$f":"(COUNTIF(CALENDRIER!AY$8:AY$373,CALENDRIER!$A$2))+((COUNTIF(CALENDRIER!AY$8:AY$373,CALENDRIER!$B$2))/2)","v":0},{"$f":"(COUNTIF(CALENDRIER!AZ$8:AZ$373,CALENDRIER!$A$2))+((COUNTIF(CALENDRIER!AZ$8:AZ$373,CALENDRIER!$B$2))/2)","v":0},{"$f":"(COUNTIF(CALENDRIER!BA$8:BA$373,CALENDRIER!$A$2))+((COUNTIF(CALENDRIER!BA$8:BA$373,CALENDRIER!$B$2))/2)","v":0},{"$f":"(COUNTIF(CALENDRIER!BB$8:BB$373,CALENDRIER!$A$2))+((COUNTIF(CALENDRIER!BB$8:BB$373,CALENDRIER!$B$2))/2)","v":0},{"$f":"(COUNTIF(CALENDRIER!BC$8:BC$373,CALENDRIER!$A$2))+((COUNTIF(CALENDRIER!BC$8:BC$373,CALENDRIER!$B$2))/2)","v":0},{"$f":"(COUNTIF(CALENDRIER!BD$8:BD$373,CALENDRIER!$A$2))+((COUNTIF(CALENDRIER!BD$8:BD$373,CALENDRIER!$B$2))/2)","v":0},{"$f":"(COUNTIF(CALENDRIER!BE$8:BE$373,CALENDRIER!$A$2))+((COUNTIF(CALENDRIER!BE$8:BE$373,CALENDRIER!$B$2))/2)","v":0},{"$f":"(COUNTIF(CALENDRIER!BF$8:BF$373,CALENDRIER!$A$2))+((COUNTIF(CALENDRIER!BF$8:BF$373,CALENDRIER!$B$2))/2)","v":0},{"$f":"(COUNTIF(CALENDRIER!BG$8:BG$373,CALENDRIER!$A$2))+((COUNTIF(CALENDRIER!BG$8:BG$373,CALENDRIER!$B$2))/2)","v":0},{"$f":"(COUNTIF(CALENDRIER!BH$8:BH$373,CALENDRIER!$A$2))+((COUNTIF(CALENDRIER!BH$8:BH$373,CALENDRIER!$B$2))/2)","v":0},{"$f":"(COUNTIF(CALENDRIER!BI$8:BI$373,CALENDRIER!$A$2))+((COUNTIF(CALENDRIER!BI$8:BI$373,CALENDRIER!$B$2))/2)","v":0},{"$f":"(COUNTIF(CALENDRIER!BJ$8:BJ$373,CALENDRIER!$A$2))+((COUNTIF(CALENDRIER!BJ$8:BJ$373,CALENDRIER!$B$2))/2)","v":0},{"$f":"(COUNTIF(CALENDRIER!BK$8:BK$373,CALENDRIER!$A$2))+((COUNTIF(CALENDRIER!BK$8:BK$373,CALENDRIER!$B$2))/2)","v":0},{"$f":"(COUNTIF(CALENDRIER!BL$8:BL$373,CALENDRIER!$A$2))+((COUNTIF(CALENDRIER!BL$8:BL$373,CALENDRIER!$B$2))/2)","v":0},{"$f":"(COUNTIF(CALENDRIER!BM$8:BM$373,CALENDRIER!$A$2))+((COUNTIF(CALENDRIER!BM$8:BM$373,CALENDRIER!$B$2))/2)","v":0},{"$f":"(COUNTIF(CALENDRIER!BN$8:BN$373,CALENDRIER!$A$2))+((COUNTIF(CALENDRIER!BN$8:BN$373,CALENDRIER!$B$2))/2)","v":0},{"$f":"(COUNTIF(CALENDRIER!BO$8:BO$373,CALENDRIER!$A$2))+((COUNTIF(CALENDRIER!BO$8:BO$373,CALENDRIER!$B$2))/2)","v":0},{"$f":"(COUNTIF(CALENDRIER!BP$8:BP$373,CALENDRIER!$A$2))+((COUNTIF(CALENDRIER!BP$8:BP$373,CALENDRIER!$B$2))/2)","v":0},{"$f":"(COUNTIF(CALENDRIER!BQ$8:BQ$373,CALENDRIER!$A$2))+((COUNTIF(CALENDRIER!BQ$8:BQ$373,CALENDRIER!$B$2))/2)","v":0},{"$f":"(COUNTIF(CALENDRIER!BR$8:BR$373,CALENDRIER!$A$2))+((COUNTIF(CALENDRIER!BR$8:BR$373,CALENDRIER!$B$2))/2)","v":0},{"$f":"(COUNTIF(CALENDRIER!BS$8:BS$373,CALENDRIER!$A$2))+((COUNTIF(CALENDRIER!BS$8:BS$373,CALENDRIER!$B$2))/2)","v":0},{"$f":"(COUNTIF(CALENDRIER!BT$8:BT$373,CALENDRIER!$A$2))+((COUNTIF(CALENDRIER!BT$8:BT$373,CALENDRIER!$B$2))/2)","v":0},{"$f":"(COUNTIF(CALENDRIER!BU$8:BU$373,CALENDRIER!$A$2))+((COUNTIF(CALENDRIER!BU$8:BU$373,CALENDRIER!$B$2))/2)","v":0},{"$f":"(COUNTIF(CALENDRIER!BV$8:BV$373,CALENDRIER!$A$2))+((COUNTIF(CALENDRIER!BV$8:BV$373,CALENDRIER!$B$2))/2)","v":0},{"$f":"(COUNTIF(CALENDRIER!BW$8:BW$373,CALENDRIER!$A$2))+((COUNTIF(CALENDRIER!BW$8:BW$373,CALENDRIER!$B$2))/2)","v":0},{"$f":"(COUNTIF(CALENDRIER!BX$8:BX$373,CALENDRIER!$A$2))+((COUNTIF(CALENDRIER!BX$8:BX$373,CALENDRIER!$B$2))/2)","v":0},{"$f":"(COUNTIF(CALENDRIER!BY$8:BY$373,CALENDRIER!$A$2))+((COUNTIF(CALENDRIER!BY$8:BY$373,CALENDRIER!$B$2))/2)","v":0},{"$f":"(COUNTIF(CALENDRIER!BZ$8:BZ$373,CALENDRIER!$A$2))+((COUNTIF(CALENDRIER!BZ$8:BZ$373,CALENDRIER!$B$2))/2)","v":0},{"$f":"(COUNTIF(CALENDRIER!CA$8:CA$373,CALENDRIER!$A$2))+((COUNTIF(CALENDRIER!CA$8:CA$373,CALENDRIER!$B$2))/2)","v":0},{"$f":"(COUNTIF(CALENDRIER!CB$8:CB$373,CALENDRIER!$A$2))+((COUNTIF(CALENDRIER!CB$8:CB$373,CALENDRIER!$B$2))/2)","v":0},{"$f":"(COUNTIF(CALENDRIER!CC$8:CC$373,CALENDRIER!$A$2))+((COUNTIF(CALENDRIER!CC$8:CC$373,CALENDRIER!$B$2))/2)","v":0},{"$f":"(COUNTIF(CALENDRIER!CD$8:CD$373,CALENDRIER!$A$2))+((COUNTIF(CALENDRIER!CD$8:CD$373,CALENDRIER!$B$2))/2)","v":0},{"$f":"(COUNTIF(CALENDRIER!CE$8:CE$373,CALENDRIER!$A$2))+((COUNTIF(CALENDRIER!CE$8:CE$373,CALENDRIER!$B$2))/2)","v":0},{"$f":"(COUNTIF(CALENDRIER!CF$8:CF$373,CALENDRIER!$A$2))+((COUNTIF(CALENDRIER!CF$8:CF$373,CALENDRIER!$B$2))/2)","v":0},{"$f":"(COUNTIF(CALENDRIER!CG$8:CG$373,CALENDRIER!$A$2))+((COUNTIF(CALENDRIER!CG$8:CG$373,CALENDRIER!$B$2))/2)","v":0},{"$f":"(COUNTIF(CALENDRIER!CH$8:CH$373,CALENDRIER!$A$2))+((COUNTIF(CALENDRIER!CH$8:CH$373,CALENDRIER!$B$2))/2)","v":0},{"$f":"(COUNTIF(CALENDRIER!CI$8:CI$373,CALENDRIER!$A$2))+((COUNTIF(CALENDRIER!CI$8:CI$373,CALENDRIER!$B$2))/2)","v":0},{"$f":"(COUNTIF(CALENDRIER!CJ$8:CJ$373,CALENDRIER!$A$2))+((COUNTIF(CALENDRIER!CJ$8:CJ$373,CALENDRIER!$B$2))/2)","v":0},{"$f":"(COUNTIF(CALENDRIER!CK$8:CK$373,CALENDRIER!$A$2))+((COUNTIF(CALENDRIER!CK$8:CK$373,CALENDRIER!$B$2))/2)","v":0},{"$f":"(COUNTIF(CALENDRIER!CL$8:CL$373,CALENDRIER!$A$2))+((COUNTIF(CALENDRIER!CL$8:CL$373,CALENDRIER!$B$2))/2)","v":0},{"$f":"(COUNTIF(CALENDRIER!CM$8:CM$373,CALENDRIER!$A$2))+((COUNTIF(CALENDRIER!CM$8:CM$373,CALENDRIER!$B$2))/2)","v":0},{"$f":"(COUNTIF(CALENDRIER!CN$8:CN$373,CALENDRIER!$A$2))+((COUNTIF(CALENDRIER!CN$8:CN$373,CALENDRIER!$B$2))/2)","v":0},{"$f":"(COUNTIF(CALENDRIER!CO$8:CO$373,CALENDRIER!$A$2))+((COUNTIF(CALENDRIER!CO$8:CO$373,CALENDRIER!$B$2))/2)","v":0},{"$f":"(COUNTIF(CALENDRIER!CP$8:CP$373,CALENDRIER!$A$2))+((COUNTIF(CALENDRIER!CP$8:CP$373,CALENDRIER!$B$2))/2)","v":0},{"$f":"(COUNTIF(CALENDRIER!CQ$8:CQ$373,CALENDRIER!$A$2))+((COUNTIF(CALENDRIER!CQ$8:CQ$373,CALENDRIER!$B$2))/2)","v":0},{"$f":"(COUNTIF(CALENDRIER!CR$8:CR$373,CALENDRIER!$A$2))+((COUNTIF(CALENDRIER!CR$8:CR$373,CALENDRIER!$B$2))/2)","v":0},{"$f":"(COUNTIF(CALENDRIER!CS$8:CS$373,CALENDRIER!$A$2))+((COUNTIF(CALENDRIER!CS$8:CS$373,CALENDRIER!$B$2))/2)","v":0},{"$f":"(COUNTIF(CALENDRIER!CT$8:CT$373,CALENDRIER!$A$2))+((COUNTIF(CALENDRIER!CT$8:CT$373,CALENDRIER!$B$2))/2)","v":0},{"$f":"(COUNTIF(CALENDRIER!CU$8:CU$373,CALENDRIER!$A$2))+((COUNTIF(CALENDRIER!CU$8:CU$373,CALENDRIER!$B$2))/2)","v":0},{"$f":"(COUNTIF(CALENDRIER!CV$8:CV$373,CALENDRIER!$A$2))+((COUNTIF(CALENDRIER!CV$8:CV$373,CALENDRIER!$B$2))/2)","v":0},{"$f":"(COUNTIF(CALENDRIER!CW$8:CW$373,CALENDRIER!$A$2))+((COUNTIF(CALENDRIER!CW$8:CW$373,CALENDRIER!$B$2))/2)","v":0},{"$f":"(COUNTIF(CALENDRIER!CX$8:CX$373,CALENDRIER!$A$2))+((COUNTIF(CALENDRIER!CX$8:CX$373,CALENDRIER!$B$2))/2)","v":0},{"$f":"(COUNTIF(CALENDRIER!CY$8:CY$373,CALENDRIER!$A$2))+((COUNTIF(CALENDRIER!CY$8:CY$373,CALENDRIER!$B$2))/2)","v":0},{"$f":"(COUNTIF(CALENDRIER!CZ$8:CZ$373,CALENDRIER!$A$2))+((COUNTIF(CALENDRIER!CZ$8:CZ$373,CALENDRIER!$B$2))/2)","v":0},{"$f":"(COUNTIF(CALENDRIER!DA$8:DA$373,CALENDRIER!$A$2))+((COUNTIF(CALENDRIER!DA$8:DA$373,CALENDRIER!$B$2))/2)","v":0},{"$f":"(COUNTIF(CALENDRIER!DB$8:DB$373,CALENDRIER!$A$2))+((COUNTIF(CALENDRIER!DB$8:DB$373,CALENDRIER!$B$2))/2)","v":0},{"$f":"(COUNTIF(CALENDRIER!DC$8:DC$373,CALENDRIER!$A$2))+((COUNTIF(CALENDRIER!DC$8:DC$373,CALENDRIER!$B$2))/2)","v":0},{"$f":"(COUNTIF(CALENDRIER!DD$8:DD$373,CALENDRIER!$A$2))+((COUNTIF(CALENDRIER!DD$8:DD$373,CALENDRIER!$B$2))/2)","v":0},{"$f":"(COUNTIF(CALENDRIER!DE$8:DE$373,CALENDRIER!$A$2))+((COUNTIF(CALENDRIER!DE$8:DE$373,CALENDRIER!$B$2))/2)","v":0},{"$f":"(COUNTIF(CALENDRIER!DF$8:DF$373,CALENDRIER!$A$2))+((COUNTIF(CALENDRIER!DF$8:DF$373,CALENDRIER!$B$2))/2)","v":0},{"$f":"(COUNTIF(CALENDRIER!DG$8:DG$373,CALENDRIER!$A$2))+((COUNTIF(CALENDRIER!DG$8:DG$373,CALENDRIER!$B$2))/2)","v":0},{"$f":"(COUNTIF(CALENDRIER!DH$8:DH$373,CALENDRIER!$A$2))+((COUNTIF(CALENDRIER!DH$8:DH$373,CALENDRIER!$B$2))/2)","v":0},{"$f":"(COUNTIF(CALENDRIER!DI$8:DI$373,CALENDRIER!$A$2))+((COUNTIF(CALENDRIER!DI$8:DI$373,CALENDRIER!$B$2))/2)","v":0},{"$f":"(COUNTIF(CALENDRIER!DJ$8:DJ$373,CALENDRIER!$A$2))+((COUNTIF(CALENDRIER!DJ$8:DJ$373,CALENDRIER!$B$2))/2)","v":0},{"$f":"(COUNTIF(CALENDRIER!DK$8:DK$373,CALENDRIER!$A$2))+((COUNTIF(CALENDRIER!DK$8:DK$373,CALENDRIER!$B$2))/2)","v":0},{"$f":"(COUNTIF(CALENDRIER!DL$8:DL$373,CALENDRIER!$A$2))+((COUNTIF(CALENDRIER!DL$8:DL$373,CALENDRIER!$B$2))/2)","v":0},{"$f":"(COUNTIF(CALENDRIER!DM$8:DM$373,CALENDRIER!$A$2))+((COUNTIF(CALENDRIER!DM$8:DM$373,CALENDRIER!$B$2))/2)","v":0},{"$f":"(COUNTIF(CALENDRIER!DN$8:DN$373,CALENDRIER!$A$2))+((COUNTIF(CALENDRIER!DN$8:DN$373,CALENDRIER!$B$2))/2)","v":0},{"$f":"(COUNTIF(CALENDRIER!DO$8:DO$373,CALENDRIER!$A$2))+((COUNTIF(CALENDRIER!DO$8:DO$373,CALENDRIER!$B$2))/2)","v":0},{"$f":"(COUNTIF(CALENDRIER!DP$8:DP$373,CALENDRIER!$A$2))+((COUNTIF(CALENDRIER!DP$8:DP$373,CALENDRIER!$B$2))/2)","v":0},{"$f":"(COUNTIF(CALENDRIER!DQ$8:DQ$373,CALENDRIER!$A$2))+((COUNTIF(CALENDRIER!DQ$8:DQ$373,CALENDRIER!$B$2))/2)","v":0},{"$f":"(COUNTIF(CALENDRIER!DR$8:DR$373,CALENDRIER!$A$2))+((COUNTIF(CALENDRIER!DR$8:DR$373,CALENDRIER!$B$2))/2)","v":0},{"$f":"(COUNTIF(CALENDRIER!DS$8:DS$373,CALENDRIER!$A$2))+((COUNTIF(CALENDRIER!DS$8:DS$373,CALENDRIER!$B$2))/2)","v":0},{"$f":"(COUNTIF(CALENDRIER!DT$8:DT$373,CALENDRIER!$A$2))+((COUNTIF(CALENDRIER!DT$8:DT$373,CALENDRIER!$B$2))/2)","v":0},{"$f":"(COUNTIF(CALENDRIER!DU$8:DU$373,CALENDRIER!$A$2))+((COUNTIF(CALENDRIER!DU$8:DU$373,CALENDRIER!$B$2))/2)","v":0},{"$f":"(COUNTIF(CALENDRIER!DV$8:DV$373,CALENDRIER!$A$2))+((COUNTIF(CALENDRIER!DV$8:DV$373,CALENDRIER!$B$2))/2)","v":0},{"$f":"(COUNTIF(CALENDRIER!DW$8:DW$373,CALENDRIER!$A$2))+((COUNTIF(CALENDRIER!DW$8:DW$373,CALENDRIER!$B$2))/2)","v":0},{"$f":"(COUNTIF(CALENDRIER!DX$8:DX$373,CALENDRIER!$A$2))+((COUNTIF(CALENDRIER!DX$8:DX$373,CALENDRIER!$B$2))/2)","v":0},{"$f":"(COUNTIF(CALENDRIER!DY$8:DY$373,CALENDRIER!$A$2))+((COUNTIF(CALENDRIER!DY$8:DY$373,CALENDRIER!$B$2))/2)","v":0},{"$f":"(COUNTIF(CALENDRIER!DZ$8:DZ$373,CALENDRIER!$A$2))+((COUNTIF(CALENDRIER!DZ$8:DZ$373,CALENDRIER!$B$2))/2)","v":0},{"$f":"(COUNTIF(CALENDRIER!EA$8:EA$373,CALENDRIER!$A$2))+((COUNTIF(CALENDRIER!EA$8:EA$373,CALENDRIER!$B$2))/2)","v":0},{"$f":"(COUNTIF(CALENDRIER!EB$8:EB$373,CALENDRIER!$A$2))+((COUNTIF(CALENDRIER!EB$8:EB$373,CALENDRIER!$B$2))/2)","v":0},{"$f":"(COUNTIF(CALENDRIER!EC$8:EC$373,CALENDRIER!$A$2))+((COUNTIF(CALENDRIER!EC$8:EC$373,CALENDRIER!$B$2))/2)","v":0},{"$f":"(COUNTIF(CALENDRIER!ED$8:ED$373,CALENDRIER!$A$2))+((COUNTIF(CALENDRIER!ED$8:ED$373,CALENDRIER!$B$2))/2)","v":0},{"$f":"(COUNTIF(CALENDRIER!EE$8:EE$373,CALENDRIER!$A$2))+((COUNTIF(CALENDRIER!EE$8:EE$373,CALENDRIER!$B$2))/2)","v":0},{"$f":"(COUNTIF(CALENDRIER!EF$8:EF$373,CALENDRIER!$A$2))+((COUNTIF(CALENDRIER!EF$8:EF$373,CALENDRIER!$B$2))/2)","v":0},{"$f":"(COUNTIF(CALENDRIER!EG$8:EG$373,CALENDRIER!$A$2))+((COUNTIF(CALENDRIER!EG$8:EG$373,CALENDRIER!$B$2))/2)","v":0},{"$f":"(COUNTIF(CALENDRIER!EH$8:EH$373,CALENDRIER!$A$2))+((COUNTIF(CALENDRIER!EH$8:EH$373,CALENDRIER!$B$2))/2)","v":0},{"$f":"(COUNTIF(CALENDRIER!EI$8:EI$373,CALENDRIER!$A$2))+((COUNTIF(CALENDRIER!EI$8:EI$373,CALENDRIER!$B$2))/2)","v":0},{"$f":"(COUNTIF(CALENDRIER!EJ$8:EJ$373,CALENDRIER!$A$2))+((COUNTIF(CALENDRIER!EJ$8:EJ$373,CALENDRIER!$B$2))/2)","v":0},{"$f":"(COUNTIF(CALENDRIER!EK$8:EK$373,CALENDRIER!$A$2))+((COUNTIF(CALENDRIER!EK$8:EK$373,CALENDRIER!$B$2))/2)","v":0},{"$f":"(COUNTIF(CALENDRIER!EL$8:EL$373,CALENDRIER!$A$2))+((COUNTIF(CALENDRIER!EL$8:EL$373,CALENDRIER!$B$2))/2)","v":0},{"$f":"(COUNTIF(CALENDRIER!EM$8:EM$373,CALENDRIER!$A$2))+((COUNTIF(CALENDRIER!EM$8:EM$373,CALENDRIER!$B$2))/2)","v":0},{"$f":"(COUNTIF(CALENDRIER!EN$8:EN$373,CALENDRIER!$A$2))+((COUNTIF(CALENDRIER!EN$8:EN$373,CALENDRIER!$B$2))/2)","v":0},{"$f":"(COUNTIF(CALENDRIER!EO$8:EO$373,CALENDRIER!$A$2))+((COUNTIF(CALENDRIER!EO$8:EO$373,CALENDRIER!$B$2))/2)","v":0},{"$f":"(COUNTIF(CALENDRIER!EP$8:EP$373,CALENDRIER!$A$2))+((COUNTIF(CALENDRIER!EP$8:EP$373,CALENDRIER!$B$2))/2)","v":0},{"$f":"(COUNTIF(CALENDRIER!EQ$8:EQ$373,CALENDRIER!$A$2))+((COUNTIF(CALENDRIER!EQ$8:EQ$373,CALENDRIER!$B$2))/2)","v":0},{"$f":"(COUNTIF(CALENDRIER!ER$8:ER$373,CALENDRIER!$A$2))+((COUNTIF(CALENDRIER!ER$8:ER$373,CALENDRIER!$B$2))/2)","v":0},{"$f":"(COUNTIF(CALENDRIER!ES$8:ES$373,CALENDRIER!$A$2))+((COUNTIF(CALENDRIER!ES$8:ES$373,CALENDRIER!$B$2))/2)","v":0},{"$f":"(COUNTIF(CALENDRIER!ET$8:ET$373,CALENDRIER!$A$2))+((COUNTIF(CALENDRIER!ET$8:ET$373,CALENDRIER!$B$2))/2)","v":0},{"$f":"(COUNTIF(CALENDRIER!EU$8:EU$373,CALENDRIER!$A$2))+((COUNTIF(CALENDRIER!EU$8:EU$373,CALENDRIER!$B$2))/2)","v":0},{"$f":"(COUNTIF(CALENDRIER!EV$8:EV$373,CALENDRIER!$A$2))+((COUNTIF(CALENDRIER!EV$8:EV$373,CALENDRIER!$B$2))/2)","v":0},{"$f":"(COUNTIF(CALENDRIER!EW$8:EW$373,CALENDRIER!$A$2))+((COUNTIF(CALENDRIER!EW$8:EW$373,CALENDRIER!$B$2))/2)","v":0},{"$f":"(COUNTIF(CALENDRIER!EX$8:EX$373,CALENDRIER!$A$2))+((COUNTIF(CALENDRIER!EX$8:EX$373,CALENDRIER!$B$2))/2)","v":0},{"$f":"(COUNTIF(CALENDRIER!EY$8:EY$373,CALENDRIER!$A$2))+((COUNTIF(CALENDRIER!EY$8:EY$373,CALENDRIER!$B$2))/2)","v":0},{"$f":"(COUNTIF(CALENDRIER!EZ$8:EZ$373,CALENDRIER!$A$2))+((COUNTIF(CALENDRIER!EZ$8:EZ$373,CALENDRIER!$B$2))/2)","v":0},{"$f":"(COUNTIF(CALENDRIER!FA$8:FA$373,CALENDRIER!$A$2))+((COUNTIF(CALENDRIER!FA$8:FA$373,CALENDRIER!$B$2))/2)","v":0},{"$f":"(COUNTIF(CALENDRIER!FB$8:FB$373,CALENDRIER!$A$2))+((COUNTIF(CALENDRIER!FB$8:FB$373,CALENDRIER!$B$2))/2)","v":0},{"$f":"(COUNTIF(CALENDRIER!FC$8:FC$373,CALENDRIER!$A$2))+((COUNTIF(CALENDRIER!FC$8:FC$373,CALENDRIER!$B$2))/2)","v":0},{"$f":"(COUNTIF(CALENDRIER!FD$8:FD$373,CALENDRIER!$A$2))+((COUNTIF(CALENDRIER!FD$8:FD$373,CALENDRIER!$B$2))/2)","v":0},{"$f":"(COUNTIF(CALENDRIER!FE$8:FE$373,CALENDRIER!$A$2))+((COUNTIF(CALENDRIER!FE$8:FE$373,CALENDRIER!$B$2))/2)","v":0},{"$f":"(COUNTIF(CALENDRIER!FF$8:FF$373,CALENDRIER!$A$2))+((COUNTIF(CALENDRIER!FF$8:FF$373,CALENDRIER!$B$2))/2)","v":0},{"$f":"(COUNTIF(CALENDRIER!FG$8:FG$373,CALENDRIER!$A$2))+((COUNTIF(CALENDRIER!FG$8:FG$373,CALENDRIER!$B$2))/2)","v":0},{"$f":"(COUNTIF(CALENDRIER!FH$8:FH$373,CALENDRIER!$A$2))+((COUNTIF(CALENDRIER!FH$8:FH$373,CALENDRIER!$B$2))/2)","v":0},{"$f":"(COUNTIF(CALENDRIER!FI$8:FI$373,CALENDRIER!$A$2))+((COUNTIF(CALENDRIER!FI$8:FI$373,CALENDRIER!$B$2))/2)","v":0},{"$f":"(COUNTIF(CALENDRIER!FJ$8:FJ$373,CALENDRIER!$A$2))+((COUNTIF(CALENDRIER!FJ$8:FJ$373,CALENDRIER!$B$2))/2)","v":0},{"$f":"(COUNTIF(CALENDRIER!FK$8:FK$373,CALENDRIER!$A$2))+((COUNTIF(CALENDRIER!FK$8:FK$373,CALENDRIER!$B$2))/2)","v":0},{"$f":"(COUNTIF(CALENDRIER!FL$8:FL$373,CALENDRIER!$A$2))+((COUNTIF(CALENDRIER!FL$8:FL$373,CALENDRIER!$B$2))/2)","v":0},{"$f":"(COUNTIF(CALENDRIER!FM$8:FM$373,CALENDRIER!$A$2))+((COUNTIF(CALENDRIER!FM$8:FM$373,CALENDRIER!$B$2))/2)","v":0},{"$f":"(COUNTIF(CALENDRIER!FN$8:FN$373,CALENDRIER!$A$2))+((COUNTIF(CALENDRIER!FN$8:FN$373,CALENDRIER!$B$2))/2)","v":0},{"$f":"(COUNTIF(CALENDRIER!FO$8:FO$373,CALENDRIER!$A$2))+((COUNTIF(CALENDRIER!FO$8:FO$373,CALENDRIER!$B$2))/2)","v":0},{"$f":"(COUNTIF(CALENDRIER!FP$8:FP$373,CALENDRIER!$A$2))+((COUNTIF(CALENDRIER!FP$8:FP$373,CALENDRIER!$B$2))/2)","v":0},{"$f":"(COUNTIF(CALENDRIER!FQ$8:FQ$373,CALENDRIER!$A$2))+((COUNTIF(CALENDRIER!FQ$8:FQ$373,CALENDRIER!$B$2))/2)","v":0},{"$f":"(COUNTIF(CALENDRIER!FR$8:FR$373,CALENDRIER!$A$2))+((COUNTIF(CALENDRIER!FR$8:FR$373,CALENDRIER!$B$2))/2)","v":0},{"$f":"(COUNTIF(CALENDRIER!FS$8:FS$373,CALENDRIER!$A$2))+((COUNTIF(CALENDRIER!FS$8:FS$373,CALENDRIER!$B$2))/2)","v":0},{"$f":"(COUNTIF(CALENDRIER!FT$8:FT$373,CALENDRIER!$A$2))+((COUNTIF(CALENDRIER!FT$8:FT$373,CALENDRIER!$B$2))/2)","v":0},{"$f":"(COUNTIF(CALENDRIER!FU$8:FU$373,CALENDRIER!$A$2))+((COUNTIF(CALENDRIER!FU$8:FU$373,CALENDRIER!$B$2))/2)","v":0},{"$f":"(COUNTIF(CALENDRIER!FV$8:FV$373,CALENDRIER!$A$2))+((COUNTIF(CALENDRIER!FV$8:FV$373,CALENDRIER!$B$2))/2)","v":0},{"$f":"(COUNTIF(CALENDRIER!FW$8:FW$373,CALENDRIER!$A$2))+((COUNTIF(CALENDRIER!FW$8:FW$373,CALENDRIER!$B$2))/2)","v":0},{"$f":"(COUNTIF(CALENDRIER!FX$8:FX$373,CALENDRIER!$A$2))+((COUNTIF(CALENDRIER!FX$8:FX$373,CALENDRIER!$B$2))/2)","v":0},{"$f":"(COUNTIF(CALENDRIER!FY$8:FY$373,CALENDRIER!$A$2))+((COUNTIF(CALENDRIER!FY$8:FY$373,CALENDRIER!$B$2))/2)","v":0},{"$f":"(COUNTIF(CALENDRIER!FZ$8:FZ$373,CALENDRIER!$A$2))+((COUNTIF(CALENDRIER!FZ$8:FZ$373,CALENDRIER!$B$2))/2)","v":0},{"$f":"(COUNTIF(CALENDRIER!GA$8:GA$373,CALENDRIER!$A$2))+((COUNTIF(CALENDRIER!GA$8:GA$373,CALENDRIER!$B$2))/2)","v":0},{"$f":"(COUNTIF(CALENDRIER!GB$8:GB$373,CALENDRIER!$A$2))+((COUNTIF(CALENDRIER!GB$8:GB$373,CALENDRIER!$B$2))/2)","v":0},{"$f":"(COUNTIF(CALENDRIER!GC$8:GC$373,CALENDRIER!$A$2))+((COUNTIF(CALENDRIER!GC$8:GC$373,CALENDRIER!$B$2))/2)","v":0},{"$f":"(COUNTIF(CALENDRIER!GD$8:GD$373,CALENDRIER!$A$2))+((COUNTIF(CALENDRIER!GD$8:GD$373,CALENDRIER!$B$2))/2)","v":0},{"$f":"(COUNTIF(CALENDRIER!GE$8:GE$373,CALENDRIER!$A$2))+((COUNTIF(CALENDRIER!GE$8:GE$373,CALENDRIER!$B$2))/2)","v":0},{"$f":"(COUNTIF(CALENDRIER!GF$8:GF$373,CALENDRIER!$A$2))+((COUNTIF(CALENDRIER!GF$8:GF$373,CALENDRIER!$B$2))/2)","v":0},{"$f":"(COUNTIF(CALENDRIER!GG$8:GG$373,CALENDRIER!$A$2))+((COUNTIF(CALENDRIER!GG$8:GG$373,CALENDRIER!$B$2))/2)","v":0},{"$f":"(COUNTIF(CALENDRIER!GH$8:GH$373,CALENDRIER!$A$2))+((COUNTIF(CALENDRIER!GH$8:GH$373,CALENDRIER!$B$2))/2)","v":0},{"$f":"(COUNTIF(CALENDRIER!GI$8:GI$373,CALENDRIER!$A$2))+((COUNTIF(CALENDRIER!GI$8:GI$373,CALENDRIER!$B$2))/2)","v":0},{"$f":"(COUNTIF(CALENDRIER!GJ$8:GJ$373,CALENDRIER!$A$2))+((COUNTIF(CALENDRIER!GJ$8:GJ$373,CALENDRIER!$B$2))/2)","v":0},{"$f":"(COUNTIF(CALENDRIER!GK$8:GK$373,CALENDRIER!$A$2))+((COUNTIF(CALENDRIER!GK$8:GK$373,CALENDRIER!$B$2))/2)","v":0},{"$f":"(COUNTIF(CALENDRIER!GL$8:GL$373,CALENDRIER!$A$2))+((COUNTIF(CALENDRIER!GL$8:GL$373,CALENDRIER!$B$2))/2)","v":0},{"$f":"(COUNTIF(CALENDRIER!GM$8:GM$373,CALENDRIER!$A$2))+((COUNTIF(CALENDRIER!GM$8:GM$373,CALENDRIER!$B$2))/2)","v":0},{"$f":"(COUNTIF(CALENDRIER!GN$8:GN$373,CALENDRIER!$A$2))+((COUNTIF(CALENDRIER!GN$8:GN$373,CALENDRIER!$B$2))/2)","v":0},{"$f":"(COUNTIF(CALENDRIER!GO$8:GO$373,CALENDRIER!$A$2))+((COUNTIF(CALENDRIER!GO$8:GO$373,CALENDRIER!$B$2))/2)","v":0},{"$f":"(COUNTIF(CALENDRIER!GP$8:GP$373,CALENDRIER!$A$2))+((COUNTIF(CALENDRIER!GP$8:GP$373,CALENDRIER!$B$2))/2)","v":0},{"$f":"(COUNTIF(CALENDRIER!GQ$8:GQ$373,CALENDRIER!$A$2))+((COUNTIF(CALENDRIER!GQ$8:GQ$373,CALENDRIER!$B$2))/2)","v":0},{"$f":"(COUNTIF(CALENDRIER!GR$8:GR$373,CALENDRIER!$A$2))+((COUNTIF(CALENDRIER!GR$8:GR$373,CALENDRIER!$B$2))/2)","v":0}]
[null,{"$f":"\"Solde \"&CALENDRIER!$A$2&\" \"&A64&\" : \"","v":"Solde CP Anc 2015-2016 : "},{"$f":"C65-C66","v":0},{"$f":"D65-D66","v":0},0,0,0,0,0,0,0,0,0,0,0,0,0,0,0,0,0,0,0,0,0,0,0,0,0,0,0,0,0,0,0,0,0,0,0,0,0,0,0,0,0,0,0,0,0,0,0,0,0,0,0,0,0,0,0,0,0,0,0,0,0,0,0,{"$f":"BP65-BP66","v":0},0,0,0,0,0,0,0,0,0,0,0,0,0,0,0,0,0,0,0,0,0,0,0,0,0,0,0,0,0,0,0,0,0,0,0,0,0,0,0,0,0,0,0,0,0,0,0,0,0,0,0,0,0,0,0,0,0,0,0,0,0,0,0,{"$f":"EB65-EB66","v":0},0,0,0,0,0,0,0,0,0,0,0,0,0,0,0,0,0,0,0,0,0,0,0,0,0,0,0,0,0,0,0,0,0,0,0,0,0,0,0,0,0,0,0,0,0,0,0,0,0,0,0,0,0,0,0,0,0,0,0,0,0,0,0,{"$f":"GN65-GN66","v":0},0,0,0,0]
[]
["2016-2017",{"$f":"CALENDRIER!$A$2","v":"CP Anc"}]
[null,"SOLDE DEPART"]
[null,{"$f":"CALENDRIER!$A$2&\" PRIS\"","v":"CP Anc PRIS"},{"$f":"(COUNTIF(CALENDRIER!C$374:C$738,CALENDRIER!$A$2))+((COUNTIF(CALENDRIER!C$374:C$738,CALENDRIER!$B$2))/2)","v":0},{"$f":"(COUNTIF(CALENDRIER!D$374:D$738,CALENDRIER!$A$2))+((COUNTIF(CALENDRIER!D$374:D$738,CALENDRIER!$B$2))/2)","v":0},{"$f":"(COUNTIF(CALENDRIER!E$374:E$738,CALENDRIER!$A$2))+((COUNTIF(CALENDRIER!E$374:E$738,CALENDRIER!$B$2))/2)","v":0},{"$f":"(COUNTIF(CALENDRIER!F$374:F$738,CALENDRIER!$A$2))+((COUNTIF(CALENDRIER!F$374:F$738,CALENDRIER!$B$2))/2)","v":0},{"$f":"(COUNTIF(CALENDRIER!G$374:G$738,CALENDRIER!$A$2))+((COUNTIF(CALENDRIER!G$374:G$738,CALENDRIER!$B$2))/2)","v":0},{"$f":"(COUNTIF(CALENDRIER!H$374:H$738,CALENDRIER!$A$2))+((COUNTIF(CALENDRIER!H$374:H$738,CALENDRIER!$B$2))/2)","v":0},{"$f":"(COUNTIF(CALENDRIER!I$374:I$738,CALENDRIER!$A$2))+((COUNTIF(CALENDRIER!I$374:I$738,CALENDRIER!$B$2))/2)","v":0},{"$f":"(COUNTIF(CALENDRIER!J$374:J$738,CALENDRIER!$A$2))+((COUNTIF(CALENDRIER!J$374:J$738,CALENDRIER!$B$2))/2)","v":0},{"$f":"(COUNTIF(CALENDRIER!K$374:K$738,CALENDRIER!$A$2))+((COUNTIF(CALENDRIER!K$374:K$738,CALENDRIER!$B$2))/2)","v":0},{"$f":"(COUNTIF(CALENDRIER!L$374:L$738,CALENDRIER!$A$2))+((COUNTIF(CALENDRIER!L$374:L$738,CALENDRIER!$B$2))/2)","v":0},{"$f":"(COUNTIF(CALENDRIER!M$374:M$738,CALENDRIER!$A$2))+((COUNTIF(CALENDRIER!M$374:M$738,CALENDRIER!$B$2))/2)","v":0},{"$f":"(COUNTIF(CALENDRIER!N$374:N$738,CALENDRIER!$A$2))+((COUNTIF(CALENDRIER!N$374:N$738,CALENDRIER!$B$2))/2)","v":0},{"$f":"(COUNTIF(CALENDRIER!O$374:O$738,CALENDRIER!$A$2))+((COUNTIF(CALENDRIER!O$374:O$738,CALENDRIER!$B$2))/2)","v":0},{"$f":"(COUNTIF(CALENDRIER!P$374:P$738,CALENDRIER!$A$2))+((COUNTIF(CALENDRIER!P$374:P$738,CALENDRIER!$B$2))/2)","v":0},{"$f":"(COUNTIF(CALENDRIER!Q$374:Q$738,CALENDRIER!$A$2))+((COUNTIF(CALENDRIER!Q$374:Q$738,CALENDRIER!$B$2))/2)","v":0},{"$f":"(COUNTIF(CALENDRIER!R$374:R$738,CALENDRIER!$A$2))+((COUNTIF(CALENDRIER!R$374:R$738,CALENDRIER!$B$2))/2)","v":0},{"$f":"(COUNTIF(CALENDRIER!S$374:S$738,CALENDRIER!$A$2))+((COUNTIF(CALENDRIER!S$374:S$738,CALENDRIER!$B$2))/2)","v":0},{"$f":"(COUNTIF(CALENDRIER!T$374:T$738,CALENDRIER!$A$2))+((COUNTIF(CALENDRIER!T$374:T$738,CALENDRIER!$B$2))/2)","v":0},{"$f":"(COUNTIF(CALENDRIER!U$374:U$738,CALENDRIER!$A$2))+((COUNTIF(CALENDRIER!U$374:U$738,CALENDRIER!$B$2))/2)","v":0},{"$f":"(COUNTIF(CALENDRIER!V$374:V$738,CALENDRIER!$A$2))+((COUNTIF(CALENDRIER!V$374:V$738,CALENDRIER!$B$2))/2)","v":0},{"$f":"(COUNTIF(CALENDRIER!W$374:W$738,CALENDRIER!$A$2))+((COUNTIF(CALENDRIER!W$374:W$738,CALENDRIER!$B$2))/2)","v":0},{"$f":"(COUNTIF(CALENDRIER!X$374:X$738,CALENDRIER!$A$2))+((COUNTIF(CALENDRIER!X$374:X$738,CALENDRIER!$B$2))/2)","v":0},{"$f":"(COUNTIF(CALENDRIER!Y$374:Y$738,CALENDRIER!$A$2))+((COUNTIF(CALENDRIER!Y$374:Y$738,CALENDRIER!$B$2))/2)","v":0},{"$f":"(COUNTIF(CALENDRIER!Z$374:Z$738,CALENDRIER!$A$2))+((COUNTIF(CALENDRIER!Z$374:Z$738,CALENDRIER!$B$2))/2)","v":0},{"$f":"(COUNTIF(CALENDRIER!AA$374:AA$738,CALENDRIER!$A$2))+((COUNTIF(CALENDRIER!AA$374:AA$738,CALENDRIER!$B$2))/2)","v":0},{"$f":"(COUNTIF(CALENDRIER!AB$374:AB$738,CALENDRIER!$A$2))+((COUNTIF(CALENDRIER!AB$374:AB$738,CALENDRIER!$B$2))/2)","v":0},{"$f":"(COUNTIF(CALENDRIER!AC$374:AC$738,CALENDRIER!$A$2))+((COUNTIF(CALENDRIER!AC$374:AC$738,CALENDRIER!$B$2))/2)","v":0},{"$f":"(COUNTIF(CALENDRIER!AD$374:AD$738,CALENDRIER!$A$2))+((COUNTIF(CALENDRIER!AD$374:AD$738,CALENDRIER!$B$2))/2)","v":0},{"$f":"(COUNTIF(CALENDRIER!AE$374:AE$738,CALENDRIER!$A$2))+((COUNTIF(CALENDRIER!AE$374:AE$738,CALENDRIER!$B$2))/2)","v":0},{"$f":"(COUNTIF(CALENDRIER!AF$374:AF$738,CALENDRIER!$A$2))+((COUNTIF(CALENDRIER!AF$374:AF$738,CALENDRIER!$B$2))/2)","v":0},{"$f":"(COUNTIF(CALENDRIER!AG$374:AG$738,CALENDRIER!$A$2))+((COUNTIF(CALENDRIER!AG$374:AG$738,CALENDRIER!$B$2))/2)","v":0},{"$f":"(COUNTIF(CALENDRIER!AH$374:AH$738,CALENDRIER!$A$2))+((COUNTIF(CALENDRIER!AH$374:AH$738,CALENDRIER!$B$2))/2)","v":0},{"$f":"(COUNTIF(CALENDRIER!AI$374:AI$738,CALENDRIER!$A$2))+((COUNTIF(CALENDRIER!AI$374:AI$738,CALENDRIER!$B$2))/2)","v":0},{"$f":"(COUNTIF(CALENDRIER!AJ$374:AJ$738,CALENDRIER!$A$2))+((COUNTIF(CALENDRIER!AJ$374:AJ$738,CALENDRIER!$B$2))/2)","v":0},{"$f":"(COUNTIF(CALENDRIER!AK$374:AK$738,CALENDRIER!$A$2))+((COUNTIF(CALENDRIER!AK$374:AK$738,CALENDRIER!$B$2))/2)","v":0},{"$f":"(COUNTIF(CALENDRIER!AL$374:AL$738,CALENDRIER!$A$2))+((COUNTIF(CALENDRIER!AL$374:AL$738,CALENDRIER!$B$2))/2)","v":0},{"$f":"(COUNTIF(CALENDRIER!AM$374:AM$738,CALENDRIER!$A$2))+((COUNTIF(CALENDRIER!AM$374:AM$738,CALENDRIER!$B$2))/2)","v":0},{"$f":"(COUNTIF(CALENDRIER!AN$374:AN$738,CALENDRIER!$A$2))+((COUNTIF(CALENDRIER!AN$374:AN$738,CALENDRIER!$B$2))/2)","v":0},{"$f":"(COUNTIF(CALENDRIER!AO$374:AO$738,CALENDRIER!$A$2))+((COUNTIF(CALENDRIER!AO$374:AO$738,CALENDRIER!$B$2))/2)","v":0},{"$f":"(COUNTIF(CALENDRIER!AP$374:AP$738,CALENDRIER!$A$2))+((COUNTIF(CALENDRIER!AP$374:AP$738,CALENDRIER!$B$2))/2)","v":0},{"$f":"(COUNTIF(CALENDRIER!AQ$374:AQ$738,CALENDRIER!$A$2))+((COUNTIF(CALENDRIER!AQ$374:AQ$738,CALENDRIER!$B$2))/2)","v":0},{"$f":"(COUNTIF(CALENDRIER!AR$374:AR$738,CALENDRIER!$A$2))+((COUNTIF(CALENDRIER!AR$374:AR$738,CALENDRIER!$B$2))/2)","v":0},{"$f":"(COUNTIF(CALENDRIER!AS$374:AS$738,CALENDRIER!$A$2))+((COUNTIF(CALENDRIER!AS$374:AS$738,CALENDRIER!$B$2))/2)","v":0},{"$f":"(COUNTIF(CALENDRIER!AT$374:AT$738,CALENDRIER!$A$2))+((COUNTIF(CALENDRIER!AT$374:AT$738,CALENDRIER!$B$2))/2)","v":0},{"$f":"(COUNTIF(CALENDRIER!AU$374:AU$738,CALENDRIER!$A$2))+((COUNTIF(CALENDRIER!AU$374:AU$738,CALENDRIER!$B$2))/2)","v":0},{"$f":"(COUNTIF(CALENDRIER!AV$374:AV$738,CALENDRIER!$A$2))+((COUNTIF(CALENDRIER!AV$374:AV$738,CALENDRIER!$B$2))/2)","v":0},{"$f":"(COUNTIF(CALENDRIER!AW$374:AW$738,CALENDRIER!$A$2))+((COUNTIF(CALENDRIER!AW$374:AW$738,CALENDRIER!$B$2))/2)","v":0},{"$f":"(COUNTIF(CALENDRIER!AX$374:AX$738,CALENDRIER!$A$2))+((COUNTIF(CALENDRIER!AX$374:AX$738,CALENDRIER!$B$2))/2)","v":0},{"$f":"(COUNTIF(CALENDRIER!AY$374:AY$738,CALENDRIER!$A$2))+((COUNTIF(CALENDRIER!AY$374:AY$738,CALENDRIER!$B$2))/2)","v":0},{"$f":"(COUNTIF(CALENDRIER!AZ$374:AZ$738,CALENDRIER!$A$2))+((COUNTIF(CALENDRIER!AZ$374:AZ$738,CALENDRIER!$B$2))/2)","v":0},{"$f":"(COUNTIF(CALENDRIER!BA$374:BA$738,CALENDRIER!$A$2))+((COUNTIF(CALENDRIER!BA$374:BA$738,CALENDRIER!$B$2))/2)","v":0},{"$f":"(COUNTIF(CALENDRIER!BB$374:BB$738,CALENDRIER!$A$2))+((COUNTIF(CALENDRIER!BB$374:BB$738,CALENDRIER!$B$2))/2)","v":0},{"$f":"(COUNTIF(CALENDRIER!BC$374:BC$738,CALENDRIER!$A$2))+((COUNTIF(CALENDRIER!BC$374:BC$738,CALENDRIER!$B$2))/2)","v":0},{"$f":"(COUNTIF(CALENDRIER!BD$374:BD$738,CALENDRIER!$A$2))+((COUNTIF(CALENDRIER!BD$374:BD$738,CALENDRIER!$B$2))/2)","v":0},{"$f":"(COUNTIF(CALENDRIER!BE$374:BE$738,CALENDRIER!$A$2))+((COUNTIF(CALENDRIER!BE$374:BE$738,CALENDRIER!$B$2))/2)","v":0},{"$f":"(COUNTIF(CALENDRIER!BF$374:BF$738,CALENDRIER!$A$2))+((COUNTIF(CALENDRIER!BF$374:BF$738,CALENDRIER!$B$2))/2)","v":0},{"$f":"(COUNTIF(CALENDRIER!BG$374:BG$738,CALENDRIER!$A$2))+((COUNTIF(CALENDRIER!BG$374:BG$738,CALENDRIER!$B$2))/2)","v":0},{"$f":"(COUNTIF(CALENDRIER!BH$374:BH$738,CALENDRIER!$A$2))+((COUNTIF(CALENDRIER!BH$374:BH$738,CALENDRIER!$B$2))/2)","v":0},{"$f":"(COUNTIF(CALENDRIER!BI$374:BI$738,CALENDRIER!$A$2))+((COUNTIF(CALENDRIER!BI$374:BI$738,CALENDRIER!$B$2))/2)","v":0},{"$f":"(COUNTIF(CALENDRIER!BJ$374:BJ$738,CALENDRIER!$A$2))+((COUNTIF(CALENDRIER!BJ$374:BJ$738,CALENDRIER!$B$2))/2)","v":0},{"$f":"(COUNTIF(CALENDRIER!BK$374:BK$738,CALENDRIER!$A$2))+((COUNTIF(CALENDRIER!BK$374:BK$738,CALENDRIER!$B$2))/2)","v":0},{"$f":"(COUNTIF(CALENDRIER!BL$374:BL$738,CALENDRIER!$A$2))+((COUNTIF(CALENDRIER!BL$374:BL$738,CALENDRIER!$B$2))/2)","v":0},{"$f":"(COUNTIF(CALENDRIER!BM$374:BM$738,CALENDRIER!$A$2))+((COUNTIF(CALENDRIER!BM$374:BM$738,CALENDRIER!$B$2))/2)","v":0},{"$f":"(COUNTIF(CALENDRIER!BN$374:BN$738,CALENDRIER!$A$2))+((COUNTIF(CALENDRIER!BN$374:BN$738,CALENDRIER!$B$2))/2)","v":0},{"$f":"(COUNTIF(CALENDRIER!BO$374:BO$738,CALENDRIER!$A$2))+((COUNTIF(CALENDRIER!BO$374:BO$738,CALENDRIER!$B$2))/2)","v":0},{"$f":"(COUNTIF(CALENDRIER!BP$374:BP$738,CALENDRIER!$A$2))+((COUNTIF(CALENDRIER!BP$374:BP$738,CALENDRIER!$B$2))/2)","v":0},{"$f":"(COUNTIF(CALENDRIER!BQ$374:BQ$738,CALENDRIER!$A$2))+((COUNTIF(CALENDRIER!BQ$374:BQ$738,CALENDRIER!$B$2))/2)","v":0},{"$f":"(COUNTIF(CALENDRIER!BR$374:BR$738,CALENDRIER!$A$2))+((COUNTIF(CALENDRIER!BR$374:BR$738,CALENDRIER!$B$2))/2)","v":0},{"$f":"(COUNTIF(CALENDRIER!BS$374:BS$738,CALENDRIER!$A$2))+((COUNTIF(CALENDRIER!BS$374:BS$738,CALENDRIER!$B$2))/2)","v":0},{"$f":"(COUNTIF(CALENDRIER!BT$374:BT$738,CALENDRIER!$A$2))+((COUNTIF(CALENDRIER!BT$374:BT$738,CALENDRIER!$B$2))/2)","v":0},{"$f":"(COUNTIF(CALENDRIER!BU$374:BU$738,CALENDRIER!$A$2))+((COUNTIF(CALENDRIER!BU$374:BU$738,CALENDRIER!$B$2))/2)","v":0},{"$f":"(COUNTIF(CALENDRIER!BV$374:BV$738,CALENDRIER!$A$2))+((COUNTIF(CALENDRIER!BV$374:BV$738,CALENDRIER!$B$2))/2)","v":0},{"$f":"(COUNTIF(CALENDRIER!BW$374:BW$738,CALENDRIER!$A$2))+((COUNTIF(CALENDRIER!BW$374:BW$738,CALENDRIER!$B$2))/2)","v":0},{"$f":"(COUNTIF(CALENDRIER!BX$374:BX$738,CALENDRIER!$A$2))+((COUNTIF(CALENDRIER!BX$374:BX$738,CALENDRIER!$B$2))/2)","v":0},{"$f":"(COUNTIF(CALENDRIER!BY$374:BY$738,CALENDRIER!$A$2))+((COUNTIF(CALENDRIER!BY$374:BY$738,CALENDRIER!$B$2))/2)","v":0},{"$f":"(COUNTIF(CALENDRIER!BZ$374:BZ$738,CALENDRIER!$A$2))+((COUNTIF(CALENDRIER!BZ$374:BZ$738,CALENDRIER!$B$2))/2)","v":0},{"$f":"(COUNTIF(CALENDRIER!CA$374:CA$738,CALENDRIER!$A$2))+((COUNTIF(CALENDRIER!CA$374:CA$738,CALENDRIER!$B$2))/2)","v":0},{"$f":"(COUNTIF(CALENDRIER!CB$374:CB$738,CALENDRIER!$A$2))+((COUNTIF(CALENDRIER!CB$374:CB$738,CALENDRIER!$B$2))/2)","v":0},{"$f":"(COUNTIF(CALENDRIER!CC$374:CC$738,CALENDRIER!$A$2))+((COUNTIF(CALENDRIER!CC$374:CC$738,CALENDRIER!$B$2))/2)","v":0},{"$f":"(COUNTIF(CALENDRIER!CD$374:CD$738,CALENDRIER!$A$2))+((COUNTIF(CALENDRIER!CD$374:CD$738,CALENDRIER!$B$2))/2)","v":0},{"$f":"(COUNTIF(CALENDRIER!CE$374:CE$738,CALENDRIER!$A$2))+((COUNTIF(CALENDRIER!CE$374:CE$738,CALENDRIER!$B$2))/2)","v":0},{"$f":"(COUNTIF(CALENDRIER!CF$374:CF$738,CALENDRIER!$A$2))+((COUNTIF(CALENDRIER!CF$374:CF$738,CALENDRIER!$B$2))/2)","v":0},{"$f":"(COUNTIF(CALENDRIER!CG$374:CG$738,CALENDRIER!$A$2))+((COUNTIF(CALENDRIER!CG$374:CG$738,CALENDRIER!$B$2))/2)","v":0},{"$f":"(COUNTIF(CALENDRIER!CH$374:CH$738,CALENDRIER!$A$2))+((COUNTIF(CALENDRIER!CH$374:CH$738,CALENDRIER!$B$2))/2)","v":0},{"$f":"(COUNTIF(CALENDRIER!CI$374:CI$738,CALENDRIER!$A$2))+((COUNTIF(CALENDRIER!CI$374:CI$738,CALENDRIER!$B$2))/2)","v":0},{"$f":"(COUNTIF(CALENDRIER!CJ$374:CJ$738,CALENDRIER!$A$2))+((COUNTIF(CALENDRIER!CJ$374:CJ$738,CALENDRIER!$B$2))/2)","v":0},{"$f":"(COUNTIF(CALENDRIER!CK$374:CK$738,CALENDRIER!$A$2))+((COUNTIF(CALENDRIER!CK$374:CK$738,CALENDRIER!$B$2))/2)","v":0},{"$f":"(COUNTIF(CALENDRIER!CL$374:CL$738,CALENDRIER!$A$2))+((COUNTIF(CALENDRIER!CL$374:CL$738,CALENDRIER!$B$2))/2)","v":0},{"$f":"(COUNTIF(CALENDRIER!CM$374:CM$738,CALENDRIER!$A$2))+((COUNTIF(CALENDRIER!CM$374:CM$738,CALENDRIER!$B$2))/2)","v":0},{"$f":"(COUNTIF(CALENDRIER!CN$374:CN$738,CALENDRIER!$A$2))+((COUNTIF(CALENDRIER!CN$374:CN$738,CALENDRIER!$B$2))/2)","v":0},{"$f":"(COUNTIF(CALENDRIER!CO$374:CO$738,CALENDRIER!$A$2))+((COUNTIF(CALENDRIER!CO$374:CO$738,CALENDRIER!$B$2))/2)","v":0},{"$f":"(COUNTIF(CALENDRIER!CP$374:CP$738,CALENDRIER!$A$2))+((COUNTIF(CALENDRIER!CP$374:CP$738,CALENDRIER!$B$2))/2)","v":0},{"$f":"(COUNTIF(CALENDRIER!CQ$374:CQ$738,CALENDRIER!$A$2))+((COUNTIF(CALENDRIER!CQ$374:CQ$738,CALENDRIER!$B$2))/2)","v":0},{"$f":"(COUNTIF(CALENDRIER!CR$374:CR$738,CALENDRIER!$A$2))+((COUNTIF(CALENDRIER!CR$374:CR$738,CALENDRIER!$B$2))/2)","v":0},{"$f":"(COUNTIF(CALENDRIER!CS$374:CS$738,CALENDRIER!$A$2))+((COUNTIF(CALENDRIER!CS$374:CS$738,CALENDRIER!$B$2))/2)","v":0},{"$f":"(COUNTIF(CALENDRIER!CT$374:CT$738,CALENDRIER!$A$2))+((COUNTIF(CALENDRIER!CT$374:CT$738,CALENDRIER!$B$2))/2)","v":0},{"$f":"(COUNTIF(CALENDRIER!CU$374:CU$738,CALENDRIER!$A$2))+((COUNTIF(CALENDRIER!CU$374:CU$738,CALENDRIER!$B$2))/2)","v":0},{"$f":"(COUNTIF(CALENDRIER!CV$374:CV$738,CALENDRIER!$A$2))+((COUNTIF(CALENDRIER!CV$374:CV$738,CALENDRIER!$B$2))/2)","v":0},{"$f":"(COUNTIF(CALENDRIER!CW$374:CW$738,CALENDRIER!$A$2))+((COUNTIF(CALENDRIER!CW$374:CW$738,CALENDRIER!$B$2))/2)","v":0},{"$f":"(COUNTIF(CALENDRIER!CX$374:CX$738,CALENDRIER!$A$2))+((COUNTIF(CALENDRIER!CX$374:CX$738,CALENDRIER!$B$2))/2)","v":0},{"$f":"(COUNTIF(CALENDRIER!CY$374:CY$738,CALENDRIER!$A$2))+((COUNTIF(CALENDRIER!CY$374:CY$738,CALENDRIER!$B$2))/2)","v":0},{"$f":"(COUNTIF(CALENDRIER!CZ$374:CZ$738,CALENDRIER!$A$2))+((COUNTIF(CALENDRIER!CZ$374:CZ$738,CALENDRIER!$B$2))/2)","v":0},{"$f":"(COUNTIF(CALENDRIER!DA$374:DA$738,CALENDRIER!$A$2))+((COUNTIF(CALENDRIER!DA$374:DA$738,CALENDRIER!$B$2))/2)","v":0},{"$f":"(COUNTIF(CALENDRIER!DB$374:DB$738,CALENDRIER!$A$2))+((COUNTIF(CALENDRIER!DB$374:DB$738,CALENDRIER!$B$2))/2)","v":0},{"$f":"(COUNTIF(CALENDRIER!DC$374:DC$738,CALENDRIER!$A$2))+((COUNTIF(CALENDRIER!DC$374:DC$738,CALENDRIER!$B$2))/2)","v":0},{"$f":"(COUNTIF(CALENDRIER!DD$374:DD$738,CALENDRIER!$A$2))+((COUNTIF(CALENDRIER!DD$374:DD$738,CALENDRIER!$B$2))/2)","v":0},{"$f":"(COUNTIF(CALENDRIER!DE$374:DE$738,CALENDRIER!$A$2))+((COUNTIF(CALENDRIER!DE$374:DE$738,CALENDRIER!$B$2))/2)","v":0},{"$f":"(COUNTIF(CALENDRIER!DF$374:DF$738,CALENDRIER!$A$2))+((COUNTIF(CALENDRIER!DF$374:DF$738,CALENDRIER!$B$2))/2)","v":0},{"$f":"(COUNTIF(CALENDRIER!DG$374:DG$738,CALENDRIER!$A$2))+((COUNTIF(CALENDRIER!DG$374:DG$738,CALENDRIER!$B$2))/2)","v":0},{"$f":"(COUNTIF(CALENDRIER!DH$374:DH$738,CALENDRIER!$A$2))+((COUNTIF(CALENDRIER!DH$374:DH$738,CALENDRIER!$B$2))/2)","v":0},{"$f":"(COUNTIF(CALENDRIER!DI$374:DI$738,CALENDRIER!$A$2))+((COUNTIF(CALENDRIER!DI$374:DI$738,CALENDRIER!$B$2))/2)","v":0},{"$f":"(COUNTIF(CALENDRIER!DJ$374:DJ$738,CALENDRIER!$A$2))+((COUNTIF(CALENDRIER!DJ$374:DJ$738,CALENDRIER!$B$2))/2)","v":0},{"$f":"(COUNTIF(CALENDRIER!DK$374:DK$738,CALENDRIER!$A$2))+((COUNTIF(CALENDRIER!DK$374:DK$738,CALENDRIER!$B$2))/2)","v":0},{"$f":"(COUNTIF(CALENDRIER!DL$374:DL$738,CALENDRIER!$A$2))+((COUNTIF(CALENDRIER!DL$374:DL$738,CALENDRIER!$B$2))/2)","v":0},{"$f":"(COUNTIF(CALENDRIER!DM$374:DM$738,CALENDRIER!$A$2))+((COUNTIF(CALENDRIER!DM$374:DM$738,CALENDRIER!$B$2))/2)","v":0},{"$f":"(COUNTIF(CALENDRIER!DN$374:DN$738,CALENDRIER!$A$2))+((COUNTIF(CALENDRIER!DN$374:DN$738,CALENDRIER!$B$2))/2)","v":0},{"$f":"(COUNTIF(CALENDRIER!DO$374:DO$738,CALENDRIER!$A$2))+((COUNTIF(CALENDRIER!DO$374:DO$738,CALENDRIER!$B$2))/2)","v":0},{"$f":"(COUNTIF(CALENDRIER!DP$374:DP$738,CALENDRIER!$A$2))+((COUNTIF(CALENDRIER!DP$374:DP$738,CALENDRIER!$B$2))/2)","v":0},{"$f":"(COUNTIF(CALENDRIER!DQ$374:DQ$738,CALENDRIER!$A$2))+((COUNTIF(CALENDRIER!DQ$374:DQ$738,CALENDRIER!$B$2))/2)","v":0},{"$f":"(COUNTIF(CALENDRIER!DR$374:DR$738,CALENDRIER!$A$2))+((COUNTIF(CALENDRIER!DR$374:DR$738,CALENDRIER!$B$2))/2)","v":0},{"$f":"(COUNTIF(CALENDRIER!DS$374:DS$738,CALENDRIER!$A$2))+((COUNTIF(CALENDRIER!DS$374:DS$738,CALENDRIER!$B$2))/2)","v":0},{"$f":"(COUNTIF(CALENDRIER!DT$374:DT$738,CALENDRIER!$A$2))+((COUNTIF(CALENDRIER!DT$374:DT$738,CALENDRIER!$B$2))/2)","v":0},{"$f":"(COUNTIF(CALENDRIER!DU$374:DU$738,CALENDRIER!$A$2))+((COUNTIF(CALENDRIER!DU$374:DU$738,CALENDRIER!$B$2))/2)","v":0},{"$f":"(COUNTIF(CALENDRIER!DV$374:DV$738,CALENDRIER!$A$2))+((COUNTIF(CALENDRIER!DV$374:DV$738,CALENDRIER!$B$2))/2)","v":0},{"$f":"(COUNTIF(CALENDRIER!DW$374:DW$738,CALENDRIER!$A$2))+((COUNTIF(CALENDRIER!DW$374:DW$738,CALENDRIER!$B$2))/2)","v":0},{"$f":"(COUNTIF(CALENDRIER!DX$374:DX$738,CALENDRIER!$A$2))+((COUNTIF(CALENDRIER!DX$374:DX$738,CALENDRIER!$B$2))/2)","v":0},{"$f":"(COUNTIF(CALENDRIER!DY$374:DY$738,CALENDRIER!$A$2))+((COUNTIF(CALENDRIER!DY$374:DY$738,CALENDRIER!$B$2))/2)","v":0},{"$f":"(COUNTIF(CALENDRIER!DZ$374:DZ$738,CALENDRIER!$A$2))+((COUNTIF(CALENDRIER!DZ$374:DZ$738,CALENDRIER!$B$2))/2)","v":0},{"$f":"(COUNTIF(CALENDRIER!EA$374:EA$738,CALENDRIER!$A$2))+((COUNTIF(CALENDRIER!EA$374:EA$738,CALENDRIER!$B$2))/2)","v":0},{"$f":"(COUNTIF(CALENDRIER!EB$374:EB$738,CALENDRIER!$A$2))+((COUNTIF(CALENDRIER!EB$374:EB$738,CALENDRIER!$B$2))/2)","v":0},{"$f":"(COUNTIF(CALENDRIER!EC$374:EC$738,CALENDRIER!$A$2))+((COUNTIF(CALENDRIER!EC$374:EC$738,CALENDRIER!$B$2))/2)","v":0},{"$f":"(COUNTIF(CALENDRIER!ED$374:ED$738,CALENDRIER!$A$2))+((COUNTIF(CALENDRIER!ED$374:ED$738,CALENDRIER!$B$2))/2)","v":0},{"$f":"(COUNTIF(CALENDRIER!EE$374:EE$738,CALENDRIER!$A$2))+((COUNTIF(CALENDRIER!EE$374:EE$738,CALENDRIER!$B$2))/2)","v":0},{"$f":"(COUNTIF(CALENDRIER!EF$374:EF$738,CALENDRIER!$A$2))+((COUNTIF(CALENDRIER!EF$374:EF$738,CALENDRIER!$B$2))/2)","v":0},{"$f":"(COUNTIF(CALENDRIER!EG$374:EG$738,CALENDRIER!$A$2))+((COUNTIF(CALENDRIER!EG$374:EG$738,CALENDRIER!$B$2))/2)","v":0},{"$f":"(COUNTIF(CALENDRIER!EH$374:EH$738,CALENDRIER!$A$2))+((COUNTIF(CALENDRIER!EH$374:EH$738,CALENDRIER!$B$2))/2)","v":0},{"$f":"(COUNTIF(CALENDRIER!EI$374:EI$738,CALENDRIER!$A$2))+((COUNTIF(CALENDRIER!EI$374:EI$738,CALENDRIER!$B$2))/2)","v":0},{"$f":"(COUNTIF(CALENDRIER!EJ$374:EJ$738,CALENDRIER!$A$2))+((COUNTIF(CALENDRIER!EJ$374:EJ$738,CALENDRIER!$B$2))/2)","v":0},{"$f":"(COUNTIF(CALENDRIER!EK$374:EK$738,CALENDRIER!$A$2))+((COUNTIF(CALENDRIER!EK$374:EK$738,CALENDRIER!$B$2))/2)","v":0},{"$f":"(COUNTIF(CALENDRIER!EL$374:EL$738,CALENDRIER!$A$2))+((COUNTIF(CALENDRIER!EL$374:EL$738,CALENDRIER!$B$2))/2)","v":0},{"$f":"(COUNTIF(CALENDRIER!EM$374:EM$738,CALENDRIER!$A$2))+((COUNTIF(CALENDRIER!EM$374:EM$738,CALENDRIER!$B$2))/2)","v":0},{"$f":"(COUNTIF(CALENDRIER!EN$374:EN$738,CALENDRIER!$A$2))+((COUNTIF(CALENDRIER!EN$374:EN$738,CALENDRIER!$B$2))/2)","v":0},{"$f":"(COUNTIF(CALENDRIER!EO$374:EO$738,CALENDRIER!$A$2))+((COUNTIF(CALENDRIER!EO$374:EO$738,CALENDRIER!$B$2))/2)","v":0},{"$f":"(COUNTIF(CALENDRIER!EP$374:EP$738,CALENDRIER!$A$2))+((COUNTIF(CALENDRIER!EP$374:EP$738,CALENDRIER!$B$2))/2)","v":0},{"$f":"(COUNTIF(CALENDRIER!EQ$374:EQ$738,CALENDRIER!$A$2))+((COUNTIF(CALENDRIER!EQ$374:EQ$738,CALENDRIER!$B$2))/2)","v":0},{"$f":"(COUNTIF(CALENDRIER!ER$374:ER$738,CALENDRIER!$A$2))+((COUNTIF(CALENDRIER!ER$374:ER$738,CALENDRIER!$B$2))/2)","v":0},{"$f":"(COUNTIF(CALENDRIER!ES$374:ES$738,CALENDRIER!$A$2))+((COUNTIF(CALENDRIER!ES$374:ES$738,CALENDRIER!$B$2))/2)","v":0},{"$f":"(COUNTIF(CALENDRIER!ET$374:ET$738,CALENDRIER!$A$2))+((COUNTIF(CALENDRIER!ET$374:ET$738,CALENDRIER!$B$2))/2)","v":0},{"$f":"(COUNTIF(CALENDRIER!EU$374:EU$738,CALENDRIER!$A$2))+((COUNTIF(CALENDRIER!EU$374:EU$738,CALENDRIER!$B$2))/2)","v":0},{"$f":"(COUNTIF(CALENDRIER!EV$374:EV$738,CALENDRIER!$A$2))+((COUNTIF(CALENDRIER!EV$374:EV$738,CALENDRIER!$B$2))/2)","v":0},{"$f":"(COUNTIF(CALENDRIER!EW$374:EW$738,CALENDRIER!$A$2))+((COUNTIF(CALENDRIER!EW$374:EW$738,CALENDRIER!$B$2))/2)","v":0},{"$f":"(COUNTIF(CALENDRIER!EX$374:EX$738,CALENDRIER!$A$2))+((COUNTIF(CALENDRIER!EX$374:EX$738,CALENDRIER!$B$2))/2)","v":0},{"$f":"(COUNTIF(CALENDRIER!EY$374:EY$738,CALENDRIER!$A$2))+((COUNTIF(CALENDRIER!EY$374:EY$738,CALENDRIER!$B$2))/2)","v":0},{"$f":"(COUNTIF(CALENDRIER!EZ$374:EZ$738,CALENDRIER!$A$2))+((COUNTIF(CALENDRIER!EZ$374:EZ$738,CALENDRIER!$B$2))/2)","v":0},{"$f":"(COUNTIF(CALENDRIER!FA$374:FA$738,CALENDRIER!$A$2))+((COUNTIF(CALENDRIER!FA$374:FA$738,CALENDRIER!$B$2))/2)","v":0},{"$f":"(COUNTIF(CALENDRIER!FB$374:FB$738,CALENDRIER!$A$2))+((COUNTIF(CALENDRIER!FB$374:FB$738,CALENDRIER!$B$2))/2)","v":0},{"$f":"(COUNTIF(CALENDRIER!FC$374:FC$738,CALENDRIER!$A$2))+((COUNTIF(CALENDRIER!FC$374:FC$738,CALENDRIER!$B$2))/2)","v":0},{"$f":"(COUNTIF(CALENDRIER!FD$374:FD$738,CALENDRIER!$A$2))+((COUNTIF(CALENDRIER!FD$374:FD$738,CALENDRIER!$B$2))/2)","v":0},{"$f":"(COUNTIF(CALENDRIER!FE$374:FE$738,CALENDRIER!$A$2))+((COUNTIF(CALENDRIER!FE$374:FE$738,CALENDRIER!$B$2))/2)","v":0},{"$f":"(COUNTIF(CALENDRIER!FF$374:FF$738,CALENDRIER!$A$2))+((COUNTIF(CALENDRIER!FF$374:FF$738,CALENDRIER!$B$2))/2)","v":0},{"$f":"(COUNTIF(CALENDRIER!FG$374:FG$738,CALENDRIER!$A$2))+((COUNTIF(CALENDRIER!FG$374:FG$738,CALENDRIER!$B$2))/2)","v":0},{"$f":"(COUNTIF(CALENDRIER!FH$374:FH$738,CALENDRIER!$A$2))+((COUNTIF(CALENDRIER!FH$374:FH$738,CALENDRIER!$B$2))/2)","v":0},{"$f":"(COUNTIF(CALENDRIER!FI$374:FI$738,CALENDRIER!$A$2))+((COUNTIF(CALENDRIER!FI$374:FI$738,CALENDRIER!$B$2))/2)","v":0},{"$f":"(COUNTIF(CALENDRIER!FJ$374:FJ$738,CALENDRIER!$A$2))+((COUNTIF(CALENDRIER!FJ$374:FJ$738,CALENDRIER!$B$2))/2)","v":0},{"$f":"(COUNTIF(CALENDRIER!FK$374:FK$738,CALENDRIER!$A$2))+((COUNTIF(CALENDRIER!FK$374:FK$738,CALENDRIER!$B$2))/2)","v":0},{"$f":"(COUNTIF(CALENDRIER!FL$374:FL$738,CALENDRIER!$A$2))+((COUNTIF(CALENDRIER!FL$374:FL$738,CALENDRIER!$B$2))/2)","v":0},{"$f":"(COUNTIF(CALENDRIER!FM$374:FM$738,CALENDRIER!$A$2))+((COUNTIF(CALENDRIER!FM$374:FM$738,CALENDRIER!$B$2))/2)","v":0},{"$f":"(COUNTIF(CALENDRIER!FN$374:FN$738,CALENDRIER!$A$2))+((COUNTIF(CALENDRIER!FN$374:FN$738,CALENDRIER!$B$2))/2)","v":0},{"$f":"(COUNTIF(CALENDRIER!FO$374:FO$738,CALENDRIER!$A$2))+((COUNTIF(CALENDRIER!FO$374:FO$738,CALENDRIER!$B$2))/2)","v":0},{"$f":"(COUNTIF(CALENDRIER!FP$374:FP$738,CALENDRIER!$A$2))+((COUNTIF(CALENDRIER!FP$374:FP$738,CALENDRIER!$B$2))/2)","v":0},{"$f":"(COUNTIF(CALENDRIER!FQ$374:FQ$738,CALENDRIER!$A$2))+((COUNTIF(CALENDRIER!FQ$374:FQ$738,CALENDRIER!$B$2))/2)","v":0},{"$f":"(COUNTIF(CALENDRIER!FR$374:FR$738,CALENDRIER!$A$2))+((COUNTIF(CALENDRIER!FR$374:FR$738,CALENDRIER!$B$2))/2)","v":0},{"$f":"(COUNTIF(CALENDRIER!FS$374:FS$738,CALENDRIER!$A$2))+((COUNTIF(CALENDRIER!FS$374:FS$738,CALENDRIER!$B$2))/2)","v":0},{"$f":"(COUNTIF(CALENDRIER!FT$374:FT$738,CALENDRIER!$A$2))+((COUNTIF(CALENDRIER!FT$374:FT$738,CALENDRIER!$B$2))/2)","v":0},{"$f":"(COUNTIF(CALENDRIER!FU$374:FU$738,CALENDRIER!$A$2))+((COUNTIF(CALENDRIER!FU$374:FU$738,CALENDRIER!$B$2))/2)","v":0},{"$f":"(COUNTIF(CALENDRIER!FV$374:FV$738,CALENDRIER!$A$2))+((COUNTIF(CALENDRIER!FV$374:FV$738,CALENDRIER!$B$2))/2)","v":0},{"$f":"(COUNTIF(CALENDRIER!FW$374:FW$738,CALENDRIER!$A$2))+((COUNTIF(CALENDRIER!FW$374:FW$738,CALENDRIER!$B$2))/2)","v":0},{"$f":"(COUNTIF(CALENDRIER!FX$374:FX$738,CALENDRIER!$A$2))+((COUNTIF(CALENDRIER!FX$374:FX$738,CALENDRIER!$B$2))/2)","v":0},{"$f":"(COUNTIF(CALENDRIER!FY$374:FY$738,CALENDRIER!$A$2))+((COUNTIF(CALENDRIER!FY$374:FY$738,CALENDRIER!$B$2))/2)","v":0},{"$f":"(COUNTIF(CALENDRIER!FZ$374:FZ$738,CALENDRIER!$A$2))+((COUNTIF(CALENDRIER!FZ$374:FZ$738,CALENDRIER!$B$2))/2)","v":0},{"$f":"(COUNTIF(CALENDRIER!GA$374:GA$738,CALENDRIER!$A$2))+((COUNTIF(CALENDRIER!GA$374:GA$738,CALENDRIER!$B$2))/2)","v":0},{"$f":"(COUNTIF(CALENDRIER!GB$374:GB$738,CALENDRIER!$A$2))+((COUNTIF(CALENDRIER!GB$374:GB$738,CALENDRIER!$B$2))/2)","v":0},{"$f":"(COUNTIF(CALENDRIER!GC$374:GC$738,CALENDRIER!$A$2))+((COUNTIF(CALENDRIER!GC$374:GC$738,CALENDRIER!$B$2))/2)","v":0},{"$f":"(COUNTIF(CALENDRIER!GD$374:GD$738,CALENDRIER!$A$2))+((COUNTIF(CALENDRIER!GD$374:GD$738,CALENDRIER!$B$2))/2)","v":0},{"$f":"(COUNTIF(CALENDRIER!GE$374:GE$738,CALENDRIER!$A$2))+((COUNTIF(CALENDRIER!GE$374:GE$738,CALENDRIER!$B$2))/2)","v":0},{"$f":"(COUNTIF(CALENDRIER!GF$374:GF$738,CALENDRIER!$A$2))+((COUNTIF(CALENDRIER!GF$374:GF$738,CALENDRIER!$B$2))/2)","v":0},{"$f":"(COUNTIF(CALENDRIER!GG$374:GG$738,CALENDRIER!$A$2))+((COUNTIF(CALENDRIER!GG$374:GG$738,CALENDRIER!$B$2))/2)","v":0},{"$f":"(COUNTIF(CALENDRIER!GH$374:GH$738,CALENDRIER!$A$2))+((COUNTIF(CALENDRIER!GH$374:GH$738,CALENDRIER!$B$2))/2)","v":0},{"$f":"(COUNTIF(CALENDRIER!GI$374:GI$738,CALENDRIER!$A$2))+((COUNTIF(CALENDRIER!GI$374:GI$738,CALENDRIER!$B$2))/2)","v":0},{"$f":"(COUNTIF(CALENDRIER!GJ$374:GJ$738,CALENDRIER!$A$2))+((COUNTIF(CALENDRIER!GJ$374:GJ$738,CALENDRIER!$B$2))/2)","v":0},{"$f":"(COUNTIF(CALENDRIER!GK$374:GK$738,CALENDRIER!$A$2))+((COUNTIF(CALENDRIER!GK$374:GK$738,CALENDRIER!$B$2))/2)","v":0},{"$f":"(COUNTIF(CALENDRIER!GL$374:GL$738,CALENDRIER!$A$2))+((COUNTIF(CALENDRIER!GL$374:GL$738,CALENDRIER!$B$2))/2)","v":0},{"$f":"(COUNTIF(CALENDRIER!GM$374:GM$738,CALENDRIER!$A$2))+((COUNTIF(CALENDRIER!GM$374:GM$738,CALENDRIER!$B$2))/2)","v":0},{"$f":"(COUNTIF(CALENDRIER!GN$374:GN$738,CALENDRIER!$A$2))+((COUNTIF(CALENDRIER!GN$374:GN$738,CALENDRIER!$B$2))/2)","v":0},{"$f":"(COUNTIF(CALENDRIER!GO$374:GO$738,CALENDRIER!$A$2))+((COUNTIF(CALENDRIER!GO$374:GO$738,CALENDRIER!$B$2))/2)","v":0},{"$f":"(COUNTIF(CALENDRIER!GP$374:GP$738,CALENDRIER!$A$2))+((COUNTIF(CALENDRIER!GP$374:GP$738,CALENDRIER!$B$2))/2)","v":0},{"$f":"(COUNTIF(CALENDRIER!GQ$374:GQ$738,CALENDRIER!$A$2))+((COUNTIF(CALENDRIER!GQ$374:GQ$738,CALENDRIER!$B$2))/2)","v":0},{"$f":"(COUNTIF(CALENDRIER!GR$374:GR$738,CALENDRIER!$A$2))+((COUNTIF(CALENDRIER!GR$374:GR$738,CALENDRIER!$B$2))/2)","v":0}]
[null,{"$f":"\"Solde \"&CALENDRIER!$A$2&\" \"&A69&\" : \"","v":"Solde CP Anc 2016-2017 : "},{"$f":"C70-C71","v":0},{"$f":"D70-D71","v":0},0,0,0,0,0,0,0,0,0,0,0,0,0,0,0,0,0,0,0,0,0,0,0,0,0,0,0,0,0,0,0,0,0,0,0,0,0,0,0,0,0,0,0,0,0,0,0,0,0,0,0,0,0,0,0,0,0,0,0,0,0,0,0,{"$f":"BP70-BP71","v":0},0,0,0,0,0,0,0,0,0,0,0,0,0,0,0,0,0,0,0,0,0,0,0,0,0,0,0,0,0,0,0,0,0,0,0,0,0,0,0,0,0,0,0,0,0,0,0,0,0,0,0,0,0,0,0,0,0,0,0,0,0,0,0,{"$f":"EB70-EB71","v":0},0,0,0,0,0,0,0,0,0,0,0,0,0,0,0,0,0,0,0,0,0,0,0,0,0,0,0,0,0,0,0,0,0,0,0,0,0,0,0,0,0,0,0,0,0,0,0,0,0,0,0,0,0,0,0,0,0,0,0,0,0,0,0,{"$f":"GN70-GN71","v":0},0,0,0,0]
[]
["2017-2018",{"$f":"CALENDRIER!$A$2","v":"CP Anc"}]
[null,"SOLDE DEPART"]
[null,{"$f":"CALENDRIER!$A$2&\" PRIS\"","v":"CP Anc PRIS"},{"$f":"(COUNTIF(CALENDRIER!C$739:C$1103,CALENDRIER!$A$2))+((COUNTIF(CALENDRIER!C$739:C$1103,CALENDRIER!$B$2))/2)","v":0},{"$f":"(COUNTIF(CALENDRIER!D$739:D$1103,CALENDRIER!$A$2))+((COUNTIF(CALENDRIER!D$739:D$1103,CALENDRIER!$B$2))/2)","v":0},{"$f":"(COUNTIF(CALENDRIER!E$739:E$1103,CALENDRIER!$A$2))+((COUNTIF(CALENDRIER!E$739:E$1103,CALENDRIER!$B$2))/2)","v":0},{"$f":"(COUNTIF(CALENDRIER!F$739:F$1103,CALENDRIER!$A$2))+((COUNTIF(CALENDRIER!F$739:F$1103,CALENDRIER!$B$2))/2)","v":0},{"$f":"(COUNTIF(CALENDRIER!G$739:G$1103,CALENDRIER!$A$2))+((COUNTIF(CALENDRIER!G$739:G$1103,CALENDRIER!$B$2))/2)","v":0},{"$f":"(COUNTIF(CALENDRIER!H$739:H$1103,CALENDRIER!$A$2))+((COUNTIF(CALENDRIER!H$739:H$1103,CALENDRIER!$B$2))/2)","v":0},{"$f":"(COUNTIF(CALENDRIER!I$739:I$1103,CALENDRIER!$A$2))+((COUNTIF(CALENDRIER!I$739:I$1103,CALENDRIER!$B$2))/2)","v":0},{"$f":"(COUNTIF(CALENDRIER!J$739:J$1103,CALENDRIER!$A$2))+((COUNTIF(CALENDRIER!J$739:J$1103,CALENDRIER!$B$2))/2)","v":0},{"$f":"(COUNTIF(CALENDRIER!K$739:K$1103,CALENDRIER!$A$2))+((COUNTIF(CALENDRIER!K$739:K$1103,CALENDRIER!$B$2))/2)","v":0},{"$f":"(COUNTIF(CALENDRIER!L$739:L$1103,CALENDRIER!$A$2))+((COUNTIF(CALENDRIER!L$739:L$1103,CALENDRIER!$B$2))/2)","v":0},{"$f":"(COUNTIF(CALENDRIER!M$739:M$1103,CALENDRIER!$A$2))+((COUNTIF(CALENDRIER!M$739:M$1103,CALENDRIER!$B$2))/2)","v":0},{"$f":"(COUNTIF(CALENDRIER!N$739:N$1103,CALENDRIER!$A$2))+((COUNTIF(CALENDRIER!N$739:N$1103,CALENDRIER!$B$2))/2)","v":0},{"$f":"(COUNTIF(CALENDRIER!O$739:O$1103,CALENDRIER!$A$2))+((COUNTIF(CALENDRIER!O$739:O$1103,CALENDRIER!$B$2))/2)","v":0},{"$f":"(COUNTIF(CALENDRIER!P$739:P$1103,CALENDRIER!$A$2))+((COUNTIF(CALENDRIER!P$739:P$1103,CALENDRIER!$B$2))/2)","v":0},{"$f":"(COUNTIF(CALENDRIER!Q$739:Q$1103,CALENDRIER!$A$2))+((COUNTIF(CALENDRIER!Q$739:Q$1103,CALENDRIER!$B$2))/2)","v":0},{"$f":"(COUNTIF(CALENDRIER!R$739:R$1103,CALENDRIER!$A$2))+((COUNTIF(CALENDRIER!R$739:R$1103,CALENDRIER!$B$2))/2)","v":0},{"$f":"(COUNTIF(CALENDRIER!S$739:S$1103,CALENDRIER!$A$2))+((COUNTIF(CALENDRIER!S$739:S$1103,CALENDRIER!$B$2))/2)","v":0},{"$f":"(COUNTIF(CALENDRIER!T$739:T$1103,CALENDRIER!$A$2))+((COUNTIF(CALENDRIER!T$739:T$1103,CALENDRIER!$B$2))/2)","v":0},{"$f":"(COUNTIF(CALENDRIER!U$739:U$1103,CALENDRIER!$A$2))+((COUNTIF(CALENDRIER!U$739:U$1103,CALENDRIER!$B$2))/2)","v":0},{"$f":"(COUNTIF(CALENDRIER!V$739:V$1103,CALENDRIER!$A$2))+((COUNTIF(CALENDRIER!V$739:V$1103,CALENDRIER!$B$2))/2)","v":0},{"$f":"(COUNTIF(CALENDRIER!W$739:W$1103,CALENDRIER!$A$2))+((COUNTIF(CALENDRIER!W$739:W$1103,CALENDRIER!$B$2))/2)","v":0},{"$f":"(COUNTIF(CALENDRIER!X$739:X$1103,CALENDRIER!$A$2))+((COUNTIF(CALENDRIER!X$739:X$1103,CALENDRIER!$B$2))/2)","v":0},{"$f":"(COUNTIF(CALENDRIER!Y$739:Y$1103,CALENDRIER!$A$2))+((COUNTIF(CALENDRIER!Y$739:Y$1103,CALENDRIER!$B$2))/2)","v":0},{"$f":"(COUNTIF(CALENDRIER!Z$739:Z$1103,CALENDRIER!$A$2))+((COUNTIF(CALENDRIER!Z$739:Z$1103,CALENDRIER!$B$2))/2)","v":0},{"$f":"(COUNTIF(CALENDRIER!AA$739:AA$1103,CALENDRIER!$A$2))+((COUNTIF(CALENDRIER!AA$739:AA$1103,CALENDRIER!$B$2))/2)","v":0},{"$f":"(COUNTIF(CALENDRIER!AB$739:AB$1103,CALENDRIER!$A$2))+((COUNTIF(CALENDRIER!AB$739:AB$1103,CALENDRIER!$B$2))/2)","v":0},{"$f":"(COUNTIF(CALENDRIER!AC$739:AC$1103,CALENDRIER!$A$2))+((COUNTIF(CALENDRIER!AC$739:AC$1103,CALENDRIER!$B$2))/2)","v":0},{"$f":"(COUNTIF(CALENDRIER!AD$739:AD$1103,CALENDRIER!$A$2))+((COUNTIF(CALENDRIER!AD$739:AD$1103,CALENDRIER!$B$2))/2)","v":0},{"$f":"(COUNTIF(CALENDRIER!AE$739:AE$1103,CALENDRIER!$A$2))+((COUNTIF(CALENDRIER!AE$739:AE$1103,CALENDRIER!$B$2))/2)","v":0},{"$f":"(COUNTIF(CALENDRIER!AF$739:AF$1103,CALENDRIER!$A$2))+((COUNTIF(CALENDRIER!AF$739:AF$1103,CALENDRIER!$B$2))/2)","v":0},{"$f":"(COUNTIF(CALENDRIER!AG$739:AG$1103,CALENDRIER!$A$2))+((COUNTIF(CALENDRIER!AG$739:AG$1103,CALENDRIER!$B$2))/2)","v":0},{"$f":"(COUNTIF(CALENDRIER!AH$739:AH$1103,CALENDRIER!$A$2))+((COUNTIF(CALENDRIER!AH$739:AH$1103,CALENDRIER!$B$2))/2)","v":0},{"$f":"(COUNTIF(CALENDRIER!AI$739:AI$1103,CALENDRIER!$A$2))+((COUNTIF(CALENDRIER!AI$739:AI$1103,CALENDRIER!$B$2))/2)","v":0},{"$f":"(COUNTIF(CALENDRIER!AJ$739:AJ$1103,CALENDRIER!$A$2))+((COUNTIF(CALENDRIER!AJ$739:AJ$1103,CALENDRIER!$B$2))/2)","v":0},{"$f":"(COUNTIF(CALENDRIER!AK$739:AK$1103,CALENDRIER!$A$2))+((COUNTIF(CALENDRIER!AK$739:AK$1103,CALENDRIER!$B$2))/2)","v":0},{"$f":"(COUNTIF(CALENDRIER!AL$739:AL$1103,CALENDRIER!$A$2))+((COUNTIF(CALENDRIER!AL$739:AL$1103,CALENDRIER!$B$2))/2)","v":0},{"$f":"(COUNTIF(CALENDRIER!AM$739:AM$1103,CALENDRIER!$A$2))+((COUNTIF(CALENDRIER!AM$739:AM$1103,CALENDRIER!$B$2))/2)","v":0},{"$f":"(COUNTIF(CALENDRIER!AN$739:AN$1103,CALENDRIER!$A$2))+((COUNTIF(CALENDRIER!AN$739:AN$1103,CALENDRIER!$B$2))/2)","v":0},{"$f":"(COUNTIF(CALENDRIER!AO$739:AO$1103,CALENDRIER!$A$2))+((COUNTIF(CALENDRIER!AO$739:AO$1103,CALENDRIER!$B$2))/2)","v":0},{"$f":"(COUNTIF(CALENDRIER!AP$739:AP$1103,CALENDRIER!$A$2))+((COUNTIF(CALENDRIER!AP$739:AP$1103,CALENDRIER!$B$2))/2)","v":0},{"$f":"(COUNTIF(CALENDRIER!AQ$739:AQ$1103,CALENDRIER!$A$2))+((COUNTIF(CALENDRIER!AQ$739:AQ$1103,CALENDRIER!$B$2))/2)","v":0},{"$f":"(COUNTIF(CALENDRIER!AR$739:AR$1103,CALENDRIER!$A$2))+((COUNTIF(CALENDRIER!AR$739:AR$1103,CALENDRIER!$B$2))/2)","v":0},{"$f":"(COUNTIF(CALENDRIER!AS$739:AS$1103,CALENDRIER!$A$2))+((COUNTIF(CALENDRIER!AS$739:AS$1103,CALENDRIER!$B$2))/2)","v":0},{"$f":"(COUNTIF(CALENDRIER!AT$739:AT$1103,CALENDRIER!$A$2))+((COUNTIF(CALENDRIER!AT$739:AT$1103,CALENDRIER!$B$2))/2)","v":0},{"$f":"(COUNTIF(CALENDRIER!AU$739:AU$1103,CALENDRIER!$A$2))+((COUNTIF(CALENDRIER!AU$739:AU$1103,CALENDRIER!$B$2))/2)","v":0},{"$f":"(COUNTIF(CALENDRIER!AV$739:AV$1103,CALENDRIER!$A$2))+((COUNTIF(CALENDRIER!AV$739:AV$1103,CALENDRIER!$B$2))/2)","v":0},{"$f":"(COUNTIF(CALENDRIER!AW$739:AW$1103,CALENDRIER!$A$2))+((COUNTIF(CALENDRIER!AW$739:AW$1103,CALENDRIER!$B$2))/2)","v":0},{"$f":"(COUNTIF(CALENDRIER!AX$739:AX$1103,CALENDRIER!$A$2))+((COUNTIF(CALENDRIER!AX$739:AX$1103,CALENDRIER!$B$2))/2)","v":0},{"$f":"(COUNTIF(CALENDRIER!AY$739:AY$1103,CALENDRIER!$A$2))+((COUNTIF(CALENDRIER!AY$739:AY$1103,CALENDRIER!$B$2))/2)","v":0},{"$f":"(COUNTIF(CALENDRIER!AZ$739:AZ$1103,CALENDRIER!$A$2))+((COUNTIF(CALENDRIER!AZ$739:AZ$1103,CALENDRIER!$B$2))/2)","v":0},{"$f":"(COUNTIF(CALENDRIER!BA$739:BA$1103,CALENDRIER!$A$2))+((COUNTIF(CALENDRIER!BA$739:BA$1103,CALENDRIER!$B$2))/2)","v":0},{"$f":"(COUNTIF(CALENDRIER!BB$739:BB$1103,CALENDRIER!$A$2))+((COUNTIF(CALENDRIER!BB$739:BB$1103,CALENDRIER!$B$2))/2)","v":0},{"$f":"(COUNTIF(CALENDRIER!BC$739:BC$1103,CALENDRIER!$A$2))+((COUNTIF(CALENDRIER!BC$739:BC$1103,CALENDRIER!$B$2))/2)","v":0},{"$f":"(COUNTIF(CALENDRIER!BD$739:BD$1103,CALENDRIER!$A$2))+((COUNTIF(CALENDRIER!BD$739:BD$1103,CALENDRIER!$B$2))/2)","v":0},{"$f":"(COUNTIF(CALENDRIER!BE$739:BE$1103,CALENDRIER!$A$2))+((COUNTIF(CALENDRIER!BE$739:BE$1103,CALENDRIER!$B$2))/2)","v":0},{"$f":"(COUNTIF(CALENDRIER!BF$739:BF$1103,CALENDRIER!$A$2))+((COUNTIF(CALENDRIER!BF$739:BF$1103,CALENDRIER!$B$2))/2)","v":0},{"$f":"(COUNTIF(CALENDRIER!BG$739:BG$1103,CALENDRIER!$A$2))+((COUNTIF(CALENDRIER!BG$739:BG$1103,CALENDRIER!$B$2))/2)","v":0},{"$f":"(COUNTIF(CALENDRIER!BH$739:BH$1103,CALENDRIER!$A$2))+((COUNTIF(CALENDRIER!BH$739:BH$1103,CALENDRIER!$B$2))/2)","v":0},{"$f":"(COUNTIF(CALENDRIER!BI$739:BI$1103,CALENDRIER!$A$2))+((COUNTIF(CALENDRIER!BI$739:BI$1103,CALENDRIER!$B$2))/2)","v":0},{"$f":"(COUNTIF(CALENDRIER!BJ$739:BJ$1103,CALENDRIER!$A$2))+((COUNTIF(CALENDRIER!BJ$739:BJ$1103,CALENDRIER!$B$2))/2)","v":0},{"$f":"(COUNTIF(CALENDRIER!BK$739:BK$1103,CALENDRIER!$A$2))+((COUNTIF(CALENDRIER!BK$739:BK$1103,CALENDRIER!$B$2))/2)","v":0},{"$f":"(COUNTIF(CALENDRIER!BL$739:BL$1103,CALENDRIER!$A$2))+((COUNTIF(CALENDRIER!BL$739:BL$1103,CALENDRIER!$B$2))/2)","v":0},{"$f":"(COUNTIF(CALENDRIER!BM$739:BM$1103,CALENDRIER!$A$2))+((COUNTIF(CALENDRIER!BM$739:BM$1103,CALENDRIER!$B$2))/2)","v":0},{"$f":"(COUNTIF(CALENDRIER!BN$739:BN$1103,CALENDRIER!$A$2))+((COUNTIF(CALENDRIER!BN$739:BN$1103,CALENDRIER!$B$2))/2)","v":0},{"$f":"(COUNTIF(CALENDRIER!BO$739:BO$1103,CALENDRIER!$A$2))+((COUNTIF(CALENDRIER!BO$739:BO$1103,CALENDRIER!$B$2))/2)","v":0},{"$f":"(COUNTIF(CALENDRIER!BP$739:BP$1103,CALENDRIER!$A$2))+((COUNTIF(CALENDRIER!BP$739:BP$1103,CALENDRIER!$B$2))/2)","v":0},{"$f":"(COUNTIF(CALENDRIER!BQ$739:BQ$1103,CALENDRIER!$A$2))+((COUNTIF(CALENDRIER!BQ$739:BQ$1103,CALENDRIER!$B$2))/2)","v":0},{"$f":"(COUNTIF(CALENDRIER!BR$739:BR$1103,CALENDRIER!$A$2))+((COUNTIF(CALENDRIER!BR$739:BR$1103,CALENDRIER!$B$2))/2)","v":0},{"$f":"(COUNTIF(CALENDRIER!BS$739:BS$1103,CALENDRIER!$A$2))+((COUNTIF(CALENDRIER!BS$739:BS$1103,CALENDRIER!$B$2))/2)","v":0},{"$f":"(COUNTIF(CALENDRIER!BT$739:BT$1103,CALENDRIER!$A$2))+((COUNTIF(CALENDRIER!BT$739:BT$1103,CALENDRIER!$B$2))/2)","v":0},{"$f":"(COUNTIF(CALENDRIER!BU$739:BU$1103,CALENDRIER!$A$2))+((COUNTIF(CALENDRIER!BU$739:BU$1103,CALENDRIER!$B$2))/2)","v":0},{"$f":"(COUNTIF(CALENDRIER!BV$739:BV$1103,CALENDRIER!$A$2))+((COUNTIF(CALENDRIER!BV$739:BV$1103,CALENDRIER!$B$2))/2)","v":0},{"$f":"(COUNTIF(CALENDRIER!BW$739:BW$1103,CALENDRIER!$A$2))+((COUNTIF(CALENDRIER!BW$739:BW$1103,CALENDRIER!$B$2))/2)","v":0},{"$f":"(COUNTIF(CALENDRIER!BX$739:BX$1103,CALENDRIER!$A$2))+((COUNTIF(CALENDRIER!BX$739:BX$1103,CALENDRIER!$B$2))/2)","v":0},{"$f":"(COUNTIF(CALENDRIER!BY$739:BY$1103,CALENDRIER!$A$2))+((COUNTIF(CALENDRIER!BY$739:BY$1103,CALENDRIER!$B$2))/2)","v":0},{"$f":"(COUNTIF(CALENDRIER!BZ$739:BZ$1103,CALENDRIER!$A$2))+((COUNTIF(CALENDRIER!BZ$739:BZ$1103,CALENDRIER!$B$2))/2)","v":0},{"$f":"(COUNTIF(CALENDRIER!CA$739:CA$1103,CALENDRIER!$A$2))+((COUNTIF(CALENDRIER!CA$739:CA$1103,CALENDRIER!$B$2))/2)","v":0},{"$f":"(COUNTIF(CALENDRIER!CB$739:CB$1103,CALENDRIER!$A$2))+((COUNTIF(CALENDRIER!CB$739:CB$1103,CALENDRIER!$B$2))/2)","v":0},{"$f":"(COUNTIF(CALENDRIER!CC$739:CC$1103,CALENDRIER!$A$2))+((COUNTIF(CALENDRIER!CC$739:CC$1103,CALENDRIER!$B$2))/2)","v":0},{"$f":"(COUNTIF(CALENDRIER!CD$739:CD$1103,CALENDRIER!$A$2))+((COUNTIF(CALENDRIER!CD$739:CD$1103,CALENDRIER!$B$2))/2)","v":0},{"$f":"(COUNTIF(CALENDRIER!CE$739:CE$1103,CALENDRIER!$A$2))+((COUNTIF(CALENDRIER!CE$739:CE$1103,CALENDRIER!$B$2))/2)","v":0},{"$f":"(COUNTIF(CALENDRIER!CF$739:CF$1103,CALENDRIER!$A$2))+((COUNTIF(CALENDRIER!CF$739:CF$1103,CALENDRIER!$B$2))/2)","v":0},{"$f":"(COUNTIF(CALENDRIER!CG$739:CG$1103,CALENDRIER!$A$2))+((COUNTIF(CALENDRIER!CG$739:CG$1103,CALENDRIER!$B$2))/2)","v":0},{"$f":"(COUNTIF(CALENDRIER!CH$739:CH$1103,CALENDRIER!$A$2))+((COUNTIF(CALENDRIER!CH$739:CH$1103,CALENDRIER!$B$2))/2)","v":0},{"$f":"(COUNTIF(CALENDRIER!CI$739:CI$1103,CALENDRIER!$A$2))+((COUNTIF(CALENDRIER!CI$739:CI$1103,CALENDRIER!$B$2))/2)","v":0},{"$f":"(COUNTIF(CALENDRIER!CJ$739:CJ$1103,CALENDRIER!$A$2))+((COUNTIF(CALENDRIER!CJ$739:CJ$1103,CALENDRIER!$B$2))/2)","v":0},{"$f":"(COUNTIF(CALENDRIER!CK$739:CK$1103,CALENDRIER!$A$2))+((COUNTIF(CALENDRIER!CK$739:CK$1103,CALENDRIER!$B$2))/2)","v":0},{"$f":"(COUNTIF(CALENDRIER!CL$739:CL$1103,CALENDRIER!$A$2))+((COUNTIF(CALENDRIER!CL$739:CL$1103,CALENDRIER!$B$2))/2)","v":0},{"$f":"(COUNTIF(CALENDRIER!CM$739:CM$1103,CALENDRIER!$A$2))+((COUNTIF(CALENDRIER!CM$739:CM$1103,CALENDRIER!$B$2))/2)","v":0},{"$f":"(COUNTIF(CALENDRIER!CN$739:CN$1103,CALENDRIER!$A$2))+((COUNTIF(CALENDRIER!CN$739:CN$1103,CALENDRIER!$B$2))/2)","v":0},{"$f":"(COUNTIF(CALENDRIER!CO$739:CO$1103,CALENDRIER!$A$2))+((COUNTIF(CALENDRIER!CO$739:CO$1103,CALENDRIER!$B$2))/2)","v":0},{"$f":"(COUNTIF(CALENDRIER!CP$739:CP$1103,CALENDRIER!$A$2))+((COUNTIF(CALENDRIER!CP$739:CP$1103,CALENDRIER!$B$2))/2)","v":0},{"$f":"(COUNTIF(CALENDRIER!CQ$739:CQ$1103,CALENDRIER!$A$2))+((COUNTIF(CALENDRIER!CQ$739:CQ$1103,CALENDRIER!$B$2))/2)","v":0},{"$f":"(COUNTIF(CALENDRIER!CR$739:CR$1103,CALENDRIER!$A$2))+((COUNTIF(CALENDRIER!CR$739:CR$1103,CALENDRIER!$B$2))/2)","v":0},{"$f":"(COUNTIF(CALENDRIER!CS$739:CS$1103,CALENDRIER!$A$2))+((COUNTIF(CALENDRIER!CS$739:CS$1103,CALENDRIER!$B$2))/2)","v":0},{"$f":"(COUNTIF(CALENDRIER!CT$739:CT$1103,CALENDRIER!$A$2))+((COUNTIF(CALENDRIER!CT$739:CT$1103,CALENDRIER!$B$2))/2)","v":0},{"$f":"(COUNTIF(CALENDRIER!CU$739:CU$1103,CALENDRIER!$A$2))+((COUNTIF(CALENDRIER!CU$739:CU$1103,CALENDRIER!$B$2))/2)","v":0},{"$f":"(COUNTIF(CALENDRIER!CV$739:CV$1103,CALENDRIER!$A$2))+((COUNTIF(CALENDRIER!CV$739:CV$1103,CALENDRIER!$B$2))/2)","v":0},{"$f":"(COUNTIF(CALENDRIER!CW$739:CW$1103,CALENDRIER!$A$2))+((COUNTIF(CALENDRIER!CW$739:CW$1103,CALENDRIER!$B$2))/2)","v":0},{"$f":"(COUNTIF(CALENDRIER!CX$739:CX$1103,CALENDRIER!$A$2))+((COUNTIF(CALENDRIER!CX$739:CX$1103,CALENDRIER!$B$2))/2)","v":0},{"$f":"(COUNTIF(CALENDRIER!CY$739:CY$1103,CALENDRIER!$A$2))+((COUNTIF(CALENDRIER!CY$739:CY$1103,CALENDRIER!$B$2))/2)","v":0},{"$f":"(COUNTIF(CALENDRIER!CZ$739:CZ$1103,CALENDRIER!$A$2))+((COUNTIF(CALENDRIER!CZ$739:CZ$1103,CALENDRIER!$B$2))/2)","v":0},{"$f":"(COUNTIF(CALENDRIER!DA$739:DA$1103,CALENDRIER!$A$2))+((COUNTIF(CALENDRIER!DA$739:DA$1103,CALENDRIER!$B$2))/2)","v":0},{"$f":"(COUNTIF(CALENDRIER!DB$739:DB$1103,CALENDRIER!$A$2))+((COUNTIF(CALENDRIER!DB$739:DB$1103,CALENDRIER!$B$2))/2)","v":0},{"$f":"(COUNTIF(CALENDRIER!DC$739:DC$1103,CALENDRIER!$A$2))+((COUNTIF(CALENDRIER!DC$739:DC$1103,CALENDRIER!$B$2))/2)","v":0},{"$f":"(COUNTIF(CALENDRIER!DD$739:DD$1103,CALENDRIER!$A$2))+((COUNTIF(CALENDRIER!DD$739:DD$1103,CALENDRIER!$B$2))/2)","v":0},{"$f":"(COUNTIF(CALENDRIER!DE$739:DE$1103,CALENDRIER!$A$2))+((COUNTIF(CALENDRIER!DE$739:DE$1103,CALENDRIER!$B$2))/2)","v":0},{"$f":"(COUNTIF(CALENDRIER!DF$739:DF$1103,CALENDRIER!$A$2))+((COUNTIF(CALENDRIER!DF$739:DF$1103,CALENDRIER!$B$2))/2)","v":0},{"$f":"(COUNTIF(CALENDRIER!DG$739:DG$1103,CALENDRIER!$A$2))+((COUNTIF(CALENDRIER!DG$739:DG$1103,CALENDRIER!$B$2))/2)","v":0},{"$f":"(COUNTIF(CALENDRIER!DH$739:DH$1103,CALENDRIER!$A$2))+((COUNTIF(CALENDRIER!DH$739:DH$1103,CALENDRIER!$B$2))/2)","v":0},{"$f":"(COUNTIF(CALENDRIER!DI$739:DI$1103,CALENDRIER!$A$2))+((COUNTIF(CALENDRIER!DI$739:DI$1103,CALENDRIER!$B$2))/2)","v":0},{"$f":"(COUNTIF(CALENDRIER!DJ$739:DJ$1103,CALENDRIER!$A$2))+((COUNTIF(CALENDRIER!DJ$739:DJ$1103,CALENDRIER!$B$2))/2)","v":0},{"$f":"(COUNTIF(CALENDRIER!DK$739:DK$1103,CALENDRIER!$A$2))+((COUNTIF(CALENDRIER!DK$739:DK$1103,CALENDRIER!$B$2))/2)","v":0},{"$f":"(COUNTIF(CALENDRIER!DL$739:DL$1103,CALENDRIER!$A$2))+((COUNTIF(CALENDRIER!DL$739:DL$1103,CALENDRIER!$B$2))/2)","v":0},{"$f":"(COUNTIF(CALENDRIER!DM$739:DM$1103,CALENDRIER!$A$2))+((COUNTIF(CALENDRIER!DM$739:DM$1103,CALENDRIER!$B$2))/2)","v":0},{"$f":"(COUNTIF(CALENDRIER!DN$739:DN$1103,CALENDRIER!$A$2))+((COUNTIF(CALENDRIER!DN$739:DN$1103,CALENDRIER!$B$2))/2)","v":0},{"$f":"(COUNTIF(CALENDRIER!DO$739:DO$1103,CALENDRIER!$A$2))+((COUNTIF(CALENDRIER!DO$739:DO$1103,CALENDRIER!$B$2))/2)","v":0},{"$f":"(COUNTIF(CALENDRIER!DP$739:DP$1103,CALENDRIER!$A$2))+((COUNTIF(CALENDRIER!DP$739:DP$1103,CALENDRIER!$B$2))/2)","v":0},{"$f":"(COUNTIF(CALENDRIER!DQ$739:DQ$1103,CALENDRIER!$A$2))+((COUNTIF(CALENDRIER!DQ$739:DQ$1103,CALENDRIER!$B$2))/2)","v":0},{"$f":"(COUNTIF(CALENDRIER!DR$739:DR$1103,CALENDRIER!$A$2))+((COUNTIF(CALENDRIER!DR$739:DR$1103,CALENDRIER!$B$2))/2)","v":0},{"$f":"(COUNTIF(CALENDRIER!DS$739:DS$1103,CALENDRIER!$A$2))+((COUNTIF(CALENDRIER!DS$739:DS$1103,CALENDRIER!$B$2))/2)","v":0},{"$f":"(COUNTIF(CALENDRIER!DT$739:DT$1103,CALENDRIER!$A$2))+((COUNTIF(CALENDRIER!DT$739:DT$1103,CALENDRIER!$B$2))/2)","v":0},{"$f":"(COUNTIF(CALENDRIER!DU$739:DU$1103,CALENDRIER!$A$2))+((COUNTIF(CALENDRIER!DU$739:DU$1103,CALENDRIER!$B$2))/2)","v":0},{"$f":"(COUNTIF(CALENDRIER!DV$739:DV$1103,CALENDRIER!$A$2))+((COUNTIF(CALENDRIER!DV$739:DV$1103,CALENDRIER!$B$2))/2)","v":0},{"$f":"(COUNTIF(CALENDRIER!DW$739:DW$1103,CALENDRIER!$A$2))+((COUNTIF(CALENDRIER!DW$739:DW$1103,CALENDRIER!$B$2))/2)","v":0},{"$f":"(COUNTIF(CALENDRIER!DX$739:DX$1103,CALENDRIER!$A$2))+((COUNTIF(CALENDRIER!DX$739:DX$1103,CALENDRIER!$B$2))/2)","v":0},{"$f":"(COUNTIF(CALENDRIER!DY$739:DY$1103,CALENDRIER!$A$2))+((COUNTIF(CALENDRIER!DY$739:DY$1103,CALENDRIER!$B$2))/2)","v":0},{"$f":"(COUNTIF(CALENDRIER!DZ$739:DZ$1103,CALENDRIER!$A$2))+((COUNTIF(CALENDRIER!DZ$739:DZ$1103,CALENDRIER!$B$2))/2)","v":0},{"$f":"(COUNTIF(CALENDRIER!EA$739:EA$1103,CALENDRIER!$A$2))+((COUNTIF(CALENDRIER!EA$739:EA$1103,CALENDRIER!$B$2))/2)","v":0},{"$f":"(COUNTIF(CALENDRIER!EB$739:EB$1103,CALENDRIER!$A$2))+((COUNTIF(CALENDRIER!EB$739:EB$1103,CALENDRIER!$B$2))/2)","v":0},{"$f":"(COUNTIF(CALENDRIER!EC$739:EC$1103,CALENDRIER!$A$2))+((COUNTIF(CALENDRIER!EC$739:EC$1103,CALENDRIER!$B$2))/2)","v":0},{"$f":"(COUNTIF(CALENDRIER!ED$739:ED$1103,CALENDRIER!$A$2))+((COUNTIF(CALENDRIER!ED$739:ED$1103,CALENDRIER!$B$2))/2)","v":0},{"$f":"(COUNTIF(CALENDRIER!EE$739:EE$1103,CALENDRIER!$A$2))+((COUNTIF(CALENDRIER!EE$739:EE$1103,CALENDRIER!$B$2))/2)","v":0},{"$f":"(COUNTIF(CALENDRIER!EF$739:EF$1103,CALENDRIER!$A$2))+((COUNTIF(CALENDRIER!EF$739:EF$1103,CALENDRIER!$B$2))/2)","v":0},{"$f":"(COUNTIF(CALENDRIER!EG$739:EG$1103,CALENDRIER!$A$2))+((COUNTIF(CALENDRIER!EG$739:EG$1103,CALENDRIER!$B$2))/2)","v":0},{"$f":"(COUNTIF(CALENDRIER!EH$739:EH$1103,CALENDRIER!$A$2))+((COUNTIF(CALENDRIER!EH$739:EH$1103,CALENDRIER!$B$2))/2)","v":0},{"$f":"(COUNTIF(CALENDRIER!EI$739:EI$1103,CALENDRIER!$A$2))+((COUNTIF(CALENDRIER!EI$739:EI$1103,CALENDRIER!$B$2))/2)","v":0},{"$f":"(COUNTIF(CALENDRIER!EJ$739:EJ$1103,CALENDRIER!$A$2))+((COUNTIF(CALENDRIER!EJ$739:EJ$1103,CALENDRIER!$B$2))/2)","v":0},{"$f":"(COUNTIF(CALENDRIER!EK$739:EK$1103,CALENDRIER!$A$2))+((COUNTIF(CALENDRIER!EK$739:EK$1103,CALENDRIER!$B$2))/2)","v":0},{"$f":"(COUNTIF(CALENDRIER!EL$739:EL$1103,CALENDRIER!$A$2))+((COUNTIF(CALENDRIER!EL$739:EL$1103,CALENDRIER!$B$2))/2)","v":0},{"$f":"(COUNTIF(CALENDRIER!EM$739:EM$1103,CALENDRIER!$A$2))+((COUNTIF(CALENDRIER!EM$739:EM$1103,CALENDRIER!$B$2))/2)","v":0},{"$f":"(COUNTIF(CALENDRIER!EN$739:EN$1103,CALENDRIER!$A$2))+((COUNTIF(CALENDRIER!EN$739:EN$1103,CALENDRIER!$B$2))/2)","v":0},{"$f":"(COUNTIF(CALENDRIER!EO$739:EO$1103,CALENDRIER!$A$2))+((COUNTIF(CALENDRIER!EO$739:EO$1103,CALENDRIER!$B$2))/2)","v":0},{"$f":"(COUNTIF(CALENDRIER!EP$739:EP$1103,CALENDRIER!$A$2))+((COUNTIF(CALENDRIER!EP$739:EP$1103,CALENDRIER!$B$2))/2)","v":0},{"$f":"(COUNTIF(CALENDRIER!EQ$739:EQ$1103,CALENDRIER!$A$2))+((COUNTIF(CALENDRIER!EQ$739:EQ$1103,CALENDRIER!$B$2))/2)","v":0},{"$f":"(COUNTIF(CALENDRIER!ER$739:ER$1103,CALENDRIER!$A$2))+((COUNTIF(CALENDRIER!ER$739:ER$1103,CALENDRIER!$B$2))/2)","v":0},{"$f":"(COUNTIF(CALENDRIER!ES$739:ES$1103,CALENDRIER!$A$2))+((COUNTIF(CALENDRIER!ES$739:ES$1103,CALENDRIER!$B$2))/2)","v":0},{"$f":"(COUNTIF(CALENDRIER!ET$739:ET$1103,CALENDRIER!$A$2))+((COUNTIF(CALENDRIER!ET$739:ET$1103,CALENDRIER!$B$2))/2)","v":0},{"$f":"(COUNTIF(CALENDRIER!EU$739:EU$1103,CALENDRIER!$A$2))+((COUNTIF(CALENDRIER!EU$739:EU$1103,CALENDRIER!$B$2))/2)","v":0},{"$f":"(COUNTIF(CALENDRIER!EV$739:EV$1103,CALENDRIER!$A$2))+((COUNTIF(CALENDRIER!EV$739:EV$1103,CALENDRIER!$B$2))/2)","v":0},{"$f":"(COUNTIF(CALENDRIER!EW$739:EW$1103,CALENDRIER!$A$2))+((COUNTIF(CALENDRIER!EW$739:EW$1103,CALENDRIER!$B$2))/2)","v":0},{"$f":"(COUNTIF(CALENDRIER!EX$739:EX$1103,CALENDRIER!$A$2))+((COUNTIF(CALENDRIER!EX$739:EX$1103,CALENDRIER!$B$2))/2)","v":0},{"$f":"(COUNTIF(CALENDRIER!EY$739:EY$1103,CALENDRIER!$A$2))+((COUNTIF(CALENDRIER!EY$739:EY$1103,CALENDRIER!$B$2))/2)","v":0},{"$f":"(COUNTIF(CALENDRIER!EZ$739:EZ$1103,CALENDRIER!$A$2))+((COUNTIF(CALENDRIER!EZ$739:EZ$1103,CALENDRIER!$B$2))/2)","v":0},{"$f":"(COUNTIF(CALENDRIER!FA$739:FA$1103,CALENDRIER!$A$2))+((COUNTIF(CALENDRIER!FA$739:FA$1103,CALENDRIER!$B$2))/2)","v":0},{"$f":"(COUNTIF(CALENDRIER!FB$739:FB$1103,CALENDRIER!$A$2))+((COUNTIF(CALENDRIER!FB$739:FB$1103,CALENDRIER!$B$2))/2)","v":0},{"$f":"(COUNTIF(CALENDRIER!FC$739:FC$1103,CALENDRIER!$A$2))+((COUNTIF(CALENDRIER!FC$739:FC$1103,CALENDRIER!$B$2))/2)","v":0},{"$f":"(COUNTIF(CALENDRIER!FD$739:FD$1103,CALENDRIER!$A$2))+((COUNTIF(CALENDRIER!FD$739:FD$1103,CALENDRIER!$B$2))/2)","v":0},{"$f":"(COUNTIF(CALENDRIER!FE$739:FE$1103,CALENDRIER!$A$2))+((COUNTIF(CALENDRIER!FE$739:FE$1103,CALENDRIER!$B$2))/2)","v":0},{"$f":"(COUNTIF(CALENDRIER!FF$739:FF$1103,CALENDRIER!$A$2))+((COUNTIF(CALENDRIER!FF$739:FF$1103,CALENDRIER!$B$2))/2)","v":0},{"$f":"(COUNTIF(CALENDRIER!FG$739:FG$1103,CALENDRIER!$A$2))+((COUNTIF(CALENDRIER!FG$739:FG$1103,CALENDRIER!$B$2))/2)","v":0},{"$f":"(COUNTIF(CALENDRIER!FH$739:FH$1103,CALENDRIER!$A$2))+((COUNTIF(CALENDRIER!FH$739:FH$1103,CALENDRIER!$B$2))/2)","v":0},{"$f":"(COUNTIF(CALENDRIER!FI$739:FI$1103,CALENDRIER!$A$2))+((COUNTIF(CALENDRIER!FI$739:FI$1103,CALENDRIER!$B$2))/2)","v":0},{"$f":"(COUNTIF(CALENDRIER!FJ$739:FJ$1103,CALENDRIER!$A$2))+((COUNTIF(CALENDRIER!FJ$739:FJ$1103,CALENDRIER!$B$2))/2)","v":0},{"$f":"(COUNTIF(CALENDRIER!FK$739:FK$1103,CALENDRIER!$A$2))+((COUNTIF(CALENDRIER!FK$739:FK$1103,CALENDRIER!$B$2))/2)","v":0},{"$f":"(COUNTIF(CALENDRIER!FL$739:FL$1103,CALENDRIER!$A$2))+((COUNTIF(CALENDRIER!FL$739:FL$1103,CALENDRIER!$B$2))/2)","v":0},{"$f":"(COUNTIF(CALENDRIER!FM$739:FM$1103,CALENDRIER!$A$2))+((COUNTIF(CALENDRIER!FM$739:FM$1103,CALENDRIER!$B$2))/2)","v":0},{"$f":"(COUNTIF(CALENDRIER!FN$739:FN$1103,CALENDRIER!$A$2))+((COUNTIF(CALENDRIER!FN$739:FN$1103,CALENDRIER!$B$2))/2)","v":0},{"$f":"(COUNTIF(CALENDRIER!FO$739:FO$1103,CALENDRIER!$A$2))+((COUNTIF(CALENDRIER!FO$739:FO$1103,CALENDRIER!$B$2))/2)","v":0},{"$f":"(COUNTIF(CALENDRIER!FP$739:FP$1103,CALENDRIER!$A$2))+((COUNTIF(CALENDRIER!FP$739:FP$1103,CALENDRIER!$B$2))/2)","v":0},{"$f":"(COUNTIF(CALENDRIER!FQ$739:FQ$1103,CALENDRIER!$A$2))+((COUNTIF(CALENDRIER!FQ$739:FQ$1103,CALENDRIER!$B$2))/2)","v":0},{"$f":"(COUNTIF(CALENDRIER!FR$739:FR$1103,CALENDRIER!$A$2))+((COUNTIF(CALENDRIER!FR$739:FR$1103,CALENDRIER!$B$2))/2)","v":0},{"$f":"(COUNTIF(CALENDRIER!FS$739:FS$1103,CALENDRIER!$A$2))+((COUNTIF(CALENDRIER!FS$739:FS$1103,CALENDRIER!$B$2))/2)","v":0},{"$f":"(COUNTIF(CALENDRIER!FT$739:FT$1103,CALENDRIER!$A$2))+((COUNTIF(CALENDRIER!FT$739:FT$1103,CALENDRIER!$B$2))/2)","v":0},{"$f":"(COUNTIF(CALENDRIER!FU$739:FU$1103,CALENDRIER!$A$2))+((COUNTIF(CALENDRIER!FU$739:FU$1103,CALENDRIER!$B$2))/2)","v":0},{"$f":"(COUNTIF(CALENDRIER!FV$739:FV$1103,CALENDRIER!$A$2))+((COUNTIF(CALENDRIER!FV$739:FV$1103,CALENDRIER!$B$2))/2)","v":0},{"$f":"(COUNTIF(CALENDRIER!FW$739:FW$1103,CALENDRIER!$A$2))+((COUNTIF(CALENDRIER!FW$739:FW$1103,CALENDRIER!$B$2))/2)","v":0},{"$f":"(COUNTIF(CALENDRIER!FX$739:FX$1103,CALENDRIER!$A$2))+((COUNTIF(CALENDRIER!FX$739:FX$1103,CALENDRIER!$B$2))/2)","v":0},{"$f":"(COUNTIF(CALENDRIER!FY$739:FY$1103,CALENDRIER!$A$2))+((COUNTIF(CALENDRIER!FY$739:FY$1103,CALENDRIER!$B$2))/2)","v":0},{"$f":"(COUNTIF(CALENDRIER!FZ$739:FZ$1103,CALENDRIER!$A$2))+((COUNTIF(CALENDRIER!FZ$739:FZ$1103,CALENDRIER!$B$2))/2)","v":0},{"$f":"(COUNTIF(CALENDRIER!GA$739:GA$1103,CALENDRIER!$A$2))+((COUNTIF(CALENDRIER!GA$739:GA$1103,CALENDRIER!$B$2))/2)","v":0},{"$f":"(COUNTIF(CALENDRIER!GB$739:GB$1103,CALENDRIER!$A$2))+((COUNTIF(CALENDRIER!GB$739:GB$1103,CALENDRIER!$B$2))/2)","v":0},{"$f":"(COUNTIF(CALENDRIER!GC$739:GC$1103,CALENDRIER!$A$2))+((COUNTIF(CALENDRIER!GC$739:GC$1103,CALENDRIER!$B$2))/2)","v":0},{"$f":"(COUNTIF(CALENDRIER!GD$739:GD$1103,CALENDRIER!$A$2))+((COUNTIF(CALENDRIER!GD$739:GD$1103,CALENDRIER!$B$2))/2)","v":0},{"$f":"(COUNTIF(CALENDRIER!GE$739:GE$1103,CALENDRIER!$A$2))+((COUNTIF(CALENDRIER!GE$739:GE$1103,CALENDRIER!$B$2))/2)","v":0},{"$f":"(COUNTIF(CALENDRIER!GF$739:GF$1103,CALENDRIER!$A$2))+((COUNTIF(CALENDRIER!GF$739:GF$1103,CALENDRIER!$B$2))/2)","v":0},{"$f":"(COUNTIF(CALENDRIER!GG$739:GG$1103,CALENDRIER!$A$2))+((COUNTIF(CALENDRIER!GG$739:GG$1103,CALENDRIER!$B$2))/2)","v":0},{"$f":"(COUNTIF(CALENDRIER!GH$739:GH$1103,CALENDRIER!$A$2))+((COUNTIF(CALENDRIER!GH$739:GH$1103,CALENDRIER!$B$2))/2)","v":0},{"$f":"(COUNTIF(CALENDRIER!GI$739:GI$1103,CALENDRIER!$A$2))+((COUNTIF(CALENDRIER!GI$739:GI$1103,CALENDRIER!$B$2))/2)","v":0},{"$f":"(COUNTIF(CALENDRIER!GJ$739:GJ$1103,CALENDRIER!$A$2))+((COUNTIF(CALENDRIER!GJ$739:GJ$1103,CALENDRIER!$B$2))/2)","v":0},{"$f":"(COUNTIF(CALENDRIER!GK$739:GK$1103,CALENDRIER!$A$2))+((COUNTIF(CALENDRIER!GK$739:GK$1103,CALENDRIER!$B$2))/2)","v":0},{"$f":"(COUNTIF(CALENDRIER!GL$739:GL$1103,CALENDRIER!$A$2))+((COUNTIF(CALENDRIER!GL$739:GL$1103,CALENDRIER!$B$2))/2)","v":0},{"$f":"(COUNTIF(CALENDRIER!GM$739:GM$1103,CALENDRIER!$A$2))+((COUNTIF(CALENDRIER!GM$739:GM$1103,CALENDRIER!$B$2))/2)","v":0},{"$f":"(COUNTIF(CALENDRIER!GN$739:GN$1103,CALENDRIER!$A$2))+((COUNTIF(CALENDRIER!GN$739:GN$1103,CALENDRIER!$B$2))/2)","v":0},{"$f":"(COUNTIF(CALENDRIER!GO$739:GO$1103,CALENDRIER!$A$2))+((COUNTIF(CALENDRIER!GO$739:GO$1103,CALENDRIER!$B$2))/2)","v":0},{"$f":"(COUNTIF(CALENDRIER!GP$739:GP$1103,CALENDRIER!$A$2))+((COUNTIF(CALENDRIER!GP$739:GP$1103,CALENDRIER!$B$2))/2)","v":0},{"$f":"(COUNTIF(CALENDRIER!GQ$739:GQ$1103,CALENDRIER!$A$2))+((COUNTIF(CALENDRIER!GQ$739:GQ$1103,CALENDRIER!$B$2))/2)","v":0},{"$f":"(COUNTIF(CALENDRIER!GR$739:GR$1103,CALENDRIER!$A$2))+((COUNTIF(CALENDRIER!GR$739:GR$1103,CALENDRIER!$B$2))/2)","v":0}]
[null,{"$f":"\"Solde \"&CALENDRIER!$A$2&\" \"&A74&\" : \"","v":"Solde CP Anc 2017-2018 : "},{"$f":"C75-C76","v":0},{"$f":"D75-D76","v":0},0,0,0,0,0,0,0,0,0,0,0,0,0,0,0,0,0,0,0,0,0,0,0,0,0,0,0,0,0,0,0,0,0,0,0,0,0,0,0,0,0,0,0,0,0,0,0,0,0,0,0,0,0,0,0,0,0,0,0,0,0,0,0,{"$f":"BP75-BP76","v":0},0,0,0,0,0,0,0,0,0,0,0,0,0,0,0,0,0,0,0,0,0,0,0,0,0,0,0,0,0,0,0,0,0,0,0,0,0,0,0,0,0,0,0,0,0,0,0,0,0,0,0,0,0,0,0,0,0,0,0,0,0,0,0,{"$f":"EB75-EB76","v":0},0,0,0,0,0,0,0,0,0,0,0,0,0,0,0,0,0,0,0,0,0,0,0,0,0,0,0,0,0,0,0,0,0,0,0,0,0,0,0,0,0,0,0,0,0,0,0,0,0,0,0,0,0,0,0,0,0,0,0,0,0,0,0,{"$f":"GN75-GN76","v":0},0,0,0,0]
[]
["2018-2019",{"$f":"CALENDRIER!$A$2","v":"CP Anc"}]
[null,"SOLDE DEPART"]
[null,{"$f":"CALENDRIER!$A$2&\" PRIS\"","v":"CP Anc PRIS"},{"$f":"(COUNTIF(CALENDRIER!C$1104:C$1468,CALENDRIER!$A$2))+((COUNTIF(CALENDRIER!C$1104:C$1468,CALENDRIER!$B$2))/2)","v":0},{"$f":"(COUNTIF(CALENDRIER!D$1104:D$1468,CALENDRIER!$A$2))+((COUNTIF(CALENDRIER!D$1104:D$1468,CALENDRIER!$B$2))/2)","v":0},{"$f":"(COUNTIF(CALENDRIER!E$1104:E$1468,CALENDRIER!$A$2))+((COUNTIF(CALENDRIER!E$1104:E$1468,CALENDRIER!$B$2))/2)","v":0},{"$f":"(COUNTIF(CALENDRIER!F$1104:F$1468,CALENDRIER!$A$2))+((COUNTIF(CALENDRIER!F$1104:F$1468,CALENDRIER!$B$2))/2)","v":0},{"$f":"(COUNTIF(CALENDRIER!G$1104:G$1468,CALENDRIER!$A$2))+((COUNTIF(CALENDRIER!G$1104:G$1468,CALENDRIER!$B$2))/2)","v":0},{"$f":"(COUNTIF(CALENDRIER!H$1104:H$1468,CALENDRIER!$A$2))+((COUNTIF(CALENDRIER!H$1104:H$1468,CALENDRIER!$B$2))/2)","v":0},{"$f":"(COUNTIF(CALENDRIER!I$1104:I$1468,CALENDRIER!$A$2))+((COUNTIF(CALENDRIER!I$1104:I$1468,CALENDRIER!$B$2))/2)","v":0},{"$f":"(COUNTIF(CALENDRIER!J$1104:J$1468,CALENDRIER!$A$2))+((COUNTIF(CALENDRIER!J$1104:J$1468,CALENDRIER!$B$2))/2)","v":0},{"$f":"(COUNTIF(CALENDRIER!K$1104:K$1468,CALENDRIER!$A$2))+((COUNTIF(CALENDRIER!K$1104:K$1468,CALENDRIER!$B$2))/2)","v":0},{"$f":"(COUNTIF(CALENDRIER!L$1104:L$1468,CALENDRIER!$A$2))+((COUNTIF(CALENDRIER!L$1104:L$1468,CALENDRIER!$B$2))/2)","v":0},{"$f":"(COUNTIF(CALENDRIER!M$1104:M$1468,CALENDRIER!$A$2))+((COUNTIF(CALENDRIER!M$1104:M$1468,CALENDRIER!$B$2))/2)","v":0},{"$f":"(COUNTIF(CALENDRIER!N$1104:N$1468,CALENDRIER!$A$2))+((COUNTIF(CALENDRIER!N$1104:N$1468,CALENDRIER!$B$2))/2)","v":0},{"$f":"(COUNTIF(CALENDRIER!O$1104:O$1468,CALENDRIER!$A$2))+((COUNTIF(CALENDRIER!O$1104:O$1468,CALENDRIER!$B$2))/2)","v":0},{"$f":"(COUNTIF(CALENDRIER!P$1104:P$1468,CALENDRIER!$A$2))+((COUNTIF(CALENDRIER!P$1104:P$1468,CALENDRIER!$B$2))/2)","v":0},{"$f":"(COUNTIF(CALENDRIER!Q$1104:Q$1468,CALENDRIER!$A$2))+((COUNTIF(CALENDRIER!Q$1104:Q$1468,CALENDRIER!$B$2))/2)","v":0},{"$f":"(COUNTIF(CALENDRIER!R$1104:R$1468,CALENDRIER!$A$2))+((COUNTIF(CALENDRIER!R$1104:R$1468,CALENDRIER!$B$2))/2)","v":0},{"$f":"(COUNTIF(CALENDRIER!S$1104:S$1468,CALENDRIER!$A$2))+((COUNTIF(CALENDRIER!S$1104:S$1468,CALENDRIER!$B$2))/2)","v":0},{"$f":"(COUNTIF(CALENDRIER!T$1104:T$1468,CALENDRIER!$A$2))+((COUNTIF(CALENDRIER!T$1104:T$1468,CALENDRIER!$B$2))/2)","v":0},{"$f":"(COUNTIF(CALENDRIER!U$1104:U$1468,CALENDRIER!$A$2))+((COUNTIF(CALENDRIER!U$1104:U$1468,CALENDRIER!$B$2))/2)","v":0},{"$f":"(COUNTIF(CALENDRIER!V$1104:V$1468,CALENDRIER!$A$2))+((COUNTIF(CALENDRIER!V$1104:V$1468,CALENDRIER!$B$2))/2)","v":0},{"$f":"(COUNTIF(CALENDRIER!W$1104:W$1468,CALENDRIER!$A$2))+((COUNTIF(CALENDRIER!W$1104:W$1468,CALENDRIER!$B$2))/2)","v":0},{"$f":"(COUNTIF(CALENDRIER!X$1104:X$1468,CALENDRIER!$A$2))+((COUNTIF(CALENDRIER!X$1104:X$1468,CALENDRIER!$B$2))/2)","v":0},{"$f":"(COUNTIF(CALENDRIER!Y$1104:Y$1468,CALENDRIER!$A$2))+((COUNTIF(CALENDRIER!Y$1104:Y$1468,CALENDRIER!$B$2))/2)","v":0},{"$f":"(COUNTIF(CALENDRIER!Z$1104:Z$1468,CALENDRIER!$A$2))+((COUNTIF(CALENDRIER!Z$1104:Z$1468,CALENDRIER!$B$2))/2)","v":0},{"$f":"(COUNTIF(CALENDRIER!AA$1104:AA$1468,CALENDRIER!$A$2))+((COUNTIF(CALENDRIER!AA$1104:AA$1468,CALENDRIER!$B$2))/2)","v":0},{"$f":"(COUNTIF(CALENDRIER!AB$1104:AB$1468,CALENDRIER!$A$2))+((COUNTIF(CALENDRIER!AB$1104:AB$1468,CALENDRIER!$B$2))/2)","v":0},{"$f":"(COUNTIF(CALENDRIER!AC$1104:AC$1468,CALENDRIER!$A$2))+((COUNTIF(CALENDRIER!AC$1104:AC$1468,CALENDRIER!$B$2))/2)","v":0},{"$f":"(COUNTIF(CALENDRIER!AD$1104:AD$1468,CALENDRIER!$A$2))+((COUNTIF(CALENDRIER!AD$1104:AD$1468,CALENDRIER!$B$2))/2)","v":0},{"$f":"(COUNTIF(CALENDRIER!AE$1104:AE$1468,CALENDRIER!$A$2))+((COUNTIF(CALENDRIER!AE$1104:AE$1468,CALENDRIER!$B$2))/2)","v":0},{"$f":"(COUNTIF(CALENDRIER!AF$1104:AF$1468,CALENDRIER!$A$2))+((COUNTIF(CALENDRIER!AF$1104:AF$1468,CALENDRIER!$B$2))/2)","v":0},{"$f":"(COUNTIF(CALENDRIER!AG$1104:AG$1468,CALENDRIER!$A$2))+((COUNTIF(CALENDRIER!AG$1104:AG$1468,CALENDRIER!$B$2))/2)","v":0},{"$f":"(COUNTIF(CALENDRIER!AH$1104:AH$1468,CALENDRIER!$A$2))+((COUNTIF(CALENDRIER!AH$1104:AH$1468,CALENDRIER!$B$2))/2)","v":0},{"$f":"(COUNTIF(CALENDRIER!AI$1104:AI$1468,CALENDRIER!$A$2))+((COUNTIF(CALENDRIER!AI$1104:AI$1468,CALENDRIER!$B$2))/2)","v":0},{"$f":"(COUNTIF(CALENDRIER!AJ$1104:AJ$1468,CALENDRIER!$A$2))+((COUNTIF(CALENDRIER!AJ$1104:AJ$1468,CALENDRIER!$B$2))/2)","v":0},{"$f":"(COUNTIF(CALENDRIER!AK$1104:AK$1468,CALENDRIER!$A$2))+((COUNTIF(CALENDRIER!AK$1104:AK$1468,CALENDRIER!$B$2))/2)","v":0},{"$f":"(COUNTIF(CALENDRIER!AL$1104:AL$1468,CALENDRIER!$A$2))+((COUNTIF(CALENDRIER!AL$1104:AL$1468,CALENDRIER!$B$2))/2)","v":0},{"$f":"(COUNTIF(CALENDRIER!AM$1104:AM$1468,CALENDRIER!$A$2))+((COUNTIF(CALENDRIER!AM$1104:AM$1468,CALENDRIER!$B$2))/2)","v":0},{"$f":"(COUNTIF(CALENDRIER!AN$1104:AN$1468,CALENDRIER!$A$2))+((COUNTIF(CALENDRIER!AN$1104:AN$1468,CALENDRIER!$B$2))/2)","v":0},{"$f":"(COUNTIF(CALENDRIER!AO$1104:AO$1468,CALENDRIER!$A$2))+((COUNTIF(CALENDRIER!AO$1104:AO$1468,CALENDRIER!$B$2))/2)","v":0},{"$f":"(COUNTIF(CALENDRIER!AP$1104:AP$1468,CALENDRIER!$A$2))+((COUNTIF(CALENDRIER!AP$1104:AP$1468,CALENDRIER!$B$2))/2)","v":0},{"$f":"(COUNTIF(CALENDRIER!AQ$1104:AQ$1468,CALENDRIER!$A$2))+((COUNTIF(CALENDRIER!AQ$1104:AQ$1468,CALENDRIER!$B$2))/2)","v":0},{"$f":"(COUNTIF(CALENDRIER!AR$1104:AR$1468,CALENDRIER!$A$2))+((COUNTIF(CALENDRIER!AR$1104:AR$1468,CALENDRIER!$B$2))/2)","v":0},{"$f":"(COUNTIF(CALENDRIER!AS$1104:AS$1468,CALENDRIER!$A$2))+((COUNTIF(CALENDRIER!AS$1104:AS$1468,CALENDRIER!$B$2))/2)","v":0},{"$f":"(COUNTIF(CALENDRIER!AT$1104:AT$1468,CALENDRIER!$A$2))+((COUNTIF(CALENDRIER!AT$1104:AT$1468,CALENDRIER!$B$2))/2)","v":0},{"$f":"(COUNTIF(CALENDRIER!AU$1104:AU$1468,CALENDRIER!$A$2))+((COUNTIF(CALENDRIER!AU$1104:AU$1468,CALENDRIER!$B$2))/2)","v":0},{"$f":"(COUNTIF(CALENDRIER!AV$1104:AV$1468,CALENDRIER!$A$2))+((COUNTIF(CALENDRIER!AV$1104:AV$1468,CALENDRIER!$B$2))/2)","v":0},{"$f":"(COUNTIF(CALENDRIER!AW$1104:AW$1468,CALENDRIER!$A$2))+((COUNTIF(CALENDRIER!AW$1104:AW$1468,CALENDRIER!$B$2))/2)","v":0},{"$f":"(COUNTIF(CALENDRIER!AX$1104:AX$1468,CALENDRIER!$A$2))+((COUNTIF(CALENDRIER!AX$1104:AX$1468,CALENDRIER!$B$2))/2)","v":0},{"$f":"(COUNTIF(CALENDRIER!AY$1104:AY$1468,CALENDRIER!$A$2))+((COUNTIF(CALENDRIER!AY$1104:AY$1468,CALENDRIER!$B$2))/2)","v":0},{"$f":"(COUNTIF(CALENDRIER!AZ$1104:AZ$1468,CALENDRIER!$A$2))+((COUNTIF(CALENDRIER!AZ$1104:AZ$1468,CALENDRIER!$B$2))/2)","v":0},{"$f":"(COUNTIF(CALENDRIER!BA$1104:BA$1468,CALENDRIER!$A$2))+((COUNTIF(CALENDRIER!BA$1104:BA$1468,CALENDRIER!$B$2))/2)","v":0},{"$f":"(COUNTIF(CALENDRIER!BB$1104:BB$1468,CALENDRIER!$A$2))+((COUNTIF(CALENDRIER!BB$1104:BB$1468,CALENDRIER!$B$2))/2)","v":0},{"$f":"(COUNTIF(CALENDRIER!BC$1104:BC$1468,CALENDRIER!$A$2))+((COUNTIF(CALENDRIER!BC$1104:BC$1468,CALENDRIER!$B$2))/2)","v":0},{"$f":"(COUNTIF(CALENDRIER!BD$1104:BD$1468,CALENDRIER!$A$2))+((COUNTIF(CALENDRIER!BD$1104:BD$1468,CALENDRIER!$B$2))/2)","v":0},{"$f":"(COUNTIF(CALENDRIER!BE$1104:BE$1468,CALENDRIER!$A$2))+((COUNTIF(CALENDRIER!BE$1104:BE$1468,CALENDRIER!$B$2))/2)","v":0},{"$f":"(COUNTIF(CALENDRIER!BF$1104:BF$1468,CALENDRIER!$A$2))+((COUNTIF(CALENDRIER!BF$1104:BF$1468,CALENDRIER!$B$2))/2)","v":0},{"$f":"(COUNTIF(CALENDRIER!BG$1104:BG$1468,CALENDRIER!$A$2))+((COUNTIF(CALENDRIER!BG$1104:BG$1468,CALENDRIER!$B$2))/2)","v":0},{"$f":"(COUNTIF(CALENDRIER!BH$1104:BH$1468,CALENDRIER!$A$2))+((COUNTIF(CALENDRIER!BH$1104:BH$1468,CALENDRIER!$B$2))/2)","v":0},{"$f":"(COUNTIF(CALENDRIER!BI$1104:BI$1468,CALENDRIER!$A$2))+((COUNTIF(CALENDRIER!BI$1104:BI$1468,CALENDRIER!$B$2))/2)","v":0},{"$f":"(COUNTIF(CALENDRIER!BJ$1104:BJ$1468,CALENDRIER!$A$2))+((COUNTIF(CALENDRIER!BJ$1104:BJ$1468,CALENDRIER!$B$2))/2)","v":0},{"$f":"(COUNTIF(CALENDRIER!BK$1104:BK$1468,CALENDRIER!$A$2))+((COUNTIF(CALENDRIER!BK$1104:BK$1468,CALENDRIER!$B$2))/2)","v":0},{"$f":"(COUNTIF(CALENDRIER!BL$1104:BL$1468,CALENDRIER!$A$2))+((COUNTIF(CALENDRIER!BL$1104:BL$1468,CALENDRIER!$B$2))/2)","v":0},{"$f":"(COUNTIF(CALENDRIER!BM$1104:BM$1468,CALENDRIER!$A$2))+((COUNTIF(CALENDRIER!BM$1104:BM$1468,CALENDRIER!$B$2))/2)","v":0},{"$f":"(COUNTIF(CALENDRIER!BN$1104:BN$1468,CALENDRIER!$A$2))+((COUNTIF(CALENDRIER!BN$1104:BN$1468,CALENDRIER!$B$2))/2)","v":0},{"$f":"(COUNTIF(CALENDRIER!BO$1104:BO$1468,CALENDRIER!$A$2))+((COUNTIF(CALENDRIER!BO$1104:BO$1468,CALENDRIER!$B$2))/2)","v":0},{"$f":"(COUNTIF(CALENDRIER!BP$1104:BP$1468,CALENDRIER!$A$2))+((COUNTIF(CALENDRIER!BP$1104:BP$1468,CALENDRIER!$B$2))/2)","v":0},{"$f":"(COUNTIF(CALENDRIER!BQ$1104:BQ$1468,CALENDRIER!$A$2))+((COUNTIF(CALENDRIER!BQ$1104:BQ$1468,CALENDRIER!$B$2))/2)","v":0},{"$f":"(COUNTIF(CALENDRIER!BR$1104:BR$1468,CALENDRIER!$A$2))+((COUNTIF(CALENDRIER!BR$1104:BR$1468,CALENDRIER!$B$2))/2)","v":0},{"$f":"(COUNTIF(CALENDRIER!BS$1104:BS$1468,CALENDRIER!$A$2))+((COUNTIF(CALENDRIER!BS$1104:BS$1468,CALENDRIER!$B$2))/2)","v":0},{"$f":"(COUNTIF(CALENDRIER!BT$1104:BT$1468,CALENDRIER!$A$2))+((COUNTIF(CALENDRIER!BT$1104:BT$1468,CALENDRIER!$B$2))/2)","v":0},{"$f":"(COUNTIF(CALENDRIER!BU$1104:BU$1468,CALENDRIER!$A$2))+((COUNTIF(CALENDRIER!BU$1104:BU$1468,CALENDRIER!$B$2))/2)","v":0},{"$f":"(COUNTIF(CALENDRIER!BV$1104:BV$1468,CALENDRIER!$A$2))+((COUNTIF(CALENDRIER!BV$1104:BV$1468,CALENDRIER!$B$2))/2)","v":0},{"$f":"(COUNTIF(CALENDRIER!BW$1104:BW$1468,CALENDRIER!$A$2))+((COUNTIF(CALENDRIER!BW$1104:BW$1468,CALENDRIER!$B$2))/2)","v":0},{"$f":"(COUNTIF(CALENDRIER!BX$1104:BX$1468,CALENDRIER!$A$2))+((COUNTIF(CALENDRIER!BX$1104:BX$1468,CALENDRIER!$B$2))/2)","v":0},{"$f":"(COUNTIF(CALENDRIER!BY$1104:BY$1468,CALENDRIER!$A$2))+((COUNTIF(CALENDRIER!BY$1104:BY$1468,CALENDRIER!$B$2))/2)","v":0},{"$f":"(COUNTIF(CALENDRIER!BZ$1104:BZ$1468,CALENDRIER!$A$2))+((COUNTIF(CALENDRIER!BZ$1104:BZ$1468,CALENDRIER!$B$2))/2)","v":0},{"$f":"(COUNTIF(CALENDRIER!CA$1104:CA$1468,CALENDRIER!$A$2))+((COUNTIF(CALENDRIER!CA$1104:CA$1468,CALENDRIER!$B$2))/2)","v":0},{"$f":"(COUNTIF(CALENDRIER!CB$1104:CB$1468,CALENDRIER!$A$2))+((COUNTIF(CALENDRIER!CB$1104:CB$1468,CALENDRIER!$B$2))/2)","v":0},{"$f":"(COUNTIF(CALENDRIER!CC$1104:CC$1468,CALENDRIER!$A$2))+((COUNTIF(CALENDRIER!CC$1104:CC$1468,CALENDRIER!$B$2))/2)","v":0},{"$f":"(COUNTIF(CALENDRIER!CD$1104:CD$1468,CALENDRIER!$A$2))+((COUNTIF(CALENDRIER!CD$1104:CD$1468,CALENDRIER!$B$2))/2)","v":0},{"$f":"(COUNTIF(CALENDRIER!CE$1104:CE$1468,CALENDRIER!$A$2))+((COUNTIF(CALENDRIER!CE$1104:CE$1468,CALENDRIER!$B$2))/2)","v":0},{"$f":"(COUNTIF(CALENDRIER!CF$1104:CF$1468,CALENDRIER!$A$2))+((COUNTIF(CALENDRIER!CF$1104:CF$1468,CALENDRIER!$B$2))/2)","v":0},{"$f":"(COUNTIF(CALENDRIER!CG$1104:CG$1468,CALENDRIER!$A$2))+((COUNTIF(CALENDRIER!CG$1104:CG$1468,CALENDRIER!$B$2))/2)","v":0},{"$f":"(COUNTIF(CALENDRIER!CH$1104:CH$1468,CALENDRIER!$A$2))+((COUNTIF(CALENDRIER!CH$1104:CH$1468,CALENDRIER!$B$2))/2)","v":0},{"$f":"(COUNTIF(CALENDRIER!CI$1104:CI$1468,CALENDRIER!$A$2))+((COUNTIF(CALENDRIER!CI$1104:CI$1468,CALENDRIER!$B$2))/2)","v":0},{"$f":"(COUNTIF(CALENDRIER!CJ$1104:CJ$1468,CALENDRIER!$A$2))+((COUNTIF(CALENDRIER!CJ$1104:CJ$1468,CALENDRIER!$B$2))/2)","v":0},{"$f":"(COUNTIF(CALENDRIER!CK$1104:CK$1468,CALENDRIER!$A$2))+((COUNTIF(CALENDRIER!CK$1104:CK$1468,CALENDRIER!$B$2))/2)","v":0},{"$f":"(COUNTIF(CALENDRIER!CL$1104:CL$1468,CALENDRIER!$A$2))+((COUNTIF(CALENDRIER!CL$1104:CL$1468,CALENDRIER!$B$2))/2)","v":0},{"$f":"(COUNTIF(CALENDRIER!CM$1104:CM$1468,CALENDRIER!$A$2))+((COUNTIF(CALENDRIER!CM$1104:CM$1468,CALENDRIER!$B$2))/2)","v":0},{"$f":"(COUNTIF(CALENDRIER!CN$1104:CN$1468,CALENDRIER!$A$2))+((COUNTIF(CALENDRIER!CN$1104:CN$1468,CALENDRIER!$B$2))/2)","v":0},{"$f":"(COUNTIF(CALENDRIER!CO$1104:CO$1468,CALENDRIER!$A$2))+((COUNTIF(CALENDRIER!CO$1104:CO$1468,CALENDRIER!$B$2))/2)","v":0},{"$f":"(COUNTIF(CALENDRIER!CP$1104:CP$1468,CALENDRIER!$A$2))+((COUNTIF(CALENDRIER!CP$1104:CP$1468,CALENDRIER!$B$2))/2)","v":0},{"$f":"(COUNTIF(CALENDRIER!CQ$1104:CQ$1468,CALENDRIER!$A$2))+((COUNTIF(CALENDRIER!CQ$1104:CQ$1468,CALENDRIER!$B$2))/2)","v":0},{"$f":"(COUNTIF(CALENDRIER!CR$1104:CR$1468,CALENDRIER!$A$2))+((COUNTIF(CALENDRIER!CR$1104:CR$1468,CALENDRIER!$B$2))/2)","v":0},{"$f":"(COUNTIF(CALENDRIER!CS$1104:CS$1468,CALENDRIER!$A$2))+((COUNTIF(CALENDRIER!CS$1104:CS$1468,CALENDRIER!$B$2))/2)","v":0},{"$f":"(COUNTIF(CALENDRIER!CT$1104:CT$1468,CALENDRIER!$A$2))+((COUNTIF(CALENDRIER!CT$1104:CT$1468,CALENDRIER!$B$2))/2)","v":0},{"$f":"(COUNTIF(CALENDRIER!CU$1104:CU$1468,CALENDRIER!$A$2))+((COUNTIF(CALENDRIER!CU$1104:CU$1468,CALENDRIER!$B$2))/2)","v":0},{"$f":"(COUNTIF(CALENDRIER!CV$1104:CV$1468,CALENDRIER!$A$2))+((COUNTIF(CALENDRIER!CV$1104:CV$1468,CALENDRIER!$B$2))/2)","v":0},{"$f":"(COUNTIF(CALENDRIER!CW$1104:CW$1468,CALENDRIER!$A$2))+((COUNTIF(CALENDRIER!CW$1104:CW$1468,CALENDRIER!$B$2))/2)","v":0},{"$f":"(COUNTIF(CALENDRIER!CX$1104:CX$1468,CALENDRIER!$A$2))+((COUNTIF(CALENDRIER!CX$1104:CX$1468,CALENDRIER!$B$2))/2)","v":0},{"$f":"(COUNTIF(CALENDRIER!CY$1104:CY$1468,CALENDRIER!$A$2))+((COUNTIF(CALENDRIER!CY$1104:CY$1468,CALENDRIER!$B$2))/2)","v":0},{"$f":"(COUNTIF(CALENDRIER!CZ$1104:CZ$1468,CALENDRIER!$A$2))+((COUNTIF(CALENDRIER!CZ$1104:CZ$1468,CALENDRIER!$B$2))/2)","v":0},{"$f":"(COUNTIF(CALENDRIER!DA$1104:DA$1468,CALENDRIER!$A$2))+((COUNTIF(CALENDRIER!DA$1104:DA$1468,CALENDRIER!$B$2))/2)","v":0},{"$f":"(COUNTIF(CALENDRIER!DB$1104:DB$1468,CALENDRIER!$A$2))+((COUNTIF(CALENDRIER!DB$1104:DB$1468,CALENDRIER!$B$2))/2)","v":0},{"$f":"(COUNTIF(CALENDRIER!DC$1104:DC$1468,CALENDRIER!$A$2))+((COUNTIF(CALENDRIER!DC$1104:DC$1468,CALENDRIER!$B$2))/2)","v":0},{"$f":"(COUNTIF(CALENDRIER!DD$1104:DD$1468,CALENDRIER!$A$2))+((COUNTIF(CALENDRIER!DD$1104:DD$1468,CALENDRIER!$B$2))/2)","v":0},{"$f":"(COUNTIF(CALENDRIER!DE$1104:DE$1468,CALENDRIER!$A$2))+((COUNTIF(CALENDRIER!DE$1104:DE$1468,CALENDRIER!$B$2))/2)","v":0},{"$f":"(COUNTIF(CALENDRIER!DF$1104:DF$1468,CALENDRIER!$A$2))+((COUNTIF(CALENDRIER!DF$1104:DF$1468,CALENDRIER!$B$2))/2)","v":0},{"$f":"(COUNTIF(CALENDRIER!DG$1104:DG$1468,CALENDRIER!$A$2))+((COUNTIF(CALENDRIER!DG$1104:DG$1468,CALENDRIER!$B$2))/2)","v":0},{"$f":"(COUNTIF(CALENDRIER!DH$1104:DH$1468,CALENDRIER!$A$2))+((COUNTIF(CALENDRIER!DH$1104:DH$1468,CALENDRIER!$B$2))/2)","v":0},{"$f":"(COUNTIF(CALENDRIER!DI$1104:DI$1468,CALENDRIER!$A$2))+((COUNTIF(CALENDRIER!DI$1104:DI$1468,CALENDRIER!$B$2))/2)","v":0},{"$f":"(COUNTIF(CALENDRIER!DJ$1104:DJ$1468,CALENDRIER!$A$2))+((COUNTIF(CALENDRIER!DJ$1104:DJ$1468,CALENDRIER!$B$2))/2)","v":0},{"$f":"(COUNTIF(CALENDRIER!DK$1104:DK$1468,CALENDRIER!$A$2))+((COUNTIF(CALENDRIER!DK$1104:DK$1468,CALENDRIER!$B$2))/2)","v":0},{"$f":"(COUNTIF(CALENDRIER!DL$1104:DL$1468,CALENDRIER!$A$2))+((COUNTIF(CALENDRIER!DL$1104:DL$1468,CALENDRIER!$B$2))/2)","v":0},{"$f":"(COUNTIF(CALENDRIER!DM$1104:DM$1468,CALENDRIER!$A$2))+((COUNTIF(CALENDRIER!DM$1104:DM$1468,CALENDRIER!$B$2))/2)","v":0},{"$f":"(COUNTIF(CALENDRIER!DN$1104:DN$1468,CALENDRIER!$A$2))+((COUNTIF(CALENDRIER!DN$1104:DN$1468,CALENDRIER!$B$2))/2)","v":0},{"$f":"(COUNTIF(CALENDRIER!DO$1104:DO$1468,CALENDRIER!$A$2))+((COUNTIF(CALENDRIER!DO$1104:DO$1468,CALENDRIER!$B$2))/2)","v":0},{"$f":"(COUNTIF(CALENDRIER!DP$1104:DP$1468,CALENDRIER!$A$2))+((COUNTIF(CALENDRIER!DP$1104:DP$1468,CALENDRIER!$B$2))/2)","v":0},{"$f":"(COUNTIF(CALENDRIER!DQ$1104:DQ$1468,CALENDRIER!$A$2))+((COUNTIF(CALENDRIER!DQ$1104:DQ$1468,CALENDRIER!$B$2))/2)","v":0},{"$f":"(COUNTIF(CALENDRIER!DR$1104:DR$1468,CALENDRIER!$A$2))+((COUNTIF(CALENDRIER!DR$1104:DR$1468,CALENDRIER!$B$2))/2)","v":0},{"$f":"(COUNTIF(CALENDRIER!DS$1104:DS$1468,CALENDRIER!$A$2))+((COUNTIF(CALENDRIER!DS$1104:DS$1468,CALENDRIER!$B$2))/2)","v":0},{"$f":"(COUNTIF(CALENDRIER!DT$1104:DT$1468,CALENDRIER!$A$2))+((COUNTIF(CALENDRIER!DT$1104:DT$1468,CALENDRIER!$B$2))/2)","v":0},{"$f":"(COUNTIF(CALENDRIER!DU$1104:DU$1468,CALENDRIER!$A$2))+((COUNTIF(CALENDRIER!DU$1104:DU$1468,CALENDRIER!$B$2))/2)","v":0},{"$f":"(COUNTIF(CALENDRIER!DV$1104:DV$1468,CALENDRIER!$A$2))+((COUNTIF(CALENDRIER!DV$1104:DV$1468,CALENDRIER!$B$2))/2)","v":0},{"$f":"(COUNTIF(CALENDRIER!DW$1104:DW$1468,CALENDRIER!$A$2))+((COUNTIF(CALENDRIER!DW$1104:DW$1468,CALENDRIER!$B$2))/2)","v":0},{"$f":"(COUNTIF(CALENDRIER!DX$1104:DX$1468,CALENDRIER!$A$2))+((COUNTIF(CALENDRIER!DX$1104:DX$1468,CALENDRIER!$B$2))/2)","v":0},{"$f":"(COUNTIF(CALENDRIER!DY$1104:DY$1468,CALENDRIER!$A$2))+((COUNTIF(CALENDRIER!DY$1104:DY$1468,CALENDRIER!$B$2))/2)","v":0},{"$f":"(COUNTIF(CALENDRIER!DZ$1104:DZ$1468,CALENDRIER!$A$2))+((COUNTIF(CALENDRIER!DZ$1104:DZ$1468,CALENDRIER!$B$2))/2)","v":0},{"$f":"(COUNTIF(CALENDRIER!EA$1104:EA$1468,CALENDRIER!$A$2))+((COUNTIF(CALENDRIER!EA$1104:EA$1468,CALENDRIER!$B$2))/2)","v":0},{"$f":"(COUNTIF(CALENDRIER!EB$1104:EB$1468,CALENDRIER!$A$2))+((COUNTIF(CALENDRIER!EB$1104:EB$1468,CALENDRIER!$B$2))/2)","v":0},{"$f":"(COUNTIF(CALENDRIER!EC$1104:EC$1468,CALENDRIER!$A$2))+((COUNTIF(CALENDRIER!EC$1104:EC$1468,CALENDRIER!$B$2))/2)","v":0},{"$f":"(COUNTIF(CALENDRIER!ED$1104:ED$1468,CALENDRIER!$A$2))+((COUNTIF(CALENDRIER!ED$1104:ED$1468,CALENDRIER!$B$2))/2)","v":0},{"$f":"(COUNTIF(CALENDRIER!EE$1104:EE$1468,CALENDRIER!$A$2))+((COUNTIF(CALENDRIER!EE$1104:EE$1468,CALENDRIER!$B$2))/2)","v":0},{"$f":"(COUNTIF(CALENDRIER!EF$1104:EF$1468,CALENDRIER!$A$2))+((COUNTIF(CALENDRIER!EF$1104:EF$1468,CALENDRIER!$B$2))/2)","v":0},{"$f":"(COUNTIF(CALENDRIER!EG$1104:EG$1468,CALENDRIER!$A$2))+((COUNTIF(CALENDRIER!EG$1104:EG$1468,CALENDRIER!$B$2))/2)","v":0},{"$f":"(COUNTIF(CALENDRIER!EH$1104:EH$1468,CALENDRIER!$A$2))+((COUNTIF(CALENDRIER!EH$1104:EH$1468,CALENDRIER!$B$2))/2)","v":0},{"$f":"(COUNTIF(CALENDRIER!EI$1104:EI$1468,CALENDRIER!$A$2))+((COUNTIF(CALENDRIER!EI$1104:EI$1468,CALENDRIER!$B$2))/2)","v":0},{"$f":"(COUNTIF(CALENDRIER!EJ$1104:EJ$1468,CALENDRIER!$A$2))+((COUNTIF(CALENDRIER!EJ$1104:EJ$1468,CALENDRIER!$B$2))/2)","v":0},{"$f":"(COUNTIF(CALENDRIER!EK$1104:EK$1468,CALENDRIER!$A$2))+((COUNTIF(CALENDRIER!EK$1104:EK$1468,CALENDRIER!$B$2))/2)","v":0},{"$f":"(COUNTIF(CALENDRIER!EL$1104:EL$1468,CALENDRIER!$A$2))+((COUNTIF(CALENDRIER!EL$1104:EL$1468,CALENDRIER!$B$2))/2)","v":0},{"$f":"(COUNTIF(CALENDRIER!EM$1104:EM$1468,CALENDRIER!$A$2))+((COUNTIF(CALENDRIER!EM$1104:EM$1468,CALENDRIER!$B$2))/2)","v":0},{"$f":"(COUNTIF(CALENDRIER!EN$1104:EN$1468,CALENDRIER!$A$2))+((COUNTIF(CALENDRIER!EN$1104:EN$1468,CALENDRIER!$B$2))/2)","v":0},{"$f":"(COUNTIF(CALENDRIER!EO$1104:EO$1468,CALENDRIER!$A$2))+((COUNTIF(CALENDRIER!EO$1104:EO$1468,CALENDRIER!$B$2))/2)","v":0},{"$f":"(COUNTIF(CALENDRIER!EP$1104:EP$1468,CALENDRIER!$A$2))+((COUNTIF(CALENDRIER!EP$1104:EP$1468,CALENDRIER!$B$2))/2)","v":0},{"$f":"(COUNTIF(CALENDRIER!EQ$1104:EQ$1468,CALENDRIER!$A$2))+((COUNTIF(CALENDRIER!EQ$1104:EQ$1468,CALENDRIER!$B$2))/2)","v":0},{"$f":"(COUNTIF(CALENDRIER!ER$1104:ER$1468,CALENDRIER!$A$2))+((COUNTIF(CALENDRIER!ER$1104:ER$1468,CALENDRIER!$B$2))/2)","v":0},{"$f":"(COUNTIF(CALENDRIER!ES$1104:ES$1468,CALENDRIER!$A$2))+((COUNTIF(CALENDRIER!ES$1104:ES$1468,CALENDRIER!$B$2))/2)","v":0},{"$f":"(COUNTIF(CALENDRIER!ET$1104:ET$1468,CALENDRIER!$A$2))+((COUNTIF(CALENDRIER!ET$1104:ET$1468,CALENDRIER!$B$2))/2)","v":0},{"$f":"(COUNTIF(CALENDRIER!EU$1104:EU$1468,CALENDRIER!$A$2))+((COUNTIF(CALENDRIER!EU$1104:EU$1468,CALENDRIER!$B$2))/2)","v":0},{"$f":"(COUNTIF(CALENDRIER!EV$1104:EV$1468,CALENDRIER!$A$2))+((COUNTIF(CALENDRIER!EV$1104:EV$1468,CALENDRIER!$B$2))/2)","v":0},{"$f":"(COUNTIF(CALENDRIER!EW$1104:EW$1468,CALENDRIER!$A$2))+((COUNTIF(CALENDRIER!EW$1104:EW$1468,CALENDRIER!$B$2))/2)","v":0},{"$f":"(COUNTIF(CALENDRIER!EX$1104:EX$1468,CALENDRIER!$A$2))+((COUNTIF(CALENDRIER!EX$1104:EX$1468,CALENDRIER!$B$2))/2)","v":0},{"$f":"(COUNTIF(CALENDRIER!EY$1104:EY$1468,CALENDRIER!$A$2))+((COUNTIF(CALENDRIER!EY$1104:EY$1468,CALENDRIER!$B$2))/2)","v":0},{"$f":"(COUNTIF(CALENDRIER!EZ$1104:EZ$1468,CALENDRIER!$A$2))+((COUNTIF(CALENDRIER!EZ$1104:EZ$1468,CALENDRIER!$B$2))/2)","v":0},{"$f":"(COUNTIF(CALENDRIER!FA$1104:FA$1468,CALENDRIER!$A$2))+((COUNTIF(CALENDRIER!FA$1104:FA$1468,CALENDRIER!$B$2))/2)","v":0},{"$f":"(COUNTIF(CALENDRIER!FB$1104:FB$1468,CALENDRIER!$A$2))+((COUNTIF(CALENDRIER!FB$1104:FB$1468,CALENDRIER!$B$2))/2)","v":0},{"$f":"(COUNTIF(CALENDRIER!FC$1104:FC$1468,CALENDRIER!$A$2))+((COUNTIF(CALENDRIER!FC$1104:FC$1468,CALENDRIER!$B$2))/2)","v":0},{"$f":"(COUNTIF(CALENDRIER!FD$1104:FD$1468,CALENDRIER!$A$2))+((COUNTIF(CALENDRIER!FD$1104:FD$1468,CALENDRIER!$B$2))/2)","v":0},{"$f":"(COUNTIF(CALENDRIER!FE$1104:FE$1468,CALENDRIER!$A$2))+((COUNTIF(CALENDRIER!FE$1104:FE$1468,CALENDRIER!$B$2))/2)","v":0},{"$f":"(COUNTIF(CALENDRIER!FF$1104:FF$1468,CALENDRIER!$A$2))+((COUNTIF(CALENDRIER!FF$1104:FF$1468,CALENDRIER!$B$2))/2)","v":0},{"$f":"(COUNTIF(CALENDRIER!FG$1104:FG$1468,CALENDRIER!$A$2))+((COUNTIF(CALENDRIER!FG$1104:FG$1468,CALENDRIER!$B$2))/2)","v":0},{"$f":"(COUNTIF(CALENDRIER!FH$1104:FH$1468,CALENDRIER!$A$2))+((COUNTIF(CALENDRIER!FH$1104:FH$1468,CALENDRIER!$B$2))/2)","v":0},{"$f":"(COUNTIF(CALENDRIER!FI$1104:FI$1468,CALENDRIER!$A$2))+((COUNTIF(CALENDRIER!FI$1104:FI$1468,CALENDRIER!$B$2))/2)","v":0},{"$f":"(COUNTIF(CALENDRIER!FJ$1104:FJ$1468,CALENDRIER!$A$2))+((COUNTIF(CALENDRIER!FJ$1104:FJ$1468,CALENDRIER!$B$2))/2)","v":0},{"$f":"(COUNTIF(CALENDRIER!FK$1104:FK$1468,CALENDRIER!$A$2))+((COUNTIF(CALENDRIER!FK$1104:FK$1468,CALENDRIER!$B$2))/2)","v":0},{"$f":"(COUNTIF(CALENDRIER!FL$1104:FL$1468,CALENDRIER!$A$2))+((COUNTIF(CALENDRIER!FL$1104:FL$1468,CALENDRIER!$B$2))/2)","v":0},{"$f":"(COUNTIF(CALENDRIER!FM$1104:FM$1468,CALENDRIER!$A$2))+((COUNTIF(CALENDRIER!FM$1104:FM$1468,CALENDRIER!$B$2))/2)","v":0},{"$f":"(COUNTIF(CALENDRIER!FN$1104:FN$1468,CALENDRIER!$A$2))+((COUNTIF(CALENDRIER!FN$1104:FN$1468,CALENDRIER!$B$2))/2)","v":0},{"$f":"(COUNTIF(CALENDRIER!FO$1104:FO$1468,CALENDRIER!$A$2))+((COUNTIF(CALENDRIER!FO$1104:FO$1468,CALENDRIER!$B$2))/2)","v":0},{"$f":"(COUNTIF(CALENDRIER!FP$1104:FP$1468,CALENDRIER!$A$2))+((COUNTIF(CALENDRIER!FP$1104:FP$1468,CALENDRIER!$B$2))/2)","v":0},{"$f":"(COUNTIF(CALENDRIER!FQ$1104:FQ$1468,CALENDRIER!$A$2))+((COUNTIF(CALENDRIER!FQ$1104:FQ$1468,CALENDRIER!$B$2))/2)","v":0},{"$f":"(COUNTIF(CALENDRIER!FR$1104:FR$1468,CALENDRIER!$A$2))+((COUNTIF(CALENDRIER!FR$1104:FR$1468,CALENDRIER!$B$2))/2)","v":0},{"$f":"(COUNTIF(CALENDRIER!FS$1104:FS$1468,CALENDRIER!$A$2))+((COUNTIF(CALENDRIER!FS$1104:FS$1468,CALENDRIER!$B$2))/2)","v":0},{"$f":"(COUNTIF(CALENDRIER!FT$1104:FT$1468,CALENDRIER!$A$2))+((COUNTIF(CALENDRIER!FT$1104:FT$1468,CALENDRIER!$B$2))/2)","v":0},{"$f":"(COUNTIF(CALENDRIER!FU$1104:FU$1468,CALENDRIER!$A$2))+((COUNTIF(CALENDRIER!FU$1104:FU$1468,CALENDRIER!$B$2))/2)","v":0},{"$f":"(COUNTIF(CALENDRIER!FV$1104:FV$1468,CALENDRIER!$A$2))+((COUNTIF(CALENDRIER!FV$1104:FV$1468,CALENDRIER!$B$2))/2)","v":0},{"$f":"(COUNTIF(CALENDRIER!FW$1104:FW$1468,CALENDRIER!$A$2))+((COUNTIF(CALENDRIER!FW$1104:FW$1468,CALENDRIER!$B$2))/2)","v":0},{"$f":"(COUNTIF(CALENDRIER!FX$1104:FX$1468,CALENDRIER!$A$2))+((COUNTIF(CALENDRIER!FX$1104:FX$1468,CALENDRIER!$B$2))/2)","v":0},{"$f":"(COUNTIF(CALENDRIER!FY$1104:FY$1468,CALENDRIER!$A$2))+((COUNTIF(CALENDRIER!FY$1104:FY$1468,CALENDRIER!$B$2))/2)","v":0},{"$f":"(COUNTIF(CALENDRIER!FZ$1104:FZ$1468,CALENDRIER!$A$2))+((COUNTIF(CALENDRIER!FZ$1104:FZ$1468,CALENDRIER!$B$2))/2)","v":0},{"$f":"(COUNTIF(CALENDRIER!GA$1104:GA$1468,CALENDRIER!$A$2))+((COUNTIF(CALENDRIER!GA$1104:GA$1468,CALENDRIER!$B$2))/2)","v":0},{"$f":"(COUNTIF(CALENDRIER!GB$1104:GB$1468,CALENDRIER!$A$2))+((COUNTIF(CALENDRIER!GB$1104:GB$1468,CALENDRIER!$B$2))/2)","v":0},{"$f":"(COUNTIF(CALENDRIER!GC$1104:GC$1468,CALENDRIER!$A$2))+((COUNTIF(CALENDRIER!GC$1104:GC$1468,CALENDRIER!$B$2))/2)","v":0},{"$f":"(COUNTIF(CALENDRIER!GD$1104:GD$1468,CALENDRIER!$A$2))+((COUNTIF(CALENDRIER!GD$1104:GD$1468,CALENDRIER!$B$2))/2)","v":0},{"$f":"(COUNTIF(CALENDRIER!GE$1104:GE$1468,CALENDRIER!$A$2))+((COUNTIF(CALENDRIER!GE$1104:GE$1468,CALENDRIER!$B$2))/2)","v":0},{"$f":"(COUNTIF(CALENDRIER!GF$1104:GF$1468,CALENDRIER!$A$2))+((COUNTIF(CALENDRIER!GF$1104:GF$1468,CALENDRIER!$B$2))/2)","v":0},{"$f":"(COUNTIF(CALENDRIER!GG$1104:GG$1468,CALENDRIER!$A$2))+((COUNTIF(CALENDRIER!GG$1104:GG$1468,CALENDRIER!$B$2))/2)","v":0},{"$f":"(COUNTIF(CALENDRIER!GH$1104:GH$1468,CALENDRIER!$A$2))+((COUNTIF(CALENDRIER!GH$1104:GH$1468,CALENDRIER!$B$2))/2)","v":0},{"$f":"(COUNTIF(CALENDRIER!GI$1104:GI$1468,CALENDRIER!$A$2))+((COUNTIF(CALENDRIER!GI$1104:GI$1468,CALENDRIER!$B$2))/2)","v":0},{"$f":"(COUNTIF(CALENDRIER!GJ$1104:GJ$1468,CALENDRIER!$A$2))+((COUNTIF(CALENDRIER!GJ$1104:GJ$1468,CALENDRIER!$B$2))/2)","v":0},{"$f":"(COUNTIF(CALENDRIER!GK$1104:GK$1468,CALENDRIER!$A$2))+((COUNTIF(CALENDRIER!GK$1104:GK$1468,CALENDRIER!$B$2))/2)","v":0},{"$f":"(COUNTIF(CALENDRIER!GL$1104:GL$1468,CALENDRIER!$A$2))+((COUNTIF(CALENDRIER!GL$1104:GL$1468,CALENDRIER!$B$2))/2)","v":0},{"$f":"(COUNTIF(CALENDRIER!GM$1104:GM$1468,CALENDRIER!$A$2))+((COUNTIF(CALENDRIER!GM$1104:GM$1468,CALENDRIER!$B$2))/2)","v":0},{"$f":"(COUNTIF(CALENDRIER!GN$1104:GN$1468,CALENDRIER!$A$2))+((COUNTIF(CALENDRIER!GN$1104:GN$1468,CALENDRIER!$B$2))/2)","v":0},{"$f":"(COUNTIF(CALENDRIER!GO$1104:GO$1468,CALENDRIER!$A$2))+((COUNTIF(CALENDRIER!GO$1104:GO$1468,CALENDRIER!$B$2))/2)","v":0},{"$f":"(COUNTIF(CALENDRIER!GP$1104:GP$1468,CALENDRIER!$A$2))+((COUNTIF(CALENDRIER!GP$1104:GP$1468,CALENDRIER!$B$2))/2)","v":0},{"$f":"(COUNTIF(CALENDRIER!GQ$1104:GQ$1468,CALENDRIER!$A$2))+((COUNTIF(CALENDRIER!GQ$1104:GQ$1468,CALENDRIER!$B$2))/2)","v":0},{"$f":"(COUNTIF(CALENDRIER!GR$1104:GR$1468,CALENDRIER!$A$2))+((COUNTIF(CALENDRIER!GR$1104:GR$1468,CALENDRIER!$B$2))/2)","v":0}]
[null,{"$f":"\"Solde \"&CALENDRIER!$A$2&\" \"&A79&\" : \"","v":"Solde CP Anc 2018-2019 : "},{"$f":"C80-C81","v":0},{"$f":"D80-D81","v":0},0,0,0,0,0,0,0,0,0,0,0,0,0,0,0,0,0,0,0,0,0,0,0,0,0,0,0,0,0,0,0,0,0,0,0,0,0,0,0,0,0,0,0,0,0,0,0,0,0,0,0,0,0,0,0,0,0,0,0,0,0,0,0,{"$f":"BP80-BP81","v":0},0,0,0,0,0,0,0,0,0,0,0,0,0,0,0,0,0,0,0,0,0,0,0,0,0,0,0,0,0,0,0,0,0,0,0,0,0,0,0,0,0,0,0,0,0,0,0,0,0,0,0,0,0,0,0,0,0,0,0,0,0,0,0,{"$f":"EB80-EB81","v":0},0,0,0,0,0,0,0,0,0,0,0,0,0,0,0,0,0,0,0,0,0,0,0,0,0,0,0,0,0,0,0,0,0,0,0,0,0,0,0,0,0,0,0,0,0,0,0,0,0,0,0,0,0,0,0,0,0,0,0,0,0,0,0,{"$f":"GN80-GN81","v":0},0,0,0,0]
[]
["2019-2020",{"$f":"CALENDRIER!$A$2","v":"CP Anc"}]
[null,"SOLDE DEPART"]
[null,{"$f":"CALENDRIER!$A$2&\" PRIS\"","v":"CP Anc PRIS"},{"$f":"(COUNTIF(CALENDRIER!C$1469:C$1834,CALENDRIER!$A$2))+((COUNTIF(CALENDRIER!C$1469:C$1834,CALENDRIER!$B$2))/2)","v":0},{"$f":"(COUNTIF(CALENDRIER!D$1469:D$1834,CALENDRIER!$A$2))+((COUNTIF(CALENDRIER!D$1469:D$1834,CALENDRIER!$B$2))/2)","v":0},{"$f":"(COUNTIF(CALENDRIER!E$1469:E$1834,CALENDRIER!$A$2))+((COUNTIF(CALENDRIER!E$1469:E$1834,CALENDRIER!$B$2))/2)","v":0},{"$f":"(COUNTIF(CALENDRIER!F$1469:F$1834,CALENDRIER!$A$2))+((COUNTIF(CALENDRIER!F$1469:F$1834,CALENDRIER!$B$2))/2)","v":0},{"$f":"(COUNTIF(CALENDRIER!G$1469:G$1834,CALENDRIER!$A$2))+((COUNTIF(CALENDRIER!G$1469:G$1834,CALENDRIER!$B$2))/2)","v":0},{"$f":"(COUNTIF(CALENDRIER!H$1469:H$1834,CALENDRIER!$A$2))+((COUNTIF(CALENDRIER!H$1469:H$1834,CALENDRIER!$B$2))/2)","v":0},{"$f":"(COUNTIF(CALENDRIER!I$1469:I$1834,CALENDRIER!$A$2))+((COUNTIF(CALENDRIER!I$1469:I$1834,CALENDRIER!$B$2))/2)","v":0},{"$f":"(COUNTIF(CALENDRIER!J$1469:J$1834,CALENDRIER!$A$2))+((COUNTIF(CALENDRIER!J$1469:J$1834,CALENDRIER!$B$2))/2)","v":0},{"$f":"(COUNTIF(CALENDRIER!K$1469:K$1834,CALENDRIER!$A$2))+((COUNTIF(CALENDRIER!K$1469:K$1834,CALENDRIER!$B$2))/2)","v":0},{"$f":"(COUNTIF(CALENDRIER!L$1469:L$1834,CALENDRIER!$A$2))+((COUNTIF(CALENDRIER!L$1469:L$1834,CALENDRIER!$B$2))/2)","v":0},{"$f":"(COUNTIF(CALENDRIER!M$1469:M$1834,CALENDRIER!$A$2))+((COUNTIF(CALENDRIER!M$1469:M$1834,CALENDRIER!$B$2))/2)","v":0},{"$f":"(COUNTIF(CALENDRIER!N$1469:N$1834,CALENDRIER!$A$2))+((COUNTIF(CALENDRIER!N$1469:N$1834,CALENDRIER!$B$2))/2)","v":0},{"$f":"(COUNTIF(CALENDRIER!O$1469:O$1834,CALENDRIER!$A$2))+((COUNTIF(CALENDRIER!O$1469:O$1834,CALENDRIER!$B$2))/2)","v":0},{"$f":"(COUNTIF(CALENDRIER!P$1469:P$1834,CALENDRIER!$A$2))+((COUNTIF(CALENDRIER!P$1469:P$1834,CALENDRIER!$B$2))/2)","v":0},{"$f":"(COUNTIF(CALENDRIER!Q$1469:Q$1834,CALENDRIER!$A$2))+((COUNTIF(CALENDRIER!Q$1469:Q$1834,CALENDRIER!$B$2))/2)","v":0},{"$f":"(COUNTIF(CALENDRIER!R$1469:R$1834,CALENDRIER!$A$2))+((COUNTIF(CALENDRIER!R$1469:R$1834,CALENDRIER!$B$2))/2)","v":0},{"$f":"(COUNTIF(CALENDRIER!S$1469:S$1834,CALENDRIER!$A$2))+((COUNTIF(CALENDRIER!S$1469:S$1834,CALENDRIER!$B$2))/2)","v":0},{"$f":"(COUNTIF(CALENDRIER!T$1469:T$1834,CALENDRIER!$A$2))+((COUNTIF(CALENDRIER!T$1469:T$1834,CALENDRIER!$B$2))/2)","v":0},{"$f":"(COUNTIF(CALENDRIER!U$1469:U$1834,CALENDRIER!$A$2))+((COUNTIF(CALENDRIER!U$1469:U$1834,CALENDRIER!$B$2))/2)","v":0},{"$f":"(COUNTIF(CALENDRIER!V$1469:V$1834,CALENDRIER!$A$2))+((COUNTIF(CALENDRIER!V$1469:V$1834,CALENDRIER!$B$2))/2)","v":0},{"$f":"(COUNTIF(CALENDRIER!W$1469:W$1834,CALENDRIER!$A$2))+((COUNTIF(CALENDRIER!W$1469:W$1834,CALENDRIER!$B$2))/2)","v":0},{"$f":"(COUNTIF(CALENDRIER!X$1469:X$1834,CALENDRIER!$A$2))+((COUNTIF(CALENDRIER!X$1469:X$1834,CALENDRIER!$B$2))/2)","v":0},{"$f":"(COUNTIF(CALENDRIER!Y$1469:Y$1834,CALENDRIER!$A$2))+((COUNTIF(CALENDRIER!Y$1469:Y$1834,CALENDRIER!$B$2))/2)","v":0},{"$f":"(COUNTIF(CALENDRIER!Z$1469:Z$1834,CALENDRIER!$A$2))+((COUNTIF(CALENDRIER!Z$1469:Z$1834,CALENDRIER!$B$2))/2)","v":0},{"$f":"(COUNTIF(CALENDRIER!AA$1469:AA$1834,CALENDRIER!$A$2))+((COUNTIF(CALENDRIER!AA$1469:AA$1834,CALENDRIER!$B$2))/2)","v":0},{"$f":"(COUNTIF(CALENDRIER!AB$1469:AB$1834,CALENDRIER!$A$2))+((COUNTIF(CALENDRIER!AB$1469:AB$1834,CALENDRIER!$B$2))/2)","v":0},{"$f":"(COUNTIF(CALENDRIER!AC$1469:AC$1834,CALENDRIER!$A$2))+((COUNTIF(CALENDRIER!AC$1469:AC$1834,CALENDRIER!$B$2))/2)","v":0},{"$f":"(COUNTIF(CALENDRIER!AD$1469:AD$1834,CALENDRIER!$A$2))+((COUNTIF(CALENDRIER!AD$1469:AD$1834,CALENDRIER!$B$2))/2)","v":0},{"$f":"(COUNTIF(CALENDRIER!AE$1469:AE$1834,CALENDRIER!$A$2))+((COUNTIF(CALENDRIER!AE$1469:AE$1834,CALENDRIER!$B$2))/2)","v":0},{"$f":"(COUNTIF(CALENDRIER!AF$1469:AF$1834,CALENDRIER!$A$2))+((COUNTIF(CALENDRIER!AF$1469:AF$1834,CALENDRIER!$B$2))/2)","v":0},{"$f":"(COUNTIF(CALENDRIER!AG$1469:AG$1834,CALENDRIER!$A$2))+((COUNTIF(CALENDRIER!AG$1469:AG$1834,CALENDRIER!$B$2))/2)","v":0},{"$f":"(COUNTIF(CALENDRIER!AH$1469:AH$1834,CALENDRIER!$A$2))+((COUNTIF(CALENDRIER!AH$1469:AH$1834,CALENDRIER!$B$2))/2)","v":0},{"$f":"(COUNTIF(CALENDRIER!AI$1469:AI$1834,CALENDRIER!$A$2))+((COUNTIF(CALENDRIER!AI$1469:AI$1834,CALENDRIER!$B$2))/2)","v":0},{"$f":"(COUNTIF(CALENDRIER!AJ$1469:AJ$1834,CALENDRIER!$A$2))+((COUNTIF(CALENDRIER!AJ$1469:AJ$1834,CALENDRIER!$B$2))/2)","v":0},{"$f":"(COUNTIF(CALENDRIER!AK$1469:AK$1834,CALENDRIER!$A$2))+((COUNTIF(CALENDRIER!AK$1469:AK$1834,CALENDRIER!$B$2))/2)","v":0},{"$f":"(COUNTIF(CALENDRIER!AL$1469:AL$1834,CALENDRIER!$A$2))+((COUNTIF(CALENDRIER!AL$1469:AL$1834,CALENDRIER!$B$2))/2)","v":0},{"$f":"(COUNTIF(CALENDRIER!AM$1469:AM$1834,CALENDRIER!$A$2))+((COUNTIF(CALENDRIER!AM$1469:AM$1834,CALENDRIER!$B$2))/2)","v":0},{"$f":"(COUNTIF(CALENDRIER!AN$1469:AN$1834,CALENDRIER!$A$2))+((COUNTIF(CALENDRIER!AN$1469:AN$1834,CALENDRIER!$B$2))/2)","v":0},{"$f":"(COUNTIF(CALENDRIER!AO$1469:AO$1834,CALENDRIER!$A$2))+((COUNTIF(CALENDRIER!AO$1469:AO$1834,CALENDRIER!$B$2))/2)","v":0},{"$f":"(COUNTIF(CALENDRIER!AP$1469:AP$1834,CALENDRIER!$A$2))+((COUNTIF(CALENDRIER!AP$1469:AP$1834,CALENDRIER!$B$2))/2)","v":0},{"$f":"(COUNTIF(CALENDRIER!AQ$1469:AQ$1834,CALENDRIER!$A$2))+((COUNTIF(CALENDRIER!AQ$1469:AQ$1834,CALENDRIER!$B$2))/2)","v":0},{"$f":"(COUNTIF(CALENDRIER!AR$1469:AR$1834,CALENDRIER!$A$2))+((COUNTIF(CALENDRIER!AR$1469:AR$1834,CALENDRIER!$B$2))/2)","v":0},{"$f":"(COUNTIF(CALENDRIER!AS$1469:AS$1834,CALENDRIER!$A$2))+((COUNTIF(CALENDRIER!AS$1469:AS$1834,CALENDRIER!$B$2))/2)","v":0},{"$f":"(COUNTIF(CALENDRIER!AT$1469:AT$1834,CALENDRIER!$A$2))+((COUNTIF(CALENDRIER!AT$1469:AT$1834,CALENDRIER!$B$2))/2)","v":0},{"$f":"(COUNTIF(CALENDRIER!AU$1469:AU$1834,CALENDRIER!$A$2))+((COUNTIF(CALENDRIER!AU$1469:AU$1834,CALENDRIER!$B$2))/2)","v":0},{"$f":"(COUNTIF(CALENDRIER!AV$1469:AV$1834,CALENDRIER!$A$2))+((COUNTIF(CALENDRIER!AV$1469:AV$1834,CALENDRIER!$B$2))/2)","v":0},{"$f":"(COUNTIF(CALENDRIER!AW$1469:AW$1834,CALENDRIER!$A$2))+((COUNTIF(CALENDRIER!AW$1469:AW$1834,CALENDRIER!$B$2))/2)","v":0},{"$f":"(COUNTIF(CALENDRIER!AX$1469:AX$1834,CALENDRIER!$A$2))+((COUNTIF(CALENDRIER!AX$1469:AX$1834,CALENDRIER!$B$2))/2)","v":0},{"$f":"(COUNTIF(CALENDRIER!AY$1469:AY$1834,CALENDRIER!$A$2))+((COUNTIF(CALENDRIER!AY$1469:AY$1834,CALENDRIER!$B$2))/2)","v":0},{"$f":"(COUNTIF(CALENDRIER!AZ$1469:AZ$1834,CALENDRIER!$A$2))+((COUNTIF(CALENDRIER!AZ$1469:AZ$1834,CALENDRIER!$B$2))/2)","v":0},{"$f":"(COUNTIF(CALENDRIER!BA$1469:BA$1834,CALENDRIER!$A$2))+((COUNTIF(CALENDRIER!BA$1469:BA$1834,CALENDRIER!$B$2))/2)","v":0},{"$f":"(COUNTIF(CALENDRIER!BB$1469:BB$1834,CALENDRIER!$A$2))+((COUNTIF(CALENDRIER!BB$1469:BB$1834,CALENDRIER!$B$2))/2)","v":0},{"$f":"(COUNTIF(CALENDRIER!BC$1469:BC$1834,CALENDRIER!$A$2))+((COUNTIF(CALENDRIER!BC$1469:BC$1834,CALENDRIER!$B$2))/2)","v":0},{"$f":"(COUNTIF(CALENDRIER!BD$1469:BD$1834,CALENDRIER!$A$2))+((COUNTIF(CALENDRIER!BD$1469:BD$1834,CALENDRIER!$B$2))/2)","v":0},{"$f":"(COUNTIF(CALENDRIER!BE$1469:BE$1834,CALENDRIER!$A$2))+((COUNTIF(CALENDRIER!BE$1469:BE$1834,CALENDRIER!$B$2))/2)","v":0},{"$f":"(COUNTIF(CALENDRIER!BF$1469:BF$1834,CALENDRIER!$A$2))+((COUNTIF(CALENDRIER!BF$1469:BF$1834,CALENDRIER!$B$2))/2)","v":0},{"$f":"(COUNTIF(CALENDRIER!BG$1469:BG$1834,CALENDRIER!$A$2))+((COUNTIF(CALENDRIER!BG$1469:BG$1834,CALENDRIER!$B$2))/2)","v":0},{"$f":"(COUNTIF(CALENDRIER!BH$1469:BH$1834,CALENDRIER!$A$2))+((COUNTIF(CALENDRIER!BH$1469:BH$1834,CALENDRIER!$B$2))/2)","v":0},{"$f":"(COUNTIF(CALENDRIER!BI$1469:BI$1834,CALENDRIER!$A$2))+((COUNTIF(CALENDRIER!BI$1469:BI$1834,CALENDRIER!$B$2))/2)","v":0},{"$f":"(COUNTIF(CALENDRIER!BJ$1469:BJ$1834,CALENDRIER!$A$2))+((COUNTIF(CALENDRIER!BJ$1469:BJ$1834,CALENDRIER!$B$2))/2)","v":0},{"$f":"(COUNTIF(CALENDRIER!BK$1469:BK$1834,CALENDRIER!$A$2))+((COUNTIF(CALENDRIER!BK$1469:BK$1834,CALENDRIER!$B$2))/2)","v":0},{"$f":"(COUNTIF(CALENDRIER!BL$1469:BL$1834,CALENDRIER!$A$2))+((COUNTIF(CALENDRIER!BL$1469:BL$1834,CALENDRIER!$B$2))/2)","v":0},{"$f":"(COUNTIF(CALENDRIER!BM$1469:BM$1834,CALENDRIER!$A$2))+((COUNTIF(CALENDRIER!BM$1469:BM$1834,CALENDRIER!$B$2))/2)","v":0},{"$f":"(COUNTIF(CALENDRIER!BN$1469:BN$1834,CALENDRIER!$A$2))+((COUNTIF(CALENDRIER!BN$1469:BN$1834,CALENDRIER!$B$2))/2)","v":0},{"$f":"(COUNTIF(CALENDRIER!BO$1469:BO$1834,CALENDRIER!$A$2))+((COUNTIF(CALENDRIER!BO$1469:BO$1834,CALENDRIER!$B$2))/2)","v":0},{"$f":"(COUNTIF(CALENDRIER!BP$1469:BP$1834,CALENDRIER!$A$2))+((COUNTIF(CALENDRIER!BP$1469:BP$1834,CALENDRIER!$B$2))/2)","v":0},{"$f":"(COUNTIF(CALENDRIER!BQ$1469:BQ$1834,CALENDRIER!$A$2))+((COUNTIF(CALENDRIER!BQ$1469:BQ$1834,CALENDRIER!$B$2))/2)","v":0},{"$f":"(COUNTIF(CALENDRIER!BR$1469:BR$1834,CALENDRIER!$A$2))+((COUNTIF(CALENDRIER!BR$1469:BR$1834,CALENDRIER!$B$2))/2)","v":0},{"$f":"(COUNTIF(CALENDRIER!BS$1469:BS$1834,CALENDRIER!$A$2))+((COUNTIF(CALENDRIER!BS$1469:BS$1834,CALENDRIER!$B$2))/2)","v":0},{"$f":"(COUNTIF(CALENDRIER!BT$1469:BT$1834,CALENDRIER!$A$2))+((COUNTIF(CALENDRIER!BT$1469:BT$1834,CALENDRIER!$B$2))/2)","v":0},{"$f":"(COUNTIF(CALENDRIER!BU$1469:BU$1834,CALENDRIER!$A$2))+((COUNTIF(CALENDRIER!BU$1469:BU$1834,CALENDRIER!$B$2))/2)","v":0},{"$f":"(COUNTIF(CALENDRIER!BV$1469:BV$1834,CALENDRIER!$A$2))+((COUNTIF(CALENDRIER!BV$1469:BV$1834,CALENDRIER!$B$2))/2)","v":0},{"$f":"(COUNTIF(CALENDRIER!BW$1469:BW$1834,CALENDRIER!$A$2))+((COUNTIF(CALENDRIER!BW$1469:BW$1834,CALENDRIER!$B$2))/2)","v":0},{"$f":"(COUNTIF(CALENDRIER!BX$1469:BX$1834,CALENDRIER!$A$2))+((COUNTIF(CALENDRIER!BX$1469:BX$1834,CALENDRIER!$B$2))/2)","v":0},{"$f":"(COUNTIF(CALENDRIER!BY$1469:BY$1834,CALENDRIER!$A$2))+((COUNTIF(CALENDRIER!BY$1469:BY$1834,CALENDRIER!$B$2))/2)","v":0},{"$f":"(COUNTIF(CALENDRIER!BZ$1469:BZ$1834,CALENDRIER!$A$2))+((COUNTIF(CALENDRIER!BZ$1469:BZ$1834,CALENDRIER!$B$2))/2)","v":0},{"$f":"(COUNTIF(CALENDRIER!CA$1469:CA$1834,CALENDRIER!$A$2))+((COUNTIF(CALENDRIER!CA$1469:CA$1834,CALENDRIER!$B$2))/2)","v":0},{"$f":"(COUNTIF(CALENDRIER!CB$1469:CB$1834,CALENDRIER!$A$2))+((COUNTIF(CALENDRIER!CB$1469:CB$1834,CALENDRIER!$B$2))/2)","v":0},{"$f":"(COUNTIF(CALENDRIER!CC$1469:CC$1834,CALENDRIER!$A$2))+((COUNTIF(CALENDRIER!CC$1469:CC$1834,CALENDRIER!$B$2))/2)","v":0},{"$f":"(COUNTIF(CALENDRIER!CD$1469:CD$1834,CALENDRIER!$A$2))+((COUNTIF(CALENDRIER!CD$1469:CD$1834,CALENDRIER!$B$2))/2)","v":0},{"$f":"(COUNTIF(CALENDRIER!CE$1469:CE$1834,CALENDRIER!$A$2))+((COUNTIF(CALENDRIER!CE$1469:CE$1834,CALENDRIER!$B$2))/2)","v":0},{"$f":"(COUNTIF(CALENDRIER!CF$1469:CF$1834,CALENDRIER!$A$2))+((COUNTIF(CALENDRIER!CF$1469:CF$1834,CALENDRIER!$B$2))/2)","v":0},{"$f":"(COUNTIF(CALENDRIER!CG$1469:CG$1834,CALENDRIER!$A$2))+((COUNTIF(CALENDRIER!CG$1469:CG$1834,CALENDRIER!$B$2))/2)","v":0},{"$f":"(COUNTIF(CALENDRIER!CH$1469:CH$1834,CALENDRIER!$A$2))+((COUNTIF(CALENDRIER!CH$1469:CH$1834,CALENDRIER!$B$2))/2)","v":0},{"$f":"(COUNTIF(CALENDRIER!CI$1469:CI$1834,CALENDRIER!$A$2))+((COUNTIF(CALENDRIER!CI$1469:CI$1834,CALENDRIER!$B$2))/2)","v":0},{"$f":"(COUNTIF(CALENDRIER!CJ$1469:CJ$1834,CALENDRIER!$A$2))+((COUNTIF(CALENDRIER!CJ$1469:CJ$1834,CALENDRIER!$B$2))/2)","v":0},{"$f":"(COUNTIF(CALENDRIER!CK$1469:CK$1834,CALENDRIER!$A$2))+((COUNTIF(CALENDRIER!CK$1469:CK$1834,CALENDRIER!$B$2))/2)","v":0},{"$f":"(COUNTIF(CALENDRIER!CL$1469:CL$1834,CALENDRIER!$A$2))+((COUNTIF(CALENDRIER!CL$1469:CL$1834,CALENDRIER!$B$2))/2)","v":0},{"$f":"(COUNTIF(CALENDRIER!CM$1469:CM$1834,CALENDRIER!$A$2))+((COUNTIF(CALENDRIER!CM$1469:CM$1834,CALENDRIER!$B$2))/2)","v":0},{"$f":"(COUNTIF(CALENDRIER!CN$1469:CN$1834,CALENDRIER!$A$2))+((COUNTIF(CALENDRIER!CN$1469:CN$1834,CALENDRIER!$B$2))/2)","v":0},{"$f":"(COUNTIF(CALENDRIER!CO$1469:CO$1834,CALENDRIER!$A$2))+((COUNTIF(CALENDRIER!CO$1469:CO$1834,CALENDRIER!$B$2))/2)","v":0},{"$f":"(COUNTIF(CALENDRIER!CP$1469:CP$1834,CALENDRIER!$A$2))+((COUNTIF(CALENDRIER!CP$1469:CP$1834,CALENDRIER!$B$2))/2)","v":0},{"$f":"(COUNTIF(CALENDRIER!CQ$1469:CQ$1834,CALENDRIER!$A$2))+((COUNTIF(CALENDRIER!CQ$1469:CQ$1834,CALENDRIER!$B$2))/2)","v":0},{"$f":"(COUNTIF(CALENDRIER!CR$1469:CR$1834,CALENDRIER!$A$2))+((COUNTIF(CALENDRIER!CR$1469:CR$1834,CALENDRIER!$B$2))/2)","v":0},{"$f":"(COUNTIF(CALENDRIER!CS$1469:CS$1834,CALENDRIER!$A$2))+((COUNTIF(CALENDRIER!CS$1469:CS$1834,CALENDRIER!$B$2))/2)","v":0},{"$f":"(COUNTIF(CALENDRIER!CT$1469:CT$1834,CALENDRIER!$A$2))+((COUNTIF(CALENDRIER!CT$1469:CT$1834,CALENDRIER!$B$2))/2)","v":0},{"$f":"(COUNTIF(CALENDRIER!CU$1469:CU$1834,CALENDRIER!$A$2))+((COUNTIF(CALENDRIER!CU$1469:CU$1834,CALENDRIER!$B$2))/2)","v":0},{"$f":"(COUNTIF(CALENDRIER!CV$1469:CV$1834,CALENDRIER!$A$2))+((COUNTIF(CALENDRIER!CV$1469:CV$1834,CALENDRIER!$B$2))/2)","v":0},{"$f":"(COUNTIF(CALENDRIER!CW$1469:CW$1834,CALENDRIER!$A$2))+((COUNTIF(CALENDRIER!CW$1469:CW$1834,CALENDRIER!$B$2))/2)","v":0},{"$f":"(COUNTIF(CALENDRIER!CX$1469:CX$1834,CALENDRIER!$A$2))+((COUNTIF(CALENDRIER!CX$1469:CX$1834,CALENDRIER!$B$2))/2)","v":0},{"$f":"(COUNTIF(CALENDRIER!CY$1469:CY$1834,CALENDRIER!$A$2))+((COUNTIF(CALENDRIER!CY$1469:CY$1834,CALENDRIER!$B$2))/2)","v":0},{"$f":"(COUNTIF(CALENDRIER!CZ$1469:CZ$1834,CALENDRIER!$A$2))+((COUNTIF(CALENDRIER!CZ$1469:CZ$1834,CALENDRIER!$B$2))/2)","v":0},{"$f":"(COUNTIF(CALENDRIER!DA$1469:DA$1834,CALENDRIER!$A$2))+((COUNTIF(CALENDRIER!DA$1469:DA$1834,CALENDRIER!$B$2))/2)","v":0},{"$f":"(COUNTIF(CALENDRIER!DB$1469:DB$1834,CALENDRIER!$A$2))+((COUNTIF(CALENDRIER!DB$1469:DB$1834,CALENDRIER!$B$2))/2)","v":0},{"$f":"(COUNTIF(CALENDRIER!DC$1469:DC$1834,CALENDRIER!$A$2))+((COUNTIF(CALENDRIER!DC$1469:DC$1834,CALENDRIER!$B$2))/2)","v":0},{"$f":"(COUNTIF(CALENDRIER!DD$1469:DD$1834,CALENDRIER!$A$2))+((COUNTIF(CALENDRIER!DD$1469:DD$1834,CALENDRIER!$B$2))/2)","v":0},{"$f":"(COUNTIF(CALENDRIER!DE$1469:DE$1834,CALENDRIER!$A$2))+((COUNTIF(CALENDRIER!DE$1469:DE$1834,CALENDRIER!$B$2))/2)","v":0},{"$f":"(COUNTIF(CALENDRIER!DF$1469:DF$1834,CALENDRIER!$A$2))+((COUNTIF(CALENDRIER!DF$1469:DF$1834,CALENDRIER!$B$2))/2)","v":0},{"$f":"(COUNTIF(CALENDRIER!DG$1469:DG$1834,CALENDRIER!$A$2))+((COUNTIF(CALENDRIER!DG$1469:DG$1834,CALENDRIER!$B$2))/2)","v":0},{"$f":"(COUNTIF(CALENDRIER!DH$1469:DH$1834,CALENDRIER!$A$2))+((COUNTIF(CALENDRIER!DH$1469:DH$1834,CALENDRIER!$B$2))/2)","v":0},{"$f":"(COUNTIF(CALENDRIER!DI$1469:DI$1834,CALENDRIER!$A$2))+((COUNTIF(CALENDRIER!DI$1469:DI$1834,CALENDRIER!$B$2))/2)","v":0},{"$f":"(COUNTIF(CALENDRIER!DJ$1469:DJ$1834,CALENDRIER!$A$2))+((COUNTIF(CALENDRIER!DJ$1469:DJ$1834,CALENDRIER!$B$2))/2)","v":0},{"$f":"(COUNTIF(CALENDRIER!DK$1469:DK$1834,CALENDRIER!$A$2))+((COUNTIF(CALENDRIER!DK$1469:DK$1834,CALENDRIER!$B$2))/2)","v":0},{"$f":"(COUNTIF(CALENDRIER!DL$1469:DL$1834,CALENDRIER!$A$2))+((COUNTIF(CALENDRIER!DL$1469:DL$1834,CALENDRIER!$B$2))/2)","v":0},{"$f":"(COUNTIF(CALENDRIER!DM$1469:DM$1834,CALENDRIER!$A$2))+((COUNTIF(CALENDRIER!DM$1469:DM$1834,CALENDRIER!$B$2))/2)","v":0},{"$f":"(COUNTIF(CALENDRIER!DN$1469:DN$1834,CALENDRIER!$A$2))+((COUNTIF(CALENDRIER!DN$1469:DN$1834,CALENDRIER!$B$2))/2)","v":0},{"$f":"(COUNTIF(CALENDRIER!DO$1469:DO$1834,CALENDRIER!$A$2))+((COUNTIF(CALENDRIER!DO$1469:DO$1834,CALENDRIER!$B$2))/2)","v":0},{"$f":"(COUNTIF(CALENDRIER!DP$1469:DP$1834,CALENDRIER!$A$2))+((COUNTIF(CALENDRIER!DP$1469:DP$1834,CALENDRIER!$B$2))/2)","v":0},{"$f":"(COUNTIF(CALENDRIER!DQ$1469:DQ$1834,CALENDRIER!$A$2))+((COUNTIF(CALENDRIER!DQ$1469:DQ$1834,CALENDRIER!$B$2))/2)","v":0},{"$f":"(COUNTIF(CALENDRIER!DR$1469:DR$1834,CALENDRIER!$A$2))+((COUNTIF(CALENDRIER!DR$1469:DR$1834,CALENDRIER!$B$2))/2)","v":0},{"$f":"(COUNTIF(CALENDRIER!DS$1469:DS$1834,CALENDRIER!$A$2))+((COUNTIF(CALENDRIER!DS$1469:DS$1834,CALENDRIER!$B$2))/2)","v":0},{"$f":"(COUNTIF(CALENDRIER!DT$1469:DT$1834,CALENDRIER!$A$2))+((COUNTIF(CALENDRIER!DT$1469:DT$1834,CALENDRIER!$B$2))/2)","v":0},{"$f":"(COUNTIF(CALENDRIER!DU$1469:DU$1834,CALENDRIER!$A$2))+((COUNTIF(CALENDRIER!DU$1469:DU$1834,CALENDRIER!$B$2))/2)","v":0},{"$f":"(COUNTIF(CALENDRIER!DV$1469:DV$1834,CALENDRIER!$A$2))+((COUNTIF(CALENDRIER!DV$1469:DV$1834,CALENDRIER!$B$2))/2)","v":0},{"$f":"(COUNTIF(CALENDRIER!DW$1469:DW$1834,CALENDRIER!$A$2))+((COUNTIF(CALENDRIER!DW$1469:DW$1834,CALENDRIER!$B$2))/2)","v":0},{"$f":"(COUNTIF(CALENDRIER!DX$1469:DX$1834,CALENDRIER!$A$2))+((COUNTIF(CALENDRIER!DX$1469:DX$1834,CALENDRIER!$B$2))/2)","v":0},{"$f":"(COUNTIF(CALENDRIER!DY$1469:DY$1834,CALENDRIER!$A$2))+((COUNTIF(CALENDRIER!DY$1469:DY$1834,CALENDRIER!$B$2))/2)","v":0},{"$f":"(COUNTIF(CALENDRIER!DZ$1469:DZ$1834,CALENDRIER!$A$2))+((COUNTIF(CALENDRIER!DZ$1469:DZ$1834,CALENDRIER!$B$2))/2)","v":0},{"$f":"(COUNTIF(CALENDRIER!EA$1469:EA$1834,CALENDRIER!$A$2))+((COUNTIF(CALENDRIER!EA$1469:EA$1834,CALENDRIER!$B$2))/2)","v":0},{"$f":"(COUNTIF(CALENDRIER!EB$1469:EB$1834,CALENDRIER!$A$2))+((COUNTIF(CALENDRIER!EB$1469:EB$1834,CALENDRIER!$B$2))/2)","v":0},{"$f":"(COUNTIF(CALENDRIER!EC$1469:EC$1834,CALENDRIER!$A$2))+((COUNTIF(CALENDRIER!EC$1469:EC$1834,CALENDRIER!$B$2))/2)","v":0},{"$f":"(COUNTIF(CALENDRIER!ED$1469:ED$1834,CALENDRIER!$A$2))+((COUNTIF(CALENDRIER!ED$1469:ED$1834,CALENDRIER!$B$2))/2)","v":0},{"$f":"(COUNTIF(CALENDRIER!EE$1469:EE$1834,CALENDRIER!$A$2))+((COUNTIF(CALENDRIER!EE$1469:EE$1834,CALENDRIER!$B$2))/2)","v":0},{"$f":"(COUNTIF(CALENDRIER!EF$1469:EF$1834,CALENDRIER!$A$2))+((COUNTIF(CALENDRIER!EF$1469:EF$1834,CALENDRIER!$B$2))/2)","v":0},{"$f":"(COUNTIF(CALENDRIER!EG$1469:EG$1834,CALENDRIER!$A$2))+((COUNTIF(CALENDRIER!EG$1469:EG$1834,CALENDRIER!$B$2))/2)","v":0},{"$f":"(COUNTIF(CALENDRIER!EH$1469:EH$1834,CALENDRIER!$A$2))+((COUNTIF(CALENDRIER!EH$1469:EH$1834,CALENDRIER!$B$2))/2)","v":0},{"$f":"(COUNTIF(CALENDRIER!EI$1469:EI$1834,CALENDRIER!$A$2))+((COUNTIF(CALENDRIER!EI$1469:EI$1834,CALENDRIER!$B$2))/2)","v":0},{"$f":"(COUNTIF(CALENDRIER!EJ$1469:EJ$1834,CALENDRIER!$A$2))+((COUNTIF(CALENDRIER!EJ$1469:EJ$1834,CALENDRIER!$B$2))/2)","v":0},{"$f":"(COUNTIF(CALENDRIER!EK$1469:EK$1834,CALENDRIER!$A$2))+((COUNTIF(CALENDRIER!EK$1469:EK$1834,CALENDRIER!$B$2))/2)","v":0},{"$f":"(COUNTIF(CALENDRIER!EL$1469:EL$1834,CALENDRIER!$A$2))+((COUNTIF(CALENDRIER!EL$1469:EL$1834,CALENDRIER!$B$2))/2)","v":0},{"$f":"(COUNTIF(CALENDRIER!EM$1469:EM$1834,CALENDRIER!$A$2))+((COUNTIF(CALENDRIER!EM$1469:EM$1834,CALENDRIER!$B$2))/2)","v":0},{"$f":"(COUNTIF(CALENDRIER!EN$1469:EN$1834,CALENDRIER!$A$2))+((COUNTIF(CALENDRIER!EN$1469:EN$1834,CALENDRIER!$B$2))/2)","v":0},{"$f":"(COUNTIF(CALENDRIER!EO$1469:EO$1834,CALENDRIER!$A$2))+((COUNTIF(CALENDRIER!EO$1469:EO$1834,CALENDRIER!$B$2))/2)","v":0},{"$f":"(COUNTIF(CALENDRIER!EP$1469:EP$1834,CALENDRIER!$A$2))+((COUNTIF(CALENDRIER!EP$1469:EP$1834,CALENDRIER!$B$2))/2)","v":0},{"$f":"(COUNTIF(CALENDRIER!EQ$1469:EQ$1834,CALENDRIER!$A$2))+((COUNTIF(CALENDRIER!EQ$1469:EQ$1834,CALENDRIER!$B$2))/2)","v":0},{"$f":"(COUNTIF(CALENDRIER!ER$1469:ER$1834,CALENDRIER!$A$2))+((COUNTIF(CALENDRIER!ER$1469:ER$1834,CALENDRIER!$B$2))/2)","v":0},{"$f":"(COUNTIF(CALENDRIER!ES$1469:ES$1834,CALENDRIER!$A$2))+((COUNTIF(CALENDRIER!ES$1469:ES$1834,CALENDRIER!$B$2))/2)","v":0},{"$f":"(COUNTIF(CALENDRIER!ET$1469:ET$1834,CALENDRIER!$A$2))+((COUNTIF(CALENDRIER!ET$1469:ET$1834,CALENDRIER!$B$2))/2)","v":0},{"$f":"(COUNTIF(CALENDRIER!EU$1469:EU$1834,CALENDRIER!$A$2))+((COUNTIF(CALENDRIER!EU$1469:EU$1834,CALENDRIER!$B$2))/2)","v":0},{"$f":"(COUNTIF(CALENDRIER!EV$1469:EV$1834,CALENDRIER!$A$2))+((COUNTIF(CALENDRIER!EV$1469:EV$1834,CALENDRIER!$B$2))/2)","v":0},{"$f":"(COUNTIF(CALENDRIER!EW$1469:EW$1834,CALENDRIER!$A$2))+((COUNTIF(CALENDRIER!EW$1469:EW$1834,CALENDRIER!$B$2))/2)","v":0},{"$f":"(COUNTIF(CALENDRIER!EX$1469:EX$1834,CALENDRIER!$A$2))+((COUNTIF(CALENDRIER!EX$1469:EX$1834,CALENDRIER!$B$2))/2)","v":0},{"$f":"(COUNTIF(CALENDRIER!EY$1469:EY$1834,CALENDRIER!$A$2))+((COUNTIF(CALENDRIER!EY$1469:EY$1834,CALENDRIER!$B$2))/2)","v":0},{"$f":"(COUNTIF(CALENDRIER!EZ$1469:EZ$1834,CALENDRIER!$A$2))+((COUNTIF(CALENDRIER!EZ$1469:EZ$1834,CALENDRIER!$B$2))/2)","v":0},{"$f":"(COUNTIF(CALENDRIER!FA$1469:FA$1834,CALENDRIER!$A$2))+((COUNTIF(CALENDRIER!FA$1469:FA$1834,CALENDRIER!$B$2))/2)","v":0},{"$f":"(COUNTIF(CALENDRIER!FB$1469:FB$1834,CALENDRIER!$A$2))+((COUNTIF(CALENDRIER!FB$1469:FB$1834,CALENDRIER!$B$2))/2)","v":0},{"$f":"(COUNTIF(CALENDRIER!FC$1469:FC$1834,CALENDRIER!$A$2))+((COUNTIF(CALENDRIER!FC$1469:FC$1834,CALENDRIER!$B$2))/2)","v":0},{"$f":"(COUNTIF(CALENDRIER!FD$1469:FD$1834,CALENDRIER!$A$2))+((COUNTIF(CALENDRIER!FD$1469:FD$1834,CALENDRIER!$B$2))/2)","v":0},{"$f":"(COUNTIF(CALENDRIER!FE$1469:FE$1834,CALENDRIER!$A$2))+((COUNTIF(CALENDRIER!FE$1469:FE$1834,CALENDRIER!$B$2))/2)","v":0},{"$f":"(COUNTIF(CALENDRIER!FF$1469:FF$1834,CALENDRIER!$A$2))+((COUNTIF(CALENDRIER!FF$1469:FF$1834,CALENDRIER!$B$2))/2)","v":0},{"$f":"(COUNTIF(CALENDRIER!FG$1469:FG$1834,CALENDRIER!$A$2))+((COUNTIF(CALENDRIER!FG$1469:FG$1834,CALENDRIER!$B$2))/2)","v":0},{"$f":"(COUNTIF(CALENDRIER!FH$1469:FH$1834,CALENDRIER!$A$2))+((COUNTIF(CALENDRIER!FH$1469:FH$1834,CALENDRIER!$B$2))/2)","v":0},{"$f":"(COUNTIF(CALENDRIER!FI$1469:FI$1834,CALENDRIER!$A$2))+((COUNTIF(CALENDRIER!FI$1469:FI$1834,CALENDRIER!$B$2))/2)","v":0},{"$f":"(COUNTIF(CALENDRIER!FJ$1469:FJ$1834,CALENDRIER!$A$2))+((COUNTIF(CALENDRIER!FJ$1469:FJ$1834,CALENDRIER!$B$2))/2)","v":0},{"$f":"(COUNTIF(CALENDRIER!FK$1469:FK$1834,CALENDRIER!$A$2))+((COUNTIF(CALENDRIER!FK$1469:FK$1834,CALENDRIER!$B$2))/2)","v":0},{"$f":"(COUNTIF(CALENDRIER!FL$1469:FL$1834,CALENDRIER!$A$2))+((COUNTIF(CALENDRIER!FL$1469:FL$1834,CALENDRIER!$B$2))/2)","v":0},{"$f":"(COUNTIF(CALENDRIER!FM$1469:FM$1834,CALENDRIER!$A$2))+((COUNTIF(CALENDRIER!FM$1469:FM$1834,CALENDRIER!$B$2))/2)","v":0},{"$f":"(COUNTIF(CALENDRIER!FN$1469:FN$1834,CALENDRIER!$A$2))+((COUNTIF(CALENDRIER!FN$1469:FN$1834,CALENDRIER!$B$2))/2)","v":0},{"$f":"(COUNTIF(CALENDRIER!FO$1469:FO$1834,CALENDRIER!$A$2))+((COUNTIF(CALENDRIER!FO$1469:FO$1834,CALENDRIER!$B$2))/2)","v":0},{"$f":"(COUNTIF(CALENDRIER!FP$1469:FP$1834,CALENDRIER!$A$2))+((COUNTIF(CALENDRIER!FP$1469:FP$1834,CALENDRIER!$B$2))/2)","v":0},{"$f":"(COUNTIF(CALENDRIER!FQ$1469:FQ$1834,CALENDRIER!$A$2))+((COUNTIF(CALENDRIER!FQ$1469:FQ$1834,CALENDRIER!$B$2))/2)","v":0},{"$f":"(COUNTIF(CALENDRIER!FR$1469:FR$1834,CALENDRIER!$A$2))+((COUNTIF(CALENDRIER!FR$1469:FR$1834,CALENDRIER!$B$2))/2)","v":0},{"$f":"(COUNTIF(CALENDRIER!FS$1469:FS$1834,CALENDRIER!$A$2))+((COUNTIF(CALENDRIER!FS$1469:FS$1834,CALENDRIER!$B$2))/2)","v":0},{"$f":"(COUNTIF(CALENDRIER!FT$1469:FT$1834,CALENDRIER!$A$2))+((COUNTIF(CALENDRIER!FT$1469:FT$1834,CALENDRIER!$B$2))/2)","v":0},{"$f":"(COUNTIF(CALENDRIER!FU$1469:FU$1834,CALENDRIER!$A$2))+((COUNTIF(CALENDRIER!FU$1469:FU$1834,CALENDRIER!$B$2))/2)","v":0},{"$f":"(COUNTIF(CALENDRIER!FV$1469:FV$1834,CALENDRIER!$A$2))+((COUNTIF(CALENDRIER!FV$1469:FV$1834,CALENDRIER!$B$2))/2)","v":0},{"$f":"(COUNTIF(CALENDRIER!FW$1469:FW$1834,CALENDRIER!$A$2))+((COUNTIF(CALENDRIER!FW$1469:FW$1834,CALENDRIER!$B$2))/2)","v":0},{"$f":"(COUNTIF(CALENDRIER!FX$1469:FX$1834,CALENDRIER!$A$2))+((COUNTIF(CALENDRIER!FX$1469:FX$1834,CALENDRIER!$B$2))/2)","v":0},{"$f":"(COUNTIF(CALENDRIER!FY$1469:FY$1834,CALENDRIER!$A$2))+((COUNTIF(CALENDRIER!FY$1469:FY$1834,CALENDRIER!$B$2))/2)","v":0},{"$f":"(COUNTIF(CALENDRIER!FZ$1469:FZ$1834,CALENDRIER!$A$2))+((COUNTIF(CALENDRIER!FZ$1469:FZ$1834,CALENDRIER!$B$2))/2)","v":0},{"$f":"(COUNTIF(CALENDRIER!GA$1469:GA$1834,CALENDRIER!$A$2))+((COUNTIF(CALENDRIER!GA$1469:GA$1834,CALENDRIER!$B$2))/2)","v":0},{"$f":"(COUNTIF(CALENDRIER!GB$1469:GB$1834,CALENDRIER!$A$2))+((COUNTIF(CALENDRIER!GB$1469:GB$1834,CALENDRIER!$B$2))/2)","v":0},{"$f":"(COUNTIF(CALENDRIER!GC$1469:GC$1834,CALENDRIER!$A$2))+((COUNTIF(CALENDRIER!GC$1469:GC$1834,CALENDRIER!$B$2))/2)","v":0},{"$f":"(COUNTIF(CALENDRIER!GD$1469:GD$1834,CALENDRIER!$A$2))+((COUNTIF(CALENDRIER!GD$1469:GD$1834,CALENDRIER!$B$2))/2)","v":0},{"$f":"(COUNTIF(CALENDRIER!GE$1469:GE$1834,CALENDRIER!$A$2))+((COUNTIF(CALENDRIER!GE$1469:GE$1834,CALENDRIER!$B$2))/2)","v":0},{"$f":"(COUNTIF(CALENDRIER!GF$1469:GF$1834,CALENDRIER!$A$2))+((COUNTIF(CALENDRIER!GF$1469:GF$1834,CALENDRIER!$B$2))/2)","v":0},{"$f":"(COUNTIF(CALENDRIER!GG$1469:GG$1834,CALENDRIER!$A$2))+((COUNTIF(CALENDRIER!GG$1469:GG$1834,CALENDRIER!$B$2))/2)","v":0},{"$f":"(COUNTIF(CALENDRIER!GH$1469:GH$1834,CALENDRIER!$A$2))+((COUNTIF(CALENDRIER!GH$1469:GH$1834,CALENDRIER!$B$2))/2)","v":0},{"$f":"(COUNTIF(CALENDRIER!GI$1469:GI$1834,CALENDRIER!$A$2))+((COUNTIF(CALENDRIER!GI$1469:GI$1834,CALENDRIER!$B$2))/2)","v":0},{"$f":"(COUNTIF(CALENDRIER!GJ$1469:GJ$1834,CALENDRIER!$A$2))+((COUNTIF(CALENDRIER!GJ$1469:GJ$1834,CALENDRIER!$B$2))/2)","v":0},{"$f":"(COUNTIF(CALENDRIER!GK$1469:GK$1834,CALENDRIER!$A$2))+((COUNTIF(CALENDRIER!GK$1469:GK$1834,CALENDRIER!$B$2))/2)","v":0},{"$f":"(COUNTIF(CALENDRIER!GL$1469:GL$1834,CALENDRIER!$A$2))+((COUNTIF(CALENDRIER!GL$1469:GL$1834,CALENDRIER!$B$2))/2)","v":0},{"$f":"(COUNTIF(CALENDRIER!GM$1469:GM$1834,CALENDRIER!$A$2))+((COUNTIF(CALENDRIER!GM$1469:GM$1834,CALENDRIER!$B$2))/2)","v":0},{"$f":"(COUNTIF(CALENDRIER!GN$1469:GN$1834,CALENDRIER!$A$2))+((COUNTIF(CALENDRIER!GN$1469:GN$1834,CALENDRIER!$B$2))/2)","v":0},{"$f":"(COUNTIF(CALENDRIER!GO$1469:GO$1834,CALENDRIER!$A$2))+((COUNTIF(CALENDRIER!GO$1469:GO$1834,CALENDRIER!$B$2))/2)","v":0},{"$f":"(COUNTIF(CALENDRIER!GP$1469:GP$1834,CALENDRIER!$A$2))+((COUNTIF(CALENDRIER!GP$1469:GP$1834,CALENDRIER!$B$2))/2)","v":0},{"$f":"(COUNTIF(CALENDRIER!GQ$1469:GQ$1834,CALENDRIER!$A$2))+((COUNTIF(CALENDRIER!GQ$1469:GQ$1834,CALENDRIER!$B$2))/2)","v":0},{"$f":"(COUNTIF(CALENDRIER!GR$1469:GR$1834,CALENDRIER!$A$2))+((COUNTIF(CALENDRIER!GR$1469:GR$1834,CALENDRIER!$B$2))/2)","v":0}]
[null,{"$f":"\"Solde \"&CALENDRIER!$A$2&\" \"&A84&\" : \"","v":"Solde CP Anc 2019-2020 : "},{"$f":"C85-C86","v":0},{"$f":"D85-D86","v":0},0,0,0,0,0,0,0,0,0,0,0,0,0,0,0,0,0,0,0,0,0,0,0,0,0,0,0,0,0,0,0,0,0,0,0,0,0,0,0,0,0,0,0,0,0,0,0,0,0,0,0,0,0,0,0,0,0,0,0,0,0,0,0,{"$f":"BP85-BP86","v":0},0,0,0,0,0,0,0,0,0,0,0,0,0,0,0,0,0,0,0,0,0,0,0,0,0,0,0,0,0,0,0,0,0,0,0,0,0,0,0,0,0,0,0,0,0,0,0,0,0,0,0,0,0,0,0,0,0,0,0,0,0,0,0,{"$f":"EB85-EB86","v":0},0,0,0,0,0,0,0,0,0,0,0,0,0,0,0,0,0,0,0,0,0,0,0,0,0,0,0,0,0,0,0,0,0,0,0,0,0,0,0,0,0,0,0,0,0,0,0,0,0,0,0,0,0,0,0,0,0,0,0,0,0,0,0,{"$f":"GN85-GN86","v":0},0,0,0,0]
[]
["2020-2021",{"$f":"CALENDRIER!$A$2","v":"CP Anc"}]
[null,"SOLDE DEPART"]
[null,{"$f":"CALENDRIER!$A$2&\" PRIS\"","v":"CP Anc PRIS"},{"$f":"(COUNTIF(CALENDRIER!C$1835:C$2199,CALENDRIER!$A$2))+((COUNTIF(CALENDRIER!C$1835:C$2199,CALENDRIER!$B$2))/2)","v":0},{"$f":"(COUNTIF(CALENDRIER!D$1835:D$2199,CALENDRIER!$A$2))+((COUNTIF(CALENDRIER!D$1835:D$2199,CALENDRIER!$B$2))/2)","v":0},{"$f":"(COUNTIF(CALENDRIER!E$1835:E$2199,CALENDRIER!$A$2))+((COUNTIF(CALENDRIER!E$1835:E$2199,CALENDRIER!$B$2))/2)","v":0},{"$f":"(COUNTIF(CALENDRIER!F$1835:F$2199,CALENDRIER!$A$2))+((COUNTIF(CALENDRIER!F$1835:F$2199,CALENDRIER!$B$2))/2)","v":0},{"$f":"(COUNTIF(CALENDRIER!G$1835:G$2199,CALENDRIER!$A$2))+((COUNTIF(CALENDRIER!G$1835:G$2199,CALENDRIER!$B$2))/2)","v":0},{"$f":"(COUNTIF(CALENDRIER!H$1835:H$2199,CALENDRIER!$A$2))+((COUNTIF(CALENDRIER!H$1835:H$2199,CALENDRIER!$B$2))/2)","v":0},{"$f":"(COUNTIF(CALENDRIER!I$1835:I$2199,CALENDRIER!$A$2))+((COUNTIF(CALENDRIER!I$1835:I$2199,CALENDRIER!$B$2))/2)","v":0},{"$f":"(COUNTIF(CALENDRIER!J$1835:J$2199,CALENDRIER!$A$2))+((COUNTIF(CALENDRIER!J$1835:J$2199,CALENDRIER!$B$2))/2)","v":0},{"$f":"(COUNTIF(CALENDRIER!K$1835:K$2199,CALENDRIER!$A$2))+((COUNTIF(CALENDRIER!K$1835:K$2199,CALENDRIER!$B$2))/2)","v":0},{"$f":"(COUNTIF(CALENDRIER!L$1835:L$2199,CALENDRIER!$A$2))+((COUNTIF(CALENDRIER!L$1835:L$2199,CALENDRIER!$B$2))/2)","v":0},{"$f":"(COUNTIF(CALENDRIER!M$1835:M$2199,CALENDRIER!$A$2))+((COUNTIF(CALENDRIER!M$1835:M$2199,CALENDRIER!$B$2))/2)","v":0},{"$f":"(COUNTIF(CALENDRIER!N$1835:N$2199,CALENDRIER!$A$2))+((COUNTIF(CALENDRIER!N$1835:N$2199,CALENDRIER!$B$2))/2)","v":0},{"$f":"(COUNTIF(CALENDRIER!O$1835:O$2199,CALENDRIER!$A$2))+((COUNTIF(CALENDRIER!O$1835:O$2199,CALENDRIER!$B$2))/2)","v":0},{"$f":"(COUNTIF(CALENDRIER!P$1835:P$2199,CALENDRIER!$A$2))+((COUNTIF(CALENDRIER!P$1835:P$2199,CALENDRIER!$B$2))/2)","v":0},{"$f":"(COUNTIF(CALENDRIER!Q$1835:Q$2199,CALENDRIER!$A$2))+((COUNTIF(CALENDRIER!Q$1835:Q$2199,CALENDRIER!$B$2))/2)","v":0},{"$f":"(COUNTIF(CALENDRIER!R$1835:R$2199,CALENDRIER!$A$2))+((COUNTIF(CALENDRIER!R$1835:R$2199,CALENDRIER!$B$2))/2)","v":0},{"$f":"(COUNTIF(CALENDRIER!S$1835:S$2199,CALENDRIER!$A$2))+((COUNTIF(CALENDRIER!S$1835:S$2199,CALENDRIER!$B$2))/2)","v":0},{"$f":"(COUNTIF(CALENDRIER!T$1835:T$2199,CALENDRIER!$A$2))+((COUNTIF(CALENDRIER!T$1835:T$2199,CALENDRIER!$B$2))/2)","v":0},{"$f":"(COUNTIF(CALENDRIER!U$1835:U$2199,CALENDRIER!$A$2))+((COUNTIF(CALENDRIER!U$1835:U$2199,CALENDRIER!$B$2))/2)","v":0},{"$f":"(COUNTIF(CALENDRIER!V$1835:V$2199,CALENDRIER!$A$2))+((COUNTIF(CALENDRIER!V$1835:V$2199,CALENDRIER!$B$2))/2)","v":0},{"$f":"(COUNTIF(CALENDRIER!W$1835:W$2199,CALENDRIER!$A$2))+((COUNTIF(CALENDRIER!W$1835:W$2199,CALENDRIER!$B$2))/2)","v":0},{"$f":"(COUNTIF(CALENDRIER!X$1835:X$2199,CALENDRIER!$A$2))+((COUNTIF(CALENDRIER!X$1835:X$2199,CALENDRIER!$B$2))/2)","v":0},{"$f":"(COUNTIF(CALENDRIER!Y$1835:Y$2199,CALENDRIER!$A$2))+((COUNTIF(CALENDRIER!Y$1835:Y$2199,CALENDRIER!$B$2))/2)","v":0},{"$f":"(COUNTIF(CALENDRIER!Z$1835:Z$2199,CALENDRIER!$A$2))+((COUNTIF(CALENDRIER!Z$1835:Z$2199,CALENDRIER!$B$2))/2)","v":0},{"$f":"(COUNTIF(CALENDRIER!AA$1835:AA$2199,CALENDRIER!$A$2))+((COUNTIF(CALENDRIER!AA$1835:AA$2199,CALENDRIER!$B$2))/2)","v":0},{"$f":"(COUNTIF(CALENDRIER!AB$1835:AB$2199,CALENDRIER!$A$2))+((COUNTIF(CALENDRIER!AB$1835:AB$2199,CALENDRIER!$B$2))/2)","v":0},{"$f":"(COUNTIF(CALENDRIER!AC$1835:AC$2199,CALENDRIER!$A$2))+((COUNTIF(CALENDRIER!AC$1835:AC$2199,CALENDRIER!$B$2))/2)","v":0},{"$f":"(COUNTIF(CALENDRIER!AD$1835:AD$2199,CALENDRIER!$A$2))+((COUNTIF(CALENDRIER!AD$1835:AD$2199,CALENDRIER!$B$2))/2)","v":0},{"$f":"(COUNTIF(CALENDRIER!AE$1835:AE$2199,CALENDRIER!$A$2))+((COUNTIF(CALENDRIER!AE$1835:AE$2199,CALENDRIER!$B$2))/2)","v":0},{"$f":"(COUNTIF(CALENDRIER!AF$1835:AF$2199,CALENDRIER!$A$2))+((COUNTIF(CALENDRIER!AF$1835:AF$2199,CALENDRIER!$B$2))/2)","v":0},{"$f":"(COUNTIF(CALENDRIER!AG$1835:AG$2199,CALENDRIER!$A$2))+((COUNTIF(CALENDRIER!AG$1835:AG$2199,CALENDRIER!$B$2))/2)","v":0},{"$f":"(COUNTIF(CALENDRIER!AH$1835:AH$2199,CALENDRIER!$A$2))+((COUNTIF(CALENDRIER!AH$1835:AH$2199,CALENDRIER!$B$2))/2)","v":0},{"$f":"(COUNTIF(CALENDRIER!AI$1835:AI$2199,CALENDRIER!$A$2))+((COUNTIF(CALENDRIER!AI$1835:AI$2199,CALENDRIER!$B$2))/2)","v":0},{"$f":"(COUNTIF(CALENDRIER!AJ$1835:AJ$2199,CALENDRIER!$A$2))+((COUNTIF(CALENDRIER!AJ$1835:AJ$2199,CALENDRIER!$B$2))/2)","v":0},{"$f":"(COUNTIF(CALENDRIER!AK$1835:AK$2199,CALENDRIER!$A$2))+((COUNTIF(CALENDRIER!AK$1835:AK$2199,CALENDRIER!$B$2))/2)","v":0},{"$f":"(COUNTIF(CALENDRIER!AL$1835:AL$2199,CALENDRIER!$A$2))+((COUNTIF(CALENDRIER!AL$1835:AL$2199,CALENDRIER!$B$2))/2)","v":0},{"$f":"(COUNTIF(CALENDRIER!AM$1835:AM$2199,CALENDRIER!$A$2))+((COUNTIF(CALENDRIER!AM$1835:AM$2199,CALENDRIER!$B$2))/2)","v":0},{"$f":"(COUNTIF(CALENDRIER!AN$1835:AN$2199,CALENDRIER!$A$2))+((COUNTIF(CALENDRIER!AN$1835:AN$2199,CALENDRIER!$B$2))/2)","v":0},{"$f":"(COUNTIF(CALENDRIER!AO$1835:AO$2199,CALENDRIER!$A$2))+((COUNTIF(CALENDRIER!AO$1835:AO$2199,CALENDRIER!$B$2))/2)","v":0},{"$f":"(COUNTIF(CALENDRIER!AP$1835:AP$2199,CALENDRIER!$A$2))+((COUNTIF(CALENDRIER!AP$1835:AP$2199,CALENDRIER!$B$2))/2)","v":0},{"$f":"(COUNTIF(CALENDRIER!AQ$1835:AQ$2199,CALENDRIER!$A$2))+((COUNTIF(CALENDRIER!AQ$1835:AQ$2199,CALENDRIER!$B$2))/2)","v":0},{"$f":"(COUNTIF(CALENDRIER!AR$1835:AR$2199,CALENDRIER!$A$2))+((COUNTIF(CALENDRIER!AR$1835:AR$2199,CALENDRIER!$B$2))/2)","v":0},{"$f":"(COUNTIF(CALENDRIER!AS$1835:AS$2199,CALENDRIER!$A$2))+((COUNTIF(CALENDRIER!AS$1835:AS$2199,CALENDRIER!$B$2))/2)","v":0},{"$f":"(COUNTIF(CALENDRIER!AT$1835:AT$2199,CALENDRIER!$A$2))+((COUNTIF(CALENDRIER!AT$1835:AT$2199,CALENDRIER!$B$2))/2)","v":0},{"$f":"(COUNTIF(CALENDRIER!AU$1835:AU$2199,CALENDRIER!$A$2))+((COUNTIF(CALENDRIER!AU$1835:AU$2199,CALENDRIER!$B$2))/2)","v":0},{"$f":"(COUNTIF(CALENDRIER!AV$1835:AV$2199,CALENDRIER!$A$2))+((COUNTIF(CALENDRIER!AV$1835:AV$2199,CALENDRIER!$B$2))/2)","v":0},{"$f":"(COUNTIF(CALENDRIER!AW$1835:AW$2199,CALENDRIER!$A$2))+((COUNTIF(CALENDRIER!AW$1835:AW$2199,CALENDRIER!$B$2))/2)","v":0},{"$f":"(COUNTIF(CALENDRIER!AX$1835:AX$2199,CALENDRIER!$A$2))+((COUNTIF(CALENDRIER!AX$1835:AX$2199,CALENDRIER!$B$2))/2)","v":0},{"$f":"(COUNTIF(CALENDRIER!AY$1835:AY$2199,CALENDRIER!$A$2))+((COUNTIF(CALENDRIER!AY$1835:AY$2199,CALENDRIER!$B$2))/2)","v":0},{"$f":"(COUNTIF(CALENDRIER!AZ$1835:AZ$2199,CALENDRIER!$A$2))+((COUNTIF(CALENDRIER!AZ$1835:AZ$2199,CALENDRIER!$B$2))/2)","v":0},{"$f":"(COUNTIF(CALENDRIER!BA$1835:BA$2199,CALENDRIER!$A$2))+((COUNTIF(CALENDRIER!BA$1835:BA$2199,CALENDRIER!$B$2))/2)","v":0},{"$f":"(COUNTIF(CALENDRIER!BB$1835:BB$2199,CALENDRIER!$A$2))+((COUNTIF(CALENDRIER!BB$1835:BB$2199,CALENDRIER!$B$2))/2)","v":0},{"$f":"(COUNTIF(CALENDRIER!BC$1835:BC$2199,CALENDRIER!$A$2))+((COUNTIF(CALENDRIER!BC$1835:BC$2199,CALENDRIER!$B$2))/2)","v":0},{"$f":"(COUNTIF(CALENDRIER!BD$1835:BD$2199,CALENDRIER!$A$2))+((COUNTIF(CALENDRIER!BD$1835:BD$2199,CALENDRIER!$B$2))/2)","v":0},{"$f":"(COUNTIF(CALENDRIER!BE$1835:BE$2199,CALENDRIER!$A$2))+((COUNTIF(CALENDRIER!BE$1835:BE$2199,CALENDRIER!$B$2))/2)","v":0},{"$f":"(COUNTIF(CALENDRIER!BF$1835:BF$2199,CALENDRIER!$A$2))+((COUNTIF(CALENDRIER!BF$1835:BF$2199,CALENDRIER!$B$2))/2)","v":0},{"$f":"(COUNTIF(CALENDRIER!BG$1835:BG$2199,CALENDRIER!$A$2))+((COUNTIF(CALENDRIER!BG$1835:BG$2199,CALENDRIER!$B$2))/2)","v":0},{"$f":"(COUNTIF(CALENDRIER!BH$1835:BH$2199,CALENDRIER!$A$2))+((COUNTIF(CALENDRIER!BH$1835:BH$2199,CALENDRIER!$B$2))/2)","v":0},{"$f":"(COUNTIF(CALENDRIER!BI$1835:BI$2199,CALENDRIER!$A$2))+((COUNTIF(CALENDRIER!BI$1835:BI$2199,CALENDRIER!$B$2))/2)","v":0},{"$f":"(COUNTIF(CALENDRIER!BJ$1835:BJ$2199,CALENDRIER!$A$2))+((COUNTIF(CALENDRIER!BJ$1835:BJ$2199,CALENDRIER!$B$2))/2)","v":0},{"$f":"(COUNTIF(CALENDRIER!BK$1835:BK$2199,CALENDRIER!$A$2))+((COUNTIF(CALENDRIER!BK$1835:BK$2199,CALENDRIER!$B$2))/2)","v":0},{"$f":"(COUNTIF(CALENDRIER!BL$1835:BL$2199,CALENDRIER!$A$2))+((COUNTIF(CALENDRIER!BL$1835:BL$2199,CALENDRIER!$B$2))/2)","v":0},{"$f":"(COUNTIF(CALENDRIER!BM$1835:BM$2199,CALENDRIER!$A$2))+((COUNTIF(CALENDRIER!BM$1835:BM$2199,CALENDRIER!$B$2))/2)","v":0},{"$f":"(COUNTIF(CALENDRIER!BN$1835:BN$2199,CALENDRIER!$A$2))+((COUNTIF(CALENDRIER!BN$1835:BN$2199,CALENDRIER!$B$2))/2)","v":0},{"$f":"(COUNTIF(CALENDRIER!BO$1835:BO$2199,CALENDRIER!$A$2))+((COUNTIF(CALENDRIER!BO$1835:BO$2199,CALENDRIER!$B$2))/2)","v":0},{"$f":"(COUNTIF(CALENDRIER!BP$1835:BP$2199,CALENDRIER!$A$2))+((COUNTIF(CALENDRIER!BP$1835:BP$2199,CALENDRIER!$B$2))/2)","v":0},{"$f":"(COUNTIF(CALENDRIER!BQ$1835:BQ$2199,CALENDRIER!$A$2))+((COUNTIF(CALENDRIER!BQ$1835:BQ$2199,CALENDRIER!$B$2))/2)","v":0},{"$f":"(COUNTIF(CALENDRIER!BR$1835:BR$2199,CALENDRIER!$A$2))+((COUNTIF(CALENDRIER!BR$1835:BR$2199,CALENDRIER!$B$2))/2)","v":0},{"$f":"(COUNTIF(CALENDRIER!BS$1835:BS$2199,CALENDRIER!$A$2))+((COUNTIF(CALENDRIER!BS$1835:BS$2199,CALENDRIER!$B$2))/2)","v":0},{"$f":"(COUNTIF(CALENDRIER!BT$1835:BT$2199,CALENDRIER!$A$2))+((COUNTIF(CALENDRIER!BT$1835:BT$2199,CALENDRIER!$B$2))/2)","v":0},{"$f":"(COUNTIF(CALENDRIER!BU$1835:BU$2199,CALENDRIER!$A$2))+((COUNTIF(CALENDRIER!BU$1835:BU$2199,CALENDRIER!$B$2))/2)","v":0},{"$f":"(COUNTIF(CALENDRIER!BV$1835:BV$2199,CALENDRIER!$A$2))+((COUNTIF(CALENDRIER!BV$1835:BV$2199,CALENDRIER!$B$2))/2)","v":0},{"$f":"(COUNTIF(CALENDRIER!BW$1835:BW$2199,CALENDRIER!$A$2))+((COUNTIF(CALENDRIER!BW$1835:BW$2199,CALENDRIER!$B$2))/2)","v":0},{"$f":"(COUNTIF(CALENDRIER!BX$1835:BX$2199,CALENDRIER!$A$2))+((COUNTIF(CALENDRIER!BX$1835:BX$2199,CALENDRIER!$B$2))/2)","v":0},{"$f":"(COUNTIF(CALENDRIER!BY$1835:BY$2199,CALENDRIER!$A$2))+((COUNTIF(CALENDRIER!BY$1835:BY$2199,CALENDRIER!$B$2))/2)","v":0},{"$f":"(COUNTIF(CALENDRIER!BZ$1835:BZ$2199,CALENDRIER!$A$2))+((COUNTIF(CALENDRIER!BZ$1835:BZ$2199,CALENDRIER!$B$2))/2)","v":0},{"$f":"(COUNTIF(CALENDRIER!CA$1835:CA$2199,CALENDRIER!$A$2))+((COUNTIF(CALENDRIER!CA$1835:CA$2199,CALENDRIER!$B$2))/2)","v":0},{"$f":"(COUNTIF(CALENDRIER!CB$1835:CB$2199,CALENDRIER!$A$2))+((COUNTIF(CALENDRIER!CB$1835:CB$2199,CALENDRIER!$B$2))/2)","v":0},{"$f":"(COUNTIF(CALENDRIER!CC$1835:CC$2199,CALENDRIER!$A$2))+((COUNTIF(CALENDRIER!CC$1835:CC$2199,CALENDRIER!$B$2))/2)","v":0},{"$f":"(COUNTIF(CALENDRIER!CD$1835:CD$2199,CALENDRIER!$A$2))+((COUNTIF(CALENDRIER!CD$1835:CD$2199,CALENDRIER!$B$2))/2)","v":0},{"$f":"(COUNTIF(CALENDRIER!CE$1835:CE$2199,CALENDRIER!$A$2))+((COUNTIF(CALENDRIER!CE$1835:CE$2199,CALENDRIER!$B$2))/2)","v":0},{"$f":"(COUNTIF(CALENDRIER!CF$1835:CF$2199,CALENDRIER!$A$2))+((COUNTIF(CALENDRIER!CF$1835:CF$2199,CALENDRIER!$B$2))/2)","v":0},{"$f":"(COUNTIF(CALENDRIER!CG$1835:CG$2199,CALENDRIER!$A$2))+((COUNTIF(CALENDRIER!CG$1835:CG$2199,CALENDRIER!$B$2))/2)","v":0},{"$f":"(COUNTIF(CALENDRIER!CH$1835:CH$2199,CALENDRIER!$A$2))+((COUNTIF(CALENDRIER!CH$1835:CH$2199,CALENDRIER!$B$2))/2)","v":0},{"$f":"(COUNTIF(CALENDRIER!CI$1835:CI$2199,CALENDRIER!$A$2))+((COUNTIF(CALENDRIER!CI$1835:CI$2199,CALENDRIER!$B$2))/2)","v":0},{"$f":"(COUNTIF(CALENDRIER!CJ$1835:CJ$2199,CALENDRIER!$A$2))+((COUNTIF(CALENDRIER!CJ$1835:CJ$2199,CALENDRIER!$B$2))/2)","v":0},{"$f":"(COUNTIF(CALENDRIER!CK$1835:CK$2199,CALENDRIER!$A$2))+((COUNTIF(CALENDRIER!CK$1835:CK$2199,CALENDRIER!$B$2))/2)","v":0},{"$f":"(COUNTIF(CALENDRIER!CL$1835:CL$2199,CALENDRIER!$A$2))+((COUNTIF(CALENDRIER!CL$1835:CL$2199,CALENDRIER!$B$2))/2)","v":0},{"$f":"(COUNTIF(CALENDRIER!CM$1835:CM$2199,CALENDRIER!$A$2))+((COUNTIF(CALENDRIER!CM$1835:CM$2199,CALENDRIER!$B$2))/2)","v":0},{"$f":"(COUNTIF(CALENDRIER!CN$1835:CN$2199,CALENDRIER!$A$2))+((COUNTIF(CALENDRIER!CN$1835:CN$2199,CALENDRIER!$B$2))/2)","v":0},{"$f":"(COUNTIF(CALENDRIER!CO$1835:CO$2199,CALENDRIER!$A$2))+((COUNTIF(CALENDRIER!CO$1835:CO$2199,CALENDRIER!$B$2))/2)","v":0},{"$f":"(COUNTIF(CALENDRIER!CP$1835:CP$2199,CALENDRIER!$A$2))+((COUNTIF(CALENDRIER!CP$1835:CP$2199,CALENDRIER!$B$2))/2)","v":0},{"$f":"(COUNTIF(CALENDRIER!CQ$1835:CQ$2199,CALENDRIER!$A$2))+((COUNTIF(CALENDRIER!CQ$1835:CQ$2199,CALENDRIER!$B$2))/2)","v":0},{"$f":"(COUNTIF(CALENDRIER!CR$1835:CR$2199,CALENDRIER!$A$2))+((COUNTIF(CALENDRIER!CR$1835:CR$2199,CALENDRIER!$B$2))/2)","v":0},{"$f":"(COUNTIF(CALENDRIER!CS$1835:CS$2199,CALENDRIER!$A$2))+((COUNTIF(CALENDRIER!CS$1835:CS$2199,CALENDRIER!$B$2))/2)","v":0},{"$f":"(COUNTIF(CALENDRIER!CT$1835:CT$2199,CALENDRIER!$A$2))+((COUNTIF(CALENDRIER!CT$1835:CT$2199,CALENDRIER!$B$2))/2)","v":0},{"$f":"(COUNTIF(CALENDRIER!CU$1835:CU$2199,CALENDRIER!$A$2))+((COUNTIF(CALENDRIER!CU$1835:CU$2199,CALENDRIER!$B$2))/2)","v":0},{"$f":"(COUNTIF(CALENDRIER!CV$1835:CV$2199,CALENDRIER!$A$2))+((COUNTIF(CALENDRIER!CV$1835:CV$2199,CALENDRIER!$B$2))/2)","v":0},{"$f":"(COUNTIF(CALENDRIER!CW$1835:CW$2199,CALENDRIER!$A$2))+((COUNTIF(CALENDRIER!CW$1835:CW$2199,CALENDRIER!$B$2))/2)","v":0},{"$f":"(COUNTIF(CALENDRIER!CX$1835:CX$2199,CALENDRIER!$A$2))+((COUNTIF(CALENDRIER!CX$1835:CX$2199,CALENDRIER!$B$2))/2)","v":0},{"$f":"(COUNTIF(CALENDRIER!CY$1835:CY$2199,CALENDRIER!$A$2))+((COUNTIF(CALENDRIER!CY$1835:CY$2199,CALENDRIER!$B$2))/2)","v":0},{"$f":"(COUNTIF(CALENDRIER!CZ$1835:CZ$2199,CALENDRIER!$A$2))+((COUNTIF(CALENDRIER!CZ$1835:CZ$2199,CALENDRIER!$B$2))/2)","v":0},{"$f":"(COUNTIF(CALENDRIER!DA$1835:DA$2199,CALENDRIER!$A$2))+((COUNTIF(CALENDRIER!DA$1835:DA$2199,CALENDRIER!$B$2))/2)","v":0},{"$f":"(COUNTIF(CALENDRIER!DB$1835:DB$2199,CALENDRIER!$A$2))+((COUNTIF(CALENDRIER!DB$1835:DB$2199,CALENDRIER!$B$2))/2)","v":0},{"$f":"(COUNTIF(CALENDRIER!DC$1835:DC$2199,CALENDRIER!$A$2))+((COUNTIF(CALENDRIER!DC$1835:DC$2199,CALENDRIER!$B$2))/2)","v":0},{"$f":"(COUNTIF(CALENDRIER!DD$1835:DD$2199,CALENDRIER!$A$2))+((COUNTIF(CALENDRIER!DD$1835:DD$2199,CALENDRIER!$B$2))/2)","v":0},{"$f":"(COUNTIF(CALENDRIER!DE$1835:DE$2199,CALENDRIER!$A$2))+((COUNTIF(CALENDRIER!DE$1835:DE$2199,CALENDRIER!$B$2))/2)","v":0},{"$f":"(COUNTIF(CALENDRIER!DF$1835:DF$2199,CALENDRIER!$A$2))+((COUNTIF(CALENDRIER!DF$1835:DF$2199,CALENDRIER!$B$2))/2)","v":0},{"$f":"(COUNTIF(CALENDRIER!DG$1835:DG$2199,CALENDRIER!$A$2))+((COUNTIF(CALENDRIER!DG$1835:DG$2199,CALENDRIER!$B$2))/2)","v":0},{"$f":"(COUNTIF(CALENDRIER!DH$1835:DH$2199,CALENDRIER!$A$2))+((COUNTIF(CALENDRIER!DH$1835:DH$2199,CALENDRIER!$B$2))/2)","v":0},{"$f":"(COUNTIF(CALENDRIER!DI$1835:DI$2199,CALENDRIER!$A$2))+((COUNTIF(CALENDRIER!DI$1835:DI$2199,CALENDRIER!$B$2))/2)","v":0},{"$f":"(COUNTIF(CALENDRIER!DJ$1835:DJ$2199,CALENDRIER!$A$2))+((COUNTIF(CALENDRIER!DJ$1835:DJ$2199,CALENDRIER!$B$2))/2)","v":0},{"$f":"(COUNTIF(CALENDRIER!DK$1835:DK$2199,CALENDRIER!$A$2))+((COUNTIF(CALENDRIER!DK$1835:DK$2199,CALENDRIER!$B$2))/2)","v":0},{"$f":"(COUNTIF(CALENDRIER!DL$1835:DL$2199,CALENDRIER!$A$2))+((COUNTIF(CALENDRIER!DL$1835:DL$2199,CALENDRIER!$B$2))/2)","v":0},{"$f":"(COUNTIF(CALENDRIER!DM$1835:DM$2199,CALENDRIER!$A$2))+((COUNTIF(CALENDRIER!DM$1835:DM$2199,CALENDRIER!$B$2))/2)","v":0},{"$f":"(COUNTIF(CALENDRIER!DN$1835:DN$2199,CALENDRIER!$A$2))+((COUNTIF(CALENDRIER!DN$1835:DN$2199,CALENDRIER!$B$2))/2)","v":0},{"$f":"(COUNTIF(CALENDRIER!DO$1835:DO$2199,CALENDRIER!$A$2))+((COUNTIF(CALENDRIER!DO$1835:DO$2199,CALENDRIER!$B$2))/2)","v":0},{"$f":"(COUNTIF(CALENDRIER!DP$1835:DP$2199,CALENDRIER!$A$2))+((COUNTIF(CALENDRIER!DP$1835:DP$2199,CALENDRIER!$B$2))/2)","v":0},{"$f":"(COUNTIF(CALENDRIER!DQ$1835:DQ$2199,CALENDRIER!$A$2))+((COUNTIF(CALENDRIER!DQ$1835:DQ$2199,CALENDRIER!$B$2))/2)","v":0},{"$f":"(COUNTIF(CALENDRIER!DR$1835:DR$2199,CALENDRIER!$A$2))+((COUNTIF(CALENDRIER!DR$1835:DR$2199,CALENDRIER!$B$2))/2)","v":0},{"$f":"(COUNTIF(CALENDRIER!DS$1835:DS$2199,CALENDRIER!$A$2))+((COUNTIF(CALENDRIER!DS$1835:DS$2199,CALENDRIER!$B$2))/2)","v":0},{"$f":"(COUNTIF(CALENDRIER!DT$1835:DT$2199,CALENDRIER!$A$2))+((COUNTIF(CALENDRIER!DT$1835:DT$2199,CALENDRIER!$B$2))/2)","v":0},{"$f":"(COUNTIF(CALENDRIER!DU$1835:DU$2199,CALENDRIER!$A$2))+((COUNTIF(CALENDRIER!DU$1835:DU$2199,CALENDRIER!$B$2))/2)","v":0},{"$f":"(COUNTIF(CALENDRIER!DV$1835:DV$2199,CALENDRIER!$A$2))+((COUNTIF(CALENDRIER!DV$1835:DV$2199,CALENDRIER!$B$2))/2)","v":0},{"$f":"(COUNTIF(CALENDRIER!DW$1835:DW$2199,CALENDRIER!$A$2))+((COUNTIF(CALENDRIER!DW$1835:DW$2199,CALENDRIER!$B$2))/2)","v":0},{"$f":"(COUNTIF(CALENDRIER!DX$1835:DX$2199,CALENDRIER!$A$2))+((COUNTIF(CALENDRIER!DX$1835:DX$2199,CALENDRIER!$B$2))/2)","v":0},{"$f":"(COUNTIF(CALENDRIER!DY$1835:DY$2199,CALENDRIER!$A$2))+((COUNTIF(CALENDRIER!DY$1835:DY$2199,CALENDRIER!$B$2))/2)","v":0},{"$f":"(COUNTIF(CALENDRIER!DZ$1835:DZ$2199,CALENDRIER!$A$2))+((COUNTIF(CALENDRIER!DZ$1835:DZ$2199,CALENDRIER!$B$2))/2)","v":0},{"$f":"(COUNTIF(CALENDRIER!EA$1835:EA$2199,CALENDRIER!$A$2))+((COUNTIF(CALENDRIER!EA$1835:EA$2199,CALENDRIER!$B$2))/2)","v":0},{"$f":"(COUNTIF(CALENDRIER!EB$1835:EB$2199,CALENDRIER!$A$2))+((COUNTIF(CALENDRIER!EB$1835:EB$2199,CALENDRIER!$B$2))/2)","v":0},{"$f":"(COUNTIF(CALENDRIER!EC$1835:EC$2199,CALENDRIER!$A$2))+((COUNTIF(CALENDRIER!EC$1835:EC$2199,CALENDRIER!$B$2))/2)","v":0},{"$f":"(COUNTIF(CALENDRIER!ED$1835:ED$2199,CALENDRIER!$A$2))+((COUNTIF(CALENDRIER!ED$1835:ED$2199,CALENDRIER!$B$2))/2)","v":0},{"$f":"(COUNTIF(CALENDRIER!EE$1835:EE$2199,CALENDRIER!$A$2))+((COUNTIF(CALENDRIER!EE$1835:EE$2199,CALENDRIER!$B$2))/2)","v":0},{"$f":"(COUNTIF(CALENDRIER!EF$1835:EF$2199,CALENDRIER!$A$2))+((COUNTIF(CALENDRIER!EF$1835:EF$2199,CALENDRIER!$B$2))/2)","v":0},{"$f":"(COUNTIF(CALENDRIER!EG$1835:EG$2199,CALENDRIER!$A$2))+((COUNTIF(CALENDRIER!EG$1835:EG$2199,CALENDRIER!$B$2))/2)","v":0},{"$f":"(COUNTIF(CALENDRIER!EH$1835:EH$2199,CALENDRIER!$A$2))+((COUNTIF(CALENDRIER!EH$1835:EH$2199,CALENDRIER!$B$2))/2)","v":0},{"$f":"(COUNTIF(CALENDRIER!EI$1835:EI$2199,CALENDRIER!$A$2))+((COUNTIF(CALENDRIER!EI$1835:EI$2199,CALENDRIER!$B$2))/2)","v":0},{"$f":"(COUNTIF(CALENDRIER!EJ$1835:EJ$2199,CALENDRIER!$A$2))+((COUNTIF(CALENDRIER!EJ$1835:EJ$2199,CALENDRIER!$B$2))/2)","v":0},{"$f":"(COUNTIF(CALENDRIER!EK$1835:EK$2199,CALENDRIER!$A$2))+((COUNTIF(CALENDRIER!EK$1835:EK$2199,CALENDRIER!$B$2))/2)","v":0},{"$f":"(COUNTIF(CALENDRIER!EL$1835:EL$2199,CALENDRIER!$A$2))+((COUNTIF(CALENDRIER!EL$1835:EL$2199,CALENDRIER!$B$2))/2)","v":0},{"$f":"(COUNTIF(CALENDRIER!EM$1835:EM$2199,CALENDRIER!$A$2))+((COUNTIF(CALENDRIER!EM$1835:EM$2199,CALENDRIER!$B$2))/2)","v":0},{"$f":"(COUNTIF(CALENDRIER!EN$1835:EN$2199,CALENDRIER!$A$2))+((COUNTIF(CALENDRIER!EN$1835:EN$2199,CALENDRIER!$B$2))/2)","v":0},{"$f":"(COUNTIF(CALENDRIER!EO$1835:EO$2199,CALENDRIER!$A$2))+((COUNTIF(CALENDRIER!EO$1835:EO$2199,CALENDRIER!$B$2))/2)","v":0},{"$f":"(COUNTIF(CALENDRIER!EP$1835:EP$2199,CALENDRIER!$A$2))+((COUNTIF(CALENDRIER!EP$1835:EP$2199,CALENDRIER!$B$2))/2)","v":0},{"$f":"(COUNTIF(CALENDRIER!EQ$1835:EQ$2199,CALENDRIER!$A$2))+((COUNTIF(CALENDRIER!EQ$1835:EQ$2199,CALENDRIER!$B$2))/2)","v":0},{"$f":"(COUNTIF(CALENDRIER!ER$1835:ER$2199,CALENDRIER!$A$2))+((COUNTIF(CALENDRIER!ER$1835:ER$2199,CALENDRIER!$B$2))/2)","v":0},{"$f":"(COUNTIF(CALENDRIER!ES$1835:ES$2199,CALENDRIER!$A$2))+((COUNTIF(CALENDRIER!ES$1835:ES$2199,CALENDRIER!$B$2))/2)","v":0},{"$f":"(COUNTIF(CALENDRIER!ET$1835:ET$2199,CALENDRIER!$A$2))+((COUNTIF(CALENDRIER!ET$1835:ET$2199,CALENDRIER!$B$2))/2)","v":0},{"$f":"(COUNTIF(CALENDRIER!EU$1835:EU$2199,CALENDRIER!$A$2))+((COUNTIF(CALENDRIER!EU$1835:EU$2199,CALENDRIER!$B$2))/2)","v":0},{"$f":"(COUNTIF(CALENDRIER!EV$1835:EV$2199,CALENDRIER!$A$2))+((COUNTIF(CALENDRIER!EV$1835:EV$2199,CALENDRIER!$B$2))/2)","v":0},{"$f":"(COUNTIF(CALENDRIER!EW$1835:EW$2199,CALENDRIER!$A$2))+((COUNTIF(CALENDRIER!EW$1835:EW$2199,CALENDRIER!$B$2))/2)","v":0},{"$f":"(COUNTIF(CALENDRIER!EX$1835:EX$2199,CALENDRIER!$A$2))+((COUNTIF(CALENDRIER!EX$1835:EX$2199,CALENDRIER!$B$2))/2)","v":0},{"$f":"(COUNTIF(CALENDRIER!EY$1835:EY$2199,CALENDRIER!$A$2))+((COUNTIF(CALENDRIER!EY$1835:EY$2199,CALENDRIER!$B$2))/2)","v":0},{"$f":"(COUNTIF(CALENDRIER!EZ$1835:EZ$2199,CALENDRIER!$A$2))+((COUNTIF(CALENDRIER!EZ$1835:EZ$2199,CALENDRIER!$B$2))/2)","v":0},{"$f":"(COUNTIF(CALENDRIER!FA$1835:FA$2199,CALENDRIER!$A$2))+((COUNTIF(CALENDRIER!FA$1835:FA$2199,CALENDRIER!$B$2))/2)","v":0},{"$f":"(COUNTIF(CALENDRIER!FB$1835:FB$2199,CALENDRIER!$A$2))+((COUNTIF(CALENDRIER!FB$1835:FB$2199,CALENDRIER!$B$2))/2)","v":0},{"$f":"(COUNTIF(CALENDRIER!FC$1835:FC$2199,CALENDRIER!$A$2))+((COUNTIF(CALENDRIER!FC$1835:FC$2199,CALENDRIER!$B$2))/2)","v":0},{"$f":"(COUNTIF(CALENDRIER!FD$1835:FD$2199,CALENDRIER!$A$2))+((COUNTIF(CALENDRIER!FD$1835:FD$2199,CALENDRIER!$B$2))/2)","v":0},{"$f":"(COUNTIF(CALENDRIER!FE$1835:FE$2199,CALENDRIER!$A$2))+((COUNTIF(CALENDRIER!FE$1835:FE$2199,CALENDRIER!$B$2))/2)","v":0},{"$f":"(COUNTIF(CALENDRIER!FF$1835:FF$2199,CALENDRIER!$A$2))+((COUNTIF(CALENDRIER!FF$1835:FF$2199,CALENDRIER!$B$2))/2)","v":0},{"$f":"(COUNTIF(CALENDRIER!FG$1835:FG$2199,CALENDRIER!$A$2))+((COUNTIF(CALENDRIER!FG$1835:FG$2199,CALENDRIER!$B$2))/2)","v":0},{"$f":"(COUNTIF(CALENDRIER!FH$1835:FH$2199,CALENDRIER!$A$2))+((COUNTIF(CALENDRIER!FH$1835:FH$2199,CALENDRIER!$B$2))/2)","v":0},{"$f":"(COUNTIF(CALENDRIER!FI$1835:FI$2199,CALENDRIER!$A$2))+((COUNTIF(CALENDRIER!FI$1835:FI$2199,CALENDRIER!$B$2))/2)","v":0},{"$f":"(COUNTIF(CALENDRIER!FJ$1835:FJ$2199,CALENDRIER!$A$2))+((COUNTIF(CALENDRIER!FJ$1835:FJ$2199,CALENDRIER!$B$2))/2)","v":0},{"$f":"(COUNTIF(CALENDRIER!FK$1835:FK$2199,CALENDRIER!$A$2))+((COUNTIF(CALENDRIER!FK$1835:FK$2199,CALENDRIER!$B$2))/2)","v":0},{"$f":"(COUNTIF(CALENDRIER!FL$1835:FL$2199,CALENDRIER!$A$2))+((COUNTIF(CALENDRIER!FL$1835:FL$2199,CALENDRIER!$B$2))/2)","v":0},{"$f":"(COUNTIF(CALENDRIER!FM$1835:FM$2199,CALENDRIER!$A$2))+((COUNTIF(CALENDRIER!FM$1835:FM$2199,CALENDRIER!$B$2))/2)","v":0},{"$f":"(COUNTIF(CALENDRIER!FN$1835:FN$2199,CALENDRIER!$A$2))+((COUNTIF(CALENDRIER!FN$1835:FN$2199,CALENDRIER!$B$2))/2)","v":0},{"$f":"(COUNTIF(CALENDRIER!FO$1835:FO$2199,CALENDRIER!$A$2))+((COUNTIF(CALENDRIER!FO$1835:FO$2199,CALENDRIER!$B$2))/2)","v":0},{"$f":"(COUNTIF(CALENDRIER!FP$1835:FP$2199,CALENDRIER!$A$2))+((COUNTIF(CALENDRIER!FP$1835:FP$2199,CALENDRIER!$B$2))/2)","v":0},{"$f":"(COUNTIF(CALENDRIER!FQ$1835:FQ$2199,CALENDRIER!$A$2))+((COUNTIF(CALENDRIER!FQ$1835:FQ$2199,CALENDRIER!$B$2))/2)","v":0},{"$f":"(COUNTIF(CALENDRIER!FR$1835:FR$2199,CALENDRIER!$A$2))+((COUNTIF(CALENDRIER!FR$1835:FR$2199,CALENDRIER!$B$2))/2)","v":0},{"$f":"(COUNTIF(CALENDRIER!FS$1835:FS$2199,CALENDRIER!$A$2))+((COUNTIF(CALENDRIER!FS$1835:FS$2199,CALENDRIER!$B$2))/2)","v":0},{"$f":"(COUNTIF(CALENDRIER!FT$1835:FT$2199,CALENDRIER!$A$2))+((COUNTIF(CALENDRIER!FT$1835:FT$2199,CALENDRIER!$B$2))/2)","v":0},{"$f":"(COUNTIF(CALENDRIER!FU$1835:FU$2199,CALENDRIER!$A$2))+((COUNTIF(CALENDRIER!FU$1835:FU$2199,CALENDRIER!$B$2))/2)","v":0},{"$f":"(COUNTIF(CALENDRIER!FV$1835:FV$2199,CALENDRIER!$A$2))+((COUNTIF(CALENDRIER!FV$1835:FV$2199,CALENDRIER!$B$2))/2)","v":0},{"$f":"(COUNTIF(CALENDRIER!FW$1835:FW$2199,CALENDRIER!$A$2))+((COUNTIF(CALENDRIER!FW$1835:FW$2199,CALENDRIER!$B$2))/2)","v":0},{"$f":"(COUNTIF(CALENDRIER!FX$1835:FX$2199,CALENDRIER!$A$2))+((COUNTIF(CALENDRIER!FX$1835:FX$2199,CALENDRIER!$B$2))/2)","v":0},{"$f":"(COUNTIF(CALENDRIER!FY$1835:FY$2199,CALENDRIER!$A$2))+((COUNTIF(CALENDRIER!FY$1835:FY$2199,CALENDRIER!$B$2))/2)","v":0},{"$f":"(COUNTIF(CALENDRIER!FZ$1835:FZ$2199,CALENDRIER!$A$2))+((COUNTIF(CALENDRIER!FZ$1835:FZ$2199,CALENDRIER!$B$2))/2)","v":0},{"$f":"(COUNTIF(CALENDRIER!GA$1835:GA$2199,CALENDRIER!$A$2))+((COUNTIF(CALENDRIER!GA$1835:GA$2199,CALENDRIER!$B$2))/2)","v":0},{"$f":"(COUNTIF(CALENDRIER!GB$1835:GB$2199,CALENDRIER!$A$2))+((COUNTIF(CALENDRIER!GB$1835:GB$2199,CALENDRIER!$B$2))/2)","v":0},{"$f":"(COUNTIF(CALENDRIER!GC$1835:GC$2199,CALENDRIER!$A$2))+((COUNTIF(CALENDRIER!GC$1835:GC$2199,CALENDRIER!$B$2))/2)","v":0},{"$f":"(COUNTIF(CALENDRIER!GD$1835:GD$2199,CALENDRIER!$A$2))+((COUNTIF(CALENDRIER!GD$1835:GD$2199,CALENDRIER!$B$2))/2)","v":0},{"$f":"(COUNTIF(CALENDRIER!GE$1835:GE$2199,CALENDRIER!$A$2))+((COUNTIF(CALENDRIER!GE$1835:GE$2199,CALENDRIER!$B$2))/2)","v":0},{"$f":"(COUNTIF(CALENDRIER!GF$1835:GF$2199,CALENDRIER!$A$2))+((COUNTIF(CALENDRIER!GF$1835:GF$2199,CALENDRIER!$B$2))/2)","v":0},{"$f":"(COUNTIF(CALENDRIER!GG$1835:GG$2199,CALENDRIER!$A$2))+((COUNTIF(CALENDRIER!GG$1835:GG$2199,CALENDRIER!$B$2))/2)","v":0},{"$f":"(COUNTIF(CALENDRIER!GH$1835:GH$2199,CALENDRIER!$A$2))+((COUNTIF(CALENDRIER!GH$1835:GH$2199,CALENDRIER!$B$2))/2)","v":0},{"$f":"(COUNTIF(CALENDRIER!GI$1835:GI$2199,CALENDRIER!$A$2))+((COUNTIF(CALENDRIER!GI$1835:GI$2199,CALENDRIER!$B$2))/2)","v":0},{"$f":"(COUNTIF(CALENDRIER!GJ$1835:GJ$2199,CALENDRIER!$A$2))+((COUNTIF(CALENDRIER!GJ$1835:GJ$2199,CALENDRIER!$B$2))/2)","v":0},{"$f":"(COUNTIF(CALENDRIER!GK$1835:GK$2199,CALENDRIER!$A$2))+((COUNTIF(CALENDRIER!GK$1835:GK$2199,CALENDRIER!$B$2))/2)","v":0},{"$f":"(COUNTIF(CALENDRIER!GL$1835:GL$2199,CALENDRIER!$A$2))+((COUNTIF(CALENDRIER!GL$1835:GL$2199,CALENDRIER!$B$2))/2)","v":0},{"$f":"(COUNTIF(CALENDRIER!GM$1835:GM$2199,CALENDRIER!$A$2))+((COUNTIF(CALENDRIER!GM$1835:GM$2199,CALENDRIER!$B$2))/2)","v":0},{"$f":"(COUNTIF(CALENDRIER!GN$1835:GN$2199,CALENDRIER!$A$2))+((COUNTIF(CALENDRIER!GN$1835:GN$2199,CALENDRIER!$B$2))/2)","v":0},{"$f":"(COUNTIF(CALENDRIER!GO$1835:GO$2199,CALENDRIER!$A$2))+((COUNTIF(CALENDRIER!GO$1835:GO$2199,CALENDRIER!$B$2))/2)","v":0},{"$f":"(COUNTIF(CALENDRIER!GP$1835:GP$2199,CALENDRIER!$A$2))+((COUNTIF(CALENDRIER!GP$1835:GP$2199,CALENDRIER!$B$2))/2)","v":0},{"$f":"(COUNTIF(CALENDRIER!GQ$1835:GQ$2199,CALENDRIER!$A$2))+((COUNTIF(CALENDRIER!GQ$1835:GQ$2199,CALENDRIER!$B$2))/2)","v":0},{"$f":"(COUNTIF(CALENDRIER!GR$1835:GR$2199,CALENDRIER!$A$2))+((COUNTIF(CALENDRIER!GR$1835:GR$2199,CALENDRIER!$B$2))/2)","v":0}]
[null,{"$f":"\"Solde \"&CALENDRIER!$A$2&\" \"&A89&\" : \"","v":"Solde CP Anc 2020-2021 : "},{"$f":"C90-C91","v":0},{"$f":"D90-D91","v":0},0,0,0,0,0,0,0,0,0,0,0,0,0,0,0,0,0,0,0,0,0,0,0,0,0,0,0,0,0,0,0,0,0,0,0,0,0,0,0,0,0,0,0,0,0,0,0,0,0,0,0,0,0,0,0,0,0,0,0,0,0,0,0,{"$f":"BP90-BP91","v":0},0,0,0,0,0,0,0,0,0,0,0,0,0,0,0,0,0,0,0,0,0,0,0,0,0,0,0,0,0,0,0,0,0,0,0,0,0,0,0,0,0,0,0,0,0,0,0,0,0,0,0,0,0,0,0,0,0,0,0,0,0,0,0,{"$f":"EB90-EB91","v":0},0,0,0,0,0,0,0,0,0,0,0,0,0,0,0,0,0,0,0,0,0,0,0,0,0,0,0,0,0,0,0,0,0,0,0,0,0,0,0,0,0,0,0,0,0,0,0,0,0,0,0,0,0,0,0,0,0,0,0,0,0,0,0,{"$f":"GN90-GN91","v":0},0,0,0,0]
[]
[]
[]
[]
[]
[]
[]
[]
[]
[]
[]
[]
[]
[]
[]
[]
[]
[]
[]
[]
["année civile (du 1er janvier au 31 décembre)"]
[2016,{"$f":"CALENDRIER!$A$3","v":"RTT"}]
[null,"SOLDE DEPART"]
[null,{"$f":"CALENDRIER!$A$3&\" PRIS\"","v":"RTT PRIS"},{"$f":"(COUNTIF(CALENDRIER!C$222:C$587,CALENDRIER!$A$3))+((COUNTIF(CALENDRIER!C$222:C$587,CALENDRIER!$B$3))/2)","v":0},{"$f":"(COUNTIF(CALENDRIER!D$222:D$587,CALENDRIER!$A$3))+((COUNTIF(CALENDRIER!D$222:D$587,CALENDRIER!$B$3))/2)","v":0},{"$f":"(COUNTIF(CALENDRIER!E$222:E$587,CALENDRIER!$A$3))+((COUNTIF(CALENDRIER!E$222:E$587,CALENDRIER!$B$3))/2)","v":0},{"$f":"(COUNTIF(CALENDRIER!F$222:F$587,CALENDRIER!$A$3))+((COUNTIF(CALENDRIER!F$222:F$587,CALENDRIER!$B$3))/2)","v":0},{"$f":"(COUNTIF(CALENDRIER!G$222:G$587,CALENDRIER!$A$3))+((COUNTIF(CALENDRIER!G$222:G$587,CALENDRIER!$B$3))/2)","v":0},{"$f":"(COUNTIF(CALENDRIER!H$222:H$587,CALENDRIER!$A$3))+((COUNTIF(CALENDRIER!H$222:H$587,CALENDRIER!$B$3))/2)","v":0},{"$f":"(COUNTIF(CALENDRIER!I$222:I$587,CALENDRIER!$A$3))+((COUNTIF(CALENDRIER!I$222:I$587,CALENDRIER!$B$3))/2)","v":0},{"$f":"(COUNTIF(CALENDRIER!J$222:J$587,CALENDRIER!$A$3))+((COUNTIF(CALENDRIER!J$222:J$587,CALENDRIER!$B$3))/2)","v":0},{"$f":"(COUNTIF(CALENDRIER!K$222:K$587,CALENDRIER!$A$3))+((COUNTIF(CALENDRIER!K$222:K$587,CALENDRIER!$B$3))/2)","v":0},{"$f":"(COUNTIF(CALENDRIER!L$222:L$587,CALENDRIER!$A$3))+((COUNTIF(CALENDRIER!L$222:L$587,CALENDRIER!$B$3))/2)","v":0},{"$f":"(COUNTIF(CALENDRIER!M$222:M$587,CALENDRIER!$A$3))+((COUNTIF(CALENDRIER!M$222:M$587,CALENDRIER!$B$3))/2)","v":0},{"$f":"(COUNTIF(CALENDRIER!N$222:N$587,CALENDRIER!$A$3))+((COUNTIF(CALENDRIER!N$222:N$587,CALENDRIER!$B$3))/2)","v":0},{"$f":"(COUNTIF(CALENDRIER!O$222:O$587,CALENDRIER!$A$3))+((COUNTIF(CALENDRIER!O$222:O$587,CALENDRIER!$B$3))/2)","v":0},{"$f":"(COUNTIF(CALENDRIER!P$222:P$587,CALENDRIER!$A$3))+((COUNTIF(CALENDRIER!P$222:P$587,CALENDRIER!$B$3))/2)","v":0},{"$f":"(COUNTIF(CALENDRIER!Q$222:Q$587,CALENDRIER!$A$3))+((COUNTIF(CALENDRIER!Q$222:Q$587,CALENDRIER!$B$3))/2)","v":0},{"$f":"(COUNTIF(CALENDRIER!R$222:R$587,CALENDRIER!$A$3))+((COUNTIF(CALENDRIER!R$222:R$587,CALENDRIER!$B$3))/2)","v":0},{"$f":"(COUNTIF(CALENDRIER!S$222:S$587,CALENDRIER!$A$3))+((COUNTIF(CALENDRIER!S$222:S$587,CALENDRIER!$B$3))/2)","v":0},{"$f":"(COUNTIF(CALENDRIER!T$222:T$587,CALENDRIER!$A$3))+((COUNTIF(CALENDRIER!T$222:T$587,CALENDRIER!$B$3))/2)","v":0},{"$f":"(COUNTIF(CALENDRIER!U$222:U$587,CALENDRIER!$A$3))+((COUNTIF(CALENDRIER!U$222:U$587,CALENDRIER!$B$3))/2)","v":0},{"$f":"(COUNTIF(CALENDRIER!V$222:V$587,CALENDRIER!$A$3))+((COUNTIF(CALENDRIER!V$222:V$587,CALENDRIER!$B$3))/2)","v":0},{"$f":"(COUNTIF(CALENDRIER!W$222:W$587,CALENDRIER!$A$3))+((COUNTIF(CALENDRIER!W$222:W$587,CALENDRIER!$B$3))/2)","v":0},{"$f":"(COUNTIF(CALENDRIER!X$222:X$587,CALENDRIER!$A$3))+((COUNTIF(CALENDRIER!X$222:X$587,CALENDRIER!$B$3))/2)","v":0},{"$f":"(COUNTIF(CALENDRIER!Y$222:Y$587,CALENDRIER!$A$3))+((COUNTIF(CALENDRIER!Y$222:Y$587,CALENDRIER!$B$3))/2)","v":0},{"$f":"(COUNTIF(CALENDRIER!Z$222:Z$587,CALENDRIER!$A$3))+((COUNTIF(CALENDRIER!Z$222:Z$587,CALENDRIER!$B$3))/2)","v":0},{"$f":"(COUNTIF(CALENDRIER!AA$222:AA$587,CALENDRIER!$A$3))+((COUNTIF(CALENDRIER!AA$222:AA$587,CALENDRIER!$B$3))/2)","v":0},{"$f":"(COUNTIF(CALENDRIER!AB$222:AB$587,CALENDRIER!$A$3))+((COUNTIF(CALENDRIER!AB$222:AB$587,CALENDRIER!$B$3))/2)","v":0},{"$f":"(COUNTIF(CALENDRIER!AC$222:AC$587,CALENDRIER!$A$3))+((COUNTIF(CALENDRIER!AC$222:AC$587,CALENDRIER!$B$3))/2)","v":0},{"$f":"(COUNTIF(CALENDRIER!AD$222:AD$587,CALENDRIER!$A$3))+((COUNTIF(CALENDRIER!AD$222:AD$587,CALENDRIER!$B$3))/2)","v":0},{"$f":"(COUNTIF(CALENDRIER!AE$222:AE$587,CALENDRIER!$A$3))+((COUNTIF(CALENDRIER!AE$222:AE$587,CALENDRIER!$B$3))/2)","v":0},{"$f":"(COUNTIF(CALENDRIER!AF$222:AF$587,CALENDRIER!$A$3))+((COUNTIF(CALENDRIER!AF$222:AF$587,CALENDRIER!$B$3))/2)","v":0},{"$f":"(COUNTIF(CALENDRIER!AG$222:AG$587,CALENDRIER!$A$3))+((COUNTIF(CALENDRIER!AG$222:AG$587,CALENDRIER!$B$3))/2)","v":0},{"$f":"(COUNTIF(CALENDRIER!AH$222:AH$587,CALENDRIER!$A$3))+((COUNTIF(CALENDRIER!AH$222:AH$587,CALENDRIER!$B$3))/2)","v":0},{"$f":"(COUNTIF(CALENDRIER!AI$222:AI$587,CALENDRIER!$A$3))+((COUNTIF(CALENDRIER!AI$222:AI$587,CALENDRIER!$B$3))/2)","v":0},{"$f":"(COUNTIF(CALENDRIER!AJ$222:AJ$587,CALENDRIER!$A$3))+((COUNTIF(CALENDRIER!AJ$222:AJ$587,CALENDRIER!$B$3))/2)","v":0},{"$f":"(COUNTIF(CALENDRIER!AK$222:AK$587,CALENDRIER!$A$3))+((COUNTIF(CALENDRIER!AK$222:AK$587,CALENDRIER!$B$3))/2)","v":0},{"$f":"(COUNTIF(CALENDRIER!AL$222:AL$587,CALENDRIER!$A$3))+((COUNTIF(CALENDRIER!AL$222:AL$587,CALENDRIER!$B$3))/2)","v":0},{"$f":"(COUNTIF(CALENDRIER!AM$222:AM$587,CALENDRIER!$A$3))+((COUNTIF(CALENDRIER!AM$222:AM$587,CALENDRIER!$B$3))/2)","v":0},{"$f":"(COUNTIF(CALENDRIER!AN$222:AN$587,CALENDRIER!$A$3))+((COUNTIF(CALENDRIER!AN$222:AN$587,CALENDRIER!$B$3))/2)","v":0},{"$f":"(COUNTIF(CALENDRIER!AO$222:AO$587,CALENDRIER!$A$3))+((COUNTIF(CALENDRIER!AO$222:AO$587,CALENDRIER!$B$3))/2)","v":0},{"$f":"(COUNTIF(CALENDRIER!AP$222:AP$587,CALENDRIER!$A$3))+((COUNTIF(CALENDRIER!AP$222:AP$587,CALENDRIER!$B$3))/2)","v":0},{"$f":"(COUNTIF(CALENDRIER!AQ$222:AQ$587,CALENDRIER!$A$3))+((COUNTIF(CALENDRIER!AQ$222:AQ$587,CALENDRIER!$B$3))/2)","v":0},{"$f":"(COUNTIF(CALENDRIER!AR$222:AR$587,CALENDRIER!$A$3))+((COUNTIF(CALENDRIER!AR$222:AR$587,CALENDRIER!$B$3))/2)","v":0},{"$f":"(COUNTIF(CALENDRIER!AS$222:AS$587,CALENDRIER!$A$3))+((COUNTIF(CALENDRIER!AS$222:AS$587,CALENDRIER!$B$3))/2)","v":0},{"$f":"(COUNTIF(CALENDRIER!AT$222:AT$587,CALENDRIER!$A$3))+((COUNTIF(CALENDRIER!AT$222:AT$587,CALENDRIER!$B$3))/2)","v":0},{"$f":"(COUNTIF(CALENDRIER!AU$222:AU$587,CALENDRIER!$A$3))+((COUNTIF(CALENDRIER!AU$222:AU$587,CALENDRIER!$B$3))/2)","v":0},{"$f":"(COUNTIF(CALENDRIER!AV$222:AV$587,CALENDRIER!$A$3))+((COUNTIF(CALENDRIER!AV$222:AV$587,CALENDRIER!$B$3))/2)","v":0},{"$f":"(COUNTIF(CALENDRIER!AW$222:AW$587,CALENDRIER!$A$3))+((COUNTIF(CALENDRIER!AW$222:AW$587,CALENDRIER!$B$3))/2)","v":0},{"$f":"(COUNTIF(CALENDRIER!AX$222:AX$587,CALENDRIER!$A$3))+((COUNTIF(CALENDRIER!AX$222:AX$587,CALENDRIER!$B$3))/2)","v":0},{"$f":"(COUNTIF(CALENDRIER!AY$222:AY$587,CALENDRIER!$A$3))+((COUNTIF(CALENDRIER!AY$222:AY$587,CALENDRIER!$B$3))/2)","v":0},{"$f":"(COUNTIF(CALENDRIER!AZ$222:AZ$587,CALENDRIER!$A$3))+((COUNTIF(CALENDRIER!AZ$222:AZ$587,CALENDRIER!$B$3))/2)","v":0},{"$f":"(COUNTIF(CALENDRIER!BA$222:BA$587,CALENDRIER!$A$3))+((COUNTIF(CALENDRIER!BA$222:BA$587,CALENDRIER!$B$3))/2)","v":0},{"$f":"(COUNTIF(CALENDRIER!BB$222:BB$587,CALENDRIER!$A$3))+((COUNTIF(CALENDRIER!BB$222:BB$587,CALENDRIER!$B$3))/2)","v":0},{"$f":"(COUNTIF(CALENDRIER!BC$222:BC$587,CALENDRIER!$A$3))+((COUNTIF(CALENDRIER!BC$222:BC$587,CALENDRIER!$B$3))/2)","v":0},{"$f":"(COUNTIF(CALENDRIER!BD$222:BD$587,CALENDRIER!$A$3))+((COUNTIF(CALENDRIER!BD$222:BD$587,CALENDRIER!$B$3))/2)","v":0},{"$f":"(COUNTIF(CALENDRIER!BE$222:BE$587,CALENDRIER!$A$3))+((COUNTIF(CALENDRIER!BE$222:BE$587,CALENDRIER!$B$3))/2)","v":0},{"$f":"(COUNTIF(CALENDRIER!BF$222:BF$587,CALENDRIER!$A$3))+((COUNTIF(CALENDRIER!BF$222:BF$587,CALENDRIER!$B$3))/2)","v":0},{"$f":"(COUNTIF(CALENDRIER!BG$222:BG$587,CALENDRIER!$A$3))+((COUNTIF(CALENDRIER!BG$222:BG$587,CALENDRIER!$B$3))/2)","v":0},{"$f":"(COUNTIF(CALENDRIER!BH$222:BH$587,CALENDRIER!$A$3))+((COUNTIF(CALENDRIER!BH$222:BH$587,CALENDRIER!$B$3))/2)","v":0},{"$f":"(COUNTIF(CALENDRIER!BI$222:BI$587,CALENDRIER!$A$3))+((COUNTIF(CALENDRIER!BI$222:BI$587,CALENDRIER!$B$3))/2)","v":0},{"$f":"(COUNTIF(CALENDRIER!BJ$222:BJ$587,CALENDRIER!$A$3))+((COUNTIF(CALENDRIER!BJ$222:BJ$587,CALENDRIER!$B$3))/2)","v":0},{"$f":"(COUNTIF(CALENDRIER!BK$222:BK$587,CALENDRIER!$A$3))+((COUNTIF(CALENDRIER!BK$222:BK$587,CALENDRIER!$B$3))/2)","v":0},{"$f":"(COUNTIF(CALENDRIER!BL$222:BL$587,CALENDRIER!$A$3))+((COUNTIF(CALENDRIER!BL$222:BL$587,CALENDRIER!$B$3))/2)","v":0},{"$f":"(COUNTIF(CALENDRIER!BM$222:BM$587,CALENDRIER!$A$3))+((COUNTIF(CALENDRIER!BM$222:BM$587,CALENDRIER!$B$3))/2)","v":0},{"$f":"(COUNTIF(CALENDRIER!BN$222:BN$587,CALENDRIER!$A$3))+((COUNTIF(CALENDRIER!BN$222:BN$587,CALENDRIER!$B$3))/2)","v":0},{"$f":"(COUNTIF(CALENDRIER!BO$222:BO$587,CALENDRIER!$A$3))+((COUNTIF(CALENDRIER!BO$222:BO$587,CALENDRIER!$B$3))/2)","v":0},{"$f":"(COUNTIF(CALENDRIER!BP$222:BP$587,CALENDRIER!$A$3))+((COUNTIF(CALENDRIER!BP$222:BP$587,CALENDRIER!$B$3))/2)","v":0},{"$f":"(COUNTIF(CALENDRIER!BQ$222:BQ$587,CALENDRIER!$A$3))+((COUNTIF(CALENDRIER!BQ$222:BQ$587,CALENDRIER!$B$3))/2)","v":0},{"$f":"(COUNTIF(CALENDRIER!BR$222:BR$587,CALENDRIER!$A$3))+((COUNTIF(CALENDRIER!BR$222:BR$587,CALENDRIER!$B$3))/2)","v":0},{"$f":"(COUNTIF(CALENDRIER!BS$222:BS$587,CALENDRIER!$A$3))+((COUNTIF(CALENDRIER!BS$222:BS$587,CALENDRIER!$B$3))/2)","v":0},{"$f":"(COUNTIF(CALENDRIER!BT$222:BT$587,CALENDRIER!$A$3))+((COUNTIF(CALENDRIER!BT$222:BT$587,CALENDRIER!$B$3))/2)","v":0},{"$f":"(COUNTIF(CALENDRIER!BU$222:BU$587,CALENDRIER!$A$3))+((COUNTIF(CALENDRIER!BU$222:BU$587,CALENDRIER!$B$3))/2)","v":0},{"$f":"(COUNTIF(CALENDRIER!BV$222:BV$587,CALENDRIER!$A$3))+((COUNTIF(CALENDRIER!BV$222:BV$587,CALENDRIER!$B$3))/2)","v":0},{"$f":"(COUNTIF(CALENDRIER!BW$222:BW$587,CALENDRIER!$A$3))+((COUNTIF(CALENDRIER!BW$222:BW$587,CALENDRIER!$B$3))/2)","v":0},{"$f":"(COUNTIF(CALENDRIER!BX$222:BX$587,CALENDRIER!$A$3))+((COUNTIF(CALENDRIER!BX$222:BX$587,CALENDRIER!$B$3))/2)","v":0},{"$f":"(COUNTIF(CALENDRIER!BY$222:BY$587,CALENDRIER!$A$3))+((COUNTIF(CALENDRIER!BY$222:BY$587,CALENDRIER!$B$3))/2)","v":0},{"$f":"(COUNTIF(CALENDRIER!BZ$222:BZ$587,CALENDRIER!$A$3))+((COUNTIF(CALENDRIER!BZ$222:BZ$587,CALENDRIER!$B$3))/2)","v":0},{"$f":"(COUNTIF(CALENDRIER!CA$222:CA$587,CALENDRIER!$A$3))+((COUNTIF(CALENDRIER!CA$222:CA$587,CALENDRIER!$B$3))/2)","v":0},{"$f":"(COUNTIF(CALENDRIER!CB$222:CB$587,CALENDRIER!$A$3))+((COUNTIF(CALENDRIER!CB$222:CB$587,CALENDRIER!$B$3))/2)","v":0},{"$f":"(COUNTIF(CALENDRIER!CC$222:CC$587,CALENDRIER!$A$3))+((COUNTIF(CALENDRIER!CC$222:CC$587,CALENDRIER!$B$3))/2)","v":0},{"$f":"(COUNTIF(CALENDRIER!CD$222:CD$587,CALENDRIER!$A$3))+((COUNTIF(CALENDRIER!CD$222:CD$587,CALENDRIER!$B$3))/2)","v":0},{"$f":"(COUNTIF(CALENDRIER!CE$222:CE$587,CALENDRIER!$A$3))+((COUNTIF(CALENDRIER!CE$222:CE$587,CALENDRIER!$B$3))/2)","v":0},{"$f":"(COUNTIF(CALENDRIER!CF$222:CF$587,CALENDRIER!$A$3))+((COUNTIF(CALENDRIER!CF$222:CF$587,CALENDRIER!$B$3))/2)","v":0},{"$f":"(COUNTIF(CALENDRIER!CG$222:CG$587,CALENDRIER!$A$3))+((COUNTIF(CALENDRIER!CG$222:CG$587,CALENDRIER!$B$3))/2)","v":0},{"$f":"(COUNTIF(CALENDRIER!CH$222:CH$587,CALENDRIER!$A$3))+((COUNTIF(CALENDRIER!CH$222:CH$587,CALENDRIER!$B$3))/2)","v":0},{"$f":"(COUNTIF(CALENDRIER!CI$222:CI$587,CALENDRIER!$A$3))+((COUNTIF(CALENDRIER!CI$222:CI$587,CALENDRIER!$B$3))/2)","v":0},{"$f":"(COUNTIF(CALENDRIER!CJ$222:CJ$587,CALENDRIER!$A$3))+((COUNTIF(CALENDRIER!CJ$222:CJ$587,CALENDRIER!$B$3))/2)","v":0},{"$f":"(COUNTIF(CALENDRIER!CK$222:CK$587,CALENDRIER!$A$3))+((COUNTIF(CALENDRIER!CK$222:CK$587,CALENDRIER!$B$3))/2)","v":0},{"$f":"(COUNTIF(CALENDRIER!CL$222:CL$587,CALENDRIER!$A$3))+((COUNTIF(CALENDRIER!CL$222:CL$587,CALENDRIER!$B$3))/2)","v":0},{"$f":"(COUNTIF(CALENDRIER!CM$222:CM$587,CALENDRIER!$A$3))+((COUNTIF(CALENDRIER!CM$222:CM$587,CALENDRIER!$B$3))/2)","v":0},{"$f":"(COUNTIF(CALENDRIER!CN$222:CN$587,CALENDRIER!$A$3))+((COUNTIF(CALENDRIER!CN$222:CN$587,CALENDRIER!$B$3))/2)","v":0},{"$f":"(COUNTIF(CALENDRIER!CO$222:CO$587,CALENDRIER!$A$3))+((COUNTIF(CALENDRIER!CO$222:CO$587,CALENDRIER!$B$3))/2)","v":0},{"$f":"(COUNTIF(CALENDRIER!CP$222:CP$587,CALENDRIER!$A$3))+((COUNTIF(CALENDRIER!CP$222:CP$587,CALENDRIER!$B$3))/2)","v":0},{"$f":"(COUNTIF(CALENDRIER!CQ$222:CQ$587,CALENDRIER!$A$3))+((COUNTIF(CALENDRIER!CQ$222:CQ$587,CALENDRIER!$B$3))/2)","v":0},{"$f":"(COUNTIF(CALENDRIER!CR$222:CR$587,CALENDRIER!$A$3))+((COUNTIF(CALENDRIER!CR$222:CR$587,CALENDRIER!$B$3))/2)","v":0},{"$f":"(COUNTIF(CALENDRIER!CS$222:CS$587,CALENDRIER!$A$3))+((COUNTIF(CALENDRIER!CS$222:CS$587,CALENDRIER!$B$3))/2)","v":0},{"$f":"(COUNTIF(CALENDRIER!CT$222:CT$587,CALENDRIER!$A$3))+((COUNTIF(CALENDRIER!CT$222:CT$587,CALENDRIER!$B$3))/2)","v":0},{"$f":"(COUNTIF(CALENDRIER!CU$222:CU$587,CALENDRIER!$A$3))+((COUNTIF(CALENDRIER!CU$222:CU$587,CALENDRIER!$B$3))/2)","v":0},{"$f":"(COUNTIF(CALENDRIER!CV$222:CV$587,CALENDRIER!$A$3))+((COUNTIF(CALENDRIER!CV$222:CV$587,CALENDRIER!$B$3))/2)","v":0},{"$f":"(COUNTIF(CALENDRIER!CW$222:CW$587,CALENDRIER!$A$3))+((COUNTIF(CALENDRIER!CW$222:CW$587,CALENDRIER!$B$3))/2)","v":0},{"$f":"(COUNTIF(CALENDRIER!CX$222:CX$587,CALENDRIER!$A$3))+((COUNTIF(CALENDRIER!CX$222:CX$587,CALENDRIER!$B$3))/2)","v":0},{"$f":"(COUNTIF(CALENDRIER!CY$222:CY$587,CALENDRIER!$A$3))+((COUNTIF(CALENDRIER!CY$222:CY$587,CALENDRIER!$B$3))/2)","v":0},{"$f":"(COUNTIF(CALENDRIER!CZ$222:CZ$587,CALENDRIER!$A$3))+((COUNTIF(CALENDRIER!CZ$222:CZ$587,CALENDRIER!$B$3))/2)","v":0},{"$f":"(COUNTIF(CALENDRIER!DA$222:DA$587,CALENDRIER!$A$3))+((COUNTIF(CALENDRIER!DA$222:DA$587,CALENDRIER!$B$3))/2)","v":0},{"$f":"(COUNTIF(CALENDRIER!DB$222:DB$587,CALENDRIER!$A$3))+((COUNTIF(CALENDRIER!DB$222:DB$587,CALENDRIER!$B$3))/2)","v":0},{"$f":"(COUNTIF(CALENDRIER!DC$222:DC$587,CALENDRIER!$A$3))+((COUNTIF(CALENDRIER!DC$222:DC$587,CALENDRIER!$B$3))/2)","v":0},{"$f":"(COUNTIF(CALENDRIER!DD$222:DD$587,CALENDRIER!$A$3))+((COUNTIF(CALENDRIER!DD$222:DD$587,CALENDRIER!$B$3))/2)","v":0},{"$f":"(COUNTIF(CALENDRIER!DE$222:DE$587,CALENDRIER!$A$3))+((COUNTIF(CALENDRIER!DE$222:DE$587,CALENDRIER!$B$3))/2)","v":0},{"$f":"(COUNTIF(CALENDRIER!DF$222:DF$587,CALENDRIER!$A$3))+((COUNTIF(CALENDRIER!DF$222:DF$587,CALENDRIER!$B$3))/2)","v":0},{"$f":"(COUNTIF(CALENDRIER!DG$222:DG$587,CALENDRIER!$A$3))+((COUNTIF(CALENDRIER!DG$222:DG$587,CALENDRIER!$B$3))/2)","v":0},{"$f":"(COUNTIF(CALENDRIER!DH$222:DH$587,CALENDRIER!$A$3))+((COUNTIF(CALENDRIER!DH$222:DH$587,CALENDRIER!$B$3))/2)","v":0},{"$f":"(COUNTIF(CALENDRIER!DI$222:DI$587,CALENDRIER!$A$3))+((COUNTIF(CALENDRIER!DI$222:DI$587,CALENDRIER!$B$3))/2)","v":0},{"$f":"(COUNTIF(CALENDRIER!DJ$222:DJ$587,CALENDRIER!$A$3))+((COUNTIF(CALENDRIER!DJ$222:DJ$587,CALENDRIER!$B$3))/2)","v":0},{"$f":"(COUNTIF(CALENDRIER!DK$222:DK$587,CALENDRIER!$A$3))+((COUNTIF(CALENDRIER!DK$222:DK$587,CALENDRIER!$B$3))/2)","v":0},{"$f":"(COUNTIF(CALENDRIER!DL$222:DL$587,CALENDRIER!$A$3))+((COUNTIF(CALENDRIER!DL$222:DL$587,CALENDRIER!$B$3))/2)","v":0},{"$f":"(COUNTIF(CALENDRIER!DM$222:DM$587,CALENDRIER!$A$3))+((COUNTIF(CALENDRIER!DM$222:DM$587,CALENDRIER!$B$3))/2)","v":0},{"$f":"(COUNTIF(CALENDRIER!DN$222:DN$587,CALENDRIER!$A$3))+((COUNTIF(CALENDRIER!DN$222:DN$587,CALENDRIER!$B$3))/2)","v":0},{"$f":"(COUNTIF(CALENDRIER!DO$222:DO$587,CALENDRIER!$A$3))+((COUNTIF(CALENDRIER!DO$222:DO$587,CALENDRIER!$B$3))/2)","v":0},{"$f":"(COUNTIF(CALENDRIER!DP$222:DP$587,CALENDRIER!$A$3))+((COUNTIF(CALENDRIER!DP$222:DP$587,CALENDRIER!$B$3))/2)","v":0},{"$f":"(COUNTIF(CALENDRIER!DQ$222:DQ$587,CALENDRIER!$A$3))+((COUNTIF(CALENDRIER!DQ$222:DQ$587,CALENDRIER!$B$3))/2)","v":0},{"$f":"(COUNTIF(CALENDRIER!DR$222:DR$587,CALENDRIER!$A$3))+((COUNTIF(CALENDRIER!DR$222:DR$587,CALENDRIER!$B$3))/2)","v":0},{"$f":"(COUNTIF(CALENDRIER!DS$222:DS$587,CALENDRIER!$A$3))+((COUNTIF(CALENDRIER!DS$222:DS$587,CALENDRIER!$B$3))/2)","v":0},{"$f":"(COUNTIF(CALENDRIER!DT$222:DT$587,CALENDRIER!$A$3))+((COUNTIF(CALENDRIER!DT$222:DT$587,CALENDRIER!$B$3))/2)","v":0},{"$f":"(COUNTIF(CALENDRIER!DU$222:DU$587,CALENDRIER!$A$3))+((COUNTIF(CALENDRIER!DU$222:DU$587,CALENDRIER!$B$3))/2)","v":0},{"$f":"(COUNTIF(CALENDRIER!DV$222:DV$587,CALENDRIER!$A$3))+((COUNTIF(CALENDRIER!DV$222:DV$587,CALENDRIER!$B$3))/2)","v":0},{"$f":"(COUNTIF(CALENDRIER!DW$222:DW$587,CALENDRIER!$A$3))+((COUNTIF(CALENDRIER!DW$222:DW$587,CALENDRIER!$B$3))/2)","v":0},{"$f":"(COUNTIF(CALENDRIER!DX$222:DX$587,CALENDRIER!$A$3))+((COUNTIF(CALENDRIER!DX$222:DX$587,CALENDRIER!$B$3))/2)","v":0},{"$f":"(COUNTIF(CALENDRIER!DY$222:DY$587,CALENDRIER!$A$3))+((COUNTIF(CALENDRIER!DY$222:DY$587,CALENDRIER!$B$3))/2)","v":0},{"$f":"(COUNTIF(CALENDRIER!DZ$222:DZ$587,CALENDRIER!$A$3))+((COUNTIF(CALENDRIER!DZ$222:DZ$587,CALENDRIER!$B$3))/2)","v":0},{"$f":"(COUNTIF(CALENDRIER!EA$222:EA$587,CALENDRIER!$A$3))+((COUNTIF(CALENDRIER!EA$222:EA$587,CALENDRIER!$B$3))/2)","v":0},{"$f":"(COUNTIF(CALENDRIER!EB$222:EB$587,CALENDRIER!$A$3))+((COUNTIF(CALENDRIER!EB$222:EB$587,CALENDRIER!$B$3))/2)","v":0},{"$f":"(COUNTIF(CALENDRIER!EC$222:EC$587,CALENDRIER!$A$3))+((COUNTIF(CALENDRIER!EC$222:EC$587,CALENDRIER!$B$3))/2)","v":0},{"$f":"(COUNTIF(CALENDRIER!ED$222:ED$587,CALENDRIER!$A$3))+((COUNTIF(CALENDRIER!ED$222:ED$587,CALENDRIER!$B$3))/2)","v":0},{"$f":"(COUNTIF(CALENDRIER!EE$222:EE$587,CALENDRIER!$A$3))+((COUNTIF(CALENDRIER!EE$222:EE$587,CALENDRIER!$B$3))/2)","v":0},{"$f":"(COUNTIF(CALENDRIER!EF$222:EF$587,CALENDRIER!$A$3))+((COUNTIF(CALENDRIER!EF$222:EF$587,CALENDRIER!$B$3))/2)","v":0},{"$f":"(COUNTIF(CALENDRIER!EG$222:EG$587,CALENDRIER!$A$3))+((COUNTIF(CALENDRIER!EG$222:EG$587,CALENDRIER!$B$3))/2)","v":0},{"$f":"(COUNTIF(CALENDRIER!EH$222:EH$587,CALENDRIER!$A$3))+((COUNTIF(CALENDRIER!EH$222:EH$587,CALENDRIER!$B$3))/2)","v":0},{"$f":"(COUNTIF(CALENDRIER!EI$222:EI$587,CALENDRIER!$A$3))+((COUNTIF(CALENDRIER!EI$222:EI$587,CALENDRIER!$B$3))/2)","v":0},{"$f":"(COUNTIF(CALENDRIER!EJ$222:EJ$587,CALENDRIER!$A$3))+((COUNTIF(CALENDRIER!EJ$222:EJ$587,CALENDRIER!$B$3))/2)","v":0},{"$f":"(COUNTIF(CALENDRIER!EK$222:EK$587,CALENDRIER!$A$3))+((COUNTIF(CALENDRIER!EK$222:EK$587,CALENDRIER!$B$3))/2)","v":0},{"$f":"(COUNTIF(CALENDRIER!EL$222:EL$587,CALENDRIER!$A$3))+((COUNTIF(CALENDRIER!EL$222:EL$587,CALENDRIER!$B$3))/2)","v":0},{"$f":"(COUNTIF(CALENDRIER!EM$222:EM$587,CALENDRIER!$A$3))+((COUNTIF(CALENDRIER!EM$222:EM$587,CALENDRIER!$B$3))/2)","v":0},{"$f":"(COUNTIF(CALENDRIER!EN$222:EN$587,CALENDRIER!$A$3))+((COUNTIF(CALENDRIER!EN$222:EN$587,CALENDRIER!$B$3))/2)","v":0},{"$f":"(COUNTIF(CALENDRIER!EO$222:EO$587,CALENDRIER!$A$3))+((COUNTIF(CALENDRIER!EO$222:EO$587,CALENDRIER!$B$3))/2)","v":0},{"$f":"(COUNTIF(CALENDRIER!EP$222:EP$587,CALENDRIER!$A$3))+((COUNTIF(CALENDRIER!EP$222:EP$587,CALENDRIER!$B$3))/2)","v":0},{"$f":"(COUNTIF(CALENDRIER!EQ$222:EQ$587,CALENDRIER!$A$3))+((COUNTIF(CALENDRIER!EQ$222:EQ$587,CALENDRIER!$B$3))/2)","v":0},{"$f":"(COUNTIF(CALENDRIER!ER$222:ER$587,CALENDRIER!$A$3))+((COUNTIF(CALENDRIER!ER$222:ER$587,CALENDRIER!$B$3))/2)","v":0},{"$f":"(COUNTIF(CALENDRIER!ES$222:ES$587,CALENDRIER!$A$3))+((COUNTIF(CALENDRIER!ES$222:ES$587,CALENDRIER!$B$3))/2)","v":0},{"$f":"(COUNTIF(CALENDRIER!ET$222:ET$587,CALENDRIER!$A$3))+((COUNTIF(CALENDRIER!ET$222:ET$587,CALENDRIER!$B$3))/2)","v":0},{"$f":"(COUNTIF(CALENDRIER!EU$222:EU$587,CALENDRIER!$A$3))+((COUNTIF(CALENDRIER!EU$222:EU$587,CALENDRIER!$B$3))/2)","v":0},{"$f":"(COUNTIF(CALENDRIER!EV$222:EV$587,CALENDRIER!$A$3))+((COUNTIF(CALENDRIER!EV$222:EV$587,CALENDRIER!$B$3))/2)","v":0},{"$f":"(COUNTIF(CALENDRIER!EW$222:EW$587,CALENDRIER!$A$3))+((COUNTIF(CALENDRIER!EW$222:EW$587,CALENDRIER!$B$3))/2)","v":0},{"$f":"(COUNTIF(CALENDRIER!EX$222:EX$587,CALENDRIER!$A$3))+((COUNTIF(CALENDRIER!EX$222:EX$587,CALENDRIER!$B$3))/2)","v":0},{"$f":"(COUNTIF(CALENDRIER!EY$222:EY$587,CALENDRIER!$A$3))+((COUNTIF(CALENDRIER!EY$222:EY$587,CALENDRIER!$B$3))/2)","v":0},{"$f":"(COUNTIF(CALENDRIER!EZ$222:EZ$587,CALENDRIER!$A$3))+((COUNTIF(CALENDRIER!EZ$222:EZ$587,CALENDRIER!$B$3))/2)","v":0},{"$f":"(COUNTIF(CALENDRIER!FA$222:FA$587,CALENDRIER!$A$3))+((COUNTIF(CALENDRIER!FA$222:FA$587,CALENDRIER!$B$3))/2)","v":0},{"$f":"(COUNTIF(CALENDRIER!FB$222:FB$587,CALENDRIER!$A$3))+((COUNTIF(CALENDRIER!FB$222:FB$587,CALENDRIER!$B$3))/2)","v":0},{"$f":"(COUNTIF(CALENDRIER!FC$222:FC$587,CALENDRIER!$A$3))+((COUNTIF(CALENDRIER!FC$222:FC$587,CALENDRIER!$B$3))/2)","v":0},{"$f":"(COUNTIF(CALENDRIER!FD$222:FD$587,CALENDRIER!$A$3))+((COUNTIF(CALENDRIER!FD$222:FD$587,CALENDRIER!$B$3))/2)","v":0},{"$f":"(COUNTIF(CALENDRIER!FE$222:FE$587,CALENDRIER!$A$3))+((COUNTIF(CALENDRIER!FE$222:FE$587,CALENDRIER!$B$3))/2)","v":0},{"$f":"(COUNTIF(CALENDRIER!FF$222:FF$587,CALENDRIER!$A$3))+((COUNTIF(CALENDRIER!FF$222:FF$587,CALENDRIER!$B$3))/2)","v":0},{"$f":"(COUNTIF(CALENDRIER!FG$222:FG$587,CALENDRIER!$A$3))+((COUNTIF(CALENDRIER!FG$222:FG$587,CALENDRIER!$B$3))/2)","v":0},{"$f":"(COUNTIF(CALENDRIER!FH$222:FH$587,CALENDRIER!$A$3))+((COUNTIF(CALENDRIER!FH$222:FH$587,CALENDRIER!$B$3))/2)","v":0},{"$f":"(COUNTIF(CALENDRIER!FI$222:FI$587,CALENDRIER!$A$3))+((COUNTIF(CALENDRIER!FI$222:FI$587,CALENDRIER!$B$3))/2)","v":0},{"$f":"(COUNTIF(CALENDRIER!FJ$222:FJ$587,CALENDRIER!$A$3))+((COUNTIF(CALENDRIER!FJ$222:FJ$587,CALENDRIER!$B$3))/2)","v":0},{"$f":"(COUNTIF(CALENDRIER!FK$222:FK$587,CALENDRIER!$A$3))+((COUNTIF(CALENDRIER!FK$222:FK$587,CALENDRIER!$B$3))/2)","v":0},{"$f":"(COUNTIF(CALENDRIER!FL$222:FL$587,CALENDRIER!$A$3))+((COUNTIF(CALENDRIER!FL$222:FL$587,CALENDRIER!$B$3))/2)","v":0},{"$f":"(COUNTIF(CALENDRIER!FM$222:FM$587,CALENDRIER!$A$3))+((COUNTIF(CALENDRIER!FM$222:FM$587,CALENDRIER!$B$3))/2)","v":0},{"$f":"(COUNTIF(CALENDRIER!FN$222:FN$587,CALENDRIER!$A$3))+((COUNTIF(CALENDRIER!FN$222:FN$587,CALENDRIER!$B$3))/2)","v":0},{"$f":"(COUNTIF(CALENDRIER!FO$222:FO$587,CALENDRIER!$A$3))+((COUNTIF(CALENDRIER!FO$222:FO$587,CALENDRIER!$B$3))/2)","v":0},{"$f":"(COUNTIF(CALENDRIER!FP$222:FP$587,CALENDRIER!$A$3))+((COUNTIF(CALENDRIER!FP$222:FP$587,CALENDRIER!$B$3))/2)","v":0},{"$f":"(COUNTIF(CALENDRIER!FQ$222:FQ$587,CALENDRIER!$A$3))+((COUNTIF(CALENDRIER!FQ$222:FQ$587,CALENDRIER!$B$3))/2)","v":0},{"$f":"(COUNTIF(CALENDRIER!FR$222:FR$587,CALENDRIER!$A$3))+((COUNTIF(CALENDRIER!FR$222:FR$587,CALENDRIER!$B$3))/2)","v":0},{"$f":"(COUNTIF(CALENDRIER!FS$222:FS$587,CALENDRIER!$A$3))+((COUNTIF(CALENDRIER!FS$222:FS$587,CALENDRIER!$B$3))/2)","v":0},{"$f":"(COUNTIF(CALENDRIER!FT$222:FT$587,CALENDRIER!$A$3))+((COUNTIF(CALENDRIER!FT$222:FT$587,CALENDRIER!$B$3))/2)","v":0},{"$f":"(COUNTIF(CALENDRIER!FU$222:FU$587,CALENDRIER!$A$3))+((COUNTIF(CALENDRIER!FU$222:FU$587,CALENDRIER!$B$3))/2)","v":0},{"$f":"(COUNTIF(CALENDRIER!FV$222:FV$587,CALENDRIER!$A$3))+((COUNTIF(CALENDRIER!FV$222:FV$587,CALENDRIER!$B$3))/2)","v":0},{"$f":"(COUNTIF(CALENDRIER!FW$222:FW$587,CALENDRIER!$A$3))+((COUNTIF(CALENDRIER!FW$222:FW$587,CALENDRIER!$B$3))/2)","v":0},{"$f":"(COUNTIF(CALENDRIER!FX$222:FX$587,CALENDRIER!$A$3))+((COUNTIF(CALENDRIER!FX$222:FX$587,CALENDRIER!$B$3))/2)","v":0},{"$f":"(COUNTIF(CALENDRIER!FY$222:FY$587,CALENDRIER!$A$3))+((COUNTIF(CALENDRIER!FY$222:FY$587,CALENDRIER!$B$3))/2)","v":0},{"$f":"(COUNTIF(CALENDRIER!FZ$222:FZ$587,CALENDRIER!$A$3))+((COUNTIF(CALENDRIER!FZ$222:FZ$587,CALENDRIER!$B$3))/2)","v":0},{"$f":"(COUNTIF(CALENDRIER!GA$222:GA$587,CALENDRIER!$A$3))+((COUNTIF(CALENDRIER!GA$222:GA$587,CALENDRIER!$B$3))/2)","v":0},{"$f":"(COUNTIF(CALENDRIER!GB$222:GB$587,CALENDRIER!$A$3))+((COUNTIF(CALENDRIER!GB$222:GB$587,CALENDRIER!$B$3))/2)","v":0},{"$f":"(COUNTIF(CALENDRIER!GC$222:GC$587,CALENDRIER!$A$3))+((COUNTIF(CALENDRIER!GC$222:GC$587,CALENDRIER!$B$3))/2)","v":0},{"$f":"(COUNTIF(CALENDRIER!GD$222:GD$587,CALENDRIER!$A$3))+((COUNTIF(CALENDRIER!GD$222:GD$587,CALENDRIER!$B$3))/2)","v":0},{"$f":"(COUNTIF(CALENDRIER!GE$222:GE$587,CALENDRIER!$A$3))+((COUNTIF(CALENDRIER!GE$222:GE$587,CALENDRIER!$B$3))/2)","v":0},{"$f":"(COUNTIF(CALENDRIER!GF$222:GF$587,CALENDRIER!$A$3))+((COUNTIF(CALENDRIER!GF$222:GF$587,CALENDRIER!$B$3))/2)","v":0},{"$f":"(COUNTIF(CALENDRIER!GG$222:GG$587,CALENDRIER!$A$3))+((COUNTIF(CALENDRIER!GG$222:GG$587,CALENDRIER!$B$3))/2)","v":0},{"$f":"(COUNTIF(CALENDRIER!GH$222:GH$587,CALENDRIER!$A$3))+((COUNTIF(CALENDRIER!GH$222:GH$587,CALENDRIER!$B$3))/2)","v":0},{"$f":"(COUNTIF(CALENDRIER!GI$222:GI$587,CALENDRIER!$A$3))+((COUNTIF(CALENDRIER!GI$222:GI$587,CALENDRIER!$B$3))/2)","v":0},{"$f":"(COUNTIF(CALENDRIER!GJ$222:GJ$587,CALENDRIER!$A$3))+((COUNTIF(CALENDRIER!GJ$222:GJ$587,CALENDRIER!$B$3))/2)","v":0},{"$f":"(COUNTIF(CALENDRIER!GK$222:GK$587,CALENDRIER!$A$3))+((COUNTIF(CALENDRIER!GK$222:GK$587,CALENDRIER!$B$3))/2)","v":0},{"$f":"(COUNTIF(CALENDRIER!GL$222:GL$587,CALENDRIER!$A$3))+((COUNTIF(CALENDRIER!GL$222:GL$587,CALENDRIER!$B$3))/2)","v":0},{"$f":"(COUNTIF(CALENDRIER!GM$222:GM$587,CALENDRIER!$A$3))+((COUNTIF(CALENDRIER!GM$222:GM$587,CALENDRIER!$B$3))/2)","v":0},{"$f":"(COUNTIF(CALENDRIER!GN$222:GN$587,CALENDRIER!$A$3))+((COUNTIF(CALENDRIER!GN$222:GN$587,CALENDRIER!$B$3))/2)","v":0},{"$f":"(COUNTIF(CALENDRIER!GO$222:GO$587,CALENDRIER!$A$3))+((COUNTIF(CALENDRIER!GO$222:GO$587,CALENDRIER!$B$3))/2)","v":0},{"$f":"(COUNTIF(CALENDRIER!GP$222:GP$587,CALENDRIER!$A$3))+((COUNTIF(CALENDRIER!GP$222:GP$587,CALENDRIER!$B$3))/2)","v":0},{"$f":"(COUNTIF(CALENDRIER!GQ$222:GQ$587,CALENDRIER!$A$3))+((COUNTIF(CALENDRIER!GQ$222:GQ$587,CALENDRIER!$B$3))/2)","v":0},{"$f":"(COUNTIF(CALENDRIER!GR$222:GR$587,CALENDRIER!$A$3))+((COUNTIF(CALENDRIER!GR$222:GR$587,CALENDRIER!$B$3))/2)","v":0}]
[null,{"$f":"\"Solde \"&CALENDRIER!$A$3&\" \"&A114&\" :\"","v":"Solde RTT 2016 :"},{"$f":"C115-C116","v":0},{"$f":"D115-D116","v":0},0,0,0,0,0,0,0,0,0,0,0,0,0,0,0,0,0,0,0,0,0,0,0,0,0,0,0,0,0,0,0,0,0,0,0,0,0,0,0,0,0,0,0,0,0,0,0,0,0,0,0,0,0,0,0,0,0,0,0,0,0,0,0,{"$f":"BP115-BP116","v":0},0,0,0,0,0,0,0,0,0,0,0,0,0,0,0,0,0,0,0,0,0,0,0,0,0,0,0,0,0,0,0,0,0,0,0,0,0,0,0,0,0,0,0,0,0,0,0,0,0,0,0,0,0,0,0,0,0,0,0,0,0,0,0,{"$f":"EB115-EB116","v":0},0,0,0,0,0,0,0,0,0,0,0,0,0,0,0,0,0,0,0,0,0,0,0,0,0,0,0,0,0,0,0,0,0,0,0,0,0,0,0,0,0,0,0,0,0,0,0,0,0,0,0,0,0,0,0,0,0,0,0,0,0,0,0,{"$f":"GN115-GN116","v":0},0,0,0,0]
[]
[2017,{"$f":"CALENDRIER!$A$3","v":"RTT"}]
[null,"SOLDE DEPART"]
[null,{"$f":"CALENDRIER!$A$3&\" PRIS\"","v":"RTT PRIS"},{"$f":"(COUNTIF(CALENDRIER!C$588:C$952,CALENDRIER!$A$3))+((COUNTIF(CALENDRIER!C$588:C$952,CALENDRIER!$B$3))/2)","v":0},{"$f":"(COUNTIF(CALENDRIER!D$588:D$952,CALENDRIER!$A$3))+((COUNTIF(CALENDRIER!D$588:D$952,CALENDRIER!$B$3))/2)","v":0},{"$f":"(COUNTIF(CALENDRIER!E$588:E$952,CALENDRIER!$A$3))+((COUNTIF(CALENDRIER!E$588:E$952,CALENDRIER!$B$3))/2)","v":0},{"$f":"(COUNTIF(CALENDRIER!F$588:F$952,CALENDRIER!$A$3))+((COUNTIF(CALENDRIER!F$588:F$952,CALENDRIER!$B$3))/2)","v":0},{"$f":"(COUNTIF(CALENDRIER!G$588:G$952,CALENDRIER!$A$3))+((COUNTIF(CALENDRIER!G$588:G$952,CALENDRIER!$B$3))/2)","v":0},{"$f":"(COUNTIF(CALENDRIER!H$588:H$952,CALENDRIER!$A$3))+((COUNTIF(CALENDRIER!H$588:H$952,CALENDRIER!$B$3))/2)","v":0},{"$f":"(COUNTIF(CALENDRIER!I$588:I$952,CALENDRIER!$A$3))+((COUNTIF(CALENDRIER!I$588:I$952,CALENDRIER!$B$3))/2)","v":0},{"$f":"(COUNTIF(CALENDRIER!J$588:J$952,CALENDRIER!$A$3))+((COUNTIF(CALENDRIER!J$588:J$952,CALENDRIER!$B$3))/2)","v":0},{"$f":"(COUNTIF(CALENDRIER!K$588:K$952,CALENDRIER!$A$3))+((COUNTIF(CALENDRIER!K$588:K$952,CALENDRIER!$B$3))/2)","v":0},{"$f":"(COUNTIF(CALENDRIER!L$588:L$952,CALENDRIER!$A$3))+((COUNTIF(CALENDRIER!L$588:L$952,CALENDRIER!$B$3))/2)","v":0},{"$f":"(COUNTIF(CALENDRIER!M$588:M$952,CALENDRIER!$A$3))+((COUNTIF(CALENDRIER!M$588:M$952,CALENDRIER!$B$3))/2)","v":0},{"$f":"(COUNTIF(CALENDRIER!N$588:N$952,CALENDRIER!$A$3))+((COUNTIF(CALENDRIER!N$588:N$952,CALENDRIER!$B$3))/2)","v":0},{"$f":"(COUNTIF(CALENDRIER!O$588:O$952,CALENDRIER!$A$3))+((COUNTIF(CALENDRIER!O$588:O$952,CALENDRIER!$B$3))/2)","v":0},{"$f":"(COUNTIF(CALENDRIER!P$588:P$952,CALENDRIER!$A$3))+((COUNTIF(CALENDRIER!P$588:P$952,CALENDRIER!$B$3))/2)","v":0},{"$f":"(COUNTIF(CALENDRIER!Q$588:Q$952,CALENDRIER!$A$3))+((COUNTIF(CALENDRIER!Q$588:Q$952,CALENDRIER!$B$3))/2)","v":0},{"$f":"(COUNTIF(CALENDRIER!R$588:R$952,CALENDRIER!$A$3))+((COUNTIF(CALENDRIER!R$588:R$952,CALENDRIER!$B$3))/2)","v":0},{"$f":"(COUNTIF(CALENDRIER!S$588:S$952,CALENDRIER!$A$3))+((COUNTIF(CALENDRIER!S$588:S$952,CALENDRIER!$B$3))/2)","v":0},{"$f":"(COUNTIF(CALENDRIER!T$588:T$952,CALENDRIER!$A$3))+((COUNTIF(CALENDRIER!T$588:T$952,CALENDRIER!$B$3))/2)","v":0},{"$f":"(COUNTIF(CALENDRIER!U$588:U$952,CALENDRIER!$A$3))+((COUNTIF(CALENDRIER!U$588:U$952,CALENDRIER!$B$3))/2)","v":0},{"$f":"(COUNTIF(CALENDRIER!V$588:V$952,CALENDRIER!$A$3))+((COUNTIF(CALENDRIER!V$588:V$952,CALENDRIER!$B$3))/2)","v":0},{"$f":"(COUNTIF(CALENDRIER!W$588:W$952,CALENDRIER!$A$3))+((COUNTIF(CALENDRIER!W$588:W$952,CALENDRIER!$B$3))/2)","v":0},{"$f":"(COUNTIF(CALENDRIER!X$588:X$952,CALENDRIER!$A$3))+((COUNTIF(CALENDRIER!X$588:X$952,CALENDRIER!$B$3))/2)","v":0},{"$f":"(COUNTIF(CALENDRIER!Y$588:Y$952,CALENDRIER!$A$3))+((COUNTIF(CALENDRIER!Y$588:Y$952,CALENDRIER!$B$3))/2)","v":0},{"$f":"(COUNTIF(CALENDRIER!Z$588:Z$952,CALENDRIER!$A$3))+((COUNTIF(CALENDRIER!Z$588:Z$952,CALENDRIER!$B$3))/2)","v":0},{"$f":"(COUNTIF(CALENDRIER!AA$588:AA$952,CALENDRIER!$A$3))+((COUNTIF(CALENDRIER!AA$588:AA$952,CALENDRIER!$B$3))/2)","v":0},{"$f":"(COUNTIF(CALENDRIER!AB$588:AB$952,CALENDRIER!$A$3))+((COUNTIF(CALENDRIER!AB$588:AB$952,CALENDRIER!$B$3))/2)","v":0},{"$f":"(COUNTIF(CALENDRIER!AC$588:AC$952,CALENDRIER!$A$3))+((COUNTIF(CALENDRIER!AC$588:AC$952,CALENDRIER!$B$3))/2)","v":0},{"$f":"(COUNTIF(CALENDRIER!AD$588:AD$952,CALENDRIER!$A$3))+((COUNTIF(CALENDRIER!AD$588:AD$952,CALENDRIER!$B$3))/2)","v":0},{"$f":"(COUNTIF(CALENDRIER!AE$588:AE$952,CALENDRIER!$A$3))+((COUNTIF(CALENDRIER!AE$588:AE$952,CALENDRIER!$B$3))/2)","v":0},{"$f":"(COUNTIF(CALENDRIER!AF$588:AF$952,CALENDRIER!$A$3))+((COUNTIF(CALENDRIER!AF$588:AF$952,CALENDRIER!$B$3))/2)","v":0},{"$f":"(COUNTIF(CALENDRIER!AG$588:AG$952,CALENDRIER!$A$3))+((COUNTIF(CALENDRIER!AG$588:AG$952,CALENDRIER!$B$3))/2)","v":0},{"$f":"(COUNTIF(CALENDRIER!AH$588:AH$952,CALENDRIER!$A$3))+((COUNTIF(CALENDRIER!AH$588:AH$952,CALENDRIER!$B$3))/2)","v":0},{"$f":"(COUNTIF(CALENDRIER!AI$588:AI$952,CALENDRIER!$A$3))+((COUNTIF(CALENDRIER!AI$588:AI$952,CALENDRIER!$B$3))/2)","v":0},{"$f":"(COUNTIF(CALENDRIER!AJ$588:AJ$952,CALENDRIER!$A$3))+((COUNTIF(CALENDRIER!AJ$588:AJ$952,CALENDRIER!$B$3))/2)","v":0},{"$f":"(COUNTIF(CALENDRIER!AK$588:AK$952,CALENDRIER!$A$3))+((COUNTIF(CALENDRIER!AK$588:AK$952,CALENDRIER!$B$3))/2)","v":0},{"$f":"(COUNTIF(CALENDRIER!AL$588:AL$952,CALENDRIER!$A$3))+((COUNTIF(CALENDRIER!AL$588:AL$952,CALENDRIER!$B$3))/2)","v":0},{"$f":"(COUNTIF(CALENDRIER!AM$588:AM$952,CALENDRIER!$A$3))+((COUNTIF(CALENDRIER!AM$588:AM$952,CALENDRIER!$B$3))/2)","v":0},{"$f":"(COUNTIF(CALENDRIER!AN$588:AN$952,CALENDRIER!$A$3))+((COUNTIF(CALENDRIER!AN$588:AN$952,CALENDRIER!$B$3))/2)","v":0},{"$f":"(COUNTIF(CALENDRIER!AO$588:AO$952,CALENDRIER!$A$3))+((COUNTIF(CALENDRIER!AO$588:AO$952,CALENDRIER!$B$3))/2)","v":0},{"$f":"(COUNTIF(CALENDRIER!AP$588:AP$952,CALENDRIER!$A$3))+((COUNTIF(CALENDRIER!AP$588:AP$952,CALENDRIER!$B$3))/2)","v":0},{"$f":"(COUNTIF(CALENDRIER!AQ$588:AQ$952,CALENDRIER!$A$3))+((COUNTIF(CALENDRIER!AQ$588:AQ$952,CALENDRIER!$B$3))/2)","v":0},{"$f":"(COUNTIF(CALENDRIER!AR$588:AR$952,CALENDRIER!$A$3))+((COUNTIF(CALENDRIER!AR$588:AR$952,CALENDRIER!$B$3))/2)","v":0},{"$f":"(COUNTIF(CALENDRIER!AS$588:AS$952,CALENDRIER!$A$3))+((COUNTIF(CALENDRIER!AS$588:AS$952,CALENDRIER!$B$3))/2)","v":0},{"$f":"(COUNTIF(CALENDRIER!AT$588:AT$952,CALENDRIER!$A$3))+((COUNTIF(CALENDRIER!AT$588:AT$952,CALENDRIER!$B$3))/2)","v":0},{"$f":"(COUNTIF(CALENDRIER!AU$588:AU$952,CALENDRIER!$A$3))+((COUNTIF(CALENDRIER!AU$588:AU$952,CALENDRIER!$B$3))/2)","v":0},{"$f":"(COUNTIF(CALENDRIER!AV$588:AV$952,CALENDRIER!$A$3))+((COUNTIF(CALENDRIER!AV$588:AV$952,CALENDRIER!$B$3))/2)","v":0},{"$f":"(COUNTIF(CALENDRIER!AW$588:AW$952,CALENDRIER!$A$3))+((COUNTIF(CALENDRIER!AW$588:AW$952,CALENDRIER!$B$3))/2)","v":0},{"$f":"(COUNTIF(CALENDRIER!AX$588:AX$952,CALENDRIER!$A$3))+((COUNTIF(CALENDRIER!AX$588:AX$952,CALENDRIER!$B$3))/2)","v":0},{"$f":"(COUNTIF(CALENDRIER!AY$588:AY$952,CALENDRIER!$A$3))+((COUNTIF(CALENDRIER!AY$588:AY$952,CALENDRIER!$B$3))/2)","v":0},{"$f":"(COUNTIF(CALENDRIER!AZ$588:AZ$952,CALENDRIER!$A$3))+((COUNTIF(CALENDRIER!AZ$588:AZ$952,CALENDRIER!$B$3))/2)","v":0},{"$f":"(COUNTIF(CALENDRIER!BA$588:BA$952,CALENDRIER!$A$3))+((COUNTIF(CALENDRIER!BA$588:BA$952,CALENDRIER!$B$3))/2)","v":0},{"$f":"(COUNTIF(CALENDRIER!BB$588:BB$952,CALENDRIER!$A$3))+((COUNTIF(CALENDRIER!BB$588:BB$952,CALENDRIER!$B$3))/2)","v":0},{"$f":"(COUNTIF(CALENDRIER!BC$588:BC$952,CALENDRIER!$A$3))+((COUNTIF(CALENDRIER!BC$588:BC$952,CALENDRIER!$B$3))/2)","v":0},{"$f":"(COUNTIF(CALENDRIER!BD$588:BD$952,CALENDRIER!$A$3))+((COUNTIF(CALENDRIER!BD$588:BD$952,CALENDRIER!$B$3))/2)","v":0},{"$f":"(COUNTIF(CALENDRIER!BE$588:BE$952,CALENDRIER!$A$3))+((COUNTIF(CALENDRIER!BE$588:BE$952,CALENDRIER!$B$3))/2)","v":0},{"$f":"(COUNTIF(CALENDRIER!BF$588:BF$952,CALENDRIER!$A$3))+((COUNTIF(CALENDRIER!BF$588:BF$952,CALENDRIER!$B$3))/2)","v":0},{"$f":"(COUNTIF(CALENDRIER!BG$588:BG$952,CALENDRIER!$A$3))+((COUNTIF(CALENDRIER!BG$588:BG$952,CALENDRIER!$B$3))/2)","v":0},{"$f":"(COUNTIF(CALENDRIER!BH$588:BH$952,CALENDRIER!$A$3))+((COUNTIF(CALENDRIER!BH$588:BH$952,CALENDRIER!$B$3))/2)","v":0},{"$f":"(COUNTIF(CALENDRIER!BI$588:BI$952,CALENDRIER!$A$3))+((COUNTIF(CALENDRIER!BI$588:BI$952,CALENDRIER!$B$3))/2)","v":0},{"$f":"(COUNTIF(CALENDRIER!BJ$588:BJ$952,CALENDRIER!$A$3))+((COUNTIF(CALENDRIER!BJ$588:BJ$952,CALENDRIER!$B$3))/2)","v":0},{"$f":"(COUNTIF(CALENDRIER!BK$588:BK$952,CALENDRIER!$A$3))+((COUNTIF(CALENDRIER!BK$588:BK$952,CALENDRIER!$B$3))/2)","v":0},{"$f":"(COUNTIF(CALENDRIER!BL$588:BL$952,CALENDRIER!$A$3))+((COUNTIF(CALENDRIER!BL$588:BL$952,CALENDRIER!$B$3))/2)","v":0},{"$f":"(COUNTIF(CALENDRIER!BM$588:BM$952,CALENDRIER!$A$3))+((COUNTIF(CALENDRIER!BM$588:BM$952,CALENDRIER!$B$3))/2)","v":0},{"$f":"(COUNTIF(CALENDRIER!BN$588:BN$952,CALENDRIER!$A$3))+((COUNTIF(CALENDRIER!BN$588:BN$952,CALENDRIER!$B$3))/2)","v":0},{"$f":"(COUNTIF(CALENDRIER!BO$588:BO$952,CALENDRIER!$A$3))+((COUNTIF(CALENDRIER!BO$588:BO$952,CALENDRIER!$B$3))/2)","v":0},{"$f":"(COUNTIF(CALENDRIER!BP$588:BP$952,CALENDRIER!$A$3))+((COUNTIF(CALENDRIER!BP$588:BP$952,CALENDRIER!$B$3))/2)","v":0},{"$f":"(COUNTIF(CALENDRIER!BQ$588:BQ$952,CALENDRIER!$A$3))+((COUNTIF(CALENDRIER!BQ$588:BQ$952,CALENDRIER!$B$3))/2)","v":0},{"$f":"(COUNTIF(CALENDRIER!BR$588:BR$952,CALENDRIER!$A$3))+((COUNTIF(CALENDRIER!BR$588:BR$952,CALENDRIER!$B$3))/2)","v":0},{"$f":"(COUNTIF(CALENDRIER!BS$588:BS$952,CALENDRIER!$A$3))+((COUNTIF(CALENDRIER!BS$588:BS$952,CALENDRIER!$B$3))/2)","v":0},{"$f":"(COUNTIF(CALENDRIER!BT$588:BT$952,CALENDRIER!$A$3))+((COUNTIF(CALENDRIER!BT$588:BT$952,CALENDRIER!$B$3))/2)","v":0},{"$f":"(COUNTIF(CALENDRIER!BU$588:BU$952,CALENDRIER!$A$3))+((COUNTIF(CALENDRIER!BU$588:BU$952,CALENDRIER!$B$3))/2)","v":0},{"$f":"(COUNTIF(CALENDRIER!BV$588:BV$952,CALENDRIER!$A$3))+((COUNTIF(CALENDRIER!BV$588:BV$952,CALENDRIER!$B$3))/2)","v":0},{"$f":"(COUNTIF(CALENDRIER!BW$588:BW$952,CALENDRIER!$A$3))+((COUNTIF(CALENDRIER!BW$588:BW$952,CALENDRIER!$B$3))/2)","v":0},{"$f":"(COUNTIF(CALENDRIER!BX$588:BX$952,CALENDRIER!$A$3))+((COUNTIF(CALENDRIER!BX$588:BX$952,CALENDRIER!$B$3))/2)","v":0},{"$f":"(COUNTIF(CALENDRIER!BY$588:BY$952,CALENDRIER!$A$3))+((COUNTIF(CALENDRIER!BY$588:BY$952,CALENDRIER!$B$3))/2)","v":0},{"$f":"(COUNTIF(CALENDRIER!BZ$588:BZ$952,CALENDRIER!$A$3))+((COUNTIF(CALENDRIER!BZ$588:BZ$952,CALENDRIER!$B$3))/2)","v":0},{"$f":"(COUNTIF(CALENDRIER!CA$588:CA$952,CALENDRIER!$A$3))+((COUNTIF(CALENDRIER!CA$588:CA$952,CALENDRIER!$B$3))/2)","v":0},{"$f":"(COUNTIF(CALENDRIER!CB$588:CB$952,CALENDRIER!$A$3))+((COUNTIF(CALENDRIER!CB$588:CB$952,CALENDRIER!$B$3))/2)","v":0},{"$f":"(COUNTIF(CALENDRIER!CC$588:CC$952,CALENDRIER!$A$3))+((COUNTIF(CALENDRIER!CC$588:CC$952,CALENDRIER!$B$3))/2)","v":0},{"$f":"(COUNTIF(CALENDRIER!CD$588:CD$952,CALENDRIER!$A$3))+((COUNTIF(CALENDRIER!CD$588:CD$952,CALENDRIER!$B$3))/2)","v":0},{"$f":"(COUNTIF(CALENDRIER!CE$588:CE$952,CALENDRIER!$A$3))+((COUNTIF(CALENDRIER!CE$588:CE$952,CALENDRIER!$B$3))/2)","v":0},{"$f":"(COUNTIF(CALENDRIER!CF$588:CF$952,CALENDRIER!$A$3))+((COUNTIF(CALENDRIER!CF$588:CF$952,CALENDRIER!$B$3))/2)","v":0},{"$f":"(COUNTIF(CALENDRIER!CG$588:CG$952,CALENDRIER!$A$3))+((COUNTIF(CALENDRIER!CG$588:CG$952,CALENDRIER!$B$3))/2)","v":0},{"$f":"(COUNTIF(CALENDRIER!CH$588:CH$952,CALENDRIER!$A$3))+((COUNTIF(CALENDRIER!CH$588:CH$952,CALENDRIER!$B$3))/2)","v":0},{"$f":"(COUNTIF(CALENDRIER!CI$588:CI$952,CALENDRIER!$A$3))+((COUNTIF(CALENDRIER!CI$588:CI$952,CALENDRIER!$B$3))/2)","v":0},{"$f":"(COUNTIF(CALENDRIER!CJ$588:CJ$952,CALENDRIER!$A$3))+((COUNTIF(CALENDRIER!CJ$588:CJ$952,CALENDRIER!$B$3))/2)","v":0},{"$f":"(COUNTIF(CALENDRIER!CK$588:CK$952,CALENDRIER!$A$3))+((COUNTIF(CALENDRIER!CK$588:CK$952,CALENDRIER!$B$3))/2)","v":0},{"$f":"(COUNTIF(CALENDRIER!CL$588:CL$952,CALENDRIER!$A$3))+((COUNTIF(CALENDRIER!CL$588:CL$952,CALENDRIER!$B$3))/2)","v":0},{"$f":"(COUNTIF(CALENDRIER!CM$588:CM$952,CALENDRIER!$A$3))+((COUNTIF(CALENDRIER!CM$588:CM$952,CALENDRIER!$B$3))/2)","v":0},{"$f":"(COUNTIF(CALENDRIER!CN$588:CN$952,CALENDRIER!$A$3))+((COUNTIF(CALENDRIER!CN$588:CN$952,CALENDRIER!$B$3))/2)","v":0},{"$f":"(COUNTIF(CALENDRIER!CO$588:CO$952,CALENDRIER!$A$3))+((COUNTIF(CALENDRIER!CO$588:CO$952,CALENDRIER!$B$3))/2)","v":0},{"$f":"(COUNTIF(CALENDRIER!CP$588:CP$952,CALENDRIER!$A$3))+((COUNTIF(CALENDRIER!CP$588:CP$952,CALENDRIER!$B$3))/2)","v":0},{"$f":"(COUNTIF(CALENDRIER!CQ$588:CQ$952,CALENDRIER!$A$3))+((COUNTIF(CALENDRIER!CQ$588:CQ$952,CALENDRIER!$B$3))/2)","v":0},{"$f":"(COUNTIF(CALENDRIER!CR$588:CR$952,CALENDRIER!$A$3))+((COUNTIF(CALENDRIER!CR$588:CR$952,CALENDRIER!$B$3))/2)","v":0},{"$f":"(COUNTIF(CALENDRIER!CS$588:CS$952,CALENDRIER!$A$3))+((COUNTIF(CALENDRIER!CS$588:CS$952,CALENDRIER!$B$3))/2)","v":0},{"$f":"(COUNTIF(CALENDRIER!CT$588:CT$952,CALENDRIER!$A$3))+((COUNTIF(CALENDRIER!CT$588:CT$952,CALENDRIER!$B$3))/2)","v":0},{"$f":"(COUNTIF(CALENDRIER!CU$588:CU$952,CALENDRIER!$A$3))+((COUNTIF(CALENDRIER!CU$588:CU$952,CALENDRIER!$B$3))/2)","v":0},{"$f":"(COUNTIF(CALENDRIER!CV$588:CV$952,CALENDRIER!$A$3))+((COUNTIF(CALENDRIER!CV$588:CV$952,CALENDRIER!$B$3))/2)","v":0},{"$f":"(COUNTIF(CALENDRIER!CW$588:CW$952,CALENDRIER!$A$3))+((COUNTIF(CALENDRIER!CW$588:CW$952,CALENDRIER!$B$3))/2)","v":0},{"$f":"(COUNTIF(CALENDRIER!CX$588:CX$952,CALENDRIER!$A$3))+((COUNTIF(CALENDRIER!CX$588:CX$952,CALENDRIER!$B$3))/2)","v":0},{"$f":"(COUNTIF(CALENDRIER!CY$588:CY$952,CALENDRIER!$A$3))+((COUNTIF(CALENDRIER!CY$588:CY$952,CALENDRIER!$B$3))/2)","v":0},{"$f":"(COUNTIF(CALENDRIER!CZ$588:CZ$952,CALENDRIER!$A$3))+((COUNTIF(CALENDRIER!CZ$588:CZ$952,CALENDRIER!$B$3))/2)","v":0},{"$f":"(COUNTIF(CALENDRIER!DA$588:DA$952,CALENDRIER!$A$3))+((COUNTIF(CALENDRIER!DA$588:DA$952,CALENDRIER!$B$3))/2)","v":0},{"$f":"(COUNTIF(CALENDRIER!DB$588:DB$952,CALENDRIER!$A$3))+((COUNTIF(CALENDRIER!DB$588:DB$952,CALENDRIER!$B$3))/2)","v":0},{"$f":"(COUNTIF(CALENDRIER!DC$588:DC$952,CALENDRIER!$A$3))+((COUNTIF(CALENDRIER!DC$588:DC$952,CALENDRIER!$B$3))/2)","v":0},{"$f":"(COUNTIF(CALENDRIER!DD$588:DD$952,CALENDRIER!$A$3))+((COUNTIF(CALENDRIER!DD$588:DD$952,CALENDRIER!$B$3))/2)","v":0},{"$f":"(COUNTIF(CALENDRIER!DE$588:DE$952,CALENDRIER!$A$3))+((COUNTIF(CALENDRIER!DE$588:DE$952,CALENDRIER!$B$3))/2)","v":0},{"$f":"(COUNTIF(CALENDRIER!DF$588:DF$952,CALENDRIER!$A$3))+((COUNTIF(CALENDRIER!DF$588:DF$952,CALENDRIER!$B$3))/2)","v":0},{"$f":"(COUNTIF(CALENDRIER!DG$588:DG$952,CALENDRIER!$A$3))+((COUNTIF(CALENDRIER!DG$588:DG$952,CALENDRIER!$B$3))/2)","v":0},{"$f":"(COUNTIF(CALENDRIER!DH$588:DH$952,CALENDRIER!$A$3))+((COUNTIF(CALENDRIER!DH$588:DH$952,CALENDRIER!$B$3))/2)","v":0},{"$f":"(COUNTIF(CALENDRIER!DI$588:DI$952,CALENDRIER!$A$3))+((COUNTIF(CALENDRIER!DI$588:DI$952,CALENDRIER!$B$3))/2)","v":0},{"$f":"(COUNTIF(CALENDRIER!DJ$588:DJ$952,CALENDRIER!$A$3))+((COUNTIF(CALENDRIER!DJ$588:DJ$952,CALENDRIER!$B$3))/2)","v":0},{"$f":"(COUNTIF(CALENDRIER!DK$588:DK$952,CALENDRIER!$A$3))+((COUNTIF(CALENDRIER!DK$588:DK$952,CALENDRIER!$B$3))/2)","v":0},{"$f":"(COUNTIF(CALENDRIER!DL$588:DL$952,CALENDRIER!$A$3))+((COUNTIF(CALENDRIER!DL$588:DL$952,CALENDRIER!$B$3))/2)","v":0},{"$f":"(COUNTIF(CALENDRIER!DM$588:DM$952,CALENDRIER!$A$3))+((COUNTIF(CALENDRIER!DM$588:DM$952,CALENDRIER!$B$3))/2)","v":0},{"$f":"(COUNTIF(CALENDRIER!DN$588:DN$952,CALENDRIER!$A$3))+((COUNTIF(CALENDRIER!DN$588:DN$952,CALENDRIER!$B$3))/2)","v":0},{"$f":"(COUNTIF(CALENDRIER!DO$588:DO$952,CALENDRIER!$A$3))+((COUNTIF(CALENDRIER!DO$588:DO$952,CALENDRIER!$B$3))/2)","v":0},{"$f":"(COUNTIF(CALENDRIER!DP$588:DP$952,CALENDRIER!$A$3))+((COUNTIF(CALENDRIER!DP$588:DP$952,CALENDRIER!$B$3))/2)","v":0},{"$f":"(COUNTIF(CALENDRIER!DQ$588:DQ$952,CALENDRIER!$A$3))+((COUNTIF(CALENDRIER!DQ$588:DQ$952,CALENDRIER!$B$3))/2)","v":0},{"$f":"(COUNTIF(CALENDRIER!DR$588:DR$952,CALENDRIER!$A$3))+((COUNTIF(CALENDRIER!DR$588:DR$952,CALENDRIER!$B$3))/2)","v":0},{"$f":"(COUNTIF(CALENDRIER!DS$588:DS$952,CALENDRIER!$A$3))+((COUNTIF(CALENDRIER!DS$588:DS$952,CALENDRIER!$B$3))/2)","v":0},{"$f":"(COUNTIF(CALENDRIER!DT$588:DT$952,CALENDRIER!$A$3))+((COUNTIF(CALENDRIER!DT$588:DT$952,CALENDRIER!$B$3))/2)","v":0},{"$f":"(COUNTIF(CALENDRIER!DU$588:DU$952,CALENDRIER!$A$3))+((COUNTIF(CALENDRIER!DU$588:DU$952,CALENDRIER!$B$3))/2)","v":0},{"$f":"(COUNTIF(CALENDRIER!DV$588:DV$952,CALENDRIER!$A$3))+((COUNTIF(CALENDRIER!DV$588:DV$952,CALENDRIER!$B$3))/2)","v":0},{"$f":"(COUNTIF(CALENDRIER!DW$588:DW$952,CALENDRIER!$A$3))+((COUNTIF(CALENDRIER!DW$588:DW$952,CALENDRIER!$B$3))/2)","v":0},{"$f":"(COUNTIF(CALENDRIER!DX$588:DX$952,CALENDRIER!$A$3))+((COUNTIF(CALENDRIER!DX$588:DX$952,CALENDRIER!$B$3))/2)","v":0},{"$f":"(COUNTIF(CALENDRIER!DY$588:DY$952,CALENDRIER!$A$3))+((COUNTIF(CALENDRIER!DY$588:DY$952,CALENDRIER!$B$3))/2)","v":0},{"$f":"(COUNTIF(CALENDRIER!DZ$588:DZ$952,CALENDRIER!$A$3))+((COUNTIF(CALENDRIER!DZ$588:DZ$952,CALENDRIER!$B$3))/2)","v":0},{"$f":"(COUNTIF(CALENDRIER!EA$588:EA$952,CALENDRIER!$A$3))+((COUNTIF(CALENDRIER!EA$588:EA$952,CALENDRIER!$B$3))/2)","v":0},{"$f":"(COUNTIF(CALENDRIER!EB$588:EB$952,CALENDRIER!$A$3))+((COUNTIF(CALENDRIER!EB$588:EB$952,CALENDRIER!$B$3))/2)","v":0},{"$f":"(COUNTIF(CALENDRIER!EC$588:EC$952,CALENDRIER!$A$3))+((COUNTIF(CALENDRIER!EC$588:EC$952,CALENDRIER!$B$3))/2)","v":0},{"$f":"(COUNTIF(CALENDRIER!ED$588:ED$952,CALENDRIER!$A$3))+((COUNTIF(CALENDRIER!ED$588:ED$952,CALENDRIER!$B$3))/2)","v":0},{"$f":"(COUNTIF(CALENDRIER!EE$588:EE$952,CALENDRIER!$A$3))+((COUNTIF(CALENDRIER!EE$588:EE$952,CALENDRIER!$B$3))/2)","v":0},{"$f":"(COUNTIF(CALENDRIER!EF$588:EF$952,CALENDRIER!$A$3))+((COUNTIF(CALENDRIER!EF$588:EF$952,CALENDRIER!$B$3))/2)","v":0},{"$f":"(COUNTIF(CALENDRIER!EG$588:EG$952,CALENDRIER!$A$3))+((COUNTIF(CALENDRIER!EG$588:EG$952,CALENDRIER!$B$3))/2)","v":0},{"$f":"(COUNTIF(CALENDRIER!EH$588:EH$952,CALENDRIER!$A$3))+((COUNTIF(CALENDRIER!EH$588:EH$952,CALENDRIER!$B$3))/2)","v":0},{"$f":"(COUNTIF(CALENDRIER!EI$588:EI$952,CALENDRIER!$A$3))+((COUNTIF(CALENDRIER!EI$588:EI$952,CALENDRIER!$B$3))/2)","v":0},{"$f":"(COUNTIF(CALENDRIER!EJ$588:EJ$952,CALENDRIER!$A$3))+((COUNTIF(CALENDRIER!EJ$588:EJ$952,CALENDRIER!$B$3))/2)","v":0},{"$f":"(COUNTIF(CALENDRIER!EK$588:EK$952,CALENDRIER!$A$3))+((COUNTIF(CALENDRIER!EK$588:EK$952,CALENDRIER!$B$3))/2)","v":0},{"$f":"(COUNTIF(CALENDRIER!EL$588:EL$952,CALENDRIER!$A$3))+((COUNTIF(CALENDRIER!EL$588:EL$952,CALENDRIER!$B$3))/2)","v":0},{"$f":"(COUNTIF(CALENDRIER!EM$588:EM$952,CALENDRIER!$A$3))+((COUNTIF(CALENDRIER!EM$588:EM$952,CALENDRIER!$B$3))/2)","v":0},{"$f":"(COUNTIF(CALENDRIER!EN$588:EN$952,CALENDRIER!$A$3))+((COUNTIF(CALENDRIER!EN$588:EN$952,CALENDRIER!$B$3))/2)","v":0},{"$f":"(COUNTIF(CALENDRIER!EO$588:EO$952,CALENDRIER!$A$3))+((COUNTIF(CALENDRIER!EO$588:EO$952,CALENDRIER!$B$3))/2)","v":0},{"$f":"(COUNTIF(CALENDRIER!EP$588:EP$952,CALENDRIER!$A$3))+((COUNTIF(CALENDRIER!EP$588:EP$952,CALENDRIER!$B$3))/2)","v":0},{"$f":"(COUNTIF(CALENDRIER!EQ$588:EQ$952,CALENDRIER!$A$3))+((COUNTIF(CALENDRIER!EQ$588:EQ$952,CALENDRIER!$B$3))/2)","v":0},{"$f":"(COUNTIF(CALENDRIER!ER$588:ER$952,CALENDRIER!$A$3))+((COUNTIF(CALENDRIER!ER$588:ER$952,CALENDRIER!$B$3))/2)","v":0},{"$f":"(COUNTIF(CALENDRIER!ES$588:ES$952,CALENDRIER!$A$3))+((COUNTIF(CALENDRIER!ES$588:ES$952,CALENDRIER!$B$3))/2)","v":0},{"$f":"(COUNTIF(CALENDRIER!ET$588:ET$952,CALENDRIER!$A$3))+((COUNTIF(CALENDRIER!ET$588:ET$952,CALENDRIER!$B$3))/2)","v":0},{"$f":"(COUNTIF(CALENDRIER!EU$588:EU$952,CALENDRIER!$A$3))+((COUNTIF(CALENDRIER!EU$588:EU$952,CALENDRIER!$B$3))/2)","v":0},{"$f":"(COUNTIF(CALENDRIER!EV$588:EV$952,CALENDRIER!$A$3))+((COUNTIF(CALENDRIER!EV$588:EV$952,CALENDRIER!$B$3))/2)","v":0},{"$f":"(COUNTIF(CALENDRIER!EW$588:EW$952,CALENDRIER!$A$3))+((COUNTIF(CALENDRIER!EW$588:EW$952,CALENDRIER!$B$3))/2)","v":0},{"$f":"(COUNTIF(CALENDRIER!EX$588:EX$952,CALENDRIER!$A$3))+((COUNTIF(CALENDRIER!EX$588:EX$952,CALENDRIER!$B$3))/2)","v":0},{"$f":"(COUNTIF(CALENDRIER!EY$588:EY$952,CALENDRIER!$A$3))+((COUNTIF(CALENDRIER!EY$588:EY$952,CALENDRIER!$B$3))/2)","v":0},{"$f":"(COUNTIF(CALENDRIER!EZ$588:EZ$952,CALENDRIER!$A$3))+((COUNTIF(CALENDRIER!EZ$588:EZ$952,CALENDRIER!$B$3))/2)","v":0},{"$f":"(COUNTIF(CALENDRIER!FA$588:FA$952,CALENDRIER!$A$3))+((COUNTIF(CALENDRIER!FA$588:FA$952,CALENDRIER!$B$3))/2)","v":0},{"$f":"(COUNTIF(CALENDRIER!FB$588:FB$952,CALENDRIER!$A$3))+((COUNTIF(CALENDRIER!FB$588:FB$952,CALENDRIER!$B$3))/2)","v":0},{"$f":"(COUNTIF(CALENDRIER!FC$588:FC$952,CALENDRIER!$A$3))+((COUNTIF(CALENDRIER!FC$588:FC$952,CALENDRIER!$B$3))/2)","v":0},{"$f":"(COUNTIF(CALENDRIER!FD$588:FD$952,CALENDRIER!$A$3))+((COUNTIF(CALENDRIER!FD$588:FD$952,CALENDRIER!$B$3))/2)","v":0},{"$f":"(COUNTIF(CALENDRIER!FE$588:FE$952,CALENDRIER!$A$3))+((COUNTIF(CALENDRIER!FE$588:FE$952,CALENDRIER!$B$3))/2)","v":0},{"$f":"(COUNTIF(CALENDRIER!FF$588:FF$952,CALENDRIER!$A$3))+((COUNTIF(CALENDRIER!FF$588:FF$952,CALENDRIER!$B$3))/2)","v":0},{"$f":"(COUNTIF(CALENDRIER!FG$588:FG$952,CALENDRIER!$A$3))+((COUNTIF(CALENDRIER!FG$588:FG$952,CALENDRIER!$B$3))/2)","v":0},{"$f":"(COUNTIF(CALENDRIER!FH$588:FH$952,CALENDRIER!$A$3))+((COUNTIF(CALENDRIER!FH$588:FH$952,CALENDRIER!$B$3))/2)","v":0},{"$f":"(COUNTIF(CALENDRIER!FI$588:FI$952,CALENDRIER!$A$3))+((COUNTIF(CALENDRIER!FI$588:FI$952,CALENDRIER!$B$3))/2)","v":0},{"$f":"(COUNTIF(CALENDRIER!FJ$588:FJ$952,CALENDRIER!$A$3))+((COUNTIF(CALENDRIER!FJ$588:FJ$952,CALENDRIER!$B$3))/2)","v":0},{"$f":"(COUNTIF(CALENDRIER!FK$588:FK$952,CALENDRIER!$A$3))+((COUNTIF(CALENDRIER!FK$588:FK$952,CALENDRIER!$B$3))/2)","v":0},{"$f":"(COUNTIF(CALENDRIER!FL$588:FL$952,CALENDRIER!$A$3))+((COUNTIF(CALENDRIER!FL$588:FL$952,CALENDRIER!$B$3))/2)","v":0},{"$f":"(COUNTIF(CALENDRIER!FM$588:FM$952,CALENDRIER!$A$3))+((COUNTIF(CALENDRIER!FM$588:FM$952,CALENDRIER!$B$3))/2)","v":0},{"$f":"(COUNTIF(CALENDRIER!FN$588:FN$952,CALENDRIER!$A$3))+((COUNTIF(CALENDRIER!FN$588:FN$952,CALENDRIER!$B$3))/2)","v":0},{"$f":"(COUNTIF(CALENDRIER!FO$588:FO$952,CALENDRIER!$A$3))+((COUNTIF(CALENDRIER!FO$588:FO$952,CALENDRIER!$B$3))/2)","v":0},{"$f":"(COUNTIF(CALENDRIER!FP$588:FP$952,CALENDRIER!$A$3))+((COUNTIF(CALENDRIER!FP$588:FP$952,CALENDRIER!$B$3))/2)","v":0},{"$f":"(COUNTIF(CALENDRIER!FQ$588:FQ$952,CALENDRIER!$A$3))+((COUNTIF(CALENDRIER!FQ$588:FQ$952,CALENDRIER!$B$3))/2)","v":0},{"$f":"(COUNTIF(CALENDRIER!FR$588:FR$952,CALENDRIER!$A$3))+((COUNTIF(CALENDRIER!FR$588:FR$952,CALENDRIER!$B$3))/2)","v":0},{"$f":"(COUNTIF(CALENDRIER!FS$588:FS$952,CALENDRIER!$A$3))+((COUNTIF(CALENDRIER!FS$588:FS$952,CALENDRIER!$B$3))/2)","v":0},{"$f":"(COUNTIF(CALENDRIER!FT$588:FT$952,CALENDRIER!$A$3))+((COUNTIF(CALENDRIER!FT$588:FT$952,CALENDRIER!$B$3))/2)","v":0},{"$f":"(COUNTIF(CALENDRIER!FU$588:FU$952,CALENDRIER!$A$3))+((COUNTIF(CALENDRIER!FU$588:FU$952,CALENDRIER!$B$3))/2)","v":0},{"$f":"(COUNTIF(CALENDRIER!FV$588:FV$952,CALENDRIER!$A$3))+((COUNTIF(CALENDRIER!FV$588:FV$952,CALENDRIER!$B$3))/2)","v":0},{"$f":"(COUNTIF(CALENDRIER!FW$588:FW$952,CALENDRIER!$A$3))+((COUNTIF(CALENDRIER!FW$588:FW$952,CALENDRIER!$B$3))/2)","v":0},{"$f":"(COUNTIF(CALENDRIER!FX$588:FX$952,CALENDRIER!$A$3))+((COUNTIF(CALENDRIER!FX$588:FX$952,CALENDRIER!$B$3))/2)","v":0},{"$f":"(COUNTIF(CALENDRIER!FY$588:FY$952,CALENDRIER!$A$3))+((COUNTIF(CALENDRIER!FY$588:FY$952,CALENDRIER!$B$3))/2)","v":0},{"$f":"(COUNTIF(CALENDRIER!FZ$588:FZ$952,CALENDRIER!$A$3))+((COUNTIF(CALENDRIER!FZ$588:FZ$952,CALENDRIER!$B$3))/2)","v":0},{"$f":"(COUNTIF(CALENDRIER!GA$588:GA$952,CALENDRIER!$A$3))+((COUNTIF(CALENDRIER!GA$588:GA$952,CALENDRIER!$B$3))/2)","v":0},{"$f":"(COUNTIF(CALENDRIER!GB$588:GB$952,CALENDRIER!$A$3))+((COUNTIF(CALENDRIER!GB$588:GB$952,CALENDRIER!$B$3))/2)","v":0},{"$f":"(COUNTIF(CALENDRIER!GC$588:GC$952,CALENDRIER!$A$3))+((COUNTIF(CALENDRIER!GC$588:GC$952,CALENDRIER!$B$3))/2)","v":0},{"$f":"(COUNTIF(CALENDRIER!GD$588:GD$952,CALENDRIER!$A$3))+((COUNTIF(CALENDRIER!GD$588:GD$952,CALENDRIER!$B$3))/2)","v":0},{"$f":"(COUNTIF(CALENDRIER!GE$588:GE$952,CALENDRIER!$A$3))+((COUNTIF(CALENDRIER!GE$588:GE$952,CALENDRIER!$B$3))/2)","v":0},{"$f":"(COUNTIF(CALENDRIER!GF$588:GF$952,CALENDRIER!$A$3))+((COUNTIF(CALENDRIER!GF$588:GF$952,CALENDRIER!$B$3))/2)","v":0},{"$f":"(COUNTIF(CALENDRIER!GG$588:GG$952,CALENDRIER!$A$3))+((COUNTIF(CALENDRIER!GG$588:GG$952,CALENDRIER!$B$3))/2)","v":0},{"$f":"(COUNTIF(CALENDRIER!GH$588:GH$952,CALENDRIER!$A$3))+((COUNTIF(CALENDRIER!GH$588:GH$952,CALENDRIER!$B$3))/2)","v":0},{"$f":"(COUNTIF(CALENDRIER!GI$588:GI$952,CALENDRIER!$A$3))+((COUNTIF(CALENDRIER!GI$588:GI$952,CALENDRIER!$B$3))/2)","v":0},{"$f":"(COUNTIF(CALENDRIER!GJ$588:GJ$952,CALENDRIER!$A$3))+((COUNTIF(CALENDRIER!GJ$588:GJ$952,CALENDRIER!$B$3))/2)","v":0},{"$f":"(COUNTIF(CALENDRIER!GK$588:GK$952,CALENDRIER!$A$3))+((COUNTIF(CALENDRIER!GK$588:GK$952,CALENDRIER!$B$3))/2)","v":0},{"$f":"(COUNTIF(CALENDRIER!GL$588:GL$952,CALENDRIER!$A$3))+((COUNTIF(CALENDRIER!GL$588:GL$952,CALENDRIER!$B$3))/2)","v":0},{"$f":"(COUNTIF(CALENDRIER!GM$588:GM$952,CALENDRIER!$A$3))+((COUNTIF(CALENDRIER!GM$588:GM$952,CALENDRIER!$B$3))/2)","v":0},{"$f":"(COUNTIF(CALENDRIER!GN$588:GN$952,CALENDRIER!$A$3))+((COUNTIF(CALENDRIER!GN$588:GN$952,CALENDRIER!$B$3))/2)","v":0},{"$f":"(COUNTIF(CALENDRIER!GO$588:GO$952,CALENDRIER!$A$3))+((COUNTIF(CALENDRIER!GO$588:GO$952,CALENDRIER!$B$3))/2)","v":0},{"$f":"(COUNTIF(CALENDRIER!GP$588:GP$952,CALENDRIER!$A$3))+((COUNTIF(CALENDRIER!GP$588:GP$952,CALENDRIER!$B$3))/2)","v":0},{"$f":"(COUNTIF(CALENDRIER!GQ$588:GQ$952,CALENDRIER!$A$3))+((COUNTIF(CALENDRIER!GQ$588:GQ$952,CALENDRIER!$B$3))/2)","v":0},{"$f":"(COUNTIF(CALENDRIER!GR$588:GR$952,CALENDRIER!$A$3))+((COUNTIF(CALENDRIER!GR$588:GR$952,CALENDRIER!$B$3))/2)","v":0}]
[null,{"$f":"\"Solde \"&CALENDRIER!$A$3&\" \"&A119&\" :\"","v":"Solde RTT 2017 :"},{"$f":"C120-C121","v":0},{"$f":"D120-D121","v":0},0,0,0,0,0,0,0,0,0,0,0,0,0,0,0,0,0,0,0,0,0,0,0,0,0,0,0,0,0,0,0,0,0,0,0,0,0,0,0,0,0,0,0,0,0,0,0,0,0,0,0,0,0,0,0,0,0,0,0,0,0,0,0,{"$f":"BP120-BP121","v":0},0,0,0,0,0,0,0,0,0,0,0,0,0,0,0,0,0,0,0,0,0,0,0,0,0,0,0,0,0,0,0,0,0,0,0,0,0,0,0,0,0,0,0,0,0,0,0,0,0,0,0,0,0,0,0,0,0,0,0,0,0,0,0,{"$f":"EB120-EB121","v":0},0,0,0,0,0,0,0,0,0,0,0,0,0,0,0,0,0,0,0,0,0,0,0,0,0,0,0,0,0,0,0,0,0,0,0,0,0,0,0,0,0,0,0,0,0,0,0,0,0,0,0,0,0,0,0,0,0,0,0,0,0,0,0,{"$f":"GN120-GN121","v":0},0,0,0,0]
[]
[2018,{"$f":"CALENDRIER!$A$3","v":"RTT"}]
[null,"SOLDE DEPART"]
[null,{"$f":"CALENDRIER!$A$3&\" PRIS\"","v":"RTT PRIS"},{"$f":"(COUNTIF(CALENDRIER!C$953:C$1317,CALENDRIER!$A$3))+((COUNTIF(CALENDRIER!C$953:C$1317,CALENDRIER!$B$3))/2)","v":0},{"$f":"(COUNTIF(CALENDRIER!D$953:D$1317,CALENDRIER!$A$3))+((COUNTIF(CALENDRIER!D$953:D$1317,CALENDRIER!$B$3))/2)","v":0},{"$f":"(COUNTIF(CALENDRIER!E$953:E$1317,CALENDRIER!$A$3))+((COUNTIF(CALENDRIER!E$953:E$1317,CALENDRIER!$B$3))/2)","v":0},{"$f":"(COUNTIF(CALENDRIER!F$953:F$1317,CALENDRIER!$A$3))+((COUNTIF(CALENDRIER!F$953:F$1317,CALENDRIER!$B$3))/2)","v":0},{"$f":"(COUNTIF(CALENDRIER!G$953:G$1317,CALENDRIER!$A$3))+((COUNTIF(CALENDRIER!G$953:G$1317,CALENDRIER!$B$3))/2)","v":0},{"$f":"(COUNTIF(CALENDRIER!H$953:H$1317,CALENDRIER!$A$3))+((COUNTIF(CALENDRIER!H$953:H$1317,CALENDRIER!$B$3))/2)","v":0},{"$f":"(COUNTIF(CALENDRIER!I$953:I$1317,CALENDRIER!$A$3))+((COUNTIF(CALENDRIER!I$953:I$1317,CALENDRIER!$B$3))/2)","v":0},{"$f":"(COUNTIF(CALENDRIER!J$953:J$1317,CALENDRIER!$A$3))+((COUNTIF(CALENDRIER!J$953:J$1317,CALENDRIER!$B$3))/2)","v":0},{"$f":"(COUNTIF(CALENDRIER!K$953:K$1317,CALENDRIER!$A$3))+((COUNTIF(CALENDRIER!K$953:K$1317,CALENDRIER!$B$3))/2)","v":0},{"$f":"(COUNTIF(CALENDRIER!L$953:L$1317,CALENDRIER!$A$3))+((COUNTIF(CALENDRIER!L$953:L$1317,CALENDRIER!$B$3))/2)","v":0},{"$f":"(COUNTIF(CALENDRIER!M$953:M$1317,CALENDRIER!$A$3))+((COUNTIF(CALENDRIER!M$953:M$1317,CALENDRIER!$B$3))/2)","v":0},{"$f":"(COUNTIF(CALENDRIER!N$953:N$1317,CALENDRIER!$A$3))+((COUNTIF(CALENDRIER!N$953:N$1317,CALENDRIER!$B$3))/2)","v":0},{"$f":"(COUNTIF(CALENDRIER!O$953:O$1317,CALENDRIER!$A$3))+((COUNTIF(CALENDRIER!O$953:O$1317,CALENDRIER!$B$3))/2)","v":0},{"$f":"(COUNTIF(CALENDRIER!P$953:P$1317,CALENDRIER!$A$3))+((COUNTIF(CALENDRIER!P$953:P$1317,CALENDRIER!$B$3))/2)","v":0},{"$f":"(COUNTIF(CALENDRIER!Q$953:Q$1317,CALENDRIER!$A$3))+((COUNTIF(CALENDRIER!Q$953:Q$1317,CALENDRIER!$B$3))/2)","v":0},{"$f":"(COUNTIF(CALENDRIER!R$953:R$1317,CALENDRIER!$A$3))+((COUNTIF(CALENDRIER!R$953:R$1317,CALENDRIER!$B$3))/2)","v":0},{"$f":"(COUNTIF(CALENDRIER!S$953:S$1317,CALENDRIER!$A$3))+((COUNTIF(CALENDRIER!S$953:S$1317,CALENDRIER!$B$3))/2)","v":0},{"$f":"(COUNTIF(CALENDRIER!T$953:T$1317,CALENDRIER!$A$3))+((COUNTIF(CALENDRIER!T$953:T$1317,CALENDRIER!$B$3))/2)","v":0},{"$f":"(COUNTIF(CALENDRIER!U$953:U$1317,CALENDRIER!$A$3))+((COUNTIF(CALENDRIER!U$953:U$1317,CALENDRIER!$B$3))/2)","v":0},{"$f":"(COUNTIF(CALENDRIER!V$953:V$1317,CALENDRIER!$A$3))+((COUNTIF(CALENDRIER!V$953:V$1317,CALENDRIER!$B$3))/2)","v":0},{"$f":"(COUNTIF(CALENDRIER!W$953:W$1317,CALENDRIER!$A$3))+((COUNTIF(CALENDRIER!W$953:W$1317,CALENDRIER!$B$3))/2)","v":0},{"$f":"(COUNTIF(CALENDRIER!X$953:X$1317,CALENDRIER!$A$3))+((COUNTIF(CALENDRIER!X$953:X$1317,CALENDRIER!$B$3))/2)","v":0},{"$f":"(COUNTIF(CALENDRIER!Y$953:Y$1317,CALENDRIER!$A$3))+((COUNTIF(CALENDRIER!Y$953:Y$1317,CALENDRIER!$B$3))/2)","v":0},{"$f":"(COUNTIF(CALENDRIER!Z$953:Z$1317,CALENDRIER!$A$3))+((COUNTIF(CALENDRIER!Z$953:Z$1317,CALENDRIER!$B$3))/2)","v":0},{"$f":"(COUNTIF(CALENDRIER!AA$953:AA$1317,CALENDRIER!$A$3))+((COUNTIF(CALENDRIER!AA$953:AA$1317,CALENDRIER!$B$3))/2)","v":0},{"$f":"(COUNTIF(CALENDRIER!AB$953:AB$1317,CALENDRIER!$A$3))+((COUNTIF(CALENDRIER!AB$953:AB$1317,CALENDRIER!$B$3))/2)","v":0},{"$f":"(COUNTIF(CALENDRIER!AC$953:AC$1317,CALENDRIER!$A$3))+((COUNTIF(CALENDRIER!AC$953:AC$1317,CALENDRIER!$B$3))/2)","v":0},{"$f":"(COUNTIF(CALENDRIER!AD$953:AD$1317,CALENDRIER!$A$3))+((COUNTIF(CALENDRIER!AD$953:AD$1317,CALENDRIER!$B$3))/2)","v":0},{"$f":"(COUNTIF(CALENDRIER!AE$953:AE$1317,CALENDRIER!$A$3))+((COUNTIF(CALENDRIER!AE$953:AE$1317,CALENDRIER!$B$3))/2)","v":0},{"$f":"(COUNTIF(CALENDRIER!AF$953:AF$1317,CALENDRIER!$A$3))+((COUNTIF(CALENDRIER!AF$953:AF$1317,CALENDRIER!$B$3))/2)","v":0},{"$f":"(COUNTIF(CALENDRIER!AG$953:AG$1317,CALENDRIER!$A$3))+((COUNTIF(CALENDRIER!AG$953:AG$1317,CALENDRIER!$B$3))/2)","v":0},{"$f":"(COUNTIF(CALENDRIER!AH$953:AH$1317,CALENDRIER!$A$3))+((COUNTIF(CALENDRIER!AH$953:AH$1317,CALENDRIER!$B$3))/2)","v":0},{"$f":"(COUNTIF(CALENDRIER!AI$953:AI$1317,CALENDRIER!$A$3))+((COUNTIF(CALENDRIER!AI$953:AI$1317,CALENDRIER!$B$3))/2)","v":0},{"$f":"(COUNTIF(CALENDRIER!AJ$953:AJ$1317,CALENDRIER!$A$3))+((COUNTIF(CALENDRIER!AJ$953:AJ$1317,CALENDRIER!$B$3))/2)","v":0},{"$f":"(COUNTIF(CALENDRIER!AK$953:AK$1317,CALENDRIER!$A$3))+((COUNTIF(CALENDRIER!AK$953:AK$1317,CALENDRIER!$B$3))/2)","v":0},{"$f":"(COUNTIF(CALENDRIER!AL$953:AL$1317,CALENDRIER!$A$3))+((COUNTIF(CALENDRIER!AL$953:AL$1317,CALENDRIER!$B$3))/2)","v":0},{"$f":"(COUNTIF(CALENDRIER!AM$953:AM$1317,CALENDRIER!$A$3))+((COUNTIF(CALENDRIER!AM$953:AM$1317,CALENDRIER!$B$3))/2)","v":0},{"$f":"(COUNTIF(CALENDRIER!AN$953:AN$1317,CALENDRIER!$A$3))+((COUNTIF(CALENDRIER!AN$953:AN$1317,CALENDRIER!$B$3))/2)","v":0},{"$f":"(COUNTIF(CALENDRIER!AO$953:AO$1317,CALENDRIER!$A$3))+((COUNTIF(CALENDRIER!AO$953:AO$1317,CALENDRIER!$B$3))/2)","v":0},{"$f":"(COUNTIF(CALENDRIER!AP$953:AP$1317,CALENDRIER!$A$3))+((COUNTIF(CALENDRIER!AP$953:AP$1317,CALENDRIER!$B$3))/2)","v":0},{"$f":"(COUNTIF(CALENDRIER!AQ$953:AQ$1317,CALENDRIER!$A$3))+((COUNTIF(CALENDRIER!AQ$953:AQ$1317,CALENDRIER!$B$3))/2)","v":0},{"$f":"(COUNTIF(CALENDRIER!AR$953:AR$1317,CALENDRIER!$A$3))+((COUNTIF(CALENDRIER!AR$953:AR$1317,CALENDRIER!$B$3))/2)","v":0},{"$f":"(COUNTIF(CALENDRIER!AS$953:AS$1317,CALENDRIER!$A$3))+((COUNTIF(CALENDRIER!AS$953:AS$1317,CALENDRIER!$B$3))/2)","v":0},{"$f":"(COUNTIF(CALENDRIER!AT$953:AT$1317,CALENDRIER!$A$3))+((COUNTIF(CALENDRIER!AT$953:AT$1317,CALENDRIER!$B$3))/2)","v":0},{"$f":"(COUNTIF(CALENDRIER!AU$953:AU$1317,CALENDRIER!$A$3))+((COUNTIF(CALENDRIER!AU$953:AU$1317,CALENDRIER!$B$3))/2)","v":0},{"$f":"(COUNTIF(CALENDRIER!AV$953:AV$1317,CALENDRIER!$A$3))+((COUNTIF(CALENDRIER!AV$953:AV$1317,CALENDRIER!$B$3))/2)","v":0},{"$f":"(COUNTIF(CALENDRIER!AW$953:AW$1317,CALENDRIER!$A$3))+((COUNTIF(CALENDRIER!AW$953:AW$1317,CALENDRIER!$B$3))/2)","v":0},{"$f":"(COUNTIF(CALENDRIER!AX$953:AX$1317,CALENDRIER!$A$3))+((COUNTIF(CALENDRIER!AX$953:AX$1317,CALENDRIER!$B$3))/2)","v":0},{"$f":"(COUNTIF(CALENDRIER!AY$953:AY$1317,CALENDRIER!$A$3))+((COUNTIF(CALENDRIER!AY$953:AY$1317,CALENDRIER!$B$3))/2)","v":0},{"$f":"(COUNTIF(CALENDRIER!AZ$953:AZ$1317,CALENDRIER!$A$3))+((COUNTIF(CALENDRIER!AZ$953:AZ$1317,CALENDRIER!$B$3))/2)","v":0},{"$f":"(COUNTIF(CALENDRIER!BA$953:BA$1317,CALENDRIER!$A$3))+((COUNTIF(CALENDRIER!BA$953:BA$1317,CALENDRIER!$B$3))/2)","v":0},{"$f":"(COUNTIF(CALENDRIER!BB$953:BB$1317,CALENDRIER!$A$3))+((COUNTIF(CALENDRIER!BB$953:BB$1317,CALENDRIER!$B$3))/2)","v":0},{"$f":"(COUNTIF(CALENDRIER!BC$953:BC$1317,CALENDRIER!$A$3))+((COUNTIF(CALENDRIER!BC$953:BC$1317,CALENDRIER!$B$3))/2)","v":0},{"$f":"(COUNTIF(CALENDRIER!BD$953:BD$1317,CALENDRIER!$A$3))+((COUNTIF(CALENDRIER!BD$953:BD$1317,CALENDRIER!$B$3))/2)","v":0},{"$f":"(COUNTIF(CALENDRIER!BE$953:BE$1317,CALENDRIER!$A$3))+((COUNTIF(CALENDRIER!BE$953:BE$1317,CALENDRIER!$B$3))/2)","v":0},{"$f":"(COUNTIF(CALENDRIER!BF$953:BF$1317,CALENDRIER!$A$3))+((COUNTIF(CALENDRIER!BF$953:BF$1317,CALENDRIER!$B$3))/2)","v":0},{"$f":"(COUNTIF(CALENDRIER!BG$953:BG$1317,CALENDRIER!$A$3))+((COUNTIF(CALENDRIER!BG$953:BG$1317,CALENDRIER!$B$3))/2)","v":0},{"$f":"(COUNTIF(CALENDRIER!BH$953:BH$1317,CALENDRIER!$A$3))+((COUNTIF(CALENDRIER!BH$953:BH$1317,CALENDRIER!$B$3))/2)","v":0},{"$f":"(COUNTIF(CALENDRIER!BI$953:BI$1317,CALENDRIER!$A$3))+((COUNTIF(CALENDRIER!BI$953:BI$1317,CALENDRIER!$B$3))/2)","v":0},{"$f":"(COUNTIF(CALENDRIER!BJ$953:BJ$1317,CALENDRIER!$A$3))+((COUNTIF(CALENDRIER!BJ$953:BJ$1317,CALENDRIER!$B$3))/2)","v":0},{"$f":"(COUNTIF(CALENDRIER!BK$953:BK$1317,CALENDRIER!$A$3))+((COUNTIF(CALENDRIER!BK$953:BK$1317,CALENDRIER!$B$3))/2)","v":0},{"$f":"(COUNTIF(CALENDRIER!BL$953:BL$1317,CALENDRIER!$A$3))+((COUNTIF(CALENDRIER!BL$953:BL$1317,CALENDRIER!$B$3))/2)","v":0},{"$f":"(COUNTIF(CALENDRIER!BM$953:BM$1317,CALENDRIER!$A$3))+((COUNTIF(CALENDRIER!BM$953:BM$1317,CALENDRIER!$B$3))/2)","v":0},{"$f":"(COUNTIF(CALENDRIER!BN$953:BN$1317,CALENDRIER!$A$3))+((COUNTIF(CALENDRIER!BN$953:BN$1317,CALENDRIER!$B$3))/2)","v":0},{"$f":"(COUNTIF(CALENDRIER!BO$953:BO$1317,CALENDRIER!$A$3))+((COUNTIF(CALENDRIER!BO$953:BO$1317,CALENDRIER!$B$3))/2)","v":0},{"$f":"(COUNTIF(CALENDRIER!BP$953:BP$1317,CALENDRIER!$A$3))+((COUNTIF(CALENDRIER!BP$953:BP$1317,CALENDRIER!$B$3))/2)","v":0},{"$f":"(COUNTIF(CALENDRIER!BQ$953:BQ$1317,CALENDRIER!$A$3))+((COUNTIF(CALENDRIER!BQ$953:BQ$1317,CALENDRIER!$B$3))/2)","v":0},{"$f":"(COUNTIF(CALENDRIER!BR$953:BR$1317,CALENDRIER!$A$3))+((COUNTIF(CALENDRIER!BR$953:BR$1317,CALENDRIER!$B$3))/2)","v":0},{"$f":"(COUNTIF(CALENDRIER!BS$953:BS$1317,CALENDRIER!$A$3))+((COUNTIF(CALENDRIER!BS$953:BS$1317,CALENDRIER!$B$3))/2)","v":0},{"$f":"(COUNTIF(CALENDRIER!BT$953:BT$1317,CALENDRIER!$A$3))+((COUNTIF(CALENDRIER!BT$953:BT$1317,CALENDRIER!$B$3))/2)","v":0},{"$f":"(COUNTIF(CALENDRIER!BU$953:BU$1317,CALENDRIER!$A$3))+((COUNTIF(CALENDRIER!BU$953:BU$1317,CALENDRIER!$B$3))/2)","v":0},{"$f":"(COUNTIF(CALENDRIER!BV$953:BV$1317,CALENDRIER!$A$3))+((COUNTIF(CALENDRIER!BV$953:BV$1317,CALENDRIER!$B$3))/2)","v":0},{"$f":"(COUNTIF(CALENDRIER!BW$953:BW$1317,CALENDRIER!$A$3))+((COUNTIF(CALENDRIER!BW$953:BW$1317,CALENDRIER!$B$3))/2)","v":0},{"$f":"(COUNTIF(CALENDRIER!BX$953:BX$1317,CALENDRIER!$A$3))+((COUNTIF(CALENDRIER!BX$953:BX$1317,CALENDRIER!$B$3))/2)","v":0},{"$f":"(COUNTIF(CALENDRIER!BY$953:BY$1317,CALENDRIER!$A$3))+((COUNTIF(CALENDRIER!BY$953:BY$1317,CALENDRIER!$B$3))/2)","v":0},{"$f":"(COUNTIF(CALENDRIER!BZ$953:BZ$1317,CALENDRIER!$A$3))+((COUNTIF(CALENDRIER!BZ$953:BZ$1317,CALENDRIER!$B$3))/2)","v":0},{"$f":"(COUNTIF(CALENDRIER!CA$953:CA$1317,CALENDRIER!$A$3))+((COUNTIF(CALENDRIER!CA$953:CA$1317,CALENDRIER!$B$3))/2)","v":0},{"$f":"(COUNTIF(CALENDRIER!CB$953:CB$1317,CALENDRIER!$A$3))+((COUNTIF(CALENDRIER!CB$953:CB$1317,CALENDRIER!$B$3))/2)","v":0},{"$f":"(COUNTIF(CALENDRIER!CC$953:CC$1317,CALENDRIER!$A$3))+((COUNTIF(CALENDRIER!CC$953:CC$1317,CALENDRIER!$B$3))/2)","v":0},{"$f":"(COUNTIF(CALENDRIER!CD$953:CD$1317,CALENDRIER!$A$3))+((COUNTIF(CALENDRIER!CD$953:CD$1317,CALENDRIER!$B$3))/2)","v":0},{"$f":"(COUNTIF(CALENDRIER!CE$953:CE$1317,CALENDRIER!$A$3))+((COUNTIF(CALENDRIER!CE$953:CE$1317,CALENDRIER!$B$3))/2)","v":0},{"$f":"(COUNTIF(CALENDRIER!CF$953:CF$1317,CALENDRIER!$A$3))+((COUNTIF(CALENDRIER!CF$953:CF$1317,CALENDRIER!$B$3))/2)","v":0},{"$f":"(COUNTIF(CALENDRIER!CG$953:CG$1317,CALENDRIER!$A$3))+((COUNTIF(CALENDRIER!CG$953:CG$1317,CALENDRIER!$B$3))/2)","v":0},{"$f":"(COUNTIF(CALENDRIER!CH$953:CH$1317,CALENDRIER!$A$3))+((COUNTIF(CALENDRIER!CH$953:CH$1317,CALENDRIER!$B$3))/2)","v":0},{"$f":"(COUNTIF(CALENDRIER!CI$953:CI$1317,CALENDRIER!$A$3))+((COUNTIF(CALENDRIER!CI$953:CI$1317,CALENDRIER!$B$3))/2)","v":0},{"$f":"(COUNTIF(CALENDRIER!CJ$953:CJ$1317,CALENDRIER!$A$3))+((COUNTIF(CALENDRIER!CJ$953:CJ$1317,CALENDRIER!$B$3))/2)","v":0},{"$f":"(COUNTIF(CALENDRIER!CK$953:CK$1317,CALENDRIER!$A$3))+((COUNTIF(CALENDRIER!CK$953:CK$1317,CALENDRIER!$B$3))/2)","v":0},{"$f":"(COUNTIF(CALENDRIER!CL$953:CL$1317,CALENDRIER!$A$3))+((COUNTIF(CALENDRIER!CL$953:CL$1317,CALENDRIER!$B$3))/2)","v":0},{"$f":"(COUNTIF(CALENDRIER!CM$953:CM$1317,CALENDRIER!$A$3))+((COUNTIF(CALENDRIER!CM$953:CM$1317,CALENDRIER!$B$3))/2)","v":0},{"$f":"(COUNTIF(CALENDRIER!CN$953:CN$1317,CALENDRIER!$A$3))+((COUNTIF(CALENDRIER!CN$953:CN$1317,CALENDRIER!$B$3))/2)","v":0},{"$f":"(COUNTIF(CALENDRIER!CO$953:CO$1317,CALENDRIER!$A$3))+((COUNTIF(CALENDRIER!CO$953:CO$1317,CALENDRIER!$B$3))/2)","v":0},{"$f":"(COUNTIF(CALENDRIER!CP$953:CP$1317,CALENDRIER!$A$3))+((COUNTIF(CALENDRIER!CP$953:CP$1317,CALENDRIER!$B$3))/2)","v":0},{"$f":"(COUNTIF(CALENDRIER!CQ$953:CQ$1317,CALENDRIER!$A$3))+((COUNTIF(CALENDRIER!CQ$953:CQ$1317,CALENDRIER!$B$3))/2)","v":0},{"$f":"(COUNTIF(CALENDRIER!CR$953:CR$1317,CALENDRIER!$A$3))+((COUNTIF(CALENDRIER!CR$953:CR$1317,CALENDRIER!$B$3))/2)","v":0},{"$f":"(COUNTIF(CALENDRIER!CS$953:CS$1317,CALENDRIER!$A$3))+((COUNTIF(CALENDRIER!CS$953:CS$1317,CALENDRIER!$B$3))/2)","v":0},{"$f":"(COUNTIF(CALENDRIER!CT$953:CT$1317,CALENDRIER!$A$3))+((COUNTIF(CALENDRIER!CT$953:CT$1317,CALENDRIER!$B$3))/2)","v":0},{"$f":"(COUNTIF(CALENDRIER!CU$953:CU$1317,CALENDRIER!$A$3))+((COUNTIF(CALENDRIER!CU$953:CU$1317,CALENDRIER!$B$3))/2)","v":0},{"$f":"(COUNTIF(CALENDRIER!CV$953:CV$1317,CALENDRIER!$A$3))+((COUNTIF(CALENDRIER!CV$953:CV$1317,CALENDRIER!$B$3))/2)","v":0},{"$f":"(COUNTIF(CALENDRIER!CW$953:CW$1317,CALENDRIER!$A$3))+((COUNTIF(CALENDRIER!CW$953:CW$1317,CALENDRIER!$B$3))/2)","v":0},{"$f":"(COUNTIF(CALENDRIER!CX$953:CX$1317,CALENDRIER!$A$3))+((COUNTIF(CALENDRIER!CX$953:CX$1317,CALENDRIER!$B$3))/2)","v":0},{"$f":"(COUNTIF(CALENDRIER!CY$953:CY$1317,CALENDRIER!$A$3))+((COUNTIF(CALENDRIER!CY$953:CY$1317,CALENDRIER!$B$3))/2)","v":0},{"$f":"(COUNTIF(CALENDRIER!CZ$953:CZ$1317,CALENDRIER!$A$3))+((COUNTIF(CALENDRIER!CZ$953:CZ$1317,CALENDRIER!$B$3))/2)","v":0},{"$f":"(COUNTIF(CALENDRIER!DA$953:DA$1317,CALENDRIER!$A$3))+((COUNTIF(CALENDRIER!DA$953:DA$1317,CALENDRIER!$B$3))/2)","v":0},{"$f":"(COUNTIF(CALENDRIER!DB$953:DB$1317,CALENDRIER!$A$3))+((COUNTIF(CALENDRIER!DB$953:DB$1317,CALENDRIER!$B$3))/2)","v":0},{"$f":"(COUNTIF(CALENDRIER!DC$953:DC$1317,CALENDRIER!$A$3))+((COUNTIF(CALENDRIER!DC$953:DC$1317,CALENDRIER!$B$3))/2)","v":0},{"$f":"(COUNTIF(CALENDRIER!DD$953:DD$1317,CALENDRIER!$A$3))+((COUNTIF(CALENDRIER!DD$953:DD$1317,CALENDRIER!$B$3))/2)","v":0},{"$f":"(COUNTIF(CALENDRIER!DE$953:DE$1317,CALENDRIER!$A$3))+((COUNTIF(CALENDRIER!DE$953:DE$1317,CALENDRIER!$B$3))/2)","v":0},{"$f":"(COUNTIF(CALENDRIER!DF$953:DF$1317,CALENDRIER!$A$3))+((COUNTIF(CALENDRIER!DF$953:DF$1317,CALENDRIER!$B$3))/2)","v":0},{"$f":"(COUNTIF(CALENDRIER!DG$953:DG$1317,CALENDRIER!$A$3))+((COUNTIF(CALENDRIER!DG$953:DG$1317,CALENDRIER!$B$3))/2)","v":0},{"$f":"(COUNTIF(CALENDRIER!DH$953:DH$1317,CALENDRIER!$A$3))+((COUNTIF(CALENDRIER!DH$953:DH$1317,CALENDRIER!$B$3))/2)","v":0},{"$f":"(COUNTIF(CALENDRIER!DI$953:DI$1317,CALENDRIER!$A$3))+((COUNTIF(CALENDRIER!DI$953:DI$1317,CALENDRIER!$B$3))/2)","v":0},{"$f":"(COUNTIF(CALENDRIER!DJ$953:DJ$1317,CALENDRIER!$A$3))+((COUNTIF(CALENDRIER!DJ$953:DJ$1317,CALENDRIER!$B$3))/2)","v":0},{"$f":"(COUNTIF(CALENDRIER!DK$953:DK$1317,CALENDRIER!$A$3))+((COUNTIF(CALENDRIER!DK$953:DK$1317,CALENDRIER!$B$3))/2)","v":0},{"$f":"(COUNTIF(CALENDRIER!DL$953:DL$1317,CALENDRIER!$A$3))+((COUNTIF(CALENDRIER!DL$953:DL$1317,CALENDRIER!$B$3))/2)","v":0},{"$f":"(COUNTIF(CALENDRIER!DM$953:DM$1317,CALENDRIER!$A$3))+((COUNTIF(CALENDRIER!DM$953:DM$1317,CALENDRIER!$B$3))/2)","v":0},{"$f":"(COUNTIF(CALENDRIER!DN$953:DN$1317,CALENDRIER!$A$3))+((COUNTIF(CALENDRIER!DN$953:DN$1317,CALENDRIER!$B$3))/2)","v":0},{"$f":"(COUNTIF(CALENDRIER!DO$953:DO$1317,CALENDRIER!$A$3))+((COUNTIF(CALENDRIER!DO$953:DO$1317,CALENDRIER!$B$3))/2)","v":0},{"$f":"(COUNTIF(CALENDRIER!DP$953:DP$1317,CALENDRIER!$A$3))+((COUNTIF(CALENDRIER!DP$953:DP$1317,CALENDRIER!$B$3))/2)","v":0},{"$f":"(COUNTIF(CALENDRIER!DQ$953:DQ$1317,CALENDRIER!$A$3))+((COUNTIF(CALENDRIER!DQ$953:DQ$1317,CALENDRIER!$B$3))/2)","v":0},{"$f":"(COUNTIF(CALENDRIER!DR$953:DR$1317,CALENDRIER!$A$3))+((COUNTIF(CALENDRIER!DR$953:DR$1317,CALENDRIER!$B$3))/2)","v":0},{"$f":"(COUNTIF(CALENDRIER!DS$953:DS$1317,CALENDRIER!$A$3))+((COUNTIF(CALENDRIER!DS$953:DS$1317,CALENDRIER!$B$3))/2)","v":0},{"$f":"(COUNTIF(CALENDRIER!DT$953:DT$1317,CALENDRIER!$A$3))+((COUNTIF(CALENDRIER!DT$953:DT$1317,CALENDRIER!$B$3))/2)","v":0},{"$f":"(COUNTIF(CALENDRIER!DU$953:DU$1317,CALENDRIER!$A$3))+((COUNTIF(CALENDRIER!DU$953:DU$1317,CALENDRIER!$B$3))/2)","v":0},{"$f":"(COUNTIF(CALENDRIER!DV$953:DV$1317,CALENDRIER!$A$3))+((COUNTIF(CALENDRIER!DV$953:DV$1317,CALENDRIER!$B$3))/2)","v":0},{"$f":"(COUNTIF(CALENDRIER!DW$953:DW$1317,CALENDRIER!$A$3))+((COUNTIF(CALENDRIER!DW$953:DW$1317,CALENDRIER!$B$3))/2)","v":0},{"$f":"(COUNTIF(CALENDRIER!DX$953:DX$1317,CALENDRIER!$A$3))+((COUNTIF(CALENDRIER!DX$953:DX$1317,CALENDRIER!$B$3))/2)","v":0},{"$f":"(COUNTIF(CALENDRIER!DY$953:DY$1317,CALENDRIER!$A$3))+((COUNTIF(CALENDRIER!DY$953:DY$1317,CALENDRIER!$B$3))/2)","v":0},{"$f":"(COUNTIF(CALENDRIER!DZ$953:DZ$1317,CALENDRIER!$A$3))+((COUNTIF(CALENDRIER!DZ$953:DZ$1317,CALENDRIER!$B$3))/2)","v":0},{"$f":"(COUNTIF(CALENDRIER!EA$953:EA$1317,CALENDRIER!$A$3))+((COUNTIF(CALENDRIER!EA$953:EA$1317,CALENDRIER!$B$3))/2)","v":0},{"$f":"(COUNTIF(CALENDRIER!EB$953:EB$1317,CALENDRIER!$A$3))+((COUNTIF(CALENDRIER!EB$953:EB$1317,CALENDRIER!$B$3))/2)","v":0},{"$f":"(COUNTIF(CALENDRIER!EC$953:EC$1317,CALENDRIER!$A$3))+((COUNTIF(CALENDRIER!EC$953:EC$1317,CALENDRIER!$B$3))/2)","v":0},{"$f":"(COUNTIF(CALENDRIER!ED$953:ED$1317,CALENDRIER!$A$3))+((COUNTIF(CALENDRIER!ED$953:ED$1317,CALENDRIER!$B$3))/2)","v":0},{"$f":"(COUNTIF(CALENDRIER!EE$953:EE$1317,CALENDRIER!$A$3))+((COUNTIF(CALENDRIER!EE$953:EE$1317,CALENDRIER!$B$3))/2)","v":0},{"$f":"(COUNTIF(CALENDRIER!EF$953:EF$1317,CALENDRIER!$A$3))+((COUNTIF(CALENDRIER!EF$953:EF$1317,CALENDRIER!$B$3))/2)","v":0},{"$f":"(COUNTIF(CALENDRIER!EG$953:EG$1317,CALENDRIER!$A$3))+((COUNTIF(CALENDRIER!EG$953:EG$1317,CALENDRIER!$B$3))/2)","v":0},{"$f":"(COUNTIF(CALENDRIER!EH$953:EH$1317,CALENDRIER!$A$3))+((COUNTIF(CALENDRIER!EH$953:EH$1317,CALENDRIER!$B$3))/2)","v":0},{"$f":"(COUNTIF(CALENDRIER!EI$953:EI$1317,CALENDRIER!$A$3))+((COUNTIF(CALENDRIER!EI$953:EI$1317,CALENDRIER!$B$3))/2)","v":0},{"$f":"(COUNTIF(CALENDRIER!EJ$953:EJ$1317,CALENDRIER!$A$3))+((COUNTIF(CALENDRIER!EJ$953:EJ$1317,CALENDRIER!$B$3))/2)","v":0},{"$f":"(COUNTIF(CALENDRIER!EK$953:EK$1317,CALENDRIER!$A$3))+((COUNTIF(CALENDRIER!EK$953:EK$1317,CALENDRIER!$B$3))/2)","v":0},{"$f":"(COUNTIF(CALENDRIER!EL$953:EL$1317,CALENDRIER!$A$3))+((COUNTIF(CALENDRIER!EL$953:EL$1317,CALENDRIER!$B$3))/2)","v":0},{"$f":"(COUNTIF(CALENDRIER!EM$953:EM$1317,CALENDRIER!$A$3))+((COUNTIF(CALENDRIER!EM$953:EM$1317,CALENDRIER!$B$3))/2)","v":0},{"$f":"(COUNTIF(CALENDRIER!EN$953:EN$1317,CALENDRIER!$A$3))+((COUNTIF(CALENDRIER!EN$953:EN$1317,CALENDRIER!$B$3))/2)","v":0},{"$f":"(COUNTIF(CALENDRIER!EO$953:EO$1317,CALENDRIER!$A$3))+((COUNTIF(CALENDRIER!EO$953:EO$1317,CALENDRIER!$B$3))/2)","v":0},{"$f":"(COUNTIF(CALENDRIER!EP$953:EP$1317,CALENDRIER!$A$3))+((COUNTIF(CALENDRIER!EP$953:EP$1317,CALENDRIER!$B$3))/2)","v":0},{"$f":"(COUNTIF(CALENDRIER!EQ$953:EQ$1317,CALENDRIER!$A$3))+((COUNTIF(CALENDRIER!EQ$953:EQ$1317,CALENDRIER!$B$3))/2)","v":0},{"$f":"(COUNTIF(CALENDRIER!ER$953:ER$1317,CALENDRIER!$A$3))+((COUNTIF(CALENDRIER!ER$953:ER$1317,CALENDRIER!$B$3))/2)","v":0},{"$f":"(COUNTIF(CALENDRIER!ES$953:ES$1317,CALENDRIER!$A$3))+((COUNTIF(CALENDRIER!ES$953:ES$1317,CALENDRIER!$B$3))/2)","v":0},{"$f":"(COUNTIF(CALENDRIER!ET$953:ET$1317,CALENDRIER!$A$3))+((COUNTIF(CALENDRIER!ET$953:ET$1317,CALENDRIER!$B$3))/2)","v":0},{"$f":"(COUNTIF(CALENDRIER!EU$953:EU$1317,CALENDRIER!$A$3))+((COUNTIF(CALENDRIER!EU$953:EU$1317,CALENDRIER!$B$3))/2)","v":0},{"$f":"(COUNTIF(CALENDRIER!EV$953:EV$1317,CALENDRIER!$A$3))+((COUNTIF(CALENDRIER!EV$953:EV$1317,CALENDRIER!$B$3))/2)","v":0},{"$f":"(COUNTIF(CALENDRIER!EW$953:EW$1317,CALENDRIER!$A$3))+((COUNTIF(CALENDRIER!EW$953:EW$1317,CALENDRIER!$B$3))/2)","v":0},{"$f":"(COUNTIF(CALENDRIER!EX$953:EX$1317,CALENDRIER!$A$3))+((COUNTIF(CALENDRIER!EX$953:EX$1317,CALENDRIER!$B$3))/2)","v":0},{"$f":"(COUNTIF(CALENDRIER!EY$953:EY$1317,CALENDRIER!$A$3))+((COUNTIF(CALENDRIER!EY$953:EY$1317,CALENDRIER!$B$3))/2)","v":0},{"$f":"(COUNTIF(CALENDRIER!EZ$953:EZ$1317,CALENDRIER!$A$3))+((COUNTIF(CALENDRIER!EZ$953:EZ$1317,CALENDRIER!$B$3))/2)","v":0},{"$f":"(COUNTIF(CALENDRIER!FA$953:FA$1317,CALENDRIER!$A$3))+((COUNTIF(CALENDRIER!FA$953:FA$1317,CALENDRIER!$B$3))/2)","v":0},{"$f":"(COUNTIF(CALENDRIER!FB$953:FB$1317,CALENDRIER!$A$3))+((COUNTIF(CALENDRIER!FB$953:FB$1317,CALENDRIER!$B$3))/2)","v":0},{"$f":"(COUNTIF(CALENDRIER!FC$953:FC$1317,CALENDRIER!$A$3))+((COUNTIF(CALENDRIER!FC$953:FC$1317,CALENDRIER!$B$3))/2)","v":0},{"$f":"(COUNTIF(CALENDRIER!FD$953:FD$1317,CALENDRIER!$A$3))+((COUNTIF(CALENDRIER!FD$953:FD$1317,CALENDRIER!$B$3))/2)","v":0},{"$f":"(COUNTIF(CALENDRIER!FE$953:FE$1317,CALENDRIER!$A$3))+((COUNTIF(CALENDRIER!FE$953:FE$1317,CALENDRIER!$B$3))/2)","v":0},{"$f":"(COUNTIF(CALENDRIER!FF$953:FF$1317,CALENDRIER!$A$3))+((COUNTIF(CALENDRIER!FF$953:FF$1317,CALENDRIER!$B$3))/2)","v":0},{"$f":"(COUNTIF(CALENDRIER!FG$953:FG$1317,CALENDRIER!$A$3))+((COUNTIF(CALENDRIER!FG$953:FG$1317,CALENDRIER!$B$3))/2)","v":0},{"$f":"(COUNTIF(CALENDRIER!FH$953:FH$1317,CALENDRIER!$A$3))+((COUNTIF(CALENDRIER!FH$953:FH$1317,CALENDRIER!$B$3))/2)","v":0},{"$f":"(COUNTIF(CALENDRIER!FI$953:FI$1317,CALENDRIER!$A$3))+((COUNTIF(CALENDRIER!FI$953:FI$1317,CALENDRIER!$B$3))/2)","v":0},{"$f":"(COUNTIF(CALENDRIER!FJ$953:FJ$1317,CALENDRIER!$A$3))+((COUNTIF(CALENDRIER!FJ$953:FJ$1317,CALENDRIER!$B$3))/2)","v":0},{"$f":"(COUNTIF(CALENDRIER!FK$953:FK$1317,CALENDRIER!$A$3))+((COUNTIF(CALENDRIER!FK$953:FK$1317,CALENDRIER!$B$3))/2)","v":0},{"$f":"(COUNTIF(CALENDRIER!FL$953:FL$1317,CALENDRIER!$A$3))+((COUNTIF(CALENDRIER!FL$953:FL$1317,CALENDRIER!$B$3))/2)","v":0},{"$f":"(COUNTIF(CALENDRIER!FM$953:FM$1317,CALENDRIER!$A$3))+((COUNTIF(CALENDRIER!FM$953:FM$1317,CALENDRIER!$B$3))/2)","v":0},{"$f":"(COUNTIF(CALENDRIER!FN$953:FN$1317,CALENDRIER!$A$3))+((COUNTIF(CALENDRIER!FN$953:FN$1317,CALENDRIER!$B$3))/2)","v":0},{"$f":"(COUNTIF(CALENDRIER!FO$953:FO$1317,CALENDRIER!$A$3))+((COUNTIF(CALENDRIER!FO$953:FO$1317,CALENDRIER!$B$3))/2)","v":0},{"$f":"(COUNTIF(CALENDRIER!FP$953:FP$1317,CALENDRIER!$A$3))+((COUNTIF(CALENDRIER!FP$953:FP$1317,CALENDRIER!$B$3))/2)","v":0},{"$f":"(COUNTIF(CALENDRIER!FQ$953:FQ$1317,CALENDRIER!$A$3))+((COUNTIF(CALENDRIER!FQ$953:FQ$1317,CALENDRIER!$B$3))/2)","v":0},{"$f":"(COUNTIF(CALENDRIER!FR$953:FR$1317,CALENDRIER!$A$3))+((COUNTIF(CALENDRIER!FR$953:FR$1317,CALENDRIER!$B$3))/2)","v":0},{"$f":"(COUNTIF(CALENDRIER!FS$953:FS$1317,CALENDRIER!$A$3))+((COUNTIF(CALENDRIER!FS$953:FS$1317,CALENDRIER!$B$3))/2)","v":0},{"$f":"(COUNTIF(CALENDRIER!FT$953:FT$1317,CALENDRIER!$A$3))+((COUNTIF(CALENDRIER!FT$953:FT$1317,CALENDRIER!$B$3))/2)","v":0},{"$f":"(COUNTIF(CALENDRIER!FU$953:FU$1317,CALENDRIER!$A$3))+((COUNTIF(CALENDRIER!FU$953:FU$1317,CALENDRIER!$B$3))/2)","v":0},{"$f":"(COUNTIF(CALENDRIER!FV$953:FV$1317,CALENDRIER!$A$3))+((COUNTIF(CALENDRIER!FV$953:FV$1317,CALENDRIER!$B$3))/2)","v":0},{"$f":"(COUNTIF(CALENDRIER!FW$953:FW$1317,CALENDRIER!$A$3))+((COUNTIF(CALENDRIER!FW$953:FW$1317,CALENDRIER!$B$3))/2)","v":0},{"$f":"(COUNTIF(CALENDRIER!FX$953:FX$1317,CALENDRIER!$A$3))+((COUNTIF(CALENDRIER!FX$953:FX$1317,CALENDRIER!$B$3))/2)","v":0},{"$f":"(COUNTIF(CALENDRIER!FY$953:FY$1317,CALENDRIER!$A$3))+((COUNTIF(CALENDRIER!FY$953:FY$1317,CALENDRIER!$B$3))/2)","v":0},{"$f":"(COUNTIF(CALENDRIER!FZ$953:FZ$1317,CALENDRIER!$A$3))+((COUNTIF(CALENDRIER!FZ$953:FZ$1317,CALENDRIER!$B$3))/2)","v":0},{"$f":"(COUNTIF(CALENDRIER!GA$953:GA$1317,CALENDRIER!$A$3))+((COUNTIF(CALENDRIER!GA$953:GA$1317,CALENDRIER!$B$3))/2)","v":0},{"$f":"(COUNTIF(CALENDRIER!GB$953:GB$1317,CALENDRIER!$A$3))+((COUNTIF(CALENDRIER!GB$953:GB$1317,CALENDRIER!$B$3))/2)","v":0},{"$f":"(COUNTIF(CALENDRIER!GC$953:GC$1317,CALENDRIER!$A$3))+((COUNTIF(CALENDRIER!GC$953:GC$1317,CALENDRIER!$B$3))/2)","v":0},{"$f":"(COUNTIF(CALENDRIER!GD$953:GD$1317,CALENDRIER!$A$3))+((COUNTIF(CALENDRIER!GD$953:GD$1317,CALENDRIER!$B$3))/2)","v":0},{"$f":"(COUNTIF(CALENDRIER!GE$953:GE$1317,CALENDRIER!$A$3))+((COUNTIF(CALENDRIER!GE$953:GE$1317,CALENDRIER!$B$3))/2)","v":0},{"$f":"(COUNTIF(CALENDRIER!GF$953:GF$1317,CALENDRIER!$A$3))+((COUNTIF(CALENDRIER!GF$953:GF$1317,CALENDRIER!$B$3))/2)","v":0},{"$f":"(COUNTIF(CALENDRIER!GG$953:GG$1317,CALENDRIER!$A$3))+((COUNTIF(CALENDRIER!GG$953:GG$1317,CALENDRIER!$B$3))/2)","v":0},{"$f":"(COUNTIF(CALENDRIER!GH$953:GH$1317,CALENDRIER!$A$3))+((COUNTIF(CALENDRIER!GH$953:GH$1317,CALENDRIER!$B$3))/2)","v":0},{"$f":"(COUNTIF(CALENDRIER!GI$953:GI$1317,CALENDRIER!$A$3))+((COUNTIF(CALENDRIER!GI$953:GI$1317,CALENDRIER!$B$3))/2)","v":0},{"$f":"(COUNTIF(CALENDRIER!GJ$953:GJ$1317,CALENDRIER!$A$3))+((COUNTIF(CALENDRIER!GJ$953:GJ$1317,CALENDRIER!$B$3))/2)","v":0},{"$f":"(COUNTIF(CALENDRIER!GK$953:GK$1317,CALENDRIER!$A$3))+((COUNTIF(CALENDRIER!GK$953:GK$1317,CALENDRIER!$B$3))/2)","v":0},{"$f":"(COUNTIF(CALENDRIER!GL$953:GL$1317,CALENDRIER!$A$3))+((COUNTIF(CALENDRIER!GL$953:GL$1317,CALENDRIER!$B$3))/2)","v":0},{"$f":"(COUNTIF(CALENDRIER!GM$953:GM$1317,CALENDRIER!$A$3))+((COUNTIF(CALENDRIER!GM$953:GM$1317,CALENDRIER!$B$3))/2)","v":0},{"$f":"(COUNTIF(CALENDRIER!GN$953:GN$1317,CALENDRIER!$A$3))+((COUNTIF(CALENDRIER!GN$953:GN$1317,CALENDRIER!$B$3))/2)","v":0},{"$f":"(COUNTIF(CALENDRIER!GO$953:GO$1317,CALENDRIER!$A$3))+((COUNTIF(CALENDRIER!GO$953:GO$1317,CALENDRIER!$B$3))/2)","v":0},{"$f":"(COUNTIF(CALENDRIER!GP$953:GP$1317,CALENDRIER!$A$3))+((COUNTIF(CALENDRIER!GP$953:GP$1317,CALENDRIER!$B$3))/2)","v":0},{"$f":"(COUNTIF(CALENDRIER!GQ$953:GQ$1317,CALENDRIER!$A$3))+((COUNTIF(CALENDRIER!GQ$953:GQ$1317,CALENDRIER!$B$3))/2)","v":0},{"$f":"(COUNTIF(CALENDRIER!GR$953:GR$1317,CALENDRIER!$A$3))+((COUNTIF(CALENDRIER!GR$953:GR$1317,CALENDRIER!$B$3))/2)","v":0}]
[null,{"$f":"\"Solde \"&CALENDRIER!$A$3&\" \"&A124&\" :\"","v":"Solde RTT 2018 :"},{"$f":"C125-C126","v":0},{"$f":"D125-D126","v":0},0,0,0,0,0,0,0,0,0,0,0,0,0,0,0,0,0,0,0,0,0,0,0,0,0,0,0,0,0,0,0,0,0,0,0,0,0,0,0,0,0,0,0,0,0,0,0,0,0,0,0,0,0,0,0,0,0,0,0,0,0,0,0,{"$f":"BP125-BP126","v":0},0,0,0,0,0,0,0,0,0,0,0,0,0,0,0,0,0,0,0,0,0,0,0,0,0,0,0,0,0,0,0,0,0,0,0,0,0,0,0,0,0,0,0,0,0,0,0,0,0,0,0,0,0,0,0,0,0,0,0,0,0,0,0,{"$f":"EB125-EB126","v":0},0,0,0,0,0,0,0,0,0,0,0,0,0,0,0,0,0,0,0,0,0,0,0,0,0,0,0,0,0,0,0,0,0,0,0,0,0,0,0,0,0,0,0,0,0,0,0,0,0,0,0,0,0,0,0,0,0,0,0,0,0,0,0,{"$f":"GN125-GN126","v":0},0,0,0,0]
[]
[2019,{"$f":"CALENDRIER!$A$3","v":"RTT"}]
[null,"SOLDE DEPART"]
[null,{"$f":"CALENDRIER!$A$3&\" PRIS\"","v":"RTT PRIS"},{"$f":"(COUNTIF(CALENDRIER!C$1318:C$1682,CALENDRIER!$A$3))+((COUNTIF(CALENDRIER!C$1318:C$1682,CALENDRIER!$B$3))/2)","v":0},{"$f":"(COUNTIF(CALENDRIER!D$1318:D$1682,CALENDRIER!$A$3))+((COUNTIF(CALENDRIER!D$1318:D$1682,CALENDRIER!$B$3))/2)","v":0},{"$f":"(COUNTIF(CALENDRIER!E$1318:E$1682,CALENDRIER!$A$3))+((COUNTIF(CALENDRIER!E$1318:E$1682,CALENDRIER!$B$3))/2)","v":0},{"$f":"(COUNTIF(CALENDRIER!F$1318:F$1682,CALENDRIER!$A$3))+((COUNTIF(CALENDRIER!F$1318:F$1682,CALENDRIER!$B$3))/2)","v":0},{"$f":"(COUNTIF(CALENDRIER!G$1318:G$1682,CALENDRIER!$A$3))+((COUNTIF(CALENDRIER!G$1318:G$1682,CALENDRIER!$B$3))/2)","v":0},{"$f":"(COUNTIF(CALENDRIER!H$1318:H$1682,CALENDRIER!$A$3))+((COUNTIF(CALENDRIER!H$1318:H$1682,CALENDRIER!$B$3))/2)","v":0},{"$f":"(COUNTIF(CALENDRIER!I$1318:I$1682,CALENDRIER!$A$3))+((COUNTIF(CALENDRIER!I$1318:I$1682,CALENDRIER!$B$3))/2)","v":0},{"$f":"(COUNTIF(CALENDRIER!J$1318:J$1682,CALENDRIER!$A$3))+((COUNTIF(CALENDRIER!J$1318:J$1682,CALENDRIER!$B$3))/2)","v":0},{"$f":"(COUNTIF(CALENDRIER!K$1318:K$1682,CALENDRIER!$A$3))+((COUNTIF(CALENDRIER!K$1318:K$1682,CALENDRIER!$B$3))/2)","v":0},{"$f":"(COUNTIF(CALENDRIER!L$1318:L$1682,CALENDRIER!$A$3))+((COUNTIF(CALENDRIER!L$1318:L$1682,CALENDRIER!$B$3))/2)","v":0},{"$f":"(COUNTIF(CALENDRIER!M$1318:M$1682,CALENDRIER!$A$3))+((COUNTIF(CALENDRIER!M$1318:M$1682,CALENDRIER!$B$3))/2)","v":0},{"$f":"(COUNTIF(CALENDRIER!N$1318:N$1682,CALENDRIER!$A$3))+((COUNTIF(CALENDRIER!N$1318:N$1682,CALENDRIER!$B$3))/2)","v":0},{"$f":"(COUNTIF(CALENDRIER!O$1318:O$1682,CALENDRIER!$A$3))+((COUNTIF(CALENDRIER!O$1318:O$1682,CALENDRIER!$B$3))/2)","v":0},{"$f":"(COUNTIF(CALENDRIER!P$1318:P$1682,CALENDRIER!$A$3))+((COUNTIF(CALENDRIER!P$1318:P$1682,CALENDRIER!$B$3))/2)","v":0},{"$f":"(COUNTIF(CALENDRIER!Q$1318:Q$1682,CALENDRIER!$A$3))+((COUNTIF(CALENDRIER!Q$1318:Q$1682,CALENDRIER!$B$3))/2)","v":0},{"$f":"(COUNTIF(CALENDRIER!R$1318:R$1682,CALENDRIER!$A$3))+((COUNTIF(CALENDRIER!R$1318:R$1682,CALENDRIER!$B$3))/2)","v":0},{"$f":"(COUNTIF(CALENDRIER!S$1318:S$1682,CALENDRIER!$A$3))+((COUNTIF(CALENDRIER!S$1318:S$1682,CALENDRIER!$B$3))/2)","v":0},{"$f":"(COUNTIF(CALENDRIER!T$1318:T$1682,CALENDRIER!$A$3))+((COUNTIF(CALENDRIER!T$1318:T$1682,CALENDRIER!$B$3))/2)","v":0},{"$f":"(COUNTIF(CALENDRIER!U$1318:U$1682,CALENDRIER!$A$3))+((COUNTIF(CALENDRIER!U$1318:U$1682,CALENDRIER!$B$3))/2)","v":0},{"$f":"(COUNTIF(CALENDRIER!V$1318:V$1682,CALENDRIER!$A$3))+((COUNTIF(CALENDRIER!V$1318:V$1682,CALENDRIER!$B$3))/2)","v":0},{"$f":"(COUNTIF(CALENDRIER!W$1318:W$1682,CALENDRIER!$A$3))+((COUNTIF(CALENDRIER!W$1318:W$1682,CALENDRIER!$B$3))/2)","v":0},{"$f":"(COUNTIF(CALENDRIER!X$1318:X$1682,CALENDRIER!$A$3))+((COUNTIF(CALENDRIER!X$1318:X$1682,CALENDRIER!$B$3))/2)","v":0},{"$f":"(COUNTIF(CALENDRIER!Y$1318:Y$1682,CALENDRIER!$A$3))+((COUNTIF(CALENDRIER!Y$1318:Y$1682,CALENDRIER!$B$3))/2)","v":0},{"$f":"(COUNTIF(CALENDRIER!Z$1318:Z$1682,CALENDRIER!$A$3))+((COUNTIF(CALENDRIER!Z$1318:Z$1682,CALENDRIER!$B$3))/2)","v":0},{"$f":"(COUNTIF(CALENDRIER!AA$1318:AA$1682,CALENDRIER!$A$3))+((COUNTIF(CALENDRIER!AA$1318:AA$1682,CALENDRIER!$B$3))/2)","v":0},{"$f":"(COUNTIF(CALENDRIER!AB$1318:AB$1682,CALENDRIER!$A$3))+((COUNTIF(CALENDRIER!AB$1318:AB$1682,CALENDRIER!$B$3))/2)","v":0},{"$f":"(COUNTIF(CALENDRIER!AC$1318:AC$1682,CALENDRIER!$A$3))+((COUNTIF(CALENDRIER!AC$1318:AC$1682,CALENDRIER!$B$3))/2)","v":0},{"$f":"(COUNTIF(CALENDRIER!AD$1318:AD$1682,CALENDRIER!$A$3))+((COUNTIF(CALENDRIER!AD$1318:AD$1682,CALENDRIER!$B$3))/2)","v":0},{"$f":"(COUNTIF(CALENDRIER!AE$1318:AE$1682,CALENDRIER!$A$3))+((COUNTIF(CALENDRIER!AE$1318:AE$1682,CALENDRIER!$B$3))/2)","v":0},{"$f":"(COUNTIF(CALENDRIER!AF$1318:AF$1682,CALENDRIER!$A$3))+((COUNTIF(CALENDRIER!AF$1318:AF$1682,CALENDRIER!$B$3))/2)","v":0},{"$f":"(COUNTIF(CALENDRIER!AG$1318:AG$1682,CALENDRIER!$A$3))+((COUNTIF(CALENDRIER!AG$1318:AG$1682,CALENDRIER!$B$3))/2)","v":0},{"$f":"(COUNTIF(CALENDRIER!AH$1318:AH$1682,CALENDRIER!$A$3))+((COUNTIF(CALENDRIER!AH$1318:AH$1682,CALENDRIER!$B$3))/2)","v":0},{"$f":"(COUNTIF(CALENDRIER!AI$1318:AI$1682,CALENDRIER!$A$3))+((COUNTIF(CALENDRIER!AI$1318:AI$1682,CALENDRIER!$B$3))/2)","v":0},{"$f":"(COUNTIF(CALENDRIER!AJ$1318:AJ$1682,CALENDRIER!$A$3))+((COUNTIF(CALENDRIER!AJ$1318:AJ$1682,CALENDRIER!$B$3))/2)","v":0},{"$f":"(COUNTIF(CALENDRIER!AK$1318:AK$1682,CALENDRIER!$A$3))+((COUNTIF(CALENDRIER!AK$1318:AK$1682,CALENDRIER!$B$3))/2)","v":0},{"$f":"(COUNTIF(CALENDRIER!AL$1318:AL$1682,CALENDRIER!$A$3))+((COUNTIF(CALENDRIER!AL$1318:AL$1682,CALENDRIER!$B$3))/2)","v":0},{"$f":"(COUNTIF(CALENDRIER!AM$1318:AM$1682,CALENDRIER!$A$3))+((COUNTIF(CALENDRIER!AM$1318:AM$1682,CALENDRIER!$B$3))/2)","v":0},{"$f":"(COUNTIF(CALENDRIER!AN$1318:AN$1682,CALENDRIER!$A$3))+((COUNTIF(CALENDRIER!AN$1318:AN$1682,CALENDRIER!$B$3))/2)","v":0},{"$f":"(COUNTIF(CALENDRIER!AO$1318:AO$1682,CALENDRIER!$A$3))+((COUNTIF(CALENDRIER!AO$1318:AO$1682,CALENDRIER!$B$3))/2)","v":0},{"$f":"(COUNTIF(CALENDRIER!AP$1318:AP$1682,CALENDRIER!$A$3))+((COUNTIF(CALENDRIER!AP$1318:AP$1682,CALENDRIER!$B$3))/2)","v":0},{"$f":"(COUNTIF(CALENDRIER!AQ$1318:AQ$1682,CALENDRIER!$A$3))+((COUNTIF(CALENDRIER!AQ$1318:AQ$1682,CALENDRIER!$B$3))/2)","v":0},{"$f":"(COUNTIF(CALENDRIER!AR$1318:AR$1682,CALENDRIER!$A$3))+((COUNTIF(CALENDRIER!AR$1318:AR$1682,CALENDRIER!$B$3))/2)","v":0},{"$f":"(COUNTIF(CALENDRIER!AS$1318:AS$1682,CALENDRIER!$A$3))+((COUNTIF(CALENDRIER!AS$1318:AS$1682,CALENDRIER!$B$3))/2)","v":0},{"$f":"(COUNTIF(CALENDRIER!AT$1318:AT$1682,CALENDRIER!$A$3))+((COUNTIF(CALENDRIER!AT$1318:AT$1682,CALENDRIER!$B$3))/2)","v":0},{"$f":"(COUNTIF(CALENDRIER!AU$1318:AU$1682,CALENDRIER!$A$3))+((COUNTIF(CALENDRIER!AU$1318:AU$1682,CALENDRIER!$B$3))/2)","v":0},{"$f":"(COUNTIF(CALENDRIER!AV$1318:AV$1682,CALENDRIER!$A$3))+((COUNTIF(CALENDRIER!AV$1318:AV$1682,CALENDRIER!$B$3))/2)","v":0},{"$f":"(COUNTIF(CALENDRIER!AW$1318:AW$1682,CALENDRIER!$A$3))+((COUNTIF(CALENDRIER!AW$1318:AW$1682,CALENDRIER!$B$3))/2)","v":0},{"$f":"(COUNTIF(CALENDRIER!AX$1318:AX$1682,CALENDRIER!$A$3))+((COUNTIF(CALENDRIER!AX$1318:AX$1682,CALENDRIER!$B$3))/2)","v":0},{"$f":"(COUNTIF(CALENDRIER!AY$1318:AY$1682,CALENDRIER!$A$3))+((COUNTIF(CALENDRIER!AY$1318:AY$1682,CALENDRIER!$B$3))/2)","v":0},{"$f":"(COUNTIF(CALENDRIER!AZ$1318:AZ$1682,CALENDRIER!$A$3))+((COUNTIF(CALENDRIER!AZ$1318:AZ$1682,CALENDRIER!$B$3))/2)","v":0},{"$f":"(COUNTIF(CALENDRIER!BA$1318:BA$1682,CALENDRIER!$A$3))+((COUNTIF(CALENDRIER!BA$1318:BA$1682,CALENDRIER!$B$3))/2)","v":0},{"$f":"(COUNTIF(CALENDRIER!BB$1318:BB$1682,CALENDRIER!$A$3))+((COUNTIF(CALENDRIER!BB$1318:BB$1682,CALENDRIER!$B$3))/2)","v":0},{"$f":"(COUNTIF(CALENDRIER!BC$1318:BC$1682,CALENDRIER!$A$3))+((COUNTIF(CALENDRIER!BC$1318:BC$1682,CALENDRIER!$B$3))/2)","v":0},{"$f":"(COUNTIF(CALENDRIER!BD$1318:BD$1682,CALENDRIER!$A$3))+((COUNTIF(CALENDRIER!BD$1318:BD$1682,CALENDRIER!$B$3))/2)","v":0},{"$f":"(COUNTIF(CALENDRIER!BE$1318:BE$1682,CALENDRIER!$A$3))+((COUNTIF(CALENDRIER!BE$1318:BE$1682,CALENDRIER!$B$3))/2)","v":0},{"$f":"(COUNTIF(CALENDRIER!BF$1318:BF$1682,CALENDRIER!$A$3))+((COUNTIF(CALENDRIER!BF$1318:BF$1682,CALENDRIER!$B$3))/2)","v":0},{"$f":"(COUNTIF(CALENDRIER!BG$1318:BG$1682,CALENDRIER!$A$3))+((COUNTIF(CALENDRIER!BG$1318:BG$1682,CALENDRIER!$B$3))/2)","v":0},{"$f":"(COUNTIF(CALENDRIER!BH$1318:BH$1682,CALENDRIER!$A$3))+((COUNTIF(CALENDRIER!BH$1318:BH$1682,CALENDRIER!$B$3))/2)","v":0},{"$f":"(COUNTIF(CALENDRIER!BI$1318:BI$1682,CALENDRIER!$A$3))+((COUNTIF(CALENDRIER!BI$1318:BI$1682,CALENDRIER!$B$3))/2)","v":0},{"$f":"(COUNTIF(CALENDRIER!BJ$1318:BJ$1682,CALENDRIER!$A$3))+((COUNTIF(CALENDRIER!BJ$1318:BJ$1682,CALENDRIER!$B$3))/2)","v":0},{"$f":"(COUNTIF(CALENDRIER!BK$1318:BK$1682,CALENDRIER!$A$3))+((COUNTIF(CALENDRIER!BK$1318:BK$1682,CALENDRIER!$B$3))/2)","v":0},{"$f":"(COUNTIF(CALENDRIER!BL$1318:BL$1682,CALENDRIER!$A$3))+((COUNTIF(CALENDRIER!BL$1318:BL$1682,CALENDRIER!$B$3))/2)","v":0},{"$f":"(COUNTIF(CALENDRIER!BM$1318:BM$1682,CALENDRIER!$A$3))+((COUNTIF(CALENDRIER!BM$1318:BM$1682,CALENDRIER!$B$3))/2)","v":0},{"$f":"(COUNTIF(CALENDRIER!BN$1318:BN$1682,CALENDRIER!$A$3))+((COUNTIF(CALENDRIER!BN$1318:BN$1682,CALENDRIER!$B$3))/2)","v":0},{"$f":"(COUNTIF(CALENDRIER!BO$1318:BO$1682,CALENDRIER!$A$3))+((COUNTIF(CALENDRIER!BO$1318:BO$1682,CALENDRIER!$B$3))/2)","v":0},{"$f":"(COUNTIF(CALENDRIER!BP$1318:BP$1682,CALENDRIER!$A$3))+((COUNTIF(CALENDRIER!BP$1318:BP$1682,CALENDRIER!$B$3))/2)","v":0},{"$f":"(COUNTIF(CALENDRIER!BQ$1318:BQ$1682,CALENDRIER!$A$3))+((COUNTIF(CALENDRIER!BQ$1318:BQ$1682,CALENDRIER!$B$3))/2)","v":0},{"$f":"(COUNTIF(CALENDRIER!BR$1318:BR$1682,CALENDRIER!$A$3))+((COUNTIF(CALENDRIER!BR$1318:BR$1682,CALENDRIER!$B$3))/2)","v":0},{"$f":"(COUNTIF(CALENDRIER!BS$1318:BS$1682,CALENDRIER!$A$3))+((COUNTIF(CALENDRIER!BS$1318:BS$1682,CALENDRIER!$B$3))/2)","v":0},{"$f":"(COUNTIF(CALENDRIER!BT$1318:BT$1682,CALENDRIER!$A$3))+((COUNTIF(CALENDRIER!BT$1318:BT$1682,CALENDRIER!$B$3))/2)","v":0},{"$f":"(COUNTIF(CALENDRIER!BU$1318:BU$1682,CALENDRIER!$A$3))+((COUNTIF(CALENDRIER!BU$1318:BU$1682,CALENDRIER!$B$3))/2)","v":0},{"$f":"(COUNTIF(CALENDRIER!BV$1318:BV$1682,CALENDRIER!$A$3))+((COUNTIF(CALENDRIER!BV$1318:BV$1682,CALENDRIER!$B$3))/2)","v":0},{"$f":"(COUNTIF(CALENDRIER!BW$1318:BW$1682,CALENDRIER!$A$3))+((COUNTIF(CALENDRIER!BW$1318:BW$1682,CALENDRIER!$B$3))/2)","v":0},{"$f":"(COUNTIF(CALENDRIER!BX$1318:BX$1682,CALENDRIER!$A$3))+((COUNTIF(CALENDRIER!BX$1318:BX$1682,CALENDRIER!$B$3))/2)","v":0},{"$f":"(COUNTIF(CALENDRIER!BY$1318:BY$1682,CALENDRIER!$A$3))+((COUNTIF(CALENDRIER!BY$1318:BY$1682,CALENDRIER!$B$3))/2)","v":0},{"$f":"(COUNTIF(CALENDRIER!BZ$1318:BZ$1682,CALENDRIER!$A$3))+((COUNTIF(CALENDRIER!BZ$1318:BZ$1682,CALENDRIER!$B$3))/2)","v":0},{"$f":"(COUNTIF(CALENDRIER!CA$1318:CA$1682,CALENDRIER!$A$3))+((COUNTIF(CALENDRIER!CA$1318:CA$1682,CALENDRIER!$B$3))/2)","v":0},{"$f":"(COUNTIF(CALENDRIER!CB$1318:CB$1682,CALENDRIER!$A$3))+((COUNTIF(CALENDRIER!CB$1318:CB$1682,CALENDRIER!$B$3))/2)","v":0},{"$f":"(COUNTIF(CALENDRIER!CC$1318:CC$1682,CALENDRIER!$A$3))+((COUNTIF(CALENDRIER!CC$1318:CC$1682,CALENDRIER!$B$3))/2)","v":0},{"$f":"(COUNTIF(CALENDRIER!CD$1318:CD$1682,CALENDRIER!$A$3))+((COUNTIF(CALENDRIER!CD$1318:CD$1682,CALENDRIER!$B$3))/2)","v":0},{"$f":"(COUNTIF(CALENDRIER!CE$1318:CE$1682,CALENDRIER!$A$3))+((COUNTIF(CALENDRIER!CE$1318:CE$1682,CALENDRIER!$B$3))/2)","v":0},{"$f":"(COUNTIF(CALENDRIER!CF$1318:CF$1682,CALENDRIER!$A$3))+((COUNTIF(CALENDRIER!CF$1318:CF$1682,CALENDRIER!$B$3))/2)","v":0},{"$f":"(COUNTIF(CALENDRIER!CG$1318:CG$1682,CALENDRIER!$A$3))+((COUNTIF(CALENDRIER!CG$1318:CG$1682,CALENDRIER!$B$3))/2)","v":0},{"$f":"(COUNTIF(CALENDRIER!CH$1318:CH$1682,CALENDRIER!$A$3))+((COUNTIF(CALENDRIER!CH$1318:CH$1682,CALENDRIER!$B$3))/2)","v":0},{"$f":"(COUNTIF(CALENDRIER!CI$1318:CI$1682,CALENDRIER!$A$3))+((COUNTIF(CALENDRIER!CI$1318:CI$1682,CALENDRIER!$B$3))/2)","v":0},{"$f":"(COUNTIF(CALENDRIER!CJ$1318:CJ$1682,CALENDRIER!$A$3))+((COUNTIF(CALENDRIER!CJ$1318:CJ$1682,CALENDRIER!$B$3))/2)","v":0},{"$f":"(COUNTIF(CALENDRIER!CK$1318:CK$1682,CALENDRIER!$A$3))+((COUNTIF(CALENDRIER!CK$1318:CK$1682,CALENDRIER!$B$3))/2)","v":0},{"$f":"(COUNTIF(CALENDRIER!CL$1318:CL$1682,CALENDRIER!$A$3))+((COUNTIF(CALENDRIER!CL$1318:CL$1682,CALENDRIER!$B$3))/2)","v":0},{"$f":"(COUNTIF(CALENDRIER!CM$1318:CM$1682,CALENDRIER!$A$3))+((COUNTIF(CALENDRIER!CM$1318:CM$1682,CALENDRIER!$B$3))/2)","v":0},{"$f":"(COUNTIF(CALENDRIER!CN$1318:CN$1682,CALENDRIER!$A$3))+((COUNTIF(CALENDRIER!CN$1318:CN$1682,CALENDRIER!$B$3))/2)","v":0},{"$f":"(COUNTIF(CALENDRIER!CO$1318:CO$1682,CALENDRIER!$A$3))+((COUNTIF(CALENDRIER!CO$1318:CO$1682,CALENDRIER!$B$3))/2)","v":0},{"$f":"(COUNTIF(CALENDRIER!CP$1318:CP$1682,CALENDRIER!$A$3))+((COUNTIF(CALENDRIER!CP$1318:CP$1682,CALENDRIER!$B$3))/2)","v":0},{"$f":"(COUNTIF(CALENDRIER!CQ$1318:CQ$1682,CALENDRIER!$A$3))+((COUNTIF(CALENDRIER!CQ$1318:CQ$1682,CALENDRIER!$B$3))/2)","v":0},{"$f":"(COUNTIF(CALENDRIER!CR$1318:CR$1682,CALENDRIER!$A$3))+((COUNTIF(CALENDRIER!CR$1318:CR$1682,CALENDRIER!$B$3))/2)","v":0},{"$f":"(COUNTIF(CALENDRIER!CS$1318:CS$1682,CALENDRIER!$A$3))+((COUNTIF(CALENDRIER!CS$1318:CS$1682,CALENDRIER!$B$3))/2)","v":0},{"$f":"(COUNTIF(CALENDRIER!CT$1318:CT$1682,CALENDRIER!$A$3))+((COUNTIF(CALENDRIER!CT$1318:CT$1682,CALENDRIER!$B$3))/2)","v":0},{"$f":"(COUNTIF(CALENDRIER!CU$1318:CU$1682,CALENDRIER!$A$3))+((COUNTIF(CALENDRIER!CU$1318:CU$1682,CALENDRIER!$B$3))/2)","v":0},{"$f":"(COUNTIF(CALENDRIER!CV$1318:CV$1682,CALENDRIER!$A$3))+((COUNTIF(CALENDRIER!CV$1318:CV$1682,CALENDRIER!$B$3))/2)","v":0},{"$f":"(COUNTIF(CALENDRIER!CW$1318:CW$1682,CALENDRIER!$A$3))+((COUNTIF(CALENDRIER!CW$1318:CW$1682,CALENDRIER!$B$3))/2)","v":0},{"$f":"(COUNTIF(CALENDRIER!CX$1318:CX$1682,CALENDRIER!$A$3))+((COUNTIF(CALENDRIER!CX$1318:CX$1682,CALENDRIER!$B$3))/2)","v":0},{"$f":"(COUNTIF(CALENDRIER!CY$1318:CY$1682,CALENDRIER!$A$3))+((COUNTIF(CALENDRIER!CY$1318:CY$1682,CALENDRIER!$B$3))/2)","v":0},{"$f":"(COUNTIF(CALENDRIER!CZ$1318:CZ$1682,CALENDRIER!$A$3))+((COUNTIF(CALENDRIER!CZ$1318:CZ$1682,CALENDRIER!$B$3))/2)","v":0},{"$f":"(COUNTIF(CALENDRIER!DA$1318:DA$1682,CALENDRIER!$A$3))+((COUNTIF(CALENDRIER!DA$1318:DA$1682,CALENDRIER!$B$3))/2)","v":0},{"$f":"(COUNTIF(CALENDRIER!DB$1318:DB$1682,CALENDRIER!$A$3))+((COUNTIF(CALENDRIER!DB$1318:DB$1682,CALENDRIER!$B$3))/2)","v":0},{"$f":"(COUNTIF(CALENDRIER!DC$1318:DC$1682,CALENDRIER!$A$3))+((COUNTIF(CALENDRIER!DC$1318:DC$1682,CALENDRIER!$B$3))/2)","v":0},{"$f":"(COUNTIF(CALENDRIER!DD$1318:DD$1682,CALENDRIER!$A$3))+((COUNTIF(CALENDRIER!DD$1318:DD$1682,CALENDRIER!$B$3))/2)","v":0},{"$f":"(COUNTIF(CALENDRIER!DE$1318:DE$1682,CALENDRIER!$A$3))+((COUNTIF(CALENDRIER!DE$1318:DE$1682,CALENDRIER!$B$3))/2)","v":0},{"$f":"(COUNTIF(CALENDRIER!DF$1318:DF$1682,CALENDRIER!$A$3))+((COUNTIF(CALENDRIER!DF$1318:DF$1682,CALENDRIER!$B$3))/2)","v":0},{"$f":"(COUNTIF(CALENDRIER!DG$1318:DG$1682,CALENDRIER!$A$3))+((COUNTIF(CALENDRIER!DG$1318:DG$1682,CALENDRIER!$B$3))/2)","v":0},{"$f":"(COUNTIF(CALENDRIER!DH$1318:DH$1682,CALENDRIER!$A$3))+((COUNTIF(CALENDRIER!DH$1318:DH$1682,CALENDRIER!$B$3))/2)","v":0},{"$f":"(COUNTIF(CALENDRIER!DI$1318:DI$1682,CALENDRIER!$A$3))+((COUNTIF(CALENDRIER!DI$1318:DI$1682,CALENDRIER!$B$3))/2)","v":0},{"$f":"(COUNTIF(CALENDRIER!DJ$1318:DJ$1682,CALENDRIER!$A$3))+((COUNTIF(CALENDRIER!DJ$1318:DJ$1682,CALENDRIER!$B$3))/2)","v":0},{"$f":"(COUNTIF(CALENDRIER!DK$1318:DK$1682,CALENDRIER!$A$3))+((COUNTIF(CALENDRIER!DK$1318:DK$1682,CALENDRIER!$B$3))/2)","v":0},{"$f":"(COUNTIF(CALENDRIER!DL$1318:DL$1682,CALENDRIER!$A$3))+((COUNTIF(CALENDRIER!DL$1318:DL$1682,CALENDRIER!$B$3))/2)","v":0},{"$f":"(COUNTIF(CALENDRIER!DM$1318:DM$1682,CALENDRIER!$A$3))+((COUNTIF(CALENDRIER!DM$1318:DM$1682,CALENDRIER!$B$3))/2)","v":0},{"$f":"(COUNTIF(CALENDRIER!DN$1318:DN$1682,CALENDRIER!$A$3))+((COUNTIF(CALENDRIER!DN$1318:DN$1682,CALENDRIER!$B$3))/2)","v":0},{"$f":"(COUNTIF(CALENDRIER!DO$1318:DO$1682,CALENDRIER!$A$3))+((COUNTIF(CALENDRIER!DO$1318:DO$1682,CALENDRIER!$B$3))/2)","v":0},{"$f":"(COUNTIF(CALENDRIER!DP$1318:DP$1682,CALENDRIER!$A$3))+((COUNTIF(CALENDRIER!DP$1318:DP$1682,CALENDRIER!$B$3))/2)","v":0},{"$f":"(COUNTIF(CALENDRIER!DQ$1318:DQ$1682,CALENDRIER!$A$3))+((COUNTIF(CALENDRIER!DQ$1318:DQ$1682,CALENDRIER!$B$3))/2)","v":0},{"$f":"(COUNTIF(CALENDRIER!DR$1318:DR$1682,CALENDRIER!$A$3))+((COUNTIF(CALENDRIER!DR$1318:DR$1682,CALENDRIER!$B$3))/2)","v":0},{"$f":"(COUNTIF(CALENDRIER!DS$1318:DS$1682,CALENDRIER!$A$3))+((COUNTIF(CALENDRIER!DS$1318:DS$1682,CALENDRIER!$B$3))/2)","v":0},{"$f":"(COUNTIF(CALENDRIER!DT$1318:DT$1682,CALENDRIER!$A$3))+((COUNTIF(CALENDRIER!DT$1318:DT$1682,CALENDRIER!$B$3))/2)","v":0},{"$f":"(COUNTIF(CALENDRIER!DU$1318:DU$1682,CALENDRIER!$A$3))+((COUNTIF(CALENDRIER!DU$1318:DU$1682,CALENDRIER!$B$3))/2)","v":0},{"$f":"(COUNTIF(CALENDRIER!DV$1318:DV$1682,CALENDRIER!$A$3))+((COUNTIF(CALENDRIER!DV$1318:DV$1682,CALENDRIER!$B$3))/2)","v":0},{"$f":"(COUNTIF(CALENDRIER!DW$1318:DW$1682,CALENDRIER!$A$3))+((COUNTIF(CALENDRIER!DW$1318:DW$1682,CALENDRIER!$B$3))/2)","v":0},{"$f":"(COUNTIF(CALENDRIER!DX$1318:DX$1682,CALENDRIER!$A$3))+((COUNTIF(CALENDRIER!DX$1318:DX$1682,CALENDRIER!$B$3))/2)","v":0},{"$f":"(COUNTIF(CALENDRIER!DY$1318:DY$1682,CALENDRIER!$A$3))+((COUNTIF(CALENDRIER!DY$1318:DY$1682,CALENDRIER!$B$3))/2)","v":0},{"$f":"(COUNTIF(CALENDRIER!DZ$1318:DZ$1682,CALENDRIER!$A$3))+((COUNTIF(CALENDRIER!DZ$1318:DZ$1682,CALENDRIER!$B$3))/2)","v":0},{"$f":"(COUNTIF(CALENDRIER!EA$1318:EA$1682,CALENDRIER!$A$3))+((COUNTIF(CALENDRIER!EA$1318:EA$1682,CALENDRIER!$B$3))/2)","v":0},{"$f":"(COUNTIF(CALENDRIER!EB$1318:EB$1682,CALENDRIER!$A$3))+((COUNTIF(CALENDRIER!EB$1318:EB$1682,CALENDRIER!$B$3))/2)","v":0},{"$f":"(COUNTIF(CALENDRIER!EC$1318:EC$1682,CALENDRIER!$A$3))+((COUNTIF(CALENDRIER!EC$1318:EC$1682,CALENDRIER!$B$3))/2)","v":0},{"$f":"(COUNTIF(CALENDRIER!ED$1318:ED$1682,CALENDRIER!$A$3))+((COUNTIF(CALENDRIER!ED$1318:ED$1682,CALENDRIER!$B$3))/2)","v":0},{"$f":"(COUNTIF(CALENDRIER!EE$1318:EE$1682,CALENDRIER!$A$3))+((COUNTIF(CALENDRIER!EE$1318:EE$1682,CALENDRIER!$B$3))/2)","v":0},{"$f":"(COUNTIF(CALENDRIER!EF$1318:EF$1682,CALENDRIER!$A$3))+((COUNTIF(CALENDRIER!EF$1318:EF$1682,CALENDRIER!$B$3))/2)","v":0},{"$f":"(COUNTIF(CALENDRIER!EG$1318:EG$1682,CALENDRIER!$A$3))+((COUNTIF(CALENDRIER!EG$1318:EG$1682,CALENDRIER!$B$3))/2)","v":0},{"$f":"(COUNTIF(CALENDRIER!EH$1318:EH$1682,CALENDRIER!$A$3))+((COUNTIF(CALENDRIER!EH$1318:EH$1682,CALENDRIER!$B$3))/2)","v":0},{"$f":"(COUNTIF(CALENDRIER!EI$1318:EI$1682,CALENDRIER!$A$3))+((COUNTIF(CALENDRIER!EI$1318:EI$1682,CALENDRIER!$B$3))/2)","v":0},{"$f":"(COUNTIF(CALENDRIER!EJ$1318:EJ$1682,CALENDRIER!$A$3))+((COUNTIF(CALENDRIER!EJ$1318:EJ$1682,CALENDRIER!$B$3))/2)","v":0},{"$f":"(COUNTIF(CALENDRIER!EK$1318:EK$1682,CALENDRIER!$A$3))+((COUNTIF(CALENDRIER!EK$1318:EK$1682,CALENDRIER!$B$3))/2)","v":0},{"$f":"(COUNTIF(CALENDRIER!EL$1318:EL$1682,CALENDRIER!$A$3))+((COUNTIF(CALENDRIER!EL$1318:EL$1682,CALENDRIER!$B$3))/2)","v":0},{"$f":"(COUNTIF(CALENDRIER!EM$1318:EM$1682,CALENDRIER!$A$3))+((COUNTIF(CALENDRIER!EM$1318:EM$1682,CALENDRIER!$B$3))/2)","v":0},{"$f":"(COUNTIF(CALENDRIER!EN$1318:EN$1682,CALENDRIER!$A$3))+((COUNTIF(CALENDRIER!EN$1318:EN$1682,CALENDRIER!$B$3))/2)","v":0},{"$f":"(COUNTIF(CALENDRIER!EO$1318:EO$1682,CALENDRIER!$A$3))+((COUNTIF(CALENDRIER!EO$1318:EO$1682,CALENDRIER!$B$3))/2)","v":0},{"$f":"(COUNTIF(CALENDRIER!EP$1318:EP$1682,CALENDRIER!$A$3))+((COUNTIF(CALENDRIER!EP$1318:EP$1682,CALENDRIER!$B$3))/2)","v":0},{"$f":"(COUNTIF(CALENDRIER!EQ$1318:EQ$1682,CALENDRIER!$A$3))+((COUNTIF(CALENDRIER!EQ$1318:EQ$1682,CALENDRIER!$B$3))/2)","v":0},{"$f":"(COUNTIF(CALENDRIER!ER$1318:ER$1682,CALENDRIER!$A$3))+((COUNTIF(CALENDRIER!ER$1318:ER$1682,CALENDRIER!$B$3))/2)","v":0},{"$f":"(COUNTIF(CALENDRIER!ES$1318:ES$1682,CALENDRIER!$A$3))+((COUNTIF(CALENDRIER!ES$1318:ES$1682,CALENDRIER!$B$3))/2)","v":0},{"$f":"(COUNTIF(CALENDRIER!ET$1318:ET$1682,CALENDRIER!$A$3))+((COUNTIF(CALENDRIER!ET$1318:ET$1682,CALENDRIER!$B$3))/2)","v":0},{"$f":"(COUNTIF(CALENDRIER!EU$1318:EU$1682,CALENDRIER!$A$3))+((COUNTIF(CALENDRIER!EU$1318:EU$1682,CALENDRIER!$B$3))/2)","v":0},{"$f":"(COUNTIF(CALENDRIER!EV$1318:EV$1682,CALENDRIER!$A$3))+((COUNTIF(CALENDRIER!EV$1318:EV$1682,CALENDRIER!$B$3))/2)","v":0},{"$f":"(COUNTIF(CALENDRIER!EW$1318:EW$1682,CALENDRIER!$A$3))+((COUNTIF(CALENDRIER!EW$1318:EW$1682,CALENDRIER!$B$3))/2)","v":0},{"$f":"(COUNTIF(CALENDRIER!EX$1318:EX$1682,CALENDRIER!$A$3))+((COUNTIF(CALENDRIER!EX$1318:EX$1682,CALENDRIER!$B$3))/2)","v":0},{"$f":"(COUNTIF(CALENDRIER!EY$1318:EY$1682,CALENDRIER!$A$3))+((COUNTIF(CALENDRIER!EY$1318:EY$1682,CALENDRIER!$B$3))/2)","v":0},{"$f":"(COUNTIF(CALENDRIER!EZ$1318:EZ$1682,CALENDRIER!$A$3))+((COUNTIF(CALENDRIER!EZ$1318:EZ$1682,CALENDRIER!$B$3))/2)","v":0},{"$f":"(COUNTIF(CALENDRIER!FA$1318:FA$1682,CALENDRIER!$A$3))+((COUNTIF(CALENDRIER!FA$1318:FA$1682,CALENDRIER!$B$3))/2)","v":0},{"$f":"(COUNTIF(CALENDRIER!FB$1318:FB$1682,CALENDRIER!$A$3))+((COUNTIF(CALENDRIER!FB$1318:FB$1682,CALENDRIER!$B$3))/2)","v":0},{"$f":"(COUNTIF(CALENDRIER!FC$1318:FC$1682,CALENDRIER!$A$3))+((COUNTIF(CALENDRIER!FC$1318:FC$1682,CALENDRIER!$B$3))/2)","v":0},{"$f":"(COUNTIF(CALENDRIER!FD$1318:FD$1682,CALENDRIER!$A$3))+((COUNTIF(CALENDRIER!FD$1318:FD$1682,CALENDRIER!$B$3))/2)","v":0},{"$f":"(COUNTIF(CALENDRIER!FE$1318:FE$1682,CALENDRIER!$A$3))+((COUNTIF(CALENDRIER!FE$1318:FE$1682,CALENDRIER!$B$3))/2)","v":0},{"$f":"(COUNTIF(CALENDRIER!FF$1318:FF$1682,CALENDRIER!$A$3))+((COUNTIF(CALENDRIER!FF$1318:FF$1682,CALENDRIER!$B$3))/2)","v":0},{"$f":"(COUNTIF(CALENDRIER!FG$1318:FG$1682,CALENDRIER!$A$3))+((COUNTIF(CALENDRIER!FG$1318:FG$1682,CALENDRIER!$B$3))/2)","v":0},{"$f":"(COUNTIF(CALENDRIER!FH$1318:FH$1682,CALENDRIER!$A$3))+((COUNTIF(CALENDRIER!FH$1318:FH$1682,CALENDRIER!$B$3))/2)","v":0},{"$f":"(COUNTIF(CALENDRIER!FI$1318:FI$1682,CALENDRIER!$A$3))+((COUNTIF(CALENDRIER!FI$1318:FI$1682,CALENDRIER!$B$3))/2)","v":0},{"$f":"(COUNTIF(CALENDRIER!FJ$1318:FJ$1682,CALENDRIER!$A$3))+((COUNTIF(CALENDRIER!FJ$1318:FJ$1682,CALENDRIER!$B$3))/2)","v":0},{"$f":"(COUNTIF(CALENDRIER!FK$1318:FK$1682,CALENDRIER!$A$3))+((COUNTIF(CALENDRIER!FK$1318:FK$1682,CALENDRIER!$B$3))/2)","v":0},{"$f":"(COUNTIF(CALENDRIER!FL$1318:FL$1682,CALENDRIER!$A$3))+((COUNTIF(CALENDRIER!FL$1318:FL$1682,CALENDRIER!$B$3))/2)","v":0},{"$f":"(COUNTIF(CALENDRIER!FM$1318:FM$1682,CALENDRIER!$A$3))+((COUNTIF(CALENDRIER!FM$1318:FM$1682,CALENDRIER!$B$3))/2)","v":0},{"$f":"(COUNTIF(CALENDRIER!FN$1318:FN$1682,CALENDRIER!$A$3))+((COUNTIF(CALENDRIER!FN$1318:FN$1682,CALENDRIER!$B$3))/2)","v":0},{"$f":"(COUNTIF(CALENDRIER!FO$1318:FO$1682,CALENDRIER!$A$3))+((COUNTIF(CALENDRIER!FO$1318:FO$1682,CALENDRIER!$B$3))/2)","v":0},{"$f":"(COUNTIF(CALENDRIER!FP$1318:FP$1682,CALENDRIER!$A$3))+((COUNTIF(CALENDRIER!FP$1318:FP$1682,CALENDRIER!$B$3))/2)","v":0},{"$f":"(COUNTIF(CALENDRIER!FQ$1318:FQ$1682,CALENDRIER!$A$3))+((COUNTIF(CALENDRIER!FQ$1318:FQ$1682,CALENDRIER!$B$3))/2)","v":0},{"$f":"(COUNTIF(CALENDRIER!FR$1318:FR$1682,CALENDRIER!$A$3))+((COUNTIF(CALENDRIER!FR$1318:FR$1682,CALENDRIER!$B$3))/2)","v":0},{"$f":"(COUNTIF(CALENDRIER!FS$1318:FS$1682,CALENDRIER!$A$3))+((COUNTIF(CALENDRIER!FS$1318:FS$1682,CALENDRIER!$B$3))/2)","v":0},{"$f":"(COUNTIF(CALENDRIER!FT$1318:FT$1682,CALENDRIER!$A$3))+((COUNTIF(CALENDRIER!FT$1318:FT$1682,CALENDRIER!$B$3))/2)","v":0},{"$f":"(COUNTIF(CALENDRIER!FU$1318:FU$1682,CALENDRIER!$A$3))+((COUNTIF(CALENDRIER!FU$1318:FU$1682,CALENDRIER!$B$3))/2)","v":0},{"$f":"(COUNTIF(CALENDRIER!FV$1318:FV$1682,CALENDRIER!$A$3))+((COUNTIF(CALENDRIER!FV$1318:FV$1682,CALENDRIER!$B$3))/2)","v":0},{"$f":"(COUNTIF(CALENDRIER!FW$1318:FW$1682,CALENDRIER!$A$3))+((COUNTIF(CALENDRIER!FW$1318:FW$1682,CALENDRIER!$B$3))/2)","v":0},{"$f":"(COUNTIF(CALENDRIER!FX$1318:FX$1682,CALENDRIER!$A$3))+((COUNTIF(CALENDRIER!FX$1318:FX$1682,CALENDRIER!$B$3))/2)","v":0},{"$f":"(COUNTIF(CALENDRIER!FY$1318:FY$1682,CALENDRIER!$A$3))+((COUNTIF(CALENDRIER!FY$1318:FY$1682,CALENDRIER!$B$3))/2)","v":0},{"$f":"(COUNTIF(CALENDRIER!FZ$1318:FZ$1682,CALENDRIER!$A$3))+((COUNTIF(CALENDRIER!FZ$1318:FZ$1682,CALENDRIER!$B$3))/2)","v":0},{"$f":"(COUNTIF(CALENDRIER!GA$1318:GA$1682,CALENDRIER!$A$3))+((COUNTIF(CALENDRIER!GA$1318:GA$1682,CALENDRIER!$B$3))/2)","v":0},{"$f":"(COUNTIF(CALENDRIER!GB$1318:GB$1682,CALENDRIER!$A$3))+((COUNTIF(CALENDRIER!GB$1318:GB$1682,CALENDRIER!$B$3))/2)","v":0},{"$f":"(COUNTIF(CALENDRIER!GC$1318:GC$1682,CALENDRIER!$A$3))+((COUNTIF(CALENDRIER!GC$1318:GC$1682,CALENDRIER!$B$3))/2)","v":0},{"$f":"(COUNTIF(CALENDRIER!GD$1318:GD$1682,CALENDRIER!$A$3))+((COUNTIF(CALENDRIER!GD$1318:GD$1682,CALENDRIER!$B$3))/2)","v":0},{"$f":"(COUNTIF(CALENDRIER!GE$1318:GE$1682,CALENDRIER!$A$3))+((COUNTIF(CALENDRIER!GE$1318:GE$1682,CALENDRIER!$B$3))/2)","v":0},{"$f":"(COUNTIF(CALENDRIER!GF$1318:GF$1682,CALENDRIER!$A$3))+((COUNTIF(CALENDRIER!GF$1318:GF$1682,CALENDRIER!$B$3))/2)","v":0},{"$f":"(COUNTIF(CALENDRIER!GG$1318:GG$1682,CALENDRIER!$A$3))+((COUNTIF(CALENDRIER!GG$1318:GG$1682,CALENDRIER!$B$3))/2)","v":0},{"$f":"(COUNTIF(CALENDRIER!GH$1318:GH$1682,CALENDRIER!$A$3))+((COUNTIF(CALENDRIER!GH$1318:GH$1682,CALENDRIER!$B$3))/2)","v":0},{"$f":"(COUNTIF(CALENDRIER!GI$1318:GI$1682,CALENDRIER!$A$3))+((COUNTIF(CALENDRIER!GI$1318:GI$1682,CALENDRIER!$B$3))/2)","v":0},{"$f":"(COUNTIF(CALENDRIER!GJ$1318:GJ$1682,CALENDRIER!$A$3))+((COUNTIF(CALENDRIER!GJ$1318:GJ$1682,CALENDRIER!$B$3))/2)","v":0},{"$f":"(COUNTIF(CALENDRIER!GK$1318:GK$1682,CALENDRIER!$A$3))+((COUNTIF(CALENDRIER!GK$1318:GK$1682,CALENDRIER!$B$3))/2)","v":0},{"$f":"(COUNTIF(CALENDRIER!GL$1318:GL$1682,CALENDRIER!$A$3))+((COUNTIF(CALENDRIER!GL$1318:GL$1682,CALENDRIER!$B$3))/2)","v":0},{"$f":"(COUNTIF(CALENDRIER!GM$1318:GM$1682,CALENDRIER!$A$3))+((COUNTIF(CALENDRIER!GM$1318:GM$1682,CALENDRIER!$B$3))/2)","v":0},{"$f":"(COUNTIF(CALENDRIER!GN$1318:GN$1682,CALENDRIER!$A$3))+((COUNTIF(CALENDRIER!GN$1318:GN$1682,CALENDRIER!$B$3))/2)","v":0},{"$f":"(COUNTIF(CALENDRIER!GO$1318:GO$1682,CALENDRIER!$A$3))+((COUNTIF(CALENDRIER!GO$1318:GO$1682,CALENDRIER!$B$3))/2)","v":0},{"$f":"(COUNTIF(CALENDRIER!GP$1318:GP$1682,CALENDRIER!$A$3))+((COUNTIF(CALENDRIER!GP$1318:GP$1682,CALENDRIER!$B$3))/2)","v":0},{"$f":"(COUNTIF(CALENDRIER!GQ$1318:GQ$1682,CALENDRIER!$A$3))+((COUNTIF(CALENDRIER!GQ$1318:GQ$1682,CALENDRIER!$B$3))/2)","v":0},{"$f":"(COUNTIF(CALENDRIER!GR$1318:GR$1682,CALENDRIER!$A$3))+((COUNTIF(CALENDRIER!GR$1318:GR$1682,CALENDRIER!$B$3))/2)","v":0}]
[null,{"$f":"\"Solde \"&CALENDRIER!$A$3&\" \"&A129&\" :\"","v":"Solde RTT 2019 :"},{"$f":"C130-C131","v":0},{"$f":"D130-D131","v":0},0,0,0,0,0,0,0,0,0,0,0,0,0,0,0,0,0,0,0,0,0,0,0,0,0,0,0,0,0,0,0,0,0,0,0,0,0,0,0,0,0,0,0,0,0,0,0,0,0,0,0,0,0,0,0,0,0,0,0,0,0,0,0,{"$f":"BP130-BP131","v":0},0,0,0,0,0,0,0,0,0,0,0,0,0,0,0,0,0,0,0,0,0,0,0,0,0,0,0,0,0,0,0,0,0,0,0,0,0,0,0,0,0,0,0,0,0,0,0,0,0,0,0,0,0,0,0,0,0,0,0,0,0,0,0,{"$f":"EB130-EB131","v":0},0,0,0,0,0,0,0,0,0,0,0,0,0,0,0,0,0,0,0,0,0,0,0,0,0,0,0,0,0,0,0,0,0,0,0,0,0,0,0,0,0,0,0,0,0,0,0,0,0,0,0,0,0,0,0,0,0,0,0,0,0,0,0,{"$f":"GN130-GN131","v":0},0,0,0,0]
[]
[2020,{"$f":"CALENDRIER!$A$3","v":"RTT"}]
[null,"SOLDE DEPART"]
[null,{"$f":"CALENDRIER!$A$3&\" PRIS\"","v":"RTT PRIS"},{"$f":"(COUNTIF(CALENDRIER!C$1683:C$2048,CALENDRIER!$A$3))+((COUNTIF(CALENDRIER!C$1683:C$2048,CALENDRIER!$B$3))/2)","v":0},{"$f":"(COUNTIF(CALENDRIER!D$1683:D$2048,CALENDRIER!$A$3))+((COUNTIF(CALENDRIER!D$1683:D$2048,CALENDRIER!$B$3))/2)","v":0},{"$f":"(COUNTIF(CALENDRIER!E$1683:E$2048,CALENDRIER!$A$3))+((COUNTIF(CALENDRIER!E$1683:E$2048,CALENDRIER!$B$3))/2)","v":0},{"$f":"(COUNTIF(CALENDRIER!F$1683:F$2048,CALENDRIER!$A$3))+((COUNTIF(CALENDRIER!F$1683:F$2048,CALENDRIER!$B$3))/2)","v":0},{"$f":"(COUNTIF(CALENDRIER!G$1683:G$2048,CALENDRIER!$A$3))+((COUNTIF(CALENDRIER!G$1683:G$2048,CALENDRIER!$B$3))/2)","v":0},{"$f":"(COUNTIF(CALENDRIER!H$1683:H$2048,CALENDRIER!$A$3))+((COUNTIF(CALENDRIER!H$1683:H$2048,CALENDRIER!$B$3))/2)","v":0},{"$f":"(COUNTIF(CALENDRIER!I$1683:I$2048,CALENDRIER!$A$3))+((COUNTIF(CALENDRIER!I$1683:I$2048,CALENDRIER!$B$3))/2)","v":0},{"$f":"(COUNTIF(CALENDRIER!J$1683:J$2048,CALENDRIER!$A$3))+((COUNTIF(CALENDRIER!J$1683:J$2048,CALENDRIER!$B$3))/2)","v":0},{"$f":"(COUNTIF(CALENDRIER!K$1683:K$2048,CALENDRIER!$A$3))+((COUNTIF(CALENDRIER!K$1683:K$2048,CALENDRIER!$B$3))/2)","v":0},{"$f":"(COUNTIF(CALENDRIER!L$1683:L$2048,CALENDRIER!$A$3))+((COUNTIF(CALENDRIER!L$1683:L$2048,CALENDRIER!$B$3))/2)","v":0},{"$f":"(COUNTIF(CALENDRIER!M$1683:M$2048,CALENDRIER!$A$3))+((COUNTIF(CALENDRIER!M$1683:M$2048,CALENDRIER!$B$3))/2)","v":0},{"$f":"(COUNTIF(CALENDRIER!N$1683:N$2048,CALENDRIER!$A$3))+((COUNTIF(CALENDRIER!N$1683:N$2048,CALENDRIER!$B$3))/2)","v":0},{"$f":"(COUNTIF(CALENDRIER!O$1683:O$2048,CALENDRIER!$A$3))+((COUNTIF(CALENDRIER!O$1683:O$2048,CALENDRIER!$B$3))/2)","v":0},{"$f":"(COUNTIF(CALENDRIER!P$1683:P$2048,CALENDRIER!$A$3))+((COUNTIF(CALENDRIER!P$1683:P$2048,CALENDRIER!$B$3))/2)","v":0},{"$f":"(COUNTIF(CALENDRIER!Q$1683:Q$2048,CALENDRIER!$A$3))+((COUNTIF(CALENDRIER!Q$1683:Q$2048,CALENDRIER!$B$3))/2)","v":0},{"$f":"(COUNTIF(CALENDRIER!R$1683:R$2048,CALENDRIER!$A$3))+((COUNTIF(CALENDRIER!R$1683:R$2048,CALENDRIER!$B$3))/2)","v":0},{"$f":"(COUNTIF(CALENDRIER!S$1683:S$2048,CALENDRIER!$A$3))+((COUNTIF(CALENDRIER!S$1683:S$2048,CALENDRIER!$B$3))/2)","v":0},{"$f":"(COUNTIF(CALENDRIER!T$1683:T$2048,CALENDRIER!$A$3))+((COUNTIF(CALENDRIER!T$1683:T$2048,CALENDRIER!$B$3))/2)","v":0},{"$f":"(COUNTIF(CALENDRIER!U$1683:U$2048,CALENDRIER!$A$3))+((COUNTIF(CALENDRIER!U$1683:U$2048,CALENDRIER!$B$3))/2)","v":0},{"$f":"(COUNTIF(CALENDRIER!V$1683:V$2048,CALENDRIER!$A$3))+((COUNTIF(CALENDRIER!V$1683:V$2048,CALENDRIER!$B$3))/2)","v":0},{"$f":"(COUNTIF(CALENDRIER!W$1683:W$2048,CALENDRIER!$A$3))+((COUNTIF(CALENDRIER!W$1683:W$2048,CALENDRIER!$B$3))/2)","v":0},{"$f":"(COUNTIF(CALENDRIER!X$1683:X$2048,CALENDRIER!$A$3))+((COUNTIF(CALENDRIER!X$1683:X$2048,CALENDRIER!$B$3))/2)","v":0},{"$f":"(COUNTIF(CALENDRIER!Y$1683:Y$2048,CALENDRIER!$A$3))+((COUNTIF(CALENDRIER!Y$1683:Y$2048,CALENDRIER!$B$3))/2)","v":0},{"$f":"(COUNTIF(CALENDRIER!Z$1683:Z$2048,CALENDRIER!$A$3))+((COUNTIF(CALENDRIER!Z$1683:Z$2048,CALENDRIER!$B$3))/2)","v":0},{"$f":"(COUNTIF(CALENDRIER!AA$1683:AA$2048,CALENDRIER!$A$3))+((COUNTIF(CALENDRIER!AA$1683:AA$2048,CALENDRIER!$B$3))/2)","v":0},{"$f":"(COUNTIF(CALENDRIER!AB$1683:AB$2048,CALENDRIER!$A$3))+((COUNTIF(CALENDRIER!AB$1683:AB$2048,CALENDRIER!$B$3))/2)","v":0},{"$f":"(COUNTIF(CALENDRIER!AC$1683:AC$2048,CALENDRIER!$A$3))+((COUNTIF(CALENDRIER!AC$1683:AC$2048,CALENDRIER!$B$3))/2)","v":0},{"$f":"(COUNTIF(CALENDRIER!AD$1683:AD$2048,CALENDRIER!$A$3))+((COUNTIF(CALENDRIER!AD$1683:AD$2048,CALENDRIER!$B$3))/2)","v":0},{"$f":"(COUNTIF(CALENDRIER!AE$1683:AE$2048,CALENDRIER!$A$3))+((COUNTIF(CALENDRIER!AE$1683:AE$2048,CALENDRIER!$B$3))/2)","v":0},{"$f":"(COUNTIF(CALENDRIER!AF$1683:AF$2048,CALENDRIER!$A$3))+((COUNTIF(CALENDRIER!AF$1683:AF$2048,CALENDRIER!$B$3))/2)","v":0},{"$f":"(COUNTIF(CALENDRIER!AG$1683:AG$2048,CALENDRIER!$A$3))+((COUNTIF(CALENDRIER!AG$1683:AG$2048,CALENDRIER!$B$3))/2)","v":0},{"$f":"(COUNTIF(CALENDRIER!AH$1683:AH$2048,CALENDRIER!$A$3))+((COUNTIF(CALENDRIER!AH$1683:AH$2048,CALENDRIER!$B$3))/2)","v":0},{"$f":"(COUNTIF(CALENDRIER!AI$1683:AI$2048,CALENDRIER!$A$3))+((COUNTIF(CALENDRIER!AI$1683:AI$2048,CALENDRIER!$B$3))/2)","v":0},{"$f":"(COUNTIF(CALENDRIER!AJ$1683:AJ$2048,CALENDRIER!$A$3))+((COUNTIF(CALENDRIER!AJ$1683:AJ$2048,CALENDRIER!$B$3))/2)","v":0},{"$f":"(COUNTIF(CALENDRIER!AK$1683:AK$2048,CALENDRIER!$A$3))+((COUNTIF(CALENDRIER!AK$1683:AK$2048,CALENDRIER!$B$3))/2)","v":0},{"$f":"(COUNTIF(CALENDRIER!AL$1683:AL$2048,CALENDRIER!$A$3))+((COUNTIF(CALENDRIER!AL$1683:AL$2048,CALENDRIER!$B$3))/2)","v":0},{"$f":"(COUNTIF(CALENDRIER!AM$1683:AM$2048,CALENDRIER!$A$3))+((COUNTIF(CALENDRIER!AM$1683:AM$2048,CALENDRIER!$B$3))/2)","v":0},{"$f":"(COUNTIF(CALENDRIER!AN$1683:AN$2048,CALENDRIER!$A$3))+((COUNTIF(CALENDRIER!AN$1683:AN$2048,CALENDRIER!$B$3))/2)","v":0},{"$f":"(COUNTIF(CALENDRIER!AO$1683:AO$2048,CALENDRIER!$A$3))+((COUNTIF(CALENDRIER!AO$1683:AO$2048,CALENDRIER!$B$3))/2)","v":0},{"$f":"(COUNTIF(CALENDRIER!AP$1683:AP$2048,CALENDRIER!$A$3))+((COUNTIF(CALENDRIER!AP$1683:AP$2048,CALENDRIER!$B$3))/2)","v":0},{"$f":"(COUNTIF(CALENDRIER!AQ$1683:AQ$2048,CALENDRIER!$A$3))+((COUNTIF(CALENDRIER!AQ$1683:AQ$2048,CALENDRIER!$B$3))/2)","v":0},{"$f":"(COUNTIF(CALENDRIER!AR$1683:AR$2048,CALENDRIER!$A$3))+((COUNTIF(CALENDRIER!AR$1683:AR$2048,CALENDRIER!$B$3))/2)","v":0},{"$f":"(COUNTIF(CALENDRIER!AS$1683:AS$2048,CALENDRIER!$A$3))+((COUNTIF(CALENDRIER!AS$1683:AS$2048,CALENDRIER!$B$3))/2)","v":0},{"$f":"(COUNTIF(CALENDRIER!AT$1683:AT$2048,CALENDRIER!$A$3))+((COUNTIF(CALENDRIER!AT$1683:AT$2048,CALENDRIER!$B$3))/2)","v":0},{"$f":"(COUNTIF(CALENDRIER!AU$1683:AU$2048,CALENDRIER!$A$3))+((COUNTIF(CALENDRIER!AU$1683:AU$2048,CALENDRIER!$B$3))/2)","v":0},{"$f":"(COUNTIF(CALENDRIER!AV$1683:AV$2048,CALENDRIER!$A$3))+((COUNTIF(CALENDRIER!AV$1683:AV$2048,CALENDRIER!$B$3))/2)","v":0},{"$f":"(COUNTIF(CALENDRIER!AW$1683:AW$2048,CALENDRIER!$A$3))+((COUNTIF(CALENDRIER!AW$1683:AW$2048,CALENDRIER!$B$3))/2)","v":0},{"$f":"(COUNTIF(CALENDRIER!AX$1683:AX$2048,CALENDRIER!$A$3))+((COUNTIF(CALENDRIER!AX$1683:AX$2048,CALENDRIER!$B$3))/2)","v":0},{"$f":"(COUNTIF(CALENDRIER!AY$1683:AY$2048,CALENDRIER!$A$3))+((COUNTIF(CALENDRIER!AY$1683:AY$2048,CALENDRIER!$B$3))/2)","v":0},{"$f":"(COUNTIF(CALENDRIER!AZ$1683:AZ$2048,CALENDRIER!$A$3))+((COUNTIF(CALENDRIER!AZ$1683:AZ$2048,CALENDRIER!$B$3))/2)","v":0},{"$f":"(COUNTIF(CALENDRIER!BA$1683:BA$2048,CALENDRIER!$A$3))+((COUNTIF(CALENDRIER!BA$1683:BA$2048,CALENDRIER!$B$3))/2)","v":0},{"$f":"(COUNTIF(CALENDRIER!BB$1683:BB$2048,CALENDRIER!$A$3))+((COUNTIF(CALENDRIER!BB$1683:BB$2048,CALENDRIER!$B$3))/2)","v":0},{"$f":"(COUNTIF(CALENDRIER!BC$1683:BC$2048,CALENDRIER!$A$3))+((COUNTIF(CALENDRIER!BC$1683:BC$2048,CALENDRIER!$B$3))/2)","v":0},{"$f":"(COUNTIF(CALENDRIER!BD$1683:BD$2048,CALENDRIER!$A$3))+((COUNTIF(CALENDRIER!BD$1683:BD$2048,CALENDRIER!$B$3))/2)","v":0},{"$f":"(COUNTIF(CALENDRIER!BE$1683:BE$2048,CALENDRIER!$A$3))+((COUNTIF(CALENDRIER!BE$1683:BE$2048,CALENDRIER!$B$3))/2)","v":0},{"$f":"(COUNTIF(CALENDRIER!BF$1683:BF$2048,CALENDRIER!$A$3))+((COUNTIF(CALENDRIER!BF$1683:BF$2048,CALENDRIER!$B$3))/2)","v":0},{"$f":"(COUNTIF(CALENDRIER!BG$1683:BG$2048,CALENDRIER!$A$3))+((COUNTIF(CALENDRIER!BG$1683:BG$2048,CALENDRIER!$B$3))/2)","v":0},{"$f":"(COUNTIF(CALENDRIER!BH$1683:BH$2048,CALENDRIER!$A$3))+((COUNTIF(CALENDRIER!BH$1683:BH$2048,CALENDRIER!$B$3))/2)","v":0},{"$f":"(COUNTIF(CALENDRIER!BI$1683:BI$2048,CALENDRIER!$A$3))+((COUNTIF(CALENDRIER!BI$1683:BI$2048,CALENDRIER!$B$3))/2)","v":0},{"$f":"(COUNTIF(CALENDRIER!BJ$1683:BJ$2048,CALENDRIER!$A$3))+((COUNTIF(CALENDRIER!BJ$1683:BJ$2048,CALENDRIER!$B$3))/2)","v":0},{"$f":"(COUNTIF(CALENDRIER!BK$1683:BK$2048,CALENDRIER!$A$3))+((COUNTIF(CALENDRIER!BK$1683:BK$2048,CALENDRIER!$B$3))/2)","v":0},{"$f":"(COUNTIF(CALENDRIER!BL$1683:BL$2048,CALENDRIER!$A$3))+((COUNTIF(CALENDRIER!BL$1683:BL$2048,CALENDRIER!$B$3))/2)","v":0},{"$f":"(COUNTIF(CALENDRIER!BM$1683:BM$2048,CALENDRIER!$A$3))+((COUNTIF(CALENDRIER!BM$1683:BM$2048,CALENDRIER!$B$3))/2)","v":0},{"$f":"(COUNTIF(CALENDRIER!BN$1683:BN$2048,CALENDRIER!$A$3))+((COUNTIF(CALENDRIER!BN$1683:BN$2048,CALENDRIER!$B$3))/2)","v":0},{"$f":"(COUNTIF(CALENDRIER!BO$1683:BO$2048,CALENDRIER!$A$3))+((COUNTIF(CALENDRIER!BO$1683:BO$2048,CALENDRIER!$B$3))/2)","v":0},{"$f":"(COUNTIF(CALENDRIER!BP$1683:BP$2048,CALENDRIER!$A$3))+((COUNTIF(CALENDRIER!BP$1683:BP$2048,CALENDRIER!$B$3))/2)","v":0},{"$f":"(COUNTIF(CALENDRIER!BQ$1683:BQ$2048,CALENDRIER!$A$3))+((COUNTIF(CALENDRIER!BQ$1683:BQ$2048,CALENDRIER!$B$3))/2)","v":0},{"$f":"(COUNTIF(CALENDRIER!BR$1683:BR$2048,CALENDRIER!$A$3))+((COUNTIF(CALENDRIER!BR$1683:BR$2048,CALENDRIER!$B$3))/2)","v":0},{"$f":"(COUNTIF(CALENDRIER!BS$1683:BS$2048,CALENDRIER!$A$3))+((COUNTIF(CALENDRIER!BS$1683:BS$2048,CALENDRIER!$B$3))/2)","v":0},{"$f":"(COUNTIF(CALENDRIER!BT$1683:BT$2048,CALENDRIER!$A$3))+((COUNTIF(CALENDRIER!BT$1683:BT$2048,CALENDRIER!$B$3))/2)","v":0},{"$f":"(COUNTIF(CALENDRIER!BU$1683:BU$2048,CALENDRIER!$A$3))+((COUNTIF(CALENDRIER!BU$1683:BU$2048,CALENDRIER!$B$3))/2)","v":0},{"$f":"(COUNTIF(CALENDRIER!BV$1683:BV$2048,CALENDRIER!$A$3))+((COUNTIF(CALENDRIER!BV$1683:BV$2048,CALENDRIER!$B$3))/2)","v":0},{"$f":"(COUNTIF(CALENDRIER!BW$1683:BW$2048,CALENDRIER!$A$3))+((COUNTIF(CALENDRIER!BW$1683:BW$2048,CALENDRIER!$B$3))/2)","v":0},{"$f":"(COUNTIF(CALENDRIER!BX$1683:BX$2048,CALENDRIER!$A$3))+((COUNTIF(CALENDRIER!BX$1683:BX$2048,CALENDRIER!$B$3))/2)","v":0},{"$f":"(COUNTIF(CALENDRIER!BY$1683:BY$2048,CALENDRIER!$A$3))+((COUNTIF(CALENDRIER!BY$1683:BY$2048,CALENDRIER!$B$3))/2)","v":0},{"$f":"(COUNTIF(CALENDRIER!BZ$1683:BZ$2048,CALENDRIER!$A$3))+((COUNTIF(CALENDRIER!BZ$1683:BZ$2048,CALENDRIER!$B$3))/2)","v":0},{"$f":"(COUNTIF(CALENDRIER!CA$1683:CA$2048,CALENDRIER!$A$3))+((COUNTIF(CALENDRIER!CA$1683:CA$2048,CALENDRIER!$B$3))/2)","v":0},{"$f":"(COUNTIF(CALENDRIER!CB$1683:CB$2048,CALENDRIER!$A$3))+((COUNTIF(CALENDRIER!CB$1683:CB$2048,CALENDRIER!$B$3))/2)","v":0},{"$f":"(COUNTIF(CALENDRIER!CC$1683:CC$2048,CALENDRIER!$A$3))+((COUNTIF(CALENDRIER!CC$1683:CC$2048,CALENDRIER!$B$3))/2)","v":0},{"$f":"(COUNTIF(CALENDRIER!CD$1683:CD$2048,CALENDRIER!$A$3))+((COUNTIF(CALENDRIER!CD$1683:CD$2048,CALENDRIER!$B$3))/2)","v":0},{"$f":"(COUNTIF(CALENDRIER!CE$1683:CE$2048,CALENDRIER!$A$3))+((COUNTIF(CALENDRIER!CE$1683:CE$2048,CALENDRIER!$B$3))/2)","v":0},{"$f":"(COUNTIF(CALENDRIER!CF$1683:CF$2048,CALENDRIER!$A$3))+((COUNTIF(CALENDRIER!CF$1683:CF$2048,CALENDRIER!$B$3))/2)","v":0},{"$f":"(COUNTIF(CALENDRIER!CG$1683:CG$2048,CALENDRIER!$A$3))+((COUNTIF(CALENDRIER!CG$1683:CG$2048,CALENDRIER!$B$3))/2)","v":0},{"$f":"(COUNTIF(CALENDRIER!CH$1683:CH$2048,CALENDRIER!$A$3))+((COUNTIF(CALENDRIER!CH$1683:CH$2048,CALENDRIER!$B$3))/2)","v":0},{"$f":"(COUNTIF(CALENDRIER!CI$1683:CI$2048,CALENDRIER!$A$3))+((COUNTIF(CALENDRIER!CI$1683:CI$2048,CALENDRIER!$B$3))/2)","v":0},{"$f":"(COUNTIF(CALENDRIER!CJ$1683:CJ$2048,CALENDRIER!$A$3))+((COUNTIF(CALENDRIER!CJ$1683:CJ$2048,CALENDRIER!$B$3))/2)","v":0},{"$f":"(COUNTIF(CALENDRIER!CK$1683:CK$2048,CALENDRIER!$A$3))+((COUNTIF(CALENDRIER!CK$1683:CK$2048,CALENDRIER!$B$3))/2)","v":0},{"$f":"(COUNTIF(CALENDRIER!CL$1683:CL$2048,CALENDRIER!$A$3))+((COUNTIF(CALENDRIER!CL$1683:CL$2048,CALENDRIER!$B$3))/2)","v":0},{"$f":"(COUNTIF(CALENDRIER!CM$1683:CM$2048,CALENDRIER!$A$3))+((COUNTIF(CALENDRIER!CM$1683:CM$2048,CALENDRIER!$B$3))/2)","v":0},{"$f":"(COUNTIF(CALENDRIER!CN$1683:CN$2048,CALENDRIER!$A$3))+((COUNTIF(CALENDRIER!CN$1683:CN$2048,CALENDRIER!$B$3))/2)","v":0},{"$f":"(COUNTIF(CALENDRIER!CO$1683:CO$2048,CALENDRIER!$A$3))+((COUNTIF(CALENDRIER!CO$1683:CO$2048,CALENDRIER!$B$3))/2)","v":0},{"$f":"(COUNTIF(CALENDRIER!CP$1683:CP$2048,CALENDRIER!$A$3))+((COUNTIF(CALENDRIER!CP$1683:CP$2048,CALENDRIER!$B$3))/2)","v":0},{"$f":"(COUNTIF(CALENDRIER!CQ$1683:CQ$2048,CALENDRIER!$A$3))+((COUNTIF(CALENDRIER!CQ$1683:CQ$2048,CALENDRIER!$B$3))/2)","v":0},{"$f":"(COUNTIF(CALENDRIER!CR$1683:CR$2048,CALENDRIER!$A$3))+((COUNTIF(CALENDRIER!CR$1683:CR$2048,CALENDRIER!$B$3))/2)","v":0},{"$f":"(COUNTIF(CALENDRIER!CS$1683:CS$2048,CALENDRIER!$A$3))+((COUNTIF(CALENDRIER!CS$1683:CS$2048,CALENDRIER!$B$3))/2)","v":0},{"$f":"(COUNTIF(CALENDRIER!CT$1683:CT$2048,CALENDRIER!$A$3))+((COUNTIF(CALENDRIER!CT$1683:CT$2048,CALENDRIER!$B$3))/2)","v":0},{"$f":"(COUNTIF(CALENDRIER!CU$1683:CU$2048,CALENDRIER!$A$3))+((COUNTIF(CALENDRIER!CU$1683:CU$2048,CALENDRIER!$B$3))/2)","v":0},{"$f":"(COUNTIF(CALENDRIER!CV$1683:CV$2048,CALENDRIER!$A$3))+((COUNTIF(CALENDRIER!CV$1683:CV$2048,CALENDRIER!$B$3))/2)","v":0},{"$f":"(COUNTIF(CALENDRIER!CW$1683:CW$2048,CALENDRIER!$A$3))+((COUNTIF(CALENDRIER!CW$1683:CW$2048,CALENDRIER!$B$3))/2)","v":0},{"$f":"(COUNTIF(CALENDRIER!CX$1683:CX$2048,CALENDRIER!$A$3))+((COUNTIF(CALENDRIER!CX$1683:CX$2048,CALENDRIER!$B$3))/2)","v":0},{"$f":"(COUNTIF(CALENDRIER!CY$1683:CY$2048,CALENDRIER!$A$3))+((COUNTIF(CALENDRIER!CY$1683:CY$2048,CALENDRIER!$B$3))/2)","v":0},{"$f":"(COUNTIF(CALENDRIER!CZ$1683:CZ$2048,CALENDRIER!$A$3))+((COUNTIF(CALENDRIER!CZ$1683:CZ$2048,CALENDRIER!$B$3))/2)","v":0},{"$f":"(COUNTIF(CALENDRIER!DA$1683:DA$2048,CALENDRIER!$A$3))+((COUNTIF(CALENDRIER!DA$1683:DA$2048,CALENDRIER!$B$3))/2)","v":0},{"$f":"(COUNTIF(CALENDRIER!DB$1683:DB$2048,CALENDRIER!$A$3))+((COUNTIF(CALENDRIER!DB$1683:DB$2048,CALENDRIER!$B$3))/2)","v":0},{"$f":"(COUNTIF(CALENDRIER!DC$1683:DC$2048,CALENDRIER!$A$3))+((COUNTIF(CALENDRIER!DC$1683:DC$2048,CALENDRIER!$B$3))/2)","v":0},{"$f":"(COUNTIF(CALENDRIER!DD$1683:DD$2048,CALENDRIER!$A$3))+((COUNTIF(CALENDRIER!DD$1683:DD$2048,CALENDRIER!$B$3))/2)","v":0},{"$f":"(COUNTIF(CALENDRIER!DE$1683:DE$2048,CALENDRIER!$A$3))+((COUNTIF(CALENDRIER!DE$1683:DE$2048,CALENDRIER!$B$3))/2)","v":0},{"$f":"(COUNTIF(CALENDRIER!DF$1683:DF$2048,CALENDRIER!$A$3))+((COUNTIF(CALENDRIER!DF$1683:DF$2048,CALENDRIER!$B$3))/2)","v":0},{"$f":"(COUNTIF(CALENDRIER!DG$1683:DG$2048,CALENDRIER!$A$3))+((COUNTIF(CALENDRIER!DG$1683:DG$2048,CALENDRIER!$B$3))/2)","v":0},{"$f":"(COUNTIF(CALENDRIER!DH$1683:DH$2048,CALENDRIER!$A$3))+((COUNTIF(CALENDRIER!DH$1683:DH$2048,CALENDRIER!$B$3))/2)","v":0},{"$f":"(COUNTIF(CALENDRIER!DI$1683:DI$2048,CALENDRIER!$A$3))+((COUNTIF(CALENDRIER!DI$1683:DI$2048,CALENDRIER!$B$3))/2)","v":0},{"$f":"(COUNTIF(CALENDRIER!DJ$1683:DJ$2048,CALENDRIER!$A$3))+((COUNTIF(CALENDRIER!DJ$1683:DJ$2048,CALENDRIER!$B$3))/2)","v":0},{"$f":"(COUNTIF(CALENDRIER!DK$1683:DK$2048,CALENDRIER!$A$3))+((COUNTIF(CALENDRIER!DK$1683:DK$2048,CALENDRIER!$B$3))/2)","v":0},{"$f":"(COUNTIF(CALENDRIER!DL$1683:DL$2048,CALENDRIER!$A$3))+((COUNTIF(CALENDRIER!DL$1683:DL$2048,CALENDRIER!$B$3))/2)","v":0},{"$f":"(COUNTIF(CALENDRIER!DM$1683:DM$2048,CALENDRIER!$A$3))+((COUNTIF(CALENDRIER!DM$1683:DM$2048,CALENDRIER!$B$3))/2)","v":0},{"$f":"(COUNTIF(CALENDRIER!DN$1683:DN$2048,CALENDRIER!$A$3))+((COUNTIF(CALENDRIER!DN$1683:DN$2048,CALENDRIER!$B$3))/2)","v":0},{"$f":"(COUNTIF(CALENDRIER!DO$1683:DO$2048,CALENDRIER!$A$3))+((COUNTIF(CALENDRIER!DO$1683:DO$2048,CALENDRIER!$B$3))/2)","v":0},{"$f":"(COUNTIF(CALENDRIER!DP$1683:DP$2048,CALENDRIER!$A$3))+((COUNTIF(CALENDRIER!DP$1683:DP$2048,CALENDRIER!$B$3))/2)","v":0},{"$f":"(COUNTIF(CALENDRIER!DQ$1683:DQ$2048,CALENDRIER!$A$3))+((COUNTIF(CALENDRIER!DQ$1683:DQ$2048,CALENDRIER!$B$3))/2)","v":0},{"$f":"(COUNTIF(CALENDRIER!DR$1683:DR$2048,CALENDRIER!$A$3))+((COUNTIF(CALENDRIER!DR$1683:DR$2048,CALENDRIER!$B$3))/2)","v":0},{"$f":"(COUNTIF(CALENDRIER!DS$1683:DS$2048,CALENDRIER!$A$3))+((COUNTIF(CALENDRIER!DS$1683:DS$2048,CALENDRIER!$B$3))/2)","v":0},{"$f":"(COUNTIF(CALENDRIER!DT$1683:DT$2048,CALENDRIER!$A$3))+((COUNTIF(CALENDRIER!DT$1683:DT$2048,CALENDRIER!$B$3))/2)","v":0},{"$f":"(COUNTIF(CALENDRIER!DU$1683:DU$2048,CALENDRIER!$A$3))+((COUNTIF(CALENDRIER!DU$1683:DU$2048,CALENDRIER!$B$3))/2)","v":0},{"$f":"(COUNTIF(CALENDRIER!DV$1683:DV$2048,CALENDRIER!$A$3))+((COUNTIF(CALENDRIER!DV$1683:DV$2048,CALENDRIER!$B$3))/2)","v":0},{"$f":"(COUNTIF(CALENDRIER!DW$1683:DW$2048,CALENDRIER!$A$3))+((COUNTIF(CALENDRIER!DW$1683:DW$2048,CALENDRIER!$B$3))/2)","v":0},{"$f":"(COUNTIF(CALENDRIER!DX$1683:DX$2048,CALENDRIER!$A$3))+((COUNTIF(CALENDRIER!DX$1683:DX$2048,CALENDRIER!$B$3))/2)","v":0},{"$f":"(COUNTIF(CALENDRIER!DY$1683:DY$2048,CALENDRIER!$A$3))+((COUNTIF(CALENDRIER!DY$1683:DY$2048,CALENDRIER!$B$3))/2)","v":0},{"$f":"(COUNTIF(CALENDRIER!DZ$1683:DZ$2048,CALENDRIER!$A$3))+((COUNTIF(CALENDRIER!DZ$1683:DZ$2048,CALENDRIER!$B$3))/2)","v":0},{"$f":"(COUNTIF(CALENDRIER!EA$1683:EA$2048,CALENDRIER!$A$3))+((COUNTIF(CALENDRIER!EA$1683:EA$2048,CALENDRIER!$B$3))/2)","v":0},{"$f":"(COUNTIF(CALENDRIER!EB$1683:EB$2048,CALENDRIER!$A$3))+((COUNTIF(CALENDRIER!EB$1683:EB$2048,CALENDRIER!$B$3))/2)","v":0},{"$f":"(COUNTIF(CALENDRIER!EC$1683:EC$2048,CALENDRIER!$A$3))+((COUNTIF(CALENDRIER!EC$1683:EC$2048,CALENDRIER!$B$3))/2)","v":0},{"$f":"(COUNTIF(CALENDRIER!ED$1683:ED$2048,CALENDRIER!$A$3))+((COUNTIF(CALENDRIER!ED$1683:ED$2048,CALENDRIER!$B$3))/2)","v":0},{"$f":"(COUNTIF(CALENDRIER!EE$1683:EE$2048,CALENDRIER!$A$3))+((COUNTIF(CALENDRIER!EE$1683:EE$2048,CALENDRIER!$B$3))/2)","v":0},{"$f":"(COUNTIF(CALENDRIER!EF$1683:EF$2048,CALENDRIER!$A$3))+((COUNTIF(CALENDRIER!EF$1683:EF$2048,CALENDRIER!$B$3))/2)","v":0},{"$f":"(COUNTIF(CALENDRIER!EG$1683:EG$2048,CALENDRIER!$A$3))+((COUNTIF(CALENDRIER!EG$1683:EG$2048,CALENDRIER!$B$3))/2)","v":0},{"$f":"(COUNTIF(CALENDRIER!EH$1683:EH$2048,CALENDRIER!$A$3))+((COUNTIF(CALENDRIER!EH$1683:EH$2048,CALENDRIER!$B$3))/2)","v":0},{"$f":"(COUNTIF(CALENDRIER!EI$1683:EI$2048,CALENDRIER!$A$3))+((COUNTIF(CALENDRIER!EI$1683:EI$2048,CALENDRIER!$B$3))/2)","v":0},{"$f":"(COUNTIF(CALENDRIER!EJ$1683:EJ$2048,CALENDRIER!$A$3))+((COUNTIF(CALENDRIER!EJ$1683:EJ$2048,CALENDRIER!$B$3))/2)","v":0},{"$f":"(COUNTIF(CALENDRIER!EK$1683:EK$2048,CALENDRIER!$A$3))+((COUNTIF(CALENDRIER!EK$1683:EK$2048,CALENDRIER!$B$3))/2)","v":0},{"$f":"(COUNTIF(CALENDRIER!EL$1683:EL$2048,CALENDRIER!$A$3))+((COUNTIF(CALENDRIER!EL$1683:EL$2048,CALENDRIER!$B$3))/2)","v":0},{"$f":"(COUNTIF(CALENDRIER!EM$1683:EM$2048,CALENDRIER!$A$3))+((COUNTIF(CALENDRIER!EM$1683:EM$2048,CALENDRIER!$B$3))/2)","v":0},{"$f":"(COUNTIF(CALENDRIER!EN$1683:EN$2048,CALENDRIER!$A$3))+((COUNTIF(CALENDRIER!EN$1683:EN$2048,CALENDRIER!$B$3))/2)","v":0},{"$f":"(COUNTIF(CALENDRIER!EO$1683:EO$2048,CALENDRIER!$A$3))+((COUNTIF(CALENDRIER!EO$1683:EO$2048,CALENDRIER!$B$3))/2)","v":0},{"$f":"(COUNTIF(CALENDRIER!EP$1683:EP$2048,CALENDRIER!$A$3))+((COUNTIF(CALENDRIER!EP$1683:EP$2048,CALENDRIER!$B$3))/2)","v":0},{"$f":"(COUNTIF(CALENDRIER!EQ$1683:EQ$2048,CALENDRIER!$A$3))+((COUNTIF(CALENDRIER!EQ$1683:EQ$2048,CALENDRIER!$B$3))/2)","v":0},{"$f":"(COUNTIF(CALENDRIER!ER$1683:ER$2048,CALENDRIER!$A$3))+((COUNTIF(CALENDRIER!ER$1683:ER$2048,CALENDRIER!$B$3))/2)","v":0},{"$f":"(COUNTIF(CALENDRIER!ES$1683:ES$2048,CALENDRIER!$A$3))+((COUNTIF(CALENDRIER!ES$1683:ES$2048,CALENDRIER!$B$3))/2)","v":0},{"$f":"(COUNTIF(CALENDRIER!ET$1683:ET$2048,CALENDRIER!$A$3))+((COUNTIF(CALENDRIER!ET$1683:ET$2048,CALENDRIER!$B$3))/2)","v":0},{"$f":"(COUNTIF(CALENDRIER!EU$1683:EU$2048,CALENDRIER!$A$3))+((COUNTIF(CALENDRIER!EU$1683:EU$2048,CALENDRIER!$B$3))/2)","v":0},{"$f":"(COUNTIF(CALENDRIER!EV$1683:EV$2048,CALENDRIER!$A$3))+((COUNTIF(CALENDRIER!EV$1683:EV$2048,CALENDRIER!$B$3))/2)","v":0},{"$f":"(COUNTIF(CALENDRIER!EW$1683:EW$2048,CALENDRIER!$A$3))+((COUNTIF(CALENDRIER!EW$1683:EW$2048,CALENDRIER!$B$3))/2)","v":0},{"$f":"(COUNTIF(CALENDRIER!EX$1683:EX$2048,CALENDRIER!$A$3))+((COUNTIF(CALENDRIER!EX$1683:EX$2048,CALENDRIER!$B$3))/2)","v":0},{"$f":"(COUNTIF(CALENDRIER!EY$1683:EY$2048,CALENDRIER!$A$3))+((COUNTIF(CALENDRIER!EY$1683:EY$2048,CALENDRIER!$B$3))/2)","v":0},{"$f":"(COUNTIF(CALENDRIER!EZ$1683:EZ$2048,CALENDRIER!$A$3))+((COUNTIF(CALENDRIER!EZ$1683:EZ$2048,CALENDRIER!$B$3))/2)","v":0},{"$f":"(COUNTIF(CALENDRIER!FA$1683:FA$2048,CALENDRIER!$A$3))+((COUNTIF(CALENDRIER!FA$1683:FA$2048,CALENDRIER!$B$3))/2)","v":0},{"$f":"(COUNTIF(CALENDRIER!FB$1683:FB$2048,CALENDRIER!$A$3))+((COUNTIF(CALENDRIER!FB$1683:FB$2048,CALENDRIER!$B$3))/2)","v":0},{"$f":"(COUNTIF(CALENDRIER!FC$1683:FC$2048,CALENDRIER!$A$3))+((COUNTIF(CALENDRIER!FC$1683:FC$2048,CALENDRIER!$B$3))/2)","v":0},{"$f":"(COUNTIF(CALENDRIER!FD$1683:FD$2048,CALENDRIER!$A$3))+((COUNTIF(CALENDRIER!FD$1683:FD$2048,CALENDRIER!$B$3))/2)","v":0},{"$f":"(COUNTIF(CALENDRIER!FE$1683:FE$2048,CALENDRIER!$A$3))+((COUNTIF(CALENDRIER!FE$1683:FE$2048,CALENDRIER!$B$3))/2)","v":0},{"$f":"(COUNTIF(CALENDRIER!FF$1683:FF$2048,CALENDRIER!$A$3))+((COUNTIF(CALENDRIER!FF$1683:FF$2048,CALENDRIER!$B$3))/2)","v":0},{"$f":"(COUNTIF(CALENDRIER!FG$1683:FG$2048,CALENDRIER!$A$3))+((COUNTIF(CALENDRIER!FG$1683:FG$2048,CALENDRIER!$B$3))/2)","v":0},{"$f":"(COUNTIF(CALENDRIER!FH$1683:FH$2048,CALENDRIER!$A$3))+((COUNTIF(CALENDRIER!FH$1683:FH$2048,CALENDRIER!$B$3))/2)","v":0},{"$f":"(COUNTIF(CALENDRIER!FI$1683:FI$2048,CALENDRIER!$A$3))+((COUNTIF(CALENDRIER!FI$1683:FI$2048,CALENDRIER!$B$3))/2)","v":0},{"$f":"(COUNTIF(CALENDRIER!FJ$1683:FJ$2048,CALENDRIER!$A$3))+((COUNTIF(CALENDRIER!FJ$1683:FJ$2048,CALENDRIER!$B$3))/2)","v":0},{"$f":"(COUNTIF(CALENDRIER!FK$1683:FK$2048,CALENDRIER!$A$3))+((COUNTIF(CALENDRIER!FK$1683:FK$2048,CALENDRIER!$B$3))/2)","v":0},{"$f":"(COUNTIF(CALENDRIER!FL$1683:FL$2048,CALENDRIER!$A$3))+((COUNTIF(CALENDRIER!FL$1683:FL$2048,CALENDRIER!$B$3))/2)","v":0},{"$f":"(COUNTIF(CALENDRIER!FM$1683:FM$2048,CALENDRIER!$A$3))+((COUNTIF(CALENDRIER!FM$1683:FM$2048,CALENDRIER!$B$3))/2)","v":0},{"$f":"(COUNTIF(CALENDRIER!FN$1683:FN$2048,CALENDRIER!$A$3))+((COUNTIF(CALENDRIER!FN$1683:FN$2048,CALENDRIER!$B$3))/2)","v":0},{"$f":"(COUNTIF(CALENDRIER!FO$1683:FO$2048,CALENDRIER!$A$3))+((COUNTIF(CALENDRIER!FO$1683:FO$2048,CALENDRIER!$B$3))/2)","v":0},{"$f":"(COUNTIF(CALENDRIER!FP$1683:FP$2048,CALENDRIER!$A$3))+((COUNTIF(CALENDRIER!FP$1683:FP$2048,CALENDRIER!$B$3))/2)","v":0},{"$f":"(COUNTIF(CALENDRIER!FQ$1683:FQ$2048,CALENDRIER!$A$3))+((COUNTIF(CALENDRIER!FQ$1683:FQ$2048,CALENDRIER!$B$3))/2)","v":0},{"$f":"(COUNTIF(CALENDRIER!FR$1683:FR$2048,CALENDRIER!$A$3))+((COUNTIF(CALENDRIER!FR$1683:FR$2048,CALENDRIER!$B$3))/2)","v":0},{"$f":"(COUNTIF(CALENDRIER!FS$1683:FS$2048,CALENDRIER!$A$3))+((COUNTIF(CALENDRIER!FS$1683:FS$2048,CALENDRIER!$B$3))/2)","v":0},{"$f":"(COUNTIF(CALENDRIER!FT$1683:FT$2048,CALENDRIER!$A$3))+((COUNTIF(CALENDRIER!FT$1683:FT$2048,CALENDRIER!$B$3))/2)","v":0},{"$f":"(COUNTIF(CALENDRIER!FU$1683:FU$2048,CALENDRIER!$A$3))+((COUNTIF(CALENDRIER!FU$1683:FU$2048,CALENDRIER!$B$3))/2)","v":0},{"$f":"(COUNTIF(CALENDRIER!FV$1683:FV$2048,CALENDRIER!$A$3))+((COUNTIF(CALENDRIER!FV$1683:FV$2048,CALENDRIER!$B$3))/2)","v":0},{"$f":"(COUNTIF(CALENDRIER!FW$1683:FW$2048,CALENDRIER!$A$3))+((COUNTIF(CALENDRIER!FW$1683:FW$2048,CALENDRIER!$B$3))/2)","v":0},{"$f":"(COUNTIF(CALENDRIER!FX$1683:FX$2048,CALENDRIER!$A$3))+((COUNTIF(CALENDRIER!FX$1683:FX$2048,CALENDRIER!$B$3))/2)","v":0},{"$f":"(COUNTIF(CALENDRIER!FY$1683:FY$2048,CALENDRIER!$A$3))+((COUNTIF(CALENDRIER!FY$1683:FY$2048,CALENDRIER!$B$3))/2)","v":0},{"$f":"(COUNTIF(CALENDRIER!FZ$1683:FZ$2048,CALENDRIER!$A$3))+((COUNTIF(CALENDRIER!FZ$1683:FZ$2048,CALENDRIER!$B$3))/2)","v":0},{"$f":"(COUNTIF(CALENDRIER!GA$1683:GA$2048,CALENDRIER!$A$3))+((COUNTIF(CALENDRIER!GA$1683:GA$2048,CALENDRIER!$B$3))/2)","v":0},{"$f":"(COUNTIF(CALENDRIER!GB$1683:GB$2048,CALENDRIER!$A$3))+((COUNTIF(CALENDRIER!GB$1683:GB$2048,CALENDRIER!$B$3))/2)","v":0},{"$f":"(COUNTIF(CALENDRIER!GC$1683:GC$2048,CALENDRIER!$A$3))+((COUNTIF(CALENDRIER!GC$1683:GC$2048,CALENDRIER!$B$3))/2)","v":0},{"$f":"(COUNTIF(CALENDRIER!GD$1683:GD$2048,CALENDRIER!$A$3))+((COUNTIF(CALENDRIER!GD$1683:GD$2048,CALENDRIER!$B$3))/2)","v":0},{"$f":"(COUNTIF(CALENDRIER!GE$1683:GE$2048,CALENDRIER!$A$3))+((COUNTIF(CALENDRIER!GE$1683:GE$2048,CALENDRIER!$B$3))/2)","v":0},{"$f":"(COUNTIF(CALENDRIER!GF$1683:GF$2048,CALENDRIER!$A$3))+((COUNTIF(CALENDRIER!GF$1683:GF$2048,CALENDRIER!$B$3))/2)","v":0},{"$f":"(COUNTIF(CALENDRIER!GG$1683:GG$2048,CALENDRIER!$A$3))+((COUNTIF(CALENDRIER!GG$1683:GG$2048,CALENDRIER!$B$3))/2)","v":0},{"$f":"(COUNTIF(CALENDRIER!GH$1683:GH$2048,CALENDRIER!$A$3))+((COUNTIF(CALENDRIER!GH$1683:GH$2048,CALENDRIER!$B$3))/2)","v":0},{"$f":"(COUNTIF(CALENDRIER!GI$1683:GI$2048,CALENDRIER!$A$3))+((COUNTIF(CALENDRIER!GI$1683:GI$2048,CALENDRIER!$B$3))/2)","v":0},{"$f":"(COUNTIF(CALENDRIER!GJ$1683:GJ$2048,CALENDRIER!$A$3))+((COUNTIF(CALENDRIER!GJ$1683:GJ$2048,CALENDRIER!$B$3))/2)","v":0},{"$f":"(COUNTIF(CALENDRIER!GK$1683:GK$2048,CALENDRIER!$A$3))+((COUNTIF(CALENDRIER!GK$1683:GK$2048,CALENDRIER!$B$3))/2)","v":0},{"$f":"(COUNTIF(CALENDRIER!GL$1683:GL$2048,CALENDRIER!$A$3))+((COUNTIF(CALENDRIER!GL$1683:GL$2048,CALENDRIER!$B$3))/2)","v":0},{"$f":"(COUNTIF(CALENDRIER!GM$1683:GM$2048,CALENDRIER!$A$3))+((COUNTIF(CALENDRIER!GM$1683:GM$2048,CALENDRIER!$B$3))/2)","v":0},{"$f":"(COUNTIF(CALENDRIER!GN$1683:GN$2048,CALENDRIER!$A$3))+((COUNTIF(CALENDRIER!GN$1683:GN$2048,CALENDRIER!$B$3))/2)","v":0},{"$f":"(COUNTIF(CALENDRIER!GO$1683:GO$2048,CALENDRIER!$A$3))+((COUNTIF(CALENDRIER!GO$1683:GO$2048,CALENDRIER!$B$3))/2)","v":0},{"$f":"(COUNTIF(CALENDRIER!GP$1683:GP$2048,CALENDRIER!$A$3))+((COUNTIF(CALENDRIER!GP$1683:GP$2048,CALENDRIER!$B$3))/2)","v":0},{"$f":"(COUNTIF(CALENDRIER!GQ$1683:GQ$2048,CALENDRIER!$A$3))+((COUNTIF(CALENDRIER!GQ$1683:GQ$2048,CALENDRIER!$B$3))/2)","v":0},{"$f":"(COUNTIF(CALENDRIER!GR$1683:GR$2048,CALENDRIER!$A$3))+((COUNTIF(CALENDRIER!GR$1683:GR$2048,CALENDRIER!$B$3))/2)","v":0}]
[null,{"$f":"\"Solde \"&CALENDRIER!$A$3&\" \"&A134&\" :\"","v":"Solde RTT 2020 :"},{"$f":"C135-C136","v":0},{"$f":"D135-D136","v":0},0,0,0,0,0,0,0,0,0,0,0,0,0,0,0,0,0,0,0,0,0,0,0,0,0,0,0,0,0,0,0,0,0,0,0,0,0,0,0,0,0,0,0,0,0,0,0,0,0,0,0,0,0,0,0,0,0,0,0,0,0,0,0,{"$f":"BP135-BP136","v":0},0,0,0,0,0,0,0,0,0,0,0,0,0,0,0,0,0,0,0,0,0,0,0,0,0,0,0,0,0,0,0,0,0,0,0,0,0,0,0,0,0,0,0,0,0,0,0,0,0,0,0,0,0,0,0,0,0,0,0,0,0,0,0,{"$f":"EB135-EB136","v":0},0,0,0,0,0,0,0,0,0,0,0,0,0,0,0,0,0,0,0,0,0,0,0,0,0,0,0,0,0,0,0,0,0,0,0,0,0,0,0,0,0,0,0,0,0,0,0,0,0,0,0,0,0,0,0,0,0,0,0,0,0,0,0,{"$f":"GN135-GN136","v":0},0,0,0,0]
[]
[]
[]
[]
[]
[]
[]
[]
[]
[]
[]
[]
[]
[]
[]
[]
[]
[]
[]
[]
["année civile (du 1er janvier au 31 décembre)"]
[2016,{"$f":"CALENDRIER!$A$4","v":"…"}]
[null,"SOLDE DEPART"]
[null,{"$f":"CALENDRIER!$A$4&\" PRIS\"","v":"… PRIS"},{"$f":"(COUNTIF(CALENDRIER!C$222:C$587,CALENDRIER!$A$4))+((COUNTIF(CALENDRIER!C$222:C$587,CALENDRIER!$B$4))/2)","v":0},{"$f":"(COUNTIF(CALENDRIER!D$222:D$587,CALENDRIER!$A$4))+((COUNTIF(CALENDRIER!D$222:D$587,CALENDRIER!$B$4))/2)","v":0},{"$f":"(COUNTIF(CALENDRIER!E$222:E$587,CALENDRIER!$A$4))+((COUNTIF(CALENDRIER!E$222:E$587,CALENDRIER!$B$4))/2)","v":0},{"$f":"(COUNTIF(CALENDRIER!F$222:F$587,CALENDRIER!$A$4))+((COUNTIF(CALENDRIER!F$222:F$587,CALENDRIER!$B$4))/2)","v":0},{"$f":"(COUNTIF(CALENDRIER!G$222:G$587,CALENDRIER!$A$4))+((COUNTIF(CALENDRIER!G$222:G$587,CALENDRIER!$B$4))/2)","v":0},{"$f":"(COUNTIF(CALENDRIER!H$222:H$587,CALENDRIER!$A$4))+((COUNTIF(CALENDRIER!H$222:H$587,CALENDRIER!$B$4))/2)","v":0},{"$f":"(COUNTIF(CALENDRIER!I$222:I$587,CALENDRIER!$A$4))+((COUNTIF(CALENDRIER!I$222:I$587,CALENDRIER!$B$4))/2)","v":0},{"$f":"(COUNTIF(CALENDRIER!J$222:J$587,CALENDRIER!$A$4))+((COUNTIF(CALENDRIER!J$222:J$587,CALENDRIER!$B$4))/2)","v":0},{"$f":"(COUNTIF(CALENDRIER!K$222:K$587,CALENDRIER!$A$4))+((COUNTIF(CALENDRIER!K$222:K$587,CALENDRIER!$B$4))/2)","v":0},{"$f":"(COUNTIF(CALENDRIER!L$222:L$587,CALENDRIER!$A$4))+((COUNTIF(CALENDRIER!L$222:L$587,CALENDRIER!$B$4))/2)","v":0},{"$f":"(COUNTIF(CALENDRIER!M$222:M$587,CALENDRIER!$A$4))+((COUNTIF(CALENDRIER!M$222:M$587,CALENDRIER!$B$4))/2)","v":0},{"$f":"(COUNTIF(CALENDRIER!N$222:N$587,CALENDRIER!$A$4))+((COUNTIF(CALENDRIER!N$222:N$587,CALENDRIER!$B$4))/2)","v":0},{"$f":"(COUNTIF(CALENDRIER!O$222:O$587,CALENDRIER!$A$4))+((COUNTIF(CALENDRIER!O$222:O$587,CALENDRIER!$B$4))/2)","v":0},{"$f":"(COUNTIF(CALENDRIER!P$222:P$587,CALENDRIER!$A$4))+((COUNTIF(CALENDRIER!P$222:P$587,CALENDRIER!$B$4))/2)","v":0},{"$f":"(COUNTIF(CALENDRIER!Q$222:Q$587,CALENDRIER!$A$4))+((COUNTIF(CALENDRIER!Q$222:Q$587,CALENDRIER!$B$4))/2)","v":0},{"$f":"(COUNTIF(CALENDRIER!R$222:R$587,CALENDRIER!$A$4))+((COUNTIF(CALENDRIER!R$222:R$587,CALENDRIER!$B$4))/2)","v":0},{"$f":"(COUNTIF(CALENDRIER!S$222:S$587,CALENDRIER!$A$4))+((COUNTIF(CALENDRIER!S$222:S$587,CALENDRIER!$B$4))/2)","v":0},{"$f":"(COUNTIF(CALENDRIER!T$222:T$587,CALENDRIER!$A$4))+((COUNTIF(CALENDRIER!T$222:T$587,CALENDRIER!$B$4))/2)","v":0},{"$f":"(COUNTIF(CALENDRIER!U$222:U$587,CALENDRIER!$A$4))+((COUNTIF(CALENDRIER!U$222:U$587,CALENDRIER!$B$4))/2)","v":0},{"$f":"(COUNTIF(CALENDRIER!V$222:V$587,CALENDRIER!$A$4))+((COUNTIF(CALENDRIER!V$222:V$587,CALENDRIER!$B$4))/2)","v":0},{"$f":"(COUNTIF(CALENDRIER!W$222:W$587,CALENDRIER!$A$4))+((COUNTIF(CALENDRIER!W$222:W$587,CALENDRIER!$B$4))/2)","v":0},{"$f":"(COUNTIF(CALENDRIER!X$222:X$587,CALENDRIER!$A$4))+((COUNTIF(CALENDRIER!X$222:X$587,CALENDRIER!$B$4))/2)","v":0},{"$f":"(COUNTIF(CALENDRIER!Y$222:Y$587,CALENDRIER!$A$4))+((COUNTIF(CALENDRIER!Y$222:Y$587,CALENDRIER!$B$4))/2)","v":0},{"$f":"(COUNTIF(CALENDRIER!Z$222:Z$587,CALENDRIER!$A$4))+((COUNTIF(CALENDRIER!Z$222:Z$587,CALENDRIER!$B$4))/2)","v":0},{"$f":"(COUNTIF(CALENDRIER!AA$222:AA$587,CALENDRIER!$A$4))+((COUNTIF(CALENDRIER!AA$222:AA$587,CALENDRIER!$B$4))/2)","v":0},{"$f":"(COUNTIF(CALENDRIER!AB$222:AB$587,CALENDRIER!$A$4))+((COUNTIF(CALENDRIER!AB$222:AB$587,CALENDRIER!$B$4))/2)","v":0},{"$f":"(COUNTIF(CALENDRIER!AC$222:AC$587,CALENDRIER!$A$4))+((COUNTIF(CALENDRIER!AC$222:AC$587,CALENDRIER!$B$4))/2)","v":0},{"$f":"(COUNTIF(CALENDRIER!AD$222:AD$587,CALENDRIER!$A$4))+((COUNTIF(CALENDRIER!AD$222:AD$587,CALENDRIER!$B$4))/2)","v":0},{"$f":"(COUNTIF(CALENDRIER!AE$222:AE$587,CALENDRIER!$A$4))+((COUNTIF(CALENDRIER!AE$222:AE$587,CALENDRIER!$B$4))/2)","v":0},{"$f":"(COUNTIF(CALENDRIER!AF$222:AF$587,CALENDRIER!$A$4))+((COUNTIF(CALENDRIER!AF$222:AF$587,CALENDRIER!$B$4))/2)","v":0},{"$f":"(COUNTIF(CALENDRIER!AG$222:AG$587,CALENDRIER!$A$4))+((COUNTIF(CALENDRIER!AG$222:AG$587,CALENDRIER!$B$4))/2)","v":0},{"$f":"(COUNTIF(CALENDRIER!AH$222:AH$587,CALENDRIER!$A$4))+((COUNTIF(CALENDRIER!AH$222:AH$587,CALENDRIER!$B$4))/2)","v":0},{"$f":"(COUNTIF(CALENDRIER!AI$222:AI$587,CALENDRIER!$A$4))+((COUNTIF(CALENDRIER!AI$222:AI$587,CALENDRIER!$B$4))/2)","v":0},{"$f":"(COUNTIF(CALENDRIER!AJ$222:AJ$587,CALENDRIER!$A$4))+((COUNTIF(CALENDRIER!AJ$222:AJ$587,CALENDRIER!$B$4))/2)","v":0},{"$f":"(COUNTIF(CALENDRIER!AK$222:AK$587,CALENDRIER!$A$4))+((COUNTIF(CALENDRIER!AK$222:AK$587,CALENDRIER!$B$4))/2)","v":0},{"$f":"(COUNTIF(CALENDRIER!AL$222:AL$587,CALENDRIER!$A$4))+((COUNTIF(CALENDRIER!AL$222:AL$587,CALENDRIER!$B$4))/2)","v":0},{"$f":"(COUNTIF(CALENDRIER!AM$222:AM$587,CALENDRIER!$A$4))+((COUNTIF(CALENDRIER!AM$222:AM$587,CALENDRIER!$B$4))/2)","v":0},{"$f":"(COUNTIF(CALENDRIER!AN$222:AN$587,CALENDRIER!$A$4))+((COUNTIF(CALENDRIER!AN$222:AN$587,CALENDRIER!$B$4))/2)","v":0},{"$f":"(COUNTIF(CALENDRIER!AO$222:AO$587,CALENDRIER!$A$4))+((COUNTIF(CALENDRIER!AO$222:AO$587,CALENDRIER!$B$4))/2)","v":0},{"$f":"(COUNTIF(CALENDRIER!AP$222:AP$587,CALENDRIER!$A$4))+((COUNTIF(CALENDRIER!AP$222:AP$587,CALENDRIER!$B$4))/2)","v":0},{"$f":"(COUNTIF(CALENDRIER!AQ$222:AQ$587,CALENDRIER!$A$4))+((COUNTIF(CALENDRIER!AQ$222:AQ$587,CALENDRIER!$B$4))/2)","v":0},{"$f":"(COUNTIF(CALENDRIER!AR$222:AR$587,CALENDRIER!$A$4))+((COUNTIF(CALENDRIER!AR$222:AR$587,CALENDRIER!$B$4))/2)","v":0},{"$f":"(COUNTIF(CALENDRIER!AS$222:AS$587,CALENDRIER!$A$4))+((COUNTIF(CALENDRIER!AS$222:AS$587,CALENDRIER!$B$4))/2)","v":0},{"$f":"(COUNTIF(CALENDRIER!AT$222:AT$587,CALENDRIER!$A$4))+((COUNTIF(CALENDRIER!AT$222:AT$587,CALENDRIER!$B$4))/2)","v":0},{"$f":"(COUNTIF(CALENDRIER!AU$222:AU$587,CALENDRIER!$A$4))+((COUNTIF(CALENDRIER!AU$222:AU$587,CALENDRIER!$B$4))/2)","v":0},{"$f":"(COUNTIF(CALENDRIER!AV$222:AV$587,CALENDRIER!$A$4))+((COUNTIF(CALENDRIER!AV$222:AV$587,CALENDRIER!$B$4))/2)","v":0},{"$f":"(COUNTIF(CALENDRIER!AW$222:AW$587,CALENDRIER!$A$4))+((COUNTIF(CALENDRIER!AW$222:AW$587,CALENDRIER!$B$4))/2)","v":0},{"$f":"(COUNTIF(CALENDRIER!AX$222:AX$587,CALENDRIER!$A$4))+((COUNTIF(CALENDRIER!AX$222:AX$587,CALENDRIER!$B$4))/2)","v":0},{"$f":"(COUNTIF(CALENDRIER!AY$222:AY$587,CALENDRIER!$A$4))+((COUNTIF(CALENDRIER!AY$222:AY$587,CALENDRIER!$B$4))/2)","v":0},{"$f":"(COUNTIF(CALENDRIER!AZ$222:AZ$587,CALENDRIER!$A$4))+((COUNTIF(CALENDRIER!AZ$222:AZ$587,CALENDRIER!$B$4))/2)","v":0},{"$f":"(COUNTIF(CALENDRIER!BA$222:BA$587,CALENDRIER!$A$4))+((COUNTIF(CALENDRIER!BA$222:BA$587,CALENDRIER!$B$4))/2)","v":0},{"$f":"(COUNTIF(CALENDRIER!BB$222:BB$587,CALENDRIER!$A$4))+((COUNTIF(CALENDRIER!BB$222:BB$587,CALENDRIER!$B$4))/2)","v":0},{"$f":"(COUNTIF(CALENDRIER!BC$222:BC$587,CALENDRIER!$A$4))+((COUNTIF(CALENDRIER!BC$222:BC$587,CALENDRIER!$B$4))/2)","v":0},{"$f":"(COUNTIF(CALENDRIER!BD$222:BD$587,CALENDRIER!$A$4))+((COUNTIF(CALENDRIER!BD$222:BD$587,CALENDRIER!$B$4))/2)","v":0},{"$f":"(COUNTIF(CALENDRIER!BE$222:BE$587,CALENDRIER!$A$4))+((COUNTIF(CALENDRIER!BE$222:BE$587,CALENDRIER!$B$4))/2)","v":0},{"$f":"(COUNTIF(CALENDRIER!BF$222:BF$587,CALENDRIER!$A$4))+((COUNTIF(CALENDRIER!BF$222:BF$587,CALENDRIER!$B$4))/2)","v":0},{"$f":"(COUNTIF(CALENDRIER!BG$222:BG$587,CALENDRIER!$A$4))+((COUNTIF(CALENDRIER!BG$222:BG$587,CALENDRIER!$B$4))/2)","v":0},{"$f":"(COUNTIF(CALENDRIER!BH$222:BH$587,CALENDRIER!$A$4))+((COUNTIF(CALENDRIER!BH$222:BH$587,CALENDRIER!$B$4))/2)","v":0},{"$f":"(COUNTIF(CALENDRIER!BI$222:BI$587,CALENDRIER!$A$4))+((COUNTIF(CALENDRIER!BI$222:BI$587,CALENDRIER!$B$4))/2)","v":0},{"$f":"(COUNTIF(CALENDRIER!BJ$222:BJ$587,CALENDRIER!$A$4))+((COUNTIF(CALENDRIER!BJ$222:BJ$587,CALENDRIER!$B$4))/2)","v":0},{"$f":"(COUNTIF(CALENDRIER!BK$222:BK$587,CALENDRIER!$A$4))+((COUNTIF(CALENDRIER!BK$222:BK$587,CALENDRIER!$B$4))/2)","v":0},{"$f":"(COUNTIF(CALENDRIER!BL$222:BL$587,CALENDRIER!$A$4))+((COUNTIF(CALENDRIER!BL$222:BL$587,CALENDRIER!$B$4))/2)","v":0},{"$f":"(COUNTIF(CALENDRIER!BM$222:BM$587,CALENDRIER!$A$4))+((COUNTIF(CALENDRIER!BM$222:BM$587,CALENDRIER!$B$4))/2)","v":0},{"$f":"(COUNTIF(CALENDRIER!BN$222:BN$587,CALENDRIER!$A$4))+((COUNTIF(CALENDRIER!BN$222:BN$587,CALENDRIER!$B$4))/2)","v":0},{"$f":"(COUNTIF(CALENDRIER!BO$222:BO$587,CALENDRIER!$A$4))+((COUNTIF(CALENDRIER!BO$222:BO$587,CALENDRIER!$B$4))/2)","v":0},{"$f":"(COUNTIF(CALENDRIER!BP$222:BP$587,CALENDRIER!$A$4))+((COUNTIF(CALENDRIER!BP$222:BP$587,CALENDRIER!$B$4))/2)","v":0},{"$f":"(COUNTIF(CALENDRIER!BQ$222:BQ$587,CALENDRIER!$A$4))+((COUNTIF(CALENDRIER!BQ$222:BQ$587,CALENDRIER!$B$4))/2)","v":0},{"$f":"(COUNTIF(CALENDRIER!BR$222:BR$587,CALENDRIER!$A$4))+((COUNTIF(CALENDRIER!BR$222:BR$587,CALENDRIER!$B$4))/2)","v":0},{"$f":"(COUNTIF(CALENDRIER!BS$222:BS$587,CALENDRIER!$A$4))+((COUNTIF(CALENDRIER!BS$222:BS$587,CALENDRIER!$B$4))/2)","v":0},{"$f":"(COUNTIF(CALENDRIER!BT$222:BT$587,CALENDRIER!$A$4))+((COUNTIF(CALENDRIER!BT$222:BT$587,CALENDRIER!$B$4))/2)","v":0},{"$f":"(COUNTIF(CALENDRIER!BU$222:BU$587,CALENDRIER!$A$4))+((COUNTIF(CALENDRIER!BU$222:BU$587,CALENDRIER!$B$4))/2)","v":0},{"$f":"(COUNTIF(CALENDRIER!BV$222:BV$587,CALENDRIER!$A$4))+((COUNTIF(CALENDRIER!BV$222:BV$587,CALENDRIER!$B$4))/2)","v":0},{"$f":"(COUNTIF(CALENDRIER!BW$222:BW$587,CALENDRIER!$A$4))+((COUNTIF(CALENDRIER!BW$222:BW$587,CALENDRIER!$B$4))/2)","v":0},{"$f":"(COUNTIF(CALENDRIER!BX$222:BX$587,CALENDRIER!$A$4))+((COUNTIF(CALENDRIER!BX$222:BX$587,CALENDRIER!$B$4))/2)","v":0},{"$f":"(COUNTIF(CALENDRIER!BY$222:BY$587,CALENDRIER!$A$4))+((COUNTIF(CALENDRIER!BY$222:BY$587,CALENDRIER!$B$4))/2)","v":0},{"$f":"(COUNTIF(CALENDRIER!BZ$222:BZ$587,CALENDRIER!$A$4))+((COUNTIF(CALENDRIER!BZ$222:BZ$587,CALENDRIER!$B$4))/2)","v":0},{"$f":"(COUNTIF(CALENDRIER!CA$222:CA$587,CALENDRIER!$A$4))+((COUNTIF(CALENDRIER!CA$222:CA$587,CALENDRIER!$B$4))/2)","v":0},{"$f":"(COUNTIF(CALENDRIER!CB$222:CB$587,CALENDRIER!$A$4))+((COUNTIF(CALENDRIER!CB$222:CB$587,CALENDRIER!$B$4))/2)","v":0},{"$f":"(COUNTIF(CALENDRIER!CC$222:CC$587,CALENDRIER!$A$4))+((COUNTIF(CALENDRIER!CC$222:CC$587,CALENDRIER!$B$4))/2)","v":0},{"$f":"(COUNTIF(CALENDRIER!CD$222:CD$587,CALENDRIER!$A$4))+((COUNTIF(CALENDRIER!CD$222:CD$587,CALENDRIER!$B$4))/2)","v":0},{"$f":"(COUNTIF(CALENDRIER!CE$222:CE$587,CALENDRIER!$A$4))+((COUNTIF(CALENDRIER!CE$222:CE$587,CALENDRIER!$B$4))/2)","v":0},{"$f":"(COUNTIF(CALENDRIER!CF$222:CF$587,CALENDRIER!$A$4))+((COUNTIF(CALENDRIER!CF$222:CF$587,CALENDRIER!$B$4))/2)","v":0},{"$f":"(COUNTIF(CALENDRIER!CG$222:CG$587,CALENDRIER!$A$4))+((COUNTIF(CALENDRIER!CG$222:CG$587,CALENDRIER!$B$4))/2)","v":0},{"$f":"(COUNTIF(CALENDRIER!CH$222:CH$587,CALENDRIER!$A$4))+((COUNTIF(CALENDRIER!CH$222:CH$587,CALENDRIER!$B$4))/2)","v":0},{"$f":"(COUNTIF(CALENDRIER!CI$222:CI$587,CALENDRIER!$A$4))+((COUNTIF(CALENDRIER!CI$222:CI$587,CALENDRIER!$B$4))/2)","v":0},{"$f":"(COUNTIF(CALENDRIER!CJ$222:CJ$587,CALENDRIER!$A$4))+((COUNTIF(CALENDRIER!CJ$222:CJ$587,CALENDRIER!$B$4))/2)","v":0},{"$f":"(COUNTIF(CALENDRIER!CK$222:CK$587,CALENDRIER!$A$4))+((COUNTIF(CALENDRIER!CK$222:CK$587,CALENDRIER!$B$4))/2)","v":0},{"$f":"(COUNTIF(CALENDRIER!CL$222:CL$587,CALENDRIER!$A$4))+((COUNTIF(CALENDRIER!CL$222:CL$587,CALENDRIER!$B$4))/2)","v":0},{"$f":"(COUNTIF(CALENDRIER!CM$222:CM$587,CALENDRIER!$A$4))+((COUNTIF(CALENDRIER!CM$222:CM$587,CALENDRIER!$B$4))/2)","v":0},{"$f":"(COUNTIF(CALENDRIER!CN$222:CN$587,CALENDRIER!$A$4))+((COUNTIF(CALENDRIER!CN$222:CN$587,CALENDRIER!$B$4))/2)","v":0},{"$f":"(COUNTIF(CALENDRIER!CO$222:CO$587,CALENDRIER!$A$4))+((COUNTIF(CALENDRIER!CO$222:CO$587,CALENDRIER!$B$4))/2)","v":0},{"$f":"(COUNTIF(CALENDRIER!CP$222:CP$587,CALENDRIER!$A$4))+((COUNTIF(CALENDRIER!CP$222:CP$587,CALENDRIER!$B$4))/2)","v":0},{"$f":"(COUNTIF(CALENDRIER!CQ$222:CQ$587,CALENDRIER!$A$4))+((COUNTIF(CALENDRIER!CQ$222:CQ$587,CALENDRIER!$B$4))/2)","v":0},{"$f":"(COUNTIF(CALENDRIER!CR$222:CR$587,CALENDRIER!$A$4))+((COUNTIF(CALENDRIER!CR$222:CR$587,CALENDRIER!$B$4))/2)","v":0},{"$f":"(COUNTIF(CALENDRIER!CS$222:CS$587,CALENDRIER!$A$4))+((COUNTIF(CALENDRIER!CS$222:CS$587,CALENDRIER!$B$4))/2)","v":0},{"$f":"(COUNTIF(CALENDRIER!CT$222:CT$587,CALENDRIER!$A$4))+((COUNTIF(CALENDRIER!CT$222:CT$587,CALENDRIER!$B$4))/2)","v":0},{"$f":"(COUNTIF(CALENDRIER!CU$222:CU$587,CALENDRIER!$A$4))+((COUNTIF(CALENDRIER!CU$222:CU$587,CALENDRIER!$B$4))/2)","v":0},{"$f":"(COUNTIF(CALENDRIER!CV$222:CV$587,CALENDRIER!$A$4))+((COUNTIF(CALENDRIER!CV$222:CV$587,CALENDRIER!$B$4))/2)","v":0},{"$f":"(COUNTIF(CALENDRIER!CW$222:CW$587,CALENDRIER!$A$4))+((COUNTIF(CALENDRIER!CW$222:CW$587,CALENDRIER!$B$4))/2)","v":0},{"$f":"(COUNTIF(CALENDRIER!CX$222:CX$587,CALENDRIER!$A$4))+((COUNTIF(CALENDRIER!CX$222:CX$587,CALENDRIER!$B$4))/2)","v":0},{"$f":"(COUNTIF(CALENDRIER!CY$222:CY$587,CALENDRIER!$A$4))+((COUNTIF(CALENDRIER!CY$222:CY$587,CALENDRIER!$B$4))/2)","v":0},{"$f":"(COUNTIF(CALENDRIER!CZ$222:CZ$587,CALENDRIER!$A$4))+((COUNTIF(CALENDRIER!CZ$222:CZ$587,CALENDRIER!$B$4))/2)","v":0},{"$f":"(COUNTIF(CALENDRIER!DA$222:DA$587,CALENDRIER!$A$4))+((COUNTIF(CALENDRIER!DA$222:DA$587,CALENDRIER!$B$4))/2)","v":0},{"$f":"(COUNTIF(CALENDRIER!DB$222:DB$587,CALENDRIER!$A$4))+((COUNTIF(CALENDRIER!DB$222:DB$587,CALENDRIER!$B$4))/2)","v":0},{"$f":"(COUNTIF(CALENDRIER!DC$222:DC$587,CALENDRIER!$A$4))+((COUNTIF(CALENDRIER!DC$222:DC$587,CALENDRIER!$B$4))/2)","v":0},{"$f":"(COUNTIF(CALENDRIER!DD$222:DD$587,CALENDRIER!$A$4))+((COUNTIF(CALENDRIER!DD$222:DD$587,CALENDRIER!$B$4))/2)","v":0},{"$f":"(COUNTIF(CALENDRIER!DE$222:DE$587,CALENDRIER!$A$4))+((COUNTIF(CALENDRIER!DE$222:DE$587,CALENDRIER!$B$4))/2)","v":0},{"$f":"(COUNTIF(CALENDRIER!DF$222:DF$587,CALENDRIER!$A$4))+((COUNTIF(CALENDRIER!DF$222:DF$587,CALENDRIER!$B$4))/2)","v":0},{"$f":"(COUNTIF(CALENDRIER!DG$222:DG$587,CALENDRIER!$A$4))+((COUNTIF(CALENDRIER!DG$222:DG$587,CALENDRIER!$B$4))/2)","v":0},{"$f":"(COUNTIF(CALENDRIER!DH$222:DH$587,CALENDRIER!$A$4))+((COUNTIF(CALENDRIER!DH$222:DH$587,CALENDRIER!$B$4))/2)","v":0},{"$f":"(COUNTIF(CALENDRIER!DI$222:DI$587,CALENDRIER!$A$4))+((COUNTIF(CALENDRIER!DI$222:DI$587,CALENDRIER!$B$4))/2)","v":0},{"$f":"(COUNTIF(CALENDRIER!DJ$222:DJ$587,CALENDRIER!$A$4))+((COUNTIF(CALENDRIER!DJ$222:DJ$587,CALENDRIER!$B$4))/2)","v":0},{"$f":"(COUNTIF(CALENDRIER!DK$222:DK$587,CALENDRIER!$A$4))+((COUNTIF(CALENDRIER!DK$222:DK$587,CALENDRIER!$B$4))/2)","v":0},{"$f":"(COUNTIF(CALENDRIER!DL$222:DL$587,CALENDRIER!$A$4))+((COUNTIF(CALENDRIER!DL$222:DL$587,CALENDRIER!$B$4))/2)","v":0},{"$f":"(COUNTIF(CALENDRIER!DM$222:DM$587,CALENDRIER!$A$4))+((COUNTIF(CALENDRIER!DM$222:DM$587,CALENDRIER!$B$4))/2)","v":0},{"$f":"(COUNTIF(CALENDRIER!DN$222:DN$587,CALENDRIER!$A$4))+((COUNTIF(CALENDRIER!DN$222:DN$587,CALENDRIER!$B$4))/2)","v":0},{"$f":"(COUNTIF(CALENDRIER!DO$222:DO$587,CALENDRIER!$A$4))+((COUNTIF(CALENDRIER!DO$222:DO$587,CALENDRIER!$B$4))/2)","v":0},{"$f":"(COUNTIF(CALENDRIER!DP$222:DP$587,CALENDRIER!$A$4))+((COUNTIF(CALENDRIER!DP$222:DP$587,CALENDRIER!$B$4))/2)","v":0},{"$f":"(COUNTIF(CALENDRIER!DQ$222:DQ$587,CALENDRIER!$A$4))+((COUNTIF(CALENDRIER!DQ$222:DQ$587,CALENDRIER!$B$4))/2)","v":0},{"$f":"(COUNTIF(CALENDRIER!DR$222:DR$587,CALENDRIER!$A$4))+((COUNTIF(CALENDRIER!DR$222:DR$587,CALENDRIER!$B$4))/2)","v":0},{"$f":"(COUNTIF(CALENDRIER!DS$222:DS$587,CALENDRIER!$A$4))+((COUNTIF(CALENDRIER!DS$222:DS$587,CALENDRIER!$B$4))/2)","v":0},{"$f":"(COUNTIF(CALENDRIER!DT$222:DT$587,CALENDRIER!$A$4))+((COUNTIF(CALENDRIER!DT$222:DT$587,CALENDRIER!$B$4))/2)","v":0},{"$f":"(COUNTIF(CALENDRIER!DU$222:DU$587,CALENDRIER!$A$4))+((COUNTIF(CALENDRIER!DU$222:DU$587,CALENDRIER!$B$4))/2)","v":0},{"$f":"(COUNTIF(CALENDRIER!DV$222:DV$587,CALENDRIER!$A$4))+((COUNTIF(CALENDRIER!DV$222:DV$587,CALENDRIER!$B$4))/2)","v":0},{"$f":"(COUNTIF(CALENDRIER!DW$222:DW$587,CALENDRIER!$A$4))+((COUNTIF(CALENDRIER!DW$222:DW$587,CALENDRIER!$B$4))/2)","v":0},{"$f":"(COUNTIF(CALENDRIER!DX$222:DX$587,CALENDRIER!$A$4))+((COUNTIF(CALENDRIER!DX$222:DX$587,CALENDRIER!$B$4))/2)","v":0},{"$f":"(COUNTIF(CALENDRIER!DY$222:DY$587,CALENDRIER!$A$4))+((COUNTIF(CALENDRIER!DY$222:DY$587,CALENDRIER!$B$4))/2)","v":0},{"$f":"(COUNTIF(CALENDRIER!DZ$222:DZ$587,CALENDRIER!$A$4))+((COUNTIF(CALENDRIER!DZ$222:DZ$587,CALENDRIER!$B$4))/2)","v":0},{"$f":"(COUNTIF(CALENDRIER!EA$222:EA$587,CALENDRIER!$A$4))+((COUNTIF(CALENDRIER!EA$222:EA$587,CALENDRIER!$B$4))/2)","v":0},{"$f":"(COUNTIF(CALENDRIER!EB$222:EB$587,CALENDRIER!$A$4))+((COUNTIF(CALENDRIER!EB$222:EB$587,CALENDRIER!$B$4))/2)","v":0},{"$f":"(COUNTIF(CALENDRIER!EC$222:EC$587,CALENDRIER!$A$4))+((COUNTIF(CALENDRIER!EC$222:EC$587,CALENDRIER!$B$4))/2)","v":0},{"$f":"(COUNTIF(CALENDRIER!ED$222:ED$587,CALENDRIER!$A$4))+((COUNTIF(CALENDRIER!ED$222:ED$587,CALENDRIER!$B$4))/2)","v":0},{"$f":"(COUNTIF(CALENDRIER!EE$222:EE$587,CALENDRIER!$A$4))+((COUNTIF(CALENDRIER!EE$222:EE$587,CALENDRIER!$B$4))/2)","v":0},{"$f":"(COUNTIF(CALENDRIER!EF$222:EF$587,CALENDRIER!$A$4))+((COUNTIF(CALENDRIER!EF$222:EF$587,CALENDRIER!$B$4))/2)","v":0},{"$f":"(COUNTIF(CALENDRIER!EG$222:EG$587,CALENDRIER!$A$4))+((COUNTIF(CALENDRIER!EG$222:EG$587,CALENDRIER!$B$4))/2)","v":0},{"$f":"(COUNTIF(CALENDRIER!EH$222:EH$587,CALENDRIER!$A$4))+((COUNTIF(CALENDRIER!EH$222:EH$587,CALENDRIER!$B$4))/2)","v":0},{"$f":"(COUNTIF(CALENDRIER!EI$222:EI$587,CALENDRIER!$A$4))+((COUNTIF(CALENDRIER!EI$222:EI$587,CALENDRIER!$B$4))/2)","v":0},{"$f":"(COUNTIF(CALENDRIER!EJ$222:EJ$587,CALENDRIER!$A$4))+((COUNTIF(CALENDRIER!EJ$222:EJ$587,CALENDRIER!$B$4))/2)","v":0},{"$f":"(COUNTIF(CALENDRIER!EK$222:EK$587,CALENDRIER!$A$4))+((COUNTIF(CALENDRIER!EK$222:EK$587,CALENDRIER!$B$4))/2)","v":0},{"$f":"(COUNTIF(CALENDRIER!EL$222:EL$587,CALENDRIER!$A$4))+((COUNTIF(CALENDRIER!EL$222:EL$587,CALENDRIER!$B$4))/2)","v":0},{"$f":"(COUNTIF(CALENDRIER!EM$222:EM$587,CALENDRIER!$A$4))+((COUNTIF(CALENDRIER!EM$222:EM$587,CALENDRIER!$B$4))/2)","v":0},{"$f":"(COUNTIF(CALENDRIER!EN$222:EN$587,CALENDRIER!$A$4))+((COUNTIF(CALENDRIER!EN$222:EN$587,CALENDRIER!$B$4))/2)","v":0},{"$f":"(COUNTIF(CALENDRIER!EO$222:EO$587,CALENDRIER!$A$4))+((COUNTIF(CALENDRIER!EO$222:EO$587,CALENDRIER!$B$4))/2)","v":0},{"$f":"(COUNTIF(CALENDRIER!EP$222:EP$587,CALENDRIER!$A$4))+((COUNTIF(CALENDRIER!EP$222:EP$587,CALENDRIER!$B$4))/2)","v":0},{"$f":"(COUNTIF(CALENDRIER!EQ$222:EQ$587,CALENDRIER!$A$4))+((COUNTIF(CALENDRIER!EQ$222:EQ$587,CALENDRIER!$B$4))/2)","v":0},{"$f":"(COUNTIF(CALENDRIER!ER$222:ER$587,CALENDRIER!$A$4))+((COUNTIF(CALENDRIER!ER$222:ER$587,CALENDRIER!$B$4))/2)","v":0},{"$f":"(COUNTIF(CALENDRIER!ES$222:ES$587,CALENDRIER!$A$4))+((COUNTIF(CALENDRIER!ES$222:ES$587,CALENDRIER!$B$4))/2)","v":0},{"$f":"(COUNTIF(CALENDRIER!ET$222:ET$587,CALENDRIER!$A$4))+((COUNTIF(CALENDRIER!ET$222:ET$587,CALENDRIER!$B$4))/2)","v":0},{"$f":"(COUNTIF(CALENDRIER!EU$222:EU$587,CALENDRIER!$A$4))+((COUNTIF(CALENDRIER!EU$222:EU$587,CALENDRIER!$B$4))/2)","v":0},{"$f":"(COUNTIF(CALENDRIER!EV$222:EV$587,CALENDRIER!$A$4))+((COUNTIF(CALENDRIER!EV$222:EV$587,CALENDRIER!$B$4))/2)","v":0},{"$f":"(COUNTIF(CALENDRIER!EW$222:EW$587,CALENDRIER!$A$4))+((COUNTIF(CALENDRIER!EW$222:EW$587,CALENDRIER!$B$4))/2)","v":0},{"$f":"(COUNTIF(CALENDRIER!EX$222:EX$587,CALENDRIER!$A$4))+((COUNTIF(CALENDRIER!EX$222:EX$587,CALENDRIER!$B$4))/2)","v":0},{"$f":"(COUNTIF(CALENDRIER!EY$222:EY$587,CALENDRIER!$A$4))+((COUNTIF(CALENDRIER!EY$222:EY$587,CALENDRIER!$B$4))/2)","v":0},{"$f":"(COUNTIF(CALENDRIER!EZ$222:EZ$587,CALENDRIER!$A$4))+((COUNTIF(CALENDRIER!EZ$222:EZ$587,CALENDRIER!$B$4))/2)","v":0},{"$f":"(COUNTIF(CALENDRIER!FA$222:FA$587,CALENDRIER!$A$4))+((COUNTIF(CALENDRIER!FA$222:FA$587,CALENDRIER!$B$4))/2)","v":0},{"$f":"(COUNTIF(CALENDRIER!FB$222:FB$587,CALENDRIER!$A$4))+((COUNTIF(CALENDRIER!FB$222:FB$587,CALENDRIER!$B$4))/2)","v":0},{"$f":"(COUNTIF(CALENDRIER!FC$222:FC$587,CALENDRIER!$A$4))+((COUNTIF(CALENDRIER!FC$222:FC$587,CALENDRIER!$B$4))/2)","v":0},{"$f":"(COUNTIF(CALENDRIER!FD$222:FD$587,CALENDRIER!$A$4))+((COUNTIF(CALENDRIER!FD$222:FD$587,CALENDRIER!$B$4))/2)","v":0},{"$f":"(COUNTIF(CALENDRIER!FE$222:FE$587,CALENDRIER!$A$4))+((COUNTIF(CALENDRIER!FE$222:FE$587,CALENDRIER!$B$4))/2)","v":0},{"$f":"(COUNTIF(CALENDRIER!FF$222:FF$587,CALENDRIER!$A$4))+((COUNTIF(CALENDRIER!FF$222:FF$587,CALENDRIER!$B$4))/2)","v":0},{"$f":"(COUNTIF(CALENDRIER!FG$222:FG$587,CALENDRIER!$A$4))+((COUNTIF(CALENDRIER!FG$222:FG$587,CALENDRIER!$B$4))/2)","v":0},{"$f":"(COUNTIF(CALENDRIER!FH$222:FH$587,CALENDRIER!$A$4))+((COUNTIF(CALENDRIER!FH$222:FH$587,CALENDRIER!$B$4))/2)","v":0},{"$f":"(COUNTIF(CALENDRIER!FI$222:FI$587,CALENDRIER!$A$4))+((COUNTIF(CALENDRIER!FI$222:FI$587,CALENDRIER!$B$4))/2)","v":0},{"$f":"(COUNTIF(CALENDRIER!FJ$222:FJ$587,CALENDRIER!$A$4))+((COUNTIF(CALENDRIER!FJ$222:FJ$587,CALENDRIER!$B$4))/2)","v":0},{"$f":"(COUNTIF(CALENDRIER!FK$222:FK$587,CALENDRIER!$A$4))+((COUNTIF(CALENDRIER!FK$222:FK$587,CALENDRIER!$B$4))/2)","v":0},{"$f":"(COUNTIF(CALENDRIER!FL$222:FL$587,CALENDRIER!$A$4))+((COUNTIF(CALENDRIER!FL$222:FL$587,CALENDRIER!$B$4))/2)","v":0},{"$f":"(COUNTIF(CALENDRIER!FM$222:FM$587,CALENDRIER!$A$4))+((COUNTIF(CALENDRIER!FM$222:FM$587,CALENDRIER!$B$4))/2)","v":0},{"$f":"(COUNTIF(CALENDRIER!FN$222:FN$587,CALENDRIER!$A$4))+((COUNTIF(CALENDRIER!FN$222:FN$587,CALENDRIER!$B$4))/2)","v":0},{"$f":"(COUNTIF(CALENDRIER!FO$222:FO$587,CALENDRIER!$A$4))+((COUNTIF(CALENDRIER!FO$222:FO$587,CALENDRIER!$B$4))/2)","v":0},{"$f":"(COUNTIF(CALENDRIER!FP$222:FP$587,CALENDRIER!$A$4))+((COUNTIF(CALENDRIER!FP$222:FP$587,CALENDRIER!$B$4))/2)","v":0},{"$f":"(COUNTIF(CALENDRIER!FQ$222:FQ$587,CALENDRIER!$A$4))+((COUNTIF(CALENDRIER!FQ$222:FQ$587,CALENDRIER!$B$4))/2)","v":0},{"$f":"(COUNTIF(CALENDRIER!FR$222:FR$587,CALENDRIER!$A$4))+((COUNTIF(CALENDRIER!FR$222:FR$587,CALENDRIER!$B$4))/2)","v":0},{"$f":"(COUNTIF(CALENDRIER!FS$222:FS$587,CALENDRIER!$A$4))+((COUNTIF(CALENDRIER!FS$222:FS$587,CALENDRIER!$B$4))/2)","v":0},{"$f":"(COUNTIF(CALENDRIER!FT$222:FT$587,CALENDRIER!$A$4))+((COUNTIF(CALENDRIER!FT$222:FT$587,CALENDRIER!$B$4))/2)","v":0},{"$f":"(COUNTIF(CALENDRIER!FU$222:FU$587,CALENDRIER!$A$4))+((COUNTIF(CALENDRIER!FU$222:FU$587,CALENDRIER!$B$4))/2)","v":0},{"$f":"(COUNTIF(CALENDRIER!FV$222:FV$587,CALENDRIER!$A$4))+((COUNTIF(CALENDRIER!FV$222:FV$587,CALENDRIER!$B$4))/2)","v":0},{"$f":"(COUNTIF(CALENDRIER!FW$222:FW$587,CALENDRIER!$A$4))+((COUNTIF(CALENDRIER!FW$222:FW$587,CALENDRIER!$B$4))/2)","v":0},{"$f":"(COUNTIF(CALENDRIER!FX$222:FX$587,CALENDRIER!$A$4))+((COUNTIF(CALENDRIER!FX$222:FX$587,CALENDRIER!$B$4))/2)","v":0},{"$f":"(COUNTIF(CALENDRIER!FY$222:FY$587,CALENDRIER!$A$4))+((COUNTIF(CALENDRIER!FY$222:FY$587,CALENDRIER!$B$4))/2)","v":0},{"$f":"(COUNTIF(CALENDRIER!FZ$222:FZ$587,CALENDRIER!$A$4))+((COUNTIF(CALENDRIER!FZ$222:FZ$587,CALENDRIER!$B$4))/2)","v":0},{"$f":"(COUNTIF(CALENDRIER!GA$222:GA$587,CALENDRIER!$A$4))+((COUNTIF(CALENDRIER!GA$222:GA$587,CALENDRIER!$B$4))/2)","v":0},{"$f":"(COUNTIF(CALENDRIER!GB$222:GB$587,CALENDRIER!$A$4))+((COUNTIF(CALENDRIER!GB$222:GB$587,CALENDRIER!$B$4))/2)","v":0},{"$f":"(COUNTIF(CALENDRIER!GC$222:GC$587,CALENDRIER!$A$4))+((COUNTIF(CALENDRIER!GC$222:GC$587,CALENDRIER!$B$4))/2)","v":0},{"$f":"(COUNTIF(CALENDRIER!GD$222:GD$587,CALENDRIER!$A$4))+((COUNTIF(CALENDRIER!GD$222:GD$587,CALENDRIER!$B$4))/2)","v":0},{"$f":"(COUNTIF(CALENDRIER!GE$222:GE$587,CALENDRIER!$A$4))+((COUNTIF(CALENDRIER!GE$222:GE$587,CALENDRIER!$B$4))/2)","v":0},{"$f":"(COUNTIF(CALENDRIER!GF$222:GF$587,CALENDRIER!$A$4))+((COUNTIF(CALENDRIER!GF$222:GF$587,CALENDRIER!$B$4))/2)","v":0},{"$f":"(COUNTIF(CALENDRIER!GG$222:GG$587,CALENDRIER!$A$4))+((COUNTIF(CALENDRIER!GG$222:GG$587,CALENDRIER!$B$4))/2)","v":0},{"$f":"(COUNTIF(CALENDRIER!GH$222:GH$587,CALENDRIER!$A$4))+((COUNTIF(CALENDRIER!GH$222:GH$587,CALENDRIER!$B$4))/2)","v":0},{"$f":"(COUNTIF(CALENDRIER!GI$222:GI$587,CALENDRIER!$A$4))+((COUNTIF(CALENDRIER!GI$222:GI$587,CALENDRIER!$B$4))/2)","v":0},{"$f":"(COUNTIF(CALENDRIER!GJ$222:GJ$587,CALENDRIER!$A$4))+((COUNTIF(CALENDRIER!GJ$222:GJ$587,CALENDRIER!$B$4))/2)","v":0},{"$f":"(COUNTIF(CALENDRIER!GK$222:GK$587,CALENDRIER!$A$4))+((COUNTIF(CALENDRIER!GK$222:GK$587,CALENDRIER!$B$4))/2)","v":0},{"$f":"(COUNTIF(CALENDRIER!GL$222:GL$587,CALENDRIER!$A$4))+((COUNTIF(CALENDRIER!GL$222:GL$587,CALENDRIER!$B$4))/2)","v":0},{"$f":"(COUNTIF(CALENDRIER!GM$222:GM$587,CALENDRIER!$A$4))+((COUNTIF(CALENDRIER!GM$222:GM$587,CALENDRIER!$B$4))/2)","v":0},{"$f":"(COUNTIF(CALENDRIER!GN$222:GN$587,CALENDRIER!$A$4))+((COUNTIF(CALENDRIER!GN$222:GN$587,CALENDRIER!$B$4))/2)","v":0},{"$f":"(COUNTIF(CALENDRIER!GO$222:GO$587,CALENDRIER!$A$4))+((COUNTIF(CALENDRIER!GO$222:GO$587,CALENDRIER!$B$4))/2)","v":0},{"$f":"(COUNTIF(CALENDRIER!GP$222:GP$587,CALENDRIER!$A$4))+((COUNTIF(CALENDRIER!GP$222:GP$587,CALENDRIER!$B$4))/2)","v":0},{"$f":"(COUNTIF(CALENDRIER!GQ$222:GQ$587,CALENDRIER!$A$4))+((COUNTIF(CALENDRIER!GQ$222:GQ$587,CALENDRIER!$B$4))/2)","v":0},{"$f":"(COUNTIF(CALENDRIER!GR$222:GR$587,CALENDRIER!$A$4))+((COUNTIF(CALENDRIER!GR$222:GR$587,CALENDRIER!$B$4))/2)","v":0}]
[null,{"$f":"\"Solde \"&CALENDRIER!$A$4&\" \"&A159&\" : \"","v":"Solde … 2016 : "},{"$f":"C160-C161","v":0},{"$f":"D160-D161","v":0},0,0,0,0,0,0,0,0,0,0,0,0,0,0,0,0,0,0,0,0,0,0,0,0,0,0,0,0,0,0,0,0,0,0,0,0,0,0,0,0,0,0,0,0,0,0,0,0,0,0,0,0,0,0,0,0,0,0,0,0,0,0,0,{"$f":"BP160-BP161","v":0},0,0,0,0,0,0,0,0,0,0,0,0,0,0,0,0,0,0,0,0,0,0,0,0,0,0,0,0,0,0,0,0,0,0,0,0,0,0,0,0,0,0,0,0,0,0,0,0,0,0,0,0,0,0,0,0,0,0,0,0,0,0,0,{"$f":"EB160-EB161","v":0},0,0,0,0,0,0,0,0,0,0,0,0,0,0,0,0,0,0,0,0,0,0,0,0,0,0,0,0,0,0,0,0,0,0,0,0,0,0,0,0,0,0,0,0,0,0,0,0,0,0,0,0,0,0,0,0,0,0,0,0,0,0,0,{"$f":"GN160-GN161","v":0},0,0,0,0]
[]
[2017,{"$f":"CALENDRIER!$A$4","v":"…"}]
[null,"SOLDE DEPART"]
[null,{"$f":"CALENDRIER!$A$4&\" PRIS\"","v":"… PRIS"},{"$f":"(COUNTIF(CALENDRIER!C$588:C$952,CALENDRIER!$A$4))+((COUNTIF(CALENDRIER!C$588:C$952,CALENDRIER!$B$4))/2)","v":0},{"$f":"(COUNTIF(CALENDRIER!D$588:D$952,CALENDRIER!$A$4))+((COUNTIF(CALENDRIER!D$588:D$952,CALENDRIER!$B$4))/2)","v":0},{"$f":"(COUNTIF(CALENDRIER!E$588:E$952,CALENDRIER!$A$4))+((COUNTIF(CALENDRIER!E$588:E$952,CALENDRIER!$B$4))/2)","v":0},{"$f":"(COUNTIF(CALENDRIER!F$588:F$952,CALENDRIER!$A$4))+((COUNTIF(CALENDRIER!F$588:F$952,CALENDRIER!$B$4))/2)","v":0},{"$f":"(COUNTIF(CALENDRIER!G$588:G$952,CALENDRIER!$A$4))+((COUNTIF(CALENDRIER!G$588:G$952,CALENDRIER!$B$4))/2)","v":0},{"$f":"(COUNTIF(CALENDRIER!H$588:H$952,CALENDRIER!$A$4))+((COUNTIF(CALENDRIER!H$588:H$952,CALENDRIER!$B$4))/2)","v":0},{"$f":"(COUNTIF(CALENDRIER!I$588:I$952,CALENDRIER!$A$4))+((COUNTIF(CALENDRIER!I$588:I$952,CALENDRIER!$B$4))/2)","v":0},{"$f":"(COUNTIF(CALENDRIER!J$588:J$952,CALENDRIER!$A$4))+((COUNTIF(CALENDRIER!J$588:J$952,CALENDRIER!$B$4))/2)","v":0},{"$f":"(COUNTIF(CALENDRIER!K$588:K$952,CALENDRIER!$A$4))+((COUNTIF(CALENDRIER!K$588:K$952,CALENDRIER!$B$4))/2)","v":0},{"$f":"(COUNTIF(CALENDRIER!L$588:L$952,CALENDRIER!$A$4))+((COUNTIF(CALENDRIER!L$588:L$952,CALENDRIER!$B$4))/2)","v":0},{"$f":"(COUNTIF(CALENDRIER!M$588:M$952,CALENDRIER!$A$4))+((COUNTIF(CALENDRIER!M$588:M$952,CALENDRIER!$B$4))/2)","v":0},{"$f":"(COUNTIF(CALENDRIER!N$588:N$952,CALENDRIER!$A$4))+((COUNTIF(CALENDRIER!N$588:N$952,CALENDRIER!$B$4))/2)","v":0},{"$f":"(COUNTIF(CALENDRIER!O$588:O$952,CALENDRIER!$A$4))+((COUNTIF(CALENDRIER!O$588:O$952,CALENDRIER!$B$4))/2)","v":0},{"$f":"(COUNTIF(CALENDRIER!P$588:P$952,CALENDRIER!$A$4))+((COUNTIF(CALENDRIER!P$588:P$952,CALENDRIER!$B$4))/2)","v":0},{"$f":"(COUNTIF(CALENDRIER!Q$588:Q$952,CALENDRIER!$A$4))+((COUNTIF(CALENDRIER!Q$588:Q$952,CALENDRIER!$B$4))/2)","v":0},{"$f":"(COUNTIF(CALENDRIER!R$588:R$952,CALENDRIER!$A$4))+((COUNTIF(CALENDRIER!R$588:R$952,CALENDRIER!$B$4))/2)","v":0},{"$f":"(COUNTIF(CALENDRIER!S$588:S$952,CALENDRIER!$A$4))+((COUNTIF(CALENDRIER!S$588:S$952,CALENDRIER!$B$4))/2)","v":0},{"$f":"(COUNTIF(CALENDRIER!T$588:T$952,CALENDRIER!$A$4))+((COUNTIF(CALENDRIER!T$588:T$952,CALENDRIER!$B$4))/2)","v":0},{"$f":"(COUNTIF(CALENDRIER!U$588:U$952,CALENDRIER!$A$4))+((COUNTIF(CALENDRIER!U$588:U$952,CALENDRIER!$B$4))/2)","v":0},{"$f":"(COUNTIF(CALENDRIER!V$588:V$952,CALENDRIER!$A$4))+((COUNTIF(CALENDRIER!V$588:V$952,CALENDRIER!$B$4))/2)","v":0},{"$f":"(COUNTIF(CALENDRIER!W$588:W$952,CALENDRIER!$A$4))+((COUNTIF(CALENDRIER!W$588:W$952,CALENDRIER!$B$4))/2)","v":0},{"$f":"(COUNTIF(CALENDRIER!X$588:X$952,CALENDRIER!$A$4))+((COUNTIF(CALENDRIER!X$588:X$952,CALENDRIER!$B$4))/2)","v":0},{"$f":"(COUNTIF(CALENDRIER!Y$588:Y$952,CALENDRIER!$A$4))+((COUNTIF(CALENDRIER!Y$588:Y$952,CALENDRIER!$B$4))/2)","v":0},{"$f":"(COUNTIF(CALENDRIER!Z$588:Z$952,CALENDRIER!$A$4))+((COUNTIF(CALENDRIER!Z$588:Z$952,CALENDRIER!$B$4))/2)","v":0},{"$f":"(COUNTIF(CALENDRIER!AA$588:AA$952,CALENDRIER!$A$4))+((COUNTIF(CALENDRIER!AA$588:AA$952,CALENDRIER!$B$4))/2)","v":0},{"$f":"(COUNTIF(CALENDRIER!AB$588:AB$952,CALENDRIER!$A$4))+((COUNTIF(CALENDRIER!AB$588:AB$952,CALENDRIER!$B$4))/2)","v":0},{"$f":"(COUNTIF(CALENDRIER!AC$588:AC$952,CALENDRIER!$A$4))+((COUNTIF(CALENDRIER!AC$588:AC$952,CALENDRIER!$B$4))/2)","v":0},{"$f":"(COUNTIF(CALENDRIER!AD$588:AD$952,CALENDRIER!$A$4))+((COUNTIF(CALENDRIER!AD$588:AD$952,CALENDRIER!$B$4))/2)","v":0},{"$f":"(COUNTIF(CALENDRIER!AE$588:AE$952,CALENDRIER!$A$4))+((COUNTIF(CALENDRIER!AE$588:AE$952,CALENDRIER!$B$4))/2)","v":0},{"$f":"(COUNTIF(CALENDRIER!AF$588:AF$952,CALENDRIER!$A$4))+((COUNTIF(CALENDRIER!AF$588:AF$952,CALENDRIER!$B$4))/2)","v":0},{"$f":"(COUNTIF(CALENDRIER!AG$588:AG$952,CALENDRIER!$A$4))+((COUNTIF(CALENDRIER!AG$588:AG$952,CALENDRIER!$B$4))/2)","v":0},{"$f":"(COUNTIF(CALENDRIER!AH$588:AH$952,CALENDRIER!$A$4))+((COUNTIF(CALENDRIER!AH$588:AH$952,CALENDRIER!$B$4))/2)","v":0},{"$f":"(COUNTIF(CALENDRIER!AI$588:AI$952,CALENDRIER!$A$4))+((COUNTIF(CALENDRIER!AI$588:AI$952,CALENDRIER!$B$4))/2)","v":0},{"$f":"(COUNTIF(CALENDRIER!AJ$588:AJ$952,CALENDRIER!$A$4))+((COUNTIF(CALENDRIER!AJ$588:AJ$952,CALENDRIER!$B$4))/2)","v":0},{"$f":"(COUNTIF(CALENDRIER!AK$588:AK$952,CALENDRIER!$A$4))+((COUNTIF(CALENDRIER!AK$588:AK$952,CALENDRIER!$B$4))/2)","v":0},{"$f":"(COUNTIF(CALENDRIER!AL$588:AL$952,CALENDRIER!$A$4))+((COUNTIF(CALENDRIER!AL$588:AL$952,CALENDRIER!$B$4))/2)","v":0},{"$f":"(COUNTIF(CALENDRIER!AM$588:AM$952,CALENDRIER!$A$4))+((COUNTIF(CALENDRIER!AM$588:AM$952,CALENDRIER!$B$4))/2)","v":0},{"$f":"(COUNTIF(CALENDRIER!AN$588:AN$952,CALENDRIER!$A$4))+((COUNTIF(CALENDRIER!AN$588:AN$952,CALENDRIER!$B$4))/2)","v":0},{"$f":"(COUNTIF(CALENDRIER!AO$588:AO$952,CALENDRIER!$A$4))+((COUNTIF(CALENDRIER!AO$588:AO$952,CALENDRIER!$B$4))/2)","v":0},{"$f":"(COUNTIF(CALENDRIER!AP$588:AP$952,CALENDRIER!$A$4))+((COUNTIF(CALENDRIER!AP$588:AP$952,CALENDRIER!$B$4))/2)","v":0},{"$f":"(COUNTIF(CALENDRIER!AQ$588:AQ$952,CALENDRIER!$A$4))+((COUNTIF(CALENDRIER!AQ$588:AQ$952,CALENDRIER!$B$4))/2)","v":0},{"$f":"(COUNTIF(CALENDRIER!AR$588:AR$952,CALENDRIER!$A$4))+((COUNTIF(CALENDRIER!AR$588:AR$952,CALENDRIER!$B$4))/2)","v":0},{"$f":"(COUNTIF(CALENDRIER!AS$588:AS$952,CALENDRIER!$A$4))+((COUNTIF(CALENDRIER!AS$588:AS$952,CALENDRIER!$B$4))/2)","v":0},{"$f":"(COUNTIF(CALENDRIER!AT$588:AT$952,CALENDRIER!$A$4))+((COUNTIF(CALENDRIER!AT$588:AT$952,CALENDRIER!$B$4))/2)","v":0},{"$f":"(COUNTIF(CALENDRIER!AU$588:AU$952,CALENDRIER!$A$4))+((COUNTIF(CALENDRIER!AU$588:AU$952,CALENDRIER!$B$4))/2)","v":0},{"$f":"(COUNTIF(CALENDRIER!AV$588:AV$952,CALENDRIER!$A$4))+((COUNTIF(CALENDRIER!AV$588:AV$952,CALENDRIER!$B$4))/2)","v":0},{"$f":"(COUNTIF(CALENDRIER!AW$588:AW$952,CALENDRIER!$A$4))+((COUNTIF(CALENDRIER!AW$588:AW$952,CALENDRIER!$B$4))/2)","v":0},{"$f":"(COUNTIF(CALENDRIER!AX$588:AX$952,CALENDRIER!$A$4))+((COUNTIF(CALENDRIER!AX$588:AX$952,CALENDRIER!$B$4))/2)","v":0},{"$f":"(COUNTIF(CALENDRIER!AY$588:AY$952,CALENDRIER!$A$4))+((COUNTIF(CALENDRIER!AY$588:AY$952,CALENDRIER!$B$4))/2)","v":0},{"$f":"(COUNTIF(CALENDRIER!AZ$588:AZ$952,CALENDRIER!$A$4))+((COUNTIF(CALENDRIER!AZ$588:AZ$952,CALENDRIER!$B$4))/2)","v":0},{"$f":"(COUNTIF(CALENDRIER!BA$588:BA$952,CALENDRIER!$A$4))+((COUNTIF(CALENDRIER!BA$588:BA$952,CALENDRIER!$B$4))/2)","v":0},{"$f":"(COUNTIF(CALENDRIER!BB$588:BB$952,CALENDRIER!$A$4))+((COUNTIF(CALENDRIER!BB$588:BB$952,CALENDRIER!$B$4))/2)","v":0},{"$f":"(COUNTIF(CALENDRIER!BC$588:BC$952,CALENDRIER!$A$4))+((COUNTIF(CALENDRIER!BC$588:BC$952,CALENDRIER!$B$4))/2)","v":0},{"$f":"(COUNTIF(CALENDRIER!BD$588:BD$952,CALENDRIER!$A$4))+((COUNTIF(CALENDRIER!BD$588:BD$952,CALENDRIER!$B$4))/2)","v":0},{"$f":"(COUNTIF(CALENDRIER!BE$588:BE$952,CALENDRIER!$A$4))+((COUNTIF(CALENDRIER!BE$588:BE$952,CALENDRIER!$B$4))/2)","v":0},{"$f":"(COUNTIF(CALENDRIER!BF$588:BF$952,CALENDRIER!$A$4))+((COUNTIF(CALENDRIER!BF$588:BF$952,CALENDRIER!$B$4))/2)","v":0},{"$f":"(COUNTIF(CALENDRIER!BG$588:BG$952,CALENDRIER!$A$4))+((COUNTIF(CALENDRIER!BG$588:BG$952,CALENDRIER!$B$4))/2)","v":0},{"$f":"(COUNTIF(CALENDRIER!BH$588:BH$952,CALENDRIER!$A$4))+((COUNTIF(CALENDRIER!BH$588:BH$952,CALENDRIER!$B$4))/2)","v":0},{"$f":"(COUNTIF(CALENDRIER!BI$588:BI$952,CALENDRIER!$A$4))+((COUNTIF(CALENDRIER!BI$588:BI$952,CALENDRIER!$B$4))/2)","v":0},{"$f":"(COUNTIF(CALENDRIER!BJ$588:BJ$952,CALENDRIER!$A$4))+((COUNTIF(CALENDRIER!BJ$588:BJ$952,CALENDRIER!$B$4))/2)","v":0},{"$f":"(COUNTIF(CALENDRIER!BK$588:BK$952,CALENDRIER!$A$4))+((COUNTIF(CALENDRIER!BK$588:BK$952,CALENDRIER!$B$4))/2)","v":0},{"$f":"(COUNTIF(CALENDRIER!BL$588:BL$952,CALENDRIER!$A$4))+((COUNTIF(CALENDRIER!BL$588:BL$952,CALENDRIER!$B$4))/2)","v":0},{"$f":"(COUNTIF(CALENDRIER!BM$588:BM$952,CALENDRIER!$A$4))+((COUNTIF(CALENDRIER!BM$588:BM$952,CALENDRIER!$B$4))/2)","v":0},{"$f":"(COUNTIF(CALENDRIER!BN$588:BN$952,CALENDRIER!$A$4))+((COUNTIF(CALENDRIER!BN$588:BN$952,CALENDRIER!$B$4))/2)","v":0},{"$f":"(COUNTIF(CALENDRIER!BO$588:BO$952,CALENDRIER!$A$4))+((COUNTIF(CALENDRIER!BO$588:BO$952,CALENDRIER!$B$4))/2)","v":0},{"$f":"(COUNTIF(CALENDRIER!BP$588:BP$952,CALENDRIER!$A$4))+((COUNTIF(CALENDRIER!BP$588:BP$952,CALENDRIER!$B$4))/2)","v":0},{"$f":"(COUNTIF(CALENDRIER!BQ$588:BQ$952,CALENDRIER!$A$4))+((COUNTIF(CALENDRIER!BQ$588:BQ$952,CALENDRIER!$B$4))/2)","v":0},{"$f":"(COUNTIF(CALENDRIER!BR$588:BR$952,CALENDRIER!$A$4))+((COUNTIF(CALENDRIER!BR$588:BR$952,CALENDRIER!$B$4))/2)","v":0},{"$f":"(COUNTIF(CALENDRIER!BS$588:BS$952,CALENDRIER!$A$4))+((COUNTIF(CALENDRIER!BS$588:BS$952,CALENDRIER!$B$4))/2)","v":0},{"$f":"(COUNTIF(CALENDRIER!BT$588:BT$952,CALENDRIER!$A$4))+((COUNTIF(CALENDRIER!BT$588:BT$952,CALENDRIER!$B$4))/2)","v":0},{"$f":"(COUNTIF(CALENDRIER!BU$588:BU$952,CALENDRIER!$A$4))+((COUNTIF(CALENDRIER!BU$588:BU$952,CALENDRIER!$B$4))/2)","v":0},{"$f":"(COUNTIF(CALENDRIER!BV$588:BV$952,CALENDRIER!$A$4))+((COUNTIF(CALENDRIER!BV$588:BV$952,CALENDRIER!$B$4))/2)","v":0},{"$f":"(COUNTIF(CALENDRIER!BW$588:BW$952,CALENDRIER!$A$4))+((COUNTIF(CALENDRIER!BW$588:BW$952,CALENDRIER!$B$4))/2)","v":0},{"$f":"(COUNTIF(CALENDRIER!BX$588:BX$952,CALENDRIER!$A$4))+((COUNTIF(CALENDRIER!BX$588:BX$952,CALENDRIER!$B$4))/2)","v":0},{"$f":"(COUNTIF(CALENDRIER!BY$588:BY$952,CALENDRIER!$A$4))+((COUNTIF(CALENDRIER!BY$588:BY$952,CALENDRIER!$B$4))/2)","v":0},{"$f":"(COUNTIF(CALENDRIER!BZ$588:BZ$952,CALENDRIER!$A$4))+((COUNTIF(CALENDRIER!BZ$588:BZ$952,CALENDRIER!$B$4))/2)","v":0},{"$f":"(COUNTIF(CALENDRIER!CA$588:CA$952,CALENDRIER!$A$4))+((COUNTIF(CALENDRIER!CA$588:CA$952,CALENDRIER!$B$4))/2)","v":0},{"$f":"(COUNTIF(CALENDRIER!CB$588:CB$952,CALENDRIER!$A$4))+((COUNTIF(CALENDRIER!CB$588:CB$952,CALENDRIER!$B$4))/2)","v":0},{"$f":"(COUNTIF(CALENDRIER!CC$588:CC$952,CALENDRIER!$A$4))+((COUNTIF(CALENDRIER!CC$588:CC$952,CALENDRIER!$B$4))/2)","v":0},{"$f":"(COUNTIF(CALENDRIER!CD$588:CD$952,CALENDRIER!$A$4))+((COUNTIF(CALENDRIER!CD$588:CD$952,CALENDRIER!$B$4))/2)","v":0},{"$f":"(COUNTIF(CALENDRIER!CE$588:CE$952,CALENDRIER!$A$4))+((COUNTIF(CALENDRIER!CE$588:CE$952,CALENDRIER!$B$4))/2)","v":0},{"$f":"(COUNTIF(CALENDRIER!CF$588:CF$952,CALENDRIER!$A$4))+((COUNTIF(CALENDRIER!CF$588:CF$952,CALENDRIER!$B$4))/2)","v":0},{"$f":"(COUNTIF(CALENDRIER!CG$588:CG$952,CALENDRIER!$A$4))+((COUNTIF(CALENDRIER!CG$588:CG$952,CALENDRIER!$B$4))/2)","v":0},{"$f":"(COUNTIF(CALENDRIER!CH$588:CH$952,CALENDRIER!$A$4))+((COUNTIF(CALENDRIER!CH$588:CH$952,CALENDRIER!$B$4))/2)","v":0},{"$f":"(COUNTIF(CALENDRIER!CI$588:CI$952,CALENDRIER!$A$4))+((COUNTIF(CALENDRIER!CI$588:CI$952,CALENDRIER!$B$4))/2)","v":0},{"$f":"(COUNTIF(CALENDRIER!CJ$588:CJ$952,CALENDRIER!$A$4))+((COUNTIF(CALENDRIER!CJ$588:CJ$952,CALENDRIER!$B$4))/2)","v":0},{"$f":"(COUNTIF(CALENDRIER!CK$588:CK$952,CALENDRIER!$A$4))+((COUNTIF(CALENDRIER!CK$588:CK$952,CALENDRIER!$B$4))/2)","v":0},{"$f":"(COUNTIF(CALENDRIER!CL$588:CL$952,CALENDRIER!$A$4))+((COUNTIF(CALENDRIER!CL$588:CL$952,CALENDRIER!$B$4))/2)","v":0},{"$f":"(COUNTIF(CALENDRIER!CM$588:CM$952,CALENDRIER!$A$4))+((COUNTIF(CALENDRIER!CM$588:CM$952,CALENDRIER!$B$4))/2)","v":0},{"$f":"(COUNTIF(CALENDRIER!CN$588:CN$952,CALENDRIER!$A$4))+((COUNTIF(CALENDRIER!CN$588:CN$952,CALENDRIER!$B$4))/2)","v":0},{"$f":"(COUNTIF(CALENDRIER!CO$588:CO$952,CALENDRIER!$A$4))+((COUNTIF(CALENDRIER!CO$588:CO$952,CALENDRIER!$B$4))/2)","v":0},{"$f":"(COUNTIF(CALENDRIER!CP$588:CP$952,CALENDRIER!$A$4))+((COUNTIF(CALENDRIER!CP$588:CP$952,CALENDRIER!$B$4))/2)","v":0},{"$f":"(COUNTIF(CALENDRIER!CQ$588:CQ$952,CALENDRIER!$A$4))+((COUNTIF(CALENDRIER!CQ$588:CQ$952,CALENDRIER!$B$4))/2)","v":0},{"$f":"(COUNTIF(CALENDRIER!CR$588:CR$952,CALENDRIER!$A$4))+((COUNTIF(CALENDRIER!CR$588:CR$952,CALENDRIER!$B$4))/2)","v":0},{"$f":"(COUNTIF(CALENDRIER!CS$588:CS$952,CALENDRIER!$A$4))+((COUNTIF(CALENDRIER!CS$588:CS$952,CALENDRIER!$B$4))/2)","v":0},{"$f":"(COUNTIF(CALENDRIER!CT$588:CT$952,CALENDRIER!$A$4))+((COUNTIF(CALENDRIER!CT$588:CT$952,CALENDRIER!$B$4))/2)","v":0},{"$f":"(COUNTIF(CALENDRIER!CU$588:CU$952,CALENDRIER!$A$4))+((COUNTIF(CALENDRIER!CU$588:CU$952,CALENDRIER!$B$4))/2)","v":0},{"$f":"(COUNTIF(CALENDRIER!CV$588:CV$952,CALENDRIER!$A$4))+((COUNTIF(CALENDRIER!CV$588:CV$952,CALENDRIER!$B$4))/2)","v":0},{"$f":"(COUNTIF(CALENDRIER!CW$588:CW$952,CALENDRIER!$A$4))+((COUNTIF(CALENDRIER!CW$588:CW$952,CALENDRIER!$B$4))/2)","v":0},{"$f":"(COUNTIF(CALENDRIER!CX$588:CX$952,CALENDRIER!$A$4))+((COUNTIF(CALENDRIER!CX$588:CX$952,CALENDRIER!$B$4))/2)","v":0},{"$f":"(COUNTIF(CALENDRIER!CY$588:CY$952,CALENDRIER!$A$4))+((COUNTIF(CALENDRIER!CY$588:CY$952,CALENDRIER!$B$4))/2)","v":0},{"$f":"(COUNTIF(CALENDRIER!CZ$588:CZ$952,CALENDRIER!$A$4))+((COUNTIF(CALENDRIER!CZ$588:CZ$952,CALENDRIER!$B$4))/2)","v":0},{"$f":"(COUNTIF(CALENDRIER!DA$588:DA$952,CALENDRIER!$A$4))+((COUNTIF(CALENDRIER!DA$588:DA$952,CALENDRIER!$B$4))/2)","v":0},{"$f":"(COUNTIF(CALENDRIER!DB$588:DB$952,CALENDRIER!$A$4))+((COUNTIF(CALENDRIER!DB$588:DB$952,CALENDRIER!$B$4))/2)","v":0},{"$f":"(COUNTIF(CALENDRIER!DC$588:DC$952,CALENDRIER!$A$4))+((COUNTIF(CALENDRIER!DC$588:DC$952,CALENDRIER!$B$4))/2)","v":0},{"$f":"(COUNTIF(CALENDRIER!DD$588:DD$952,CALENDRIER!$A$4))+((COUNTIF(CALENDRIER!DD$588:DD$952,CALENDRIER!$B$4))/2)","v":0},{"$f":"(COUNTIF(CALENDRIER!DE$588:DE$952,CALENDRIER!$A$4))+((COUNTIF(CALENDRIER!DE$588:DE$952,CALENDRIER!$B$4))/2)","v":0},{"$f":"(COUNTIF(CALENDRIER!DF$588:DF$952,CALENDRIER!$A$4))+((COUNTIF(CALENDRIER!DF$588:DF$952,CALENDRIER!$B$4))/2)","v":0},{"$f":"(COUNTIF(CALENDRIER!DG$588:DG$952,CALENDRIER!$A$4))+((COUNTIF(CALENDRIER!DG$588:DG$952,CALENDRIER!$B$4))/2)","v":0},{"$f":"(COUNTIF(CALENDRIER!DH$588:DH$952,CALENDRIER!$A$4))+((COUNTIF(CALENDRIER!DH$588:DH$952,CALENDRIER!$B$4))/2)","v":0},{"$f":"(COUNTIF(CALENDRIER!DI$588:DI$952,CALENDRIER!$A$4))+((COUNTIF(CALENDRIER!DI$588:DI$952,CALENDRIER!$B$4))/2)","v":0},{"$f":"(COUNTIF(CALENDRIER!DJ$588:DJ$952,CALENDRIER!$A$4))+((COUNTIF(CALENDRIER!DJ$588:DJ$952,CALENDRIER!$B$4))/2)","v":0},{"$f":"(COUNTIF(CALENDRIER!DK$588:DK$952,CALENDRIER!$A$4))+((COUNTIF(CALENDRIER!DK$588:DK$952,CALENDRIER!$B$4))/2)","v":0},{"$f":"(COUNTIF(CALENDRIER!DL$588:DL$952,CALENDRIER!$A$4))+((COUNTIF(CALENDRIER!DL$588:DL$952,CALENDRIER!$B$4))/2)","v":0},{"$f":"(COUNTIF(CALENDRIER!DM$588:DM$952,CALENDRIER!$A$4))+((COUNTIF(CALENDRIER!DM$588:DM$952,CALENDRIER!$B$4))/2)","v":0},{"$f":"(COUNTIF(CALENDRIER!DN$588:DN$952,CALENDRIER!$A$4))+((COUNTIF(CALENDRIER!DN$588:DN$952,CALENDRIER!$B$4))/2)","v":0},{"$f":"(COUNTIF(CALENDRIER!DO$588:DO$952,CALENDRIER!$A$4))+((COUNTIF(CALENDRIER!DO$588:DO$952,CALENDRIER!$B$4))/2)","v":0},{"$f":"(COUNTIF(CALENDRIER!DP$588:DP$952,CALENDRIER!$A$4))+((COUNTIF(CALENDRIER!DP$588:DP$952,CALENDRIER!$B$4))/2)","v":0},{"$f":"(COUNTIF(CALENDRIER!DQ$588:DQ$952,CALENDRIER!$A$4))+((COUNTIF(CALENDRIER!DQ$588:DQ$952,CALENDRIER!$B$4))/2)","v":0},{"$f":"(COUNTIF(CALENDRIER!DR$588:DR$952,CALENDRIER!$A$4))+((COUNTIF(CALENDRIER!DR$588:DR$952,CALENDRIER!$B$4))/2)","v":0},{"$f":"(COUNTIF(CALENDRIER!DS$588:DS$952,CALENDRIER!$A$4))+((COUNTIF(CALENDRIER!DS$588:DS$952,CALENDRIER!$B$4))/2)","v":0},{"$f":"(COUNTIF(CALENDRIER!DT$588:DT$952,CALENDRIER!$A$4))+((COUNTIF(CALENDRIER!DT$588:DT$952,CALENDRIER!$B$4))/2)","v":0},{"$f":"(COUNTIF(CALENDRIER!DU$588:DU$952,CALENDRIER!$A$4))+((COUNTIF(CALENDRIER!DU$588:DU$952,CALENDRIER!$B$4))/2)","v":0},{"$f":"(COUNTIF(CALENDRIER!DV$588:DV$952,CALENDRIER!$A$4))+((COUNTIF(CALENDRIER!DV$588:DV$952,CALENDRIER!$B$4))/2)","v":0},{"$f":"(COUNTIF(CALENDRIER!DW$588:DW$952,CALENDRIER!$A$4))+((COUNTIF(CALENDRIER!DW$588:DW$952,CALENDRIER!$B$4))/2)","v":0},{"$f":"(COUNTIF(CALENDRIER!DX$588:DX$952,CALENDRIER!$A$4))+((COUNTIF(CALENDRIER!DX$588:DX$952,CALENDRIER!$B$4))/2)","v":0},{"$f":"(COUNTIF(CALENDRIER!DY$588:DY$952,CALENDRIER!$A$4))+((COUNTIF(CALENDRIER!DY$588:DY$952,CALENDRIER!$B$4))/2)","v":0},{"$f":"(COUNTIF(CALENDRIER!DZ$588:DZ$952,CALENDRIER!$A$4))+((COUNTIF(CALENDRIER!DZ$588:DZ$952,CALENDRIER!$B$4))/2)","v":0},{"$f":"(COUNTIF(CALENDRIER!EA$588:EA$952,CALENDRIER!$A$4))+((COUNTIF(CALENDRIER!EA$588:EA$952,CALENDRIER!$B$4))/2)","v":0},{"$f":"(COUNTIF(CALENDRIER!EB$588:EB$952,CALENDRIER!$A$4))+((COUNTIF(CALENDRIER!EB$588:EB$952,CALENDRIER!$B$4))/2)","v":0},{"$f":"(COUNTIF(CALENDRIER!EC$588:EC$952,CALENDRIER!$A$4))+((COUNTIF(CALENDRIER!EC$588:EC$952,CALENDRIER!$B$4))/2)","v":0},{"$f":"(COUNTIF(CALENDRIER!ED$588:ED$952,CALENDRIER!$A$4))+((COUNTIF(CALENDRIER!ED$588:ED$952,CALENDRIER!$B$4))/2)","v":0},{"$f":"(COUNTIF(CALENDRIER!EE$588:EE$952,CALENDRIER!$A$4))+((COUNTIF(CALENDRIER!EE$588:EE$952,CALENDRIER!$B$4))/2)","v":0},{"$f":"(COUNTIF(CALENDRIER!EF$588:EF$952,CALENDRIER!$A$4))+((COUNTIF(CALENDRIER!EF$588:EF$952,CALENDRIER!$B$4))/2)","v":0},{"$f":"(COUNTIF(CALENDRIER!EG$588:EG$952,CALENDRIER!$A$4))+((COUNTIF(CALENDRIER!EG$588:EG$952,CALENDRIER!$B$4))/2)","v":0},{"$f":"(COUNTIF(CALENDRIER!EH$588:EH$952,CALENDRIER!$A$4))+((COUNTIF(CALENDRIER!EH$588:EH$952,CALENDRIER!$B$4))/2)","v":0},{"$f":"(COUNTIF(CALENDRIER!EI$588:EI$952,CALENDRIER!$A$4))+((COUNTIF(CALENDRIER!EI$588:EI$952,CALENDRIER!$B$4))/2)","v":0},{"$f":"(COUNTIF(CALENDRIER!EJ$588:EJ$952,CALENDRIER!$A$4))+((COUNTIF(CALENDRIER!EJ$588:EJ$952,CALENDRIER!$B$4))/2)","v":0},{"$f":"(COUNTIF(CALENDRIER!EK$588:EK$952,CALENDRIER!$A$4))+((COUNTIF(CALENDRIER!EK$588:EK$952,CALENDRIER!$B$4))/2)","v":0},{"$f":"(COUNTIF(CALENDRIER!EL$588:EL$952,CALENDRIER!$A$4))+((COUNTIF(CALENDRIER!EL$588:EL$952,CALENDRIER!$B$4))/2)","v":0},{"$f":"(COUNTIF(CALENDRIER!EM$588:EM$952,CALENDRIER!$A$4))+((COUNTIF(CALENDRIER!EM$588:EM$952,CALENDRIER!$B$4))/2)","v":0},{"$f":"(COUNTIF(CALENDRIER!EN$588:EN$952,CALENDRIER!$A$4))+((COUNTIF(CALENDRIER!EN$588:EN$952,CALENDRIER!$B$4))/2)","v":0},{"$f":"(COUNTIF(CALENDRIER!EO$588:EO$952,CALENDRIER!$A$4))+((COUNTIF(CALENDRIER!EO$588:EO$952,CALENDRIER!$B$4))/2)","v":0},{"$f":"(COUNTIF(CALENDRIER!EP$588:EP$952,CALENDRIER!$A$4))+((COUNTIF(CALENDRIER!EP$588:EP$952,CALENDRIER!$B$4))/2)","v":0},{"$f":"(COUNTIF(CALENDRIER!EQ$588:EQ$952,CALENDRIER!$A$4))+((COUNTIF(CALENDRIER!EQ$588:EQ$952,CALENDRIER!$B$4))/2)","v":0},{"$f":"(COUNTIF(CALENDRIER!ER$588:ER$952,CALENDRIER!$A$4))+((COUNTIF(CALENDRIER!ER$588:ER$952,CALENDRIER!$B$4))/2)","v":0},{"$f":"(COUNTIF(CALENDRIER!ES$588:ES$952,CALENDRIER!$A$4))+((COUNTIF(CALENDRIER!ES$588:ES$952,CALENDRIER!$B$4))/2)","v":0},{"$f":"(COUNTIF(CALENDRIER!ET$588:ET$952,CALENDRIER!$A$4))+((COUNTIF(CALENDRIER!ET$588:ET$952,CALENDRIER!$B$4))/2)","v":0},{"$f":"(COUNTIF(CALENDRIER!EU$588:EU$952,CALENDRIER!$A$4))+((COUNTIF(CALENDRIER!EU$588:EU$952,CALENDRIER!$B$4))/2)","v":0},{"$f":"(COUNTIF(CALENDRIER!EV$588:EV$952,CALENDRIER!$A$4))+((COUNTIF(CALENDRIER!EV$588:EV$952,CALENDRIER!$B$4))/2)","v":0},{"$f":"(COUNTIF(CALENDRIER!EW$588:EW$952,CALENDRIER!$A$4))+((COUNTIF(CALENDRIER!EW$588:EW$952,CALENDRIER!$B$4))/2)","v":0},{"$f":"(COUNTIF(CALENDRIER!EX$588:EX$952,CALENDRIER!$A$4))+((COUNTIF(CALENDRIER!EX$588:EX$952,CALENDRIER!$B$4))/2)","v":0},{"$f":"(COUNTIF(CALENDRIER!EY$588:EY$952,CALENDRIER!$A$4))+((COUNTIF(CALENDRIER!EY$588:EY$952,CALENDRIER!$B$4))/2)","v":0},{"$f":"(COUNTIF(CALENDRIER!EZ$588:EZ$952,CALENDRIER!$A$4))+((COUNTIF(CALENDRIER!EZ$588:EZ$952,CALENDRIER!$B$4))/2)","v":0},{"$f":"(COUNTIF(CALENDRIER!FA$588:FA$952,CALENDRIER!$A$4))+((COUNTIF(CALENDRIER!FA$588:FA$952,CALENDRIER!$B$4))/2)","v":0},{"$f":"(COUNTIF(CALENDRIER!FB$588:FB$952,CALENDRIER!$A$4))+((COUNTIF(CALENDRIER!FB$588:FB$952,CALENDRIER!$B$4))/2)","v":0},{"$f":"(COUNTIF(CALENDRIER!FC$588:FC$952,CALENDRIER!$A$4))+((COUNTIF(CALENDRIER!FC$588:FC$952,CALENDRIER!$B$4))/2)","v":0},{"$f":"(COUNTIF(CALENDRIER!FD$588:FD$952,CALENDRIER!$A$4))+((COUNTIF(CALENDRIER!FD$588:FD$952,CALENDRIER!$B$4))/2)","v":0},{"$f":"(COUNTIF(CALENDRIER!FE$588:FE$952,CALENDRIER!$A$4))+((COUNTIF(CALENDRIER!FE$588:FE$952,CALENDRIER!$B$4))/2)","v":0},{"$f":"(COUNTIF(CALENDRIER!FF$588:FF$952,CALENDRIER!$A$4))+((COUNTIF(CALENDRIER!FF$588:FF$952,CALENDRIER!$B$4))/2)","v":0},{"$f":"(COUNTIF(CALENDRIER!FG$588:FG$952,CALENDRIER!$A$4))+((COUNTIF(CALENDRIER!FG$588:FG$952,CALENDRIER!$B$4))/2)","v":0},{"$f":"(COUNTIF(CALENDRIER!FH$588:FH$952,CALENDRIER!$A$4))+((COUNTIF(CALENDRIER!FH$588:FH$952,CALENDRIER!$B$4))/2)","v":0},{"$f":"(COUNTIF(CALENDRIER!FI$588:FI$952,CALENDRIER!$A$4))+((COUNTIF(CALENDRIER!FI$588:FI$952,CALENDRIER!$B$4))/2)","v":0},{"$f":"(COUNTIF(CALENDRIER!FJ$588:FJ$952,CALENDRIER!$A$4))+((COUNTIF(CALENDRIER!FJ$588:FJ$952,CALENDRIER!$B$4))/2)","v":0},{"$f":"(COUNTIF(CALENDRIER!FK$588:FK$952,CALENDRIER!$A$4))+((COUNTIF(CALENDRIER!FK$588:FK$952,CALENDRIER!$B$4))/2)","v":0},{"$f":"(COUNTIF(CALENDRIER!FL$588:FL$952,CALENDRIER!$A$4))+((COUNTIF(CALENDRIER!FL$588:FL$952,CALENDRIER!$B$4))/2)","v":0},{"$f":"(COUNTIF(CALENDRIER!FM$588:FM$952,CALENDRIER!$A$4))+((COUNTIF(CALENDRIER!FM$588:FM$952,CALENDRIER!$B$4))/2)","v":0},{"$f":"(COUNTIF(CALENDRIER!FN$588:FN$952,CALENDRIER!$A$4))+((COUNTIF(CALENDRIER!FN$588:FN$952,CALENDRIER!$B$4))/2)","v":0},{"$f":"(COUNTIF(CALENDRIER!FO$588:FO$952,CALENDRIER!$A$4))+((COUNTIF(CALENDRIER!FO$588:FO$952,CALENDRIER!$B$4))/2)","v":0},{"$f":"(COUNTIF(CALENDRIER!FP$588:FP$952,CALENDRIER!$A$4))+((COUNTIF(CALENDRIER!FP$588:FP$952,CALENDRIER!$B$4))/2)","v":0},{"$f":"(COUNTIF(CALENDRIER!FQ$588:FQ$952,CALENDRIER!$A$4))+((COUNTIF(CALENDRIER!FQ$588:FQ$952,CALENDRIER!$B$4))/2)","v":0},{"$f":"(COUNTIF(CALENDRIER!FR$588:FR$952,CALENDRIER!$A$4))+((COUNTIF(CALENDRIER!FR$588:FR$952,CALENDRIER!$B$4))/2)","v":0},{"$f":"(COUNTIF(CALENDRIER!FS$588:FS$952,CALENDRIER!$A$4))+((COUNTIF(CALENDRIER!FS$588:FS$952,CALENDRIER!$B$4))/2)","v":0},{"$f":"(COUNTIF(CALENDRIER!FT$588:FT$952,CALENDRIER!$A$4))+((COUNTIF(CALENDRIER!FT$588:FT$952,CALENDRIER!$B$4))/2)","v":0},{"$f":"(COUNTIF(CALENDRIER!FU$588:FU$952,CALENDRIER!$A$4))+((COUNTIF(CALENDRIER!FU$588:FU$952,CALENDRIER!$B$4))/2)","v":0},{"$f":"(COUNTIF(CALENDRIER!FV$588:FV$952,CALENDRIER!$A$4))+((COUNTIF(CALENDRIER!FV$588:FV$952,CALENDRIER!$B$4))/2)","v":0},{"$f":"(COUNTIF(CALENDRIER!FW$588:FW$952,CALENDRIER!$A$4))+((COUNTIF(CALENDRIER!FW$588:FW$952,CALENDRIER!$B$4))/2)","v":0},{"$f":"(COUNTIF(CALENDRIER!FX$588:FX$952,CALENDRIER!$A$4))+((COUNTIF(CALENDRIER!FX$588:FX$952,CALENDRIER!$B$4))/2)","v":0},{"$f":"(COUNTIF(CALENDRIER!FY$588:FY$952,CALENDRIER!$A$4))+((COUNTIF(CALENDRIER!FY$588:FY$952,CALENDRIER!$B$4))/2)","v":0},{"$f":"(COUNTIF(CALENDRIER!FZ$588:FZ$952,CALENDRIER!$A$4))+((COUNTIF(CALENDRIER!FZ$588:FZ$952,CALENDRIER!$B$4))/2)","v":0},{"$f":"(COUNTIF(CALENDRIER!GA$588:GA$952,CALENDRIER!$A$4))+((COUNTIF(CALENDRIER!GA$588:GA$952,CALENDRIER!$B$4))/2)","v":0},{"$f":"(COUNTIF(CALENDRIER!GB$588:GB$952,CALENDRIER!$A$4))+((COUNTIF(CALENDRIER!GB$588:GB$952,CALENDRIER!$B$4))/2)","v":0},{"$f":"(COUNTIF(CALENDRIER!GC$588:GC$952,CALENDRIER!$A$4))+((COUNTIF(CALENDRIER!GC$588:GC$952,CALENDRIER!$B$4))/2)","v":0},{"$f":"(COUNTIF(CALENDRIER!GD$588:GD$952,CALENDRIER!$A$4))+((COUNTIF(CALENDRIER!GD$588:GD$952,CALENDRIER!$B$4))/2)","v":0},{"$f":"(COUNTIF(CALENDRIER!GE$588:GE$952,CALENDRIER!$A$4))+((COUNTIF(CALENDRIER!GE$588:GE$952,CALENDRIER!$B$4))/2)","v":0},{"$f":"(COUNTIF(CALENDRIER!GF$588:GF$952,CALENDRIER!$A$4))+((COUNTIF(CALENDRIER!GF$588:GF$952,CALENDRIER!$B$4))/2)","v":0},{"$f":"(COUNTIF(CALENDRIER!GG$588:GG$952,CALENDRIER!$A$4))+((COUNTIF(CALENDRIER!GG$588:GG$952,CALENDRIER!$B$4))/2)","v":0},{"$f":"(COUNTIF(CALENDRIER!GH$588:GH$952,CALENDRIER!$A$4))+((COUNTIF(CALENDRIER!GH$588:GH$952,CALENDRIER!$B$4))/2)","v":0},{"$f":"(COUNTIF(CALENDRIER!GI$588:GI$952,CALENDRIER!$A$4))+((COUNTIF(CALENDRIER!GI$588:GI$952,CALENDRIER!$B$4))/2)","v":0},{"$f":"(COUNTIF(CALENDRIER!GJ$588:GJ$952,CALENDRIER!$A$4))+((COUNTIF(CALENDRIER!GJ$588:GJ$952,CALENDRIER!$B$4))/2)","v":0},{"$f":"(COUNTIF(CALENDRIER!GK$588:GK$952,CALENDRIER!$A$4))+((COUNTIF(CALENDRIER!GK$588:GK$952,CALENDRIER!$B$4))/2)","v":0},{"$f":"(COUNTIF(CALENDRIER!GL$588:GL$952,CALENDRIER!$A$4))+((COUNTIF(CALENDRIER!GL$588:GL$952,CALENDRIER!$B$4))/2)","v":0},{"$f":"(COUNTIF(CALENDRIER!GM$588:GM$952,CALENDRIER!$A$4))+((COUNTIF(CALENDRIER!GM$588:GM$952,CALENDRIER!$B$4))/2)","v":0},{"$f":"(COUNTIF(CALENDRIER!GN$588:GN$952,CALENDRIER!$A$4))+((COUNTIF(CALENDRIER!GN$588:GN$952,CALENDRIER!$B$4))/2)","v":0},{"$f":"(COUNTIF(CALENDRIER!GO$588:GO$952,CALENDRIER!$A$4))+((COUNTIF(CALENDRIER!GO$588:GO$952,CALENDRIER!$B$4))/2)","v":0},{"$f":"(COUNTIF(CALENDRIER!GP$588:GP$952,CALENDRIER!$A$4))+((COUNTIF(CALENDRIER!GP$588:GP$952,CALENDRIER!$B$4))/2)","v":0},{"$f":"(COUNTIF(CALENDRIER!GQ$588:GQ$952,CALENDRIER!$A$4))+((COUNTIF(CALENDRIER!GQ$588:GQ$952,CALENDRIER!$B$4))/2)","v":0},{"$f":"(COUNTIF(CALENDRIER!GR$588:GR$952,CALENDRIER!$A$4))+((COUNTIF(CALENDRIER!GR$588:GR$952,CALENDRIER!$B$4))/2)","v":0}]
[null,{"$f":"\"Solde \"&CALENDRIER!$A$4&\" \"&A164&\" : \"","v":"Solde … 2017 : "},{"$f":"C165-C166","v":0},{"$f":"D165-D166","v":0},0,0,0,0,0,0,0,0,0,0,0,0,0,0,0,0,0,0,0,0,0,0,0,0,0,0,0,0,0,0,0,0,0,0,0,0,0,0,0,0,0,0,0,0,0,0,0,0,0,0,0,0,0,0,0,0,0,0,0,0,0,0,0,{"$f":"BP165-BP166","v":0},0,0,0,0,0,0,0,0,0,0,0,0,0,0,0,0,0,0,0,0,0,0,0,0,0,0,0,0,0,0,0,0,0,0,0,0,0,0,0,0,0,0,0,0,0,0,0,0,0,0,0,0,0,0,0,0,0,0,0,0,0,0,0,{"$f":"EB165-EB166","v":0},0,0,0,0,0,0,0,0,0,0,0,0,0,0,0,0,0,0,0,0,0,0,0,0,0,0,0,0,0,0,0,0,0,0,0,0,0,0,0,0,0,0,0,0,0,0,0,0,0,0,0,0,0,0,0,0,0,0,0,0,0,0,0,{"$f":"GN165-GN166","v":0},0,0,0,0]
[]
[2018,{"$f":"CALENDRIER!$A$4","v":"…"}]
[null,"SOLDE DEPART"]
[null,{"$f":"CALENDRIER!$A$4&\" PRIS\"","v":"… PRIS"},{"$f":"(COUNTIF(CALENDRIER!C$953:C$1317,CALENDRIER!$A$4))+((COUNTIF(CALENDRIER!C$953:C$1317,CALENDRIER!$B$4))/2)","v":0},{"$f":"(COUNTIF(CALENDRIER!D$953:D$1317,CALENDRIER!$A$4))+((COUNTIF(CALENDRIER!D$953:D$1317,CALENDRIER!$B$4))/2)","v":0},{"$f":"(COUNTIF(CALENDRIER!E$953:E$1317,CALENDRIER!$A$4))+((COUNTIF(CALENDRIER!E$953:E$1317,CALENDRIER!$B$4))/2)","v":0},{"$f":"(COUNTIF(CALENDRIER!F$953:F$1317,CALENDRIER!$A$4))+((COUNTIF(CALENDRIER!F$953:F$1317,CALENDRIER!$B$4))/2)","v":0},{"$f":"(COUNTIF(CALENDRIER!G$953:G$1317,CALENDRIER!$A$4))+((COUNTIF(CALENDRIER!G$953:G$1317,CALENDRIER!$B$4))/2)","v":0},{"$f":"(COUNTIF(CALENDRIER!H$953:H$1317,CALENDRIER!$A$4))+((COUNTIF(CALENDRIER!H$953:H$1317,CALENDRIER!$B$4))/2)","v":0},{"$f":"(COUNTIF(CALENDRIER!I$953:I$1317,CALENDRIER!$A$4))+((COUNTIF(CALENDRIER!I$953:I$1317,CALENDRIER!$B$4))/2)","v":0},{"$f":"(COUNTIF(CALENDRIER!J$953:J$1317,CALENDRIER!$A$4))+((COUNTIF(CALENDRIER!J$953:J$1317,CALENDRIER!$B$4))/2)","v":0},{"$f":"(COUNTIF(CALENDRIER!K$953:K$1317,CALENDRIER!$A$4))+((COUNTIF(CALENDRIER!K$953:K$1317,CALENDRIER!$B$4))/2)","v":0},{"$f":"(COUNTIF(CALENDRIER!L$953:L$1317,CALENDRIER!$A$4))+((COUNTIF(CALENDRIER!L$953:L$1317,CALENDRIER!$B$4))/2)","v":0},{"$f":"(COUNTIF(CALENDRIER!M$953:M$1317,CALENDRIER!$A$4))+((COUNTIF(CALENDRIER!M$953:M$1317,CALENDRIER!$B$4))/2)","v":0},{"$f":"(COUNTIF(CALENDRIER!N$953:N$1317,CALENDRIER!$A$4))+((COUNTIF(CALENDRIER!N$953:N$1317,CALENDRIER!$B$4))/2)","v":0},{"$f":"(COUNTIF(CALENDRIER!O$953:O$1317,CALENDRIER!$A$4))+((COUNTIF(CALENDRIER!O$953:O$1317,CALENDRIER!$B$4))/2)","v":0},{"$f":"(COUNTIF(CALENDRIER!P$953:P$1317,CALENDRIER!$A$4))+((COUNTIF(CALENDRIER!P$953:P$1317,CALENDRIER!$B$4))/2)","v":0},{"$f":"(COUNTIF(CALENDRIER!Q$953:Q$1317,CALENDRIER!$A$4))+((COUNTIF(CALENDRIER!Q$953:Q$1317,CALENDRIER!$B$4))/2)","v":0},{"$f":"(COUNTIF(CALENDRIER!R$953:R$1317,CALENDRIER!$A$4))+((COUNTIF(CALENDRIER!R$953:R$1317,CALENDRIER!$B$4))/2)","v":0},{"$f":"(COUNTIF(CALENDRIER!S$953:S$1317,CALENDRIER!$A$4))+((COUNTIF(CALENDRIER!S$953:S$1317,CALENDRIER!$B$4))/2)","v":0},{"$f":"(COUNTIF(CALENDRIER!T$953:T$1317,CALENDRIER!$A$4))+((COUNTIF(CALENDRIER!T$953:T$1317,CALENDRIER!$B$4))/2)","v":0},{"$f":"(COUNTIF(CALENDRIER!U$953:U$1317,CALENDRIER!$A$4))+((COUNTIF(CALENDRIER!U$953:U$1317,CALENDRIER!$B$4))/2)","v":0},{"$f":"(COUNTIF(CALENDRIER!V$953:V$1317,CALENDRIER!$A$4))+((COUNTIF(CALENDRIER!V$953:V$1317,CALENDRIER!$B$4))/2)","v":0},{"$f":"(COUNTIF(CALENDRIER!W$953:W$1317,CALENDRIER!$A$4))+((COUNTIF(CALENDRIER!W$953:W$1317,CALENDRIER!$B$4))/2)","v":0},{"$f":"(COUNTIF(CALENDRIER!X$953:X$1317,CALENDRIER!$A$4))+((COUNTIF(CALENDRIER!X$953:X$1317,CALENDRIER!$B$4))/2)","v":0},{"$f":"(COUNTIF(CALENDRIER!Y$953:Y$1317,CALENDRIER!$A$4))+((COUNTIF(CALENDRIER!Y$953:Y$1317,CALENDRIER!$B$4))/2)","v":0},{"$f":"(COUNTIF(CALENDRIER!Z$953:Z$1317,CALENDRIER!$A$4))+((COUNTIF(CALENDRIER!Z$953:Z$1317,CALENDRIER!$B$4))/2)","v":0},{"$f":"(COUNTIF(CALENDRIER!AA$953:AA$1317,CALENDRIER!$A$4))+((COUNTIF(CALENDRIER!AA$953:AA$1317,CALENDRIER!$B$4))/2)","v":0},{"$f":"(COUNTIF(CALENDRIER!AB$953:AB$1317,CALENDRIER!$A$4))+((COUNTIF(CALENDRIER!AB$953:AB$1317,CALENDRIER!$B$4))/2)","v":0},{"$f":"(COUNTIF(CALENDRIER!AC$953:AC$1317,CALENDRIER!$A$4))+((COUNTIF(CALENDRIER!AC$953:AC$1317,CALENDRIER!$B$4))/2)","v":0},{"$f":"(COUNTIF(CALENDRIER!AD$953:AD$1317,CALENDRIER!$A$4))+((COUNTIF(CALENDRIER!AD$953:AD$1317,CALENDRIER!$B$4))/2)","v":0},{"$f":"(COUNTIF(CALENDRIER!AE$953:AE$1317,CALENDRIER!$A$4))+((COUNTIF(CALENDRIER!AE$953:AE$1317,CALENDRIER!$B$4))/2)","v":0},{"$f":"(COUNTIF(CALENDRIER!AF$953:AF$1317,CALENDRIER!$A$4))+((COUNTIF(CALENDRIER!AF$953:AF$1317,CALENDRIER!$B$4))/2)","v":0},{"$f":"(COUNTIF(CALENDRIER!AG$953:AG$1317,CALENDRIER!$A$4))+((COUNTIF(CALENDRIER!AG$953:AG$1317,CALENDRIER!$B$4))/2)","v":0},{"$f":"(COUNTIF(CALENDRIER!AH$953:AH$1317,CALENDRIER!$A$4))+((COUNTIF(CALENDRIER!AH$953:AH$1317,CALENDRIER!$B$4))/2)","v":0},{"$f":"(COUNTIF(CALENDRIER!AI$953:AI$1317,CALENDRIER!$A$4))+((COUNTIF(CALENDRIER!AI$953:AI$1317,CALENDRIER!$B$4))/2)","v":0},{"$f":"(COUNTIF(CALENDRIER!AJ$953:AJ$1317,CALENDRIER!$A$4))+((COUNTIF(CALENDRIER!AJ$953:AJ$1317,CALENDRIER!$B$4))/2)","v":0},{"$f":"(COUNTIF(CALENDRIER!AK$953:AK$1317,CALENDRIER!$A$4))+((COUNTIF(CALENDRIER!AK$953:AK$1317,CALENDRIER!$B$4))/2)","v":0},{"$f":"(COUNTIF(CALENDRIER!AL$953:AL$1317,CALENDRIER!$A$4))+((COUNTIF(CALENDRIER!AL$953:AL$1317,CALENDRIER!$B$4))/2)","v":0},{"$f":"(COUNTIF(CALENDRIER!AM$953:AM$1317,CALENDRIER!$A$4))+((COUNTIF(CALENDRIER!AM$953:AM$1317,CALENDRIER!$B$4))/2)","v":0},{"$f":"(COUNTIF(CALENDRIER!AN$953:AN$1317,CALENDRIER!$A$4))+((COUNTIF(CALENDRIER!AN$953:AN$1317,CALENDRIER!$B$4))/2)","v":0},{"$f":"(COUNTIF(CALENDRIER!AO$953:AO$1317,CALENDRIER!$A$4))+((COUNTIF(CALENDRIER!AO$953:AO$1317,CALENDRIER!$B$4))/2)","v":0},{"$f":"(COUNTIF(CALENDRIER!AP$953:AP$1317,CALENDRIER!$A$4))+((COUNTIF(CALENDRIER!AP$953:AP$1317,CALENDRIER!$B$4))/2)","v":0},{"$f":"(COUNTIF(CALENDRIER!AQ$953:AQ$1317,CALENDRIER!$A$4))+((COUNTIF(CALENDRIER!AQ$953:AQ$1317,CALENDRIER!$B$4))/2)","v":0},{"$f":"(COUNTIF(CALENDRIER!AR$953:AR$1317,CALENDRIER!$A$4))+((COUNTIF(CALENDRIER!AR$953:AR$1317,CALENDRIER!$B$4))/2)","v":0},{"$f":"(COUNTIF(CALENDRIER!AS$953:AS$1317,CALENDRIER!$A$4))+((COUNTIF(CALENDRIER!AS$953:AS$1317,CALENDRIER!$B$4))/2)","v":0},{"$f":"(COUNTIF(CALENDRIER!AT$953:AT$1317,CALENDRIER!$A$4))+((COUNTIF(CALENDRIER!AT$953:AT$1317,CALENDRIER!$B$4))/2)","v":0},{"$f":"(COUNTIF(CALENDRIER!AU$953:AU$1317,CALENDRIER!$A$4))+((COUNTIF(CALENDRIER!AU$953:AU$1317,CALENDRIER!$B$4))/2)","v":0},{"$f":"(COUNTIF(CALENDRIER!AV$953:AV$1317,CALENDRIER!$A$4))+((COUNTIF(CALENDRIER!AV$953:AV$1317,CALENDRIER!$B$4))/2)","v":0},{"$f":"(COUNTIF(CALENDRIER!AW$953:AW$1317,CALENDRIER!$A$4))+((COUNTIF(CALENDRIER!AW$953:AW$1317,CALENDRIER!$B$4))/2)","v":0},{"$f":"(COUNTIF(CALENDRIER!AX$953:AX$1317,CALENDRIER!$A$4))+((COUNTIF(CALENDRIER!AX$953:AX$1317,CALENDRIER!$B$4))/2)","v":0},{"$f":"(COUNTIF(CALENDRIER!AY$953:AY$1317,CALENDRIER!$A$4))+((COUNTIF(CALENDRIER!AY$953:AY$1317,CALENDRIER!$B$4))/2)","v":0},{"$f":"(COUNTIF(CALENDRIER!AZ$953:AZ$1317,CALENDRIER!$A$4))+((COUNTIF(CALENDRIER!AZ$953:AZ$1317,CALENDRIER!$B$4))/2)","v":0},{"$f":"(COUNTIF(CALENDRIER!BA$953:BA$1317,CALENDRIER!$A$4))+((COUNTIF(CALENDRIER!BA$953:BA$1317,CALENDRIER!$B$4))/2)","v":0},{"$f":"(COUNTIF(CALENDRIER!BB$953:BB$1317,CALENDRIER!$A$4))+((COUNTIF(CALENDRIER!BB$953:BB$1317,CALENDRIER!$B$4))/2)","v":0},{"$f":"(COUNTIF(CALENDRIER!BC$953:BC$1317,CALENDRIER!$A$4))+((COUNTIF(CALENDRIER!BC$953:BC$1317,CALENDRIER!$B$4))/2)","v":0},{"$f":"(COUNTIF(CALENDRIER!BD$953:BD$1317,CALENDRIER!$A$4))+((COUNTIF(CALENDRIER!BD$953:BD$1317,CALENDRIER!$B$4))/2)","v":0},{"$f":"(COUNTIF(CALENDRIER!BE$953:BE$1317,CALENDRIER!$A$4))+((COUNTIF(CALENDRIER!BE$953:BE$1317,CALENDRIER!$B$4))/2)","v":0},{"$f":"(COUNTIF(CALENDRIER!BF$953:BF$1317,CALENDRIER!$A$4))+((COUNTIF(CALENDRIER!BF$953:BF$1317,CALENDRIER!$B$4))/2)","v":0},{"$f":"(COUNTIF(CALENDRIER!BG$953:BG$1317,CALENDRIER!$A$4))+((COUNTIF(CALENDRIER!BG$953:BG$1317,CALENDRIER!$B$4))/2)","v":0},{"$f":"(COUNTIF(CALENDRIER!BH$953:BH$1317,CALENDRIER!$A$4))+((COUNTIF(CALENDRIER!BH$953:BH$1317,CALENDRIER!$B$4))/2)","v":0},{"$f":"(COUNTIF(CALENDRIER!BI$953:BI$1317,CALENDRIER!$A$4))+((COUNTIF(CALENDRIER!BI$953:BI$1317,CALENDRIER!$B$4))/2)","v":0},{"$f":"(COUNTIF(CALENDRIER!BJ$953:BJ$1317,CALENDRIER!$A$4))+((COUNTIF(CALENDRIER!BJ$953:BJ$1317,CALENDRIER!$B$4))/2)","v":0},{"$f":"(COUNTIF(CALENDRIER!BK$953:BK$1317,CALENDRIER!$A$4))+((COUNTIF(CALENDRIER!BK$953:BK$1317,CALENDRIER!$B$4))/2)","v":0},{"$f":"(COUNTIF(CALENDRIER!BL$953:BL$1317,CALENDRIER!$A$4))+((COUNTIF(CALENDRIER!BL$953:BL$1317,CALENDRIER!$B$4))/2)","v":0},{"$f":"(COUNTIF(CALENDRIER!BM$953:BM$1317,CALENDRIER!$A$4))+((COUNTIF(CALENDRIER!BM$953:BM$1317,CALENDRIER!$B$4))/2)","v":0},{"$f":"(COUNTIF(CALENDRIER!BN$953:BN$1317,CALENDRIER!$A$4))+((COUNTIF(CALENDRIER!BN$953:BN$1317,CALENDRIER!$B$4))/2)","v":0},{"$f":"(COUNTIF(CALENDRIER!BO$953:BO$1317,CALENDRIER!$A$4))+((COUNTIF(CALENDRIER!BO$953:BO$1317,CALENDRIER!$B$4))/2)","v":0},{"$f":"(COUNTIF(CALENDRIER!BP$953:BP$1317,CALENDRIER!$A$4))+((COUNTIF(CALENDRIER!BP$953:BP$1317,CALENDRIER!$B$4))/2)","v":0},{"$f":"(COUNTIF(CALENDRIER!BQ$953:BQ$1317,CALENDRIER!$A$4))+((COUNTIF(CALENDRIER!BQ$953:BQ$1317,CALENDRIER!$B$4))/2)","v":0},{"$f":"(COUNTIF(CALENDRIER!BR$953:BR$1317,CALENDRIER!$A$4))+((COUNTIF(CALENDRIER!BR$953:BR$1317,CALENDRIER!$B$4))/2)","v":0},{"$f":"(COUNTIF(CALENDRIER!BS$953:BS$1317,CALENDRIER!$A$4))+((COUNTIF(CALENDRIER!BS$953:BS$1317,CALENDRIER!$B$4))/2)","v":0},{"$f":"(COUNTIF(CALENDRIER!BT$953:BT$1317,CALENDRIER!$A$4))+((COUNTIF(CALENDRIER!BT$953:BT$1317,CALENDRIER!$B$4))/2)","v":0},{"$f":"(COUNTIF(CALENDRIER!BU$953:BU$1317,CALENDRIER!$A$4))+((COUNTIF(CALENDRIER!BU$953:BU$1317,CALENDRIER!$B$4))/2)","v":0},{"$f":"(COUNTIF(CALENDRIER!BV$953:BV$1317,CALENDRIER!$A$4))+((COUNTIF(CALENDRIER!BV$953:BV$1317,CALENDRIER!$B$4))/2)","v":0},{"$f":"(COUNTIF(CALENDRIER!BW$953:BW$1317,CALENDRIER!$A$4))+((COUNTIF(CALENDRIER!BW$953:BW$1317,CALENDRIER!$B$4))/2)","v":0},{"$f":"(COUNTIF(CALENDRIER!BX$953:BX$1317,CALENDRIER!$A$4))+((COUNTIF(CALENDRIER!BX$953:BX$1317,CALENDRIER!$B$4))/2)","v":0},{"$f":"(COUNTIF(CALENDRIER!BY$953:BY$1317,CALENDRIER!$A$4))+((COUNTIF(CALENDRIER!BY$953:BY$1317,CALENDRIER!$B$4))/2)","v":0},{"$f":"(COUNTIF(CALENDRIER!BZ$953:BZ$1317,CALENDRIER!$A$4))+((COUNTIF(CALENDRIER!BZ$953:BZ$1317,CALENDRIER!$B$4))/2)","v":0},{"$f":"(COUNTIF(CALENDRIER!CA$953:CA$1317,CALENDRIER!$A$4))+((COUNTIF(CALENDRIER!CA$953:CA$1317,CALENDRIER!$B$4))/2)","v":0},{"$f":"(COUNTIF(CALENDRIER!CB$953:CB$1317,CALENDRIER!$A$4))+((COUNTIF(CALENDRIER!CB$953:CB$1317,CALENDRIER!$B$4))/2)","v":0},{"$f":"(COUNTIF(CALENDRIER!CC$953:CC$1317,CALENDRIER!$A$4))+((COUNTIF(CALENDRIER!CC$953:CC$1317,CALENDRIER!$B$4))/2)","v":0},{"$f":"(COUNTIF(CALENDRIER!CD$953:CD$1317,CALENDRIER!$A$4))+((COUNTIF(CALENDRIER!CD$953:CD$1317,CALENDRIER!$B$4))/2)","v":0},{"$f":"(COUNTIF(CALENDRIER!CE$953:CE$1317,CALENDRIER!$A$4))+((COUNTIF(CALENDRIER!CE$953:CE$1317,CALENDRIER!$B$4))/2)","v":0},{"$f":"(COUNTIF(CALENDRIER!CF$953:CF$1317,CALENDRIER!$A$4))+((COUNTIF(CALENDRIER!CF$953:CF$1317,CALENDRIER!$B$4))/2)","v":0},{"$f":"(COUNTIF(CALENDRIER!CG$953:CG$1317,CALENDRIER!$A$4))+((COUNTIF(CALENDRIER!CG$953:CG$1317,CALENDRIER!$B$4))/2)","v":0},{"$f":"(COUNTIF(CALENDRIER!CH$953:CH$1317,CALENDRIER!$A$4))+((COUNTIF(CALENDRIER!CH$953:CH$1317,CALENDRIER!$B$4))/2)","v":0},{"$f":"(COUNTIF(CALENDRIER!CI$953:CI$1317,CALENDRIER!$A$4))+((COUNTIF(CALENDRIER!CI$953:CI$1317,CALENDRIER!$B$4))/2)","v":0},{"$f":"(COUNTIF(CALENDRIER!CJ$953:CJ$1317,CALENDRIER!$A$4))+((COUNTIF(CALENDRIER!CJ$953:CJ$1317,CALENDRIER!$B$4))/2)","v":0},{"$f":"(COUNTIF(CALENDRIER!CK$953:CK$1317,CALENDRIER!$A$4))+((COUNTIF(CALENDRIER!CK$953:CK$1317,CALENDRIER!$B$4))/2)","v":0},{"$f":"(COUNTIF(CALENDRIER!CL$953:CL$1317,CALENDRIER!$A$4))+((COUNTIF(CALENDRIER!CL$953:CL$1317,CALENDRIER!$B$4))/2)","v":0},{"$f":"(COUNTIF(CALENDRIER!CM$953:CM$1317,CALENDRIER!$A$4))+((COUNTIF(CALENDRIER!CM$953:CM$1317,CALENDRIER!$B$4))/2)","v":0},{"$f":"(COUNTIF(CALENDRIER!CN$953:CN$1317,CALENDRIER!$A$4))+((COUNTIF(CALENDRIER!CN$953:CN$1317,CALENDRIER!$B$4))/2)","v":0},{"$f":"(COUNTIF(CALENDRIER!CO$953:CO$1317,CALENDRIER!$A$4))+((COUNTIF(CALENDRIER!CO$953:CO$1317,CALENDRIER!$B$4))/2)","v":0},{"$f":"(COUNTIF(CALENDRIER!CP$953:CP$1317,CALENDRIER!$A$4))+((COUNTIF(CALENDRIER!CP$953:CP$1317,CALENDRIER!$B$4))/2)","v":0},{"$f":"(COUNTIF(CALENDRIER!CQ$953:CQ$1317,CALENDRIER!$A$4))+((COUNTIF(CALENDRIER!CQ$953:CQ$1317,CALENDRIER!$B$4))/2)","v":0},{"$f":"(COUNTIF(CALENDRIER!CR$953:CR$1317,CALENDRIER!$A$4))+((COUNTIF(CALENDRIER!CR$953:CR$1317,CALENDRIER!$B$4))/2)","v":0},{"$f":"(COUNTIF(CALENDRIER!CS$953:CS$1317,CALENDRIER!$A$4))+((COUNTIF(CALENDRIER!CS$953:CS$1317,CALENDRIER!$B$4))/2)","v":0},{"$f":"(COUNTIF(CALENDRIER!CT$953:CT$1317,CALENDRIER!$A$4))+((COUNTIF(CALENDRIER!CT$953:CT$1317,CALENDRIER!$B$4))/2)","v":0},{"$f":"(COUNTIF(CALENDRIER!CU$953:CU$1317,CALENDRIER!$A$4))+((COUNTIF(CALENDRIER!CU$953:CU$1317,CALENDRIER!$B$4))/2)","v":0},{"$f":"(COUNTIF(CALENDRIER!CV$953:CV$1317,CALENDRIER!$A$4))+((COUNTIF(CALENDRIER!CV$953:CV$1317,CALENDRIER!$B$4))/2)","v":0},{"$f":"(COUNTIF(CALENDRIER!CW$953:CW$1317,CALENDRIER!$A$4))+((COUNTIF(CALENDRIER!CW$953:CW$1317,CALENDRIER!$B$4))/2)","v":0},{"$f":"(COUNTIF(CALENDRIER!CX$953:CX$1317,CALENDRIER!$A$4))+((COUNTIF(CALENDRIER!CX$953:CX$1317,CALENDRIER!$B$4))/2)","v":0},{"$f":"(COUNTIF(CALENDRIER!CY$953:CY$1317,CALENDRIER!$A$4))+((COUNTIF(CALENDRIER!CY$953:CY$1317,CALENDRIER!$B$4))/2)","v":0},{"$f":"(COUNTIF(CALENDRIER!CZ$953:CZ$1317,CALENDRIER!$A$4))+((COUNTIF(CALENDRIER!CZ$953:CZ$1317,CALENDRIER!$B$4))/2)","v":0},{"$f":"(COUNTIF(CALENDRIER!DA$953:DA$1317,CALENDRIER!$A$4))+((COUNTIF(CALENDRIER!DA$953:DA$1317,CALENDRIER!$B$4))/2)","v":0},{"$f":"(COUNTIF(CALENDRIER!DB$953:DB$1317,CALENDRIER!$A$4))+((COUNTIF(CALENDRIER!DB$953:DB$1317,CALENDRIER!$B$4))/2)","v":0},{"$f":"(COUNTIF(CALENDRIER!DC$953:DC$1317,CALENDRIER!$A$4))+((COUNTIF(CALENDRIER!DC$953:DC$1317,CALENDRIER!$B$4))/2)","v":0},{"$f":"(COUNTIF(CALENDRIER!DD$953:DD$1317,CALENDRIER!$A$4))+((COUNTIF(CALENDRIER!DD$953:DD$1317,CALENDRIER!$B$4))/2)","v":0},{"$f":"(COUNTIF(CALENDRIER!DE$953:DE$1317,CALENDRIER!$A$4))+((COUNTIF(CALENDRIER!DE$953:DE$1317,CALENDRIER!$B$4))/2)","v":0},{"$f":"(COUNTIF(CALENDRIER!DF$953:DF$1317,CALENDRIER!$A$4))+((COUNTIF(CALENDRIER!DF$953:DF$1317,CALENDRIER!$B$4))/2)","v":0},{"$f":"(COUNTIF(CALENDRIER!DG$953:DG$1317,CALENDRIER!$A$4))+((COUNTIF(CALENDRIER!DG$953:DG$1317,CALENDRIER!$B$4))/2)","v":0},{"$f":"(COUNTIF(CALENDRIER!DH$953:DH$1317,CALENDRIER!$A$4))+((COUNTIF(CALENDRIER!DH$953:DH$1317,CALENDRIER!$B$4))/2)","v":0},{"$f":"(COUNTIF(CALENDRIER!DI$953:DI$1317,CALENDRIER!$A$4))+((COUNTIF(CALENDRIER!DI$953:DI$1317,CALENDRIER!$B$4))/2)","v":0},{"$f":"(COUNTIF(CALENDRIER!DJ$953:DJ$1317,CALENDRIER!$A$4))+((COUNTIF(CALENDRIER!DJ$953:DJ$1317,CALENDRIER!$B$4))/2)","v":0},{"$f":"(COUNTIF(CALENDRIER!DK$953:DK$1317,CALENDRIER!$A$4))+((COUNTIF(CALENDRIER!DK$953:DK$1317,CALENDRIER!$B$4))/2)","v":0},{"$f":"(COUNTIF(CALENDRIER!DL$953:DL$1317,CALENDRIER!$A$4))+((COUNTIF(CALENDRIER!DL$953:DL$1317,CALENDRIER!$B$4))/2)","v":0},{"$f":"(COUNTIF(CALENDRIER!DM$953:DM$1317,CALENDRIER!$A$4))+((COUNTIF(CALENDRIER!DM$953:DM$1317,CALENDRIER!$B$4))/2)","v":0},{"$f":"(COUNTIF(CALENDRIER!DN$953:DN$1317,CALENDRIER!$A$4))+((COUNTIF(CALENDRIER!DN$953:DN$1317,CALENDRIER!$B$4))/2)","v":0},{"$f":"(COUNTIF(CALENDRIER!DO$953:DO$1317,CALENDRIER!$A$4))+((COUNTIF(CALENDRIER!DO$953:DO$1317,CALENDRIER!$B$4))/2)","v":0},{"$f":"(COUNTIF(CALENDRIER!DP$953:DP$1317,CALENDRIER!$A$4))+((COUNTIF(CALENDRIER!DP$953:DP$1317,CALENDRIER!$B$4))/2)","v":0},{"$f":"(COUNTIF(CALENDRIER!DQ$953:DQ$1317,CALENDRIER!$A$4))+((COUNTIF(CALENDRIER!DQ$953:DQ$1317,CALENDRIER!$B$4))/2)","v":0},{"$f":"(COUNTIF(CALENDRIER!DR$953:DR$1317,CALENDRIER!$A$4))+((COUNTIF(CALENDRIER!DR$953:DR$1317,CALENDRIER!$B$4))/2)","v":0},{"$f":"(COUNTIF(CALENDRIER!DS$953:DS$1317,CALENDRIER!$A$4))+((COUNTIF(CALENDRIER!DS$953:DS$1317,CALENDRIER!$B$4))/2)","v":0},{"$f":"(COUNTIF(CALENDRIER!DT$953:DT$1317,CALENDRIER!$A$4))+((COUNTIF(CALENDRIER!DT$953:DT$1317,CALENDRIER!$B$4))/2)","v":0},{"$f":"(COUNTIF(CALENDRIER!DU$953:DU$1317,CALENDRIER!$A$4))+((COUNTIF(CALENDRIER!DU$953:DU$1317,CALENDRIER!$B$4))/2)","v":0},{"$f":"(COUNTIF(CALENDRIER!DV$953:DV$1317,CALENDRIER!$A$4))+((COUNTIF(CALENDRIER!DV$953:DV$1317,CALENDRIER!$B$4))/2)","v":0},{"$f":"(COUNTIF(CALENDRIER!DW$953:DW$1317,CALENDRIER!$A$4))+((COUNTIF(CALENDRIER!DW$953:DW$1317,CALENDRIER!$B$4))/2)","v":0},{"$f":"(COUNTIF(CALENDRIER!DX$953:DX$1317,CALENDRIER!$A$4))+((COUNTIF(CALENDRIER!DX$953:DX$1317,CALENDRIER!$B$4))/2)","v":0},{"$f":"(COUNTIF(CALENDRIER!DY$953:DY$1317,CALENDRIER!$A$4))+((COUNTIF(CALENDRIER!DY$953:DY$1317,CALENDRIER!$B$4))/2)","v":0},{"$f":"(COUNTIF(CALENDRIER!DZ$953:DZ$1317,CALENDRIER!$A$4))+((COUNTIF(CALENDRIER!DZ$953:DZ$1317,CALENDRIER!$B$4))/2)","v":0},{"$f":"(COUNTIF(CALENDRIER!EA$953:EA$1317,CALENDRIER!$A$4))+((COUNTIF(CALENDRIER!EA$953:EA$1317,CALENDRIER!$B$4))/2)","v":0},{"$f":"(COUNTIF(CALENDRIER!EB$953:EB$1317,CALENDRIER!$A$4))+((COUNTIF(CALENDRIER!EB$953:EB$1317,CALENDRIER!$B$4))/2)","v":0},{"$f":"(COUNTIF(CALENDRIER!EC$953:EC$1317,CALENDRIER!$A$4))+((COUNTIF(CALENDRIER!EC$953:EC$1317,CALENDRIER!$B$4))/2)","v":0},{"$f":"(COUNTIF(CALENDRIER!ED$953:ED$1317,CALENDRIER!$A$4))+((COUNTIF(CALENDRIER!ED$953:ED$1317,CALENDRIER!$B$4))/2)","v":0},{"$f":"(COUNTIF(CALENDRIER!EE$953:EE$1317,CALENDRIER!$A$4))+((COUNTIF(CALENDRIER!EE$953:EE$1317,CALENDRIER!$B$4))/2)","v":0},{"$f":"(COUNTIF(CALENDRIER!EF$953:EF$1317,CALENDRIER!$A$4))+((COUNTIF(CALENDRIER!EF$953:EF$1317,CALENDRIER!$B$4))/2)","v":0},{"$f":"(COUNTIF(CALENDRIER!EG$953:EG$1317,CALENDRIER!$A$4))+((COUNTIF(CALENDRIER!EG$953:EG$1317,CALENDRIER!$B$4))/2)","v":0},{"$f":"(COUNTIF(CALENDRIER!EH$953:EH$1317,CALENDRIER!$A$4))+((COUNTIF(CALENDRIER!EH$953:EH$1317,CALENDRIER!$B$4))/2)","v":0},{"$f":"(COUNTIF(CALENDRIER!EI$953:EI$1317,CALENDRIER!$A$4))+((COUNTIF(CALENDRIER!EI$953:EI$1317,CALENDRIER!$B$4))/2)","v":0},{"$f":"(COUNTIF(CALENDRIER!EJ$953:EJ$1317,CALENDRIER!$A$4))+((COUNTIF(CALENDRIER!EJ$953:EJ$1317,CALENDRIER!$B$4))/2)","v":0},{"$f":"(COUNTIF(CALENDRIER!EK$953:EK$1317,CALENDRIER!$A$4))+((COUNTIF(CALENDRIER!EK$953:EK$1317,CALENDRIER!$B$4))/2)","v":0},{"$f":"(COUNTIF(CALENDRIER!EL$953:EL$1317,CALENDRIER!$A$4))+((COUNTIF(CALENDRIER!EL$953:EL$1317,CALENDRIER!$B$4))/2)","v":0},{"$f":"(COUNTIF(CALENDRIER!EM$953:EM$1317,CALENDRIER!$A$4))+((COUNTIF(CALENDRIER!EM$953:EM$1317,CALENDRIER!$B$4))/2)","v":0},{"$f":"(COUNTIF(CALENDRIER!EN$953:EN$1317,CALENDRIER!$A$4))+((COUNTIF(CALENDRIER!EN$953:EN$1317,CALENDRIER!$B$4))/2)","v":0},{"$f":"(COUNTIF(CALENDRIER!EO$953:EO$1317,CALENDRIER!$A$4))+((COUNTIF(CALENDRIER!EO$953:EO$1317,CALENDRIER!$B$4))/2)","v":0},{"$f":"(COUNTIF(CALENDRIER!EP$953:EP$1317,CALENDRIER!$A$4))+((COUNTIF(CALENDRIER!EP$953:EP$1317,CALENDRIER!$B$4))/2)","v":0},{"$f":"(COUNTIF(CALENDRIER!EQ$953:EQ$1317,CALENDRIER!$A$4))+((COUNTIF(CALENDRIER!EQ$953:EQ$1317,CALENDRIER!$B$4))/2)","v":0},{"$f":"(COUNTIF(CALENDRIER!ER$953:ER$1317,CALENDRIER!$A$4))+((COUNTIF(CALENDRIER!ER$953:ER$1317,CALENDRIER!$B$4))/2)","v":0},{"$f":"(COUNTIF(CALENDRIER!ES$953:ES$1317,CALENDRIER!$A$4))+((COUNTIF(CALENDRIER!ES$953:ES$1317,CALENDRIER!$B$4))/2)","v":0},{"$f":"(COUNTIF(CALENDRIER!ET$953:ET$1317,CALENDRIER!$A$4))+((COUNTIF(CALENDRIER!ET$953:ET$1317,CALENDRIER!$B$4))/2)","v":0},{"$f":"(COUNTIF(CALENDRIER!EU$953:EU$1317,CALENDRIER!$A$4))+((COUNTIF(CALENDRIER!EU$953:EU$1317,CALENDRIER!$B$4))/2)","v":0},{"$f":"(COUNTIF(CALENDRIER!EV$953:EV$1317,CALENDRIER!$A$4))+((COUNTIF(CALENDRIER!EV$953:EV$1317,CALENDRIER!$B$4))/2)","v":0},{"$f":"(COUNTIF(CALENDRIER!EW$953:EW$1317,CALENDRIER!$A$4))+((COUNTIF(CALENDRIER!EW$953:EW$1317,CALENDRIER!$B$4))/2)","v":0},{"$f":"(COUNTIF(CALENDRIER!EX$953:EX$1317,CALENDRIER!$A$4))+((COUNTIF(CALENDRIER!EX$953:EX$1317,CALENDRIER!$B$4))/2)","v":0},{"$f":"(COUNTIF(CALENDRIER!EY$953:EY$1317,CALENDRIER!$A$4))+((COUNTIF(CALENDRIER!EY$953:EY$1317,CALENDRIER!$B$4))/2)","v":0},{"$f":"(COUNTIF(CALENDRIER!EZ$953:EZ$1317,CALENDRIER!$A$4))+((COUNTIF(CALENDRIER!EZ$953:EZ$1317,CALENDRIER!$B$4))/2)","v":0},{"$f":"(COUNTIF(CALENDRIER!FA$953:FA$1317,CALENDRIER!$A$4))+((COUNTIF(CALENDRIER!FA$953:FA$1317,CALENDRIER!$B$4))/2)","v":0},{"$f":"(COUNTIF(CALENDRIER!FB$953:FB$1317,CALENDRIER!$A$4))+((COUNTIF(CALENDRIER!FB$953:FB$1317,CALENDRIER!$B$4))/2)","v":0},{"$f":"(COUNTIF(CALENDRIER!FC$953:FC$1317,CALENDRIER!$A$4))+((COUNTIF(CALENDRIER!FC$953:FC$1317,CALENDRIER!$B$4))/2)","v":0},{"$f":"(COUNTIF(CALENDRIER!FD$953:FD$1317,CALENDRIER!$A$4))+((COUNTIF(CALENDRIER!FD$953:FD$1317,CALENDRIER!$B$4))/2)","v":0},{"$f":"(COUNTIF(CALENDRIER!FE$953:FE$1317,CALENDRIER!$A$4))+((COUNTIF(CALENDRIER!FE$953:FE$1317,CALENDRIER!$B$4))/2)","v":0},{"$f":"(COUNTIF(CALENDRIER!FF$953:FF$1317,CALENDRIER!$A$4))+((COUNTIF(CALENDRIER!FF$953:FF$1317,CALENDRIER!$B$4))/2)","v":0},{"$f":"(COUNTIF(CALENDRIER!FG$953:FG$1317,CALENDRIER!$A$4))+((COUNTIF(CALENDRIER!FG$953:FG$1317,CALENDRIER!$B$4))/2)","v":0},{"$f":"(COUNTIF(CALENDRIER!FH$953:FH$1317,CALENDRIER!$A$4))+((COUNTIF(CALENDRIER!FH$953:FH$1317,CALENDRIER!$B$4))/2)","v":0},{"$f":"(COUNTIF(CALENDRIER!FI$953:FI$1317,CALENDRIER!$A$4))+((COUNTIF(CALENDRIER!FI$953:FI$1317,CALENDRIER!$B$4))/2)","v":0},{"$f":"(COUNTIF(CALENDRIER!FJ$953:FJ$1317,CALENDRIER!$A$4))+((COUNTIF(CALENDRIER!FJ$953:FJ$1317,CALENDRIER!$B$4))/2)","v":0},{"$f":"(COUNTIF(CALENDRIER!FK$953:FK$1317,CALENDRIER!$A$4))+((COUNTIF(CALENDRIER!FK$953:FK$1317,CALENDRIER!$B$4))/2)","v":0},{"$f":"(COUNTIF(CALENDRIER!FL$953:FL$1317,CALENDRIER!$A$4))+((COUNTIF(CALENDRIER!FL$953:FL$1317,CALENDRIER!$B$4))/2)","v":0},{"$f":"(COUNTIF(CALENDRIER!FM$953:FM$1317,CALENDRIER!$A$4))+((COUNTIF(CALENDRIER!FM$953:FM$1317,CALENDRIER!$B$4))/2)","v":0},{"$f":"(COUNTIF(CALENDRIER!FN$953:FN$1317,CALENDRIER!$A$4))+((COUNTIF(CALENDRIER!FN$953:FN$1317,CALENDRIER!$B$4))/2)","v":0},{"$f":"(COUNTIF(CALENDRIER!FO$953:FO$1317,CALENDRIER!$A$4))+((COUNTIF(CALENDRIER!FO$953:FO$1317,CALENDRIER!$B$4))/2)","v":0},{"$f":"(COUNTIF(CALENDRIER!FP$953:FP$1317,CALENDRIER!$A$4))+((COUNTIF(CALENDRIER!FP$953:FP$1317,CALENDRIER!$B$4))/2)","v":0},{"$f":"(COUNTIF(CALENDRIER!FQ$953:FQ$1317,CALENDRIER!$A$4))+((COUNTIF(CALENDRIER!FQ$953:FQ$1317,CALENDRIER!$B$4))/2)","v":0},{"$f":"(COUNTIF(CALENDRIER!FR$953:FR$1317,CALENDRIER!$A$4))+((COUNTIF(CALENDRIER!FR$953:FR$1317,CALENDRIER!$B$4))/2)","v":0},{"$f":"(COUNTIF(CALENDRIER!FS$953:FS$1317,CALENDRIER!$A$4))+((COUNTIF(CALENDRIER!FS$953:FS$1317,CALENDRIER!$B$4))/2)","v":0},{"$f":"(COUNTIF(CALENDRIER!FT$953:FT$1317,CALENDRIER!$A$4))+((COUNTIF(CALENDRIER!FT$953:FT$1317,CALENDRIER!$B$4))/2)","v":0},{"$f":"(COUNTIF(CALENDRIER!FU$953:FU$1317,CALENDRIER!$A$4))+((COUNTIF(CALENDRIER!FU$953:FU$1317,CALENDRIER!$B$4))/2)","v":0},{"$f":"(COUNTIF(CALENDRIER!FV$953:FV$1317,CALENDRIER!$A$4))+((COUNTIF(CALENDRIER!FV$953:FV$1317,CALENDRIER!$B$4))/2)","v":0},{"$f":"(COUNTIF(CALENDRIER!FW$953:FW$1317,CALENDRIER!$A$4))+((COUNTIF(CALENDRIER!FW$953:FW$1317,CALENDRIER!$B$4))/2)","v":0},{"$f":"(COUNTIF(CALENDRIER!FX$953:FX$1317,CALENDRIER!$A$4))+((COUNTIF(CALENDRIER!FX$953:FX$1317,CALENDRIER!$B$4))/2)","v":0},{"$f":"(COUNTIF(CALENDRIER!FY$953:FY$1317,CALENDRIER!$A$4))+((COUNTIF(CALENDRIER!FY$953:FY$1317,CALENDRIER!$B$4))/2)","v":0},{"$f":"(COUNTIF(CALENDRIER!FZ$953:FZ$1317,CALENDRIER!$A$4))+((COUNTIF(CALENDRIER!FZ$953:FZ$1317,CALENDRIER!$B$4))/2)","v":0},{"$f":"(COUNTIF(CALENDRIER!GA$953:GA$1317,CALENDRIER!$A$4))+((COUNTIF(CALENDRIER!GA$953:GA$1317,CALENDRIER!$B$4))/2)","v":0},{"$f":"(COUNTIF(CALENDRIER!GB$953:GB$1317,CALENDRIER!$A$4))+((COUNTIF(CALENDRIER!GB$953:GB$1317,CALENDRIER!$B$4))/2)","v":0},{"$f":"(COUNTIF(CALENDRIER!GC$953:GC$1317,CALENDRIER!$A$4))+((COUNTIF(CALENDRIER!GC$953:GC$1317,CALENDRIER!$B$4))/2)","v":0},{"$f":"(COUNTIF(CALENDRIER!GD$953:GD$1317,CALENDRIER!$A$4))+((COUNTIF(CALENDRIER!GD$953:GD$1317,CALENDRIER!$B$4))/2)","v":0},{"$f":"(COUNTIF(CALENDRIER!GE$953:GE$1317,CALENDRIER!$A$4))+((COUNTIF(CALENDRIER!GE$953:GE$1317,CALENDRIER!$B$4))/2)","v":0},{"$f":"(COUNTIF(CALENDRIER!GF$953:GF$1317,CALENDRIER!$A$4))+((COUNTIF(CALENDRIER!GF$953:GF$1317,CALENDRIER!$B$4))/2)","v":0},{"$f":"(COUNTIF(CALENDRIER!GG$953:GG$1317,CALENDRIER!$A$4))+((COUNTIF(CALENDRIER!GG$953:GG$1317,CALENDRIER!$B$4))/2)","v":0},{"$f":"(COUNTIF(CALENDRIER!GH$953:GH$1317,CALENDRIER!$A$4))+((COUNTIF(CALENDRIER!GH$953:GH$1317,CALENDRIER!$B$4))/2)","v":0},{"$f":"(COUNTIF(CALENDRIER!GI$953:GI$1317,CALENDRIER!$A$4))+((COUNTIF(CALENDRIER!GI$953:GI$1317,CALENDRIER!$B$4))/2)","v":0},{"$f":"(COUNTIF(CALENDRIER!GJ$953:GJ$1317,CALENDRIER!$A$4))+((COUNTIF(CALENDRIER!GJ$953:GJ$1317,CALENDRIER!$B$4))/2)","v":0},{"$f":"(COUNTIF(CALENDRIER!GK$953:GK$1317,CALENDRIER!$A$4))+((COUNTIF(CALENDRIER!GK$953:GK$1317,CALENDRIER!$B$4))/2)","v":0},{"$f":"(COUNTIF(CALENDRIER!GL$953:GL$1317,CALENDRIER!$A$4))+((COUNTIF(CALENDRIER!GL$953:GL$1317,CALENDRIER!$B$4))/2)","v":0},{"$f":"(COUNTIF(CALENDRIER!GM$953:GM$1317,CALENDRIER!$A$4))+((COUNTIF(CALENDRIER!GM$953:GM$1317,CALENDRIER!$B$4))/2)","v":0},{"$f":"(COUNTIF(CALENDRIER!GN$953:GN$1317,CALENDRIER!$A$4))+((COUNTIF(CALENDRIER!GN$953:GN$1317,CALENDRIER!$B$4))/2)","v":0},{"$f":"(COUNTIF(CALENDRIER!GO$953:GO$1317,CALENDRIER!$A$4))+((COUNTIF(CALENDRIER!GO$953:GO$1317,CALENDRIER!$B$4))/2)","v":0},{"$f":"(COUNTIF(CALENDRIER!GP$953:GP$1317,CALENDRIER!$A$4))+((COUNTIF(CALENDRIER!GP$953:GP$1317,CALENDRIER!$B$4))/2)","v":0},{"$f":"(COUNTIF(CALENDRIER!GQ$953:GQ$1317,CALENDRIER!$A$4))+((COUNTIF(CALENDRIER!GQ$953:GQ$1317,CALENDRIER!$B$4))/2)","v":0},{"$f":"(COUNTIF(CALENDRIER!GR$953:GR$1317,CALENDRIER!$A$4))+((COUNTIF(CALENDRIER!GR$953:GR$1317,CALENDRIER!$B$4))/2)","v":0}]
[null,{"$f":"\"Solde \"&CALENDRIER!$A$4&\" \"&A169&\" : \"","v":"Solde … 2018 : "},{"$f":"C170-C171","v":0},{"$f":"D170-D171","v":0},0,0,0,0,0,0,0,0,0,0,0,0,0,0,0,0,0,0,0,0,0,0,0,0,0,0,0,0,0,0,0,0,0,0,0,0,0,0,0,0,0,0,0,0,0,0,0,0,0,0,0,0,0,0,0,0,0,0,0,0,0,0,0,{"$f":"BP170-BP171","v":0},0,0,0,0,0,0,0,0,0,0,0,0,0,0,0,0,0,0,0,0,0,0,0,0,0,0,0,0,0,0,0,0,0,0,0,0,0,0,0,0,0,0,0,0,0,0,0,0,0,0,0,0,0,0,0,0,0,0,0,0,0,0,0,{"$f":"EB170-EB171","v":0},0,0,0,0,0,0,0,0,0,0,0,0,0,0,0,0,0,0,0,0,0,0,0,0,0,0,0,0,0,0,0,0,0,0,0,0,0,0,0,0,0,0,0,0,0,0,0,0,0,0,0,0,0,0,0,0,0,0,0,0,0,0,0,{"$f":"GN170-GN171","v":0},0,0,0,0]
[]
[2019,{"$f":"CALENDRIER!$A$4","v":"…"}]
[null,"SOLDE DEPART"]
[null,{"$f":"CALENDRIER!$A$4&\" PRIS\"","v":"… PRIS"},{"$f":"(COUNTIF(CALENDRIER!C$1318:C$1682,CALENDRIER!$A$4))+((COUNTIF(CALENDRIER!C$1318:C$1682,CALENDRIER!$B$4))/2)","v":0},{"$f":"(COUNTIF(CALENDRIER!D$1318:D$1682,CALENDRIER!$A$4))+((COUNTIF(CALENDRIER!D$1318:D$1682,CALENDRIER!$B$4))/2)","v":0},{"$f":"(COUNTIF(CALENDRIER!E$1318:E$1682,CALENDRIER!$A$4))+((COUNTIF(CALENDRIER!E$1318:E$1682,CALENDRIER!$B$4))/2)","v":0},{"$f":"(COUNTIF(CALENDRIER!F$1318:F$1682,CALENDRIER!$A$4))+((COUNTIF(CALENDRIER!F$1318:F$1682,CALENDRIER!$B$4))/2)","v":0},{"$f":"(COUNTIF(CALENDRIER!G$1318:G$1682,CALENDRIER!$A$4))+((COUNTIF(CALENDRIER!G$1318:G$1682,CALENDRIER!$B$4))/2)","v":0},{"$f":"(COUNTIF(CALENDRIER!H$1318:H$1682,CALENDRIER!$A$4))+((COUNTIF(CALENDRIER!H$1318:H$1682,CALENDRIER!$B$4))/2)","v":0},{"$f":"(COUNTIF(CALENDRIER!I$1318:I$1682,CALENDRIER!$A$4))+((COUNTIF(CALENDRIER!I$1318:I$1682,CALENDRIER!$B$4))/2)","v":0},{"$f":"(COUNTIF(CALENDRIER!J$1318:J$1682,CALENDRIER!$A$4))+((COUNTIF(CALENDRIER!J$1318:J$1682,CALENDRIER!$B$4))/2)","v":0},{"$f":"(COUNTIF(CALENDRIER!K$1318:K$1682,CALENDRIER!$A$4))+((COUNTIF(CALENDRIER!K$1318:K$1682,CALENDRIER!$B$4))/2)","v":0},{"$f":"(COUNTIF(CALENDRIER!L$1318:L$1682,CALENDRIER!$A$4))+((COUNTIF(CALENDRIER!L$1318:L$1682,CALENDRIER!$B$4))/2)","v":0},{"$f":"(COUNTIF(CALENDRIER!M$1318:M$1682,CALENDRIER!$A$4))+((COUNTIF(CALENDRIER!M$1318:M$1682,CALENDRIER!$B$4))/2)","v":0},{"$f":"(COUNTIF(CALENDRIER!N$1318:N$1682,CALENDRIER!$A$4))+((COUNTIF(CALENDRIER!N$1318:N$1682,CALENDRIER!$B$4))/2)","v":0},{"$f":"(COUNTIF(CALENDRIER!O$1318:O$1682,CALENDRIER!$A$4))+((COUNTIF(CALENDRIER!O$1318:O$1682,CALENDRIER!$B$4))/2)","v":0},{"$f":"(COUNTIF(CALENDRIER!P$1318:P$1682,CALENDRIER!$A$4))+((COUNTIF(CALENDRIER!P$1318:P$1682,CALENDRIER!$B$4))/2)","v":0},{"$f":"(COUNTIF(CALENDRIER!Q$1318:Q$1682,CALENDRIER!$A$4))+((COUNTIF(CALENDRIER!Q$1318:Q$1682,CALENDRIER!$B$4))/2)","v":0},{"$f":"(COUNTIF(CALENDRIER!R$1318:R$1682,CALENDRIER!$A$4))+((COUNTIF(CALENDRIER!R$1318:R$1682,CALENDRIER!$B$4))/2)","v":0},{"$f":"(COUNTIF(CALENDRIER!S$1318:S$1682,CALENDRIER!$A$4))+((COUNTIF(CALENDRIER!S$1318:S$1682,CALENDRIER!$B$4))/2)","v":0},{"$f":"(COUNTIF(CALENDRIER!T$1318:T$1682,CALENDRIER!$A$4))+((COUNTIF(CALENDRIER!T$1318:T$1682,CALENDRIER!$B$4))/2)","v":0},{"$f":"(COUNTIF(CALENDRIER!U$1318:U$1682,CALENDRIER!$A$4))+((COUNTIF(CALENDRIER!U$1318:U$1682,CALENDRIER!$B$4))/2)","v":0},{"$f":"(COUNTIF(CALENDRIER!V$1318:V$1682,CALENDRIER!$A$4))+((COUNTIF(CALENDRIER!V$1318:V$1682,CALENDRIER!$B$4))/2)","v":0},{"$f":"(COUNTIF(CALENDRIER!W$1318:W$1682,CALENDRIER!$A$4))+((COUNTIF(CALENDRIER!W$1318:W$1682,CALENDRIER!$B$4))/2)","v":0},{"$f":"(COUNTIF(CALENDRIER!X$1318:X$1682,CALENDRIER!$A$4))+((COUNTIF(CALENDRIER!X$1318:X$1682,CALENDRIER!$B$4))/2)","v":0},{"$f":"(COUNTIF(CALENDRIER!Y$1318:Y$1682,CALENDRIER!$A$4))+((COUNTIF(CALENDRIER!Y$1318:Y$1682,CALENDRIER!$B$4))/2)","v":0},{"$f":"(COUNTIF(CALENDRIER!Z$1318:Z$1682,CALENDRIER!$A$4))+((COUNTIF(CALENDRIER!Z$1318:Z$1682,CALENDRIER!$B$4))/2)","v":0},{"$f":"(COUNTIF(CALENDRIER!AA$1318:AA$1682,CALENDRIER!$A$4))+((COUNTIF(CALENDRIER!AA$1318:AA$1682,CALENDRIER!$B$4))/2)","v":0},{"$f":"(COUNTIF(CALENDRIER!AB$1318:AB$1682,CALENDRIER!$A$4))+((COUNTIF(CALENDRIER!AB$1318:AB$1682,CALENDRIER!$B$4))/2)","v":0},{"$f":"(COUNTIF(CALENDRIER!AC$1318:AC$1682,CALENDRIER!$A$4))+((COUNTIF(CALENDRIER!AC$1318:AC$1682,CALENDRIER!$B$4))/2)","v":0},{"$f":"(COUNTIF(CALENDRIER!AD$1318:AD$1682,CALENDRIER!$A$4))+((COUNTIF(CALENDRIER!AD$1318:AD$1682,CALENDRIER!$B$4))/2)","v":0},{"$f":"(COUNTIF(CALENDRIER!AE$1318:AE$1682,CALENDRIER!$A$4))+((COUNTIF(CALENDRIER!AE$1318:AE$1682,CALENDRIER!$B$4))/2)","v":0},{"$f":"(COUNTIF(CALENDRIER!AF$1318:AF$1682,CALENDRIER!$A$4))+((COUNTIF(CALENDRIER!AF$1318:AF$1682,CALENDRIER!$B$4))/2)","v":0},{"$f":"(COUNTIF(CALENDRIER!AG$1318:AG$1682,CALENDRIER!$A$4))+((COUNTIF(CALENDRIER!AG$1318:AG$1682,CALENDRIER!$B$4))/2)","v":0},{"$f":"(COUNTIF(CALENDRIER!AH$1318:AH$1682,CALENDRIER!$A$4))+((COUNTIF(CALENDRIER!AH$1318:AH$1682,CALENDRIER!$B$4))/2)","v":0},{"$f":"(COUNTIF(CALENDRIER!AI$1318:AI$1682,CALENDRIER!$A$4))+((COUNTIF(CALENDRIER!AI$1318:AI$1682,CALENDRIER!$B$4))/2)","v":0},{"$f":"(COUNTIF(CALENDRIER!AJ$1318:AJ$1682,CALENDRIER!$A$4))+((COUNTIF(CALENDRIER!AJ$1318:AJ$1682,CALENDRIER!$B$4))/2)","v":0},{"$f":"(COUNTIF(CALENDRIER!AK$1318:AK$1682,CALENDRIER!$A$4))+((COUNTIF(CALENDRIER!AK$1318:AK$1682,CALENDRIER!$B$4))/2)","v":0},{"$f":"(COUNTIF(CALENDRIER!AL$1318:AL$1682,CALENDRIER!$A$4))+((COUNTIF(CALENDRIER!AL$1318:AL$1682,CALENDRIER!$B$4))/2)","v":0},{"$f":"(COUNTIF(CALENDRIER!AM$1318:AM$1682,CALENDRIER!$A$4))+((COUNTIF(CALENDRIER!AM$1318:AM$1682,CALENDRIER!$B$4))/2)","v":0},{"$f":"(COUNTIF(CALENDRIER!AN$1318:AN$1682,CALENDRIER!$A$4))+((COUNTIF(CALENDRIER!AN$1318:AN$1682,CALENDRIER!$B$4))/2)","v":0},{"$f":"(COUNTIF(CALENDRIER!AO$1318:AO$1682,CALENDRIER!$A$4))+((COUNTIF(CALENDRIER!AO$1318:AO$1682,CALENDRIER!$B$4))/2)","v":0},{"$f":"(COUNTIF(CALENDRIER!AP$1318:AP$1682,CALENDRIER!$A$4))+((COUNTIF(CALENDRIER!AP$1318:AP$1682,CALENDRIER!$B$4))/2)","v":0},{"$f":"(COUNTIF(CALENDRIER!AQ$1318:AQ$1682,CALENDRIER!$A$4))+((COUNTIF(CALENDRIER!AQ$1318:AQ$1682,CALENDRIER!$B$4))/2)","v":0},{"$f":"(COUNTIF(CALENDRIER!AR$1318:AR$1682,CALENDRIER!$A$4))+((COUNTIF(CALENDRIER!AR$1318:AR$1682,CALENDRIER!$B$4))/2)","v":0},{"$f":"(COUNTIF(CALENDRIER!AS$1318:AS$1682,CALENDRIER!$A$4))+((COUNTIF(CALENDRIER!AS$1318:AS$1682,CALENDRIER!$B$4))/2)","v":0},{"$f":"(COUNTIF(CALENDRIER!AT$1318:AT$1682,CALENDRIER!$A$4))+((COUNTIF(CALENDRIER!AT$1318:AT$1682,CALENDRIER!$B$4))/2)","v":0},{"$f":"(COUNTIF(CALENDRIER!AU$1318:AU$1682,CALENDRIER!$A$4))+((COUNTIF(CALENDRIER!AU$1318:AU$1682,CALENDRIER!$B$4))/2)","v":0},{"$f":"(COUNTIF(CALENDRIER!AV$1318:AV$1682,CALENDRIER!$A$4))+((COUNTIF(CALENDRIER!AV$1318:AV$1682,CALENDRIER!$B$4))/2)","v":0},{"$f":"(COUNTIF(CALENDRIER!AW$1318:AW$1682,CALENDRIER!$A$4))+((COUNTIF(CALENDRIER!AW$1318:AW$1682,CALENDRIER!$B$4))/2)","v":0},{"$f":"(COUNTIF(CALENDRIER!AX$1318:AX$1682,CALENDRIER!$A$4))+((COUNTIF(CALENDRIER!AX$1318:AX$1682,CALENDRIER!$B$4))/2)","v":0},{"$f":"(COUNTIF(CALENDRIER!AY$1318:AY$1682,CALENDRIER!$A$4))+((COUNTIF(CALENDRIER!AY$1318:AY$1682,CALENDRIER!$B$4))/2)","v":0},{"$f":"(COUNTIF(CALENDRIER!AZ$1318:AZ$1682,CALENDRIER!$A$4))+((COUNTIF(CALENDRIER!AZ$1318:AZ$1682,CALENDRIER!$B$4))/2)","v":0},{"$f":"(COUNTIF(CALENDRIER!BA$1318:BA$1682,CALENDRIER!$A$4))+((COUNTIF(CALENDRIER!BA$1318:BA$1682,CALENDRIER!$B$4))/2)","v":0},{"$f":"(COUNTIF(CALENDRIER!BB$1318:BB$1682,CALENDRIER!$A$4))+((COUNTIF(CALENDRIER!BB$1318:BB$1682,CALENDRIER!$B$4))/2)","v":0},{"$f":"(COUNTIF(CALENDRIER!BC$1318:BC$1682,CALENDRIER!$A$4))+((COUNTIF(CALENDRIER!BC$1318:BC$1682,CALENDRIER!$B$4))/2)","v":0},{"$f":"(COUNTIF(CALENDRIER!BD$1318:BD$1682,CALENDRIER!$A$4))+((COUNTIF(CALENDRIER!BD$1318:BD$1682,CALENDRIER!$B$4))/2)","v":0},{"$f":"(COUNTIF(CALENDRIER!BE$1318:BE$1682,CALENDRIER!$A$4))+((COUNTIF(CALENDRIER!BE$1318:BE$1682,CALENDRIER!$B$4))/2)","v":0},{"$f":"(COUNTIF(CALENDRIER!BF$1318:BF$1682,CALENDRIER!$A$4))+((COUNTIF(CALENDRIER!BF$1318:BF$1682,CALENDRIER!$B$4))/2)","v":0},{"$f":"(COUNTIF(CALENDRIER!BG$1318:BG$1682,CALENDRIER!$A$4))+((COUNTIF(CALENDRIER!BG$1318:BG$1682,CALENDRIER!$B$4))/2)","v":0},{"$f":"(COUNTIF(CALENDRIER!BH$1318:BH$1682,CALENDRIER!$A$4))+((COUNTIF(CALENDRIER!BH$1318:BH$1682,CALENDRIER!$B$4))/2)","v":0},{"$f":"(COUNTIF(CALENDRIER!BI$1318:BI$1682,CALENDRIER!$A$4))+((COUNTIF(CALENDRIER!BI$1318:BI$1682,CALENDRIER!$B$4))/2)","v":0},{"$f":"(COUNTIF(CALENDRIER!BJ$1318:BJ$1682,CALENDRIER!$A$4))+((COUNTIF(CALENDRIER!BJ$1318:BJ$1682,CALENDRIER!$B$4))/2)","v":0},{"$f":"(COUNTIF(CALENDRIER!BK$1318:BK$1682,CALENDRIER!$A$4))+((COUNTIF(CALENDRIER!BK$1318:BK$1682,CALENDRIER!$B$4))/2)","v":0},{"$f":"(COUNTIF(CALENDRIER!BL$1318:BL$1682,CALENDRIER!$A$4))+((COUNTIF(CALENDRIER!BL$1318:BL$1682,CALENDRIER!$B$4))/2)","v":0},{"$f":"(COUNTIF(CALENDRIER!BM$1318:BM$1682,CALENDRIER!$A$4))+((COUNTIF(CALENDRIER!BM$1318:BM$1682,CALENDRIER!$B$4))/2)","v":0},{"$f":"(COUNTIF(CALENDRIER!BN$1318:BN$1682,CALENDRIER!$A$4))+((COUNTIF(CALENDRIER!BN$1318:BN$1682,CALENDRIER!$B$4))/2)","v":0},{"$f":"(COUNTIF(CALENDRIER!BO$1318:BO$1682,CALENDRIER!$A$4))+((COUNTIF(CALENDRIER!BO$1318:BO$1682,CALENDRIER!$B$4))/2)","v":0},{"$f":"(COUNTIF(CALENDRIER!BP$1318:BP$1682,CALENDRIER!$A$4))+((COUNTIF(CALENDRIER!BP$1318:BP$1682,CALENDRIER!$B$4))/2)","v":0},{"$f":"(COUNTIF(CALENDRIER!BQ$1318:BQ$1682,CALENDRIER!$A$4))+((COUNTIF(CALENDRIER!BQ$1318:BQ$1682,CALENDRIER!$B$4))/2)","v":0},{"$f":"(COUNTIF(CALENDRIER!BR$1318:BR$1682,CALENDRIER!$A$4))+((COUNTIF(CALENDRIER!BR$1318:BR$1682,CALENDRIER!$B$4))/2)","v":0},{"$f":"(COUNTIF(CALENDRIER!BS$1318:BS$1682,CALENDRIER!$A$4))+((COUNTIF(CALENDRIER!BS$1318:BS$1682,CALENDRIER!$B$4))/2)","v":0},{"$f":"(COUNTIF(CALENDRIER!BT$1318:BT$1682,CALENDRIER!$A$4))+((COUNTIF(CALENDRIER!BT$1318:BT$1682,CALENDRIER!$B$4))/2)","v":0},{"$f":"(COUNTIF(CALENDRIER!BU$1318:BU$1682,CALENDRIER!$A$4))+((COUNTIF(CALENDRIER!BU$1318:BU$1682,CALENDRIER!$B$4))/2)","v":0},{"$f":"(COUNTIF(CALENDRIER!BV$1318:BV$1682,CALENDRIER!$A$4))+((COUNTIF(CALENDRIER!BV$1318:BV$1682,CALENDRIER!$B$4))/2)","v":0},{"$f":"(COUNTIF(CALENDRIER!BW$1318:BW$1682,CALENDRIER!$A$4))+((COUNTIF(CALENDRIER!BW$1318:BW$1682,CALENDRIER!$B$4))/2)","v":0},{"$f":"(COUNTIF(CALENDRIER!BX$1318:BX$1682,CALENDRIER!$A$4))+((COUNTIF(CALENDRIER!BX$1318:BX$1682,CALENDRIER!$B$4))/2)","v":0},{"$f":"(COUNTIF(CALENDRIER!BY$1318:BY$1682,CALENDRIER!$A$4))+((COUNTIF(CALENDRIER!BY$1318:BY$1682,CALENDRIER!$B$4))/2)","v":0},{"$f":"(COUNTIF(CALENDRIER!BZ$1318:BZ$1682,CALENDRIER!$A$4))+((COUNTIF(CALENDRIER!BZ$1318:BZ$1682,CALENDRIER!$B$4))/2)","v":0},{"$f":"(COUNTIF(CALENDRIER!CA$1318:CA$1682,CALENDRIER!$A$4))+((COUNTIF(CALENDRIER!CA$1318:CA$1682,CALENDRIER!$B$4))/2)","v":0},{"$f":"(COUNTIF(CALENDRIER!CB$1318:CB$1682,CALENDRIER!$A$4))+((COUNTIF(CALENDRIER!CB$1318:CB$1682,CALENDRIER!$B$4))/2)","v":0},{"$f":"(COUNTIF(CALENDRIER!CC$1318:CC$1682,CALENDRIER!$A$4))+((COUNTIF(CALENDRIER!CC$1318:CC$1682,CALENDRIER!$B$4))/2)","v":0},{"$f":"(COUNTIF(CALENDRIER!CD$1318:CD$1682,CALENDRIER!$A$4))+((COUNTIF(CALENDRIER!CD$1318:CD$1682,CALENDRIER!$B$4))/2)","v":0},{"$f":"(COUNTIF(CALENDRIER!CE$1318:CE$1682,CALENDRIER!$A$4))+((COUNTIF(CALENDRIER!CE$1318:CE$1682,CALENDRIER!$B$4))/2)","v":0},{"$f":"(COUNTIF(CALENDRIER!CF$1318:CF$1682,CALENDRIER!$A$4))+((COUNTIF(CALENDRIER!CF$1318:CF$1682,CALENDRIER!$B$4))/2)","v":0},{"$f":"(COUNTIF(CALENDRIER!CG$1318:CG$1682,CALENDRIER!$A$4))+((COUNTIF(CALENDRIER!CG$1318:CG$1682,CALENDRIER!$B$4))/2)","v":0},{"$f":"(COUNTIF(CALENDRIER!CH$1318:CH$1682,CALENDRIER!$A$4))+((COUNTIF(CALENDRIER!CH$1318:CH$1682,CALENDRIER!$B$4))/2)","v":0},{"$f":"(COUNTIF(CALENDRIER!CI$1318:CI$1682,CALENDRIER!$A$4))+((COUNTIF(CALENDRIER!CI$1318:CI$1682,CALENDRIER!$B$4))/2)","v":0},{"$f":"(COUNTIF(CALENDRIER!CJ$1318:CJ$1682,CALENDRIER!$A$4))+((COUNTIF(CALENDRIER!CJ$1318:CJ$1682,CALENDRIER!$B$4))/2)","v":0},{"$f":"(COUNTIF(CALENDRIER!CK$1318:CK$1682,CALENDRIER!$A$4))+((COUNTIF(CALENDRIER!CK$1318:CK$1682,CALENDRIER!$B$4))/2)","v":0},{"$f":"(COUNTIF(CALENDRIER!CL$1318:CL$1682,CALENDRIER!$A$4))+((COUNTIF(CALENDRIER!CL$1318:CL$1682,CALENDRIER!$B$4))/2)","v":0},{"$f":"(COUNTIF(CALENDRIER!CM$1318:CM$1682,CALENDRIER!$A$4))+((COUNTIF(CALENDRIER!CM$1318:CM$1682,CALENDRIER!$B$4))/2)","v":0},{"$f":"(COUNTIF(CALENDRIER!CN$1318:CN$1682,CALENDRIER!$A$4))+((COUNTIF(CALENDRIER!CN$1318:CN$1682,CALENDRIER!$B$4))/2)","v":0},{"$f":"(COUNTIF(CALENDRIER!CO$1318:CO$1682,CALENDRIER!$A$4))+((COUNTIF(CALENDRIER!CO$1318:CO$1682,CALENDRIER!$B$4))/2)","v":0},{"$f":"(COUNTIF(CALENDRIER!CP$1318:CP$1682,CALENDRIER!$A$4))+((COUNTIF(CALENDRIER!CP$1318:CP$1682,CALENDRIER!$B$4))/2)","v":0},{"$f":"(COUNTIF(CALENDRIER!CQ$1318:CQ$1682,CALENDRIER!$A$4))+((COUNTIF(CALENDRIER!CQ$1318:CQ$1682,CALENDRIER!$B$4))/2)","v":0},{"$f":"(COUNTIF(CALENDRIER!CR$1318:CR$1682,CALENDRIER!$A$4))+((COUNTIF(CALENDRIER!CR$1318:CR$1682,CALENDRIER!$B$4))/2)","v":0},{"$f":"(COUNTIF(CALENDRIER!CS$1318:CS$1682,CALENDRIER!$A$4))+((COUNTIF(CALENDRIER!CS$1318:CS$1682,CALENDRIER!$B$4))/2)","v":0},{"$f":"(COUNTIF(CALENDRIER!CT$1318:CT$1682,CALENDRIER!$A$4))+((COUNTIF(CALENDRIER!CT$1318:CT$1682,CALENDRIER!$B$4))/2)","v":0},{"$f":"(COUNTIF(CALENDRIER!CU$1318:CU$1682,CALENDRIER!$A$4))+((COUNTIF(CALENDRIER!CU$1318:CU$1682,CALENDRIER!$B$4))/2)","v":0},{"$f":"(COUNTIF(CALENDRIER!CV$1318:CV$1682,CALENDRIER!$A$4))+((COUNTIF(CALENDRIER!CV$1318:CV$1682,CALENDRIER!$B$4))/2)","v":0},{"$f":"(COUNTIF(CALENDRIER!CW$1318:CW$1682,CALENDRIER!$A$4))+((COUNTIF(CALENDRIER!CW$1318:CW$1682,CALENDRIER!$B$4))/2)","v":0},{"$f":"(COUNTIF(CALENDRIER!CX$1318:CX$1682,CALENDRIER!$A$4))+((COUNTIF(CALENDRIER!CX$1318:CX$1682,CALENDRIER!$B$4))/2)","v":0},{"$f":"(COUNTIF(CALENDRIER!CY$1318:CY$1682,CALENDRIER!$A$4))+((COUNTIF(CALENDRIER!CY$1318:CY$1682,CALENDRIER!$B$4))/2)","v":0},{"$f":"(COUNTIF(CALENDRIER!CZ$1318:CZ$1682,CALENDRIER!$A$4))+((COUNTIF(CALENDRIER!CZ$1318:CZ$1682,CALENDRIER!$B$4))/2)","v":0},{"$f":"(COUNTIF(CALENDRIER!DA$1318:DA$1682,CALENDRIER!$A$4))+((COUNTIF(CALENDRIER!DA$1318:DA$1682,CALENDRIER!$B$4))/2)","v":0},{"$f":"(COUNTIF(CALENDRIER!DB$1318:DB$1682,CALENDRIER!$A$4))+((COUNTIF(CALENDRIER!DB$1318:DB$1682,CALENDRIER!$B$4))/2)","v":0},{"$f":"(COUNTIF(CALENDRIER!DC$1318:DC$1682,CALENDRIER!$A$4))+((COUNTIF(CALENDRIER!DC$1318:DC$1682,CALENDRIER!$B$4))/2)","v":0},{"$f":"(COUNTIF(CALENDRIER!DD$1318:DD$1682,CALENDRIER!$A$4))+((COUNTIF(CALENDRIER!DD$1318:DD$1682,CALENDRIER!$B$4))/2)","v":0},{"$f":"(COUNTIF(CALENDRIER!DE$1318:DE$1682,CALENDRIER!$A$4))+((COUNTIF(CALENDRIER!DE$1318:DE$1682,CALENDRIER!$B$4))/2)","v":0},{"$f":"(COUNTIF(CALENDRIER!DF$1318:DF$1682,CALENDRIER!$A$4))+((COUNTIF(CALENDRIER!DF$1318:DF$1682,CALENDRIER!$B$4))/2)","v":0},{"$f":"(COUNTIF(CALENDRIER!DG$1318:DG$1682,CALENDRIER!$A$4))+((COUNTIF(CALENDRIER!DG$1318:DG$1682,CALENDRIER!$B$4))/2)","v":0},{"$f":"(COUNTIF(CALENDRIER!DH$1318:DH$1682,CALENDRIER!$A$4))+((COUNTIF(CALENDRIER!DH$1318:DH$1682,CALENDRIER!$B$4))/2)","v":0},{"$f":"(COUNTIF(CALENDRIER!DI$1318:DI$1682,CALENDRIER!$A$4))+((COUNTIF(CALENDRIER!DI$1318:DI$1682,CALENDRIER!$B$4))/2)","v":0},{"$f":"(COUNTIF(CALENDRIER!DJ$1318:DJ$1682,CALENDRIER!$A$4))+((COUNTIF(CALENDRIER!DJ$1318:DJ$1682,CALENDRIER!$B$4))/2)","v":0},{"$f":"(COUNTIF(CALENDRIER!DK$1318:DK$1682,CALENDRIER!$A$4))+((COUNTIF(CALENDRIER!DK$1318:DK$1682,CALENDRIER!$B$4))/2)","v":0},{"$f":"(COUNTIF(CALENDRIER!DL$1318:DL$1682,CALENDRIER!$A$4))+((COUNTIF(CALENDRIER!DL$1318:DL$1682,CALENDRIER!$B$4))/2)","v":0},{"$f":"(COUNTIF(CALENDRIER!DM$1318:DM$1682,CALENDRIER!$A$4))+((COUNTIF(CALENDRIER!DM$1318:DM$1682,CALENDRIER!$B$4))/2)","v":0},{"$f":"(COUNTIF(CALENDRIER!DN$1318:DN$1682,CALENDRIER!$A$4))+((COUNTIF(CALENDRIER!DN$1318:DN$1682,CALENDRIER!$B$4))/2)","v":0},{"$f":"(COUNTIF(CALENDRIER!DO$1318:DO$1682,CALENDRIER!$A$4))+((COUNTIF(CALENDRIER!DO$1318:DO$1682,CALENDRIER!$B$4))/2)","v":0},{"$f":"(COUNTIF(CALENDRIER!DP$1318:DP$1682,CALENDRIER!$A$4))+((COUNTIF(CALENDRIER!DP$1318:DP$1682,CALENDRIER!$B$4))/2)","v":0},{"$f":"(COUNTIF(CALENDRIER!DQ$1318:DQ$1682,CALENDRIER!$A$4))+((COUNTIF(CALENDRIER!DQ$1318:DQ$1682,CALENDRIER!$B$4))/2)","v":0},{"$f":"(COUNTIF(CALENDRIER!DR$1318:DR$1682,CALENDRIER!$A$4))+((COUNTIF(CALENDRIER!DR$1318:DR$1682,CALENDRIER!$B$4))/2)","v":0},{"$f":"(COUNTIF(CALENDRIER!DS$1318:DS$1682,CALENDRIER!$A$4))+((COUNTIF(CALENDRIER!DS$1318:DS$1682,CALENDRIER!$B$4))/2)","v":0},{"$f":"(COUNTIF(CALENDRIER!DT$1318:DT$1682,CALENDRIER!$A$4))+((COUNTIF(CALENDRIER!DT$1318:DT$1682,CALENDRIER!$B$4))/2)","v":0},{"$f":"(COUNTIF(CALENDRIER!DU$1318:DU$1682,CALENDRIER!$A$4))+((COUNTIF(CALENDRIER!DU$1318:DU$1682,CALENDRIER!$B$4))/2)","v":0},{"$f":"(COUNTIF(CALENDRIER!DV$1318:DV$1682,CALENDRIER!$A$4))+((COUNTIF(CALENDRIER!DV$1318:DV$1682,CALENDRIER!$B$4))/2)","v":0},{"$f":"(COUNTIF(CALENDRIER!DW$1318:DW$1682,CALENDRIER!$A$4))+((COUNTIF(CALENDRIER!DW$1318:DW$1682,CALENDRIER!$B$4))/2)","v":0},{"$f":"(COUNTIF(CALENDRIER!DX$1318:DX$1682,CALENDRIER!$A$4))+((COUNTIF(CALENDRIER!DX$1318:DX$1682,CALENDRIER!$B$4))/2)","v":0},{"$f":"(COUNTIF(CALENDRIER!DY$1318:DY$1682,CALENDRIER!$A$4))+((COUNTIF(CALENDRIER!DY$1318:DY$1682,CALENDRIER!$B$4))/2)","v":0},{"$f":"(COUNTIF(CALENDRIER!DZ$1318:DZ$1682,CALENDRIER!$A$4))+((COUNTIF(CALENDRIER!DZ$1318:DZ$1682,CALENDRIER!$B$4))/2)","v":0},{"$f":"(COUNTIF(CALENDRIER!EA$1318:EA$1682,CALENDRIER!$A$4))+((COUNTIF(CALENDRIER!EA$1318:EA$1682,CALENDRIER!$B$4))/2)","v":0},{"$f":"(COUNTIF(CALENDRIER!EB$1318:EB$1682,CALENDRIER!$A$4))+((COUNTIF(CALENDRIER!EB$1318:EB$1682,CALENDRIER!$B$4))/2)","v":0},{"$f":"(COUNTIF(CALENDRIER!EC$1318:EC$1682,CALENDRIER!$A$4))+((COUNTIF(CALENDRIER!EC$1318:EC$1682,CALENDRIER!$B$4))/2)","v":0},{"$f":"(COUNTIF(CALENDRIER!ED$1318:ED$1682,CALENDRIER!$A$4))+((COUNTIF(CALENDRIER!ED$1318:ED$1682,CALENDRIER!$B$4))/2)","v":0},{"$f":"(COUNTIF(CALENDRIER!EE$1318:EE$1682,CALENDRIER!$A$4))+((COUNTIF(CALENDRIER!EE$1318:EE$1682,CALENDRIER!$B$4))/2)","v":0},{"$f":"(COUNTIF(CALENDRIER!EF$1318:EF$1682,CALENDRIER!$A$4))+((COUNTIF(CALENDRIER!EF$1318:EF$1682,CALENDRIER!$B$4))/2)","v":0},{"$f":"(COUNTIF(CALENDRIER!EG$1318:EG$1682,CALENDRIER!$A$4))+((COUNTIF(CALENDRIER!EG$1318:EG$1682,CALENDRIER!$B$4))/2)","v":0},{"$f":"(COUNTIF(CALENDRIER!EH$1318:EH$1682,CALENDRIER!$A$4))+((COUNTIF(CALENDRIER!EH$1318:EH$1682,CALENDRIER!$B$4))/2)","v":0},{"$f":"(COUNTIF(CALENDRIER!EI$1318:EI$1682,CALENDRIER!$A$4))+((COUNTIF(CALENDRIER!EI$1318:EI$1682,CALENDRIER!$B$4))/2)","v":0},{"$f":"(COUNTIF(CALENDRIER!EJ$1318:EJ$1682,CALENDRIER!$A$4))+((COUNTIF(CALENDRIER!EJ$1318:EJ$1682,CALENDRIER!$B$4))/2)","v":0},{"$f":"(COUNTIF(CALENDRIER!EK$1318:EK$1682,CALENDRIER!$A$4))+((COUNTIF(CALENDRIER!EK$1318:EK$1682,CALENDRIER!$B$4))/2)","v":0},{"$f":"(COUNTIF(CALENDRIER!EL$1318:EL$1682,CALENDRIER!$A$4))+((COUNTIF(CALENDRIER!EL$1318:EL$1682,CALENDRIER!$B$4))/2)","v":0},{"$f":"(COUNTIF(CALENDRIER!EM$1318:EM$1682,CALENDRIER!$A$4))+((COUNTIF(CALENDRIER!EM$1318:EM$1682,CALENDRIER!$B$4))/2)","v":0},{"$f":"(COUNTIF(CALENDRIER!EN$1318:EN$1682,CALENDRIER!$A$4))+((COUNTIF(CALENDRIER!EN$1318:EN$1682,CALENDRIER!$B$4))/2)","v":0},{"$f":"(COUNTIF(CALENDRIER!EO$1318:EO$1682,CALENDRIER!$A$4))+((COUNTIF(CALENDRIER!EO$1318:EO$1682,CALENDRIER!$B$4))/2)","v":0},{"$f":"(COUNTIF(CALENDRIER!EP$1318:EP$1682,CALENDRIER!$A$4))+((COUNTIF(CALENDRIER!EP$1318:EP$1682,CALENDRIER!$B$4))/2)","v":0},{"$f":"(COUNTIF(CALENDRIER!EQ$1318:EQ$1682,CALENDRIER!$A$4))+((COUNTIF(CALENDRIER!EQ$1318:EQ$1682,CALENDRIER!$B$4))/2)","v":0},{"$f":"(COUNTIF(CALENDRIER!ER$1318:ER$1682,CALENDRIER!$A$4))+((COUNTIF(CALENDRIER!ER$1318:ER$1682,CALENDRIER!$B$4))/2)","v":0},{"$f":"(COUNTIF(CALENDRIER!ES$1318:ES$1682,CALENDRIER!$A$4))+((COUNTIF(CALENDRIER!ES$1318:ES$1682,CALENDRIER!$B$4))/2)","v":0},{"$f":"(COUNTIF(CALENDRIER!ET$1318:ET$1682,CALENDRIER!$A$4))+((COUNTIF(CALENDRIER!ET$1318:ET$1682,CALENDRIER!$B$4))/2)","v":0},{"$f":"(COUNTIF(CALENDRIER!EU$1318:EU$1682,CALENDRIER!$A$4))+((COUNTIF(CALENDRIER!EU$1318:EU$1682,CALENDRIER!$B$4))/2)","v":0},{"$f":"(COUNTIF(CALENDRIER!EV$1318:EV$1682,CALENDRIER!$A$4))+((COUNTIF(CALENDRIER!EV$1318:EV$1682,CALENDRIER!$B$4))/2)","v":0},{"$f":"(COUNTIF(CALENDRIER!EW$1318:EW$1682,CALENDRIER!$A$4))+((COUNTIF(CALENDRIER!EW$1318:EW$1682,CALENDRIER!$B$4))/2)","v":0},{"$f":"(COUNTIF(CALENDRIER!EX$1318:EX$1682,CALENDRIER!$A$4))+((COUNTIF(CALENDRIER!EX$1318:EX$1682,CALENDRIER!$B$4))/2)","v":0},{"$f":"(COUNTIF(CALENDRIER!EY$1318:EY$1682,CALENDRIER!$A$4))+((COUNTIF(CALENDRIER!EY$1318:EY$1682,CALENDRIER!$B$4))/2)","v":0},{"$f":"(COUNTIF(CALENDRIER!EZ$1318:EZ$1682,CALENDRIER!$A$4))+((COUNTIF(CALENDRIER!EZ$1318:EZ$1682,CALENDRIER!$B$4))/2)","v":0},{"$f":"(COUNTIF(CALENDRIER!FA$1318:FA$1682,CALENDRIER!$A$4))+((COUNTIF(CALENDRIER!FA$1318:FA$1682,CALENDRIER!$B$4))/2)","v":0},{"$f":"(COUNTIF(CALENDRIER!FB$1318:FB$1682,CALENDRIER!$A$4))+((COUNTIF(CALENDRIER!FB$1318:FB$1682,CALENDRIER!$B$4))/2)","v":0},{"$f":"(COUNTIF(CALENDRIER!FC$1318:FC$1682,CALENDRIER!$A$4))+((COUNTIF(CALENDRIER!FC$1318:FC$1682,CALENDRIER!$B$4))/2)","v":0},{"$f":"(COUNTIF(CALENDRIER!FD$1318:FD$1682,CALENDRIER!$A$4))+((COUNTIF(CALENDRIER!FD$1318:FD$1682,CALENDRIER!$B$4))/2)","v":0},{"$f":"(COUNTIF(CALENDRIER!FE$1318:FE$1682,CALENDRIER!$A$4))+((COUNTIF(CALENDRIER!FE$1318:FE$1682,CALENDRIER!$B$4))/2)","v":0},{"$f":"(COUNTIF(CALENDRIER!FF$1318:FF$1682,CALENDRIER!$A$4))+((COUNTIF(CALENDRIER!FF$1318:FF$1682,CALENDRIER!$B$4))/2)","v":0},{"$f":"(COUNTIF(CALENDRIER!FG$1318:FG$1682,CALENDRIER!$A$4))+((COUNTIF(CALENDRIER!FG$1318:FG$1682,CALENDRIER!$B$4))/2)","v":0},{"$f":"(COUNTIF(CALENDRIER!FH$1318:FH$1682,CALENDRIER!$A$4))+((COUNTIF(CALENDRIER!FH$1318:FH$1682,CALENDRIER!$B$4))/2)","v":0},{"$f":"(COUNTIF(CALENDRIER!FI$1318:FI$1682,CALENDRIER!$A$4))+((COUNTIF(CALENDRIER!FI$1318:FI$1682,CALENDRIER!$B$4))/2)","v":0},{"$f":"(COUNTIF(CALENDRIER!FJ$1318:FJ$1682,CALENDRIER!$A$4))+((COUNTIF(CALENDRIER!FJ$1318:FJ$1682,CALENDRIER!$B$4))/2)","v":0},{"$f":"(COUNTIF(CALENDRIER!FK$1318:FK$1682,CALENDRIER!$A$4))+((COUNTIF(CALENDRIER!FK$1318:FK$1682,CALENDRIER!$B$4))/2)","v":0},{"$f":"(COUNTIF(CALENDRIER!FL$1318:FL$1682,CALENDRIER!$A$4))+((COUNTIF(CALENDRIER!FL$1318:FL$1682,CALENDRIER!$B$4))/2)","v":0},{"$f":"(COUNTIF(CALENDRIER!FM$1318:FM$1682,CALENDRIER!$A$4))+((COUNTIF(CALENDRIER!FM$1318:FM$1682,CALENDRIER!$B$4))/2)","v":0},{"$f":"(COUNTIF(CALENDRIER!FN$1318:FN$1682,CALENDRIER!$A$4))+((COUNTIF(CALENDRIER!FN$1318:FN$1682,CALENDRIER!$B$4))/2)","v":0},{"$f":"(COUNTIF(CALENDRIER!FO$1318:FO$1682,CALENDRIER!$A$4))+((COUNTIF(CALENDRIER!FO$1318:FO$1682,CALENDRIER!$B$4))/2)","v":0},{"$f":"(COUNTIF(CALENDRIER!FP$1318:FP$1682,CALENDRIER!$A$4))+((COUNTIF(CALENDRIER!FP$1318:FP$1682,CALENDRIER!$B$4))/2)","v":0},{"$f":"(COUNTIF(CALENDRIER!FQ$1318:FQ$1682,CALENDRIER!$A$4))+((COUNTIF(CALENDRIER!FQ$1318:FQ$1682,CALENDRIER!$B$4))/2)","v":0},{"$f":"(COUNTIF(CALENDRIER!FR$1318:FR$1682,CALENDRIER!$A$4))+((COUNTIF(CALENDRIER!FR$1318:FR$1682,CALENDRIER!$B$4))/2)","v":0},{"$f":"(COUNTIF(CALENDRIER!FS$1318:FS$1682,CALENDRIER!$A$4))+((COUNTIF(CALENDRIER!FS$1318:FS$1682,CALENDRIER!$B$4))/2)","v":0},{"$f":"(COUNTIF(CALENDRIER!FT$1318:FT$1682,CALENDRIER!$A$4))+((COUNTIF(CALENDRIER!FT$1318:FT$1682,CALENDRIER!$B$4))/2)","v":0},{"$f":"(COUNTIF(CALENDRIER!FU$1318:FU$1682,CALENDRIER!$A$4))+((COUNTIF(CALENDRIER!FU$1318:FU$1682,CALENDRIER!$B$4))/2)","v":0},{"$f":"(COUNTIF(CALENDRIER!FV$1318:FV$1682,CALENDRIER!$A$4))+((COUNTIF(CALENDRIER!FV$1318:FV$1682,CALENDRIER!$B$4))/2)","v":0},{"$f":"(COUNTIF(CALENDRIER!FW$1318:FW$1682,CALENDRIER!$A$4))+((COUNTIF(CALENDRIER!FW$1318:FW$1682,CALENDRIER!$B$4))/2)","v":0},{"$f":"(COUNTIF(CALENDRIER!FX$1318:FX$1682,CALENDRIER!$A$4))+((COUNTIF(CALENDRIER!FX$1318:FX$1682,CALENDRIER!$B$4))/2)","v":0},{"$f":"(COUNTIF(CALENDRIER!FY$1318:FY$1682,CALENDRIER!$A$4))+((COUNTIF(CALENDRIER!FY$1318:FY$1682,CALENDRIER!$B$4))/2)","v":0},{"$f":"(COUNTIF(CALENDRIER!FZ$1318:FZ$1682,CALENDRIER!$A$4))+((COUNTIF(CALENDRIER!FZ$1318:FZ$1682,CALENDRIER!$B$4))/2)","v":0},{"$f":"(COUNTIF(CALENDRIER!GA$1318:GA$1682,CALENDRIER!$A$4))+((COUNTIF(CALENDRIER!GA$1318:GA$1682,CALENDRIER!$B$4))/2)","v":0},{"$f":"(COUNTIF(CALENDRIER!GB$1318:GB$1682,CALENDRIER!$A$4))+((COUNTIF(CALENDRIER!GB$1318:GB$1682,CALENDRIER!$B$4))/2)","v":0},{"$f":"(COUNTIF(CALENDRIER!GC$1318:GC$1682,CALENDRIER!$A$4))+((COUNTIF(CALENDRIER!GC$1318:GC$1682,CALENDRIER!$B$4))/2)","v":0},{"$f":"(COUNTIF(CALENDRIER!GD$1318:GD$1682,CALENDRIER!$A$4))+((COUNTIF(CALENDRIER!GD$1318:GD$1682,CALENDRIER!$B$4))/2)","v":0},{"$f":"(COUNTIF(CALENDRIER!GE$1318:GE$1682,CALENDRIER!$A$4))+((COUNTIF(CALENDRIER!GE$1318:GE$1682,CALENDRIER!$B$4))/2)","v":0},{"$f":"(COUNTIF(CALENDRIER!GF$1318:GF$1682,CALENDRIER!$A$4))+((COUNTIF(CALENDRIER!GF$1318:GF$1682,CALENDRIER!$B$4))/2)","v":0},{"$f":"(COUNTIF(CALENDRIER!GG$1318:GG$1682,CALENDRIER!$A$4))+((COUNTIF(CALENDRIER!GG$1318:GG$1682,CALENDRIER!$B$4))/2)","v":0},{"$f":"(COUNTIF(CALENDRIER!GH$1318:GH$1682,CALENDRIER!$A$4))+((COUNTIF(CALENDRIER!GH$1318:GH$1682,CALENDRIER!$B$4))/2)","v":0},{"$f":"(COUNTIF(CALENDRIER!GI$1318:GI$1682,CALENDRIER!$A$4))+((COUNTIF(CALENDRIER!GI$1318:GI$1682,CALENDRIER!$B$4))/2)","v":0},{"$f":"(COUNTIF(CALENDRIER!GJ$1318:GJ$1682,CALENDRIER!$A$4))+((COUNTIF(CALENDRIER!GJ$1318:GJ$1682,CALENDRIER!$B$4))/2)","v":0},{"$f":"(COUNTIF(CALENDRIER!GK$1318:GK$1682,CALENDRIER!$A$4))+((COUNTIF(CALENDRIER!GK$1318:GK$1682,CALENDRIER!$B$4))/2)","v":0},{"$f":"(COUNTIF(CALENDRIER!GL$1318:GL$1682,CALENDRIER!$A$4))+((COUNTIF(CALENDRIER!GL$1318:GL$1682,CALENDRIER!$B$4))/2)","v":0},{"$f":"(COUNTIF(CALENDRIER!GM$1318:GM$1682,CALENDRIER!$A$4))+((COUNTIF(CALENDRIER!GM$1318:GM$1682,CALENDRIER!$B$4))/2)","v":0},{"$f":"(COUNTIF(CALENDRIER!GN$1318:GN$1682,CALENDRIER!$A$4))+((COUNTIF(CALENDRIER!GN$1318:GN$1682,CALENDRIER!$B$4))/2)","v":0},{"$f":"(COUNTIF(CALENDRIER!GO$1318:GO$1682,CALENDRIER!$A$4))+((COUNTIF(CALENDRIER!GO$1318:GO$1682,CALENDRIER!$B$4))/2)","v":0},{"$f":"(COUNTIF(CALENDRIER!GP$1318:GP$1682,CALENDRIER!$A$4))+((COUNTIF(CALENDRIER!GP$1318:GP$1682,CALENDRIER!$B$4))/2)","v":0},{"$f":"(COUNTIF(CALENDRIER!GQ$1318:GQ$1682,CALENDRIER!$A$4))+((COUNTIF(CALENDRIER!GQ$1318:GQ$1682,CALENDRIER!$B$4))/2)","v":0},{"$f":"(COUNTIF(CALENDRIER!GR$1318:GR$1682,CALENDRIER!$A$4))+((COUNTIF(CALENDRIER!GR$1318:GR$1682,CALENDRIER!$B$4))/2)","v":0}]
[null,{"$f":"\"Solde \"&CALENDRIER!$A$4&\" \"&A174&\" : \"","v":"Solde … 2019 : "},{"$f":"C175-C176","v":0},{"$f":"D175-D176","v":0},0,0,0,0,0,0,0,0,0,0,0,0,0,0,0,0,0,0,0,0,0,0,0,0,0,0,0,0,0,0,0,0,0,0,0,0,0,0,0,0,0,0,0,0,0,0,0,0,0,0,0,0,0,0,0,0,0,0,0,0,0,0,0,{"$f":"BP175-BP176","v":0},0,0,0,0,0,0,0,0,0,0,0,0,0,0,0,0,0,0,0,0,0,0,0,0,0,0,0,0,0,0,0,0,0,0,0,0,0,0,0,0,0,0,0,0,0,0,0,0,0,0,0,0,0,0,0,0,0,0,0,0,0,0,0,{"$f":"EB175-EB176","v":0},0,0,0,0,0,0,0,0,0,0,0,0,0,0,0,0,0,0,0,0,0,0,0,0,0,0,0,0,0,0,0,0,0,0,0,0,0,0,0,0,0,0,0,0,0,0,0,0,0,0,0,0,0,0,0,0,0,0,0,0,0,0,0,{"$f":"GN175-GN176","v":0},0,0,0,0]
[]
[2020,{"$f":"CALENDRIER!$A$4","v":"…"}]
[null,"SOLDE DEPART"]
[null,{"$f":"CALENDRIER!$A$4&\" PRIS\"","v":"… PRIS"},{"$f":"(COUNTIF(CALENDRIER!C$1683:C$2048,CALENDRIER!$A$4))+((COUNTIF(CALENDRIER!C$1683:C$2048,CALENDRIER!$B$4))/2)","v":0},{"$f":"(COUNTIF(CALENDRIER!D$1683:D$2048,CALENDRIER!$A$4))+((COUNTIF(CALENDRIER!D$1683:D$2048,CALENDRIER!$B$4))/2)","v":0},{"$f":"(COUNTIF(CALENDRIER!E$1683:E$2048,CALENDRIER!$A$4))+((COUNTIF(CALENDRIER!E$1683:E$2048,CALENDRIER!$B$4))/2)","v":0},{"$f":"(COUNTIF(CALENDRIER!F$1683:F$2048,CALENDRIER!$A$4))+((COUNTIF(CALENDRIER!F$1683:F$2048,CALENDRIER!$B$4))/2)","v":0},{"$f":"(COUNTIF(CALENDRIER!G$1683:G$2048,CALENDRIER!$A$4))+((COUNTIF(CALENDRIER!G$1683:G$2048,CALENDRIER!$B$4))/2)","v":0},{"$f":"(COUNTIF(CALENDRIER!H$1683:H$2048,CALENDRIER!$A$4))+((COUNTIF(CALENDRIER!H$1683:H$2048,CALENDRIER!$B$4))/2)","v":0},{"$f":"(COUNTIF(CALENDRIER!I$1683:I$2048,CALENDRIER!$A$4))+((COUNTIF(CALENDRIER!I$1683:I$2048,CALENDRIER!$B$4))/2)","v":0},{"$f":"(COUNTIF(CALENDRIER!J$1683:J$2048,CALENDRIER!$A$4))+((COUNTIF(CALENDRIER!J$1683:J$2048,CALENDRIER!$B$4))/2)","v":0},{"$f":"(COUNTIF(CALENDRIER!K$1683:K$2048,CALENDRIER!$A$4))+((COUNTIF(CALENDRIER!K$1683:K$2048,CALENDRIER!$B$4))/2)","v":0},{"$f":"(COUNTIF(CALENDRIER!L$1683:L$2048,CALENDRIER!$A$4))+((COUNTIF(CALENDRIER!L$1683:L$2048,CALENDRIER!$B$4))/2)","v":0},{"$f":"(COUNTIF(CALENDRIER!M$1683:M$2048,CALENDRIER!$A$4))+((COUNTIF(CALENDRIER!M$1683:M$2048,CALENDRIER!$B$4))/2)","v":0},{"$f":"(COUNTIF(CALENDRIER!N$1683:N$2048,CALENDRIER!$A$4))+((COUNTIF(CALENDRIER!N$1683:N$2048,CALENDRIER!$B$4))/2)","v":0},{"$f":"(COUNTIF(CALENDRIER!O$1683:O$2048,CALENDRIER!$A$4))+((COUNTIF(CALENDRIER!O$1683:O$2048,CALENDRIER!$B$4))/2)","v":0},{"$f":"(COUNTIF(CALENDRIER!P$1683:P$2048,CALENDRIER!$A$4))+((COUNTIF(CALENDRIER!P$1683:P$2048,CALENDRIER!$B$4))/2)","v":0},{"$f":"(COUNTIF(CALENDRIER!Q$1683:Q$2048,CALENDRIER!$A$4))+((COUNTIF(CALENDRIER!Q$1683:Q$2048,CALENDRIER!$B$4))/2)","v":0},{"$f":"(COUNTIF(CALENDRIER!R$1683:R$2048,CALENDRIER!$A$4))+((COUNTIF(CALENDRIER!R$1683:R$2048,CALENDRIER!$B$4))/2)","v":0},{"$f":"(COUNTIF(CALENDRIER!S$1683:S$2048,CALENDRIER!$A$4))+((COUNTIF(CALENDRIER!S$1683:S$2048,CALENDRIER!$B$4))/2)","v":0},{"$f":"(COUNTIF(CALENDRIER!T$1683:T$2048,CALENDRIER!$A$4))+((COUNTIF(CALENDRIER!T$1683:T$2048,CALENDRIER!$B$4))/2)","v":0},{"$f":"(COUNTIF(CALENDRIER!U$1683:U$2048,CALENDRIER!$A$4))+((COUNTIF(CALENDRIER!U$1683:U$2048,CALENDRIER!$B$4))/2)","v":0},{"$f":"(COUNTIF(CALENDRIER!V$1683:V$2048,CALENDRIER!$A$4))+((COUNTIF(CALENDRIER!V$1683:V$2048,CALENDRIER!$B$4))/2)","v":0},{"$f":"(COUNTIF(CALENDRIER!W$1683:W$2048,CALENDRIER!$A$4))+((COUNTIF(CALENDRIER!W$1683:W$2048,CALENDRIER!$B$4))/2)","v":0},{"$f":"(COUNTIF(CALENDRIER!X$1683:X$2048,CALENDRIER!$A$4))+((COUNTIF(CALENDRIER!X$1683:X$2048,CALENDRIER!$B$4))/2)","v":0},{"$f":"(COUNTIF(CALENDRIER!Y$1683:Y$2048,CALENDRIER!$A$4))+((COUNTIF(CALENDRIER!Y$1683:Y$2048,CALENDRIER!$B$4))/2)","v":0},{"$f":"(COUNTIF(CALENDRIER!Z$1683:Z$2048,CALENDRIER!$A$4))+((COUNTIF(CALENDRIER!Z$1683:Z$2048,CALENDRIER!$B$4))/2)","v":0},{"$f":"(COUNTIF(CALENDRIER!AA$1683:AA$2048,CALENDRIER!$A$4))+((COUNTIF(CALENDRIER!AA$1683:AA$2048,CALENDRIER!$B$4))/2)","v":0},{"$f":"(COUNTIF(CALENDRIER!AB$1683:AB$2048,CALENDRIER!$A$4))+((COUNTIF(CALENDRIER!AB$1683:AB$2048,CALENDRIER!$B$4))/2)","v":0},{"$f":"(COUNTIF(CALENDRIER!AC$1683:AC$2048,CALENDRIER!$A$4))+((COUNTIF(CALENDRIER!AC$1683:AC$2048,CALENDRIER!$B$4))/2)","v":0},{"$f":"(COUNTIF(CALENDRIER!AD$1683:AD$2048,CALENDRIER!$A$4))+((COUNTIF(CALENDRIER!AD$1683:AD$2048,CALENDRIER!$B$4))/2)","v":0},{"$f":"(COUNTIF(CALENDRIER!AE$1683:AE$2048,CALENDRIER!$A$4))+((COUNTIF(CALENDRIER!AE$1683:AE$2048,CALENDRIER!$B$4))/2)","v":0},{"$f":"(COUNTIF(CALENDRIER!AF$1683:AF$2048,CALENDRIER!$A$4))+((COUNTIF(CALENDRIER!AF$1683:AF$2048,CALENDRIER!$B$4))/2)","v":0},{"$f":"(COUNTIF(CALENDRIER!AG$1683:AG$2048,CALENDRIER!$A$4))+((COUNTIF(CALENDRIER!AG$1683:AG$2048,CALENDRIER!$B$4))/2)","v":0},{"$f":"(COUNTIF(CALENDRIER!AH$1683:AH$2048,CALENDRIER!$A$4))+((COUNTIF(CALENDRIER!AH$1683:AH$2048,CALENDRIER!$B$4))/2)","v":0},{"$f":"(COUNTIF(CALENDRIER!AI$1683:AI$2048,CALENDRIER!$A$4))+((COUNTIF(CALENDRIER!AI$1683:AI$2048,CALENDRIER!$B$4))/2)","v":0},{"$f":"(COUNTIF(CALENDRIER!AJ$1683:AJ$2048,CALENDRIER!$A$4))+((COUNTIF(CALENDRIER!AJ$1683:AJ$2048,CALENDRIER!$B$4))/2)","v":0},{"$f":"(COUNTIF(CALENDRIER!AK$1683:AK$2048,CALENDRIER!$A$4))+((COUNTIF(CALENDRIER!AK$1683:AK$2048,CALENDRIER!$B$4))/2)","v":0},{"$f":"(COUNTIF(CALENDRIER!AL$1683:AL$2048,CALENDRIER!$A$4))+((COUNTIF(CALENDRIER!AL$1683:AL$2048,CALENDRIER!$B$4))/2)","v":0},{"$f":"(COUNTIF(CALENDRIER!AM$1683:AM$2048,CALENDRIER!$A$4))+((COUNTIF(CALENDRIER!AM$1683:AM$2048,CALENDRIER!$B$4))/2)","v":0},{"$f":"(COUNTIF(CALENDRIER!AN$1683:AN$2048,CALENDRIER!$A$4))+((COUNTIF(CALENDRIER!AN$1683:AN$2048,CALENDRIER!$B$4))/2)","v":0},{"$f":"(COUNTIF(CALENDRIER!AO$1683:AO$2048,CALENDRIER!$A$4))+((COUNTIF(CALENDRIER!AO$1683:AO$2048,CALENDRIER!$B$4))/2)","v":0},{"$f":"(COUNTIF(CALENDRIER!AP$1683:AP$2048,CALENDRIER!$A$4))+((COUNTIF(CALENDRIER!AP$1683:AP$2048,CALENDRIER!$B$4))/2)","v":0},{"$f":"(COUNTIF(CALENDRIER!AQ$1683:AQ$2048,CALENDRIER!$A$4))+((COUNTIF(CALENDRIER!AQ$1683:AQ$2048,CALENDRIER!$B$4))/2)","v":0},{"$f":"(COUNTIF(CALENDRIER!AR$1683:AR$2048,CALENDRIER!$A$4))+((COUNTIF(CALENDRIER!AR$1683:AR$2048,CALENDRIER!$B$4))/2)","v":0},{"$f":"(COUNTIF(CALENDRIER!AS$1683:AS$2048,CALENDRIER!$A$4))+((COUNTIF(CALENDRIER!AS$1683:AS$2048,CALENDRIER!$B$4))/2)","v":0},{"$f":"(COUNTIF(CALENDRIER!AT$1683:AT$2048,CALENDRIER!$A$4))+((COUNTIF(CALENDRIER!AT$1683:AT$2048,CALENDRIER!$B$4))/2)","v":0},{"$f":"(COUNTIF(CALENDRIER!AU$1683:AU$2048,CALENDRIER!$A$4))+((COUNTIF(CALENDRIER!AU$1683:AU$2048,CALENDRIER!$B$4))/2)","v":0},{"$f":"(COUNTIF(CALENDRIER!AV$1683:AV$2048,CALENDRIER!$A$4))+((COUNTIF(CALENDRIER!AV$1683:AV$2048,CALENDRIER!$B$4))/2)","v":0},{"$f":"(COUNTIF(CALENDRIER!AW$1683:AW$2048,CALENDRIER!$A$4))+((COUNTIF(CALENDRIER!AW$1683:AW$2048,CALENDRIER!$B$4))/2)","v":0},{"$f":"(COUNTIF(CALENDRIER!AX$1683:AX$2048,CALENDRIER!$A$4))+((COUNTIF(CALENDRIER!AX$1683:AX$2048,CALENDRIER!$B$4))/2)","v":0},{"$f":"(COUNTIF(CALENDRIER!AY$1683:AY$2048,CALENDRIER!$A$4))+((COUNTIF(CALENDRIER!AY$1683:AY$2048,CALENDRIER!$B$4))/2)","v":0},{"$f":"(COUNTIF(CALENDRIER!AZ$1683:AZ$2048,CALENDRIER!$A$4))+((COUNTIF(CALENDRIER!AZ$1683:AZ$2048,CALENDRIER!$B$4))/2)","v":0},{"$f":"(COUNTIF(CALENDRIER!BA$1683:BA$2048,CALENDRIER!$A$4))+((COUNTIF(CALENDRIER!BA$1683:BA$2048,CALENDRIER!$B$4))/2)","v":0},{"$f":"(COUNTIF(CALENDRIER!BB$1683:BB$2048,CALENDRIER!$A$4))+((COUNTIF(CALENDRIER!BB$1683:BB$2048,CALENDRIER!$B$4))/2)","v":0},{"$f":"(COUNTIF(CALENDRIER!BC$1683:BC$2048,CALENDRIER!$A$4))+((COUNTIF(CALENDRIER!BC$1683:BC$2048,CALENDRIER!$B$4))/2)","v":0},{"$f":"(COUNTIF(CALENDRIER!BD$1683:BD$2048,CALENDRIER!$A$4))+((COUNTIF(CALENDRIER!BD$1683:BD$2048,CALENDRIER!$B$4))/2)","v":0},{"$f":"(COUNTIF(CALENDRIER!BE$1683:BE$2048,CALENDRIER!$A$4))+((COUNTIF(CALENDRIER!BE$1683:BE$2048,CALENDRIER!$B$4))/2)","v":0},{"$f":"(COUNTIF(CALENDRIER!BF$1683:BF$2048,CALENDRIER!$A$4))+((COUNTIF(CALENDRIER!BF$1683:BF$2048,CALENDRIER!$B$4))/2)","v":0},{"$f":"(COUNTIF(CALENDRIER!BG$1683:BG$2048,CALENDRIER!$A$4))+((COUNTIF(CALENDRIER!BG$1683:BG$2048,CALENDRIER!$B$4))/2)","v":0},{"$f":"(COUNTIF(CALENDRIER!BH$1683:BH$2048,CALENDRIER!$A$4))+((COUNTIF(CALENDRIER!BH$1683:BH$2048,CALENDRIER!$B$4))/2)","v":0},{"$f":"(COUNTIF(CALENDRIER!BI$1683:BI$2048,CALENDRIER!$A$4))+((COUNTIF(CALENDRIER!BI$1683:BI$2048,CALENDRIER!$B$4))/2)","v":0},{"$f":"(COUNTIF(CALENDRIER!BJ$1683:BJ$2048,CALENDRIER!$A$4))+((COUNTIF(CALENDRIER!BJ$1683:BJ$2048,CALENDRIER!$B$4))/2)","v":0},{"$f":"(COUNTIF(CALENDRIER!BK$1683:BK$2048,CALENDRIER!$A$4))+((COUNTIF(CALENDRIER!BK$1683:BK$2048,CALENDRIER!$B$4))/2)","v":0},{"$f":"(COUNTIF(CALENDRIER!BL$1683:BL$2048,CALENDRIER!$A$4))+((COUNTIF(CALENDRIER!BL$1683:BL$2048,CALENDRIER!$B$4))/2)","v":0},{"$f":"(COUNTIF(CALENDRIER!BM$1683:BM$2048,CALENDRIER!$A$4))+((COUNTIF(CALENDRIER!BM$1683:BM$2048,CALENDRIER!$B$4))/2)","v":0},{"$f":"(COUNTIF(CALENDRIER!BN$1683:BN$2048,CALENDRIER!$A$4))+((COUNTIF(CALENDRIER!BN$1683:BN$2048,CALENDRIER!$B$4))/2)","v":0},{"$f":"(COUNTIF(CALENDRIER!BO$1683:BO$2048,CALENDRIER!$A$4))+((COUNTIF(CALENDRIER!BO$1683:BO$2048,CALENDRIER!$B$4))/2)","v":0},{"$f":"(COUNTIF(CALENDRIER!BP$1683:BP$2048,CALENDRIER!$A$4))+((COUNTIF(CALENDRIER!BP$1683:BP$2048,CALENDRIER!$B$4))/2)","v":0},{"$f":"(COUNTIF(CALENDRIER!BQ$1683:BQ$2048,CALENDRIER!$A$4))+((COUNTIF(CALENDRIER!BQ$1683:BQ$2048,CALENDRIER!$B$4))/2)","v":0},{"$f":"(COUNTIF(CALENDRIER!BR$1683:BR$2048,CALENDRIER!$A$4))+((COUNTIF(CALENDRIER!BR$1683:BR$2048,CALENDRIER!$B$4))/2)","v":0},{"$f":"(COUNTIF(CALENDRIER!BS$1683:BS$2048,CALENDRIER!$A$4))+((COUNTIF(CALENDRIER!BS$1683:BS$2048,CALENDRIER!$B$4))/2)","v":0},{"$f":"(COUNTIF(CALENDRIER!BT$1683:BT$2048,CALENDRIER!$A$4))+((COUNTIF(CALENDRIER!BT$1683:BT$2048,CALENDRIER!$B$4))/2)","v":0},{"$f":"(COUNTIF(CALENDRIER!BU$1683:BU$2048,CALENDRIER!$A$4))+((COUNTIF(CALENDRIER!BU$1683:BU$2048,CALENDRIER!$B$4))/2)","v":0},{"$f":"(COUNTIF(CALENDRIER!BV$1683:BV$2048,CALENDRIER!$A$4))+((COUNTIF(CALENDRIER!BV$1683:BV$2048,CALENDRIER!$B$4))/2)","v":0},{"$f":"(COUNTIF(CALENDRIER!BW$1683:BW$2048,CALENDRIER!$A$4))+((COUNTIF(CALENDRIER!BW$1683:BW$2048,CALENDRIER!$B$4))/2)","v":0},{"$f":"(COUNTIF(CALENDRIER!BX$1683:BX$2048,CALENDRIER!$A$4))+((COUNTIF(CALENDRIER!BX$1683:BX$2048,CALENDRIER!$B$4))/2)","v":0},{"$f":"(COUNTIF(CALENDRIER!BY$1683:BY$2048,CALENDRIER!$A$4))+((COUNTIF(CALENDRIER!BY$1683:BY$2048,CALENDRIER!$B$4))/2)","v":0},{"$f":"(COUNTIF(CALENDRIER!BZ$1683:BZ$2048,CALENDRIER!$A$4))+((COUNTIF(CALENDRIER!BZ$1683:BZ$2048,CALENDRIER!$B$4))/2)","v":0},{"$f":"(COUNTIF(CALENDRIER!CA$1683:CA$2048,CALENDRIER!$A$4))+((COUNTIF(CALENDRIER!CA$1683:CA$2048,CALENDRIER!$B$4))/2)","v":0},{"$f":"(COUNTIF(CALENDRIER!CB$1683:CB$2048,CALENDRIER!$A$4))+((COUNTIF(CALENDRIER!CB$1683:CB$2048,CALENDRIER!$B$4))/2)","v":0},{"$f":"(COUNTIF(CALENDRIER!CC$1683:CC$2048,CALENDRIER!$A$4))+((COUNTIF(CALENDRIER!CC$1683:CC$2048,CALENDRIER!$B$4))/2)","v":0},{"$f":"(COUNTIF(CALENDRIER!CD$1683:CD$2048,CALENDRIER!$A$4))+((COUNTIF(CALENDRIER!CD$1683:CD$2048,CALENDRIER!$B$4))/2)","v":0},{"$f":"(COUNTIF(CALENDRIER!CE$1683:CE$2048,CALENDRIER!$A$4))+((COUNTIF(CALENDRIER!CE$1683:CE$2048,CALENDRIER!$B$4))/2)","v":0},{"$f":"(COUNTIF(CALENDRIER!CF$1683:CF$2048,CALENDRIER!$A$4))+((COUNTIF(CALENDRIER!CF$1683:CF$2048,CALENDRIER!$B$4))/2)","v":0},{"$f":"(COUNTIF(CALENDRIER!CG$1683:CG$2048,CALENDRIER!$A$4))+((COUNTIF(CALENDRIER!CG$1683:CG$2048,CALENDRIER!$B$4))/2)","v":0},{"$f":"(COUNTIF(CALENDRIER!CH$1683:CH$2048,CALENDRIER!$A$4))+((COUNTIF(CALENDRIER!CH$1683:CH$2048,CALENDRIER!$B$4))/2)","v":0},{"$f":"(COUNTIF(CALENDRIER!CI$1683:CI$2048,CALENDRIER!$A$4))+((COUNTIF(CALENDRIER!CI$1683:CI$2048,CALENDRIER!$B$4))/2)","v":0},{"$f":"(COUNTIF(CALENDRIER!CJ$1683:CJ$2048,CALENDRIER!$A$4))+((COUNTIF(CALENDRIER!CJ$1683:CJ$2048,CALENDRIER!$B$4))/2)","v":0},{"$f":"(COUNTIF(CALENDRIER!CK$1683:CK$2048,CALENDRIER!$A$4))+((COUNTIF(CALENDRIER!CK$1683:CK$2048,CALENDRIER!$B$4))/2)","v":0},{"$f":"(COUNTIF(CALENDRIER!CL$1683:CL$2048,CALENDRIER!$A$4))+((COUNTIF(CALENDRIER!CL$1683:CL$2048,CALENDRIER!$B$4))/2)","v":0},{"$f":"(COUNTIF(CALENDRIER!CM$1683:CM$2048,CALENDRIER!$A$4))+((COUNTIF(CALENDRIER!CM$1683:CM$2048,CALENDRIER!$B$4))/2)","v":0},{"$f":"(COUNTIF(CALENDRIER!CN$1683:CN$2048,CALENDRIER!$A$4))+((COUNTIF(CALENDRIER!CN$1683:CN$2048,CALENDRIER!$B$4))/2)","v":0},{"$f":"(COUNTIF(CALENDRIER!CO$1683:CO$2048,CALENDRIER!$A$4))+((COUNTIF(CALENDRIER!CO$1683:CO$2048,CALENDRIER!$B$4))/2)","v":0},{"$f":"(COUNTIF(CALENDRIER!CP$1683:CP$2048,CALENDRIER!$A$4))+((COUNTIF(CALENDRIER!CP$1683:CP$2048,CALENDRIER!$B$4))/2)","v":0},{"$f":"(COUNTIF(CALENDRIER!CQ$1683:CQ$2048,CALENDRIER!$A$4))+((COUNTIF(CALENDRIER!CQ$1683:CQ$2048,CALENDRIER!$B$4))/2)","v":0},{"$f":"(COUNTIF(CALENDRIER!CR$1683:CR$2048,CALENDRIER!$A$4))+((COUNTIF(CALENDRIER!CR$1683:CR$2048,CALENDRIER!$B$4))/2)","v":0},{"$f":"(COUNTIF(CALENDRIER!CS$1683:CS$2048,CALENDRIER!$A$4))+((COUNTIF(CALENDRIER!CS$1683:CS$2048,CALENDRIER!$B$4))/2)","v":0},{"$f":"(COUNTIF(CALENDRIER!CT$1683:CT$2048,CALENDRIER!$A$4))+((COUNTIF(CALENDRIER!CT$1683:CT$2048,CALENDRIER!$B$4))/2)","v":0},{"$f":"(COUNTIF(CALENDRIER!CU$1683:CU$2048,CALENDRIER!$A$4))+((COUNTIF(CALENDRIER!CU$1683:CU$2048,CALENDRIER!$B$4))/2)","v":0},{"$f":"(COUNTIF(CALENDRIER!CV$1683:CV$2048,CALENDRIER!$A$4))+((COUNTIF(CALENDRIER!CV$1683:CV$2048,CALENDRIER!$B$4))/2)","v":0},{"$f":"(COUNTIF(CALENDRIER!CW$1683:CW$2048,CALENDRIER!$A$4))+((COUNTIF(CALENDRIER!CW$1683:CW$2048,CALENDRIER!$B$4))/2)","v":0},{"$f":"(COUNTIF(CALENDRIER!CX$1683:CX$2048,CALENDRIER!$A$4))+((COUNTIF(CALENDRIER!CX$1683:CX$2048,CALENDRIER!$B$4))/2)","v":0},{"$f":"(COUNTIF(CALENDRIER!CY$1683:CY$2048,CALENDRIER!$A$4))+((COUNTIF(CALENDRIER!CY$1683:CY$2048,CALENDRIER!$B$4))/2)","v":0},{"$f":"(COUNTIF(CALENDRIER!CZ$1683:CZ$2048,CALENDRIER!$A$4))+((COUNTIF(CALENDRIER!CZ$1683:CZ$2048,CALENDRIER!$B$4))/2)","v":0},{"$f":"(COUNTIF(CALENDRIER!DA$1683:DA$2048,CALENDRIER!$A$4))+((COUNTIF(CALENDRIER!DA$1683:DA$2048,CALENDRIER!$B$4))/2)","v":0},{"$f":"(COUNTIF(CALENDRIER!DB$1683:DB$2048,CALENDRIER!$A$4))+((COUNTIF(CALENDRIER!DB$1683:DB$2048,CALENDRIER!$B$4))/2)","v":0},{"$f":"(COUNTIF(CALENDRIER!DC$1683:DC$2048,CALENDRIER!$A$4))+((COUNTIF(CALENDRIER!DC$1683:DC$2048,CALENDRIER!$B$4))/2)","v":0},{"$f":"(COUNTIF(CALENDRIER!DD$1683:DD$2048,CALENDRIER!$A$4))+((COUNTIF(CALENDRIER!DD$1683:DD$2048,CALENDRIER!$B$4))/2)","v":0},{"$f":"(COUNTIF(CALENDRIER!DE$1683:DE$2048,CALENDRIER!$A$4))+((COUNTIF(CALENDRIER!DE$1683:DE$2048,CALENDRIER!$B$4))/2)","v":0},{"$f":"(COUNTIF(CALENDRIER!DF$1683:DF$2048,CALENDRIER!$A$4))+((COUNTIF(CALENDRIER!DF$1683:DF$2048,CALENDRIER!$B$4))/2)","v":0},{"$f":"(COUNTIF(CALENDRIER!DG$1683:DG$2048,CALENDRIER!$A$4))+((COUNTIF(CALENDRIER!DG$1683:DG$2048,CALENDRIER!$B$4))/2)","v":0},{"$f":"(COUNTIF(CALENDRIER!DH$1683:DH$2048,CALENDRIER!$A$4))+((COUNTIF(CALENDRIER!DH$1683:DH$2048,CALENDRIER!$B$4))/2)","v":0},{"$f":"(COUNTIF(CALENDRIER!DI$1683:DI$2048,CALENDRIER!$A$4))+((COUNTIF(CALENDRIER!DI$1683:DI$2048,CALENDRIER!$B$4))/2)","v":0},{"$f":"(COUNTIF(CALENDRIER!DJ$1683:DJ$2048,CALENDRIER!$A$4))+((COUNTIF(CALENDRIER!DJ$1683:DJ$2048,CALENDRIER!$B$4))/2)","v":0},{"$f":"(COUNTIF(CALENDRIER!DK$1683:DK$2048,CALENDRIER!$A$4))+((COUNTIF(CALENDRIER!DK$1683:DK$2048,CALENDRIER!$B$4))/2)","v":0},{"$f":"(COUNTIF(CALENDRIER!DL$1683:DL$2048,CALENDRIER!$A$4))+((COUNTIF(CALENDRIER!DL$1683:DL$2048,CALENDRIER!$B$4))/2)","v":0},{"$f":"(COUNTIF(CALENDRIER!DM$1683:DM$2048,CALENDRIER!$A$4))+((COUNTIF(CALENDRIER!DM$1683:DM$2048,CALENDRIER!$B$4))/2)","v":0},{"$f":"(COUNTIF(CALENDRIER!DN$1683:DN$2048,CALENDRIER!$A$4))+((COUNTIF(CALENDRIER!DN$1683:DN$2048,CALENDRIER!$B$4))/2)","v":0},{"$f":"(COUNTIF(CALENDRIER!DO$1683:DO$2048,CALENDRIER!$A$4))+((COUNTIF(CALENDRIER!DO$1683:DO$2048,CALENDRIER!$B$4))/2)","v":0},{"$f":"(COUNTIF(CALENDRIER!DP$1683:DP$2048,CALENDRIER!$A$4))+((COUNTIF(CALENDRIER!DP$1683:DP$2048,CALENDRIER!$B$4))/2)","v":0},{"$f":"(COUNTIF(CALENDRIER!DQ$1683:DQ$2048,CALENDRIER!$A$4))+((COUNTIF(CALENDRIER!DQ$1683:DQ$2048,CALENDRIER!$B$4))/2)","v":0},{"$f":"(COUNTIF(CALENDRIER!DR$1683:DR$2048,CALENDRIER!$A$4))+((COUNTIF(CALENDRIER!DR$1683:DR$2048,CALENDRIER!$B$4))/2)","v":0},{"$f":"(COUNTIF(CALENDRIER!DS$1683:DS$2048,CALENDRIER!$A$4))+((COUNTIF(CALENDRIER!DS$1683:DS$2048,CALENDRIER!$B$4))/2)","v":0},{"$f":"(COUNTIF(CALENDRIER!DT$1683:DT$2048,CALENDRIER!$A$4))+((COUNTIF(CALENDRIER!DT$1683:DT$2048,CALENDRIER!$B$4))/2)","v":0},{"$f":"(COUNTIF(CALENDRIER!DU$1683:DU$2048,CALENDRIER!$A$4))+((COUNTIF(CALENDRIER!DU$1683:DU$2048,CALENDRIER!$B$4))/2)","v":0},{"$f":"(COUNTIF(CALENDRIER!DV$1683:DV$2048,CALENDRIER!$A$4))+((COUNTIF(CALENDRIER!DV$1683:DV$2048,CALENDRIER!$B$4))/2)","v":0},{"$f":"(COUNTIF(CALENDRIER!DW$1683:DW$2048,CALENDRIER!$A$4))+((COUNTIF(CALENDRIER!DW$1683:DW$2048,CALENDRIER!$B$4))/2)","v":0},{"$f":"(COUNTIF(CALENDRIER!DX$1683:DX$2048,CALENDRIER!$A$4))+((COUNTIF(CALENDRIER!DX$1683:DX$2048,CALENDRIER!$B$4))/2)","v":0},{"$f":"(COUNTIF(CALENDRIER!DY$1683:DY$2048,CALENDRIER!$A$4))+((COUNTIF(CALENDRIER!DY$1683:DY$2048,CALENDRIER!$B$4))/2)","v":0},{"$f":"(COUNTIF(CALENDRIER!DZ$1683:DZ$2048,CALENDRIER!$A$4))+((COUNTIF(CALENDRIER!DZ$1683:DZ$2048,CALENDRIER!$B$4))/2)","v":0},{"$f":"(COUNTIF(CALENDRIER!EA$1683:EA$2048,CALENDRIER!$A$4))+((COUNTIF(CALENDRIER!EA$1683:EA$2048,CALENDRIER!$B$4))/2)","v":0},{"$f":"(COUNTIF(CALENDRIER!EB$1683:EB$2048,CALENDRIER!$A$4))+((COUNTIF(CALENDRIER!EB$1683:EB$2048,CALENDRIER!$B$4))/2)","v":0},{"$f":"(COUNTIF(CALENDRIER!EC$1683:EC$2048,CALENDRIER!$A$4))+((COUNTIF(CALENDRIER!EC$1683:EC$2048,CALENDRIER!$B$4))/2)","v":0},{"$f":"(COUNTIF(CALENDRIER!ED$1683:ED$2048,CALENDRIER!$A$4))+((COUNTIF(CALENDRIER!ED$1683:ED$2048,CALENDRIER!$B$4))/2)","v":0},{"$f":"(COUNTIF(CALENDRIER!EE$1683:EE$2048,CALENDRIER!$A$4))+((COUNTIF(CALENDRIER!EE$1683:EE$2048,CALENDRIER!$B$4))/2)","v":0},{"$f":"(COUNTIF(CALENDRIER!EF$1683:EF$2048,CALENDRIER!$A$4))+((COUNTIF(CALENDRIER!EF$1683:EF$2048,CALENDRIER!$B$4))/2)","v":0},{"$f":"(COUNTIF(CALENDRIER!EG$1683:EG$2048,CALENDRIER!$A$4))+((COUNTIF(CALENDRIER!EG$1683:EG$2048,CALENDRIER!$B$4))/2)","v":0},{"$f":"(COUNTIF(CALENDRIER!EH$1683:EH$2048,CALENDRIER!$A$4))+((COUNTIF(CALENDRIER!EH$1683:EH$2048,CALENDRIER!$B$4))/2)","v":0},{"$f":"(COUNTIF(CALENDRIER!EI$1683:EI$2048,CALENDRIER!$A$4))+((COUNTIF(CALENDRIER!EI$1683:EI$2048,CALENDRIER!$B$4))/2)","v":0},{"$f":"(COUNTIF(CALENDRIER!EJ$1683:EJ$2048,CALENDRIER!$A$4))+((COUNTIF(CALENDRIER!EJ$1683:EJ$2048,CALENDRIER!$B$4))/2)","v":0},{"$f":"(COUNTIF(CALENDRIER!EK$1683:EK$2048,CALENDRIER!$A$4))+((COUNTIF(CALENDRIER!EK$1683:EK$2048,CALENDRIER!$B$4))/2)","v":0},{"$f":"(COUNTIF(CALENDRIER!EL$1683:EL$2048,CALENDRIER!$A$4))+((COUNTIF(CALENDRIER!EL$1683:EL$2048,CALENDRIER!$B$4))/2)","v":0},{"$f":"(COUNTIF(CALENDRIER!EM$1683:EM$2048,CALENDRIER!$A$4))+((COUNTIF(CALENDRIER!EM$1683:EM$2048,CALENDRIER!$B$4))/2)","v":0},{"$f":"(COUNTIF(CALENDRIER!EN$1683:EN$2048,CALENDRIER!$A$4))+((COUNTIF(CALENDRIER!EN$1683:EN$2048,CALENDRIER!$B$4))/2)","v":0},{"$f":"(COUNTIF(CALENDRIER!EO$1683:EO$2048,CALENDRIER!$A$4))+((COUNTIF(CALENDRIER!EO$1683:EO$2048,CALENDRIER!$B$4))/2)","v":0},{"$f":"(COUNTIF(CALENDRIER!EP$1683:EP$2048,CALENDRIER!$A$4))+((COUNTIF(CALENDRIER!EP$1683:EP$2048,CALENDRIER!$B$4))/2)","v":0},{"$f":"(COUNTIF(CALENDRIER!EQ$1683:EQ$2048,CALENDRIER!$A$4))+((COUNTIF(CALENDRIER!EQ$1683:EQ$2048,CALENDRIER!$B$4))/2)","v":0},{"$f":"(COUNTIF(CALENDRIER!ER$1683:ER$2048,CALENDRIER!$A$4))+((COUNTIF(CALENDRIER!ER$1683:ER$2048,CALENDRIER!$B$4))/2)","v":0},{"$f":"(COUNTIF(CALENDRIER!ES$1683:ES$2048,CALENDRIER!$A$4))+((COUNTIF(CALENDRIER!ES$1683:ES$2048,CALENDRIER!$B$4))/2)","v":0},{"$f":"(COUNTIF(CALENDRIER!ET$1683:ET$2048,CALENDRIER!$A$4))+((COUNTIF(CALENDRIER!ET$1683:ET$2048,CALENDRIER!$B$4))/2)","v":0},{"$f":"(COUNTIF(CALENDRIER!EU$1683:EU$2048,CALENDRIER!$A$4))+((COUNTIF(CALENDRIER!EU$1683:EU$2048,CALENDRIER!$B$4))/2)","v":0},{"$f":"(COUNTIF(CALENDRIER!EV$1683:EV$2048,CALENDRIER!$A$4))+((COUNTIF(CALENDRIER!EV$1683:EV$2048,CALENDRIER!$B$4))/2)","v":0},{"$f":"(COUNTIF(CALENDRIER!EW$1683:EW$2048,CALENDRIER!$A$4))+((COUNTIF(CALENDRIER!EW$1683:EW$2048,CALENDRIER!$B$4))/2)","v":0},{"$f":"(COUNTIF(CALENDRIER!EX$1683:EX$2048,CALENDRIER!$A$4))+((COUNTIF(CALENDRIER!EX$1683:EX$2048,CALENDRIER!$B$4))/2)","v":0},{"$f":"(COUNTIF(CALENDRIER!EY$1683:EY$2048,CALENDRIER!$A$4))+((COUNTIF(CALENDRIER!EY$1683:EY$2048,CALENDRIER!$B$4))/2)","v":0},{"$f":"(COUNTIF(CALENDRIER!EZ$1683:EZ$2048,CALENDRIER!$A$4))+((COUNTIF(CALENDRIER!EZ$1683:EZ$2048,CALENDRIER!$B$4))/2)","v":0},{"$f":"(COUNTIF(CALENDRIER!FA$1683:FA$2048,CALENDRIER!$A$4))+((COUNTIF(CALENDRIER!FA$1683:FA$2048,CALENDRIER!$B$4))/2)","v":0},{"$f":"(COUNTIF(CALENDRIER!FB$1683:FB$2048,CALENDRIER!$A$4))+((COUNTIF(CALENDRIER!FB$1683:FB$2048,CALENDRIER!$B$4))/2)","v":0},{"$f":"(COUNTIF(CALENDRIER!FC$1683:FC$2048,CALENDRIER!$A$4))+((COUNTIF(CALENDRIER!FC$1683:FC$2048,CALENDRIER!$B$4))/2)","v":0},{"$f":"(COUNTIF(CALENDRIER!FD$1683:FD$2048,CALENDRIER!$A$4))+((COUNTIF(CALENDRIER!FD$1683:FD$2048,CALENDRIER!$B$4))/2)","v":0},{"$f":"(COUNTIF(CALENDRIER!FE$1683:FE$2048,CALENDRIER!$A$4))+((COUNTIF(CALENDRIER!FE$1683:FE$2048,CALENDRIER!$B$4))/2)","v":0},{"$f":"(COUNTIF(CALENDRIER!FF$1683:FF$2048,CALENDRIER!$A$4))+((COUNTIF(CALENDRIER!FF$1683:FF$2048,CALENDRIER!$B$4))/2)","v":0},{"$f":"(COUNTIF(CALENDRIER!FG$1683:FG$2048,CALENDRIER!$A$4))+((COUNTIF(CALENDRIER!FG$1683:FG$2048,CALENDRIER!$B$4))/2)","v":0},{"$f":"(COUNTIF(CALENDRIER!FH$1683:FH$2048,CALENDRIER!$A$4))+((COUNTIF(CALENDRIER!FH$1683:FH$2048,CALENDRIER!$B$4))/2)","v":0},{"$f":"(COUNTIF(CALENDRIER!FI$1683:FI$2048,CALENDRIER!$A$4))+((COUNTIF(CALENDRIER!FI$1683:FI$2048,CALENDRIER!$B$4))/2)","v":0},{"$f":"(COUNTIF(CALENDRIER!FJ$1683:FJ$2048,CALENDRIER!$A$4))+((COUNTIF(CALENDRIER!FJ$1683:FJ$2048,CALENDRIER!$B$4))/2)","v":0},{"$f":"(COUNTIF(CALENDRIER!FK$1683:FK$2048,CALENDRIER!$A$4))+((COUNTIF(CALENDRIER!FK$1683:FK$2048,CALENDRIER!$B$4))/2)","v":0},{"$f":"(COUNTIF(CALENDRIER!FL$1683:FL$2048,CALENDRIER!$A$4))+((COUNTIF(CALENDRIER!FL$1683:FL$2048,CALENDRIER!$B$4))/2)","v":0},{"$f":"(COUNTIF(CALENDRIER!FM$1683:FM$2048,CALENDRIER!$A$4))+((COUNTIF(CALENDRIER!FM$1683:FM$2048,CALENDRIER!$B$4))/2)","v":0},{"$f":"(COUNTIF(CALENDRIER!FN$1683:FN$2048,CALENDRIER!$A$4))+((COUNTIF(CALENDRIER!FN$1683:FN$2048,CALENDRIER!$B$4))/2)","v":0},{"$f":"(COUNTIF(CALENDRIER!FO$1683:FO$2048,CALENDRIER!$A$4))+((COUNTIF(CALENDRIER!FO$1683:FO$2048,CALENDRIER!$B$4))/2)","v":0},{"$f":"(COUNTIF(CALENDRIER!FP$1683:FP$2048,CALENDRIER!$A$4))+((COUNTIF(CALENDRIER!FP$1683:FP$2048,CALENDRIER!$B$4))/2)","v":0},{"$f":"(COUNTIF(CALENDRIER!FQ$1683:FQ$2048,CALENDRIER!$A$4))+((COUNTIF(CALENDRIER!FQ$1683:FQ$2048,CALENDRIER!$B$4))/2)","v":0},{"$f":"(COUNTIF(CALENDRIER!FR$1683:FR$2048,CALENDRIER!$A$4))+((COUNTIF(CALENDRIER!FR$1683:FR$2048,CALENDRIER!$B$4))/2)","v":0},{"$f":"(COUNTIF(CALENDRIER!FS$1683:FS$2048,CALENDRIER!$A$4))+((COUNTIF(CALENDRIER!FS$1683:FS$2048,CALENDRIER!$B$4))/2)","v":0},{"$f":"(COUNTIF(CALENDRIER!FT$1683:FT$2048,CALENDRIER!$A$4))+((COUNTIF(CALENDRIER!FT$1683:FT$2048,CALENDRIER!$B$4))/2)","v":0},{"$f":"(COUNTIF(CALENDRIER!FU$1683:FU$2048,CALENDRIER!$A$4))+((COUNTIF(CALENDRIER!FU$1683:FU$2048,CALENDRIER!$B$4))/2)","v":0},{"$f":"(COUNTIF(CALENDRIER!FV$1683:FV$2048,CALENDRIER!$A$4))+((COUNTIF(CALENDRIER!FV$1683:FV$2048,CALENDRIER!$B$4))/2)","v":0},{"$f":"(COUNTIF(CALENDRIER!FW$1683:FW$2048,CALENDRIER!$A$4))+((COUNTIF(CALENDRIER!FW$1683:FW$2048,CALENDRIER!$B$4))/2)","v":0},{"$f":"(COUNTIF(CALENDRIER!FX$1683:FX$2048,CALENDRIER!$A$4))+((COUNTIF(CALENDRIER!FX$1683:FX$2048,CALENDRIER!$B$4))/2)","v":0},{"$f":"(COUNTIF(CALENDRIER!FY$1683:FY$2048,CALENDRIER!$A$4))+((COUNTIF(CALENDRIER!FY$1683:FY$2048,CALENDRIER!$B$4))/2)","v":0},{"$f":"(COUNTIF(CALENDRIER!FZ$1683:FZ$2048,CALENDRIER!$A$4))+((COUNTIF(CALENDRIER!FZ$1683:FZ$2048,CALENDRIER!$B$4))/2)","v":0},{"$f":"(COUNTIF(CALENDRIER!GA$1683:GA$2048,CALENDRIER!$A$4))+((COUNTIF(CALENDRIER!GA$1683:GA$2048,CALENDRIER!$B$4))/2)","v":0},{"$f":"(COUNTIF(CALENDRIER!GB$1683:GB$2048,CALENDRIER!$A$4))+((COUNTIF(CALENDRIER!GB$1683:GB$2048,CALENDRIER!$B$4))/2)","v":0},{"$f":"(COUNTIF(CALENDRIER!GC$1683:GC$2048,CALENDRIER!$A$4))+((COUNTIF(CALENDRIER!GC$1683:GC$2048,CALENDRIER!$B$4))/2)","v":0},{"$f":"(COUNTIF(CALENDRIER!GD$1683:GD$2048,CALENDRIER!$A$4))+((COUNTIF(CALENDRIER!GD$1683:GD$2048,CALENDRIER!$B$4))/2)","v":0},{"$f":"(COUNTIF(CALENDRIER!GE$1683:GE$2048,CALENDRIER!$A$4))+((COUNTIF(CALENDRIER!GE$1683:GE$2048,CALENDRIER!$B$4))/2)","v":0},{"$f":"(COUNTIF(CALENDRIER!GF$1683:GF$2048,CALENDRIER!$A$4))+((COUNTIF(CALENDRIER!GF$1683:GF$2048,CALENDRIER!$B$4))/2)","v":0},{"$f":"(COUNTIF(CALENDRIER!GG$1683:GG$2048,CALENDRIER!$A$4))+((COUNTIF(CALENDRIER!GG$1683:GG$2048,CALENDRIER!$B$4))/2)","v":0},{"$f":"(COUNTIF(CALENDRIER!GH$1683:GH$2048,CALENDRIER!$A$4))+((COUNTIF(CALENDRIER!GH$1683:GH$2048,CALENDRIER!$B$4))/2)","v":0},{"$f":"(COUNTIF(CALENDRIER!GI$1683:GI$2048,CALENDRIER!$A$4))+((COUNTIF(CALENDRIER!GI$1683:GI$2048,CALENDRIER!$B$4))/2)","v":0},{"$f":"(COUNTIF(CALENDRIER!GJ$1683:GJ$2048,CALENDRIER!$A$4))+((COUNTIF(CALENDRIER!GJ$1683:GJ$2048,CALENDRIER!$B$4))/2)","v":0},{"$f":"(COUNTIF(CALENDRIER!GK$1683:GK$2048,CALENDRIER!$A$4))+((COUNTIF(CALENDRIER!GK$1683:GK$2048,CALENDRIER!$B$4))/2)","v":0},{"$f":"(COUNTIF(CALENDRIER!GL$1683:GL$2048,CALENDRIER!$A$4))+((COUNTIF(CALENDRIER!GL$1683:GL$2048,CALENDRIER!$B$4))/2)","v":0},{"$f":"(COUNTIF(CALENDRIER!GM$1683:GM$2048,CALENDRIER!$A$4))+((COUNTIF(CALENDRIER!GM$1683:GM$2048,CALENDRIER!$B$4))/2)","v":0},{"$f":"(COUNTIF(CALENDRIER!GN$1683:GN$2048,CALENDRIER!$A$4))+((COUNTIF(CALENDRIER!GN$1683:GN$2048,CALENDRIER!$B$4))/2)","v":0},{"$f":"(COUNTIF(CALENDRIER!GO$1683:GO$2048,CALENDRIER!$A$4))+((COUNTIF(CALENDRIER!GO$1683:GO$2048,CALENDRIER!$B$4))/2)","v":0},{"$f":"(COUNTIF(CALENDRIER!GP$1683:GP$2048,CALENDRIER!$A$4))+((COUNTIF(CALENDRIER!GP$1683:GP$2048,CALENDRIER!$B$4))/2)","v":0},{"$f":"(COUNTIF(CALENDRIER!GQ$1683:GQ$2048,CALENDRIER!$A$4))+((COUNTIF(CALENDRIER!GQ$1683:GQ$2048,CALENDRIER!$B$4))/2)","v":0},{"$f":"(COUNTIF(CALENDRIER!GR$1683:GR$2048,CALENDRIER!$A$4))+((COUNTIF(CALENDRIER!GR$1683:GR$2048,CALENDRIER!$B$4))/2)","v":0}]
[null,{"$f":"\"Solde \"&CALENDRIER!$A$4&\" \"&A179&\" : \"","v":"Solde … 2020 : "},{"$f":"C180-C181","v":0},{"$f":"D180-D181","v":0},0,0,0,0,0,0,0,0,0,0,0,0,0,0,0,0,0,0,0,0,0,0,0,0,0,0,0,0,0,0,0,0,0,0,0,0,0,0,0,0,0,0,0,0,0,0,0,0,0,0,0,0,0,0,0,0,0,0,0,0,0,0,0,{"$f":"BP180-BP181","v":0},0,0,0,0,0,0,0,0,0,0,0,0,0,0,0,0,0,0,0,0,0,0,0,0,0,0,0,0,0,0,0,0,0,0,0,0,0,0,0,0,0,0,0,0,0,0,0,0,0,0,0,0,0,0,0,0,0,0,0,0,0,0,0,{"$f":"EB180-EB181","v":0},0,0,0,0,0,0,0,0,0,0,0,0,0,0,0,0,0,0,0,0,0,0,0,0,0,0,0,0,0,0,0,0,0,0,0,0,0,0,0,0,0,0,0,0,0,0,0,0,0,0,0,0,0,0,0,0,0,0,0,0,0,0,0,{"$f":"GN180-GN181","v":0},0,0,0,0]
[]
[]
[]
[]
[]
[]
[]
[]
[]
[]
[]
[]
[]
[]
[]
[]
[]
[]
[]
[]
["année civile (du 1er janvier au 31 décembre)"]
[2016,{"$f":"CALENDRIER!$A$5","v":"…"}]
[null,"SOLDE DEPART"]
[null,{"$f":"CALENDRIER!$A$5&\" PRIS\"","v":"… PRIS"},{"$f":"(COUNTIF(CALENDRIER!C$222:C$587,CALENDRIER!$A$5))+((COUNTIF(CALENDRIER!C$222:C$587,CALENDRIER!$B$5))/2)","v":0},{"$f":"(COUNTIF(CALENDRIER!D$222:D$587,CALENDRIER!$A$5))+((COUNTIF(CALENDRIER!D$222:D$587,CALENDRIER!$B$5))/2)","v":0},{"$f":"(COUNTIF(CALENDRIER!E$222:E$587,CALENDRIER!$A$5))+((COUNTIF(CALENDRIER!E$222:E$587,CALENDRIER!$B$5))/2)","v":0},{"$f":"(COUNTIF(CALENDRIER!F$222:F$587,CALENDRIER!$A$5))+((COUNTIF(CALENDRIER!F$222:F$587,CALENDRIER!$B$5))/2)","v":0},{"$f":"(COUNTIF(CALENDRIER!G$222:G$587,CALENDRIER!$A$5))+((COUNTIF(CALENDRIER!G$222:G$587,CALENDRIER!$B$5))/2)","v":0},{"$f":"(COUNTIF(CALENDRIER!H$222:H$587,CALENDRIER!$A$5))+((COUNTIF(CALENDRIER!H$222:H$587,CALENDRIER!$B$5))/2)","v":0},{"$f":"(COUNTIF(CALENDRIER!I$222:I$587,CALENDRIER!$A$5))+((COUNTIF(CALENDRIER!I$222:I$587,CALENDRIER!$B$5))/2)","v":0},{"$f":"(COUNTIF(CALENDRIER!J$222:J$587,CALENDRIER!$A$5))+((COUNTIF(CALENDRIER!J$222:J$587,CALENDRIER!$B$5))/2)","v":0},{"$f":"(COUNTIF(CALENDRIER!K$222:K$587,CALENDRIER!$A$5))+((COUNTIF(CALENDRIER!K$222:K$587,CALENDRIER!$B$5))/2)","v":0},{"$f":"(COUNTIF(CALENDRIER!L$222:L$587,CALENDRIER!$A$5))+((COUNTIF(CALENDRIER!L$222:L$587,CALENDRIER!$B$5))/2)","v":0},{"$f":"(COUNTIF(CALENDRIER!M$222:M$587,CALENDRIER!$A$5))+((COUNTIF(CALENDRIER!M$222:M$587,CALENDRIER!$B$5))/2)","v":0},{"$f":"(COUNTIF(CALENDRIER!N$222:N$587,CALENDRIER!$A$5))+((COUNTIF(CALENDRIER!N$222:N$587,CALENDRIER!$B$5))/2)","v":0},{"$f":"(COUNTIF(CALENDRIER!O$222:O$587,CALENDRIER!$A$5))+((COUNTIF(CALENDRIER!O$222:O$587,CALENDRIER!$B$5))/2)","v":0},{"$f":"(COUNTIF(CALENDRIER!P$222:P$587,CALENDRIER!$A$5))+((COUNTIF(CALENDRIER!P$222:P$587,CALENDRIER!$B$5))/2)","v":0},{"$f":"(COUNTIF(CALENDRIER!Q$222:Q$587,CALENDRIER!$A$5))+((COUNTIF(CALENDRIER!Q$222:Q$587,CALENDRIER!$B$5))/2)","v":0},{"$f":"(COUNTIF(CALENDRIER!R$222:R$587,CALENDRIER!$A$5))+((COUNTIF(CALENDRIER!R$222:R$587,CALENDRIER!$B$5))/2)","v":0},{"$f":"(COUNTIF(CALENDRIER!S$222:S$587,CALENDRIER!$A$5))+((COUNTIF(CALENDRIER!S$222:S$587,CALENDRIER!$B$5))/2)","v":0},{"$f":"(COUNTIF(CALENDRIER!T$222:T$587,CALENDRIER!$A$5))+((COUNTIF(CALENDRIER!T$222:T$587,CALENDRIER!$B$5))/2)","v":0},{"$f":"(COUNTIF(CALENDRIER!U$222:U$587,CALENDRIER!$A$5))+((COUNTIF(CALENDRIER!U$222:U$587,CALENDRIER!$B$5))/2)","v":0},{"$f":"(COUNTIF(CALENDRIER!V$222:V$587,CALENDRIER!$A$5))+((COUNTIF(CALENDRIER!V$222:V$587,CALENDRIER!$B$5))/2)","v":0},{"$f":"(COUNTIF(CALENDRIER!W$222:W$587,CALENDRIER!$A$5))+((COUNTIF(CALENDRIER!W$222:W$587,CALENDRIER!$B$5))/2)","v":0},{"$f":"(COUNTIF(CALENDRIER!X$222:X$587,CALENDRIER!$A$5))+((COUNTIF(CALENDRIER!X$222:X$587,CALENDRIER!$B$5))/2)","v":0},{"$f":"(COUNTIF(CALENDRIER!Y$222:Y$587,CALENDRIER!$A$5))+((COUNTIF(CALENDRIER!Y$222:Y$587,CALENDRIER!$B$5))/2)","v":0},{"$f":"(COUNTIF(CALENDRIER!Z$222:Z$587,CALENDRIER!$A$5))+((COUNTIF(CALENDRIER!Z$222:Z$587,CALENDRIER!$B$5))/2)","v":0},{"$f":"(COUNTIF(CALENDRIER!AA$222:AA$587,CALENDRIER!$A$5))+((COUNTIF(CALENDRIER!AA$222:AA$587,CALENDRIER!$B$5))/2)","v":0},{"$f":"(COUNTIF(CALENDRIER!AB$222:AB$587,CALENDRIER!$A$5))+((COUNTIF(CALENDRIER!AB$222:AB$587,CALENDRIER!$B$5))/2)","v":0},{"$f":"(COUNTIF(CALENDRIER!AC$222:AC$587,CALENDRIER!$A$5))+((COUNTIF(CALENDRIER!AC$222:AC$587,CALENDRIER!$B$5))/2)","v":0},{"$f":"(COUNTIF(CALENDRIER!AD$222:AD$587,CALENDRIER!$A$5))+((COUNTIF(CALENDRIER!AD$222:AD$587,CALENDRIER!$B$5))/2)","v":0},{"$f":"(COUNTIF(CALENDRIER!AE$222:AE$587,CALENDRIER!$A$5))+((COUNTIF(CALENDRIER!AE$222:AE$587,CALENDRIER!$B$5))/2)","v":0},{"$f":"(COUNTIF(CALENDRIER!AF$222:AF$587,CALENDRIER!$A$5))+((COUNTIF(CALENDRIER!AF$222:AF$587,CALENDRIER!$B$5))/2)","v":0},{"$f":"(COUNTIF(CALENDRIER!AG$222:AG$587,CALENDRIER!$A$5))+((COUNTIF(CALENDRIER!AG$222:AG$587,CALENDRIER!$B$5))/2)","v":0},{"$f":"(COUNTIF(CALENDRIER!AH$222:AH$587,CALENDRIER!$A$5))+((COUNTIF(CALENDRIER!AH$222:AH$587,CALENDRIER!$B$5))/2)","v":0},{"$f":"(COUNTIF(CALENDRIER!AI$222:AI$587,CALENDRIER!$A$5))+((COUNTIF(CALENDRIER!AI$222:AI$587,CALENDRIER!$B$5))/2)","v":0},{"$f":"(COUNTIF(CALENDRIER!AJ$222:AJ$587,CALENDRIER!$A$5))+((COUNTIF(CALENDRIER!AJ$222:AJ$587,CALENDRIER!$B$5))/2)","v":0},{"$f":"(COUNTIF(CALENDRIER!AK$222:AK$587,CALENDRIER!$A$5))+((COUNTIF(CALENDRIER!AK$222:AK$587,CALENDRIER!$B$5))/2)","v":0},{"$f":"(COUNTIF(CALENDRIER!AL$222:AL$587,CALENDRIER!$A$5))+((COUNTIF(CALENDRIER!AL$222:AL$587,CALENDRIER!$B$5))/2)","v":0},{"$f":"(COUNTIF(CALENDRIER!AM$222:AM$587,CALENDRIER!$A$5))+((COUNTIF(CALENDRIER!AM$222:AM$587,CALENDRIER!$B$5))/2)","v":0},{"$f":"(COUNTIF(CALENDRIER!AN$222:AN$587,CALENDRIER!$A$5))+((COUNTIF(CALENDRIER!AN$222:AN$587,CALENDRIER!$B$5))/2)","v":0},{"$f":"(COUNTIF(CALENDRIER!AO$222:AO$587,CALENDRIER!$A$5))+((COUNTIF(CALENDRIER!AO$222:AO$587,CALENDRIER!$B$5))/2)","v":0},{"$f":"(COUNTIF(CALENDRIER!AP$222:AP$587,CALENDRIER!$A$5))+((COUNTIF(CALENDRIER!AP$222:AP$587,CALENDRIER!$B$5))/2)","v":0},{"$f":"(COUNTIF(CALENDRIER!AQ$222:AQ$587,CALENDRIER!$A$5))+((COUNTIF(CALENDRIER!AQ$222:AQ$587,CALENDRIER!$B$5))/2)","v":0},{"$f":"(COUNTIF(CALENDRIER!AR$222:AR$587,CALENDRIER!$A$5))+((COUNTIF(CALENDRIER!AR$222:AR$587,CALENDRIER!$B$5))/2)","v":0},{"$f":"(COUNTIF(CALENDRIER!AS$222:AS$587,CALENDRIER!$A$5))+((COUNTIF(CALENDRIER!AS$222:AS$587,CALENDRIER!$B$5))/2)","v":0},{"$f":"(COUNTIF(CALENDRIER!AT$222:AT$587,CALENDRIER!$A$5))+((COUNTIF(CALENDRIER!AT$222:AT$587,CALENDRIER!$B$5))/2)","v":0},{"$f":"(COUNTIF(CALENDRIER!AU$222:AU$587,CALENDRIER!$A$5))+((COUNTIF(CALENDRIER!AU$222:AU$587,CALENDRIER!$B$5))/2)","v":0},{"$f":"(COUNTIF(CALENDRIER!AV$222:AV$587,CALENDRIER!$A$5))+((COUNTIF(CALENDRIER!AV$222:AV$587,CALENDRIER!$B$5))/2)","v":0},{"$f":"(COUNTIF(CALENDRIER!AW$222:AW$587,CALENDRIER!$A$5))+((COUNTIF(CALENDRIER!AW$222:AW$587,CALENDRIER!$B$5))/2)","v":0},{"$f":"(COUNTIF(CALENDRIER!AX$222:AX$587,CALENDRIER!$A$5))+((COUNTIF(CALENDRIER!AX$222:AX$587,CALENDRIER!$B$5))/2)","v":0},{"$f":"(COUNTIF(CALENDRIER!AY$222:AY$587,CALENDRIER!$A$5))+((COUNTIF(CALENDRIER!AY$222:AY$587,CALENDRIER!$B$5))/2)","v":0},{"$f":"(COUNTIF(CALENDRIER!AZ$222:AZ$587,CALENDRIER!$A$5))+((COUNTIF(CALENDRIER!AZ$222:AZ$587,CALENDRIER!$B$5))/2)","v":0},{"$f":"(COUNTIF(CALENDRIER!BA$222:BA$587,CALENDRIER!$A$5))+((COUNTIF(CALENDRIER!BA$222:BA$587,CALENDRIER!$B$5))/2)","v":0},{"$f":"(COUNTIF(CALENDRIER!BB$222:BB$587,CALENDRIER!$A$5))+((COUNTIF(CALENDRIER!BB$222:BB$587,CALENDRIER!$B$5))/2)","v":0},{"$f":"(COUNTIF(CALENDRIER!BC$222:BC$587,CALENDRIER!$A$5))+((COUNTIF(CALENDRIER!BC$222:BC$587,CALENDRIER!$B$5))/2)","v":0},{"$f":"(COUNTIF(CALENDRIER!BD$222:BD$587,CALENDRIER!$A$5))+((COUNTIF(CALENDRIER!BD$222:BD$587,CALENDRIER!$B$5))/2)","v":0},{"$f":"(COUNTIF(CALENDRIER!BE$222:BE$587,CALENDRIER!$A$5))+((COUNTIF(CALENDRIER!BE$222:BE$587,CALENDRIER!$B$5))/2)","v":0},{"$f":"(COUNTIF(CALENDRIER!BF$222:BF$587,CALENDRIER!$A$5))+((COUNTIF(CALENDRIER!BF$222:BF$587,CALENDRIER!$B$5))/2)","v":0},{"$f":"(COUNTIF(CALENDRIER!BG$222:BG$587,CALENDRIER!$A$5))+((COUNTIF(CALENDRIER!BG$222:BG$587,CALENDRIER!$B$5))/2)","v":0},{"$f":"(COUNTIF(CALENDRIER!BH$222:BH$587,CALENDRIER!$A$5))+((COUNTIF(CALENDRIER!BH$222:BH$587,CALENDRIER!$B$5))/2)","v":0},{"$f":"(COUNTIF(CALENDRIER!BI$222:BI$587,CALENDRIER!$A$5))+((COUNTIF(CALENDRIER!BI$222:BI$587,CALENDRIER!$B$5))/2)","v":0},{"$f":"(COUNTIF(CALENDRIER!BJ$222:BJ$587,CALENDRIER!$A$5))+((COUNTIF(CALENDRIER!BJ$222:BJ$587,CALENDRIER!$B$5))/2)","v":0},{"$f":"(COUNTIF(CALENDRIER!BK$222:BK$587,CALENDRIER!$A$5))+((COUNTIF(CALENDRIER!BK$222:BK$587,CALENDRIER!$B$5))/2)","v":0},{"$f":"(COUNTIF(CALENDRIER!BL$222:BL$587,CALENDRIER!$A$5))+((COUNTIF(CALENDRIER!BL$222:BL$587,CALENDRIER!$B$5))/2)","v":0},{"$f":"(COUNTIF(CALENDRIER!BM$222:BM$587,CALENDRIER!$A$5))+((COUNTIF(CALENDRIER!BM$222:BM$587,CALENDRIER!$B$5))/2)","v":0},{"$f":"(COUNTIF(CALENDRIER!BN$222:BN$587,CALENDRIER!$A$5))+((COUNTIF(CALENDRIER!BN$222:BN$587,CALENDRIER!$B$5))/2)","v":0},{"$f":"(COUNTIF(CALENDRIER!BO$222:BO$587,CALENDRIER!$A$5))+((COUNTIF(CALENDRIER!BO$222:BO$587,CALENDRIER!$B$5))/2)","v":0},{"$f":"(COUNTIF(CALENDRIER!BP$222:BP$587,CALENDRIER!$A$5))+((COUNTIF(CALENDRIER!BP$222:BP$587,CALENDRIER!$B$5))/2)","v":0},{"$f":"(COUNTIF(CALENDRIER!BQ$222:BQ$587,CALENDRIER!$A$5))+((COUNTIF(CALENDRIER!BQ$222:BQ$587,CALENDRIER!$B$5))/2)","v":0},{"$f":"(COUNTIF(CALENDRIER!BR$222:BR$587,CALENDRIER!$A$5))+((COUNTIF(CALENDRIER!BR$222:BR$587,CALENDRIER!$B$5))/2)","v":0},{"$f":"(COUNTIF(CALENDRIER!BS$222:BS$587,CALENDRIER!$A$5))+((COUNTIF(CALENDRIER!BS$222:BS$587,CALENDRIER!$B$5))/2)","v":0},{"$f":"(COUNTIF(CALENDRIER!BT$222:BT$587,CALENDRIER!$A$5))+((COUNTIF(CALENDRIER!BT$222:BT$587,CALENDRIER!$B$5))/2)","v":0},{"$f":"(COUNTIF(CALENDRIER!BU$222:BU$587,CALENDRIER!$A$5))+((COUNTIF(CALENDRIER!BU$222:BU$587,CALENDRIER!$B$5))/2)","v":0},{"$f":"(COUNTIF(CALENDRIER!BV$222:BV$587,CALENDRIER!$A$5))+((COUNTIF(CALENDRIER!BV$222:BV$587,CALENDRIER!$B$5))/2)","v":0},{"$f":"(COUNTIF(CALENDRIER!BW$222:BW$587,CALENDRIER!$A$5))+((COUNTIF(CALENDRIER!BW$222:BW$587,CALENDRIER!$B$5))/2)","v":0},{"$f":"(COUNTIF(CALENDRIER!BX$222:BX$587,CALENDRIER!$A$5))+((COUNTIF(CALENDRIER!BX$222:BX$587,CALENDRIER!$B$5))/2)","v":0},{"$f":"(COUNTIF(CALENDRIER!BY$222:BY$587,CALENDRIER!$A$5))+((COUNTIF(CALENDRIER!BY$222:BY$587,CALENDRIER!$B$5))/2)","v":0},{"$f":"(COUNTIF(CALENDRIER!BZ$222:BZ$587,CALENDRIER!$A$5))+((COUNTIF(CALENDRIER!BZ$222:BZ$587,CALENDRIER!$B$5))/2)","v":0},{"$f":"(COUNTIF(CALENDRIER!CA$222:CA$587,CALENDRIER!$A$5))+((COUNTIF(CALENDRIER!CA$222:CA$587,CALENDRIER!$B$5))/2)","v":0},{"$f":"(COUNTIF(CALENDRIER!CB$222:CB$587,CALENDRIER!$A$5))+((COUNTIF(CALENDRIER!CB$222:CB$587,CALENDRIER!$B$5))/2)","v":0},{"$f":"(COUNTIF(CALENDRIER!CC$222:CC$587,CALENDRIER!$A$5))+((COUNTIF(CALENDRIER!CC$222:CC$587,CALENDRIER!$B$5))/2)","v":0},{"$f":"(COUNTIF(CALENDRIER!CD$222:CD$587,CALENDRIER!$A$5))+((COUNTIF(CALENDRIER!CD$222:CD$587,CALENDRIER!$B$5))/2)","v":0},{"$f":"(COUNTIF(CALENDRIER!CE$222:CE$587,CALENDRIER!$A$5))+((COUNTIF(CALENDRIER!CE$222:CE$587,CALENDRIER!$B$5))/2)","v":0},{"$f":"(COUNTIF(CALENDRIER!CF$222:CF$587,CALENDRIER!$A$5))+((COUNTIF(CALENDRIER!CF$222:CF$587,CALENDRIER!$B$5))/2)","v":0},{"$f":"(COUNTIF(CALENDRIER!CG$222:CG$587,CALENDRIER!$A$5))+((COUNTIF(CALENDRIER!CG$222:CG$587,CALENDRIER!$B$5))/2)","v":0},{"$f":"(COUNTIF(CALENDRIER!CH$222:CH$587,CALENDRIER!$A$5))+((COUNTIF(CALENDRIER!CH$222:CH$587,CALENDRIER!$B$5))/2)","v":0},{"$f":"(COUNTIF(CALENDRIER!CI$222:CI$587,CALENDRIER!$A$5))+((COUNTIF(CALENDRIER!CI$222:CI$587,CALENDRIER!$B$5))/2)","v":0},{"$f":"(COUNTIF(CALENDRIER!CJ$222:CJ$587,CALENDRIER!$A$5))+((COUNTIF(CALENDRIER!CJ$222:CJ$587,CALENDRIER!$B$5))/2)","v":0},{"$f":"(COUNTIF(CALENDRIER!CK$222:CK$587,CALENDRIER!$A$5))+((COUNTIF(CALENDRIER!CK$222:CK$587,CALENDRIER!$B$5))/2)","v":0},{"$f":"(COUNTIF(CALENDRIER!CL$222:CL$587,CALENDRIER!$A$5))+((COUNTIF(CALENDRIER!CL$222:CL$587,CALENDRIER!$B$5))/2)","v":0},{"$f":"(COUNTIF(CALENDRIER!CM$222:CM$587,CALENDRIER!$A$5))+((COUNTIF(CALENDRIER!CM$222:CM$587,CALENDRIER!$B$5))/2)","v":0},{"$f":"(COUNTIF(CALENDRIER!CN$222:CN$587,CALENDRIER!$A$5))+((COUNTIF(CALENDRIER!CN$222:CN$587,CALENDRIER!$B$5))/2)","v":0},{"$f":"(COUNTIF(CALENDRIER!CO$222:CO$587,CALENDRIER!$A$5))+((COUNTIF(CALENDRIER!CO$222:CO$587,CALENDRIER!$B$5))/2)","v":0},{"$f":"(COUNTIF(CALENDRIER!CP$222:CP$587,CALENDRIER!$A$5))+((COUNTIF(CALENDRIER!CP$222:CP$587,CALENDRIER!$B$5))/2)","v":0},{"$f":"(COUNTIF(CALENDRIER!CQ$222:CQ$587,CALENDRIER!$A$5))+((COUNTIF(CALENDRIER!CQ$222:CQ$587,CALENDRIER!$B$5))/2)","v":0},{"$f":"(COUNTIF(CALENDRIER!CR$222:CR$587,CALENDRIER!$A$5))+((COUNTIF(CALENDRIER!CR$222:CR$587,CALENDRIER!$B$5))/2)","v":0},{"$f":"(COUNTIF(CALENDRIER!CS$222:CS$587,CALENDRIER!$A$5))+((COUNTIF(CALENDRIER!CS$222:CS$587,CALENDRIER!$B$5))/2)","v":0},{"$f":"(COUNTIF(CALENDRIER!CT$222:CT$587,CALENDRIER!$A$5))+((COUNTIF(CALENDRIER!CT$222:CT$587,CALENDRIER!$B$5))/2)","v":0},{"$f":"(COUNTIF(CALENDRIER!CU$222:CU$587,CALENDRIER!$A$5))+((COUNTIF(CALENDRIER!CU$222:CU$587,CALENDRIER!$B$5))/2)","v":0},{"$f":"(COUNTIF(CALENDRIER!CV$222:CV$587,CALENDRIER!$A$5))+((COUNTIF(CALENDRIER!CV$222:CV$587,CALENDRIER!$B$5))/2)","v":0},{"$f":"(COUNTIF(CALENDRIER!CW$222:CW$587,CALENDRIER!$A$5))+((COUNTIF(CALENDRIER!CW$222:CW$587,CALENDRIER!$B$5))/2)","v":0},{"$f":"(COUNTIF(CALENDRIER!CX$222:CX$587,CALENDRIER!$A$5))+((COUNTIF(CALENDRIER!CX$222:CX$587,CALENDRIER!$B$5))/2)","v":0},{"$f":"(COUNTIF(CALENDRIER!CY$222:CY$587,CALENDRIER!$A$5))+((COUNTIF(CALENDRIER!CY$222:CY$587,CALENDRIER!$B$5))/2)","v":0},{"$f":"(COUNTIF(CALENDRIER!CZ$222:CZ$587,CALENDRIER!$A$5))+((COUNTIF(CALENDRIER!CZ$222:CZ$587,CALENDRIER!$B$5))/2)","v":0},{"$f":"(COUNTIF(CALENDRIER!DA$222:DA$587,CALENDRIER!$A$5))+((COUNTIF(CALENDRIER!DA$222:DA$587,CALENDRIER!$B$5))/2)","v":0},{"$f":"(COUNTIF(CALENDRIER!DB$222:DB$587,CALENDRIER!$A$5))+((COUNTIF(CALENDRIER!DB$222:DB$587,CALENDRIER!$B$5))/2)","v":0},{"$f":"(COUNTIF(CALENDRIER!DC$222:DC$587,CALENDRIER!$A$5))+((COUNTIF(CALENDRIER!DC$222:DC$587,CALENDRIER!$B$5))/2)","v":0},{"$f":"(COUNTIF(CALENDRIER!DD$222:DD$587,CALENDRIER!$A$5))+((COUNTIF(CALENDRIER!DD$222:DD$587,CALENDRIER!$B$5))/2)","v":0},{"$f":"(COUNTIF(CALENDRIER!DE$222:DE$587,CALENDRIER!$A$5))+((COUNTIF(CALENDRIER!DE$222:DE$587,CALENDRIER!$B$5))/2)","v":0},{"$f":"(COUNTIF(CALENDRIER!DF$222:DF$587,CALENDRIER!$A$5))+((COUNTIF(CALENDRIER!DF$222:DF$587,CALENDRIER!$B$5))/2)","v":0},{"$f":"(COUNTIF(CALENDRIER!DG$222:DG$587,CALENDRIER!$A$5))+((COUNTIF(CALENDRIER!DG$222:DG$587,CALENDRIER!$B$5))/2)","v":0},{"$f":"(COUNTIF(CALENDRIER!DH$222:DH$587,CALENDRIER!$A$5))+((COUNTIF(CALENDRIER!DH$222:DH$587,CALENDRIER!$B$5))/2)","v":0},{"$f":"(COUNTIF(CALENDRIER!DI$222:DI$587,CALENDRIER!$A$5))+((COUNTIF(CALENDRIER!DI$222:DI$587,CALENDRIER!$B$5))/2)","v":0},{"$f":"(COUNTIF(CALENDRIER!DJ$222:DJ$587,CALENDRIER!$A$5))+((COUNTIF(CALENDRIER!DJ$222:DJ$587,CALENDRIER!$B$5))/2)","v":0},{"$f":"(COUNTIF(CALENDRIER!DK$222:DK$587,CALENDRIER!$A$5))+((COUNTIF(CALENDRIER!DK$222:DK$587,CALENDRIER!$B$5))/2)","v":0},{"$f":"(COUNTIF(CALENDRIER!DL$222:DL$587,CALENDRIER!$A$5))+((COUNTIF(CALENDRIER!DL$222:DL$587,CALENDRIER!$B$5))/2)","v":0},{"$f":"(COUNTIF(CALENDRIER!DM$222:DM$587,CALENDRIER!$A$5))+((COUNTIF(CALENDRIER!DM$222:DM$587,CALENDRIER!$B$5))/2)","v":0},{"$f":"(COUNTIF(CALENDRIER!DN$222:DN$587,CALENDRIER!$A$5))+((COUNTIF(CALENDRIER!DN$222:DN$587,CALENDRIER!$B$5))/2)","v":0},{"$f":"(COUNTIF(CALENDRIER!DO$222:DO$587,CALENDRIER!$A$5))+((COUNTIF(CALENDRIER!DO$222:DO$587,CALENDRIER!$B$5))/2)","v":0},{"$f":"(COUNTIF(CALENDRIER!DP$222:DP$587,CALENDRIER!$A$5))+((COUNTIF(CALENDRIER!DP$222:DP$587,CALENDRIER!$B$5))/2)","v":0},{"$f":"(COUNTIF(CALENDRIER!DQ$222:DQ$587,CALENDRIER!$A$5))+((COUNTIF(CALENDRIER!DQ$222:DQ$587,CALENDRIER!$B$5))/2)","v":0},{"$f":"(COUNTIF(CALENDRIER!DR$222:DR$587,CALENDRIER!$A$5))+((COUNTIF(CALENDRIER!DR$222:DR$587,CALENDRIER!$B$5))/2)","v":0},{"$f":"(COUNTIF(CALENDRIER!DS$222:DS$587,CALENDRIER!$A$5))+((COUNTIF(CALENDRIER!DS$222:DS$587,CALENDRIER!$B$5))/2)","v":0},{"$f":"(COUNTIF(CALENDRIER!DT$222:DT$587,CALENDRIER!$A$5))+((COUNTIF(CALENDRIER!DT$222:DT$587,CALENDRIER!$B$5))/2)","v":0},{"$f":"(COUNTIF(CALENDRIER!DU$222:DU$587,CALENDRIER!$A$5))+((COUNTIF(CALENDRIER!DU$222:DU$587,CALENDRIER!$B$5))/2)","v":0},{"$f":"(COUNTIF(CALENDRIER!DV$222:DV$587,CALENDRIER!$A$5))+((COUNTIF(CALENDRIER!DV$222:DV$587,CALENDRIER!$B$5))/2)","v":0},{"$f":"(COUNTIF(CALENDRIER!DW$222:DW$587,CALENDRIER!$A$5))+((COUNTIF(CALENDRIER!DW$222:DW$587,CALENDRIER!$B$5))/2)","v":0},{"$f":"(COUNTIF(CALENDRIER!DX$222:DX$587,CALENDRIER!$A$5))+((COUNTIF(CALENDRIER!DX$222:DX$587,CALENDRIER!$B$5))/2)","v":0},{"$f":"(COUNTIF(CALENDRIER!DY$222:DY$587,CALENDRIER!$A$5))+((COUNTIF(CALENDRIER!DY$222:DY$587,CALENDRIER!$B$5))/2)","v":0},{"$f":"(COUNTIF(CALENDRIER!DZ$222:DZ$587,CALENDRIER!$A$5))+((COUNTIF(CALENDRIER!DZ$222:DZ$587,CALENDRIER!$B$5))/2)","v":0},{"$f":"(COUNTIF(CALENDRIER!EA$222:EA$587,CALENDRIER!$A$5))+((COUNTIF(CALENDRIER!EA$222:EA$587,CALENDRIER!$B$5))/2)","v":0},{"$f":"(COUNTIF(CALENDRIER!EB$222:EB$587,CALENDRIER!$A$5))+((COUNTIF(CALENDRIER!EB$222:EB$587,CALENDRIER!$B$5))/2)","v":0},{"$f":"(COUNTIF(CALENDRIER!EC$222:EC$587,CALENDRIER!$A$5))+((COUNTIF(CALENDRIER!EC$222:EC$587,CALENDRIER!$B$5))/2)","v":0},{"$f":"(COUNTIF(CALENDRIER!ED$222:ED$587,CALENDRIER!$A$5))+((COUNTIF(CALENDRIER!ED$222:ED$587,CALENDRIER!$B$5))/2)","v":0},{"$f":"(COUNTIF(CALENDRIER!EE$222:EE$587,CALENDRIER!$A$5))+((COUNTIF(CALENDRIER!EE$222:EE$587,CALENDRIER!$B$5))/2)","v":0},{"$f":"(COUNTIF(CALENDRIER!EF$222:EF$587,CALENDRIER!$A$5))+((COUNTIF(CALENDRIER!EF$222:EF$587,CALENDRIER!$B$5))/2)","v":0},{"$f":"(COUNTIF(CALENDRIER!EG$222:EG$587,CALENDRIER!$A$5))+((COUNTIF(CALENDRIER!EG$222:EG$587,CALENDRIER!$B$5))/2)","v":0},{"$f":"(COUNTIF(CALENDRIER!EH$222:EH$587,CALENDRIER!$A$5))+((COUNTIF(CALENDRIER!EH$222:EH$587,CALENDRIER!$B$5))/2)","v":0},{"$f":"(COUNTIF(CALENDRIER!EI$222:EI$587,CALENDRIER!$A$5))+((COUNTIF(CALENDRIER!EI$222:EI$587,CALENDRIER!$B$5))/2)","v":0},{"$f":"(COUNTIF(CALENDRIER!EJ$222:EJ$587,CALENDRIER!$A$5))+((COUNTIF(CALENDRIER!EJ$222:EJ$587,CALENDRIER!$B$5))/2)","v":0},{"$f":"(COUNTIF(CALENDRIER!EK$222:EK$587,CALENDRIER!$A$5))+((COUNTIF(CALENDRIER!EK$222:EK$587,CALENDRIER!$B$5))/2)","v":0},{"$f":"(COUNTIF(CALENDRIER!EL$222:EL$587,CALENDRIER!$A$5))+((COUNTIF(CALENDRIER!EL$222:EL$587,CALENDRIER!$B$5))/2)","v":0},{"$f":"(COUNTIF(CALENDRIER!EM$222:EM$587,CALENDRIER!$A$5))+((COUNTIF(CALENDRIER!EM$222:EM$587,CALENDRIER!$B$5))/2)","v":0},{"$f":"(COUNTIF(CALENDRIER!EN$222:EN$587,CALENDRIER!$A$5))+((COUNTIF(CALENDRIER!EN$222:EN$587,CALENDRIER!$B$5))/2)","v":0},{"$f":"(COUNTIF(CALENDRIER!EO$222:EO$587,CALENDRIER!$A$5))+((COUNTIF(CALENDRIER!EO$222:EO$587,CALENDRIER!$B$5))/2)","v":0},{"$f":"(COUNTIF(CALENDRIER!EP$222:EP$587,CALENDRIER!$A$5))+((COUNTIF(CALENDRIER!EP$222:EP$587,CALENDRIER!$B$5))/2)","v":0},{"$f":"(COUNTIF(CALENDRIER!EQ$222:EQ$587,CALENDRIER!$A$5))+((COUNTIF(CALENDRIER!EQ$222:EQ$587,CALENDRIER!$B$5))/2)","v":0},{"$f":"(COUNTIF(CALENDRIER!ER$222:ER$587,CALENDRIER!$A$5))+((COUNTIF(CALENDRIER!ER$222:ER$587,CALENDRIER!$B$5))/2)","v":0},{"$f":"(COUNTIF(CALENDRIER!ES$222:ES$587,CALENDRIER!$A$5))+((COUNTIF(CALENDRIER!ES$222:ES$587,CALENDRIER!$B$5))/2)","v":0},{"$f":"(COUNTIF(CALENDRIER!ET$222:ET$587,CALENDRIER!$A$5))+((COUNTIF(CALENDRIER!ET$222:ET$587,CALENDRIER!$B$5))/2)","v":0},{"$f":"(COUNTIF(CALENDRIER!EU$222:EU$587,CALENDRIER!$A$5))+((COUNTIF(CALENDRIER!EU$222:EU$587,CALENDRIER!$B$5))/2)","v":0},{"$f":"(COUNTIF(CALENDRIER!EV$222:EV$587,CALENDRIER!$A$5))+((COUNTIF(CALENDRIER!EV$222:EV$587,CALENDRIER!$B$5))/2)","v":0},{"$f":"(COUNTIF(CALENDRIER!EW$222:EW$587,CALENDRIER!$A$5))+((COUNTIF(CALENDRIER!EW$222:EW$587,CALENDRIER!$B$5))/2)","v":0},{"$f":"(COUNTIF(CALENDRIER!EX$222:EX$587,CALENDRIER!$A$5))+((COUNTIF(CALENDRIER!EX$222:EX$587,CALENDRIER!$B$5))/2)","v":0},{"$f":"(COUNTIF(CALENDRIER!EY$222:EY$587,CALENDRIER!$A$5))+((COUNTIF(CALENDRIER!EY$222:EY$587,CALENDRIER!$B$5))/2)","v":0},{"$f":"(COUNTIF(CALENDRIER!EZ$222:EZ$587,CALENDRIER!$A$5))+((COUNTIF(CALENDRIER!EZ$222:EZ$587,CALENDRIER!$B$5))/2)","v":0},{"$f":"(COUNTIF(CALENDRIER!FA$222:FA$587,CALENDRIER!$A$5))+((COUNTIF(CALENDRIER!FA$222:FA$587,CALENDRIER!$B$5))/2)","v":0},{"$f":"(COUNTIF(CALENDRIER!FB$222:FB$587,CALENDRIER!$A$5))+((COUNTIF(CALENDRIER!FB$222:FB$587,CALENDRIER!$B$5))/2)","v":0},{"$f":"(COUNTIF(CALENDRIER!FC$222:FC$587,CALENDRIER!$A$5))+((COUNTIF(CALENDRIER!FC$222:FC$587,CALENDRIER!$B$5))/2)","v":0},{"$f":"(COUNTIF(CALENDRIER!FD$222:FD$587,CALENDRIER!$A$5))+((COUNTIF(CALENDRIER!FD$222:FD$587,CALENDRIER!$B$5))/2)","v":0},{"$f":"(COUNTIF(CALENDRIER!FE$222:FE$587,CALENDRIER!$A$5))+((COUNTIF(CALENDRIER!FE$222:FE$587,CALENDRIER!$B$5))/2)","v":0},{"$f":"(COUNTIF(CALENDRIER!FF$222:FF$587,CALENDRIER!$A$5))+((COUNTIF(CALENDRIER!FF$222:FF$587,CALENDRIER!$B$5))/2)","v":0},{"$f":"(COUNTIF(CALENDRIER!FG$222:FG$587,CALENDRIER!$A$5))+((COUNTIF(CALENDRIER!FG$222:FG$587,CALENDRIER!$B$5))/2)","v":0},{"$f":"(COUNTIF(CALENDRIER!FH$222:FH$587,CALENDRIER!$A$5))+((COUNTIF(CALENDRIER!FH$222:FH$587,CALENDRIER!$B$5))/2)","v":0},{"$f":"(COUNTIF(CALENDRIER!FI$222:FI$587,CALENDRIER!$A$5))+((COUNTIF(CALENDRIER!FI$222:FI$587,CALENDRIER!$B$5))/2)","v":0},{"$f":"(COUNTIF(CALENDRIER!FJ$222:FJ$587,CALENDRIER!$A$5))+((COUNTIF(CALENDRIER!FJ$222:FJ$587,CALENDRIER!$B$5))/2)","v":0},{"$f":"(COUNTIF(CALENDRIER!FK$222:FK$587,CALENDRIER!$A$5))+((COUNTIF(CALENDRIER!FK$222:FK$587,CALENDRIER!$B$5))/2)","v":0},{"$f":"(COUNTIF(CALENDRIER!FL$222:FL$587,CALENDRIER!$A$5))+((COUNTIF(CALENDRIER!FL$222:FL$587,CALENDRIER!$B$5))/2)","v":0},{"$f":"(COUNTIF(CALENDRIER!FM$222:FM$587,CALENDRIER!$A$5))+((COUNTIF(CALENDRIER!FM$222:FM$587,CALENDRIER!$B$5))/2)","v":0},{"$f":"(COUNTIF(CALENDRIER!FN$222:FN$587,CALENDRIER!$A$5))+((COUNTIF(CALENDRIER!FN$222:FN$587,CALENDRIER!$B$5))/2)","v":0},{"$f":"(COUNTIF(CALENDRIER!FO$222:FO$587,CALENDRIER!$A$5))+((COUNTIF(CALENDRIER!FO$222:FO$587,CALENDRIER!$B$5))/2)","v":0},{"$f":"(COUNTIF(CALENDRIER!FP$222:FP$587,CALENDRIER!$A$5))+((COUNTIF(CALENDRIER!FP$222:FP$587,CALENDRIER!$B$5))/2)","v":0},{"$f":"(COUNTIF(CALENDRIER!FQ$222:FQ$587,CALENDRIER!$A$5))+((COUNTIF(CALENDRIER!FQ$222:FQ$587,CALENDRIER!$B$5))/2)","v":0},{"$f":"(COUNTIF(CALENDRIER!FR$222:FR$587,CALENDRIER!$A$5))+((COUNTIF(CALENDRIER!FR$222:FR$587,CALENDRIER!$B$5))/2)","v":0},{"$f":"(COUNTIF(CALENDRIER!FS$222:FS$587,CALENDRIER!$A$5))+((COUNTIF(CALENDRIER!FS$222:FS$587,CALENDRIER!$B$5))/2)","v":0},{"$f":"(COUNTIF(CALENDRIER!FT$222:FT$587,CALENDRIER!$A$5))+((COUNTIF(CALENDRIER!FT$222:FT$587,CALENDRIER!$B$5))/2)","v":0},{"$f":"(COUNTIF(CALENDRIER!FU$222:FU$587,CALENDRIER!$A$5))+((COUNTIF(CALENDRIER!FU$222:FU$587,CALENDRIER!$B$5))/2)","v":0},{"$f":"(COUNTIF(CALENDRIER!FV$222:FV$587,CALENDRIER!$A$5))+((COUNTIF(CALENDRIER!FV$222:FV$587,CALENDRIER!$B$5))/2)","v":0},{"$f":"(COUNTIF(CALENDRIER!FW$222:FW$587,CALENDRIER!$A$5))+((COUNTIF(CALENDRIER!FW$222:FW$587,CALENDRIER!$B$5))/2)","v":0},{"$f":"(COUNTIF(CALENDRIER!FX$222:FX$587,CALENDRIER!$A$5))+((COUNTIF(CALENDRIER!FX$222:FX$587,CALENDRIER!$B$5))/2)","v":0},{"$f":"(COUNTIF(CALENDRIER!FY$222:FY$587,CALENDRIER!$A$5))+((COUNTIF(CALENDRIER!FY$222:FY$587,CALENDRIER!$B$5))/2)","v":0},{"$f":"(COUNTIF(CALENDRIER!FZ$222:FZ$587,CALENDRIER!$A$5))+((COUNTIF(CALENDRIER!FZ$222:FZ$587,CALENDRIER!$B$5))/2)","v":0},{"$f":"(COUNTIF(CALENDRIER!GA$222:GA$587,CALENDRIER!$A$5))+((COUNTIF(CALENDRIER!GA$222:GA$587,CALENDRIER!$B$5))/2)","v":0},{"$f":"(COUNTIF(CALENDRIER!GB$222:GB$587,CALENDRIER!$A$5))+((COUNTIF(CALENDRIER!GB$222:GB$587,CALENDRIER!$B$5))/2)","v":0},{"$f":"(COUNTIF(CALENDRIER!GC$222:GC$587,CALENDRIER!$A$5))+((COUNTIF(CALENDRIER!GC$222:GC$587,CALENDRIER!$B$5))/2)","v":0},{"$f":"(COUNTIF(CALENDRIER!GD$222:GD$587,CALENDRIER!$A$5))+((COUNTIF(CALENDRIER!GD$222:GD$587,CALENDRIER!$B$5))/2)","v":0},{"$f":"(COUNTIF(CALENDRIER!GE$222:GE$587,CALENDRIER!$A$5))+((COUNTIF(CALENDRIER!GE$222:GE$587,CALENDRIER!$B$5))/2)","v":0},{"$f":"(COUNTIF(CALENDRIER!GF$222:GF$587,CALENDRIER!$A$5))+((COUNTIF(CALENDRIER!GF$222:GF$587,CALENDRIER!$B$5))/2)","v":0},{"$f":"(COUNTIF(CALENDRIER!GG$222:GG$587,CALENDRIER!$A$5))+((COUNTIF(CALENDRIER!GG$222:GG$587,CALENDRIER!$B$5))/2)","v":0},{"$f":"(COUNTIF(CALENDRIER!GH$222:GH$587,CALENDRIER!$A$5))+((COUNTIF(CALENDRIER!GH$222:GH$587,CALENDRIER!$B$5))/2)","v":0},{"$f":"(COUNTIF(CALENDRIER!GI$222:GI$587,CALENDRIER!$A$5))+((COUNTIF(CALENDRIER!GI$222:GI$587,CALENDRIER!$B$5))/2)","v":0},{"$f":"(COUNTIF(CALENDRIER!GJ$222:GJ$587,CALENDRIER!$A$5))+((COUNTIF(CALENDRIER!GJ$222:GJ$587,CALENDRIER!$B$5))/2)","v":0},{"$f":"(COUNTIF(CALENDRIER!GK$222:GK$587,CALENDRIER!$A$5))+((COUNTIF(CALENDRIER!GK$222:GK$587,CALENDRIER!$B$5))/2)","v":0},{"$f":"(COUNTIF(CALENDRIER!GL$222:GL$587,CALENDRIER!$A$5))+((COUNTIF(CALENDRIER!GL$222:GL$587,CALENDRIER!$B$5))/2)","v":0},{"$f":"(COUNTIF(CALENDRIER!GM$222:GM$587,CALENDRIER!$A$5))+((COUNTIF(CALENDRIER!GM$222:GM$587,CALENDRIER!$B$5))/2)","v":0},{"$f":"(COUNTIF(CALENDRIER!GN$222:GN$587,CALENDRIER!$A$5))+((COUNTIF(CALENDRIER!GN$222:GN$587,CALENDRIER!$B$5))/2)","v":0},{"$f":"(COUNTIF(CALENDRIER!GO$222:GO$587,CALENDRIER!$A$5))+((COUNTIF(CALENDRIER!GO$222:GO$587,CALENDRIER!$B$5))/2)","v":0},{"$f":"(COUNTIF(CALENDRIER!GP$222:GP$587,CALENDRIER!$A$5))+((COUNTIF(CALENDRIER!GP$222:GP$587,CALENDRIER!$B$5))/2)","v":0},{"$f":"(COUNTIF(CALENDRIER!GQ$222:GQ$587,CALENDRIER!$A$5))+((COUNTIF(CALENDRIER!GQ$222:GQ$587,CALENDRIER!$B$5))/2)","v":0},{"$f":"(COUNTIF(CALENDRIER!GR$222:GR$587,CALENDRIER!$A$5))+((COUNTIF(CALENDRIER!GR$222:GR$587,CALENDRIER!$B$5))/2)","v":0}]
[null,{"$f":"\"Solde \"&CALENDRIER!$A$5&\" \"&A204&\" : \"","v":"Solde … 2016 : "},{"$f":"C205-C206","v":0},{"$f":"D205-D206","v":0},0,0,0,0,0,0,0,0,0,0,0,0,0,0,0,0,0,0,0,0,0,0,0,0,0,0,0,0,0,0,0,0,0,0,0,0,0,0,0,0,0,0,0,0,0,0,0,0,0,0,0,0,0,0,0,0,0,0,0,0,0,0,0,{"$f":"BP205-BP206","v":0},0,0,0,0,0,0,0,0,0,0,0,0,0,0,0,0,0,0,0,0,0,0,0,0,0,0,0,0,0,0,0,0,0,0,0,0,0,0,0,0,0,0,0,0,0,0,0,0,0,0,0,0,0,0,0,0,0,0,0,0,0,0,0,{"$f":"EB205-EB206","v":0},0,0,0,0,0,0,0,0,0,0,0,0,0,0,0,0,0,0,0,0,0,0,0,0,0,0,0,0,0,0,0,0,0,0,0,0,0,0,0,0,0,0,0,0,0,0,0,0,0,0,0,0,0,0,0,0,0,0,0,0,0,0,0,{"$f":"GN205-GN206","v":0},0,0,0,0]
[]
[2017,{"$f":"CALENDRIER!$A$5","v":"…"}]
[null,"SOLDE DEPART"]
[null,{"$f":"CALENDRIER!$A$5&\" PRIS\"","v":"… PRIS"},{"$f":"(COUNTIF(CALENDRIER!C$588:C$952,CALENDRIER!$A$5))+((COUNTIF(CALENDRIER!C$588:C$952,CALENDRIER!$B$5))/2)","v":0},{"$f":"(COUNTIF(CALENDRIER!D$588:D$952,CALENDRIER!$A$5))+((COUNTIF(CALENDRIER!D$588:D$952,CALENDRIER!$B$5))/2)","v":0},{"$f":"(COUNTIF(CALENDRIER!E$588:E$952,CALENDRIER!$A$5))+((COUNTIF(CALENDRIER!E$588:E$952,CALENDRIER!$B$5))/2)","v":0},{"$f":"(COUNTIF(CALENDRIER!F$588:F$952,CALENDRIER!$A$5))+((COUNTIF(CALENDRIER!F$588:F$952,CALENDRIER!$B$5))/2)","v":0},{"$f":"(COUNTIF(CALENDRIER!G$588:G$952,CALENDRIER!$A$5))+((COUNTIF(CALENDRIER!G$588:G$952,CALENDRIER!$B$5))/2)","v":0},{"$f":"(COUNTIF(CALENDRIER!H$588:H$952,CALENDRIER!$A$5))+((COUNTIF(CALENDRIER!H$588:H$952,CALENDRIER!$B$5))/2)","v":0},{"$f":"(COUNTIF(CALENDRIER!I$588:I$952,CALENDRIER!$A$5))+((COUNTIF(CALENDRIER!I$588:I$952,CALENDRIER!$B$5))/2)","v":0},{"$f":"(COUNTIF(CALENDRIER!J$588:J$952,CALENDRIER!$A$5))+((COUNTIF(CALENDRIER!J$588:J$952,CALENDRIER!$B$5))/2)","v":0},{"$f":"(COUNTIF(CALENDRIER!K$588:K$952,CALENDRIER!$A$5))+((COUNTIF(CALENDRIER!K$588:K$952,CALENDRIER!$B$5))/2)","v":0},{"$f":"(COUNTIF(CALENDRIER!L$588:L$952,CALENDRIER!$A$5))+((COUNTIF(CALENDRIER!L$588:L$952,CALENDRIER!$B$5))/2)","v":0},{"$f":"(COUNTIF(CALENDRIER!M$588:M$952,CALENDRIER!$A$5))+((COUNTIF(CALENDRIER!M$588:M$952,CALENDRIER!$B$5))/2)","v":0},{"$f":"(COUNTIF(CALENDRIER!N$588:N$952,CALENDRIER!$A$5))+((COUNTIF(CALENDRIER!N$588:N$952,CALENDRIER!$B$5))/2)","v":0},{"$f":"(COUNTIF(CALENDRIER!O$588:O$952,CALENDRIER!$A$5))+((COUNTIF(CALENDRIER!O$588:O$952,CALENDRIER!$B$5))/2)","v":0},{"$f":"(COUNTIF(CALENDRIER!P$588:P$952,CALENDRIER!$A$5))+((COUNTIF(CALENDRIER!P$588:P$952,CALENDRIER!$B$5))/2)","v":0},{"$f":"(COUNTIF(CALENDRIER!Q$588:Q$952,CALENDRIER!$A$5))+((COUNTIF(CALENDRIER!Q$588:Q$952,CALENDRIER!$B$5))/2)","v":0},{"$f":"(COUNTIF(CALENDRIER!R$588:R$952,CALENDRIER!$A$5))+((COUNTIF(CALENDRIER!R$588:R$952,CALENDRIER!$B$5))/2)","v":0},{"$f":"(COUNTIF(CALENDRIER!S$588:S$952,CALENDRIER!$A$5))+((COUNTIF(CALENDRIER!S$588:S$952,CALENDRIER!$B$5))/2)","v":0},{"$f":"(COUNTIF(CALENDRIER!T$588:T$952,CALENDRIER!$A$5))+((COUNTIF(CALENDRIER!T$588:T$952,CALENDRIER!$B$5))/2)","v":0},{"$f":"(COUNTIF(CALENDRIER!U$588:U$952,CALENDRIER!$A$5))+((COUNTIF(CALENDRIER!U$588:U$952,CALENDRIER!$B$5))/2)","v":0},{"$f":"(COUNTIF(CALENDRIER!V$588:V$952,CALENDRIER!$A$5))+((COUNTIF(CALENDRIER!V$588:V$952,CALENDRIER!$B$5))/2)","v":0},{"$f":"(COUNTIF(CALENDRIER!W$588:W$952,CALENDRIER!$A$5))+((COUNTIF(CALENDRIER!W$588:W$952,CALENDRIER!$B$5))/2)","v":0},{"$f":"(COUNTIF(CALENDRIER!X$588:X$952,CALENDRIER!$A$5))+((COUNTIF(CALENDRIER!X$588:X$952,CALENDRIER!$B$5))/2)","v":0},{"$f":"(COUNTIF(CALENDRIER!Y$588:Y$952,CALENDRIER!$A$5))+((COUNTIF(CALENDRIER!Y$588:Y$952,CALENDRIER!$B$5))/2)","v":0},{"$f":"(COUNTIF(CALENDRIER!Z$588:Z$952,CALENDRIER!$A$5))+((COUNTIF(CALENDRIER!Z$588:Z$952,CALENDRIER!$B$5))/2)","v":0},{"$f":"(COUNTIF(CALENDRIER!AA$588:AA$952,CALENDRIER!$A$5))+((COUNTIF(CALENDRIER!AA$588:AA$952,CALENDRIER!$B$5))/2)","v":0},{"$f":"(COUNTIF(CALENDRIER!AB$588:AB$952,CALENDRIER!$A$5))+((COUNTIF(CALENDRIER!AB$588:AB$952,CALENDRIER!$B$5))/2)","v":0},{"$f":"(COUNTIF(CALENDRIER!AC$588:AC$952,CALENDRIER!$A$5))+((COUNTIF(CALENDRIER!AC$588:AC$952,CALENDRIER!$B$5))/2)","v":0},{"$f":"(COUNTIF(CALENDRIER!AD$588:AD$952,CALENDRIER!$A$5))+((COUNTIF(CALENDRIER!AD$588:AD$952,CALENDRIER!$B$5))/2)","v":0},{"$f":"(COUNTIF(CALENDRIER!AE$588:AE$952,CALENDRIER!$A$5))+((COUNTIF(CALENDRIER!AE$588:AE$952,CALENDRIER!$B$5))/2)","v":0},{"$f":"(COUNTIF(CALENDRIER!AF$588:AF$952,CALENDRIER!$A$5))+((COUNTIF(CALENDRIER!AF$588:AF$952,CALENDRIER!$B$5))/2)","v":0},{"$f":"(COUNTIF(CALENDRIER!AG$588:AG$952,CALENDRIER!$A$5))+((COUNTIF(CALENDRIER!AG$588:AG$952,CALENDRIER!$B$5))/2)","v":0},{"$f":"(COUNTIF(CALENDRIER!AH$588:AH$952,CALENDRIER!$A$5))+((COUNTIF(CALENDRIER!AH$588:AH$952,CALENDRIER!$B$5))/2)","v":0},{"$f":"(COUNTIF(CALENDRIER!AI$588:AI$952,CALENDRIER!$A$5))+((COUNTIF(CALENDRIER!AI$588:AI$952,CALENDRIER!$B$5))/2)","v":0},{"$f":"(COUNTIF(CALENDRIER!AJ$588:AJ$952,CALENDRIER!$A$5))+((COUNTIF(CALENDRIER!AJ$588:AJ$952,CALENDRIER!$B$5))/2)","v":0},{"$f":"(COUNTIF(CALENDRIER!AK$588:AK$952,CALENDRIER!$A$5))+((COUNTIF(CALENDRIER!AK$588:AK$952,CALENDRIER!$B$5))/2)","v":0},{"$f":"(COUNTIF(CALENDRIER!AL$588:AL$952,CALENDRIER!$A$5))+((COUNTIF(CALENDRIER!AL$588:AL$952,CALENDRIER!$B$5))/2)","v":0},{"$f":"(COUNTIF(CALENDRIER!AM$588:AM$952,CALENDRIER!$A$5))+((COUNTIF(CALENDRIER!AM$588:AM$952,CALENDRIER!$B$5))/2)","v":0},{"$f":"(COUNTIF(CALENDRIER!AN$588:AN$952,CALENDRIER!$A$5))+((COUNTIF(CALENDRIER!AN$588:AN$952,CALENDRIER!$B$5))/2)","v":0},{"$f":"(COUNTIF(CALENDRIER!AO$588:AO$952,CALENDRIER!$A$5))+((COUNTIF(CALENDRIER!AO$588:AO$952,CALENDRIER!$B$5))/2)","v":0},{"$f":"(COUNTIF(CALENDRIER!AP$588:AP$952,CALENDRIER!$A$5))+((COUNTIF(CALENDRIER!AP$588:AP$952,CALENDRIER!$B$5))/2)","v":0},{"$f":"(COUNTIF(CALENDRIER!AQ$588:AQ$952,CALENDRIER!$A$5))+((COUNTIF(CALENDRIER!AQ$588:AQ$952,CALENDRIER!$B$5))/2)","v":0},{"$f":"(COUNTIF(CALENDRIER!AR$588:AR$952,CALENDRIER!$A$5))+((COUNTIF(CALENDRIER!AR$588:AR$952,CALENDRIER!$B$5))/2)","v":0},{"$f":"(COUNTIF(CALENDRIER!AS$588:AS$952,CALENDRIER!$A$5))+((COUNTIF(CALENDRIER!AS$588:AS$952,CALENDRIER!$B$5))/2)","v":0},{"$f":"(COUNTIF(CALENDRIER!AT$588:AT$952,CALENDRIER!$A$5))+((COUNTIF(CALENDRIER!AT$588:AT$952,CALENDRIER!$B$5))/2)","v":0},{"$f":"(COUNTIF(CALENDRIER!AU$588:AU$952,CALENDRIER!$A$5))+((COUNTIF(CALENDRIER!AU$588:AU$952,CALENDRIER!$B$5))/2)","v":0},{"$f":"(COUNTIF(CALENDRIER!AV$588:AV$952,CALENDRIER!$A$5))+((COUNTIF(CALENDRIER!AV$588:AV$952,CALENDRIER!$B$5))/2)","v":0},{"$f":"(COUNTIF(CALENDRIER!AW$588:AW$952,CALENDRIER!$A$5))+((COUNTIF(CALENDRIER!AW$588:AW$952,CALENDRIER!$B$5))/2)","v":0},{"$f":"(COUNTIF(CALENDRIER!AX$588:AX$952,CALENDRIER!$A$5))+((COUNTIF(CALENDRIER!AX$588:AX$952,CALENDRIER!$B$5))/2)","v":0},{"$f":"(COUNTIF(CALENDRIER!AY$588:AY$952,CALENDRIER!$A$5))+((COUNTIF(CALENDRIER!AY$588:AY$952,CALENDRIER!$B$5))/2)","v":0},{"$f":"(COUNTIF(CALENDRIER!AZ$588:AZ$952,CALENDRIER!$A$5))+((COUNTIF(CALENDRIER!AZ$588:AZ$952,CALENDRIER!$B$5))/2)","v":0},{"$f":"(COUNTIF(CALENDRIER!BA$588:BA$952,CALENDRIER!$A$5))+((COUNTIF(CALENDRIER!BA$588:BA$952,CALENDRIER!$B$5))/2)","v":0},{"$f":"(COUNTIF(CALENDRIER!BB$588:BB$952,CALENDRIER!$A$5))+((COUNTIF(CALENDRIER!BB$588:BB$952,CALENDRIER!$B$5))/2)","v":0},{"$f":"(COUNTIF(CALENDRIER!BC$588:BC$952,CALENDRIER!$A$5))+((COUNTIF(CALENDRIER!BC$588:BC$952,CALENDRIER!$B$5))/2)","v":0},{"$f":"(COUNTIF(CALENDRIER!BD$588:BD$952,CALENDRIER!$A$5))+((COUNTIF(CALENDRIER!BD$588:BD$952,CALENDRIER!$B$5))/2)","v":0},{"$f":"(COUNTIF(CALENDRIER!BE$588:BE$952,CALENDRIER!$A$5))+((COUNTIF(CALENDRIER!BE$588:BE$952,CALENDRIER!$B$5))/2)","v":0},{"$f":"(COUNTIF(CALENDRIER!BF$588:BF$952,CALENDRIER!$A$5))+((COUNTIF(CALENDRIER!BF$588:BF$952,CALENDRIER!$B$5))/2)","v":0},{"$f":"(COUNTIF(CALENDRIER!BG$588:BG$952,CALENDRIER!$A$5))+((COUNTIF(CALENDRIER!BG$588:BG$952,CALENDRIER!$B$5))/2)","v":0},{"$f":"(COUNTIF(CALENDRIER!BH$588:BH$952,CALENDRIER!$A$5))+((COUNTIF(CALENDRIER!BH$588:BH$952,CALENDRIER!$B$5))/2)","v":0},{"$f":"(COUNTIF(CALENDRIER!BI$588:BI$952,CALENDRIER!$A$5))+((COUNTIF(CALENDRIER!BI$588:BI$952,CALENDRIER!$B$5))/2)","v":0},{"$f":"(COUNTIF(CALENDRIER!BJ$588:BJ$952,CALENDRIER!$A$5))+((COUNTIF(CALENDRIER!BJ$588:BJ$952,CALENDRIER!$B$5))/2)","v":0},{"$f":"(COUNTIF(CALENDRIER!BK$588:BK$952,CALENDRIER!$A$5))+((COUNTIF(CALENDRIER!BK$588:BK$952,CALENDRIER!$B$5))/2)","v":0},{"$f":"(COUNTIF(CALENDRIER!BL$588:BL$952,CALENDRIER!$A$5))+((COUNTIF(CALENDRIER!BL$588:BL$952,CALENDRIER!$B$5))/2)","v":0},{"$f":"(COUNTIF(CALENDRIER!BM$588:BM$952,CALENDRIER!$A$5))+((COUNTIF(CALENDRIER!BM$588:BM$952,CALENDRIER!$B$5))/2)","v":0},{"$f":"(COUNTIF(CALENDRIER!BN$588:BN$952,CALENDRIER!$A$5))+((COUNTIF(CALENDRIER!BN$588:BN$952,CALENDRIER!$B$5))/2)","v":0},{"$f":"(COUNTIF(CALENDRIER!BO$588:BO$952,CALENDRIER!$A$5))+((COUNTIF(CALENDRIER!BO$588:BO$952,CALENDRIER!$B$5))/2)","v":0},{"$f":"(COUNTIF(CALENDRIER!BP$588:BP$952,CALENDRIER!$A$5))+((COUNTIF(CALENDRIER!BP$588:BP$952,CALENDRIER!$B$5))/2)","v":0},{"$f":"(COUNTIF(CALENDRIER!BQ$588:BQ$952,CALENDRIER!$A$5))+((COUNTIF(CALENDRIER!BQ$588:BQ$952,CALENDRIER!$B$5))/2)","v":0},{"$f":"(COUNTIF(CALENDRIER!BR$588:BR$952,CALENDRIER!$A$5))+((COUNTIF(CALENDRIER!BR$588:BR$952,CALENDRIER!$B$5))/2)","v":0},{"$f":"(COUNTIF(CALENDRIER!BS$588:BS$952,CALENDRIER!$A$5))+((COUNTIF(CALENDRIER!BS$588:BS$952,CALENDRIER!$B$5))/2)","v":0},{"$f":"(COUNTIF(CALENDRIER!BT$588:BT$952,CALENDRIER!$A$5))+((COUNTIF(CALENDRIER!BT$588:BT$952,CALENDRIER!$B$5))/2)","v":0},{"$f":"(COUNTIF(CALENDRIER!BU$588:BU$952,CALENDRIER!$A$5))+((COUNTIF(CALENDRIER!BU$588:BU$952,CALENDRIER!$B$5))/2)","v":0},{"$f":"(COUNTIF(CALENDRIER!BV$588:BV$952,CALENDRIER!$A$5))+((COUNTIF(CALENDRIER!BV$588:BV$952,CALENDRIER!$B$5))/2)","v":0},{"$f":"(COUNTIF(CALENDRIER!BW$588:BW$952,CALENDRIER!$A$5))+((COUNTIF(CALENDRIER!BW$588:BW$952,CALENDRIER!$B$5))/2)","v":0},{"$f":"(COUNTIF(CALENDRIER!BX$588:BX$952,CALENDRIER!$A$5))+((COUNTIF(CALENDRIER!BX$588:BX$952,CALENDRIER!$B$5))/2)","v":0},{"$f":"(COUNTIF(CALENDRIER!BY$588:BY$952,CALENDRIER!$A$5))+((COUNTIF(CALENDRIER!BY$588:BY$952,CALENDRIER!$B$5))/2)","v":0},{"$f":"(COUNTIF(CALENDRIER!BZ$588:BZ$952,CALENDRIER!$A$5))+((COUNTIF(CALENDRIER!BZ$588:BZ$952,CALENDRIER!$B$5))/2)","v":0},{"$f":"(COUNTIF(CALENDRIER!CA$588:CA$952,CALENDRIER!$A$5))+((COUNTIF(CALENDRIER!CA$588:CA$952,CALENDRIER!$B$5))/2)","v":0},{"$f":"(COUNTIF(CALENDRIER!CB$588:CB$952,CALENDRIER!$A$5))+((COUNTIF(CALENDRIER!CB$588:CB$952,CALENDRIER!$B$5))/2)","v":0},{"$f":"(COUNTIF(CALENDRIER!CC$588:CC$952,CALENDRIER!$A$5))+((COUNTIF(CALENDRIER!CC$588:CC$952,CALENDRIER!$B$5))/2)","v":0},{"$f":"(COUNTIF(CALENDRIER!CD$588:CD$952,CALENDRIER!$A$5))+((COUNTIF(CALENDRIER!CD$588:CD$952,CALENDRIER!$B$5))/2)","v":0},{"$f":"(COUNTIF(CALENDRIER!CE$588:CE$952,CALENDRIER!$A$5))+((COUNTIF(CALENDRIER!CE$588:CE$952,CALENDRIER!$B$5))/2)","v":0},{"$f":"(COUNTIF(CALENDRIER!CF$588:CF$952,CALENDRIER!$A$5))+((COUNTIF(CALENDRIER!CF$588:CF$952,CALENDRIER!$B$5))/2)","v":0},{"$f":"(COUNTIF(CALENDRIER!CG$588:CG$952,CALENDRIER!$A$5))+((COUNTIF(CALENDRIER!CG$588:CG$952,CALENDRIER!$B$5))/2)","v":0},{"$f":"(COUNTIF(CALENDRIER!CH$588:CH$952,CALENDRIER!$A$5))+((COUNTIF(CALENDRIER!CH$588:CH$952,CALENDRIER!$B$5))/2)","v":0},{"$f":"(COUNTIF(CALENDRIER!CI$588:CI$952,CALENDRIER!$A$5))+((COUNTIF(CALENDRIER!CI$588:CI$952,CALENDRIER!$B$5))/2)","v":0},{"$f":"(COUNTIF(CALENDRIER!CJ$588:CJ$952,CALENDRIER!$A$5))+((COUNTIF(CALENDRIER!CJ$588:CJ$952,CALENDRIER!$B$5))/2)","v":0},{"$f":"(COUNTIF(CALENDRIER!CK$588:CK$952,CALENDRIER!$A$5))+((COUNTIF(CALENDRIER!CK$588:CK$952,CALENDRIER!$B$5))/2)","v":0},{"$f":"(COUNTIF(CALENDRIER!CL$588:CL$952,CALENDRIER!$A$5))+((COUNTIF(CALENDRIER!CL$588:CL$952,CALENDRIER!$B$5))/2)","v":0},{"$f":"(COUNTIF(CALENDRIER!CM$588:CM$952,CALENDRIER!$A$5))+((COUNTIF(CALENDRIER!CM$588:CM$952,CALENDRIER!$B$5))/2)","v":0},{"$f":"(COUNTIF(CALENDRIER!CN$588:CN$952,CALENDRIER!$A$5))+((COUNTIF(CALENDRIER!CN$588:CN$952,CALENDRIER!$B$5))/2)","v":0},{"$f":"(COUNTIF(CALENDRIER!CO$588:CO$952,CALENDRIER!$A$5))+((COUNTIF(CALENDRIER!CO$588:CO$952,CALENDRIER!$B$5))/2)","v":0},{"$f":"(COUNTIF(CALENDRIER!CP$588:CP$952,CALENDRIER!$A$5))+((COUNTIF(CALENDRIER!CP$588:CP$952,CALENDRIER!$B$5))/2)","v":0},{"$f":"(COUNTIF(CALENDRIER!CQ$588:CQ$952,CALENDRIER!$A$5))+((COUNTIF(CALENDRIER!CQ$588:CQ$952,CALENDRIER!$B$5))/2)","v":0},{"$f":"(COUNTIF(CALENDRIER!CR$588:CR$952,CALENDRIER!$A$5))+((COUNTIF(CALENDRIER!CR$588:CR$952,CALENDRIER!$B$5))/2)","v":0},{"$f":"(COUNTIF(CALENDRIER!CS$588:CS$952,CALENDRIER!$A$5))+((COUNTIF(CALENDRIER!CS$588:CS$952,CALENDRIER!$B$5))/2)","v":0},{"$f":"(COUNTIF(CALENDRIER!CT$588:CT$952,CALENDRIER!$A$5))+((COUNTIF(CALENDRIER!CT$588:CT$952,CALENDRIER!$B$5))/2)","v":0},{"$f":"(COUNTIF(CALENDRIER!CU$588:CU$952,CALENDRIER!$A$5))+((COUNTIF(CALENDRIER!CU$588:CU$952,CALENDRIER!$B$5))/2)","v":0},{"$f":"(COUNTIF(CALENDRIER!CV$588:CV$952,CALENDRIER!$A$5))+((COUNTIF(CALENDRIER!CV$588:CV$952,CALENDRIER!$B$5))/2)","v":0},{"$f":"(COUNTIF(CALENDRIER!CW$588:CW$952,CALENDRIER!$A$5))+((COUNTIF(CALENDRIER!CW$588:CW$952,CALENDRIER!$B$5))/2)","v":0},{"$f":"(COUNTIF(CALENDRIER!CX$588:CX$952,CALENDRIER!$A$5))+((COUNTIF(CALENDRIER!CX$588:CX$952,CALENDRIER!$B$5))/2)","v":0},{"$f":"(COUNTIF(CALENDRIER!CY$588:CY$952,CALENDRIER!$A$5))+((COUNTIF(CALENDRIER!CY$588:CY$952,CALENDRIER!$B$5))/2)","v":0},{"$f":"(COUNTIF(CALENDRIER!CZ$588:CZ$952,CALENDRIER!$A$5))+((COUNTIF(CALENDRIER!CZ$588:CZ$952,CALENDRIER!$B$5))/2)","v":0},{"$f":"(COUNTIF(CALENDRIER!DA$588:DA$952,CALENDRIER!$A$5))+((COUNTIF(CALENDRIER!DA$588:DA$952,CALENDRIER!$B$5))/2)","v":0},{"$f":"(COUNTIF(CALENDRIER!DB$588:DB$952,CALENDRIER!$A$5))+((COUNTIF(CALENDRIER!DB$588:DB$952,CALENDRIER!$B$5))/2)","v":0},{"$f":"(COUNTIF(CALENDRIER!DC$588:DC$952,CALENDRIER!$A$5))+((COUNTIF(CALENDRIER!DC$588:DC$952,CALENDRIER!$B$5))/2)","v":0},{"$f":"(COUNTIF(CALENDRIER!DD$588:DD$952,CALENDRIER!$A$5))+((COUNTIF(CALENDRIER!DD$588:DD$952,CALENDRIER!$B$5))/2)","v":0},{"$f":"(COUNTIF(CALENDRIER!DE$588:DE$952,CALENDRIER!$A$5))+((COUNTIF(CALENDRIER!DE$588:DE$952,CALENDRIER!$B$5))/2)","v":0},{"$f":"(COUNTIF(CALENDRIER!DF$588:DF$952,CALENDRIER!$A$5))+((COUNTIF(CALENDRIER!DF$588:DF$952,CALENDRIER!$B$5))/2)","v":0},{"$f":"(COUNTIF(CALENDRIER!DG$588:DG$952,CALENDRIER!$A$5))+((COUNTIF(CALENDRIER!DG$588:DG$952,CALENDRIER!$B$5))/2)","v":0},{"$f":"(COUNTIF(CALENDRIER!DH$588:DH$952,CALENDRIER!$A$5))+((COUNTIF(CALENDRIER!DH$588:DH$952,CALENDRIER!$B$5))/2)","v":0},{"$f":"(COUNTIF(CALENDRIER!DI$588:DI$952,CALENDRIER!$A$5))+((COUNTIF(CALENDRIER!DI$588:DI$952,CALENDRIER!$B$5))/2)","v":0},{"$f":"(COUNTIF(CALENDRIER!DJ$588:DJ$952,CALENDRIER!$A$5))+((COUNTIF(CALENDRIER!DJ$588:DJ$952,CALENDRIER!$B$5))/2)","v":0},{"$f":"(COUNTIF(CALENDRIER!DK$588:DK$952,CALENDRIER!$A$5))+((COUNTIF(CALENDRIER!DK$588:DK$952,CALENDRIER!$B$5))/2)","v":0},{"$f":"(COUNTIF(CALENDRIER!DL$588:DL$952,CALENDRIER!$A$5))+((COUNTIF(CALENDRIER!DL$588:DL$952,CALENDRIER!$B$5))/2)","v":0},{"$f":"(COUNTIF(CALENDRIER!DM$588:DM$952,CALENDRIER!$A$5))+((COUNTIF(CALENDRIER!DM$588:DM$952,CALENDRIER!$B$5))/2)","v":0},{"$f":"(COUNTIF(CALENDRIER!DN$588:DN$952,CALENDRIER!$A$5))+((COUNTIF(CALENDRIER!DN$588:DN$952,CALENDRIER!$B$5))/2)","v":0},{"$f":"(COUNTIF(CALENDRIER!DO$588:DO$952,CALENDRIER!$A$5))+((COUNTIF(CALENDRIER!DO$588:DO$952,CALENDRIER!$B$5))/2)","v":0},{"$f":"(COUNTIF(CALENDRIER!DP$588:DP$952,CALENDRIER!$A$5))+((COUNTIF(CALENDRIER!DP$588:DP$952,CALENDRIER!$B$5))/2)","v":0},{"$f":"(COUNTIF(CALENDRIER!DQ$588:DQ$952,CALENDRIER!$A$5))+((COUNTIF(CALENDRIER!DQ$588:DQ$952,CALENDRIER!$B$5))/2)","v":0},{"$f":"(COUNTIF(CALENDRIER!DR$588:DR$952,CALENDRIER!$A$5))+((COUNTIF(CALENDRIER!DR$588:DR$952,CALENDRIER!$B$5))/2)","v":0},{"$f":"(COUNTIF(CALENDRIER!DS$588:DS$952,CALENDRIER!$A$5))+((COUNTIF(CALENDRIER!DS$588:DS$952,CALENDRIER!$B$5))/2)","v":0},{"$f":"(COUNTIF(CALENDRIER!DT$588:DT$952,CALENDRIER!$A$5))+((COUNTIF(CALENDRIER!DT$588:DT$952,CALENDRIER!$B$5))/2)","v":0},{"$f":"(COUNTIF(CALENDRIER!DU$588:DU$952,CALENDRIER!$A$5))+((COUNTIF(CALENDRIER!DU$588:DU$952,CALENDRIER!$B$5))/2)","v":0},{"$f":"(COUNTIF(CALENDRIER!DV$588:DV$952,CALENDRIER!$A$5))+((COUNTIF(CALENDRIER!DV$588:DV$952,CALENDRIER!$B$5))/2)","v":0},{"$f":"(COUNTIF(CALENDRIER!DW$588:DW$952,CALENDRIER!$A$5))+((COUNTIF(CALENDRIER!DW$588:DW$952,CALENDRIER!$B$5))/2)","v":0},{"$f":"(COUNTIF(CALENDRIER!DX$588:DX$952,CALENDRIER!$A$5))+((COUNTIF(CALENDRIER!DX$588:DX$952,CALENDRIER!$B$5))/2)","v":0},{"$f":"(COUNTIF(CALENDRIER!DY$588:DY$952,CALENDRIER!$A$5))+((COUNTIF(CALENDRIER!DY$588:DY$952,CALENDRIER!$B$5))/2)","v":0},{"$f":"(COUNTIF(CALENDRIER!DZ$588:DZ$952,CALENDRIER!$A$5))+((COUNTIF(CALENDRIER!DZ$588:DZ$952,CALENDRIER!$B$5))/2)","v":0},{"$f":"(COUNTIF(CALENDRIER!EA$588:EA$952,CALENDRIER!$A$5))+((COUNTIF(CALENDRIER!EA$588:EA$952,CALENDRIER!$B$5))/2)","v":0},{"$f":"(COUNTIF(CALENDRIER!EB$588:EB$952,CALENDRIER!$A$5))+((COUNTIF(CALENDRIER!EB$588:EB$952,CALENDRIER!$B$5))/2)","v":0},{"$f":"(COUNTIF(CALENDRIER!EC$588:EC$952,CALENDRIER!$A$5))+((COUNTIF(CALENDRIER!EC$588:EC$952,CALENDRIER!$B$5))/2)","v":0},{"$f":"(COUNTIF(CALENDRIER!ED$588:ED$952,CALENDRIER!$A$5))+((COUNTIF(CALENDRIER!ED$588:ED$952,CALENDRIER!$B$5))/2)","v":0},{"$f":"(COUNTIF(CALENDRIER!EE$588:EE$952,CALENDRIER!$A$5))+((COUNTIF(CALENDRIER!EE$588:EE$952,CALENDRIER!$B$5))/2)","v":0},{"$f":"(COUNTIF(CALENDRIER!EF$588:EF$952,CALENDRIER!$A$5))+((COUNTIF(CALENDRIER!EF$588:EF$952,CALENDRIER!$B$5))/2)","v":0},{"$f":"(COUNTIF(CALENDRIER!EG$588:EG$952,CALENDRIER!$A$5))+((COUNTIF(CALENDRIER!EG$588:EG$952,CALENDRIER!$B$5))/2)","v":0},{"$f":"(COUNTIF(CALENDRIER!EH$588:EH$952,CALENDRIER!$A$5))+((COUNTIF(CALENDRIER!EH$588:EH$952,CALENDRIER!$B$5))/2)","v":0},{"$f":"(COUNTIF(CALENDRIER!EI$588:EI$952,CALENDRIER!$A$5))+((COUNTIF(CALENDRIER!EI$588:EI$952,CALENDRIER!$B$5))/2)","v":0},{"$f":"(COUNTIF(CALENDRIER!EJ$588:EJ$952,CALENDRIER!$A$5))+((COUNTIF(CALENDRIER!EJ$588:EJ$952,CALENDRIER!$B$5))/2)","v":0},{"$f":"(COUNTIF(CALENDRIER!EK$588:EK$952,CALENDRIER!$A$5))+((COUNTIF(CALENDRIER!EK$588:EK$952,CALENDRIER!$B$5))/2)","v":0},{"$f":"(COUNTIF(CALENDRIER!EL$588:EL$952,CALENDRIER!$A$5))+((COUNTIF(CALENDRIER!EL$588:EL$952,CALENDRIER!$B$5))/2)","v":0},{"$f":"(COUNTIF(CALENDRIER!EM$588:EM$952,CALENDRIER!$A$5))+((COUNTIF(CALENDRIER!EM$588:EM$952,CALENDRIER!$B$5))/2)","v":0},{"$f":"(COUNTIF(CALENDRIER!EN$588:EN$952,CALENDRIER!$A$5))+((COUNTIF(CALENDRIER!EN$588:EN$952,CALENDRIER!$B$5))/2)","v":0},{"$f":"(COUNTIF(CALENDRIER!EO$588:EO$952,CALENDRIER!$A$5))+((COUNTIF(CALENDRIER!EO$588:EO$952,CALENDRIER!$B$5))/2)","v":0},{"$f":"(COUNTIF(CALENDRIER!EP$588:EP$952,CALENDRIER!$A$5))+((COUNTIF(CALENDRIER!EP$588:EP$952,CALENDRIER!$B$5))/2)","v":0},{"$f":"(COUNTIF(CALENDRIER!EQ$588:EQ$952,CALENDRIER!$A$5))+((COUNTIF(CALENDRIER!EQ$588:EQ$952,CALENDRIER!$B$5))/2)","v":0},{"$f":"(COUNTIF(CALENDRIER!ER$588:ER$952,CALENDRIER!$A$5))+((COUNTIF(CALENDRIER!ER$588:ER$952,CALENDRIER!$B$5))/2)","v":0},{"$f":"(COUNTIF(CALENDRIER!ES$588:ES$952,CALENDRIER!$A$5))+((COUNTIF(CALENDRIER!ES$588:ES$952,CALENDRIER!$B$5))/2)","v":0},{"$f":"(COUNTIF(CALENDRIER!ET$588:ET$952,CALENDRIER!$A$5))+((COUNTIF(CALENDRIER!ET$588:ET$952,CALENDRIER!$B$5))/2)","v":0},{"$f":"(COUNTIF(CALENDRIER!EU$588:EU$952,CALENDRIER!$A$5))+((COUNTIF(CALENDRIER!EU$588:EU$952,CALENDRIER!$B$5))/2)","v":0},{"$f":"(COUNTIF(CALENDRIER!EV$588:EV$952,CALENDRIER!$A$5))+((COUNTIF(CALENDRIER!EV$588:EV$952,CALENDRIER!$B$5))/2)","v":0},{"$f":"(COUNTIF(CALENDRIER!EW$588:EW$952,CALENDRIER!$A$5))+((COUNTIF(CALENDRIER!EW$588:EW$952,CALENDRIER!$B$5))/2)","v":0},{"$f":"(COUNTIF(CALENDRIER!EX$588:EX$952,CALENDRIER!$A$5))+((COUNTIF(CALENDRIER!EX$588:EX$952,CALENDRIER!$B$5))/2)","v":0},{"$f":"(COUNTIF(CALENDRIER!EY$588:EY$952,CALENDRIER!$A$5))+((COUNTIF(CALENDRIER!EY$588:EY$952,CALENDRIER!$B$5))/2)","v":0},{"$f":"(COUNTIF(CALENDRIER!EZ$588:EZ$952,CALENDRIER!$A$5))+((COUNTIF(CALENDRIER!EZ$588:EZ$952,CALENDRIER!$B$5))/2)","v":0},{"$f":"(COUNTIF(CALENDRIER!FA$588:FA$952,CALENDRIER!$A$5))+((COUNTIF(CALENDRIER!FA$588:FA$952,CALENDRIER!$B$5))/2)","v":0},{"$f":"(COUNTIF(CALENDRIER!FB$588:FB$952,CALENDRIER!$A$5))+((COUNTIF(CALENDRIER!FB$588:FB$952,CALENDRIER!$B$5))/2)","v":0},{"$f":"(COUNTIF(CALENDRIER!FC$588:FC$952,CALENDRIER!$A$5))+((COUNTIF(CALENDRIER!FC$588:FC$952,CALENDRIER!$B$5))/2)","v":0},{"$f":"(COUNTIF(CALENDRIER!FD$588:FD$952,CALENDRIER!$A$5))+((COUNTIF(CALENDRIER!FD$588:FD$952,CALENDRIER!$B$5))/2)","v":0},{"$f":"(COUNTIF(CALENDRIER!FE$588:FE$952,CALENDRIER!$A$5))+((COUNTIF(CALENDRIER!FE$588:FE$952,CALENDRIER!$B$5))/2)","v":0},{"$f":"(COUNTIF(CALENDRIER!FF$588:FF$952,CALENDRIER!$A$5))+((COUNTIF(CALENDRIER!FF$588:FF$952,CALENDRIER!$B$5))/2)","v":0},{"$f":"(COUNTIF(CALENDRIER!FG$588:FG$952,CALENDRIER!$A$5))+((COUNTIF(CALENDRIER!FG$588:FG$952,CALENDRIER!$B$5))/2)","v":0},{"$f":"(COUNTIF(CALENDRIER!FH$588:FH$952,CALENDRIER!$A$5))+((COUNTIF(CALENDRIER!FH$588:FH$952,CALENDRIER!$B$5))/2)","v":0},{"$f":"(COUNTIF(CALENDRIER!FI$588:FI$952,CALENDRIER!$A$5))+((COUNTIF(CALENDRIER!FI$588:FI$952,CALENDRIER!$B$5))/2)","v":0},{"$f":"(COUNTIF(CALENDRIER!FJ$588:FJ$952,CALENDRIER!$A$5))+((COUNTIF(CALENDRIER!FJ$588:FJ$952,CALENDRIER!$B$5))/2)","v":0},{"$f":"(COUNTIF(CALENDRIER!FK$588:FK$952,CALENDRIER!$A$5))+((COUNTIF(CALENDRIER!FK$588:FK$952,CALENDRIER!$B$5))/2)","v":0},{"$f":"(COUNTIF(CALENDRIER!FL$588:FL$952,CALENDRIER!$A$5))+((COUNTIF(CALENDRIER!FL$588:FL$952,CALENDRIER!$B$5))/2)","v":0},{"$f":"(COUNTIF(CALENDRIER!FM$588:FM$952,CALENDRIER!$A$5))+((COUNTIF(CALENDRIER!FM$588:FM$952,CALENDRIER!$B$5))/2)","v":0},{"$f":"(COUNTIF(CALENDRIER!FN$588:FN$952,CALENDRIER!$A$5))+((COUNTIF(CALENDRIER!FN$588:FN$952,CALENDRIER!$B$5))/2)","v":0},{"$f":"(COUNTIF(CALENDRIER!FO$588:FO$952,CALENDRIER!$A$5))+((COUNTIF(CALENDRIER!FO$588:FO$952,CALENDRIER!$B$5))/2)","v":0},{"$f":"(COUNTIF(CALENDRIER!FP$588:FP$952,CALENDRIER!$A$5))+((COUNTIF(CALENDRIER!FP$588:FP$952,CALENDRIER!$B$5))/2)","v":0},{"$f":"(COUNTIF(CALENDRIER!FQ$588:FQ$952,CALENDRIER!$A$5))+((COUNTIF(CALENDRIER!FQ$588:FQ$952,CALENDRIER!$B$5))/2)","v":0},{"$f":"(COUNTIF(CALENDRIER!FR$588:FR$952,CALENDRIER!$A$5))+((COUNTIF(CALENDRIER!FR$588:FR$952,CALENDRIER!$B$5))/2)","v":0},{"$f":"(COUNTIF(CALENDRIER!FS$588:FS$952,CALENDRIER!$A$5))+((COUNTIF(CALENDRIER!FS$588:FS$952,CALENDRIER!$B$5))/2)","v":0},{"$f":"(COUNTIF(CALENDRIER!FT$588:FT$952,CALENDRIER!$A$5))+((COUNTIF(CALENDRIER!FT$588:FT$952,CALENDRIER!$B$5))/2)","v":0},{"$f":"(COUNTIF(CALENDRIER!FU$588:FU$952,CALENDRIER!$A$5))+((COUNTIF(CALENDRIER!FU$588:FU$952,CALENDRIER!$B$5))/2)","v":0},{"$f":"(COUNTIF(CALENDRIER!FV$588:FV$952,CALENDRIER!$A$5))+((COUNTIF(CALENDRIER!FV$588:FV$952,CALENDRIER!$B$5))/2)","v":0},{"$f":"(COUNTIF(CALENDRIER!FW$588:FW$952,CALENDRIER!$A$5))+((COUNTIF(CALENDRIER!FW$588:FW$952,CALENDRIER!$B$5))/2)","v":0},{"$f":"(COUNTIF(CALENDRIER!FX$588:FX$952,CALENDRIER!$A$5))+((COUNTIF(CALENDRIER!FX$588:FX$952,CALENDRIER!$B$5))/2)","v":0},{"$f":"(COUNTIF(CALENDRIER!FY$588:FY$952,CALENDRIER!$A$5))+((COUNTIF(CALENDRIER!FY$588:FY$952,CALENDRIER!$B$5))/2)","v":0},{"$f":"(COUNTIF(CALENDRIER!FZ$588:FZ$952,CALENDRIER!$A$5))+((COUNTIF(CALENDRIER!FZ$588:FZ$952,CALENDRIER!$B$5))/2)","v":0},{"$f":"(COUNTIF(CALENDRIER!GA$588:GA$952,CALENDRIER!$A$5))+((COUNTIF(CALENDRIER!GA$588:GA$952,CALENDRIER!$B$5))/2)","v":0},{"$f":"(COUNTIF(CALENDRIER!GB$588:GB$952,CALENDRIER!$A$5))+((COUNTIF(CALENDRIER!GB$588:GB$952,CALENDRIER!$B$5))/2)","v":0},{"$f":"(COUNTIF(CALENDRIER!GC$588:GC$952,CALENDRIER!$A$5))+((COUNTIF(CALENDRIER!GC$588:GC$952,CALENDRIER!$B$5))/2)","v":0},{"$f":"(COUNTIF(CALENDRIER!GD$588:GD$952,CALENDRIER!$A$5))+((COUNTIF(CALENDRIER!GD$588:GD$952,CALENDRIER!$B$5))/2)","v":0},{"$f":"(COUNTIF(CALENDRIER!GE$588:GE$952,CALENDRIER!$A$5))+((COUNTIF(CALENDRIER!GE$588:GE$952,CALENDRIER!$B$5))/2)","v":0},{"$f":"(COUNTIF(CALENDRIER!GF$588:GF$952,CALENDRIER!$A$5))+((COUNTIF(CALENDRIER!GF$588:GF$952,CALENDRIER!$B$5))/2)","v":0},{"$f":"(COUNTIF(CALENDRIER!GG$588:GG$952,CALENDRIER!$A$5))+((COUNTIF(CALENDRIER!GG$588:GG$952,CALENDRIER!$B$5))/2)","v":0},{"$f":"(COUNTIF(CALENDRIER!GH$588:GH$952,CALENDRIER!$A$5))+((COUNTIF(CALENDRIER!GH$588:GH$952,CALENDRIER!$B$5))/2)","v":0},{"$f":"(COUNTIF(CALENDRIER!GI$588:GI$952,CALENDRIER!$A$5))+((COUNTIF(CALENDRIER!GI$588:GI$952,CALENDRIER!$B$5))/2)","v":0},{"$f":"(COUNTIF(CALENDRIER!GJ$588:GJ$952,CALENDRIER!$A$5))+((COUNTIF(CALENDRIER!GJ$588:GJ$952,CALENDRIER!$B$5))/2)","v":0},{"$f":"(COUNTIF(CALENDRIER!GK$588:GK$952,CALENDRIER!$A$5))+((COUNTIF(CALENDRIER!GK$588:GK$952,CALENDRIER!$B$5))/2)","v":0},{"$f":"(COUNTIF(CALENDRIER!GL$588:GL$952,CALENDRIER!$A$5))+((COUNTIF(CALENDRIER!GL$588:GL$952,CALENDRIER!$B$5))/2)","v":0},{"$f":"(COUNTIF(CALENDRIER!GM$588:GM$952,CALENDRIER!$A$5))+((COUNTIF(CALENDRIER!GM$588:GM$952,CALENDRIER!$B$5))/2)","v":0},{"$f":"(COUNTIF(CALENDRIER!GN$588:GN$952,CALENDRIER!$A$5))+((COUNTIF(CALENDRIER!GN$588:GN$952,CALENDRIER!$B$5))/2)","v":0},{"$f":"(COUNTIF(CALENDRIER!GO$588:GO$952,CALENDRIER!$A$5))+((COUNTIF(CALENDRIER!GO$588:GO$952,CALENDRIER!$B$5))/2)","v":0},{"$f":"(COUNTIF(CALENDRIER!GP$588:GP$952,CALENDRIER!$A$5))+((COUNTIF(CALENDRIER!GP$588:GP$952,CALENDRIER!$B$5))/2)","v":0},{"$f":"(COUNTIF(CALENDRIER!GQ$588:GQ$952,CALENDRIER!$A$5))+((COUNTIF(CALENDRIER!GQ$588:GQ$952,CALENDRIER!$B$5))/2)","v":0},{"$f":"(COUNTIF(CALENDRIER!GR$588:GR$952,CALENDRIER!$A$5))+((COUNTIF(CALENDRIER!GR$588:GR$952,CALENDRIER!$B$5))/2)","v":0}]
[null,{"$f":"\"Solde \"&CALENDRIER!$A$5&\" \"&A209&\" : \"","v":"Solde … 2017 : "},{"$f":"C210-C211","v":0},{"$f":"D210-D211","v":0},0,0,0,0,0,0,0,0,0,0,0,0,0,0,0,0,0,0,0,0,0,0,0,0,0,0,0,0,0,0,0,0,0,0,0,0,0,0,0,0,0,0,0,0,0,0,0,0,0,0,0,0,0,0,0,0,0,0,0,0,0,0,0,{"$f":"BP210-BP211","v":0},0,0,0,0,0,0,0,0,0,0,0,0,0,0,0,0,0,0,0,0,0,0,0,0,0,0,0,0,0,0,0,0,0,0,0,0,0,0,0,0,0,0,0,0,0,0,0,0,0,0,0,0,0,0,0,0,0,0,0,0,0,0,0,{"$f":"EB210-EB211","v":0},0,0,0,0,0,0,0,0,0,0,0,0,0,0,0,0,0,0,0,0,0,0,0,0,0,0,0,0,0,0,0,0,0,0,0,0,0,0,0,0,0,0,0,0,0,0,0,0,0,0,0,0,0,0,0,0,0,0,0,0,0,0,0,{"$f":"GN210-GN211","v":0},0,0,0,0]
[]
[2018,{"$f":"CALENDRIER!$A$5","v":"…"}]
[null,"SOLDE DEPART"]
[null,{"$f":"CALENDRIER!$A$5&\" PRIS\"","v":"… PRIS"},{"$f":"(COUNTIF(CALENDRIER!C$953:C$1317,CALENDRIER!$A$5))+((COUNTIF(CALENDRIER!C$953:C$1317,CALENDRIER!$B$5))/2)","v":0},{"$f":"(COUNTIF(CALENDRIER!D$953:D$1317,CALENDRIER!$A$5))+((COUNTIF(CALENDRIER!D$953:D$1317,CALENDRIER!$B$5))/2)","v":0},{"$f":"(COUNTIF(CALENDRIER!E$953:E$1317,CALENDRIER!$A$5))+((COUNTIF(CALENDRIER!E$953:E$1317,CALENDRIER!$B$5))/2)","v":0},{"$f":"(COUNTIF(CALENDRIER!F$953:F$1317,CALENDRIER!$A$5))+((COUNTIF(CALENDRIER!F$953:F$1317,CALENDRIER!$B$5))/2)","v":0},{"$f":"(COUNTIF(CALENDRIER!G$953:G$1317,CALENDRIER!$A$5))+((COUNTIF(CALENDRIER!G$953:G$1317,CALENDRIER!$B$5))/2)","v":0},{"$f":"(COUNTIF(CALENDRIER!H$953:H$1317,CALENDRIER!$A$5))+((COUNTIF(CALENDRIER!H$953:H$1317,CALENDRIER!$B$5))/2)","v":0},{"$f":"(COUNTIF(CALENDRIER!I$953:I$1317,CALENDRIER!$A$5))+((COUNTIF(CALENDRIER!I$953:I$1317,CALENDRIER!$B$5))/2)","v":0},{"$f":"(COUNTIF(CALENDRIER!J$953:J$1317,CALENDRIER!$A$5))+((COUNTIF(CALENDRIER!J$953:J$1317,CALENDRIER!$B$5))/2)","v":0},{"$f":"(COUNTIF(CALENDRIER!K$953:K$1317,CALENDRIER!$A$5))+((COUNTIF(CALENDRIER!K$953:K$1317,CALENDRIER!$B$5))/2)","v":0},{"$f":"(COUNTIF(CALENDRIER!L$953:L$1317,CALENDRIER!$A$5))+((COUNTIF(CALENDRIER!L$953:L$1317,CALENDRIER!$B$5))/2)","v":0},{"$f":"(COUNTIF(CALENDRIER!M$953:M$1317,CALENDRIER!$A$5))+((COUNTIF(CALENDRIER!M$953:M$1317,CALENDRIER!$B$5))/2)","v":0},{"$f":"(COUNTIF(CALENDRIER!N$953:N$1317,CALENDRIER!$A$5))+((COUNTIF(CALENDRIER!N$953:N$1317,CALENDRIER!$B$5))/2)","v":0},{"$f":"(COUNTIF(CALENDRIER!O$953:O$1317,CALENDRIER!$A$5))+((COUNTIF(CALENDRIER!O$953:O$1317,CALENDRIER!$B$5))/2)","v":0},{"$f":"(COUNTIF(CALENDRIER!P$953:P$1317,CALENDRIER!$A$5))+((COUNTIF(CALENDRIER!P$953:P$1317,CALENDRIER!$B$5))/2)","v":0},{"$f":"(COUNTIF(CALENDRIER!Q$953:Q$1317,CALENDRIER!$A$5))+((COUNTIF(CALENDRIER!Q$953:Q$1317,CALENDRIER!$B$5))/2)","v":0},{"$f":"(COUNTIF(CALENDRIER!R$953:R$1317,CALENDRIER!$A$5))+((COUNTIF(CALENDRIER!R$953:R$1317,CALENDRIER!$B$5))/2)","v":0},{"$f":"(COUNTIF(CALENDRIER!S$953:S$1317,CALENDRIER!$A$5))+((COUNTIF(CALENDRIER!S$953:S$1317,CALENDRIER!$B$5))/2)","v":0},{"$f":"(COUNTIF(CALENDRIER!T$953:T$1317,CALENDRIER!$A$5))+((COUNTIF(CALENDRIER!T$953:T$1317,CALENDRIER!$B$5))/2)","v":0},{"$f":"(COUNTIF(CALENDRIER!U$953:U$1317,CALENDRIER!$A$5))+((COUNTIF(CALENDRIER!U$953:U$1317,CALENDRIER!$B$5))/2)","v":0},{"$f":"(COUNTIF(CALENDRIER!V$953:V$1317,CALENDRIER!$A$5))+((COUNTIF(CALENDRIER!V$953:V$1317,CALENDRIER!$B$5))/2)","v":0},{"$f":"(COUNTIF(CALENDRIER!W$953:W$1317,CALENDRIER!$A$5))+((COUNTIF(CALENDRIER!W$953:W$1317,CALENDRIER!$B$5))/2)","v":0},{"$f":"(COUNTIF(CALENDRIER!X$953:X$1317,CALENDRIER!$A$5))+((COUNTIF(CALENDRIER!X$953:X$1317,CALENDRIER!$B$5))/2)","v":0},{"$f":"(COUNTIF(CALENDRIER!Y$953:Y$1317,CALENDRIER!$A$5))+((COUNTIF(CALENDRIER!Y$953:Y$1317,CALENDRIER!$B$5))/2)","v":0},{"$f":"(COUNTIF(CALENDRIER!Z$953:Z$1317,CALENDRIER!$A$5))+((COUNTIF(CALENDRIER!Z$953:Z$1317,CALENDRIER!$B$5))/2)","v":0},{"$f":"(COUNTIF(CALENDRIER!AA$953:AA$1317,CALENDRIER!$A$5))+((COUNTIF(CALENDRIER!AA$953:AA$1317,CALENDRIER!$B$5))/2)","v":0},{"$f":"(COUNTIF(CALENDRIER!AB$953:AB$1317,CALENDRIER!$A$5))+((COUNTIF(CALENDRIER!AB$953:AB$1317,CALENDRIER!$B$5))/2)","v":0},{"$f":"(COUNTIF(CALENDRIER!AC$953:AC$1317,CALENDRIER!$A$5))+((COUNTIF(CALENDRIER!AC$953:AC$1317,CALENDRIER!$B$5))/2)","v":0},{"$f":"(COUNTIF(CALENDRIER!AD$953:AD$1317,CALENDRIER!$A$5))+((COUNTIF(CALENDRIER!AD$953:AD$1317,CALENDRIER!$B$5))/2)","v":0},{"$f":"(COUNTIF(CALENDRIER!AE$953:AE$1317,CALENDRIER!$A$5))+((COUNTIF(CALENDRIER!AE$953:AE$1317,CALENDRIER!$B$5))/2)","v":0},{"$f":"(COUNTIF(CALENDRIER!AF$953:AF$1317,CALENDRIER!$A$5))+((COUNTIF(CALENDRIER!AF$953:AF$1317,CALENDRIER!$B$5))/2)","v":0},{"$f":"(COUNTIF(CALENDRIER!AG$953:AG$1317,CALENDRIER!$A$5))+((COUNTIF(CALENDRIER!AG$953:AG$1317,CALENDRIER!$B$5))/2)","v":0},{"$f":"(COUNTIF(CALENDRIER!AH$953:AH$1317,CALENDRIER!$A$5))+((COUNTIF(CALENDRIER!AH$953:AH$1317,CALENDRIER!$B$5))/2)","v":0},{"$f":"(COUNTIF(CALENDRIER!AI$953:AI$1317,CALENDRIER!$A$5))+((COUNTIF(CALENDRIER!AI$953:AI$1317,CALENDRIER!$B$5))/2)","v":0},{"$f":"(COUNTIF(CALENDRIER!AJ$953:AJ$1317,CALENDRIER!$A$5))+((COUNTIF(CALENDRIER!AJ$953:AJ$1317,CALENDRIER!$B$5))/2)","v":0},{"$f":"(COUNTIF(CALENDRIER!AK$953:AK$1317,CALENDRIER!$A$5))+((COUNTIF(CALENDRIER!AK$953:AK$1317,CALENDRIER!$B$5))/2)","v":0},{"$f":"(COUNTIF(CALENDRIER!AL$953:AL$1317,CALENDRIER!$A$5))+((COUNTIF(CALENDRIER!AL$953:AL$1317,CALENDRIER!$B$5))/2)","v":0},{"$f":"(COUNTIF(CALENDRIER!AM$953:AM$1317,CALENDRIER!$A$5))+((COUNTIF(CALENDRIER!AM$953:AM$1317,CALENDRIER!$B$5))/2)","v":0},{"$f":"(COUNTIF(CALENDRIER!AN$953:AN$1317,CALENDRIER!$A$5))+((COUNTIF(CALENDRIER!AN$953:AN$1317,CALENDRIER!$B$5))/2)","v":0},{"$f":"(COUNTIF(CALENDRIER!AO$953:AO$1317,CALENDRIER!$A$5))+((COUNTIF(CALENDRIER!AO$953:AO$1317,CALENDRIER!$B$5))/2)","v":0},{"$f":"(COUNTIF(CALENDRIER!AP$953:AP$1317,CALENDRIER!$A$5))+((COUNTIF(CALENDRIER!AP$953:AP$1317,CALENDRIER!$B$5))/2)","v":0},{"$f":"(COUNTIF(CALENDRIER!AQ$953:AQ$1317,CALENDRIER!$A$5))+((COUNTIF(CALENDRIER!AQ$953:AQ$1317,CALENDRIER!$B$5))/2)","v":0},{"$f":"(COUNTIF(CALENDRIER!AR$953:AR$1317,CALENDRIER!$A$5))+((COUNTIF(CALENDRIER!AR$953:AR$1317,CALENDRIER!$B$5))/2)","v":0},{"$f":"(COUNTIF(CALENDRIER!AS$953:AS$1317,CALENDRIER!$A$5))+((COUNTIF(CALENDRIER!AS$953:AS$1317,CALENDRIER!$B$5))/2)","v":0},{"$f":"(COUNTIF(CALENDRIER!AT$953:AT$1317,CALENDRIER!$A$5))+((COUNTIF(CALENDRIER!AT$953:AT$1317,CALENDRIER!$B$5))/2)","v":0},{"$f":"(COUNTIF(CALENDRIER!AU$953:AU$1317,CALENDRIER!$A$5))+((COUNTIF(CALENDRIER!AU$953:AU$1317,CALENDRIER!$B$5))/2)","v":0},{"$f":"(COUNTIF(CALENDRIER!AV$953:AV$1317,CALENDRIER!$A$5))+((COUNTIF(CALENDRIER!AV$953:AV$1317,CALENDRIER!$B$5))/2)","v":0},{"$f":"(COUNTIF(CALENDRIER!AW$953:AW$1317,CALENDRIER!$A$5))+((COUNTIF(CALENDRIER!AW$953:AW$1317,CALENDRIER!$B$5))/2)","v":0},{"$f":"(COUNTIF(CALENDRIER!AX$953:AX$1317,CALENDRIER!$A$5))+((COUNTIF(CALENDRIER!AX$953:AX$1317,CALENDRIER!$B$5))/2)","v":0},{"$f":"(COUNTIF(CALENDRIER!AY$953:AY$1317,CALENDRIER!$A$5))+((COUNTIF(CALENDRIER!AY$953:AY$1317,CALENDRIER!$B$5))/2)","v":0},{"$f":"(COUNTIF(CALENDRIER!AZ$953:AZ$1317,CALENDRIER!$A$5))+((COUNTIF(CALENDRIER!AZ$953:AZ$1317,CALENDRIER!$B$5))/2)","v":0},{"$f":"(COUNTIF(CALENDRIER!BA$953:BA$1317,CALENDRIER!$A$5))+((COUNTIF(CALENDRIER!BA$953:BA$1317,CALENDRIER!$B$5))/2)","v":0},{"$f":"(COUNTIF(CALENDRIER!BB$953:BB$1317,CALENDRIER!$A$5))+((COUNTIF(CALENDRIER!BB$953:BB$1317,CALENDRIER!$B$5))/2)","v":0},{"$f":"(COUNTIF(CALENDRIER!BC$953:BC$1317,CALENDRIER!$A$5))+((COUNTIF(CALENDRIER!BC$953:BC$1317,CALENDRIER!$B$5))/2)","v":0},{"$f":"(COUNTIF(CALENDRIER!BD$953:BD$1317,CALENDRIER!$A$5))+((COUNTIF(CALENDRIER!BD$953:BD$1317,CALENDRIER!$B$5))/2)","v":0},{"$f":"(COUNTIF(CALENDRIER!BE$953:BE$1317,CALENDRIER!$A$5))+((COUNTIF(CALENDRIER!BE$953:BE$1317,CALENDRIER!$B$5))/2)","v":0},{"$f":"(COUNTIF(CALENDRIER!BF$953:BF$1317,CALENDRIER!$A$5))+((COUNTIF(CALENDRIER!BF$953:BF$1317,CALENDRIER!$B$5))/2)","v":0},{"$f":"(COUNTIF(CALENDRIER!BG$953:BG$1317,CALENDRIER!$A$5))+((COUNTIF(CALENDRIER!BG$953:BG$1317,CALENDRIER!$B$5))/2)","v":0},{"$f":"(COUNTIF(CALENDRIER!BH$953:BH$1317,CALENDRIER!$A$5))+((COUNTIF(CALENDRIER!BH$953:BH$1317,CALENDRIER!$B$5))/2)","v":0},{"$f":"(COUNTIF(CALENDRIER!BI$953:BI$1317,CALENDRIER!$A$5))+((COUNTIF(CALENDRIER!BI$953:BI$1317,CALENDRIER!$B$5))/2)","v":0},{"$f":"(COUNTIF(CALENDRIER!BJ$953:BJ$1317,CALENDRIER!$A$5))+((COUNTIF(CALENDRIER!BJ$953:BJ$1317,CALENDRIER!$B$5))/2)","v":0},{"$f":"(COUNTIF(CALENDRIER!BK$953:BK$1317,CALENDRIER!$A$5))+((COUNTIF(CALENDRIER!BK$953:BK$1317,CALENDRIER!$B$5))/2)","v":0},{"$f":"(COUNTIF(CALENDRIER!BL$953:BL$1317,CALENDRIER!$A$5))+((COUNTIF(CALENDRIER!BL$953:BL$1317,CALENDRIER!$B$5))/2)","v":0},{"$f":"(COUNTIF(CALENDRIER!BM$953:BM$1317,CALENDRIER!$A$5))+((COUNTIF(CALENDRIER!BM$953:BM$1317,CALENDRIER!$B$5))/2)","v":0},{"$f":"(COUNTIF(CALENDRIER!BN$953:BN$1317,CALENDRIER!$A$5))+((COUNTIF(CALENDRIER!BN$953:BN$1317,CALENDRIER!$B$5))/2)","v":0},{"$f":"(COUNTIF(CALENDRIER!BO$953:BO$1317,CALENDRIER!$A$5))+((COUNTIF(CALENDRIER!BO$953:BO$1317,CALENDRIER!$B$5))/2)","v":0},{"$f":"(COUNTIF(CALENDRIER!BP$953:BP$1317,CALENDRIER!$A$5))+((COUNTIF(CALENDRIER!BP$953:BP$1317,CALENDRIER!$B$5))/2)","v":0},{"$f":"(COUNTIF(CALENDRIER!BQ$953:BQ$1317,CALENDRIER!$A$5))+((COUNTIF(CALENDRIER!BQ$953:BQ$1317,CALENDRIER!$B$5))/2)","v":0},{"$f":"(COUNTIF(CALENDRIER!BR$953:BR$1317,CALENDRIER!$A$5))+((COUNTIF(CALENDRIER!BR$953:BR$1317,CALENDRIER!$B$5))/2)","v":0},{"$f":"(COUNTIF(CALENDRIER!BS$953:BS$1317,CALENDRIER!$A$5))+((COUNTIF(CALENDRIER!BS$953:BS$1317,CALENDRIER!$B$5))/2)","v":0},{"$f":"(COUNTIF(CALENDRIER!BT$953:BT$1317,CALENDRIER!$A$5))+((COUNTIF(CALENDRIER!BT$953:BT$1317,CALENDRIER!$B$5))/2)","v":0},{"$f":"(COUNTIF(CALENDRIER!BU$953:BU$1317,CALENDRIER!$A$5))+((COUNTIF(CALENDRIER!BU$953:BU$1317,CALENDRIER!$B$5))/2)","v":0},{"$f":"(COUNTIF(CALENDRIER!BV$953:BV$1317,CALENDRIER!$A$5))+((COUNTIF(CALENDRIER!BV$953:BV$1317,CALENDRIER!$B$5))/2)","v":0},{"$f":"(COUNTIF(CALENDRIER!BW$953:BW$1317,CALENDRIER!$A$5))+((COUNTIF(CALENDRIER!BW$953:BW$1317,CALENDRIER!$B$5))/2)","v":0},{"$f":"(COUNTIF(CALENDRIER!BX$953:BX$1317,CALENDRIER!$A$5))+((COUNTIF(CALENDRIER!BX$953:BX$1317,CALENDRIER!$B$5))/2)","v":0},{"$f":"(COUNTIF(CALENDRIER!BY$953:BY$1317,CALENDRIER!$A$5))+((COUNTIF(CALENDRIER!BY$953:BY$1317,CALENDRIER!$B$5))/2)","v":0},{"$f":"(COUNTIF(CALENDRIER!BZ$953:BZ$1317,CALENDRIER!$A$5))+((COUNTIF(CALENDRIER!BZ$953:BZ$1317,CALENDRIER!$B$5))/2)","v":0},{"$f":"(COUNTIF(CALENDRIER!CA$953:CA$1317,CALENDRIER!$A$5))+((COUNTIF(CALENDRIER!CA$953:CA$1317,CALENDRIER!$B$5))/2)","v":0},{"$f":"(COUNTIF(CALENDRIER!CB$953:CB$1317,CALENDRIER!$A$5))+((COUNTIF(CALENDRIER!CB$953:CB$1317,CALENDRIER!$B$5))/2)","v":0},{"$f":"(COUNTIF(CALENDRIER!CC$953:CC$1317,CALENDRIER!$A$5))+((COUNTIF(CALENDRIER!CC$953:CC$1317,CALENDRIER!$B$5))/2)","v":0},{"$f":"(COUNTIF(CALENDRIER!CD$953:CD$1317,CALENDRIER!$A$5))+((COUNTIF(CALENDRIER!CD$953:CD$1317,CALENDRIER!$B$5))/2)","v":0},{"$f":"(COUNTIF(CALENDRIER!CE$953:CE$1317,CALENDRIER!$A$5))+((COUNTIF(CALENDRIER!CE$953:CE$1317,CALENDRIER!$B$5))/2)","v":0},{"$f":"(COUNTIF(CALENDRIER!CF$953:CF$1317,CALENDRIER!$A$5))+((COUNTIF(CALENDRIER!CF$953:CF$1317,CALENDRIER!$B$5))/2)","v":0},{"$f":"(COUNTIF(CALENDRIER!CG$953:CG$1317,CALENDRIER!$A$5))+((COUNTIF(CALENDRIER!CG$953:CG$1317,CALENDRIER!$B$5))/2)","v":0},{"$f":"(COUNTIF(CALENDRIER!CH$953:CH$1317,CALENDRIER!$A$5))+((COUNTIF(CALENDRIER!CH$953:CH$1317,CALENDRIER!$B$5))/2)","v":0},{"$f":"(COUNTIF(CALENDRIER!CI$953:CI$1317,CALENDRIER!$A$5))+((COUNTIF(CALENDRIER!CI$953:CI$1317,CALENDRIER!$B$5))/2)","v":0},{"$f":"(COUNTIF(CALENDRIER!CJ$953:CJ$1317,CALENDRIER!$A$5))+((COUNTIF(CALENDRIER!CJ$953:CJ$1317,CALENDRIER!$B$5))/2)","v":0},{"$f":"(COUNTIF(CALENDRIER!CK$953:CK$1317,CALENDRIER!$A$5))+((COUNTIF(CALENDRIER!CK$953:CK$1317,CALENDRIER!$B$5))/2)","v":0},{"$f":"(COUNTIF(CALENDRIER!CL$953:CL$1317,CALENDRIER!$A$5))+((COUNTIF(CALENDRIER!CL$953:CL$1317,CALENDRIER!$B$5))/2)","v":0},{"$f":"(COUNTIF(CALENDRIER!CM$953:CM$1317,CALENDRIER!$A$5))+((COUNTIF(CALENDRIER!CM$953:CM$1317,CALENDRIER!$B$5))/2)","v":0},{"$f":"(COUNTIF(CALENDRIER!CN$953:CN$1317,CALENDRIER!$A$5))+((COUNTIF(CALENDRIER!CN$953:CN$1317,CALENDRIER!$B$5))/2)","v":0},{"$f":"(COUNTIF(CALENDRIER!CO$953:CO$1317,CALENDRIER!$A$5))+((COUNTIF(CALENDRIER!CO$953:CO$1317,CALENDRIER!$B$5))/2)","v":0},{"$f":"(COUNTIF(CALENDRIER!CP$953:CP$1317,CALENDRIER!$A$5))+((COUNTIF(CALENDRIER!CP$953:CP$1317,CALENDRIER!$B$5))/2)","v":0},{"$f":"(COUNTIF(CALENDRIER!CQ$953:CQ$1317,CALENDRIER!$A$5))+((COUNTIF(CALENDRIER!CQ$953:CQ$1317,CALENDRIER!$B$5))/2)","v":0},{"$f":"(COUNTIF(CALENDRIER!CR$953:CR$1317,CALENDRIER!$A$5))+((COUNTIF(CALENDRIER!CR$953:CR$1317,CALENDRIER!$B$5))/2)","v":0},{"$f":"(COUNTIF(CALENDRIER!CS$953:CS$1317,CALENDRIER!$A$5))+((COUNTIF(CALENDRIER!CS$953:CS$1317,CALENDRIER!$B$5))/2)","v":0},{"$f":"(COUNTIF(CALENDRIER!CT$953:CT$1317,CALENDRIER!$A$5))+((COUNTIF(CALENDRIER!CT$953:CT$1317,CALENDRIER!$B$5))/2)","v":0},{"$f":"(COUNTIF(CALENDRIER!CU$953:CU$1317,CALENDRIER!$A$5))+((COUNTIF(CALENDRIER!CU$953:CU$1317,CALENDRIER!$B$5))/2)","v":0},{"$f":"(COUNTIF(CALENDRIER!CV$953:CV$1317,CALENDRIER!$A$5))+((COUNTIF(CALENDRIER!CV$953:CV$1317,CALENDRIER!$B$5))/2)","v":0},{"$f":"(COUNTIF(CALENDRIER!CW$953:CW$1317,CALENDRIER!$A$5))+((COUNTIF(CALENDRIER!CW$953:CW$1317,CALENDRIER!$B$5))/2)","v":0},{"$f":"(COUNTIF(CALENDRIER!CX$953:CX$1317,CALENDRIER!$A$5))+((COUNTIF(CALENDRIER!CX$953:CX$1317,CALENDRIER!$B$5))/2)","v":0},{"$f":"(COUNTIF(CALENDRIER!CY$953:CY$1317,CALENDRIER!$A$5))+((COUNTIF(CALENDRIER!CY$953:CY$1317,CALENDRIER!$B$5))/2)","v":0},{"$f":"(COUNTIF(CALENDRIER!CZ$953:CZ$1317,CALENDRIER!$A$5))+((COUNTIF(CALENDRIER!CZ$953:CZ$1317,CALENDRIER!$B$5))/2)","v":0},{"$f":"(COUNTIF(CALENDRIER!DA$953:DA$1317,CALENDRIER!$A$5))+((COUNTIF(CALENDRIER!DA$953:DA$1317,CALENDRIER!$B$5))/2)","v":0},{"$f":"(COUNTIF(CALENDRIER!DB$953:DB$1317,CALENDRIER!$A$5))+((COUNTIF(CALENDRIER!DB$953:DB$1317,CALENDRIER!$B$5))/2)","v":0},{"$f":"(COUNTIF(CALENDRIER!DC$953:DC$1317,CALENDRIER!$A$5))+((COUNTIF(CALENDRIER!DC$953:DC$1317,CALENDRIER!$B$5))/2)","v":0},{"$f":"(COUNTIF(CALENDRIER!DD$953:DD$1317,CALENDRIER!$A$5))+((COUNTIF(CALENDRIER!DD$953:DD$1317,CALENDRIER!$B$5))/2)","v":0},{"$f":"(COUNTIF(CALENDRIER!DE$953:DE$1317,CALENDRIER!$A$5))+((COUNTIF(CALENDRIER!DE$953:DE$1317,CALENDRIER!$B$5))/2)","v":0},{"$f":"(COUNTIF(CALENDRIER!DF$953:DF$1317,CALENDRIER!$A$5))+((COUNTIF(CALENDRIER!DF$953:DF$1317,CALENDRIER!$B$5))/2)","v":0},{"$f":"(COUNTIF(CALENDRIER!DG$953:DG$1317,CALENDRIER!$A$5))+((COUNTIF(CALENDRIER!DG$953:DG$1317,CALENDRIER!$B$5))/2)","v":0},{"$f":"(COUNTIF(CALENDRIER!DH$953:DH$1317,CALENDRIER!$A$5))+((COUNTIF(CALENDRIER!DH$953:DH$1317,CALENDRIER!$B$5))/2)","v":0},{"$f":"(COUNTIF(CALENDRIER!DI$953:DI$1317,CALENDRIER!$A$5))+((COUNTIF(CALENDRIER!DI$953:DI$1317,CALENDRIER!$B$5))/2)","v":0},{"$f":"(COUNTIF(CALENDRIER!DJ$953:DJ$1317,CALENDRIER!$A$5))+((COUNTIF(CALENDRIER!DJ$953:DJ$1317,CALENDRIER!$B$5))/2)","v":0},{"$f":"(COUNTIF(CALENDRIER!DK$953:DK$1317,CALENDRIER!$A$5))+((COUNTIF(CALENDRIER!DK$953:DK$1317,CALENDRIER!$B$5))/2)","v":0},{"$f":"(COUNTIF(CALENDRIER!DL$953:DL$1317,CALENDRIER!$A$5))+((COUNTIF(CALENDRIER!DL$953:DL$1317,CALENDRIER!$B$5))/2)","v":0},{"$f":"(COUNTIF(CALENDRIER!DM$953:DM$1317,CALENDRIER!$A$5))+((COUNTIF(CALENDRIER!DM$953:DM$1317,CALENDRIER!$B$5))/2)","v":0},{"$f":"(COUNTIF(CALENDRIER!DN$953:DN$1317,CALENDRIER!$A$5))+((COUNTIF(CALENDRIER!DN$953:DN$1317,CALENDRIER!$B$5))/2)","v":0},{"$f":"(COUNTIF(CALENDRIER!DO$953:DO$1317,CALENDRIER!$A$5))+((COUNTIF(CALENDRIER!DO$953:DO$1317,CALENDRIER!$B$5))/2)","v":0},{"$f":"(COUNTIF(CALENDRIER!DP$953:DP$1317,CALENDRIER!$A$5))+((COUNTIF(CALENDRIER!DP$953:DP$1317,CALENDRIER!$B$5))/2)","v":0},{"$f":"(COUNTIF(CALENDRIER!DQ$953:DQ$1317,CALENDRIER!$A$5))+((COUNTIF(CALENDRIER!DQ$953:DQ$1317,CALENDRIER!$B$5))/2)","v":0},{"$f":"(COUNTIF(CALENDRIER!DR$953:DR$1317,CALENDRIER!$A$5))+((COUNTIF(CALENDRIER!DR$953:DR$1317,CALENDRIER!$B$5))/2)","v":0},{"$f":"(COUNTIF(CALENDRIER!DS$953:DS$1317,CALENDRIER!$A$5))+((COUNTIF(CALENDRIER!DS$953:DS$1317,CALENDRIER!$B$5))/2)","v":0},{"$f":"(COUNTIF(CALENDRIER!DT$953:DT$1317,CALENDRIER!$A$5))+((COUNTIF(CALENDRIER!DT$953:DT$1317,CALENDRIER!$B$5))/2)","v":0},{"$f":"(COUNTIF(CALENDRIER!DU$953:DU$1317,CALENDRIER!$A$5))+((COUNTIF(CALENDRIER!DU$953:DU$1317,CALENDRIER!$B$5))/2)","v":0},{"$f":"(COUNTIF(CALENDRIER!DV$953:DV$1317,CALENDRIER!$A$5))+((COUNTIF(CALENDRIER!DV$953:DV$1317,CALENDRIER!$B$5))/2)","v":0},{"$f":"(COUNTIF(CALENDRIER!DW$953:DW$1317,CALENDRIER!$A$5))+((COUNTIF(CALENDRIER!DW$953:DW$1317,CALENDRIER!$B$5))/2)","v":0},{"$f":"(COUNTIF(CALENDRIER!DX$953:DX$1317,CALENDRIER!$A$5))+((COUNTIF(CALENDRIER!DX$953:DX$1317,CALENDRIER!$B$5))/2)","v":0},{"$f":"(COUNTIF(CALENDRIER!DY$953:DY$1317,CALENDRIER!$A$5))+((COUNTIF(CALENDRIER!DY$953:DY$1317,CALENDRIER!$B$5))/2)","v":0},{"$f":"(COUNTIF(CALENDRIER!DZ$953:DZ$1317,CALENDRIER!$A$5))+((COUNTIF(CALENDRIER!DZ$953:DZ$1317,CALENDRIER!$B$5))/2)","v":0},{"$f":"(COUNTIF(CALENDRIER!EA$953:EA$1317,CALENDRIER!$A$5))+((COUNTIF(CALENDRIER!EA$953:EA$1317,CALENDRIER!$B$5))/2)","v":0},{"$f":"(COUNTIF(CALENDRIER!EB$953:EB$1317,CALENDRIER!$A$5))+((COUNTIF(CALENDRIER!EB$953:EB$1317,CALENDRIER!$B$5))/2)","v":0},{"$f":"(COUNTIF(CALENDRIER!EC$953:EC$1317,CALENDRIER!$A$5))+((COUNTIF(CALENDRIER!EC$953:EC$1317,CALENDRIER!$B$5))/2)","v":0},{"$f":"(COUNTIF(CALENDRIER!ED$953:ED$1317,CALENDRIER!$A$5))+((COUNTIF(CALENDRIER!ED$953:ED$1317,CALENDRIER!$B$5))/2)","v":0},{"$f":"(COUNTIF(CALENDRIER!EE$953:EE$1317,CALENDRIER!$A$5))+((COUNTIF(CALENDRIER!EE$953:EE$1317,CALENDRIER!$B$5))/2)","v":0},{"$f":"(COUNTIF(CALENDRIER!EF$953:EF$1317,CALENDRIER!$A$5))+((COUNTIF(CALENDRIER!EF$953:EF$1317,CALENDRIER!$B$5))/2)","v":0},{"$f":"(COUNTIF(CALENDRIER!EG$953:EG$1317,CALENDRIER!$A$5))+((COUNTIF(CALENDRIER!EG$953:EG$1317,CALENDRIER!$B$5))/2)","v":0},{"$f":"(COUNTIF(CALENDRIER!EH$953:EH$1317,CALENDRIER!$A$5))+((COUNTIF(CALENDRIER!EH$953:EH$1317,CALENDRIER!$B$5))/2)","v":0},{"$f":"(COUNTIF(CALENDRIER!EI$953:EI$1317,CALENDRIER!$A$5))+((COUNTIF(CALENDRIER!EI$953:EI$1317,CALENDRIER!$B$5))/2)","v":0},{"$f":"(COUNTIF(CALENDRIER!EJ$953:EJ$1317,CALENDRIER!$A$5))+((COUNTIF(CALENDRIER!EJ$953:EJ$1317,CALENDRIER!$B$5))/2)","v":0},{"$f":"(COUNTIF(CALENDRIER!EK$953:EK$1317,CALENDRIER!$A$5))+((COUNTIF(CALENDRIER!EK$953:EK$1317,CALENDRIER!$B$5))/2)","v":0},{"$f":"(COUNTIF(CALENDRIER!EL$953:EL$1317,CALENDRIER!$A$5))+((COUNTIF(CALENDRIER!EL$953:EL$1317,CALENDRIER!$B$5))/2)","v":0},{"$f":"(COUNTIF(CALENDRIER!EM$953:EM$1317,CALENDRIER!$A$5))+((COUNTIF(CALENDRIER!EM$953:EM$1317,CALENDRIER!$B$5))/2)","v":0},{"$f":"(COUNTIF(CALENDRIER!EN$953:EN$1317,CALENDRIER!$A$5))+((COUNTIF(CALENDRIER!EN$953:EN$1317,CALENDRIER!$B$5))/2)","v":0},{"$f":"(COUNTIF(CALENDRIER!EO$953:EO$1317,CALENDRIER!$A$5))+((COUNTIF(CALENDRIER!EO$953:EO$1317,CALENDRIER!$B$5))/2)","v":0},{"$f":"(COUNTIF(CALENDRIER!EP$953:EP$1317,CALENDRIER!$A$5))+((COUNTIF(CALENDRIER!EP$953:EP$1317,CALENDRIER!$B$5))/2)","v":0},{"$f":"(COUNTIF(CALENDRIER!EQ$953:EQ$1317,CALENDRIER!$A$5))+((COUNTIF(CALENDRIER!EQ$953:EQ$1317,CALENDRIER!$B$5))/2)","v":0},{"$f":"(COUNTIF(CALENDRIER!ER$953:ER$1317,CALENDRIER!$A$5))+((COUNTIF(CALENDRIER!ER$953:ER$1317,CALENDRIER!$B$5))/2)","v":0},{"$f":"(COUNTIF(CALENDRIER!ES$953:ES$1317,CALENDRIER!$A$5))+((COUNTIF(CALENDRIER!ES$953:ES$1317,CALENDRIER!$B$5))/2)","v":0},{"$f":"(COUNTIF(CALENDRIER!ET$953:ET$1317,CALENDRIER!$A$5))+((COUNTIF(CALENDRIER!ET$953:ET$1317,CALENDRIER!$B$5))/2)","v":0},{"$f":"(COUNTIF(CALENDRIER!EU$953:EU$1317,CALENDRIER!$A$5))+((COUNTIF(CALENDRIER!EU$953:EU$1317,CALENDRIER!$B$5))/2)","v":0},{"$f":"(COUNTIF(CALENDRIER!EV$953:EV$1317,CALENDRIER!$A$5))+((COUNTIF(CALENDRIER!EV$953:EV$1317,CALENDRIER!$B$5))/2)","v":0},{"$f":"(COUNTIF(CALENDRIER!EW$953:EW$1317,CALENDRIER!$A$5))+((COUNTIF(CALENDRIER!EW$953:EW$1317,CALENDRIER!$B$5))/2)","v":0},{"$f":"(COUNTIF(CALENDRIER!EX$953:EX$1317,CALENDRIER!$A$5))+((COUNTIF(CALENDRIER!EX$953:EX$1317,CALENDRIER!$B$5))/2)","v":0},{"$f":"(COUNTIF(CALENDRIER!EY$953:EY$1317,CALENDRIER!$A$5))+((COUNTIF(CALENDRIER!EY$953:EY$1317,CALENDRIER!$B$5))/2)","v":0},{"$f":"(COUNTIF(CALENDRIER!EZ$953:EZ$1317,CALENDRIER!$A$5))+((COUNTIF(CALENDRIER!EZ$953:EZ$1317,CALENDRIER!$B$5))/2)","v":0},{"$f":"(COUNTIF(CALENDRIER!FA$953:FA$1317,CALENDRIER!$A$5))+((COUNTIF(CALENDRIER!FA$953:FA$1317,CALENDRIER!$B$5))/2)","v":0},{"$f":"(COUNTIF(CALENDRIER!FB$953:FB$1317,CALENDRIER!$A$5))+((COUNTIF(CALENDRIER!FB$953:FB$1317,CALENDRIER!$B$5))/2)","v":0},{"$f":"(COUNTIF(CALENDRIER!FC$953:FC$1317,CALENDRIER!$A$5))+((COUNTIF(CALENDRIER!FC$953:FC$1317,CALENDRIER!$B$5))/2)","v":0},{"$f":"(COUNTIF(CALENDRIER!FD$953:FD$1317,CALENDRIER!$A$5))+((COUNTIF(CALENDRIER!FD$953:FD$1317,CALENDRIER!$B$5))/2)","v":0},{"$f":"(COUNTIF(CALENDRIER!FE$953:FE$1317,CALENDRIER!$A$5))+((COUNTIF(CALENDRIER!FE$953:FE$1317,CALENDRIER!$B$5))/2)","v":0},{"$f":"(COUNTIF(CALENDRIER!FF$953:FF$1317,CALENDRIER!$A$5))+((COUNTIF(CALENDRIER!FF$953:FF$1317,CALENDRIER!$B$5))/2)","v":0},{"$f":"(COUNTIF(CALENDRIER!FG$953:FG$1317,CALENDRIER!$A$5))+((COUNTIF(CALENDRIER!FG$953:FG$1317,CALENDRIER!$B$5))/2)","v":0},{"$f":"(COUNTIF(CALENDRIER!FH$953:FH$1317,CALENDRIER!$A$5))+((COUNTIF(CALENDRIER!FH$953:FH$1317,CALENDRIER!$B$5))/2)","v":0},{"$f":"(COUNTIF(CALENDRIER!FI$953:FI$1317,CALENDRIER!$A$5))+((COUNTIF(CALENDRIER!FI$953:FI$1317,CALENDRIER!$B$5))/2)","v":0},{"$f":"(COUNTIF(CALENDRIER!FJ$953:FJ$1317,CALENDRIER!$A$5))+((COUNTIF(CALENDRIER!FJ$953:FJ$1317,CALENDRIER!$B$5))/2)","v":0},{"$f":"(COUNTIF(CALENDRIER!FK$953:FK$1317,CALENDRIER!$A$5))+((COUNTIF(CALENDRIER!FK$953:FK$1317,CALENDRIER!$B$5))/2)","v":0},{"$f":"(COUNTIF(CALENDRIER!FL$953:FL$1317,CALENDRIER!$A$5))+((COUNTIF(CALENDRIER!FL$953:FL$1317,CALENDRIER!$B$5))/2)","v":0},{"$f":"(COUNTIF(CALENDRIER!FM$953:FM$1317,CALENDRIER!$A$5))+((COUNTIF(CALENDRIER!FM$953:FM$1317,CALENDRIER!$B$5))/2)","v":0},{"$f":"(COUNTIF(CALENDRIER!FN$953:FN$1317,CALENDRIER!$A$5))+((COUNTIF(CALENDRIER!FN$953:FN$1317,CALENDRIER!$B$5))/2)","v":0},{"$f":"(COUNTIF(CALENDRIER!FO$953:FO$1317,CALENDRIER!$A$5))+((COUNTIF(CALENDRIER!FO$953:FO$1317,CALENDRIER!$B$5))/2)","v":0},{"$f":"(COUNTIF(CALENDRIER!FP$953:FP$1317,CALENDRIER!$A$5))+((COUNTIF(CALENDRIER!FP$953:FP$1317,CALENDRIER!$B$5))/2)","v":0},{"$f":"(COUNTIF(CALENDRIER!FQ$953:FQ$1317,CALENDRIER!$A$5))+((COUNTIF(CALENDRIER!FQ$953:FQ$1317,CALENDRIER!$B$5))/2)","v":0},{"$f":"(COUNTIF(CALENDRIER!FR$953:FR$1317,CALENDRIER!$A$5))+((COUNTIF(CALENDRIER!FR$953:FR$1317,CALENDRIER!$B$5))/2)","v":0},{"$f":"(COUNTIF(CALENDRIER!FS$953:FS$1317,CALENDRIER!$A$5))+((COUNTIF(CALENDRIER!FS$953:FS$1317,CALENDRIER!$B$5))/2)","v":0},{"$f":"(COUNTIF(CALENDRIER!FT$953:FT$1317,CALENDRIER!$A$5))+((COUNTIF(CALENDRIER!FT$953:FT$1317,CALENDRIER!$B$5))/2)","v":0},{"$f":"(COUNTIF(CALENDRIER!FU$953:FU$1317,CALENDRIER!$A$5))+((COUNTIF(CALENDRIER!FU$953:FU$1317,CALENDRIER!$B$5))/2)","v":0},{"$f":"(COUNTIF(CALENDRIER!FV$953:FV$1317,CALENDRIER!$A$5))+((COUNTIF(CALENDRIER!FV$953:FV$1317,CALENDRIER!$B$5))/2)","v":0},{"$f":"(COUNTIF(CALENDRIER!FW$953:FW$1317,CALENDRIER!$A$5))+((COUNTIF(CALENDRIER!FW$953:FW$1317,CALENDRIER!$B$5))/2)","v":0},{"$f":"(COUNTIF(CALENDRIER!FX$953:FX$1317,CALENDRIER!$A$5))+((COUNTIF(CALENDRIER!FX$953:FX$1317,CALENDRIER!$B$5))/2)","v":0},{"$f":"(COUNTIF(CALENDRIER!FY$953:FY$1317,CALENDRIER!$A$5))+((COUNTIF(CALENDRIER!FY$953:FY$1317,CALENDRIER!$B$5))/2)","v":0},{"$f":"(COUNTIF(CALENDRIER!FZ$953:FZ$1317,CALENDRIER!$A$5))+((COUNTIF(CALENDRIER!FZ$953:FZ$1317,CALENDRIER!$B$5))/2)","v":0},{"$f":"(COUNTIF(CALENDRIER!GA$953:GA$1317,CALENDRIER!$A$5))+((COUNTIF(CALENDRIER!GA$953:GA$1317,CALENDRIER!$B$5))/2)","v":0},{"$f":"(COUNTIF(CALENDRIER!GB$953:GB$1317,CALENDRIER!$A$5))+((COUNTIF(CALENDRIER!GB$953:GB$1317,CALENDRIER!$B$5))/2)","v":0},{"$f":"(COUNTIF(CALENDRIER!GC$953:GC$1317,CALENDRIER!$A$5))+((COUNTIF(CALENDRIER!GC$953:GC$1317,CALENDRIER!$B$5))/2)","v":0},{"$f":"(COUNTIF(CALENDRIER!GD$953:GD$1317,CALENDRIER!$A$5))+((COUNTIF(CALENDRIER!GD$953:GD$1317,CALENDRIER!$B$5))/2)","v":0},{"$f":"(COUNTIF(CALENDRIER!GE$953:GE$1317,CALENDRIER!$A$5))+((COUNTIF(CALENDRIER!GE$953:GE$1317,CALENDRIER!$B$5))/2)","v":0},{"$f":"(COUNTIF(CALENDRIER!GF$953:GF$1317,CALENDRIER!$A$5))+((COUNTIF(CALENDRIER!GF$953:GF$1317,CALENDRIER!$B$5))/2)","v":0},{"$f":"(COUNTIF(CALENDRIER!GG$953:GG$1317,CALENDRIER!$A$5))+((COUNTIF(CALENDRIER!GG$953:GG$1317,CALENDRIER!$B$5))/2)","v":0},{"$f":"(COUNTIF(CALENDRIER!GH$953:GH$1317,CALENDRIER!$A$5))+((COUNTIF(CALENDRIER!GH$953:GH$1317,CALENDRIER!$B$5))/2)","v":0},{"$f":"(COUNTIF(CALENDRIER!GI$953:GI$1317,CALENDRIER!$A$5))+((COUNTIF(CALENDRIER!GI$953:GI$1317,CALENDRIER!$B$5))/2)","v":0},{"$f":"(COUNTIF(CALENDRIER!GJ$953:GJ$1317,CALENDRIER!$A$5))+((COUNTIF(CALENDRIER!GJ$953:GJ$1317,CALENDRIER!$B$5))/2)","v":0},{"$f":"(COUNTIF(CALENDRIER!GK$953:GK$1317,CALENDRIER!$A$5))+((COUNTIF(CALENDRIER!GK$953:GK$1317,CALENDRIER!$B$5))/2)","v":0},{"$f":"(COUNTIF(CALENDRIER!GL$953:GL$1317,CALENDRIER!$A$5))+((COUNTIF(CALENDRIER!GL$953:GL$1317,CALENDRIER!$B$5))/2)","v":0},{"$f":"(COUNTIF(CALENDRIER!GM$953:GM$1317,CALENDRIER!$A$5))+((COUNTIF(CALENDRIER!GM$953:GM$1317,CALENDRIER!$B$5))/2)","v":0},{"$f":"(COUNTIF(CALENDRIER!GN$953:GN$1317,CALENDRIER!$A$5))+((COUNTIF(CALENDRIER!GN$953:GN$1317,CALENDRIER!$B$5))/2)","v":0},{"$f":"(COUNTIF(CALENDRIER!GO$953:GO$1317,CALENDRIER!$A$5))+((COUNTIF(CALENDRIER!GO$953:GO$1317,CALENDRIER!$B$5))/2)","v":0},{"$f":"(COUNTIF(CALENDRIER!GP$953:GP$1317,CALENDRIER!$A$5))+((COUNTIF(CALENDRIER!GP$953:GP$1317,CALENDRIER!$B$5))/2)","v":0},{"$f":"(COUNTIF(CALENDRIER!GQ$953:GQ$1317,CALENDRIER!$A$5))+((COUNTIF(CALENDRIER!GQ$953:GQ$1317,CALENDRIER!$B$5))/2)","v":0},{"$f":"(COUNTIF(CALENDRIER!GR$953:GR$1317,CALENDRIER!$A$5))+((COUNTIF(CALENDRIER!GR$953:GR$1317,CALENDRIER!$B$5))/2)","v":0}]
[null,{"$f":"\"Solde \"&CALENDRIER!$A$5&\" \"&A214&\" : \"","v":"Solde … 2018 : "},{"$f":"C215-C216","v":0},{"$f":"D215-D216","v":0},0,0,0,0,0,0,0,0,0,0,0,0,0,0,0,0,0,0,0,0,0,0,0,0,0,0,0,0,0,0,0,0,0,0,0,0,0,0,0,0,0,0,0,0,0,0,0,0,0,0,0,0,0,0,0,0,0,0,0,0,0,0,0,{"$f":"BP215-BP216","v":0},0,0,0,0,0,0,0,0,0,0,0,0,0,0,0,0,0,0,0,0,0,0,0,0,0,0,0,0,0,0,0,0,0,0,0,0,0,0,0,0,0,0,0,0,0,0,0,0,0,0,0,0,0,0,0,0,0,0,0,0,0,0,0,{"$f":"EB215-EB216","v":0},0,0,0,0,0,0,0,0,0,0,0,0,0,0,0,0,0,0,0,0,0,0,0,0,0,0,0,0,0,0,0,0,0,0,0,0,0,0,0,0,0,0,0,0,0,0,0,0,0,0,0,0,0,0,0,0,0,0,0,0,0,0,0,{"$f":"GN215-GN216","v":0},0,0,0,0]
[]
[2019,{"$f":"CALENDRIER!$A$5","v":"…"}]
[null,"SOLDE DEPART"]
[null,{"$f":"CALENDRIER!$A$5&\" PRIS\"","v":"… PRIS"},{"$f":"(COUNTIF(CALENDRIER!C$1318:C$1682,CALENDRIER!$A$5))+((COUNTIF(CALENDRIER!C$1318:C$1682,CALENDRIER!$B$5))/2)","v":0},{"$f":"(COUNTIF(CALENDRIER!D$1318:D$1682,CALENDRIER!$A$5))+((COUNTIF(CALENDRIER!D$1318:D$1682,CALENDRIER!$B$5))/2)","v":0},{"$f":"(COUNTIF(CALENDRIER!E$1318:E$1682,CALENDRIER!$A$5))+((COUNTIF(CALENDRIER!E$1318:E$1682,CALENDRIER!$B$5))/2)","v":0},{"$f":"(COUNTIF(CALENDRIER!F$1318:F$1682,CALENDRIER!$A$5))+((COUNTIF(CALENDRIER!F$1318:F$1682,CALENDRIER!$B$5))/2)","v":0},{"$f":"(COUNTIF(CALENDRIER!G$1318:G$1682,CALENDRIER!$A$5))+((COUNTIF(CALENDRIER!G$1318:G$1682,CALENDRIER!$B$5))/2)","v":0},{"$f":"(COUNTIF(CALENDRIER!H$1318:H$1682,CALENDRIER!$A$5))+((COUNTIF(CALENDRIER!H$1318:H$1682,CALENDRIER!$B$5))/2)","v":0},{"$f":"(COUNTIF(CALENDRIER!I$1318:I$1682,CALENDRIER!$A$5))+((COUNTIF(CALENDRIER!I$1318:I$1682,CALENDRIER!$B$5))/2)","v":0},{"$f":"(COUNTIF(CALENDRIER!J$1318:J$1682,CALENDRIER!$A$5))+((COUNTIF(CALENDRIER!J$1318:J$1682,CALENDRIER!$B$5))/2)","v":0},{"$f":"(COUNTIF(CALENDRIER!K$1318:K$1682,CALENDRIER!$A$5))+((COUNTIF(CALENDRIER!K$1318:K$1682,CALENDRIER!$B$5))/2)","v":0},{"$f":"(COUNTIF(CALENDRIER!L$1318:L$1682,CALENDRIER!$A$5))+((COUNTIF(CALENDRIER!L$1318:L$1682,CALENDRIER!$B$5))/2)","v":0},{"$f":"(COUNTIF(CALENDRIER!M$1318:M$1682,CALENDRIER!$A$5))+((COUNTIF(CALENDRIER!M$1318:M$1682,CALENDRIER!$B$5))/2)","v":0},{"$f":"(COUNTIF(CALENDRIER!N$1318:N$1682,CALENDRIER!$A$5))+((COUNTIF(CALENDRIER!N$1318:N$1682,CALENDRIER!$B$5))/2)","v":0},{"$f":"(COUNTIF(CALENDRIER!O$1318:O$1682,CALENDRIER!$A$5))+((COUNTIF(CALENDRIER!O$1318:O$1682,CALENDRIER!$B$5))/2)","v":0},{"$f":"(COUNTIF(CALENDRIER!P$1318:P$1682,CALENDRIER!$A$5))+((COUNTIF(CALENDRIER!P$1318:P$1682,CALENDRIER!$B$5))/2)","v":0},{"$f":"(COUNTIF(CALENDRIER!Q$1318:Q$1682,CALENDRIER!$A$5))+((COUNTIF(CALENDRIER!Q$1318:Q$1682,CALENDRIER!$B$5))/2)","v":0},{"$f":"(COUNTIF(CALENDRIER!R$1318:R$1682,CALENDRIER!$A$5))+((COUNTIF(CALENDRIER!R$1318:R$1682,CALENDRIER!$B$5))/2)","v":0},{"$f":"(COUNTIF(CALENDRIER!S$1318:S$1682,CALENDRIER!$A$5))+((COUNTIF(CALENDRIER!S$1318:S$1682,CALENDRIER!$B$5))/2)","v":0},{"$f":"(COUNTIF(CALENDRIER!T$1318:T$1682,CALENDRIER!$A$5))+((COUNTIF(CALENDRIER!T$1318:T$1682,CALENDRIER!$B$5))/2)","v":0},{"$f":"(COUNTIF(CALENDRIER!U$1318:U$1682,CALENDRIER!$A$5))+((COUNTIF(CALENDRIER!U$1318:U$1682,CALENDRIER!$B$5))/2)","v":0},{"$f":"(COUNTIF(CALENDRIER!V$1318:V$1682,CALENDRIER!$A$5))+((COUNTIF(CALENDRIER!V$1318:V$1682,CALENDRIER!$B$5))/2)","v":0},{"$f":"(COUNTIF(CALENDRIER!W$1318:W$1682,CALENDRIER!$A$5))+((COUNTIF(CALENDRIER!W$1318:W$1682,CALENDRIER!$B$5))/2)","v":0},{"$f":"(COUNTIF(CALENDRIER!X$1318:X$1682,CALENDRIER!$A$5))+((COUNTIF(CALENDRIER!X$1318:X$1682,CALENDRIER!$B$5))/2)","v":0},{"$f":"(COUNTIF(CALENDRIER!Y$1318:Y$1682,CALENDRIER!$A$5))+((COUNTIF(CALENDRIER!Y$1318:Y$1682,CALENDRIER!$B$5))/2)","v":0},{"$f":"(COUNTIF(CALENDRIER!Z$1318:Z$1682,CALENDRIER!$A$5))+((COUNTIF(CALENDRIER!Z$1318:Z$1682,CALENDRIER!$B$5))/2)","v":0},{"$f":"(COUNTIF(CALENDRIER!AA$1318:AA$1682,CALENDRIER!$A$5))+((COUNTIF(CALENDRIER!AA$1318:AA$1682,CALENDRIER!$B$5))/2)","v":0},{"$f":"(COUNTIF(CALENDRIER!AB$1318:AB$1682,CALENDRIER!$A$5))+((COUNTIF(CALENDRIER!AB$1318:AB$1682,CALENDRIER!$B$5))/2)","v":0},{"$f":"(COUNTIF(CALENDRIER!AC$1318:AC$1682,CALENDRIER!$A$5))+((COUNTIF(CALENDRIER!AC$1318:AC$1682,CALENDRIER!$B$5))/2)","v":0},{"$f":"(COUNTIF(CALENDRIER!AD$1318:AD$1682,CALENDRIER!$A$5))+((COUNTIF(CALENDRIER!AD$1318:AD$1682,CALENDRIER!$B$5))/2)","v":0},{"$f":"(COUNTIF(CALENDRIER!AE$1318:AE$1682,CALENDRIER!$A$5))+((COUNTIF(CALENDRIER!AE$1318:AE$1682,CALENDRIER!$B$5))/2)","v":0},{"$f":"(COUNTIF(CALENDRIER!AF$1318:AF$1682,CALENDRIER!$A$5))+((COUNTIF(CALENDRIER!AF$1318:AF$1682,CALENDRIER!$B$5))/2)","v":0},{"$f":"(COUNTIF(CALENDRIER!AG$1318:AG$1682,CALENDRIER!$A$5))+((COUNTIF(CALENDRIER!AG$1318:AG$1682,CALENDRIER!$B$5))/2)","v":0},{"$f":"(COUNTIF(CALENDRIER!AH$1318:AH$1682,CALENDRIER!$A$5))+((COUNTIF(CALENDRIER!AH$1318:AH$1682,CALENDRIER!$B$5))/2)","v":0},{"$f":"(COUNTIF(CALENDRIER!AI$1318:AI$1682,CALENDRIER!$A$5))+((COUNTIF(CALENDRIER!AI$1318:AI$1682,CALENDRIER!$B$5))/2)","v":0},{"$f":"(COUNTIF(CALENDRIER!AJ$1318:AJ$1682,CALENDRIER!$A$5))+((COUNTIF(CALENDRIER!AJ$1318:AJ$1682,CALENDRIER!$B$5))/2)","v":0},{"$f":"(COUNTIF(CALENDRIER!AK$1318:AK$1682,CALENDRIER!$A$5))+((COUNTIF(CALENDRIER!AK$1318:AK$1682,CALENDRIER!$B$5))/2)","v":0},{"$f":"(COUNTIF(CALENDRIER!AL$1318:AL$1682,CALENDRIER!$A$5))+((COUNTIF(CALENDRIER!AL$1318:AL$1682,CALENDRIER!$B$5))/2)","v":0},{"$f":"(COUNTIF(CALENDRIER!AM$1318:AM$1682,CALENDRIER!$A$5))+((COUNTIF(CALENDRIER!AM$1318:AM$1682,CALENDRIER!$B$5))/2)","v":0},{"$f":"(COUNTIF(CALENDRIER!AN$1318:AN$1682,CALENDRIER!$A$5))+((COUNTIF(CALENDRIER!AN$1318:AN$1682,CALENDRIER!$B$5))/2)","v":0},{"$f":"(COUNTIF(CALENDRIER!AO$1318:AO$1682,CALENDRIER!$A$5))+((COUNTIF(CALENDRIER!AO$1318:AO$1682,CALENDRIER!$B$5))/2)","v":0},{"$f":"(COUNTIF(CALENDRIER!AP$1318:AP$1682,CALENDRIER!$A$5))+((COUNTIF(CALENDRIER!AP$1318:AP$1682,CALENDRIER!$B$5))/2)","v":0},{"$f":"(COUNTIF(CALENDRIER!AQ$1318:AQ$1682,CALENDRIER!$A$5))+((COUNTIF(CALENDRIER!AQ$1318:AQ$1682,CALENDRIER!$B$5))/2)","v":0},{"$f":"(COUNTIF(CALENDRIER!AR$1318:AR$1682,CALENDRIER!$A$5))+((COUNTIF(CALENDRIER!AR$1318:AR$1682,CALENDRIER!$B$5))/2)","v":0},{"$f":"(COUNTIF(CALENDRIER!AS$1318:AS$1682,CALENDRIER!$A$5))+((COUNTIF(CALENDRIER!AS$1318:AS$1682,CALENDRIER!$B$5))/2)","v":0},{"$f":"(COUNTIF(CALENDRIER!AT$1318:AT$1682,CALENDRIER!$A$5))+((COUNTIF(CALENDRIER!AT$1318:AT$1682,CALENDRIER!$B$5))/2)","v":0},{"$f":"(COUNTIF(CALENDRIER!AU$1318:AU$1682,CALENDRIER!$A$5))+((COUNTIF(CALENDRIER!AU$1318:AU$1682,CALENDRIER!$B$5))/2)","v":0},{"$f":"(COUNTIF(CALENDRIER!AV$1318:AV$1682,CALENDRIER!$A$5))+((COUNTIF(CALENDRIER!AV$1318:AV$1682,CALENDRIER!$B$5))/2)","v":0},{"$f":"(COUNTIF(CALENDRIER!AW$1318:AW$1682,CALENDRIER!$A$5))+((COUNTIF(CALENDRIER!AW$1318:AW$1682,CALENDRIER!$B$5))/2)","v":0},{"$f":"(COUNTIF(CALENDRIER!AX$1318:AX$1682,CALENDRIER!$A$5))+((COUNTIF(CALENDRIER!AX$1318:AX$1682,CALENDRIER!$B$5))/2)","v":0},{"$f":"(COUNTIF(CALENDRIER!AY$1318:AY$1682,CALENDRIER!$A$5))+((COUNTIF(CALENDRIER!AY$1318:AY$1682,CALENDRIER!$B$5))/2)","v":0},{"$f":"(COUNTIF(CALENDRIER!AZ$1318:AZ$1682,CALENDRIER!$A$5))+((COUNTIF(CALENDRIER!AZ$1318:AZ$1682,CALENDRIER!$B$5))/2)","v":0},{"$f":"(COUNTIF(CALENDRIER!BA$1318:BA$1682,CALENDRIER!$A$5))+((COUNTIF(CALENDRIER!BA$1318:BA$1682,CALENDRIER!$B$5))/2)","v":0},{"$f":"(COUNTIF(CALENDRIER!BB$1318:BB$1682,CALENDRIER!$A$5))+((COUNTIF(CALENDRIER!BB$1318:BB$1682,CALENDRIER!$B$5))/2)","v":0},{"$f":"(COUNTIF(CALENDRIER!BC$1318:BC$1682,CALENDRIER!$A$5))+((COUNTIF(CALENDRIER!BC$1318:BC$1682,CALENDRIER!$B$5))/2)","v":0},{"$f":"(COUNTIF(CALENDRIER!BD$1318:BD$1682,CALENDRIER!$A$5))+((COUNTIF(CALENDRIER!BD$1318:BD$1682,CALENDRIER!$B$5))/2)","v":0},{"$f":"(COUNTIF(CALENDRIER!BE$1318:BE$1682,CALENDRIER!$A$5))+((COUNTIF(CALENDRIER!BE$1318:BE$1682,CALENDRIER!$B$5))/2)","v":0},{"$f":"(COUNTIF(CALENDRIER!BF$1318:BF$1682,CALENDRIER!$A$5))+((COUNTIF(CALENDRIER!BF$1318:BF$1682,CALENDRIER!$B$5))/2)","v":0},{"$f":"(COUNTIF(CALENDRIER!BG$1318:BG$1682,CALENDRIER!$A$5))+((COUNTIF(CALENDRIER!BG$1318:BG$1682,CALENDRIER!$B$5))/2)","v":0},{"$f":"(COUNTIF(CALENDRIER!BH$1318:BH$1682,CALENDRIER!$A$5))+((COUNTIF(CALENDRIER!BH$1318:BH$1682,CALENDRIER!$B$5))/2)","v":0},{"$f":"(COUNTIF(CALENDRIER!BI$1318:BI$1682,CALENDRIER!$A$5))+((COUNTIF(CALENDRIER!BI$1318:BI$1682,CALENDRIER!$B$5))/2)","v":0},{"$f":"(COUNTIF(CALENDRIER!BJ$1318:BJ$1682,CALENDRIER!$A$5))+((COUNTIF(CALENDRIER!BJ$1318:BJ$1682,CALENDRIER!$B$5))/2)","v":0},{"$f":"(COUNTIF(CALENDRIER!BK$1318:BK$1682,CALENDRIER!$A$5))+((COUNTIF(CALENDRIER!BK$1318:BK$1682,CALENDRIER!$B$5))/2)","v":0},{"$f":"(COUNTIF(CALENDRIER!BL$1318:BL$1682,CALENDRIER!$A$5))+((COUNTIF(CALENDRIER!BL$1318:BL$1682,CALENDRIER!$B$5))/2)","v":0},{"$f":"(COUNTIF(CALENDRIER!BM$1318:BM$1682,CALENDRIER!$A$5))+((COUNTIF(CALENDRIER!BM$1318:BM$1682,CALENDRIER!$B$5))/2)","v":0},{"$f":"(COUNTIF(CALENDRIER!BN$1318:BN$1682,CALENDRIER!$A$5))+((COUNTIF(CALENDRIER!BN$1318:BN$1682,CALENDRIER!$B$5))/2)","v":0},{"$f":"(COUNTIF(CALENDRIER!BO$1318:BO$1682,CALENDRIER!$A$5))+((COUNTIF(CALENDRIER!BO$1318:BO$1682,CALENDRIER!$B$5))/2)","v":0},{"$f":"(COUNTIF(CALENDRIER!BP$1318:BP$1682,CALENDRIER!$A$5))+((COUNTIF(CALENDRIER!BP$1318:BP$1682,CALENDRIER!$B$5))/2)","v":0},{"$f":"(COUNTIF(CALENDRIER!BQ$1318:BQ$1682,CALENDRIER!$A$5))+((COUNTIF(CALENDRIER!BQ$1318:BQ$1682,CALENDRIER!$B$5))/2)","v":0},{"$f":"(COUNTIF(CALENDRIER!BR$1318:BR$1682,CALENDRIER!$A$5))+((COUNTIF(CALENDRIER!BR$1318:BR$1682,CALENDRIER!$B$5))/2)","v":0},{"$f":"(COUNTIF(CALENDRIER!BS$1318:BS$1682,CALENDRIER!$A$5))+((COUNTIF(CALENDRIER!BS$1318:BS$1682,CALENDRIER!$B$5))/2)","v":0},{"$f":"(COUNTIF(CALENDRIER!BT$1318:BT$1682,CALENDRIER!$A$5))+((COUNTIF(CALENDRIER!BT$1318:BT$1682,CALENDRIER!$B$5))/2)","v":0},{"$f":"(COUNTIF(CALENDRIER!BU$1318:BU$1682,CALENDRIER!$A$5))+((COUNTIF(CALENDRIER!BU$1318:BU$1682,CALENDRIER!$B$5))/2)","v":0},{"$f":"(COUNTIF(CALENDRIER!BV$1318:BV$1682,CALENDRIER!$A$5))+((COUNTIF(CALENDRIER!BV$1318:BV$1682,CALENDRIER!$B$5))/2)","v":0},{"$f":"(COUNTIF(CALENDRIER!BW$1318:BW$1682,CALENDRIER!$A$5))+((COUNTIF(CALENDRIER!BW$1318:BW$1682,CALENDRIER!$B$5))/2)","v":0},{"$f":"(COUNTIF(CALENDRIER!BX$1318:BX$1682,CALENDRIER!$A$5))+((COUNTIF(CALENDRIER!BX$1318:BX$1682,CALENDRIER!$B$5))/2)","v":0},{"$f":"(COUNTIF(CALENDRIER!BY$1318:BY$1682,CALENDRIER!$A$5))+((COUNTIF(CALENDRIER!BY$1318:BY$1682,CALENDRIER!$B$5))/2)","v":0},{"$f":"(COUNTIF(CALENDRIER!BZ$1318:BZ$1682,CALENDRIER!$A$5))+((COUNTIF(CALENDRIER!BZ$1318:BZ$1682,CALENDRIER!$B$5))/2)","v":0},{"$f":"(COUNTIF(CALENDRIER!CA$1318:CA$1682,CALENDRIER!$A$5))+((COUNTIF(CALENDRIER!CA$1318:CA$1682,CALENDRIER!$B$5))/2)","v":0},{"$f":"(COUNTIF(CALENDRIER!CB$1318:CB$1682,CALENDRIER!$A$5))+((COUNTIF(CALENDRIER!CB$1318:CB$1682,CALENDRIER!$B$5))/2)","v":0},{"$f":"(COUNTIF(CALENDRIER!CC$1318:CC$1682,CALENDRIER!$A$5))+((COUNTIF(CALENDRIER!CC$1318:CC$1682,CALENDRIER!$B$5))/2)","v":0},{"$f":"(COUNTIF(CALENDRIER!CD$1318:CD$1682,CALENDRIER!$A$5))+((COUNTIF(CALENDRIER!CD$1318:CD$1682,CALENDRIER!$B$5))/2)","v":0},{"$f":"(COUNTIF(CALENDRIER!CE$1318:CE$1682,CALENDRIER!$A$5))+((COUNTIF(CALENDRIER!CE$1318:CE$1682,CALENDRIER!$B$5))/2)","v":0},{"$f":"(COUNTIF(CALENDRIER!CF$1318:CF$1682,CALENDRIER!$A$5))+((COUNTIF(CALENDRIER!CF$1318:CF$1682,CALENDRIER!$B$5))/2)","v":0},{"$f":"(COUNTIF(CALENDRIER!CG$1318:CG$1682,CALENDRIER!$A$5))+((COUNTIF(CALENDRIER!CG$1318:CG$1682,CALENDRIER!$B$5))/2)","v":0},{"$f":"(COUNTIF(CALENDRIER!CH$1318:CH$1682,CALENDRIER!$A$5))+((COUNTIF(CALENDRIER!CH$1318:CH$1682,CALENDRIER!$B$5))/2)","v":0},{"$f":"(COUNTIF(CALENDRIER!CI$1318:CI$1682,CALENDRIER!$A$5))+((COUNTIF(CALENDRIER!CI$1318:CI$1682,CALENDRIER!$B$5))/2)","v":0},{"$f":"(COUNTIF(CALENDRIER!CJ$1318:CJ$1682,CALENDRIER!$A$5))+((COUNTIF(CALENDRIER!CJ$1318:CJ$1682,CALENDRIER!$B$5))/2)","v":0},{"$f":"(COUNTIF(CALENDRIER!CK$1318:CK$1682,CALENDRIER!$A$5))+((COUNTIF(CALENDRIER!CK$1318:CK$1682,CALENDRIER!$B$5))/2)","v":0},{"$f":"(COUNTIF(CALENDRIER!CL$1318:CL$1682,CALENDRIER!$A$5))+((COUNTIF(CALENDRIER!CL$1318:CL$1682,CALENDRIER!$B$5))/2)","v":0},{"$f":"(COUNTIF(CALENDRIER!CM$1318:CM$1682,CALENDRIER!$A$5))+((COUNTIF(CALENDRIER!CM$1318:CM$1682,CALENDRIER!$B$5))/2)","v":0},{"$f":"(COUNTIF(CALENDRIER!CN$1318:CN$1682,CALENDRIER!$A$5))+((COUNTIF(CALENDRIER!CN$1318:CN$1682,CALENDRIER!$B$5))/2)","v":0},{"$f":"(COUNTIF(CALENDRIER!CO$1318:CO$1682,CALENDRIER!$A$5))+((COUNTIF(CALENDRIER!CO$1318:CO$1682,CALENDRIER!$B$5))/2)","v":0},{"$f":"(COUNTIF(CALENDRIER!CP$1318:CP$1682,CALENDRIER!$A$5))+((COUNTIF(CALENDRIER!CP$1318:CP$1682,CALENDRIER!$B$5))/2)","v":0},{"$f":"(COUNTIF(CALENDRIER!CQ$1318:CQ$1682,CALENDRIER!$A$5))+((COUNTIF(CALENDRIER!CQ$1318:CQ$1682,CALENDRIER!$B$5))/2)","v":0},{"$f":"(COUNTIF(CALENDRIER!CR$1318:CR$1682,CALENDRIER!$A$5))+((COUNTIF(CALENDRIER!CR$1318:CR$1682,CALENDRIER!$B$5))/2)","v":0},{"$f":"(COUNTIF(CALENDRIER!CS$1318:CS$1682,CALENDRIER!$A$5))+((COUNTIF(CALENDRIER!CS$1318:CS$1682,CALENDRIER!$B$5))/2)","v":0},{"$f":"(COUNTIF(CALENDRIER!CT$1318:CT$1682,CALENDRIER!$A$5))+((COUNTIF(CALENDRIER!CT$1318:CT$1682,CALENDRIER!$B$5))/2)","v":0},{"$f":"(COUNTIF(CALENDRIER!CU$1318:CU$1682,CALENDRIER!$A$5))+((COUNTIF(CALENDRIER!CU$1318:CU$1682,CALENDRIER!$B$5))/2)","v":0},{"$f":"(COUNTIF(CALENDRIER!CV$1318:CV$1682,CALENDRIER!$A$5))+((COUNTIF(CALENDRIER!CV$1318:CV$1682,CALENDRIER!$B$5))/2)","v":0},{"$f":"(COUNTIF(CALENDRIER!CW$1318:CW$1682,CALENDRIER!$A$5))+((COUNTIF(CALENDRIER!CW$1318:CW$1682,CALENDRIER!$B$5))/2)","v":0},{"$f":"(COUNTIF(CALENDRIER!CX$1318:CX$1682,CALENDRIER!$A$5))+((COUNTIF(CALENDRIER!CX$1318:CX$1682,CALENDRIER!$B$5))/2)","v":0},{"$f":"(COUNTIF(CALENDRIER!CY$1318:CY$1682,CALENDRIER!$A$5))+((COUNTIF(CALENDRIER!CY$1318:CY$1682,CALENDRIER!$B$5))/2)","v":0},{"$f":"(COUNTIF(CALENDRIER!CZ$1318:CZ$1682,CALENDRIER!$A$5))+((COUNTIF(CALENDRIER!CZ$1318:CZ$1682,CALENDRIER!$B$5))/2)","v":0},{"$f":"(COUNTIF(CALENDRIER!DA$1318:DA$1682,CALENDRIER!$A$5))+((COUNTIF(CALENDRIER!DA$1318:DA$1682,CALENDRIER!$B$5))/2)","v":0},{"$f":"(COUNTIF(CALENDRIER!DB$1318:DB$1682,CALENDRIER!$A$5))+((COUNTIF(CALENDRIER!DB$1318:DB$1682,CALENDRIER!$B$5))/2)","v":0},{"$f":"(COUNTIF(CALENDRIER!DC$1318:DC$1682,CALENDRIER!$A$5))+((COUNTIF(CALENDRIER!DC$1318:DC$1682,CALENDRIER!$B$5))/2)","v":0},{"$f":"(COUNTIF(CALENDRIER!DD$1318:DD$1682,CALENDRIER!$A$5))+((COUNTIF(CALENDRIER!DD$1318:DD$1682,CALENDRIER!$B$5))/2)","v":0},{"$f":"(COUNTIF(CALENDRIER!DE$1318:DE$1682,CALENDRIER!$A$5))+((COUNTIF(CALENDRIER!DE$1318:DE$1682,CALENDRIER!$B$5))/2)","v":0},{"$f":"(COUNTIF(CALENDRIER!DF$1318:DF$1682,CALENDRIER!$A$5))+((COUNTIF(CALENDRIER!DF$1318:DF$1682,CALENDRIER!$B$5))/2)","v":0},{"$f":"(COUNTIF(CALENDRIER!DG$1318:DG$1682,CALENDRIER!$A$5))+((COUNTIF(CALENDRIER!DG$1318:DG$1682,CALENDRIER!$B$5))/2)","v":0},{"$f":"(COUNTIF(CALENDRIER!DH$1318:DH$1682,CALENDRIER!$A$5))+((COUNTIF(CALENDRIER!DH$1318:DH$1682,CALENDRIER!$B$5))/2)","v":0},{"$f":"(COUNTIF(CALENDRIER!DI$1318:DI$1682,CALENDRIER!$A$5))+((COUNTIF(CALENDRIER!DI$1318:DI$1682,CALENDRIER!$B$5))/2)","v":0},{"$f":"(COUNTIF(CALENDRIER!DJ$1318:DJ$1682,CALENDRIER!$A$5))+((COUNTIF(CALENDRIER!DJ$1318:DJ$1682,CALENDRIER!$B$5))/2)","v":0},{"$f":"(COUNTIF(CALENDRIER!DK$1318:DK$1682,CALENDRIER!$A$5))+((COUNTIF(CALENDRIER!DK$1318:DK$1682,CALENDRIER!$B$5))/2)","v":0},{"$f":"(COUNTIF(CALENDRIER!DL$1318:DL$1682,CALENDRIER!$A$5))+((COUNTIF(CALENDRIER!DL$1318:DL$1682,CALENDRIER!$B$5))/2)","v":0},{"$f":"(COUNTIF(CALENDRIER!DM$1318:DM$1682,CALENDRIER!$A$5))+((COUNTIF(CALENDRIER!DM$1318:DM$1682,CALENDRIER!$B$5))/2)","v":0},{"$f":"(COUNTIF(CALENDRIER!DN$1318:DN$1682,CALENDRIER!$A$5))+((COUNTIF(CALENDRIER!DN$1318:DN$1682,CALENDRIER!$B$5))/2)","v":0},{"$f":"(COUNTIF(CALENDRIER!DO$1318:DO$1682,CALENDRIER!$A$5))+((COUNTIF(CALENDRIER!DO$1318:DO$1682,CALENDRIER!$B$5))/2)","v":0},{"$f":"(COUNTIF(CALENDRIER!DP$1318:DP$1682,CALENDRIER!$A$5))+((COUNTIF(CALENDRIER!DP$1318:DP$1682,CALENDRIER!$B$5))/2)","v":0},{"$f":"(COUNTIF(CALENDRIER!DQ$1318:DQ$1682,CALENDRIER!$A$5))+((COUNTIF(CALENDRIER!DQ$1318:DQ$1682,CALENDRIER!$B$5))/2)","v":0},{"$f":"(COUNTIF(CALENDRIER!DR$1318:DR$1682,CALENDRIER!$A$5))+((COUNTIF(CALENDRIER!DR$1318:DR$1682,CALENDRIER!$B$5))/2)","v":0},{"$f":"(COUNTIF(CALENDRIER!DS$1318:DS$1682,CALENDRIER!$A$5))+((COUNTIF(CALENDRIER!DS$1318:DS$1682,CALENDRIER!$B$5))/2)","v":0},{"$f":"(COUNTIF(CALENDRIER!DT$1318:DT$1682,CALENDRIER!$A$5))+((COUNTIF(CALENDRIER!DT$1318:DT$1682,CALENDRIER!$B$5))/2)","v":0},{"$f":"(COUNTIF(CALENDRIER!DU$1318:DU$1682,CALENDRIER!$A$5))+((COUNTIF(CALENDRIER!DU$1318:DU$1682,CALENDRIER!$B$5))/2)","v":0},{"$f":"(COUNTIF(CALENDRIER!DV$1318:DV$1682,CALENDRIER!$A$5))+((COUNTIF(CALENDRIER!DV$1318:DV$1682,CALENDRIER!$B$5))/2)","v":0},{"$f":"(COUNTIF(CALENDRIER!DW$1318:DW$1682,CALENDRIER!$A$5))+((COUNTIF(CALENDRIER!DW$1318:DW$1682,CALENDRIER!$B$5))/2)","v":0},{"$f":"(COUNTIF(CALENDRIER!DX$1318:DX$1682,CALENDRIER!$A$5))+((COUNTIF(CALENDRIER!DX$1318:DX$1682,CALENDRIER!$B$5))/2)","v":0},{"$f":"(COUNTIF(CALENDRIER!DY$1318:DY$1682,CALENDRIER!$A$5))+((COUNTIF(CALENDRIER!DY$1318:DY$1682,CALENDRIER!$B$5))/2)","v":0},{"$f":"(COUNTIF(CALENDRIER!DZ$1318:DZ$1682,CALENDRIER!$A$5))+((COUNTIF(CALENDRIER!DZ$1318:DZ$1682,CALENDRIER!$B$5))/2)","v":0},{"$f":"(COUNTIF(CALENDRIER!EA$1318:EA$1682,CALENDRIER!$A$5))+((COUNTIF(CALENDRIER!EA$1318:EA$1682,CALENDRIER!$B$5))/2)","v":0},{"$f":"(COUNTIF(CALENDRIER!EB$1318:EB$1682,CALENDRIER!$A$5))+((COUNTIF(CALENDRIER!EB$1318:EB$1682,CALENDRIER!$B$5))/2)","v":0},{"$f":"(COUNTIF(CALENDRIER!EC$1318:EC$1682,CALENDRIER!$A$5))+((COUNTIF(CALENDRIER!EC$1318:EC$1682,CALENDRIER!$B$5))/2)","v":0},{"$f":"(COUNTIF(CALENDRIER!ED$1318:ED$1682,CALENDRIER!$A$5))+((COUNTIF(CALENDRIER!ED$1318:ED$1682,CALENDRIER!$B$5))/2)","v":0},{"$f":"(COUNTIF(CALENDRIER!EE$1318:EE$1682,CALENDRIER!$A$5))+((COUNTIF(CALENDRIER!EE$1318:EE$1682,CALENDRIER!$B$5))/2)","v":0},{"$f":"(COUNTIF(CALENDRIER!EF$1318:EF$1682,CALENDRIER!$A$5))+((COUNTIF(CALENDRIER!EF$1318:EF$1682,CALENDRIER!$B$5))/2)","v":0},{"$f":"(COUNTIF(CALENDRIER!EG$1318:EG$1682,CALENDRIER!$A$5))+((COUNTIF(CALENDRIER!EG$1318:EG$1682,CALENDRIER!$B$5))/2)","v":0},{"$f":"(COUNTIF(CALENDRIER!EH$1318:EH$1682,CALENDRIER!$A$5))+((COUNTIF(CALENDRIER!EH$1318:EH$1682,CALENDRIER!$B$5))/2)","v":0},{"$f":"(COUNTIF(CALENDRIER!EI$1318:EI$1682,CALENDRIER!$A$5))+((COUNTIF(CALENDRIER!EI$1318:EI$1682,CALENDRIER!$B$5))/2)","v":0},{"$f":"(COUNTIF(CALENDRIER!EJ$1318:EJ$1682,CALENDRIER!$A$5))+((COUNTIF(CALENDRIER!EJ$1318:EJ$1682,CALENDRIER!$B$5))/2)","v":0},{"$f":"(COUNTIF(CALENDRIER!EK$1318:EK$1682,CALENDRIER!$A$5))+((COUNTIF(CALENDRIER!EK$1318:EK$1682,CALENDRIER!$B$5))/2)","v":0},{"$f":"(COUNTIF(CALENDRIER!EL$1318:EL$1682,CALENDRIER!$A$5))+((COUNTIF(CALENDRIER!EL$1318:EL$1682,CALENDRIER!$B$5))/2)","v":0},{"$f":"(COUNTIF(CALENDRIER!EM$1318:EM$1682,CALENDRIER!$A$5))+((COUNTIF(CALENDRIER!EM$1318:EM$1682,CALENDRIER!$B$5))/2)","v":0},{"$f":"(COUNTIF(CALENDRIER!EN$1318:EN$1682,CALENDRIER!$A$5))+((COUNTIF(CALENDRIER!EN$1318:EN$1682,CALENDRIER!$B$5))/2)","v":0},{"$f":"(COUNTIF(CALENDRIER!EO$1318:EO$1682,CALENDRIER!$A$5))+((COUNTIF(CALENDRIER!EO$1318:EO$1682,CALENDRIER!$B$5))/2)","v":0},{"$f":"(COUNTIF(CALENDRIER!EP$1318:EP$1682,CALENDRIER!$A$5))+((COUNTIF(CALENDRIER!EP$1318:EP$1682,CALENDRIER!$B$5))/2)","v":0},{"$f":"(COUNTIF(CALENDRIER!EQ$1318:EQ$1682,CALENDRIER!$A$5))+((COUNTIF(CALENDRIER!EQ$1318:EQ$1682,CALENDRIER!$B$5))/2)","v":0},{"$f":"(COUNTIF(CALENDRIER!ER$1318:ER$1682,CALENDRIER!$A$5))+((COUNTIF(CALENDRIER!ER$1318:ER$1682,CALENDRIER!$B$5))/2)","v":0},{"$f":"(COUNTIF(CALENDRIER!ES$1318:ES$1682,CALENDRIER!$A$5))+((COUNTIF(CALENDRIER!ES$1318:ES$1682,CALENDRIER!$B$5))/2)","v":0},{"$f":"(COUNTIF(CALENDRIER!ET$1318:ET$1682,CALENDRIER!$A$5))+((COUNTIF(CALENDRIER!ET$1318:ET$1682,CALENDRIER!$B$5))/2)","v":0},{"$f":"(COUNTIF(CALENDRIER!EU$1318:EU$1682,CALENDRIER!$A$5))+((COUNTIF(CALENDRIER!EU$1318:EU$1682,CALENDRIER!$B$5))/2)","v":0},{"$f":"(COUNTIF(CALENDRIER!EV$1318:EV$1682,CALENDRIER!$A$5))+((COUNTIF(CALENDRIER!EV$1318:EV$1682,CALENDRIER!$B$5))/2)","v":0},{"$f":"(COUNTIF(CALENDRIER!EW$1318:EW$1682,CALENDRIER!$A$5))+((COUNTIF(CALENDRIER!EW$1318:EW$1682,CALENDRIER!$B$5))/2)","v":0},{"$f":"(COUNTIF(CALENDRIER!EX$1318:EX$1682,CALENDRIER!$A$5))+((COUNTIF(CALENDRIER!EX$1318:EX$1682,CALENDRIER!$B$5))/2)","v":0},{"$f":"(COUNTIF(CALENDRIER!EY$1318:EY$1682,CALENDRIER!$A$5))+((COUNTIF(CALENDRIER!EY$1318:EY$1682,CALENDRIER!$B$5))/2)","v":0},{"$f":"(COUNTIF(CALENDRIER!EZ$1318:EZ$1682,CALENDRIER!$A$5))+((COUNTIF(CALENDRIER!EZ$1318:EZ$1682,CALENDRIER!$B$5))/2)","v":0},{"$f":"(COUNTIF(CALENDRIER!FA$1318:FA$1682,CALENDRIER!$A$5))+((COUNTIF(CALENDRIER!FA$1318:FA$1682,CALENDRIER!$B$5))/2)","v":0},{"$f":"(COUNTIF(CALENDRIER!FB$1318:FB$1682,CALENDRIER!$A$5))+((COUNTIF(CALENDRIER!FB$1318:FB$1682,CALENDRIER!$B$5))/2)","v":0},{"$f":"(COUNTIF(CALENDRIER!FC$1318:FC$1682,CALENDRIER!$A$5))+((COUNTIF(CALENDRIER!FC$1318:FC$1682,CALENDRIER!$B$5))/2)","v":0},{"$f":"(COUNTIF(CALENDRIER!FD$1318:FD$1682,CALENDRIER!$A$5))+((COUNTIF(CALENDRIER!FD$1318:FD$1682,CALENDRIER!$B$5))/2)","v":0},{"$f":"(COUNTIF(CALENDRIER!FE$1318:FE$1682,CALENDRIER!$A$5))+((COUNTIF(CALENDRIER!FE$1318:FE$1682,CALENDRIER!$B$5))/2)","v":0},{"$f":"(COUNTIF(CALENDRIER!FF$1318:FF$1682,CALENDRIER!$A$5))+((COUNTIF(CALENDRIER!FF$1318:FF$1682,CALENDRIER!$B$5))/2)","v":0},{"$f":"(COUNTIF(CALENDRIER!FG$1318:FG$1682,CALENDRIER!$A$5))+((COUNTIF(CALENDRIER!FG$1318:FG$1682,CALENDRIER!$B$5))/2)","v":0},{"$f":"(COUNTIF(CALENDRIER!FH$1318:FH$1682,CALENDRIER!$A$5))+((COUNTIF(CALENDRIER!FH$1318:FH$1682,CALENDRIER!$B$5))/2)","v":0},{"$f":"(COUNTIF(CALENDRIER!FI$1318:FI$1682,CALENDRIER!$A$5))+((COUNTIF(CALENDRIER!FI$1318:FI$1682,CALENDRIER!$B$5))/2)","v":0},{"$f":"(COUNTIF(CALENDRIER!FJ$1318:FJ$1682,CALENDRIER!$A$5))+((COUNTIF(CALENDRIER!FJ$1318:FJ$1682,CALENDRIER!$B$5))/2)","v":0},{"$f":"(COUNTIF(CALENDRIER!FK$1318:FK$1682,CALENDRIER!$A$5))+((COUNTIF(CALENDRIER!FK$1318:FK$1682,CALENDRIER!$B$5))/2)","v":0},{"$f":"(COUNTIF(CALENDRIER!FL$1318:FL$1682,CALENDRIER!$A$5))+((COUNTIF(CALENDRIER!FL$1318:FL$1682,CALENDRIER!$B$5))/2)","v":0},{"$f":"(COUNTIF(CALENDRIER!FM$1318:FM$1682,CALENDRIER!$A$5))+((COUNTIF(CALENDRIER!FM$1318:FM$1682,CALENDRIER!$B$5))/2)","v":0},{"$f":"(COUNTIF(CALENDRIER!FN$1318:FN$1682,CALENDRIER!$A$5))+((COUNTIF(CALENDRIER!FN$1318:FN$1682,CALENDRIER!$B$5))/2)","v":0},{"$f":"(COUNTIF(CALENDRIER!FO$1318:FO$1682,CALENDRIER!$A$5))+((COUNTIF(CALENDRIER!FO$1318:FO$1682,CALENDRIER!$B$5))/2)","v":0},{"$f":"(COUNTIF(CALENDRIER!FP$1318:FP$1682,CALENDRIER!$A$5))+((COUNTIF(CALENDRIER!FP$1318:FP$1682,CALENDRIER!$B$5))/2)","v":0},{"$f":"(COUNTIF(CALENDRIER!FQ$1318:FQ$1682,CALENDRIER!$A$5))+((COUNTIF(CALENDRIER!FQ$1318:FQ$1682,CALENDRIER!$B$5))/2)","v":0},{"$f":"(COUNTIF(CALENDRIER!FR$1318:FR$1682,CALENDRIER!$A$5))+((COUNTIF(CALENDRIER!FR$1318:FR$1682,CALENDRIER!$B$5))/2)","v":0},{"$f":"(COUNTIF(CALENDRIER!FS$1318:FS$1682,CALENDRIER!$A$5))+((COUNTIF(CALENDRIER!FS$1318:FS$1682,CALENDRIER!$B$5))/2)","v":0},{"$f":"(COUNTIF(CALENDRIER!FT$1318:FT$1682,CALENDRIER!$A$5))+((COUNTIF(CALENDRIER!FT$1318:FT$1682,CALENDRIER!$B$5))/2)","v":0},{"$f":"(COUNTIF(CALENDRIER!FU$1318:FU$1682,CALENDRIER!$A$5))+((COUNTIF(CALENDRIER!FU$1318:FU$1682,CALENDRIER!$B$5))/2)","v":0},{"$f":"(COUNTIF(CALENDRIER!FV$1318:FV$1682,CALENDRIER!$A$5))+((COUNTIF(CALENDRIER!FV$1318:FV$1682,CALENDRIER!$B$5))/2)","v":0},{"$f":"(COUNTIF(CALENDRIER!FW$1318:FW$1682,CALENDRIER!$A$5))+((COUNTIF(CALENDRIER!FW$1318:FW$1682,CALENDRIER!$B$5))/2)","v":0},{"$f":"(COUNTIF(CALENDRIER!FX$1318:FX$1682,CALENDRIER!$A$5))+((COUNTIF(CALENDRIER!FX$1318:FX$1682,CALENDRIER!$B$5))/2)","v":0},{"$f":"(COUNTIF(CALENDRIER!FY$1318:FY$1682,CALENDRIER!$A$5))+((COUNTIF(CALENDRIER!FY$1318:FY$1682,CALENDRIER!$B$5))/2)","v":0},{"$f":"(COUNTIF(CALENDRIER!FZ$1318:FZ$1682,CALENDRIER!$A$5))+((COUNTIF(CALENDRIER!FZ$1318:FZ$1682,CALENDRIER!$B$5))/2)","v":0},{"$f":"(COUNTIF(CALENDRIER!GA$1318:GA$1682,CALENDRIER!$A$5))+((COUNTIF(CALENDRIER!GA$1318:GA$1682,CALENDRIER!$B$5))/2)","v":0},{"$f":"(COUNTIF(CALENDRIER!GB$1318:GB$1682,CALENDRIER!$A$5))+((COUNTIF(CALENDRIER!GB$1318:GB$1682,CALENDRIER!$B$5))/2)","v":0},{"$f":"(COUNTIF(CALENDRIER!GC$1318:GC$1682,CALENDRIER!$A$5))+((COUNTIF(CALENDRIER!GC$1318:GC$1682,CALENDRIER!$B$5))/2)","v":0},{"$f":"(COUNTIF(CALENDRIER!GD$1318:GD$1682,CALENDRIER!$A$5))+((COUNTIF(CALENDRIER!GD$1318:GD$1682,CALENDRIER!$B$5))/2)","v":0},{"$f":"(COUNTIF(CALENDRIER!GE$1318:GE$1682,CALENDRIER!$A$5))+((COUNTIF(CALENDRIER!GE$1318:GE$1682,CALENDRIER!$B$5))/2)","v":0},{"$f":"(COUNTIF(CALENDRIER!GF$1318:GF$1682,CALENDRIER!$A$5))+((COUNTIF(CALENDRIER!GF$1318:GF$1682,CALENDRIER!$B$5))/2)","v":0},{"$f":"(COUNTIF(CALENDRIER!GG$1318:GG$1682,CALENDRIER!$A$5))+((COUNTIF(CALENDRIER!GG$1318:GG$1682,CALENDRIER!$B$5))/2)","v":0},{"$f":"(COUNTIF(CALENDRIER!GH$1318:GH$1682,CALENDRIER!$A$5))+((COUNTIF(CALENDRIER!GH$1318:GH$1682,CALENDRIER!$B$5))/2)","v":0},{"$f":"(COUNTIF(CALENDRIER!GI$1318:GI$1682,CALENDRIER!$A$5))+((COUNTIF(CALENDRIER!GI$1318:GI$1682,CALENDRIER!$B$5))/2)","v":0},{"$f":"(COUNTIF(CALENDRIER!GJ$1318:GJ$1682,CALENDRIER!$A$5))+((COUNTIF(CALENDRIER!GJ$1318:GJ$1682,CALENDRIER!$B$5))/2)","v":0},{"$f":"(COUNTIF(CALENDRIER!GK$1318:GK$1682,CALENDRIER!$A$5))+((COUNTIF(CALENDRIER!GK$1318:GK$1682,CALENDRIER!$B$5))/2)","v":0},{"$f":"(COUNTIF(CALENDRIER!GL$1318:GL$1682,CALENDRIER!$A$5))+((COUNTIF(CALENDRIER!GL$1318:GL$1682,CALENDRIER!$B$5))/2)","v":0},{"$f":"(COUNTIF(CALENDRIER!GM$1318:GM$1682,CALENDRIER!$A$5))+((COUNTIF(CALENDRIER!GM$1318:GM$1682,CALENDRIER!$B$5))/2)","v":0},{"$f":"(COUNTIF(CALENDRIER!GN$1318:GN$1682,CALENDRIER!$A$5))+((COUNTIF(CALENDRIER!GN$1318:GN$1682,CALENDRIER!$B$5))/2)","v":0},{"$f":"(COUNTIF(CALENDRIER!GO$1318:GO$1682,CALENDRIER!$A$5))+((COUNTIF(CALENDRIER!GO$1318:GO$1682,CALENDRIER!$B$5))/2)","v":0},{"$f":"(COUNTIF(CALENDRIER!GP$1318:GP$1682,CALENDRIER!$A$5))+((COUNTIF(CALENDRIER!GP$1318:GP$1682,CALENDRIER!$B$5))/2)","v":0},{"$f":"(COUNTIF(CALENDRIER!GQ$1318:GQ$1682,CALENDRIER!$A$5))+((COUNTIF(CALENDRIER!GQ$1318:GQ$1682,CALENDRIER!$B$5))/2)","v":0},{"$f":"(COUNTIF(CALENDRIER!GR$1318:GR$1682,CALENDRIER!$A$5))+((COUNTIF(CALENDRIER!GR$1318:GR$1682,CALENDRIER!$B$5))/2)","v":0}]
[null,{"$f":"\"Solde \"&CALENDRIER!$A$5&\" \"&A219&\" : \"","v":"Solde … 2019 : "},{"$f":"C220-C221","v":0},{"$f":"D220-D221","v":0},0,0,0,0,0,0,0,0,0,0,0,0,0,0,0,0,0,0,0,0,0,0,0,0,0,0,0,0,0,0,0,0,0,0,0,0,0,0,0,0,0,0,0,0,0,0,0,0,0,0,0,0,0,0,0,0,0,0,0,0,0,0,0,{"$f":"BP220-BP221","v":0},0,0,0,0,0,0,0,0,0,0,0,0,0,0,0,0,0,0,0,0,0,0,0,0,0,0,0,0,0,0,0,0,0,0,0,0,0,0,0,0,0,0,0,0,0,0,0,0,0,0,0,0,0,0,0,0,0,0,0,0,0,0,0,{"$f":"EB220-EB221","v":0},0,0,0,0,0,0,0,0,0,0,0,0,0,0,0,0,0,0,0,0,0,0,0,0,0,0,0,0,0,0,0,0,0,0,0,0,0,0,0,0,0,0,0,0,0,0,0,0,0,0,0,0,0,0,0,0,0,0,0,0,0,0,0,{"$f":"GN220-GN221","v":0},0,0,0,0]
[]
[2020,{"$f":"CALENDRIER!$A$5","v":"…"}]
[null,"SOLDE DEPART"]
[null,{"$f":"CALENDRIER!$A$5&\" PRIS\"","v":"… PRIS"},{"$f":"(COUNTIF(CALENDRIER!C$1683:C$2048,CALENDRIER!$A$5))+((COUNTIF(CALENDRIER!C$1683:C$2048,CALENDRIER!$B$5))/2)","v":0},{"$f":"(COUNTIF(CALENDRIER!D$1683:D$2048,CALENDRIER!$A$5))+((COUNTIF(CALENDRIER!D$1683:D$2048,CALENDRIER!$B$5))/2)","v":0},{"$f":"(COUNTIF(CALENDRIER!E$1683:E$2048,CALENDRIER!$A$5))+((COUNTIF(CALENDRIER!E$1683:E$2048,CALENDRIER!$B$5))/2)","v":0},{"$f":"(COUNTIF(CALENDRIER!F$1683:F$2048,CALENDRIER!$A$5))+((COUNTIF(CALENDRIER!F$1683:F$2048,CALENDRIER!$B$5))/2)","v":0},{"$f":"(COUNTIF(CALENDRIER!G$1683:G$2048,CALENDRIER!$A$5))+((COUNTIF(CALENDRIER!G$1683:G$2048,CALENDRIER!$B$5))/2)","v":0},{"$f":"(COUNTIF(CALENDRIER!H$1683:H$2048,CALENDRIER!$A$5))+((COUNTIF(CALENDRIER!H$1683:H$2048,CALENDRIER!$B$5))/2)","v":0},{"$f":"(COUNTIF(CALENDRIER!I$1683:I$2048,CALENDRIER!$A$5))+((COUNTIF(CALENDRIER!I$1683:I$2048,CALENDRIER!$B$5))/2)","v":0},{"$f":"(COUNTIF(CALENDRIER!J$1683:J$2048,CALENDRIER!$A$5))+((COUNTIF(CALENDRIER!J$1683:J$2048,CALENDRIER!$B$5))/2)","v":0},{"$f":"(COUNTIF(CALENDRIER!K$1683:K$2048,CALENDRIER!$A$5))+((COUNTIF(CALENDRIER!K$1683:K$2048,CALENDRIER!$B$5))/2)","v":0},{"$f":"(COUNTIF(CALENDRIER!L$1683:L$2048,CALENDRIER!$A$5))+((COUNTIF(CALENDRIER!L$1683:L$2048,CALENDRIER!$B$5))/2)","v":0},{"$f":"(COUNTIF(CALENDRIER!M$1683:M$2048,CALENDRIER!$A$5))+((COUNTIF(CALENDRIER!M$1683:M$2048,CALENDRIER!$B$5))/2)","v":0},{"$f":"(COUNTIF(CALENDRIER!N$1683:N$2048,CALENDRIER!$A$5))+((COUNTIF(CALENDRIER!N$1683:N$2048,CALENDRIER!$B$5))/2)","v":0},{"$f":"(COUNTIF(CALENDRIER!O$1683:O$2048,CALENDRIER!$A$5))+((COUNTIF(CALENDRIER!O$1683:O$2048,CALENDRIER!$B$5))/2)","v":0},{"$f":"(COUNTIF(CALENDRIER!P$1683:P$2048,CALENDRIER!$A$5))+((COUNTIF(CALENDRIER!P$1683:P$2048,CALENDRIER!$B$5))/2)","v":0},{"$f":"(COUNTIF(CALENDRIER!Q$1683:Q$2048,CALENDRIER!$A$5))+((COUNTIF(CALENDRIER!Q$1683:Q$2048,CALENDRIER!$B$5))/2)","v":0},{"$f":"(COUNTIF(CALENDRIER!R$1683:R$2048,CALENDRIER!$A$5))+((COUNTIF(CALENDRIER!R$1683:R$2048,CALENDRIER!$B$5))/2)","v":0},{"$f":"(COUNTIF(CALENDRIER!S$1683:S$2048,CALENDRIER!$A$5))+((COUNTIF(CALENDRIER!S$1683:S$2048,CALENDRIER!$B$5))/2)","v":0},{"$f":"(COUNTIF(CALENDRIER!T$1683:T$2048,CALENDRIER!$A$5))+((COUNTIF(CALENDRIER!T$1683:T$2048,CALENDRIER!$B$5))/2)","v":0},{"$f":"(COUNTIF(CALENDRIER!U$1683:U$2048,CALENDRIER!$A$5))+((COUNTIF(CALENDRIER!U$1683:U$2048,CALENDRIER!$B$5))/2)","v":0},{"$f":"(COUNTIF(CALENDRIER!V$1683:V$2048,CALENDRIER!$A$5))+((COUNTIF(CALENDRIER!V$1683:V$2048,CALENDRIER!$B$5))/2)","v":0},{"$f":"(COUNTIF(CALENDRIER!W$1683:W$2048,CALENDRIER!$A$5))+((COUNTIF(CALENDRIER!W$1683:W$2048,CALENDRIER!$B$5))/2)","v":0},{"$f":"(COUNTIF(CALENDRIER!X$1683:X$2048,CALENDRIER!$A$5))+((COUNTIF(CALENDRIER!X$1683:X$2048,CALENDRIER!$B$5))/2)","v":0},{"$f":"(COUNTIF(CALENDRIER!Y$1683:Y$2048,CALENDRIER!$A$5))+((COUNTIF(CALENDRIER!Y$1683:Y$2048,CALENDRIER!$B$5))/2)","v":0},{"$f":"(COUNTIF(CALENDRIER!Z$1683:Z$2048,CALENDRIER!$A$5))+((COUNTIF(CALENDRIER!Z$1683:Z$2048,CALENDRIER!$B$5))/2)","v":0},{"$f":"(COUNTIF(CALENDRIER!AA$1683:AA$2048,CALENDRIER!$A$5))+((COUNTIF(CALENDRIER!AA$1683:AA$2048,CALENDRIER!$B$5))/2)","v":0},{"$f":"(COUNTIF(CALENDRIER!AB$1683:AB$2048,CALENDRIER!$A$5))+((COUNTIF(CALENDRIER!AB$1683:AB$2048,CALENDRIER!$B$5))/2)","v":0},{"$f":"(COUNTIF(CALENDRIER!AC$1683:AC$2048,CALENDRIER!$A$5))+((COUNTIF(CALENDRIER!AC$1683:AC$2048,CALENDRIER!$B$5))/2)","v":0},{"$f":"(COUNTIF(CALENDRIER!AD$1683:AD$2048,CALENDRIER!$A$5))+((COUNTIF(CALENDRIER!AD$1683:AD$2048,CALENDRIER!$B$5))/2)","v":0},{"$f":"(COUNTIF(CALENDRIER!AE$1683:AE$2048,CALENDRIER!$A$5))+((COUNTIF(CALENDRIER!AE$1683:AE$2048,CALENDRIER!$B$5))/2)","v":0},{"$f":"(COUNTIF(CALENDRIER!AF$1683:AF$2048,CALENDRIER!$A$5))+((COUNTIF(CALENDRIER!AF$1683:AF$2048,CALENDRIER!$B$5))/2)","v":0},{"$f":"(COUNTIF(CALENDRIER!AG$1683:AG$2048,CALENDRIER!$A$5))+((COUNTIF(CALENDRIER!AG$1683:AG$2048,CALENDRIER!$B$5))/2)","v":0},{"$f":"(COUNTIF(CALENDRIER!AH$1683:AH$2048,CALENDRIER!$A$5))+((COUNTIF(CALENDRIER!AH$1683:AH$2048,CALENDRIER!$B$5))/2)","v":0},{"$f":"(COUNTIF(CALENDRIER!AI$1683:AI$2048,CALENDRIER!$A$5))+((COUNTIF(CALENDRIER!AI$1683:AI$2048,CALENDRIER!$B$5))/2)","v":0},{"$f":"(COUNTIF(CALENDRIER!AJ$1683:AJ$2048,CALENDRIER!$A$5))+((COUNTIF(CALENDRIER!AJ$1683:AJ$2048,CALENDRIER!$B$5))/2)","v":0},{"$f":"(COUNTIF(CALENDRIER!AK$1683:AK$2048,CALENDRIER!$A$5))+((COUNTIF(CALENDRIER!AK$1683:AK$2048,CALENDRIER!$B$5))/2)","v":0},{"$f":"(COUNTIF(CALENDRIER!AL$1683:AL$2048,CALENDRIER!$A$5))+((COUNTIF(CALENDRIER!AL$1683:AL$2048,CALENDRIER!$B$5))/2)","v":0},{"$f":"(COUNTIF(CALENDRIER!AM$1683:AM$2048,CALENDRIER!$A$5))+((COUNTIF(CALENDRIER!AM$1683:AM$2048,CALENDRIER!$B$5))/2)","v":0},{"$f":"(COUNTIF(CALENDRIER!AN$1683:AN$2048,CALENDRIER!$A$5))+((COUNTIF(CALENDRIER!AN$1683:AN$2048,CALENDRIER!$B$5))/2)","v":0},{"$f":"(COUNTIF(CALENDRIER!AO$1683:AO$2048,CALENDRIER!$A$5))+((COUNTIF(CALENDRIER!AO$1683:AO$2048,CALENDRIER!$B$5))/2)","v":0},{"$f":"(COUNTIF(CALENDRIER!AP$1683:AP$2048,CALENDRIER!$A$5))+((COUNTIF(CALENDRIER!AP$1683:AP$2048,CALENDRIER!$B$5))/2)","v":0},{"$f":"(COUNTIF(CALENDRIER!AQ$1683:AQ$2048,CALENDRIER!$A$5))+((COUNTIF(CALENDRIER!AQ$1683:AQ$2048,CALENDRIER!$B$5))/2)","v":0},{"$f":"(COUNTIF(CALENDRIER!AR$1683:AR$2048,CALENDRIER!$A$5))+((COUNTIF(CALENDRIER!AR$1683:AR$2048,CALENDRIER!$B$5))/2)","v":0},{"$f":"(COUNTIF(CALENDRIER!AS$1683:AS$2048,CALENDRIER!$A$5))+((COUNTIF(CALENDRIER!AS$1683:AS$2048,CALENDRIER!$B$5))/2)","v":0},{"$f":"(COUNTIF(CALENDRIER!AT$1683:AT$2048,CALENDRIER!$A$5))+((COUNTIF(CALENDRIER!AT$1683:AT$2048,CALENDRIER!$B$5))/2)","v":0},{"$f":"(COUNTIF(CALENDRIER!AU$1683:AU$2048,CALENDRIER!$A$5))+((COUNTIF(CALENDRIER!AU$1683:AU$2048,CALENDRIER!$B$5))/2)","v":0},{"$f":"(COUNTIF(CALENDRIER!AV$1683:AV$2048,CALENDRIER!$A$5))+((COUNTIF(CALENDRIER!AV$1683:AV$2048,CALENDRIER!$B$5))/2)","v":0},{"$f":"(COUNTIF(CALENDRIER!AW$1683:AW$2048,CALENDRIER!$A$5))+((COUNTIF(CALENDRIER!AW$1683:AW$2048,CALENDRIER!$B$5))/2)","v":0},{"$f":"(COUNTIF(CALENDRIER!AX$1683:AX$2048,CALENDRIER!$A$5))+((COUNTIF(CALENDRIER!AX$1683:AX$2048,CALENDRIER!$B$5))/2)","v":0},{"$f":"(COUNTIF(CALENDRIER!AY$1683:AY$2048,CALENDRIER!$A$5))+((COUNTIF(CALENDRIER!AY$1683:AY$2048,CALENDRIER!$B$5))/2)","v":0},{"$f":"(COUNTIF(CALENDRIER!AZ$1683:AZ$2048,CALENDRIER!$A$5))+((COUNTIF(CALENDRIER!AZ$1683:AZ$2048,CALENDRIER!$B$5))/2)","v":0},{"$f":"(COUNTIF(CALENDRIER!BA$1683:BA$2048,CALENDRIER!$A$5))+((COUNTIF(CALENDRIER!BA$1683:BA$2048,CALENDRIER!$B$5))/2)","v":0},{"$f":"(COUNTIF(CALENDRIER!BB$1683:BB$2048,CALENDRIER!$A$5))+((COUNTIF(CALENDRIER!BB$1683:BB$2048,CALENDRIER!$B$5))/2)","v":0},{"$f":"(COUNTIF(CALENDRIER!BC$1683:BC$2048,CALENDRIER!$A$5))+((COUNTIF(CALENDRIER!BC$1683:BC$2048,CALENDRIER!$B$5))/2)","v":0},{"$f":"(COUNTIF(CALENDRIER!BD$1683:BD$2048,CALENDRIER!$A$5))+((COUNTIF(CALENDRIER!BD$1683:BD$2048,CALENDRIER!$B$5))/2)","v":0},{"$f":"(COUNTIF(CALENDRIER!BE$1683:BE$2048,CALENDRIER!$A$5))+((COUNTIF(CALENDRIER!BE$1683:BE$2048,CALENDRIER!$B$5))/2)","v":0},{"$f":"(COUNTIF(CALENDRIER!BF$1683:BF$2048,CALENDRIER!$A$5))+((COUNTIF(CALENDRIER!BF$1683:BF$2048,CALENDRIER!$B$5))/2)","v":0},{"$f":"(COUNTIF(CALENDRIER!BG$1683:BG$2048,CALENDRIER!$A$5))+((COUNTIF(CALENDRIER!BG$1683:BG$2048,CALENDRIER!$B$5))/2)","v":0},{"$f":"(COUNTIF(CALENDRIER!BH$1683:BH$2048,CALENDRIER!$A$5))+((COUNTIF(CALENDRIER!BH$1683:BH$2048,CALENDRIER!$B$5))/2)","v":0},{"$f":"(COUNTIF(CALENDRIER!BI$1683:BI$2048,CALENDRIER!$A$5))+((COUNTIF(CALENDRIER!BI$1683:BI$2048,CALENDRIER!$B$5))/2)","v":0},{"$f":"(COUNTIF(CALENDRIER!BJ$1683:BJ$2048,CALENDRIER!$A$5))+((COUNTIF(CALENDRIER!BJ$1683:BJ$2048,CALENDRIER!$B$5))/2)","v":0},{"$f":"(COUNTIF(CALENDRIER!BK$1683:BK$2048,CALENDRIER!$A$5))+((COUNTIF(CALENDRIER!BK$1683:BK$2048,CALENDRIER!$B$5))/2)","v":0},{"$f":"(COUNTIF(CALENDRIER!BL$1683:BL$2048,CALENDRIER!$A$5))+((COUNTIF(CALENDRIER!BL$1683:BL$2048,CALENDRIER!$B$5))/2)","v":0},{"$f":"(COUNTIF(CALENDRIER!BM$1683:BM$2048,CALENDRIER!$A$5))+((COUNTIF(CALENDRIER!BM$1683:BM$2048,CALENDRIER!$B$5))/2)","v":0},{"$f":"(COUNTIF(CALENDRIER!BN$1683:BN$2048,CALENDRIER!$A$5))+((COUNTIF(CALENDRIER!BN$1683:BN$2048,CALENDRIER!$B$5))/2)","v":0},{"$f":"(COUNTIF(CALENDRIER!BO$1683:BO$2048,CALENDRIER!$A$5))+((COUNTIF(CALENDRIER!BO$1683:BO$2048,CALENDRIER!$B$5))/2)","v":0},{"$f":"(COUNTIF(CALENDRIER!BP$1683:BP$2048,CALENDRIER!$A$5))+((COUNTIF(CALENDRIER!BP$1683:BP$2048,CALENDRIER!$B$5))/2)","v":0},{"$f":"(COUNTIF(CALENDRIER!BQ$1683:BQ$2048,CALENDRIER!$A$5))+((COUNTIF(CALENDRIER!BQ$1683:BQ$2048,CALENDRIER!$B$5))/2)","v":0},{"$f":"(COUNTIF(CALENDRIER!BR$1683:BR$2048,CALENDRIER!$A$5))+((COUNTIF(CALENDRIER!BR$1683:BR$2048,CALENDRIER!$B$5))/2)","v":0},{"$f":"(COUNTIF(CALENDRIER!BS$1683:BS$2048,CALENDRIER!$A$5))+((COUNTIF(CALENDRIER!BS$1683:BS$2048,CALENDRIER!$B$5))/2)","v":0},{"$f":"(COUNTIF(CALENDRIER!BT$1683:BT$2048,CALENDRIER!$A$5))+((COUNTIF(CALENDRIER!BT$1683:BT$2048,CALENDRIER!$B$5))/2)","v":0},{"$f":"(COUNTIF(CALENDRIER!BU$1683:BU$2048,CALENDRIER!$A$5))+((COUNTIF(CALENDRIER!BU$1683:BU$2048,CALENDRIER!$B$5))/2)","v":0},{"$f":"(COUNTIF(CALENDRIER!BV$1683:BV$2048,CALENDRIER!$A$5))+((COUNTIF(CALENDRIER!BV$1683:BV$2048,CALENDRIER!$B$5))/2)","v":0},{"$f":"(COUNTIF(CALENDRIER!BW$1683:BW$2048,CALENDRIER!$A$5))+((COUNTIF(CALENDRIER!BW$1683:BW$2048,CALENDRIER!$B$5))/2)","v":0},{"$f":"(COUNTIF(CALENDRIER!BX$1683:BX$2048,CALENDRIER!$A$5))+((COUNTIF(CALENDRIER!BX$1683:BX$2048,CALENDRIER!$B$5))/2)","v":0},{"$f":"(COUNTIF(CALENDRIER!BY$1683:BY$2048,CALENDRIER!$A$5))+((COUNTIF(CALENDRIER!BY$1683:BY$2048,CALENDRIER!$B$5))/2)","v":0},{"$f":"(COUNTIF(CALENDRIER!BZ$1683:BZ$2048,CALENDRIER!$A$5))+((COUNTIF(CALENDRIER!BZ$1683:BZ$2048,CALENDRIER!$B$5))/2)","v":0},{"$f":"(COUNTIF(CALENDRIER!CA$1683:CA$2048,CALENDRIER!$A$5))+((COUNTIF(CALENDRIER!CA$1683:CA$2048,CALENDRIER!$B$5))/2)","v":0},{"$f":"(COUNTIF(CALENDRIER!CB$1683:CB$2048,CALENDRIER!$A$5))+((COUNTIF(CALENDRIER!CB$1683:CB$2048,CALENDRIER!$B$5))/2)","v":0},{"$f":"(COUNTIF(CALENDRIER!CC$1683:CC$2048,CALENDRIER!$A$5))+((COUNTIF(CALENDRIER!CC$1683:CC$2048,CALENDRIER!$B$5))/2)","v":0},{"$f":"(COUNTIF(CALENDRIER!CD$1683:CD$2048,CALENDRIER!$A$5))+((COUNTIF(CALENDRIER!CD$1683:CD$2048,CALENDRIER!$B$5))/2)","v":0},{"$f":"(COUNTIF(CALENDRIER!CE$1683:CE$2048,CALENDRIER!$A$5))+((COUNTIF(CALENDRIER!CE$1683:CE$2048,CALENDRIER!$B$5))/2)","v":0},{"$f":"(COUNTIF(CALENDRIER!CF$1683:CF$2048,CALENDRIER!$A$5))+((COUNTIF(CALENDRIER!CF$1683:CF$2048,CALENDRIER!$B$5))/2)","v":0},{"$f":"(COUNTIF(CALENDRIER!CG$1683:CG$2048,CALENDRIER!$A$5))+((COUNTIF(CALENDRIER!CG$1683:CG$2048,CALENDRIER!$B$5))/2)","v":0},{"$f":"(COUNTIF(CALENDRIER!CH$1683:CH$2048,CALENDRIER!$A$5))+((COUNTIF(CALENDRIER!CH$1683:CH$2048,CALENDRIER!$B$5))/2)","v":0},{"$f":"(COUNTIF(CALENDRIER!CI$1683:CI$2048,CALENDRIER!$A$5))+((COUNTIF(CALENDRIER!CI$1683:CI$2048,CALENDRIER!$B$5))/2)","v":0},{"$f":"(COUNTIF(CALENDRIER!CJ$1683:CJ$2048,CALENDRIER!$A$5))+((COUNTIF(CALENDRIER!CJ$1683:CJ$2048,CALENDRIER!$B$5))/2)","v":0},{"$f":"(COUNTIF(CALENDRIER!CK$1683:CK$2048,CALENDRIER!$A$5))+((COUNTIF(CALENDRIER!CK$1683:CK$2048,CALENDRIER!$B$5))/2)","v":0},{"$f":"(COUNTIF(CALENDRIER!CL$1683:CL$2048,CALENDRIER!$A$5))+((COUNTIF(CALENDRIER!CL$1683:CL$2048,CALENDRIER!$B$5))/2)","v":0},{"$f":"(COUNTIF(CALENDRIER!CM$1683:CM$2048,CALENDRIER!$A$5))+((COUNTIF(CALENDRIER!CM$1683:CM$2048,CALENDRIER!$B$5))/2)","v":0},{"$f":"(COUNTIF(CALENDRIER!CN$1683:CN$2048,CALENDRIER!$A$5))+((COUNTIF(CALENDRIER!CN$1683:CN$2048,CALENDRIER!$B$5))/2)","v":0},{"$f":"(COUNTIF(CALENDRIER!CO$1683:CO$2048,CALENDRIER!$A$5))+((COUNTIF(CALENDRIER!CO$1683:CO$2048,CALENDRIER!$B$5))/2)","v":0},{"$f":"(COUNTIF(CALENDRIER!CP$1683:CP$2048,CALENDRIER!$A$5))+((COUNTIF(CALENDRIER!CP$1683:CP$2048,CALENDRIER!$B$5))/2)","v":0},{"$f":"(COUNTIF(CALENDRIER!CQ$1683:CQ$2048,CALENDRIER!$A$5))+((COUNTIF(CALENDRIER!CQ$1683:CQ$2048,CALENDRIER!$B$5))/2)","v":0},{"$f":"(COUNTIF(CALENDRIER!CR$1683:CR$2048,CALENDRIER!$A$5))+((COUNTIF(CALENDRIER!CR$1683:CR$2048,CALENDRIER!$B$5))/2)","v":0},{"$f":"(COUNTIF(CALENDRIER!CS$1683:CS$2048,CALENDRIER!$A$5))+((COUNTIF(CALENDRIER!CS$1683:CS$2048,CALENDRIER!$B$5))/2)","v":0},{"$f":"(COUNTIF(CALENDRIER!CT$1683:CT$2048,CALENDRIER!$A$5))+((COUNTIF(CALENDRIER!CT$1683:CT$2048,CALENDRIER!$B$5))/2)","v":0},{"$f":"(COUNTIF(CALENDRIER!CU$1683:CU$2048,CALENDRIER!$A$5))+((COUNTIF(CALENDRIER!CU$1683:CU$2048,CALENDRIER!$B$5))/2)","v":0},{"$f":"(COUNTIF(CALENDRIER!CV$1683:CV$2048,CALENDRIER!$A$5))+((COUNTIF(CALENDRIER!CV$1683:CV$2048,CALENDRIER!$B$5))/2)","v":0},{"$f":"(COUNTIF(CALENDRIER!CW$1683:CW$2048,CALENDRIER!$A$5))+((COUNTIF(CALENDRIER!CW$1683:CW$2048,CALENDRIER!$B$5))/2)","v":0},{"$f":"(COUNTIF(CALENDRIER!CX$1683:CX$2048,CALENDRIER!$A$5))+((COUNTIF(CALENDRIER!CX$1683:CX$2048,CALENDRIER!$B$5))/2)","v":0},{"$f":"(COUNTIF(CALENDRIER!CY$1683:CY$2048,CALENDRIER!$A$5))+((COUNTIF(CALENDRIER!CY$1683:CY$2048,CALENDRIER!$B$5))/2)","v":0},{"$f":"(COUNTIF(CALENDRIER!CZ$1683:CZ$2048,CALENDRIER!$A$5))+((COUNTIF(CALENDRIER!CZ$1683:CZ$2048,CALENDRIER!$B$5))/2)","v":0},{"$f":"(COUNTIF(CALENDRIER!DA$1683:DA$2048,CALENDRIER!$A$5))+((COUNTIF(CALENDRIER!DA$1683:DA$2048,CALENDRIER!$B$5))/2)","v":0},{"$f":"(COUNTIF(CALENDRIER!DB$1683:DB$2048,CALENDRIER!$A$5))+((COUNTIF(CALENDRIER!DB$1683:DB$2048,CALENDRIER!$B$5))/2)","v":0},{"$f":"(COUNTIF(CALENDRIER!DC$1683:DC$2048,CALENDRIER!$A$5))+((COUNTIF(CALENDRIER!DC$1683:DC$2048,CALENDRIER!$B$5))/2)","v":0},{"$f":"(COUNTIF(CALENDRIER!DD$1683:DD$2048,CALENDRIER!$A$5))+((COUNTIF(CALENDRIER!DD$1683:DD$2048,CALENDRIER!$B$5))/2)","v":0},{"$f":"(COUNTIF(CALENDRIER!DE$1683:DE$2048,CALENDRIER!$A$5))+((COUNTIF(CALENDRIER!DE$1683:DE$2048,CALENDRIER!$B$5))/2)","v":0},{"$f":"(COUNTIF(CALENDRIER!DF$1683:DF$2048,CALENDRIER!$A$5))+((COUNTIF(CALENDRIER!DF$1683:DF$2048,CALENDRIER!$B$5))/2)","v":0},{"$f":"(COUNTIF(CALENDRIER!DG$1683:DG$2048,CALENDRIER!$A$5))+((COUNTIF(CALENDRIER!DG$1683:DG$2048,CALENDRIER!$B$5))/2)","v":0},{"$f":"(COUNTIF(CALENDRIER!DH$1683:DH$2048,CALENDRIER!$A$5))+((COUNTIF(CALENDRIER!DH$1683:DH$2048,CALENDRIER!$B$5))/2)","v":0},{"$f":"(COUNTIF(CALENDRIER!DI$1683:DI$2048,CALENDRIER!$A$5))+((COUNTIF(CALENDRIER!DI$1683:DI$2048,CALENDRIER!$B$5))/2)","v":0},{"$f":"(COUNTIF(CALENDRIER!DJ$1683:DJ$2048,CALENDRIER!$A$5))+((COUNTIF(CALENDRIER!DJ$1683:DJ$2048,CALENDRIER!$B$5))/2)","v":0},{"$f":"(COUNTIF(CALENDRIER!DK$1683:DK$2048,CALENDRIER!$A$5))+((COUNTIF(CALENDRIER!DK$1683:DK$2048,CALENDRIER!$B$5))/2)","v":0},{"$f":"(COUNTIF(CALENDRIER!DL$1683:DL$2048,CALENDRIER!$A$5))+((COUNTIF(CALENDRIER!DL$1683:DL$2048,CALENDRIER!$B$5))/2)","v":0},{"$f":"(COUNTIF(CALENDRIER!DM$1683:DM$2048,CALENDRIER!$A$5))+((COUNTIF(CALENDRIER!DM$1683:DM$2048,CALENDRIER!$B$5))/2)","v":0},{"$f":"(COUNTIF(CALENDRIER!DN$1683:DN$2048,CALENDRIER!$A$5))+((COUNTIF(CALENDRIER!DN$1683:DN$2048,CALENDRIER!$B$5))/2)","v":0},{"$f":"(COUNTIF(CALENDRIER!DO$1683:DO$2048,CALENDRIER!$A$5))+((COUNTIF(CALENDRIER!DO$1683:DO$2048,CALENDRIER!$B$5))/2)","v":0},{"$f":"(COUNTIF(CALENDRIER!DP$1683:DP$2048,CALENDRIER!$A$5))+((COUNTIF(CALENDRIER!DP$1683:DP$2048,CALENDRIER!$B$5))/2)","v":0},{"$f":"(COUNTIF(CALENDRIER!DQ$1683:DQ$2048,CALENDRIER!$A$5))+((COUNTIF(CALENDRIER!DQ$1683:DQ$2048,CALENDRIER!$B$5))/2)","v":0},{"$f":"(COUNTIF(CALENDRIER!DR$1683:DR$2048,CALENDRIER!$A$5))+((COUNTIF(CALENDRIER!DR$1683:DR$2048,CALENDRIER!$B$5))/2)","v":0},{"$f":"(COUNTIF(CALENDRIER!DS$1683:DS$2048,CALENDRIER!$A$5))+((COUNTIF(CALENDRIER!DS$1683:DS$2048,CALENDRIER!$B$5))/2)","v":0},{"$f":"(COUNTIF(CALENDRIER!DT$1683:DT$2048,CALENDRIER!$A$5))+((COUNTIF(CALENDRIER!DT$1683:DT$2048,CALENDRIER!$B$5))/2)","v":0},{"$f":"(COUNTIF(CALENDRIER!DU$1683:DU$2048,CALENDRIER!$A$5))+((COUNTIF(CALENDRIER!DU$1683:DU$2048,CALENDRIER!$B$5))/2)","v":0},{"$f":"(COUNTIF(CALENDRIER!DV$1683:DV$2048,CALENDRIER!$A$5))+((COUNTIF(CALENDRIER!DV$1683:DV$2048,CALENDRIER!$B$5))/2)","v":0},{"$f":"(COUNTIF(CALENDRIER!DW$1683:DW$2048,CALENDRIER!$A$5))+((COUNTIF(CALENDRIER!DW$1683:DW$2048,CALENDRIER!$B$5))/2)","v":0},{"$f":"(COUNTIF(CALENDRIER!DX$1683:DX$2048,CALENDRIER!$A$5))+((COUNTIF(CALENDRIER!DX$1683:DX$2048,CALENDRIER!$B$5))/2)","v":0},{"$f":"(COUNTIF(CALENDRIER!DY$1683:DY$2048,CALENDRIER!$A$5))+((COUNTIF(CALENDRIER!DY$1683:DY$2048,CALENDRIER!$B$5))/2)","v":0},{"$f":"(COUNTIF(CALENDRIER!DZ$1683:DZ$2048,CALENDRIER!$A$5))+((COUNTIF(CALENDRIER!DZ$1683:DZ$2048,CALENDRIER!$B$5))/2)","v":0},{"$f":"(COUNTIF(CALENDRIER!EA$1683:EA$2048,CALENDRIER!$A$5))+((COUNTIF(CALENDRIER!EA$1683:EA$2048,CALENDRIER!$B$5))/2)","v":0},{"$f":"(COUNTIF(CALENDRIER!EB$1683:EB$2048,CALENDRIER!$A$5))+((COUNTIF(CALENDRIER!EB$1683:EB$2048,CALENDRIER!$B$5))/2)","v":0},{"$f":"(COUNTIF(CALENDRIER!EC$1683:EC$2048,CALENDRIER!$A$5))+((COUNTIF(CALENDRIER!EC$1683:EC$2048,CALENDRIER!$B$5))/2)","v":0},{"$f":"(COUNTIF(CALENDRIER!ED$1683:ED$2048,CALENDRIER!$A$5))+((COUNTIF(CALENDRIER!ED$1683:ED$2048,CALENDRIER!$B$5))/2)","v":0},{"$f":"(COUNTIF(CALENDRIER!EE$1683:EE$2048,CALENDRIER!$A$5))+((COUNTIF(CALENDRIER!EE$1683:EE$2048,CALENDRIER!$B$5))/2)","v":0},{"$f":"(COUNTIF(CALENDRIER!EF$1683:EF$2048,CALENDRIER!$A$5))+((COUNTIF(CALENDRIER!EF$1683:EF$2048,CALENDRIER!$B$5))/2)","v":0},{"$f":"(COUNTIF(CALENDRIER!EG$1683:EG$2048,CALENDRIER!$A$5))+((COUNTIF(CALENDRIER!EG$1683:EG$2048,CALENDRIER!$B$5))/2)","v":0},{"$f":"(COUNTIF(CALENDRIER!EH$1683:EH$2048,CALENDRIER!$A$5))+((COUNTIF(CALENDRIER!EH$1683:EH$2048,CALENDRIER!$B$5))/2)","v":0},{"$f":"(COUNTIF(CALENDRIER!EI$1683:EI$2048,CALENDRIER!$A$5))+((COUNTIF(CALENDRIER!EI$1683:EI$2048,CALENDRIER!$B$5))/2)","v":0},{"$f":"(COUNTIF(CALENDRIER!EJ$1683:EJ$2048,CALENDRIER!$A$5))+((COUNTIF(CALENDRIER!EJ$1683:EJ$2048,CALENDRIER!$B$5))/2)","v":0},{"$f":"(COUNTIF(CALENDRIER!EK$1683:EK$2048,CALENDRIER!$A$5))+((COUNTIF(CALENDRIER!EK$1683:EK$2048,CALENDRIER!$B$5))/2)","v":0},{"$f":"(COUNTIF(CALENDRIER!EL$1683:EL$2048,CALENDRIER!$A$5))+((COUNTIF(CALENDRIER!EL$1683:EL$2048,CALENDRIER!$B$5))/2)","v":0},{"$f":"(COUNTIF(CALENDRIER!EM$1683:EM$2048,CALENDRIER!$A$5))+((COUNTIF(CALENDRIER!EM$1683:EM$2048,CALENDRIER!$B$5))/2)","v":0},{"$f":"(COUNTIF(CALENDRIER!EN$1683:EN$2048,CALENDRIER!$A$5))+((COUNTIF(CALENDRIER!EN$1683:EN$2048,CALENDRIER!$B$5))/2)","v":0},{"$f":"(COUNTIF(CALENDRIER!EO$1683:EO$2048,CALENDRIER!$A$5))+((COUNTIF(CALENDRIER!EO$1683:EO$2048,CALENDRIER!$B$5))/2)","v":0},{"$f":"(COUNTIF(CALENDRIER!EP$1683:EP$2048,CALENDRIER!$A$5))+((COUNTIF(CALENDRIER!EP$1683:EP$2048,CALENDRIER!$B$5))/2)","v":0},{"$f":"(COUNTIF(CALENDRIER!EQ$1683:EQ$2048,CALENDRIER!$A$5))+((COUNTIF(CALENDRIER!EQ$1683:EQ$2048,CALENDRIER!$B$5))/2)","v":0},{"$f":"(COUNTIF(CALENDRIER!ER$1683:ER$2048,CALENDRIER!$A$5))+((COUNTIF(CALENDRIER!ER$1683:ER$2048,CALENDRIER!$B$5))/2)","v":0},{"$f":"(COUNTIF(CALENDRIER!ES$1683:ES$2048,CALENDRIER!$A$5))+((COUNTIF(CALENDRIER!ES$1683:ES$2048,CALENDRIER!$B$5))/2)","v":0},{"$f":"(COUNTIF(CALENDRIER!ET$1683:ET$2048,CALENDRIER!$A$5))+((COUNTIF(CALENDRIER!ET$1683:ET$2048,CALENDRIER!$B$5))/2)","v":0},{"$f":"(COUNTIF(CALENDRIER!EU$1683:EU$2048,CALENDRIER!$A$5))+((COUNTIF(CALENDRIER!EU$1683:EU$2048,CALENDRIER!$B$5))/2)","v":0},{"$f":"(COUNTIF(CALENDRIER!EV$1683:EV$2048,CALENDRIER!$A$5))+((COUNTIF(CALENDRIER!EV$1683:EV$2048,CALENDRIER!$B$5))/2)","v":0},{"$f":"(COUNTIF(CALENDRIER!EW$1683:EW$2048,CALENDRIER!$A$5))+((COUNTIF(CALENDRIER!EW$1683:EW$2048,CALENDRIER!$B$5))/2)","v":0},{"$f":"(COUNTIF(CALENDRIER!EX$1683:EX$2048,CALENDRIER!$A$5))+((COUNTIF(CALENDRIER!EX$1683:EX$2048,CALENDRIER!$B$5))/2)","v":0},{"$f":"(COUNTIF(CALENDRIER!EY$1683:EY$2048,CALENDRIER!$A$5))+((COUNTIF(CALENDRIER!EY$1683:EY$2048,CALENDRIER!$B$5))/2)","v":0},{"$f":"(COUNTIF(CALENDRIER!EZ$1683:EZ$2048,CALENDRIER!$A$5))+((COUNTIF(CALENDRIER!EZ$1683:EZ$2048,CALENDRIER!$B$5))/2)","v":0},{"$f":"(COUNTIF(CALENDRIER!FA$1683:FA$2048,CALENDRIER!$A$5))+((COUNTIF(CALENDRIER!FA$1683:FA$2048,CALENDRIER!$B$5))/2)","v":0},{"$f":"(COUNTIF(CALENDRIER!FB$1683:FB$2048,CALENDRIER!$A$5))+((COUNTIF(CALENDRIER!FB$1683:FB$2048,CALENDRIER!$B$5))/2)","v":0},{"$f":"(COUNTIF(CALENDRIER!FC$1683:FC$2048,CALENDRIER!$A$5))+((COUNTIF(CALENDRIER!FC$1683:FC$2048,CALENDRIER!$B$5))/2)","v":0},{"$f":"(COUNTIF(CALENDRIER!FD$1683:FD$2048,CALENDRIER!$A$5))+((COUNTIF(CALENDRIER!FD$1683:FD$2048,CALENDRIER!$B$5))/2)","v":0},{"$f":"(COUNTIF(CALENDRIER!FE$1683:FE$2048,CALENDRIER!$A$5))+((COUNTIF(CALENDRIER!FE$1683:FE$2048,CALENDRIER!$B$5))/2)","v":0},{"$f":"(COUNTIF(CALENDRIER!FF$1683:FF$2048,CALENDRIER!$A$5))+((COUNTIF(CALENDRIER!FF$1683:FF$2048,CALENDRIER!$B$5))/2)","v":0},{"$f":"(COUNTIF(CALENDRIER!FG$1683:FG$2048,CALENDRIER!$A$5))+((COUNTIF(CALENDRIER!FG$1683:FG$2048,CALENDRIER!$B$5))/2)","v":0},{"$f":"(COUNTIF(CALENDRIER!FH$1683:FH$2048,CALENDRIER!$A$5))+((COUNTIF(CALENDRIER!FH$1683:FH$2048,CALENDRIER!$B$5))/2)","v":0},{"$f":"(COUNTIF(CALENDRIER!FI$1683:FI$2048,CALENDRIER!$A$5))+((COUNTIF(CALENDRIER!FI$1683:FI$2048,CALENDRIER!$B$5))/2)","v":0},{"$f":"(COUNTIF(CALENDRIER!FJ$1683:FJ$2048,CALENDRIER!$A$5))+((COUNTIF(CALENDRIER!FJ$1683:FJ$2048,CALENDRIER!$B$5))/2)","v":0},{"$f":"(COUNTIF(CALENDRIER!FK$1683:FK$2048,CALENDRIER!$A$5))+((COUNTIF(CALENDRIER!FK$1683:FK$2048,CALENDRIER!$B$5))/2)","v":0},{"$f":"(COUNTIF(CALENDRIER!FL$1683:FL$2048,CALENDRIER!$A$5))+((COUNTIF(CALENDRIER!FL$1683:FL$2048,CALENDRIER!$B$5))/2)","v":0},{"$f":"(COUNTIF(CALENDRIER!FM$1683:FM$2048,CALENDRIER!$A$5))+((COUNTIF(CALENDRIER!FM$1683:FM$2048,CALENDRIER!$B$5))/2)","v":0},{"$f":"(COUNTIF(CALENDRIER!FN$1683:FN$2048,CALENDRIER!$A$5))+((COUNTIF(CALENDRIER!FN$1683:FN$2048,CALENDRIER!$B$5))/2)","v":0},{"$f":"(COUNTIF(CALENDRIER!FO$1683:FO$2048,CALENDRIER!$A$5))+((COUNTIF(CALENDRIER!FO$1683:FO$2048,CALENDRIER!$B$5))/2)","v":0},{"$f":"(COUNTIF(CALENDRIER!FP$1683:FP$2048,CALENDRIER!$A$5))+((COUNTIF(CALENDRIER!FP$1683:FP$2048,CALENDRIER!$B$5))/2)","v":0},{"$f":"(COUNTIF(CALENDRIER!FQ$1683:FQ$2048,CALENDRIER!$A$5))+((COUNTIF(CALENDRIER!FQ$1683:FQ$2048,CALENDRIER!$B$5))/2)","v":0},{"$f":"(COUNTIF(CALENDRIER!FR$1683:FR$2048,CALENDRIER!$A$5))+((COUNTIF(CALENDRIER!FR$1683:FR$2048,CALENDRIER!$B$5))/2)","v":0},{"$f":"(COUNTIF(CALENDRIER!FS$1683:FS$2048,CALENDRIER!$A$5))+((COUNTIF(CALENDRIER!FS$1683:FS$2048,CALENDRIER!$B$5))/2)","v":0},{"$f":"(COUNTIF(CALENDRIER!FT$1683:FT$2048,CALENDRIER!$A$5))+((COUNTIF(CALENDRIER!FT$1683:FT$2048,CALENDRIER!$B$5))/2)","v":0},{"$f":"(COUNTIF(CALENDRIER!FU$1683:FU$2048,CALENDRIER!$A$5))+((COUNTIF(CALENDRIER!FU$1683:FU$2048,CALENDRIER!$B$5))/2)","v":0},{"$f":"(COUNTIF(CALENDRIER!FV$1683:FV$2048,CALENDRIER!$A$5))+((COUNTIF(CALENDRIER!FV$1683:FV$2048,CALENDRIER!$B$5))/2)","v":0},{"$f":"(COUNTIF(CALENDRIER!FW$1683:FW$2048,CALENDRIER!$A$5))+((COUNTIF(CALENDRIER!FW$1683:FW$2048,CALENDRIER!$B$5))/2)","v":0},{"$f":"(COUNTIF(CALENDRIER!FX$1683:FX$2048,CALENDRIER!$A$5))+((COUNTIF(CALENDRIER!FX$1683:FX$2048,CALENDRIER!$B$5))/2)","v":0},{"$f":"(COUNTIF(CALENDRIER!FY$1683:FY$2048,CALENDRIER!$A$5))+((COUNTIF(CALENDRIER!FY$1683:FY$2048,CALENDRIER!$B$5))/2)","v":0},{"$f":"(COUNTIF(CALENDRIER!FZ$1683:FZ$2048,CALENDRIER!$A$5))+((COUNTIF(CALENDRIER!FZ$1683:FZ$2048,CALENDRIER!$B$5))/2)","v":0},{"$f":"(COUNTIF(CALENDRIER!GA$1683:GA$2048,CALENDRIER!$A$5))+((COUNTIF(CALENDRIER!GA$1683:GA$2048,CALENDRIER!$B$5))/2)","v":0},{"$f":"(COUNTIF(CALENDRIER!GB$1683:GB$2048,CALENDRIER!$A$5))+((COUNTIF(CALENDRIER!GB$1683:GB$2048,CALENDRIER!$B$5))/2)","v":0},{"$f":"(COUNTIF(CALENDRIER!GC$1683:GC$2048,CALENDRIER!$A$5))+((COUNTIF(CALENDRIER!GC$1683:GC$2048,CALENDRIER!$B$5))/2)","v":0},{"$f":"(COUNTIF(CALENDRIER!GD$1683:GD$2048,CALENDRIER!$A$5))+((COUNTIF(CALENDRIER!GD$1683:GD$2048,CALENDRIER!$B$5))/2)","v":0},{"$f":"(COUNTIF(CALENDRIER!GE$1683:GE$2048,CALENDRIER!$A$5))+((COUNTIF(CALENDRIER!GE$1683:GE$2048,CALENDRIER!$B$5))/2)","v":0},{"$f":"(COUNTIF(CALENDRIER!GF$1683:GF$2048,CALENDRIER!$A$5))+((COUNTIF(CALENDRIER!GF$1683:GF$2048,CALENDRIER!$B$5))/2)","v":0},{"$f":"(COUNTIF(CALENDRIER!GG$1683:GG$2048,CALENDRIER!$A$5))+((COUNTIF(CALENDRIER!GG$1683:GG$2048,CALENDRIER!$B$5))/2)","v":0},{"$f":"(COUNTIF(CALENDRIER!GH$1683:GH$2048,CALENDRIER!$A$5))+((COUNTIF(CALENDRIER!GH$1683:GH$2048,CALENDRIER!$B$5))/2)","v":0},{"$f":"(COUNTIF(CALENDRIER!GI$1683:GI$2048,CALENDRIER!$A$5))+((COUNTIF(CALENDRIER!GI$1683:GI$2048,CALENDRIER!$B$5))/2)","v":0},{"$f":"(COUNTIF(CALENDRIER!GJ$1683:GJ$2048,CALENDRIER!$A$5))+((COUNTIF(CALENDRIER!GJ$1683:GJ$2048,CALENDRIER!$B$5))/2)","v":0},{"$f":"(COUNTIF(CALENDRIER!GK$1683:GK$2048,CALENDRIER!$A$5))+((COUNTIF(CALENDRIER!GK$1683:GK$2048,CALENDRIER!$B$5))/2)","v":0},{"$f":"(COUNTIF(CALENDRIER!GL$1683:GL$2048,CALENDRIER!$A$5))+((COUNTIF(CALENDRIER!GL$1683:GL$2048,CALENDRIER!$B$5))/2)","v":0},{"$f":"(COUNTIF(CALENDRIER!GM$1683:GM$2048,CALENDRIER!$A$5))+((COUNTIF(CALENDRIER!GM$1683:GM$2048,CALENDRIER!$B$5))/2)","v":0},{"$f":"(COUNTIF(CALENDRIER!GN$1683:GN$2048,CALENDRIER!$A$5))+((COUNTIF(CALENDRIER!GN$1683:GN$2048,CALENDRIER!$B$5))/2)","v":0},{"$f":"(COUNTIF(CALENDRIER!GO$1683:GO$2048,CALENDRIER!$A$5))+((COUNTIF(CALENDRIER!GO$1683:GO$2048,CALENDRIER!$B$5))/2)","v":0},{"$f":"(COUNTIF(CALENDRIER!GP$1683:GP$2048,CALENDRIER!$A$5))+((COUNTIF(CALENDRIER!GP$1683:GP$2048,CALENDRIER!$B$5))/2)","v":0},{"$f":"(COUNTIF(CALENDRIER!GQ$1683:GQ$2048,CALENDRIER!$A$5))+((COUNTIF(CALENDRIER!GQ$1683:GQ$2048,CALENDRIER!$B$5))/2)","v":0},{"$f":"(COUNTIF(CALENDRIER!GR$1683:GR$2048,CALENDRIER!$A$5))+((COUNTIF(CALENDRIER!GR$1683:GR$2048,CALENDRIER!$B$5))/2)","v":0}]
[null,{"$f":"\"Solde \"&CALENDRIER!$A$5&\" \"&A224&\" : \"","v":"Solde … 2020 : "},{"$f":"C225-C226","v":0},{"$f":"D225-D226","v":0},0,0,0,0,0,0,0,0,0,0,0,0,0,0,0,0,0,0,0,0,0,0,0,0,0,0,0,0,0,0,0,0,0,0,0,0,0,0,0,0,0,0,0,0,0,0,0,0,0,0,0,0,0,0,0,0,0,0,0,0,0,0,0,{"$f":"BP225-BP226","v":0},0,0,0,0,0,0,0,0,0,0,0,0,0,0,0,0,0,0,0,0,0,0,0,0,0,0,0,0,0,0,0,0,0,0,0,0,0,0,0,0,0,0,0,0,0,0,0,0,0,0,0,0,0,0,0,0,0,0,0,0,0,0,0,{"$f":"EB225-EB226","v":0},0,0,0,0,0,0,0,0,0,0,0,0,0,0,0,0,0,0,0,0,0,0,0,0,0,0,0,0,0,0,0,0,0,0,0,0,0,0,0,0,0,0,0,0,0,0,0,0,0,0,0,0,0,0,0,0,0,0,0,0,0,0,0,{"$f":"GN225-GN226","v":0},0,0,0,0]
[]
[]
[]
[]
[]
[]
[]
[]
[]
[]
[]
[]
[]
[]
[]
[]
[]
[]
[]
[]
["période de référence (du 1er juin au 31 mai)"]
["2015-2016","CE"]
[null,"SOLDE DEPART"]
[null,{"$f":"CALENDRIER!$A$6&\" PRIS\"","v":"… PRIS"},{"$f":"(COUNTIF(CALENDRIER!C$8:C$373,CALENDRIER!$A$6))+((COUNTIF(CALENDRIER!C$8:C$373,CALENDRIER!$B$6))/2)","v":0},{"$f":"(COUNTIF(CALENDRIER!D$8:D$373,CALENDRIER!$A$6))+((COUNTIF(CALENDRIER!D$8:D$373,CALENDRIER!$B$6))/2)","v":0},{"$f":"(COUNTIF(CALENDRIER!E$8:E$373,CALENDRIER!$A$6))+((COUNTIF(CALENDRIER!E$8:E$373,CALENDRIER!$B$6))/2)","v":0},{"$f":"(COUNTIF(CALENDRIER!F$8:F$373,CALENDRIER!$A$6))+((COUNTIF(CALENDRIER!F$8:F$373,CALENDRIER!$B$6))/2)","v":0},{"$f":"(COUNTIF(CALENDRIER!G$8:G$373,CALENDRIER!$A$6))+((COUNTIF(CALENDRIER!G$8:G$373,CALENDRIER!$B$6))/2)","v":0},{"$f":"(COUNTIF(CALENDRIER!H$8:H$373,CALENDRIER!$A$6))+((COUNTIF(CALENDRIER!H$8:H$373,CALENDRIER!$B$6))/2)","v":0},{"$f":"(COUNTIF(CALENDRIER!I$8:I$373,CALENDRIER!$A$6))+((COUNTIF(CALENDRIER!I$8:I$373,CALENDRIER!$B$6))/2)","v":0},{"$f":"(COUNTIF(CALENDRIER!J$8:J$373,CALENDRIER!$A$6))+((COUNTIF(CALENDRIER!J$8:J$373,CALENDRIER!$B$6))/2)","v":0},{"$f":"(COUNTIF(CALENDRIER!K$8:K$373,CALENDRIER!$A$6))+((COUNTIF(CALENDRIER!K$8:K$373,CALENDRIER!$B$6))/2)","v":0},{"$f":"(COUNTIF(CALENDRIER!L$8:L$373,CALENDRIER!$A$6))+((COUNTIF(CALENDRIER!L$8:L$373,CALENDRIER!$B$6))/2)","v":0},{"$f":"(COUNTIF(CALENDRIER!M$8:M$373,CALENDRIER!$A$6))+((COUNTIF(CALENDRIER!M$8:M$373,CALENDRIER!$B$6))/2)","v":0},{"$f":"(COUNTIF(CALENDRIER!N$8:N$373,CALENDRIER!$A$6))+((COUNTIF(CALENDRIER!N$8:N$373,CALENDRIER!$B$6))/2)","v":0},{"$f":"(COUNTIF(CALENDRIER!O$8:O$373,CALENDRIER!$A$6))+((COUNTIF(CALENDRIER!O$8:O$373,CALENDRIER!$B$6))/2)","v":0},{"$f":"(COUNTIF(CALENDRIER!P$8:P$373,CALENDRIER!$A$6))+((COUNTIF(CALENDRIER!P$8:P$373,CALENDRIER!$B$6))/2)","v":0},{"$f":"(COUNTIF(CALENDRIER!Q$8:Q$373,CALENDRIER!$A$6))+((COUNTIF(CALENDRIER!Q$8:Q$373,CALENDRIER!$B$6))/2)","v":0},{"$f":"(COUNTIF(CALENDRIER!R$8:R$373,CALENDRIER!$A$6))+((COUNTIF(CALENDRIER!R$8:R$373,CALENDRIER!$B$6))/2)","v":0},{"$f":"(COUNTIF(CALENDRIER!S$8:S$373,CALENDRIER!$A$6))+((COUNTIF(CALENDRIER!S$8:S$373,CALENDRIER!$B$6))/2)","v":0},{"$f":"(COUNTIF(CALENDRIER!T$8:T$373,CALENDRIER!$A$6))+((COUNTIF(CALENDRIER!T$8:T$373,CALENDRIER!$B$6))/2)","v":0},{"$f":"(COUNTIF(CALENDRIER!U$8:U$373,CALENDRIER!$A$6))+((COUNTIF(CALENDRIER!U$8:U$373,CALENDRIER!$B$6))/2)","v":0},{"$f":"(COUNTIF(CALENDRIER!V$8:V$373,CALENDRIER!$A$6))+((COUNTIF(CALENDRIER!V$8:V$373,CALENDRIER!$B$6))/2)","v":0},{"$f":"(COUNTIF(CALENDRIER!W$8:W$373,CALENDRIER!$A$6))+((COUNTIF(CALENDRIER!W$8:W$373,CALENDRIER!$B$6))/2)","v":0},{"$f":"(COUNTIF(CALENDRIER!X$8:X$373,CALENDRIER!$A$6))+((COUNTIF(CALENDRIER!X$8:X$373,CALENDRIER!$B$6))/2)","v":0},{"$f":"(COUNTIF(CALENDRIER!Y$8:Y$373,CALENDRIER!$A$6))+((COUNTIF(CALENDRIER!Y$8:Y$373,CALENDRIER!$B$6))/2)","v":0},{"$f":"(COUNTIF(CALENDRIER!Z$8:Z$373,CALENDRIER!$A$6))+((COUNTIF(CALENDRIER!Z$8:Z$373,CALENDRIER!$B$6))/2)","v":0},{"$f":"(COUNTIF(CALENDRIER!AA$8:AA$373,CALENDRIER!$A$6))+((COUNTIF(CALENDRIER!AA$8:AA$373,CALENDRIER!$B$6))/2)","v":0},{"$f":"(COUNTIF(CALENDRIER!AB$8:AB$373,CALENDRIER!$A$6))+((COUNTIF(CALENDRIER!AB$8:AB$373,CALENDRIER!$B$6))/2)","v":0},{"$f":"(COUNTIF(CALENDRIER!AC$8:AC$373,CALENDRIER!$A$6))+((COUNTIF(CALENDRIER!AC$8:AC$373,CALENDRIER!$B$6))/2)","v":0},{"$f":"(COUNTIF(CALENDRIER!AD$8:AD$373,CALENDRIER!$A$6))+((COUNTIF(CALENDRIER!AD$8:AD$373,CALENDRIER!$B$6))/2)","v":0},{"$f":"(COUNTIF(CALENDRIER!AE$8:AE$373,CALENDRIER!$A$6))+((COUNTIF(CALENDRIER!AE$8:AE$373,CALENDRIER!$B$6))/2)","v":0},{"$f":"(COUNTIF(CALENDRIER!AF$8:AF$373,CALENDRIER!$A$6))+((COUNTIF(CALENDRIER!AF$8:AF$373,CALENDRIER!$B$6))/2)","v":0},{"$f":"(COUNTIF(CALENDRIER!AG$8:AG$373,CALENDRIER!$A$6))+((COUNTIF(CALENDRIER!AG$8:AG$373,CALENDRIER!$B$6))/2)","v":0},{"$f":"(COUNTIF(CALENDRIER!AH$8:AH$373,CALENDRIER!$A$6))+((COUNTIF(CALENDRIER!AH$8:AH$373,CALENDRIER!$B$6))/2)","v":0},{"$f":"(COUNTIF(CALENDRIER!AI$8:AI$373,CALENDRIER!$A$6))+((COUNTIF(CALENDRIER!AI$8:AI$373,CALENDRIER!$B$6))/2)","v":0},{"$f":"(COUNTIF(CALENDRIER!AJ$8:AJ$373,CALENDRIER!$A$6))+((COUNTIF(CALENDRIER!AJ$8:AJ$373,CALENDRIER!$B$6))/2)","v":0},{"$f":"(COUNTIF(CALENDRIER!AK$8:AK$373,CALENDRIER!$A$6))+((COUNTIF(CALENDRIER!AK$8:AK$373,CALENDRIER!$B$6))/2)","v":0},{"$f":"(COUNTIF(CALENDRIER!AL$8:AL$373,CALENDRIER!$A$6))+((COUNTIF(CALENDRIER!AL$8:AL$373,CALENDRIER!$B$6))/2)","v":0},{"$f":"(COUNTIF(CALENDRIER!AM$8:AM$373,CALENDRIER!$A$6))+((COUNTIF(CALENDRIER!AM$8:AM$373,CALENDRIER!$B$6))/2)","v":0},{"$f":"(COUNTIF(CALENDRIER!AN$8:AN$373,CALENDRIER!$A$6))+((COUNTIF(CALENDRIER!AN$8:AN$373,CALENDRIER!$B$6))/2)","v":0},{"$f":"(COUNTIF(CALENDRIER!AO$8:AO$373,CALENDRIER!$A$6))+((COUNTIF(CALENDRIER!AO$8:AO$373,CALENDRIER!$B$6))/2)","v":0},{"$f":"(COUNTIF(CALENDRIER!AP$8:AP$373,CALENDRIER!$A$6))+((COUNTIF(CALENDRIER!AP$8:AP$373,CALENDRIER!$B$6))/2)","v":0},{"$f":"(COUNTIF(CALENDRIER!AQ$8:AQ$373,CALENDRIER!$A$6))+((COUNTIF(CALENDRIER!AQ$8:AQ$373,CALENDRIER!$B$6))/2)","v":0},{"$f":"(COUNTIF(CALENDRIER!AR$8:AR$373,CALENDRIER!$A$6))+((COUNTIF(CALENDRIER!AR$8:AR$373,CALENDRIER!$B$6))/2)","v":0},{"$f":"(COUNTIF(CALENDRIER!AS$8:AS$373,CALENDRIER!$A$6))+((COUNTIF(CALENDRIER!AS$8:AS$373,CALENDRIER!$B$6))/2)","v":0},{"$f":"(COUNTIF(CALENDRIER!AT$8:AT$373,CALENDRIER!$A$6))+((COUNTIF(CALENDRIER!AT$8:AT$373,CALENDRIER!$B$6))/2)","v":0},{"$f":"(COUNTIF(CALENDRIER!AU$8:AU$373,CALENDRIER!$A$6))+((COUNTIF(CALENDRIER!AU$8:AU$373,CALENDRIER!$B$6))/2)","v":0},{"$f":"(COUNTIF(CALENDRIER!AV$8:AV$373,CALENDRIER!$A$6))+((COUNTIF(CALENDRIER!AV$8:AV$373,CALENDRIER!$B$6))/2)","v":0},{"$f":"(COUNTIF(CALENDRIER!AW$8:AW$373,CALENDRIER!$A$6))+((COUNTIF(CALENDRIER!AW$8:AW$373,CALENDRIER!$B$6))/2)","v":0},{"$f":"(COUNTIF(CALENDRIER!AX$8:AX$373,CALENDRIER!$A$6))+((COUNTIF(CALENDRIER!AX$8:AX$373,CALENDRIER!$B$6))/2)","v":0},{"$f":"(COUNTIF(CALENDRIER!AY$8:AY$373,CALENDRIER!$A$6))+((COUNTIF(CALENDRIER!AY$8:AY$373,CALENDRIER!$B$6))/2)","v":0},{"$f":"(COUNTIF(CALENDRIER!AZ$8:AZ$373,CALENDRIER!$A$6))+((COUNTIF(CALENDRIER!AZ$8:AZ$373,CALENDRIER!$B$6))/2)","v":0},{"$f":"(COUNTIF(CALENDRIER!BA$8:BA$373,CALENDRIER!$A$6))+((COUNTIF(CALENDRIER!BA$8:BA$373,CALENDRIER!$B$6))/2)","v":0},{"$f":"(COUNTIF(CALENDRIER!BB$8:BB$373,CALENDRIER!$A$6))+((COUNTIF(CALENDRIER!BB$8:BB$373,CALENDRIER!$B$6))/2)","v":0},{"$f":"(COUNTIF(CALENDRIER!BC$8:BC$373,CALENDRIER!$A$6))+((COUNTIF(CALENDRIER!BC$8:BC$373,CALENDRIER!$B$6))/2)","v":0},{"$f":"(COUNTIF(CALENDRIER!BD$8:BD$373,CALENDRIER!$A$6))+((COUNTIF(CALENDRIER!BD$8:BD$373,CALENDRIER!$B$6))/2)","v":0},{"$f":"(COUNTIF(CALENDRIER!BE$8:BE$373,CALENDRIER!$A$6))+((COUNTIF(CALENDRIER!BE$8:BE$373,CALENDRIER!$B$6))/2)","v":0},{"$f":"(COUNTIF(CALENDRIER!BF$8:BF$373,CALENDRIER!$A$6))+((COUNTIF(CALENDRIER!BF$8:BF$373,CALENDRIER!$B$6))/2)","v":0},{"$f":"(COUNTIF(CALENDRIER!BG$8:BG$373,CALENDRIER!$A$6))+((COUNTIF(CALENDRIER!BG$8:BG$373,CALENDRIER!$B$6))/2)","v":0},{"$f":"(COUNTIF(CALENDRIER!BH$8:BH$373,CALENDRIER!$A$6))+((COUNTIF(CALENDRIER!BH$8:BH$373,CALENDRIER!$B$6))/2)","v":0},{"$f":"(COUNTIF(CALENDRIER!BI$8:BI$373,CALENDRIER!$A$6))+((COUNTIF(CALENDRIER!BI$8:BI$373,CALENDRIER!$B$6))/2)","v":0},{"$f":"(COUNTIF(CALENDRIER!BJ$8:BJ$373,CALENDRIER!$A$6))+((COUNTIF(CALENDRIER!BJ$8:BJ$373,CALENDRIER!$B$6))/2)","v":0},{"$f":"(COUNTIF(CALENDRIER!BK$8:BK$373,CALENDRIER!$A$6))+((COUNTIF(CALENDRIER!BK$8:BK$373,CALENDRIER!$B$6))/2)","v":0},{"$f":"(COUNTIF(CALENDRIER!BL$8:BL$373,CALENDRIER!$A$6))+((COUNTIF(CALENDRIER!BL$8:BL$373,CALENDRIER!$B$6))/2)","v":0},{"$f":"(COUNTIF(CALENDRIER!BM$8:BM$373,CALENDRIER!$A$6))+((COUNTIF(CALENDRIER!BM$8:BM$373,CALENDRIER!$B$6))/2)","v":0},{"$f":"(COUNTIF(CALENDRIER!BN$8:BN$373,CALENDRIER!$A$6))+((COUNTIF(CALENDRIER!BN$8:BN$373,CALENDRIER!$B$6))/2)","v":0},{"$f":"(COUNTIF(CALENDRIER!BO$8:BO$373,CALENDRIER!$A$6))+((COUNTIF(CALENDRIER!BO$8:BO$373,CALENDRIER!$B$6))/2)","v":0},{"$f":"(COUNTIF(CALENDRIER!BP$8:BP$373,CALENDRIER!$A$6))+((COUNTIF(CALENDRIER!BP$8:BP$373,CALENDRIER!$B$6))/2)","v":0},{"$f":"(COUNTIF(CALENDRIER!BQ$8:BQ$373,CALENDRIER!$A$6))+((COUNTIF(CALENDRIER!BQ$8:BQ$373,CALENDRIER!$B$6))/2)","v":0},{"$f":"(COUNTIF(CALENDRIER!BR$8:BR$373,CALENDRIER!$A$6))+((COUNTIF(CALENDRIER!BR$8:BR$373,CALENDRIER!$B$6))/2)","v":0},{"$f":"(COUNTIF(CALENDRIER!BS$8:BS$373,CALENDRIER!$A$6))+((COUNTIF(CALENDRIER!BS$8:BS$373,CALENDRIER!$B$6))/2)","v":0},{"$f":"(COUNTIF(CALENDRIER!BT$8:BT$373,CALENDRIER!$A$6))+((COUNTIF(CALENDRIER!BT$8:BT$373,CALENDRIER!$B$6))/2)","v":0},{"$f":"(COUNTIF(CALENDRIER!BU$8:BU$373,CALENDRIER!$A$6))+((COUNTIF(CALENDRIER!BU$8:BU$373,CALENDRIER!$B$6))/2)","v":0},{"$f":"(COUNTIF(CALENDRIER!BV$8:BV$373,CALENDRIER!$A$6))+((COUNTIF(CALENDRIER!BV$8:BV$373,CALENDRIER!$B$6))/2)","v":0},{"$f":"(COUNTIF(CALENDRIER!BW$8:BW$373,CALENDRIER!$A$6))+((COUNTIF(CALENDRIER!BW$8:BW$373,CALENDRIER!$B$6))/2)","v":0},{"$f":"(COUNTIF(CALENDRIER!BX$8:BX$373,CALENDRIER!$A$6))+((COUNTIF(CALENDRIER!BX$8:BX$373,CALENDRIER!$B$6))/2)","v":0},{"$f":"(COUNTIF(CALENDRIER!BY$8:BY$373,CALENDRIER!$A$6))+((COUNTIF(CALENDRIER!BY$8:BY$373,CALENDRIER!$B$6))/2)","v":0},{"$f":"(COUNTIF(CALENDRIER!BZ$8:BZ$373,CALENDRIER!$A$6))+((COUNTIF(CALENDRIER!BZ$8:BZ$373,CALENDRIER!$B$6))/2)","v":0},{"$f":"(COUNTIF(CALENDRIER!CA$8:CA$373,CALENDRIER!$A$6))+((COUNTIF(CALENDRIER!CA$8:CA$373,CALENDRIER!$B$6))/2)","v":0},{"$f":"(COUNTIF(CALENDRIER!CB$8:CB$373,CALENDRIER!$A$6))+((COUNTIF(CALENDRIER!CB$8:CB$373,CALENDRIER!$B$6))/2)","v":0},{"$f":"(COUNTIF(CALENDRIER!CC$8:CC$373,CALENDRIER!$A$6))+((COUNTIF(CALENDRIER!CC$8:CC$373,CALENDRIER!$B$6))/2)","v":0},{"$f":"(COUNTIF(CALENDRIER!CD$8:CD$373,CALENDRIER!$A$6))+((COUNTIF(CALENDRIER!CD$8:CD$373,CALENDRIER!$B$6))/2)","v":0},{"$f":"(COUNTIF(CALENDRIER!CE$8:CE$373,CALENDRIER!$A$6))+((COUNTIF(CALENDRIER!CE$8:CE$373,CALENDRIER!$B$6))/2)","v":0},{"$f":"(COUNTIF(CALENDRIER!CF$8:CF$373,CALENDRIER!$A$6))+((COUNTIF(CALENDRIER!CF$8:CF$373,CALENDRIER!$B$6))/2)","v":0},{"$f":"(COUNTIF(CALENDRIER!CG$8:CG$373,CALENDRIER!$A$6))+((COUNTIF(CALENDRIER!CG$8:CG$373,CALENDRIER!$B$6))/2)","v":0},{"$f":"(COUNTIF(CALENDRIER!CH$8:CH$373,CALENDRIER!$A$6))+((COUNTIF(CALENDRIER!CH$8:CH$373,CALENDRIER!$B$6))/2)","v":0},{"$f":"(COUNTIF(CALENDRIER!CI$8:CI$373,CALENDRIER!$A$6))+((COUNTIF(CALENDRIER!CI$8:CI$373,CALENDRIER!$B$6))/2)","v":0},{"$f":"(COUNTIF(CALENDRIER!CJ$8:CJ$373,CALENDRIER!$A$6))+((COUNTIF(CALENDRIER!CJ$8:CJ$373,CALENDRIER!$B$6))/2)","v":0},{"$f":"(COUNTIF(CALENDRIER!CK$8:CK$373,CALENDRIER!$A$6))+((COUNTIF(CALENDRIER!CK$8:CK$373,CALENDRIER!$B$6))/2)","v":0},{"$f":"(COUNTIF(CALENDRIER!CL$8:CL$373,CALENDRIER!$A$6))+((COUNTIF(CALENDRIER!CL$8:CL$373,CALENDRIER!$B$6))/2)","v":0},{"$f":"(COUNTIF(CALENDRIER!CM$8:CM$373,CALENDRIER!$A$6))+((COUNTIF(CALENDRIER!CM$8:CM$373,CALENDRIER!$B$6))/2)","v":0},{"$f":"(COUNTIF(CALENDRIER!CN$8:CN$373,CALENDRIER!$A$6))+((COUNTIF(CALENDRIER!CN$8:CN$373,CALENDRIER!$B$6))/2)","v":0},{"$f":"(COUNTIF(CALENDRIER!CO$8:CO$373,CALENDRIER!$A$6))+((COUNTIF(CALENDRIER!CO$8:CO$373,CALENDRIER!$B$6))/2)","v":0},{"$f":"(COUNTIF(CALENDRIER!CP$8:CP$373,CALENDRIER!$A$6))+((COUNTIF(CALENDRIER!CP$8:CP$373,CALENDRIER!$B$6))/2)","v":0},{"$f":"(COUNTIF(CALENDRIER!CQ$8:CQ$373,CALENDRIER!$A$6))+((COUNTIF(CALENDRIER!CQ$8:CQ$373,CALENDRIER!$B$6))/2)","v":0},{"$f":"(COUNTIF(CALENDRIER!CR$8:CR$373,CALENDRIER!$A$6))+((COUNTIF(CALENDRIER!CR$8:CR$373,CALENDRIER!$B$6))/2)","v":0},{"$f":"(COUNTIF(CALENDRIER!CS$8:CS$373,CALENDRIER!$A$6))+((COUNTIF(CALENDRIER!CS$8:CS$373,CALENDRIER!$B$6))/2)","v":0},{"$f":"(COUNTIF(CALENDRIER!CT$8:CT$373,CALENDRIER!$A$6))+((COUNTIF(CALENDRIER!CT$8:CT$373,CALENDRIER!$B$6))/2)","v":0},{"$f":"(COUNTIF(CALENDRIER!CU$8:CU$373,CALENDRIER!$A$6))+((COUNTIF(CALENDRIER!CU$8:CU$373,CALENDRIER!$B$6))/2)","v":0},{"$f":"(COUNTIF(CALENDRIER!CV$8:CV$373,CALENDRIER!$A$6))+((COUNTIF(CALENDRIER!CV$8:CV$373,CALENDRIER!$B$6))/2)","v":0},{"$f":"(COUNTIF(CALENDRIER!CW$8:CW$373,CALENDRIER!$A$6))+((COUNTIF(CALENDRIER!CW$8:CW$373,CALENDRIER!$B$6))/2)","v":0},{"$f":"(COUNTIF(CALENDRIER!CX$8:CX$373,CALENDRIER!$A$6))+((COUNTIF(CALENDRIER!CX$8:CX$373,CALENDRIER!$B$6))/2)","v":0},{"$f":"(COUNTIF(CALENDRIER!CY$8:CY$373,CALENDRIER!$A$6))+((COUNTIF(CALENDRIER!CY$8:CY$373,CALENDRIER!$B$6))/2)","v":0},{"$f":"(COUNTIF(CALENDRIER!CZ$8:CZ$373,CALENDRIER!$A$6))+((COUNTIF(CALENDRIER!CZ$8:CZ$373,CALENDRIER!$B$6))/2)","v":0},{"$f":"(COUNTIF(CALENDRIER!DA$8:DA$373,CALENDRIER!$A$6))+((COUNTIF(CALENDRIER!DA$8:DA$373,CALENDRIER!$B$6))/2)","v":0},{"$f":"(COUNTIF(CALENDRIER!DB$8:DB$373,CALENDRIER!$A$6))+((COUNTIF(CALENDRIER!DB$8:DB$373,CALENDRIER!$B$6))/2)","v":0},{"$f":"(COUNTIF(CALENDRIER!DC$8:DC$373,CALENDRIER!$A$6))+((COUNTIF(CALENDRIER!DC$8:DC$373,CALENDRIER!$B$6))/2)","v":0},{"$f":"(COUNTIF(CALENDRIER!DD$8:DD$373,CALENDRIER!$A$6))+((COUNTIF(CALENDRIER!DD$8:DD$373,CALENDRIER!$B$6))/2)","v":0},{"$f":"(COUNTIF(CALENDRIER!DE$8:DE$373,CALENDRIER!$A$6))+((COUNTIF(CALENDRIER!DE$8:DE$373,CALENDRIER!$B$6))/2)","v":0},{"$f":"(COUNTIF(CALENDRIER!DF$8:DF$373,CALENDRIER!$A$6))+((COUNTIF(CALENDRIER!DF$8:DF$373,CALENDRIER!$B$6))/2)","v":0},{"$f":"(COUNTIF(CALENDRIER!DG$8:DG$373,CALENDRIER!$A$6))+((COUNTIF(CALENDRIER!DG$8:DG$373,CALENDRIER!$B$6))/2)","v":0},{"$f":"(COUNTIF(CALENDRIER!DH$8:DH$373,CALENDRIER!$A$6))+((COUNTIF(CALENDRIER!DH$8:DH$373,CALENDRIER!$B$6))/2)","v":0},{"$f":"(COUNTIF(CALENDRIER!DI$8:DI$373,CALENDRIER!$A$6))+((COUNTIF(CALENDRIER!DI$8:DI$373,CALENDRIER!$B$6))/2)","v":0},{"$f":"(COUNTIF(CALENDRIER!DJ$8:DJ$373,CALENDRIER!$A$6))+((COUNTIF(CALENDRIER!DJ$8:DJ$373,CALENDRIER!$B$6))/2)","v":0},{"$f":"(COUNTIF(CALENDRIER!DK$8:DK$373,CALENDRIER!$A$6))+((COUNTIF(CALENDRIER!DK$8:DK$373,CALENDRIER!$B$6))/2)","v":0},{"$f":"(COUNTIF(CALENDRIER!DL$8:DL$373,CALENDRIER!$A$6))+((COUNTIF(CALENDRIER!DL$8:DL$373,CALENDRIER!$B$6))/2)","v":0},{"$f":"(COUNTIF(CALENDRIER!DM$8:DM$373,CALENDRIER!$A$6))+((COUNTIF(CALENDRIER!DM$8:DM$373,CALENDRIER!$B$6))/2)","v":0},{"$f":"(COUNTIF(CALENDRIER!DN$8:DN$373,CALENDRIER!$A$6))+((COUNTIF(CALENDRIER!DN$8:DN$373,CALENDRIER!$B$6))/2)","v":0},{"$f":"(COUNTIF(CALENDRIER!DO$8:DO$373,CALENDRIER!$A$6))+((COUNTIF(CALENDRIER!DO$8:DO$373,CALENDRIER!$B$6))/2)","v":0},{"$f":"(COUNTIF(CALENDRIER!DP$8:DP$373,CALENDRIER!$A$6))+((COUNTIF(CALENDRIER!DP$8:DP$373,CALENDRIER!$B$6))/2)","v":0},{"$f":"(COUNTIF(CALENDRIER!DQ$8:DQ$373,CALENDRIER!$A$6))+((COUNTIF(CALENDRIER!DQ$8:DQ$373,CALENDRIER!$B$6))/2)","v":0},{"$f":"(COUNTIF(CALENDRIER!DR$8:DR$373,CALENDRIER!$A$6))+((COUNTIF(CALENDRIER!DR$8:DR$373,CALENDRIER!$B$6))/2)","v":0},{"$f":"(COUNTIF(CALENDRIER!DS$8:DS$373,CALENDRIER!$A$6))+((COUNTIF(CALENDRIER!DS$8:DS$373,CALENDRIER!$B$6))/2)","v":0},{"$f":"(COUNTIF(CALENDRIER!DT$8:DT$373,CALENDRIER!$A$6))+((COUNTIF(CALENDRIER!DT$8:DT$373,CALENDRIER!$B$6))/2)","v":0},{"$f":"(COUNTIF(CALENDRIER!DU$8:DU$373,CALENDRIER!$A$6))+((COUNTIF(CALENDRIER!DU$8:DU$373,CALENDRIER!$B$6))/2)","v":0},{"$f":"(COUNTIF(CALENDRIER!DV$8:DV$373,CALENDRIER!$A$6))+((COUNTIF(CALENDRIER!DV$8:DV$373,CALENDRIER!$B$6))/2)","v":0},{"$f":"(COUNTIF(CALENDRIER!DW$8:DW$373,CALENDRIER!$A$6))+((COUNTIF(CALENDRIER!DW$8:DW$373,CALENDRIER!$B$6))/2)","v":0},{"$f":"(COUNTIF(CALENDRIER!DX$8:DX$373,CALENDRIER!$A$6))+((COUNTIF(CALENDRIER!DX$8:DX$373,CALENDRIER!$B$6))/2)","v":0},{"$f":"(COUNTIF(CALENDRIER!DY$8:DY$373,CALENDRIER!$A$6))+((COUNTIF(CALENDRIER!DY$8:DY$373,CALENDRIER!$B$6))/2)","v":0},{"$f":"(COUNTIF(CALENDRIER!DZ$8:DZ$373,CALENDRIER!$A$6))+((COUNTIF(CALENDRIER!DZ$8:DZ$373,CALENDRIER!$B$6))/2)","v":0},{"$f":"(COUNTIF(CALENDRIER!EA$8:EA$373,CALENDRIER!$A$6))+((COUNTIF(CALENDRIER!EA$8:EA$373,CALENDRIER!$B$6))/2)","v":0},{"$f":"(COUNTIF(CALENDRIER!EB$8:EB$373,CALENDRIER!$A$6))+((COUNTIF(CALENDRIER!EB$8:EB$373,CALENDRIER!$B$6))/2)","v":0},{"$f":"(COUNTIF(CALENDRIER!EC$8:EC$373,CALENDRIER!$A$6))+((COUNTIF(CALENDRIER!EC$8:EC$373,CALENDRIER!$B$6))/2)","v":0},{"$f":"(COUNTIF(CALENDRIER!ED$8:ED$373,CALENDRIER!$A$6))+((COUNTIF(CALENDRIER!ED$8:ED$373,CALENDRIER!$B$6))/2)","v":0},{"$f":"(COUNTIF(CALENDRIER!EE$8:EE$373,CALENDRIER!$A$6))+((COUNTIF(CALENDRIER!EE$8:EE$373,CALENDRIER!$B$6))/2)","v":0},{"$f":"(COUNTIF(CALENDRIER!EF$8:EF$373,CALENDRIER!$A$6))+((COUNTIF(CALENDRIER!EF$8:EF$373,CALENDRIER!$B$6))/2)","v":0},{"$f":"(COUNTIF(CALENDRIER!EG$8:EG$373,CALENDRIER!$A$6))+((COUNTIF(CALENDRIER!EG$8:EG$373,CALENDRIER!$B$6))/2)","v":0},{"$f":"(COUNTIF(CALENDRIER!EH$8:EH$373,CALENDRIER!$A$6))+((COUNTIF(CALENDRIER!EH$8:EH$373,CALENDRIER!$B$6))/2)","v":0},{"$f":"(COUNTIF(CALENDRIER!EI$8:EI$373,CALENDRIER!$A$6))+((COUNTIF(CALENDRIER!EI$8:EI$373,CALENDRIER!$B$6))/2)","v":0},{"$f":"(COUNTIF(CALENDRIER!EJ$8:EJ$373,CALENDRIER!$A$6))+((COUNTIF(CALENDRIER!EJ$8:EJ$373,CALENDRIER!$B$6))/2)","v":0},{"$f":"(COUNTIF(CALENDRIER!EK$8:EK$373,CALENDRIER!$A$6))+((COUNTIF(CALENDRIER!EK$8:EK$373,CALENDRIER!$B$6))/2)","v":0},{"$f":"(COUNTIF(CALENDRIER!EL$8:EL$373,CALENDRIER!$A$6))+((COUNTIF(CALENDRIER!EL$8:EL$373,CALENDRIER!$B$6))/2)","v":0},{"$f":"(COUNTIF(CALENDRIER!EM$8:EM$373,CALENDRIER!$A$6))+((COUNTIF(CALENDRIER!EM$8:EM$373,CALENDRIER!$B$6))/2)","v":0},{"$f":"(COUNTIF(CALENDRIER!EN$8:EN$373,CALENDRIER!$A$6))+((COUNTIF(CALENDRIER!EN$8:EN$373,CALENDRIER!$B$6))/2)","v":0},{"$f":"(COUNTIF(CALENDRIER!EO$8:EO$373,CALENDRIER!$A$6))+((COUNTIF(CALENDRIER!EO$8:EO$373,CALENDRIER!$B$6))/2)","v":0},{"$f":"(COUNTIF(CALENDRIER!EP$8:EP$373,CALENDRIER!$A$6))+((COUNTIF(CALENDRIER!EP$8:EP$373,CALENDRIER!$B$6))/2)","v":0},{"$f":"(COUNTIF(CALENDRIER!EQ$8:EQ$373,CALENDRIER!$A$6))+((COUNTIF(CALENDRIER!EQ$8:EQ$373,CALENDRIER!$B$6))/2)","v":0},{"$f":"(COUNTIF(CALENDRIER!ER$8:ER$373,CALENDRIER!$A$6))+((COUNTIF(CALENDRIER!ER$8:ER$373,CALENDRIER!$B$6))/2)","v":0},{"$f":"(COUNTIF(CALENDRIER!ES$8:ES$373,CALENDRIER!$A$6))+((COUNTIF(CALENDRIER!ES$8:ES$373,CALENDRIER!$B$6))/2)","v":0},{"$f":"(COUNTIF(CALENDRIER!ET$8:ET$373,CALENDRIER!$A$6))+((COUNTIF(CALENDRIER!ET$8:ET$373,CALENDRIER!$B$6))/2)","v":0},{"$f":"(COUNTIF(CALENDRIER!EU$8:EU$373,CALENDRIER!$A$6))+((COUNTIF(CALENDRIER!EU$8:EU$373,CALENDRIER!$B$6))/2)","v":0},{"$f":"(COUNTIF(CALENDRIER!EV$8:EV$373,CALENDRIER!$A$6))+((COUNTIF(CALENDRIER!EV$8:EV$373,CALENDRIER!$B$6))/2)","v":0},{"$f":"(COUNTIF(CALENDRIER!EW$8:EW$373,CALENDRIER!$A$6))+((COUNTIF(CALENDRIER!EW$8:EW$373,CALENDRIER!$B$6))/2)","v":0},{"$f":"(COUNTIF(CALENDRIER!EX$8:EX$373,CALENDRIER!$A$6))+((COUNTIF(CALENDRIER!EX$8:EX$373,CALENDRIER!$B$6))/2)","v":0},{"$f":"(COUNTIF(CALENDRIER!EY$8:EY$373,CALENDRIER!$A$6))+((COUNTIF(CALENDRIER!EY$8:EY$373,CALENDRIER!$B$6))/2)","v":0},{"$f":"(COUNTIF(CALENDRIER!EZ$8:EZ$373,CALENDRIER!$A$6))+((COUNTIF(CALENDRIER!EZ$8:EZ$373,CALENDRIER!$B$6))/2)","v":0},{"$f":"(COUNTIF(CALENDRIER!FA$8:FA$373,CALENDRIER!$A$6))+((COUNTIF(CALENDRIER!FA$8:FA$373,CALENDRIER!$B$6))/2)","v":0},{"$f":"(COUNTIF(CALENDRIER!FB$8:FB$373,CALENDRIER!$A$6))+((COUNTIF(CALENDRIER!FB$8:FB$373,CALENDRIER!$B$6))/2)","v":0},{"$f":"(COUNTIF(CALENDRIER!FC$8:FC$373,CALENDRIER!$A$6))+((COUNTIF(CALENDRIER!FC$8:FC$373,CALENDRIER!$B$6))/2)","v":0},{"$f":"(COUNTIF(CALENDRIER!FD$8:FD$373,CALENDRIER!$A$6))+((COUNTIF(CALENDRIER!FD$8:FD$373,CALENDRIER!$B$6))/2)","v":0},{"$f":"(COUNTIF(CALENDRIER!FE$8:FE$373,CALENDRIER!$A$6))+((COUNTIF(CALENDRIER!FE$8:FE$373,CALENDRIER!$B$6))/2)","v":0},{"$f":"(COUNTIF(CALENDRIER!FF$8:FF$373,CALENDRIER!$A$6))+((COUNTIF(CALENDRIER!FF$8:FF$373,CALENDRIER!$B$6))/2)","v":0},{"$f":"(COUNTIF(CALENDRIER!FG$8:FG$373,CALENDRIER!$A$6))+((COUNTIF(CALENDRIER!FG$8:FG$373,CALENDRIER!$B$6))/2)","v":0},{"$f":"(COUNTIF(CALENDRIER!FH$8:FH$373,CALENDRIER!$A$6))+((COUNTIF(CALENDRIER!FH$8:FH$373,CALENDRIER!$B$6))/2)","v":0},{"$f":"(COUNTIF(CALENDRIER!FI$8:FI$373,CALENDRIER!$A$6))+((COUNTIF(CALENDRIER!FI$8:FI$373,CALENDRIER!$B$6))/2)","v":0},{"$f":"(COUNTIF(CALENDRIER!FJ$8:FJ$373,CALENDRIER!$A$6))+((COUNTIF(CALENDRIER!FJ$8:FJ$373,CALENDRIER!$B$6))/2)","v":0},{"$f":"(COUNTIF(CALENDRIER!FK$8:FK$373,CALENDRIER!$A$6))+((COUNTIF(CALENDRIER!FK$8:FK$373,CALENDRIER!$B$6))/2)","v":0},{"$f":"(COUNTIF(CALENDRIER!FL$8:FL$373,CALENDRIER!$A$6))+((COUNTIF(CALENDRIER!FL$8:FL$373,CALENDRIER!$B$6))/2)","v":0},{"$f":"(COUNTIF(CALENDRIER!FM$8:FM$373,CALENDRIER!$A$6))+((COUNTIF(CALENDRIER!FM$8:FM$373,CALENDRIER!$B$6))/2)","v":0},{"$f":"(COUNTIF(CALENDRIER!FN$8:FN$373,CALENDRIER!$A$6))+((COUNTIF(CALENDRIER!FN$8:FN$373,CALENDRIER!$B$6))/2)","v":0},{"$f":"(COUNTIF(CALENDRIER!FO$8:FO$373,CALENDRIER!$A$6))+((COUNTIF(CALENDRIER!FO$8:FO$373,CALENDRIER!$B$6))/2)","v":0},{"$f":"(COUNTIF(CALENDRIER!FP$8:FP$373,CALENDRIER!$A$6))+((COUNTIF(CALENDRIER!FP$8:FP$373,CALENDRIER!$B$6))/2)","v":0},{"$f":"(COUNTIF(CALENDRIER!FQ$8:FQ$373,CALENDRIER!$A$6))+((COUNTIF(CALENDRIER!FQ$8:FQ$373,CALENDRIER!$B$6))/2)","v":0},{"$f":"(COUNTIF(CALENDRIER!FR$8:FR$373,CALENDRIER!$A$6))+((COUNTIF(CALENDRIER!FR$8:FR$373,CALENDRIER!$B$6))/2)","v":0},{"$f":"(COUNTIF(CALENDRIER!FS$8:FS$373,CALENDRIER!$A$6))+((COUNTIF(CALENDRIER!FS$8:FS$373,CALENDRIER!$B$6))/2)","v":0},{"$f":"(COUNTIF(CALENDRIER!FT$8:FT$373,CALENDRIER!$A$6))+((COUNTIF(CALENDRIER!FT$8:FT$373,CALENDRIER!$B$6))/2)","v":0},{"$f":"(COUNTIF(CALENDRIER!FU$8:FU$373,CALENDRIER!$A$6))+((COUNTIF(CALENDRIER!FU$8:FU$373,CALENDRIER!$B$6))/2)","v":0},{"$f":"(COUNTIF(CALENDRIER!FV$8:FV$373,CALENDRIER!$A$6))+((COUNTIF(CALENDRIER!FV$8:FV$373,CALENDRIER!$B$6))/2)","v":0},{"$f":"(COUNTIF(CALENDRIER!FW$8:FW$373,CALENDRIER!$A$6))+((COUNTIF(CALENDRIER!FW$8:FW$373,CALENDRIER!$B$6))/2)","v":0},{"$f":"(COUNTIF(CALENDRIER!FX$8:FX$373,CALENDRIER!$A$6))+((COUNTIF(CALENDRIER!FX$8:FX$373,CALENDRIER!$B$6))/2)","v":0},{"$f":"(COUNTIF(CALENDRIER!FY$8:FY$373,CALENDRIER!$A$6))+((COUNTIF(CALENDRIER!FY$8:FY$373,CALENDRIER!$B$6))/2)","v":0},{"$f":"(COUNTIF(CALENDRIER!FZ$8:FZ$373,CALENDRIER!$A$6))+((COUNTIF(CALENDRIER!FZ$8:FZ$373,CALENDRIER!$B$6))/2)","v":0},{"$f":"(COUNTIF(CALENDRIER!GA$8:GA$373,CALENDRIER!$A$6))+((COUNTIF(CALENDRIER!GA$8:GA$373,CALENDRIER!$B$6))/2)","v":0},{"$f":"(COUNTIF(CALENDRIER!GB$8:GB$373,CALENDRIER!$A$6))+((COUNTIF(CALENDRIER!GB$8:GB$373,CALENDRIER!$B$6))/2)","v":0},{"$f":"(COUNTIF(CALENDRIER!GC$8:GC$373,CALENDRIER!$A$6))+((COUNTIF(CALENDRIER!GC$8:GC$373,CALENDRIER!$B$6))/2)","v":0},{"$f":"(COUNTIF(CALENDRIER!GD$8:GD$373,CALENDRIER!$A$6))+((COUNTIF(CALENDRIER!GD$8:GD$373,CALENDRIER!$B$6))/2)","v":0},{"$f":"(COUNTIF(CALENDRIER!GE$8:GE$373,CALENDRIER!$A$6))+((COUNTIF(CALENDRIER!GE$8:GE$373,CALENDRIER!$B$6))/2)","v":0},{"$f":"(COUNTIF(CALENDRIER!GF$8:GF$373,CALENDRIER!$A$6))+((COUNTIF(CALENDRIER!GF$8:GF$373,CALENDRIER!$B$6))/2)","v":0},{"$f":"(COUNTIF(CALENDRIER!GG$8:GG$373,CALENDRIER!$A$6))+((COUNTIF(CALENDRIER!GG$8:GG$373,CALENDRIER!$B$6))/2)","v":0},{"$f":"(COUNTIF(CALENDRIER!GH$8:GH$373,CALENDRIER!$A$6))+((COUNTIF(CALENDRIER!GH$8:GH$373,CALENDRIER!$B$6))/2)","v":0},{"$f":"(COUNTIF(CALENDRIER!GI$8:GI$373,CALENDRIER!$A$6))+((COUNTIF(CALENDRIER!GI$8:GI$373,CALENDRIER!$B$6))/2)","v":0},{"$f":"(COUNTIF(CALENDRIER!GJ$8:GJ$373,CALENDRIER!$A$6))+((COUNTIF(CALENDRIER!GJ$8:GJ$373,CALENDRIER!$B$6))/2)","v":0},{"$f":"(COUNTIF(CALENDRIER!GK$8:GK$373,CALENDRIER!$A$6))+((COUNTIF(CALENDRIER!GK$8:GK$373,CALENDRIER!$B$6))/2)","v":0},{"$f":"(COUNTIF(CALENDRIER!GL$8:GL$373,CALENDRIER!$A$6))+((COUNTIF(CALENDRIER!GL$8:GL$373,CALENDRIER!$B$6))/2)","v":0},{"$f":"(COUNTIF(CALENDRIER!GM$8:GM$373,CALENDRIER!$A$6))+((COUNTIF(CALENDRIER!GM$8:GM$373,CALENDRIER!$B$6))/2)","v":0},{"$f":"(COUNTIF(CALENDRIER!GN$8:GN$373,CALENDRIER!$A$6))+((COUNTIF(CALENDRIER!GN$8:GN$373,CALENDRIER!$B$6))/2)","v":0},{"$f":"(COUNTIF(CALENDRIER!GO$8:GO$373,CALENDRIER!$A$6))+((COUNTIF(CALENDRIER!GO$8:GO$373,CALENDRIER!$B$6))/2)","v":0},{"$f":"(COUNTIF(CALENDRIER!GP$8:GP$373,CALENDRIER!$A$6))+((COUNTIF(CALENDRIER!GP$8:GP$373,CALENDRIER!$B$6))/2)","v":0},{"$f":"(COUNTIF(CALENDRIER!GQ$8:GQ$373,CALENDRIER!$A$6))+((COUNTIF(CALENDRIER!GQ$8:GQ$373,CALENDRIER!$B$6))/2)","v":0},{"$f":"(COUNTIF(CALENDRIER!GR$8:GR$373,CALENDRIER!$A$6))+((COUNTIF(CALENDRIER!GR$8:GR$373,CALENDRIER!$B$6))/2)","v":0}]
[null,{"$f":"\"Solde \"&CALENDRIER!$A$6&\" \"&A249&\" : \"","v":"Solde … 2015-2016 : "},{"$f":"C250-C251","v":0},{"$f":"D250-D251","v":0},0,0,0,0,0,0,0,0,0,0,0,0,0,0,0,0,0,0,0,0,0,0,0,0,0,0,0,0,0,0,0,0,0,0,0,0,0,0,0,0,0,0,0,0,0,0,0,0,0,0,0,0,0,0,0,0,0,0,0,0,0,0,0,{"$f":"BP250-BP251","v":0},0,0,0,0,0,0,0,0,0,0,0,0,0,0,0,0,0,0,0,0,0,0,0,0,0,0,0,0,0,0,0,0,0,0,0,0,0,0,0,0,0,0,0,0,0,0,0,0,0,0,0,0,0,0,0,0,0,0,0,0,0,0,0,{"$f":"EB250-EB251","v":0},0,0,0,0,0,0,0,0,0,0,0,0,0,0,0,0,0,0,0,0,0,0,0,0,0,0,0,0,0,0,0,0,0,0,0,0,0,0,0,0,0,0,0,0,0,0,0,0,0,0,0,0,0,0,0,0,0,0,0,0,0,0,0,{"$f":"GN250-GN251","v":0},0,0,0,0]
[]
["2016-2017",{"$f":"CALENDRIER!$A$6","v":"…"}]
[null,"SOLDE DEPART"]
[null,{"$f":"CALENDRIER!$A$6&\" PRIS\"","v":"… PRIS"},{"$f":"(COUNTIF(CALENDRIER!C$374:C$738,CALENDRIER!$A$6))+((COUNTIF(CALENDRIER!C$374:C$738,CALENDRIER!$B$6))/2)","v":0},{"$f":"(COUNTIF(CALENDRIER!D$374:D$738,CALENDRIER!$A$6))+((COUNTIF(CALENDRIER!D$374:D$738,CALENDRIER!$B$6))/2)","v":0},{"$f":"(COUNTIF(CALENDRIER!E$374:E$738,CALENDRIER!$A$6))+((COUNTIF(CALENDRIER!E$374:E$738,CALENDRIER!$B$6))/2)","v":0},{"$f":"(COUNTIF(CALENDRIER!F$374:F$738,CALENDRIER!$A$6))+((COUNTIF(CALENDRIER!F$374:F$738,CALENDRIER!$B$6))/2)","v":0},{"$f":"(COUNTIF(CALENDRIER!G$374:G$738,CALENDRIER!$A$6))+((COUNTIF(CALENDRIER!G$374:G$738,CALENDRIER!$B$6))/2)","v":0},{"$f":"(COUNTIF(CALENDRIER!H$374:H$738,CALENDRIER!$A$6))+((COUNTIF(CALENDRIER!H$374:H$738,CALENDRIER!$B$6))/2)","v":0},{"$f":"(COUNTIF(CALENDRIER!I$374:I$738,CALENDRIER!$A$6))+((COUNTIF(CALENDRIER!I$374:I$738,CALENDRIER!$B$6))/2)","v":0},{"$f":"(COUNTIF(CALENDRIER!J$374:J$738,CALENDRIER!$A$6))+((COUNTIF(CALENDRIER!J$374:J$738,CALENDRIER!$B$6))/2)","v":0},{"$f":"(COUNTIF(CALENDRIER!K$374:K$738,CALENDRIER!$A$6))+((COUNTIF(CALENDRIER!K$374:K$738,CALENDRIER!$B$6))/2)","v":0},{"$f":"(COUNTIF(CALENDRIER!L$374:L$738,CALENDRIER!$A$6))+((COUNTIF(CALENDRIER!L$374:L$738,CALENDRIER!$B$6))/2)","v":0},{"$f":"(COUNTIF(CALENDRIER!M$374:M$738,CALENDRIER!$A$6))+((COUNTIF(CALENDRIER!M$374:M$738,CALENDRIER!$B$6))/2)","v":0},{"$f":"(COUNTIF(CALENDRIER!N$374:N$738,CALENDRIER!$A$6))+((COUNTIF(CALENDRIER!N$374:N$738,CALENDRIER!$B$6))/2)","v":0},{"$f":"(COUNTIF(CALENDRIER!O$374:O$738,CALENDRIER!$A$6))+((COUNTIF(CALENDRIER!O$374:O$738,CALENDRIER!$B$6))/2)","v":0},{"$f":"(COUNTIF(CALENDRIER!P$374:P$738,CALENDRIER!$A$6))+((COUNTIF(CALENDRIER!P$374:P$738,CALENDRIER!$B$6))/2)","v":0},{"$f":"(COUNTIF(CALENDRIER!Q$374:Q$738,CALENDRIER!$A$6))+((COUNTIF(CALENDRIER!Q$374:Q$738,CALENDRIER!$B$6))/2)","v":0},{"$f":"(COUNTIF(CALENDRIER!R$374:R$738,CALENDRIER!$A$6))+((COUNTIF(CALENDRIER!R$374:R$738,CALENDRIER!$B$6))/2)","v":0},{"$f":"(COUNTIF(CALENDRIER!S$374:S$738,CALENDRIER!$A$6))+((COUNTIF(CALENDRIER!S$374:S$738,CALENDRIER!$B$6))/2)","v":0},{"$f":"(COUNTIF(CALENDRIER!T$374:T$738,CALENDRIER!$A$6))+((COUNTIF(CALENDRIER!T$374:T$738,CALENDRIER!$B$6))/2)","v":0},{"$f":"(COUNTIF(CALENDRIER!U$374:U$738,CALENDRIER!$A$6))+((COUNTIF(CALENDRIER!U$374:U$738,CALENDRIER!$B$6))/2)","v":0},{"$f":"(COUNTIF(CALENDRIER!V$374:V$738,CALENDRIER!$A$6))+((COUNTIF(CALENDRIER!V$374:V$738,CALENDRIER!$B$6))/2)","v":0},{"$f":"(COUNTIF(CALENDRIER!W$374:W$738,CALENDRIER!$A$6))+((COUNTIF(CALENDRIER!W$374:W$738,CALENDRIER!$B$6))/2)","v":0},{"$f":"(COUNTIF(CALENDRIER!X$374:X$738,CALENDRIER!$A$6))+((COUNTIF(CALENDRIER!X$374:X$738,CALENDRIER!$B$6))/2)","v":0},{"$f":"(COUNTIF(CALENDRIER!Y$374:Y$738,CALENDRIER!$A$6))+((COUNTIF(CALENDRIER!Y$374:Y$738,CALENDRIER!$B$6))/2)","v":0},{"$f":"(COUNTIF(CALENDRIER!Z$374:Z$738,CALENDRIER!$A$6))+((COUNTIF(CALENDRIER!Z$374:Z$738,CALENDRIER!$B$6))/2)","v":0},{"$f":"(COUNTIF(CALENDRIER!AA$374:AA$738,CALENDRIER!$A$6))+((COUNTIF(CALENDRIER!AA$374:AA$738,CALENDRIER!$B$6))/2)","v":0},{"$f":"(COUNTIF(CALENDRIER!AB$374:AB$738,CALENDRIER!$A$6))+((COUNTIF(CALENDRIER!AB$374:AB$738,CALENDRIER!$B$6))/2)","v":0},{"$f":"(COUNTIF(CALENDRIER!AC$374:AC$738,CALENDRIER!$A$6))+((COUNTIF(CALENDRIER!AC$374:AC$738,CALENDRIER!$B$6))/2)","v":0},{"$f":"(COUNTIF(CALENDRIER!AD$374:AD$738,CALENDRIER!$A$6))+((COUNTIF(CALENDRIER!AD$374:AD$738,CALENDRIER!$B$6))/2)","v":0},{"$f":"(COUNTIF(CALENDRIER!AE$374:AE$738,CALENDRIER!$A$6))+((COUNTIF(CALENDRIER!AE$374:AE$738,CALENDRIER!$B$6))/2)","v":0},{"$f":"(COUNTIF(CALENDRIER!AF$374:AF$738,CALENDRIER!$A$6))+((COUNTIF(CALENDRIER!AF$374:AF$738,CALENDRIER!$B$6))/2)","v":0},{"$f":"(COUNTIF(CALENDRIER!AG$374:AG$738,CALENDRIER!$A$6))+((COUNTIF(CALENDRIER!AG$374:AG$738,CALENDRIER!$B$6))/2)","v":0},{"$f":"(COUNTIF(CALENDRIER!AH$374:AH$738,CALENDRIER!$A$6))+((COUNTIF(CALENDRIER!AH$374:AH$738,CALENDRIER!$B$6))/2)","v":0},{"$f":"(COUNTIF(CALENDRIER!AI$374:AI$738,CALENDRIER!$A$6))+((COUNTIF(CALENDRIER!AI$374:AI$738,CALENDRIER!$B$6))/2)","v":0},{"$f":"(COUNTIF(CALENDRIER!AJ$374:AJ$738,CALENDRIER!$A$6))+((COUNTIF(CALENDRIER!AJ$374:AJ$738,CALENDRIER!$B$6))/2)","v":0},{"$f":"(COUNTIF(CALENDRIER!AK$374:AK$738,CALENDRIER!$A$6))+((COUNTIF(CALENDRIER!AK$374:AK$738,CALENDRIER!$B$6))/2)","v":0},{"$f":"(COUNTIF(CALENDRIER!AL$374:AL$738,CALENDRIER!$A$6))+((COUNTIF(CALENDRIER!AL$374:AL$738,CALENDRIER!$B$6))/2)","v":0},{"$f":"(COUNTIF(CALENDRIER!AM$374:AM$738,CALENDRIER!$A$6))+((COUNTIF(CALENDRIER!AM$374:AM$738,CALENDRIER!$B$6))/2)","v":0},{"$f":"(COUNTIF(CALENDRIER!AN$374:AN$738,CALENDRIER!$A$6))+((COUNTIF(CALENDRIER!AN$374:AN$738,CALENDRIER!$B$6))/2)","v":0},{"$f":"(COUNTIF(CALENDRIER!AO$374:AO$738,CALENDRIER!$A$6))+((COUNTIF(CALENDRIER!AO$374:AO$738,CALENDRIER!$B$6))/2)","v":0},{"$f":"(COUNTIF(CALENDRIER!AP$374:AP$738,CALENDRIER!$A$6))+((COUNTIF(CALENDRIER!AP$374:AP$738,CALENDRIER!$B$6))/2)","v":0},{"$f":"(COUNTIF(CALENDRIER!AQ$374:AQ$738,CALENDRIER!$A$6))+((COUNTIF(CALENDRIER!AQ$374:AQ$738,CALENDRIER!$B$6))/2)","v":0},{"$f":"(COUNTIF(CALENDRIER!AR$374:AR$738,CALENDRIER!$A$6))+((COUNTIF(CALENDRIER!AR$374:AR$738,CALENDRIER!$B$6))/2)","v":0},{"$f":"(COUNTIF(CALENDRIER!AS$374:AS$738,CALENDRIER!$A$6))+((COUNTIF(CALENDRIER!AS$374:AS$738,CALENDRIER!$B$6))/2)","v":0},{"$f":"(COUNTIF(CALENDRIER!AT$374:AT$738,CALENDRIER!$A$6))+((COUNTIF(CALENDRIER!AT$374:AT$738,CALENDRIER!$B$6))/2)","v":0},{"$f":"(COUNTIF(CALENDRIER!AU$374:AU$738,CALENDRIER!$A$6))+((COUNTIF(CALENDRIER!AU$374:AU$738,CALENDRIER!$B$6))/2)","v":0},{"$f":"(COUNTIF(CALENDRIER!AV$374:AV$738,CALENDRIER!$A$6))+((COUNTIF(CALENDRIER!AV$374:AV$738,CALENDRIER!$B$6))/2)","v":0},{"$f":"(COUNTIF(CALENDRIER!AW$374:AW$738,CALENDRIER!$A$6))+((COUNTIF(CALENDRIER!AW$374:AW$738,CALENDRIER!$B$6))/2)","v":0},{"$f":"(COUNTIF(CALENDRIER!AX$374:AX$738,CALENDRIER!$A$6))+((COUNTIF(CALENDRIER!AX$374:AX$738,CALENDRIER!$B$6))/2)","v":0},{"$f":"(COUNTIF(CALENDRIER!AY$374:AY$738,CALENDRIER!$A$6))+((COUNTIF(CALENDRIER!AY$374:AY$738,CALENDRIER!$B$6))/2)","v":0},{"$f":"(COUNTIF(CALENDRIER!AZ$374:AZ$738,CALENDRIER!$A$6))+((COUNTIF(CALENDRIER!AZ$374:AZ$738,CALENDRIER!$B$6))/2)","v":0},{"$f":"(COUNTIF(CALENDRIER!BA$374:BA$738,CALENDRIER!$A$6))+((COUNTIF(CALENDRIER!BA$374:BA$738,CALENDRIER!$B$6))/2)","v":0},{"$f":"(COUNTIF(CALENDRIER!BB$374:BB$738,CALENDRIER!$A$6))+((COUNTIF(CALENDRIER!BB$374:BB$738,CALENDRIER!$B$6))/2)","v":0},{"$f":"(COUNTIF(CALENDRIER!BC$374:BC$738,CALENDRIER!$A$6))+((COUNTIF(CALENDRIER!BC$374:BC$738,CALENDRIER!$B$6))/2)","v":0},{"$f":"(COUNTIF(CALENDRIER!BD$374:BD$738,CALENDRIER!$A$6))+((COUNTIF(CALENDRIER!BD$374:BD$738,CALENDRIER!$B$6))/2)","v":0},{"$f":"(COUNTIF(CALENDRIER!BE$374:BE$738,CALENDRIER!$A$6))+((COUNTIF(CALENDRIER!BE$374:BE$738,CALENDRIER!$B$6))/2)","v":0},{"$f":"(COUNTIF(CALENDRIER!BF$374:BF$738,CALENDRIER!$A$6))+((COUNTIF(CALENDRIER!BF$374:BF$738,CALENDRIER!$B$6))/2)","v":0},{"$f":"(COUNTIF(CALENDRIER!BG$374:BG$738,CALENDRIER!$A$6))+((COUNTIF(CALENDRIER!BG$374:BG$738,CALENDRIER!$B$6))/2)","v":0},{"$f":"(COUNTIF(CALENDRIER!BH$374:BH$738,CALENDRIER!$A$6))+((COUNTIF(CALENDRIER!BH$374:BH$738,CALENDRIER!$B$6))/2)","v":0},{"$f":"(COUNTIF(CALENDRIER!BI$374:BI$738,CALENDRIER!$A$6))+((COUNTIF(CALENDRIER!BI$374:BI$738,CALENDRIER!$B$6))/2)","v":0},{"$f":"(COUNTIF(CALENDRIER!BJ$374:BJ$738,CALENDRIER!$A$6))+((COUNTIF(CALENDRIER!BJ$374:BJ$738,CALENDRIER!$B$6))/2)","v":0},{"$f":"(COUNTIF(CALENDRIER!BK$374:BK$738,CALENDRIER!$A$6))+((COUNTIF(CALENDRIER!BK$374:BK$738,CALENDRIER!$B$6))/2)","v":0},{"$f":"(COUNTIF(CALENDRIER!BL$374:BL$738,CALENDRIER!$A$6))+((COUNTIF(CALENDRIER!BL$374:BL$738,CALENDRIER!$B$6))/2)","v":0},{"$f":"(COUNTIF(CALENDRIER!BM$374:BM$738,CALENDRIER!$A$6))+((COUNTIF(CALENDRIER!BM$374:BM$738,CALENDRIER!$B$6))/2)","v":0},{"$f":"(COUNTIF(CALENDRIER!BN$374:BN$738,CALENDRIER!$A$6))+((COUNTIF(CALENDRIER!BN$374:BN$738,CALENDRIER!$B$6))/2)","v":0},{"$f":"(COUNTIF(CALENDRIER!BO$374:BO$738,CALENDRIER!$A$6))+((COUNTIF(CALENDRIER!BO$374:BO$738,CALENDRIER!$B$6))/2)","v":0},{"$f":"(COUNTIF(CALENDRIER!BP$374:BP$738,CALENDRIER!$A$6))+((COUNTIF(CALENDRIER!BP$374:BP$738,CALENDRIER!$B$6))/2)","v":0},{"$f":"(COUNTIF(CALENDRIER!BQ$374:BQ$738,CALENDRIER!$A$6))+((COUNTIF(CALENDRIER!BQ$374:BQ$738,CALENDRIER!$B$6))/2)","v":0},{"$f":"(COUNTIF(CALENDRIER!BR$374:BR$738,CALENDRIER!$A$6))+((COUNTIF(CALENDRIER!BR$374:BR$738,CALENDRIER!$B$6))/2)","v":0},{"$f":"(COUNTIF(CALENDRIER!BS$374:BS$738,CALENDRIER!$A$6))+((COUNTIF(CALENDRIER!BS$374:BS$738,CALENDRIER!$B$6))/2)","v":0},{"$f":"(COUNTIF(CALENDRIER!BT$374:BT$738,CALENDRIER!$A$6))+((COUNTIF(CALENDRIER!BT$374:BT$738,CALENDRIER!$B$6))/2)","v":0},{"$f":"(COUNTIF(CALENDRIER!BU$374:BU$738,CALENDRIER!$A$6))+((COUNTIF(CALENDRIER!BU$374:BU$738,CALENDRIER!$B$6))/2)","v":0},{"$f":"(COUNTIF(CALENDRIER!BV$374:BV$738,CALENDRIER!$A$6))+((COUNTIF(CALENDRIER!BV$374:BV$738,CALENDRIER!$B$6))/2)","v":0},{"$f":"(COUNTIF(CALENDRIER!BW$374:BW$738,CALENDRIER!$A$6))+((COUNTIF(CALENDRIER!BW$374:BW$738,CALENDRIER!$B$6))/2)","v":0},{"$f":"(COUNTIF(CALENDRIER!BX$374:BX$738,CALENDRIER!$A$6))+((COUNTIF(CALENDRIER!BX$374:BX$738,CALENDRIER!$B$6))/2)","v":0},{"$f":"(COUNTIF(CALENDRIER!BY$374:BY$738,CALENDRIER!$A$6))+((COUNTIF(CALENDRIER!BY$374:BY$738,CALENDRIER!$B$6))/2)","v":0},{"$f":"(COUNTIF(CALENDRIER!BZ$374:BZ$738,CALENDRIER!$A$6))+((COUNTIF(CALENDRIER!BZ$374:BZ$738,CALENDRIER!$B$6))/2)","v":0},{"$f":"(COUNTIF(CALENDRIER!CA$374:CA$738,CALENDRIER!$A$6))+((COUNTIF(CALENDRIER!CA$374:CA$738,CALENDRIER!$B$6))/2)","v":0},{"$f":"(COUNTIF(CALENDRIER!CB$374:CB$738,CALENDRIER!$A$6))+((COUNTIF(CALENDRIER!CB$374:CB$738,CALENDRIER!$B$6))/2)","v":0},{"$f":"(COUNTIF(CALENDRIER!CC$374:CC$738,CALENDRIER!$A$6))+((COUNTIF(CALENDRIER!CC$374:CC$738,CALENDRIER!$B$6))/2)","v":0},{"$f":"(COUNTIF(CALENDRIER!CD$374:CD$738,CALENDRIER!$A$6))+((COUNTIF(CALENDRIER!CD$374:CD$738,CALENDRIER!$B$6))/2)","v":0},{"$f":"(COUNTIF(CALENDRIER!CE$374:CE$738,CALENDRIER!$A$6))+((COUNTIF(CALENDRIER!CE$374:CE$738,CALENDRIER!$B$6))/2)","v":0},{"$f":"(COUNTIF(CALENDRIER!CF$374:CF$738,CALENDRIER!$A$6))+((COUNTIF(CALENDRIER!CF$374:CF$738,CALENDRIER!$B$6))/2)","v":0},{"$f":"(COUNTIF(CALENDRIER!CG$374:CG$738,CALENDRIER!$A$6))+((COUNTIF(CALENDRIER!CG$374:CG$738,CALENDRIER!$B$6))/2)","v":0},{"$f":"(COUNTIF(CALENDRIER!CH$374:CH$738,CALENDRIER!$A$6))+((COUNTIF(CALENDRIER!CH$374:CH$738,CALENDRIER!$B$6))/2)","v":0},{"$f":"(COUNTIF(CALENDRIER!CI$374:CI$738,CALENDRIER!$A$6))+((COUNTIF(CALENDRIER!CI$374:CI$738,CALENDRIER!$B$6))/2)","v":0},{"$f":"(COUNTIF(CALENDRIER!CJ$374:CJ$738,CALENDRIER!$A$6))+((COUNTIF(CALENDRIER!CJ$374:CJ$738,CALENDRIER!$B$6))/2)","v":0},{"$f":"(COUNTIF(CALENDRIER!CK$374:CK$738,CALENDRIER!$A$6))+((COUNTIF(CALENDRIER!CK$374:CK$738,CALENDRIER!$B$6))/2)","v":0},{"$f":"(COUNTIF(CALENDRIER!CL$374:CL$738,CALENDRIER!$A$6))+((COUNTIF(CALENDRIER!CL$374:CL$738,CALENDRIER!$B$6))/2)","v":0},{"$f":"(COUNTIF(CALENDRIER!CM$374:CM$738,CALENDRIER!$A$6))+((COUNTIF(CALENDRIER!CM$374:CM$738,CALENDRIER!$B$6))/2)","v":0},{"$f":"(COUNTIF(CALENDRIER!CN$374:CN$738,CALENDRIER!$A$6))+((COUNTIF(CALENDRIER!CN$374:CN$738,CALENDRIER!$B$6))/2)","v":0},{"$f":"(COUNTIF(CALENDRIER!CO$374:CO$738,CALENDRIER!$A$6))+((COUNTIF(CALENDRIER!CO$374:CO$738,CALENDRIER!$B$6))/2)","v":0},{"$f":"(COUNTIF(CALENDRIER!CP$374:CP$738,CALENDRIER!$A$6))+((COUNTIF(CALENDRIER!CP$374:CP$738,CALENDRIER!$B$6))/2)","v":0},{"$f":"(COUNTIF(CALENDRIER!CQ$374:CQ$738,CALENDRIER!$A$6))+((COUNTIF(CALENDRIER!CQ$374:CQ$738,CALENDRIER!$B$6))/2)","v":0},{"$f":"(COUNTIF(CALENDRIER!CR$374:CR$738,CALENDRIER!$A$6))+((COUNTIF(CALENDRIER!CR$374:CR$738,CALENDRIER!$B$6))/2)","v":0},{"$f":"(COUNTIF(CALENDRIER!CS$374:CS$738,CALENDRIER!$A$6))+((COUNTIF(CALENDRIER!CS$374:CS$738,CALENDRIER!$B$6))/2)","v":0},{"$f":"(COUNTIF(CALENDRIER!CT$374:CT$738,CALENDRIER!$A$6))+((COUNTIF(CALENDRIER!CT$374:CT$738,CALENDRIER!$B$6))/2)","v":0},{"$f":"(COUNTIF(CALENDRIER!CU$374:CU$738,CALENDRIER!$A$6))+((COUNTIF(CALENDRIER!CU$374:CU$738,CALENDRIER!$B$6))/2)","v":0},{"$f":"(COUNTIF(CALENDRIER!CV$374:CV$738,CALENDRIER!$A$6))+((COUNTIF(CALENDRIER!CV$374:CV$738,CALENDRIER!$B$6))/2)","v":0},{"$f":"(COUNTIF(CALENDRIER!CW$374:CW$738,CALENDRIER!$A$6))+((COUNTIF(CALENDRIER!CW$374:CW$738,CALENDRIER!$B$6))/2)","v":0},{"$f":"(COUNTIF(CALENDRIER!CX$374:CX$738,CALENDRIER!$A$6))+((COUNTIF(CALENDRIER!CX$374:CX$738,CALENDRIER!$B$6))/2)","v":0},{"$f":"(COUNTIF(CALENDRIER!CY$374:CY$738,CALENDRIER!$A$6))+((COUNTIF(CALENDRIER!CY$374:CY$738,CALENDRIER!$B$6))/2)","v":0},{"$f":"(COUNTIF(CALENDRIER!CZ$374:CZ$738,CALENDRIER!$A$6))+((COUNTIF(CALENDRIER!CZ$374:CZ$738,CALENDRIER!$B$6))/2)","v":0},{"$f":"(COUNTIF(CALENDRIER!DA$374:DA$738,CALENDRIER!$A$6))+((COUNTIF(CALENDRIER!DA$374:DA$738,CALENDRIER!$B$6))/2)","v":0},{"$f":"(COUNTIF(CALENDRIER!DB$374:DB$738,CALENDRIER!$A$6))+((COUNTIF(CALENDRIER!DB$374:DB$738,CALENDRIER!$B$6))/2)","v":0},{"$f":"(COUNTIF(CALENDRIER!DC$374:DC$738,CALENDRIER!$A$6))+((COUNTIF(CALENDRIER!DC$374:DC$738,CALENDRIER!$B$6))/2)","v":0},{"$f":"(COUNTIF(CALENDRIER!DD$374:DD$738,CALENDRIER!$A$6))+((COUNTIF(CALENDRIER!DD$374:DD$738,CALENDRIER!$B$6))/2)","v":0},{"$f":"(COUNTIF(CALENDRIER!DE$374:DE$738,CALENDRIER!$A$6))+((COUNTIF(CALENDRIER!DE$374:DE$738,CALENDRIER!$B$6))/2)","v":0},{"$f":"(COUNTIF(CALENDRIER!DF$374:DF$738,CALENDRIER!$A$6))+((COUNTIF(CALENDRIER!DF$374:DF$738,CALENDRIER!$B$6))/2)","v":0},{"$f":"(COUNTIF(CALENDRIER!DG$374:DG$738,CALENDRIER!$A$6))+((COUNTIF(CALENDRIER!DG$374:DG$738,CALENDRIER!$B$6))/2)","v":0},{"$f":"(COUNTIF(CALENDRIER!DH$374:DH$738,CALENDRIER!$A$6))+((COUNTIF(CALENDRIER!DH$374:DH$738,CALENDRIER!$B$6))/2)","v":0},{"$f":"(COUNTIF(CALENDRIER!DI$374:DI$738,CALENDRIER!$A$6))+((COUNTIF(CALENDRIER!DI$374:DI$738,CALENDRIER!$B$6))/2)","v":0},{"$f":"(COUNTIF(CALENDRIER!DJ$374:DJ$738,CALENDRIER!$A$6))+((COUNTIF(CALENDRIER!DJ$374:DJ$738,CALENDRIER!$B$6))/2)","v":0},{"$f":"(COUNTIF(CALENDRIER!DK$374:DK$738,CALENDRIER!$A$6))+((COUNTIF(CALENDRIER!DK$374:DK$738,CALENDRIER!$B$6))/2)","v":0},{"$f":"(COUNTIF(CALENDRIER!DL$374:DL$738,CALENDRIER!$A$6))+((COUNTIF(CALENDRIER!DL$374:DL$738,CALENDRIER!$B$6))/2)","v":0},{"$f":"(COUNTIF(CALENDRIER!DM$374:DM$738,CALENDRIER!$A$6))+((COUNTIF(CALENDRIER!DM$374:DM$738,CALENDRIER!$B$6))/2)","v":0},{"$f":"(COUNTIF(CALENDRIER!DN$374:DN$738,CALENDRIER!$A$6))+((COUNTIF(CALENDRIER!DN$374:DN$738,CALENDRIER!$B$6))/2)","v":0},{"$f":"(COUNTIF(CALENDRIER!DO$374:DO$738,CALENDRIER!$A$6))+((COUNTIF(CALENDRIER!DO$374:DO$738,CALENDRIER!$B$6))/2)","v":0},{"$f":"(COUNTIF(CALENDRIER!DP$374:DP$738,CALENDRIER!$A$6))+((COUNTIF(CALENDRIER!DP$374:DP$738,CALENDRIER!$B$6))/2)","v":0},{"$f":"(COUNTIF(CALENDRIER!DQ$374:DQ$738,CALENDRIER!$A$6))+((COUNTIF(CALENDRIER!DQ$374:DQ$738,CALENDRIER!$B$6))/2)","v":0},{"$f":"(COUNTIF(CALENDRIER!DR$374:DR$738,CALENDRIER!$A$6))+((COUNTIF(CALENDRIER!DR$374:DR$738,CALENDRIER!$B$6))/2)","v":0},{"$f":"(COUNTIF(CALENDRIER!DS$374:DS$738,CALENDRIER!$A$6))+((COUNTIF(CALENDRIER!DS$374:DS$738,CALENDRIER!$B$6))/2)","v":0},{"$f":"(COUNTIF(CALENDRIER!DT$374:DT$738,CALENDRIER!$A$6))+((COUNTIF(CALENDRIER!DT$374:DT$738,CALENDRIER!$B$6))/2)","v":0},{"$f":"(COUNTIF(CALENDRIER!DU$374:DU$738,CALENDRIER!$A$6))+((COUNTIF(CALENDRIER!DU$374:DU$738,CALENDRIER!$B$6))/2)","v":0},{"$f":"(COUNTIF(CALENDRIER!DV$374:DV$738,CALENDRIER!$A$6))+((COUNTIF(CALENDRIER!DV$374:DV$738,CALENDRIER!$B$6))/2)","v":0},{"$f":"(COUNTIF(CALENDRIER!DW$374:DW$738,CALENDRIER!$A$6))+((COUNTIF(CALENDRIER!DW$374:DW$738,CALENDRIER!$B$6))/2)","v":0},{"$f":"(COUNTIF(CALENDRIER!DX$374:DX$738,CALENDRIER!$A$6))+((COUNTIF(CALENDRIER!DX$374:DX$738,CALENDRIER!$B$6))/2)","v":0},{"$f":"(COUNTIF(CALENDRIER!DY$374:DY$738,CALENDRIER!$A$6))+((COUNTIF(CALENDRIER!DY$374:DY$738,CALENDRIER!$B$6))/2)","v":0},{"$f":"(COUNTIF(CALENDRIER!DZ$374:DZ$738,CALENDRIER!$A$6))+((COUNTIF(CALENDRIER!DZ$374:DZ$738,CALENDRIER!$B$6))/2)","v":0},{"$f":"(COUNTIF(CALENDRIER!EA$374:EA$738,CALENDRIER!$A$6))+((COUNTIF(CALENDRIER!EA$374:EA$738,CALENDRIER!$B$6))/2)","v":0},{"$f":"(COUNTIF(CALENDRIER!EB$374:EB$738,CALENDRIER!$A$6))+((COUNTIF(CALENDRIER!EB$374:EB$738,CALENDRIER!$B$6))/2)","v":0},{"$f":"(COUNTIF(CALENDRIER!EC$374:EC$738,CALENDRIER!$A$6))+((COUNTIF(CALENDRIER!EC$374:EC$738,CALENDRIER!$B$6))/2)","v":0},{"$f":"(COUNTIF(CALENDRIER!ED$374:ED$738,CALENDRIER!$A$6))+((COUNTIF(CALENDRIER!ED$374:ED$738,CALENDRIER!$B$6))/2)","v":0},{"$f":"(COUNTIF(CALENDRIER!EE$374:EE$738,CALENDRIER!$A$6))+((COUNTIF(CALENDRIER!EE$374:EE$738,CALENDRIER!$B$6))/2)","v":0},{"$f":"(COUNTIF(CALENDRIER!EF$374:EF$738,CALENDRIER!$A$6))+((COUNTIF(CALENDRIER!EF$374:EF$738,CALENDRIER!$B$6))/2)","v":0},{"$f":"(COUNTIF(CALENDRIER!EG$374:EG$738,CALENDRIER!$A$6))+((COUNTIF(CALENDRIER!EG$374:EG$738,CALENDRIER!$B$6))/2)","v":0},{"$f":"(COUNTIF(CALENDRIER!EH$374:EH$738,CALENDRIER!$A$6))+((COUNTIF(CALENDRIER!EH$374:EH$738,CALENDRIER!$B$6))/2)","v":0},{"$f":"(COUNTIF(CALENDRIER!EI$374:EI$738,CALENDRIER!$A$6))+((COUNTIF(CALENDRIER!EI$374:EI$738,CALENDRIER!$B$6))/2)","v":0},{"$f":"(COUNTIF(CALENDRIER!EJ$374:EJ$738,CALENDRIER!$A$6))+((COUNTIF(CALENDRIER!EJ$374:EJ$738,CALENDRIER!$B$6))/2)","v":0},{"$f":"(COUNTIF(CALENDRIER!EK$374:EK$738,CALENDRIER!$A$6))+((COUNTIF(CALENDRIER!EK$374:EK$738,CALENDRIER!$B$6))/2)","v":0},{"$f":"(COUNTIF(CALENDRIER!EL$374:EL$738,CALENDRIER!$A$6))+((COUNTIF(CALENDRIER!EL$374:EL$738,CALENDRIER!$B$6))/2)","v":0},{"$f":"(COUNTIF(CALENDRIER!EM$374:EM$738,CALENDRIER!$A$6))+((COUNTIF(CALENDRIER!EM$374:EM$738,CALENDRIER!$B$6))/2)","v":0},{"$f":"(COUNTIF(CALENDRIER!EN$374:EN$738,CALENDRIER!$A$6))+((COUNTIF(CALENDRIER!EN$374:EN$738,CALENDRIER!$B$6))/2)","v":0},{"$f":"(COUNTIF(CALENDRIER!EO$374:EO$738,CALENDRIER!$A$6))+((COUNTIF(CALENDRIER!EO$374:EO$738,CALENDRIER!$B$6))/2)","v":0},{"$f":"(COUNTIF(CALENDRIER!EP$374:EP$738,CALENDRIER!$A$6))+((COUNTIF(CALENDRIER!EP$374:EP$738,CALENDRIER!$B$6))/2)","v":0},{"$f":"(COUNTIF(CALENDRIER!EQ$374:EQ$738,CALENDRIER!$A$6))+((COUNTIF(CALENDRIER!EQ$374:EQ$738,CALENDRIER!$B$6))/2)","v":0},{"$f":"(COUNTIF(CALENDRIER!ER$374:ER$738,CALENDRIER!$A$6))+((COUNTIF(CALENDRIER!ER$374:ER$738,CALENDRIER!$B$6))/2)","v":0},{"$f":"(COUNTIF(CALENDRIER!ES$374:ES$738,CALENDRIER!$A$6))+((COUNTIF(CALENDRIER!ES$374:ES$738,CALENDRIER!$B$6))/2)","v":0},{"$f":"(COUNTIF(CALENDRIER!ET$374:ET$738,CALENDRIER!$A$6))+((COUNTIF(CALENDRIER!ET$374:ET$738,CALENDRIER!$B$6))/2)","v":0},{"$f":"(COUNTIF(CALENDRIER!EU$374:EU$738,CALENDRIER!$A$6))+((COUNTIF(CALENDRIER!EU$374:EU$738,CALENDRIER!$B$6))/2)","v":0},{"$f":"(COUNTIF(CALENDRIER!EV$374:EV$738,CALENDRIER!$A$6))+((COUNTIF(CALENDRIER!EV$374:EV$738,CALENDRIER!$B$6))/2)","v":0},{"$f":"(COUNTIF(CALENDRIER!EW$374:EW$738,CALENDRIER!$A$6))+((COUNTIF(CALENDRIER!EW$374:EW$738,CALENDRIER!$B$6))/2)","v":0},{"$f":"(COUNTIF(CALENDRIER!EX$374:EX$738,CALENDRIER!$A$6))+((COUNTIF(CALENDRIER!EX$374:EX$738,CALENDRIER!$B$6))/2)","v":0},{"$f":"(COUNTIF(CALENDRIER!EY$374:EY$738,CALENDRIER!$A$6))+((COUNTIF(CALENDRIER!EY$374:EY$738,CALENDRIER!$B$6))/2)","v":0},{"$f":"(COUNTIF(CALENDRIER!EZ$374:EZ$738,CALENDRIER!$A$6))+((COUNTIF(CALENDRIER!EZ$374:EZ$738,CALENDRIER!$B$6))/2)","v":0},{"$f":"(COUNTIF(CALENDRIER!FA$374:FA$738,CALENDRIER!$A$6))+((COUNTIF(CALENDRIER!FA$374:FA$738,CALENDRIER!$B$6))/2)","v":0},{"$f":"(COUNTIF(CALENDRIER!FB$374:FB$738,CALENDRIER!$A$6))+((COUNTIF(CALENDRIER!FB$374:FB$738,CALENDRIER!$B$6))/2)","v":0},{"$f":"(COUNTIF(CALENDRIER!FC$374:FC$738,CALENDRIER!$A$6))+((COUNTIF(CALENDRIER!FC$374:FC$738,CALENDRIER!$B$6))/2)","v":0},{"$f":"(COUNTIF(CALENDRIER!FD$374:FD$738,CALENDRIER!$A$6))+((COUNTIF(CALENDRIER!FD$374:FD$738,CALENDRIER!$B$6))/2)","v":0},{"$f":"(COUNTIF(CALENDRIER!FE$374:FE$738,CALENDRIER!$A$6))+((COUNTIF(CALENDRIER!FE$374:FE$738,CALENDRIER!$B$6))/2)","v":0},{"$f":"(COUNTIF(CALENDRIER!FF$374:FF$738,CALENDRIER!$A$6))+((COUNTIF(CALENDRIER!FF$374:FF$738,CALENDRIER!$B$6))/2)","v":0},{"$f":"(COUNTIF(CALENDRIER!FG$374:FG$738,CALENDRIER!$A$6))+((COUNTIF(CALENDRIER!FG$374:FG$738,CALENDRIER!$B$6))/2)","v":0},{"$f":"(COUNTIF(CALENDRIER!FH$374:FH$738,CALENDRIER!$A$6))+((COUNTIF(CALENDRIER!FH$374:FH$738,CALENDRIER!$B$6))/2)","v":0},{"$f":"(COUNTIF(CALENDRIER!FI$374:FI$738,CALENDRIER!$A$6))+((COUNTIF(CALENDRIER!FI$374:FI$738,CALENDRIER!$B$6))/2)","v":0},{"$f":"(COUNTIF(CALENDRIER!FJ$374:FJ$738,CALENDRIER!$A$6))+((COUNTIF(CALENDRIER!FJ$374:FJ$738,CALENDRIER!$B$6))/2)","v":0},{"$f":"(COUNTIF(CALENDRIER!FK$374:FK$738,CALENDRIER!$A$6))+((COUNTIF(CALENDRIER!FK$374:FK$738,CALENDRIER!$B$6))/2)","v":0},{"$f":"(COUNTIF(CALENDRIER!FL$374:FL$738,CALENDRIER!$A$6))+((COUNTIF(CALENDRIER!FL$374:FL$738,CALENDRIER!$B$6))/2)","v":0},{"$f":"(COUNTIF(CALENDRIER!FM$374:FM$738,CALENDRIER!$A$6))+((COUNTIF(CALENDRIER!FM$374:FM$738,CALENDRIER!$B$6))/2)","v":0},{"$f":"(COUNTIF(CALENDRIER!FN$374:FN$738,CALENDRIER!$A$6))+((COUNTIF(CALENDRIER!FN$374:FN$738,CALENDRIER!$B$6))/2)","v":0},{"$f":"(COUNTIF(CALENDRIER!FO$374:FO$738,CALENDRIER!$A$6))+((COUNTIF(CALENDRIER!FO$374:FO$738,CALENDRIER!$B$6))/2)","v":0},{"$f":"(COUNTIF(CALENDRIER!FP$374:FP$738,CALENDRIER!$A$6))+((COUNTIF(CALENDRIER!FP$374:FP$738,CALENDRIER!$B$6))/2)","v":0},{"$f":"(COUNTIF(CALENDRIER!FQ$374:FQ$738,CALENDRIER!$A$6))+((COUNTIF(CALENDRIER!FQ$374:FQ$738,CALENDRIER!$B$6))/2)","v":0},{"$f":"(COUNTIF(CALENDRIER!FR$374:FR$738,CALENDRIER!$A$6))+((COUNTIF(CALENDRIER!FR$374:FR$738,CALENDRIER!$B$6))/2)","v":0},{"$f":"(COUNTIF(CALENDRIER!FS$374:FS$738,CALENDRIER!$A$6))+((COUNTIF(CALENDRIER!FS$374:FS$738,CALENDRIER!$B$6))/2)","v":0},{"$f":"(COUNTIF(CALENDRIER!FT$374:FT$738,CALENDRIER!$A$6))+((COUNTIF(CALENDRIER!FT$374:FT$738,CALENDRIER!$B$6))/2)","v":0},{"$f":"(COUNTIF(CALENDRIER!FU$374:FU$738,CALENDRIER!$A$6))+((COUNTIF(CALENDRIER!FU$374:FU$738,CALENDRIER!$B$6))/2)","v":0},{"$f":"(COUNTIF(CALENDRIER!FV$374:FV$738,CALENDRIER!$A$6))+((COUNTIF(CALENDRIER!FV$374:FV$738,CALENDRIER!$B$6))/2)","v":0},{"$f":"(COUNTIF(CALENDRIER!FW$374:FW$738,CALENDRIER!$A$6))+((COUNTIF(CALENDRIER!FW$374:FW$738,CALENDRIER!$B$6))/2)","v":0},{"$f":"(COUNTIF(CALENDRIER!FX$374:FX$738,CALENDRIER!$A$6))+((COUNTIF(CALENDRIER!FX$374:FX$738,CALENDRIER!$B$6))/2)","v":0},{"$f":"(COUNTIF(CALENDRIER!FY$374:FY$738,CALENDRIER!$A$6))+((COUNTIF(CALENDRIER!FY$374:FY$738,CALENDRIER!$B$6))/2)","v":0},{"$f":"(COUNTIF(CALENDRIER!FZ$374:FZ$738,CALENDRIER!$A$6))+((COUNTIF(CALENDRIER!FZ$374:FZ$738,CALENDRIER!$B$6))/2)","v":0},{"$f":"(COUNTIF(CALENDRIER!GA$374:GA$738,CALENDRIER!$A$6))+((COUNTIF(CALENDRIER!GA$374:GA$738,CALENDRIER!$B$6))/2)","v":0},{"$f":"(COUNTIF(CALENDRIER!GB$374:GB$738,CALENDRIER!$A$6))+((COUNTIF(CALENDRIER!GB$374:GB$738,CALENDRIER!$B$6))/2)","v":0},{"$f":"(COUNTIF(CALENDRIER!GC$374:GC$738,CALENDRIER!$A$6))+((COUNTIF(CALENDRIER!GC$374:GC$738,CALENDRIER!$B$6))/2)","v":0},{"$f":"(COUNTIF(CALENDRIER!GD$374:GD$738,CALENDRIER!$A$6))+((COUNTIF(CALENDRIER!GD$374:GD$738,CALENDRIER!$B$6))/2)","v":0},{"$f":"(COUNTIF(CALENDRIER!GE$374:GE$738,CALENDRIER!$A$6))+((COUNTIF(CALENDRIER!GE$374:GE$738,CALENDRIER!$B$6))/2)","v":0},{"$f":"(COUNTIF(CALENDRIER!GF$374:GF$738,CALENDRIER!$A$6))+((COUNTIF(CALENDRIER!GF$374:GF$738,CALENDRIER!$B$6))/2)","v":0},{"$f":"(COUNTIF(CALENDRIER!GG$374:GG$738,CALENDRIER!$A$6))+((COUNTIF(CALENDRIER!GG$374:GG$738,CALENDRIER!$B$6))/2)","v":0},{"$f":"(COUNTIF(CALENDRIER!GH$374:GH$738,CALENDRIER!$A$6))+((COUNTIF(CALENDRIER!GH$374:GH$738,CALENDRIER!$B$6))/2)","v":0},{"$f":"(COUNTIF(CALENDRIER!GI$374:GI$738,CALENDRIER!$A$6))+((COUNTIF(CALENDRIER!GI$374:GI$738,CALENDRIER!$B$6))/2)","v":0},{"$f":"(COUNTIF(CALENDRIER!GJ$374:GJ$738,CALENDRIER!$A$6))+((COUNTIF(CALENDRIER!GJ$374:GJ$738,CALENDRIER!$B$6))/2)","v":0},{"$f":"(COUNTIF(CALENDRIER!GK$374:GK$738,CALENDRIER!$A$6))+((COUNTIF(CALENDRIER!GK$374:GK$738,CALENDRIER!$B$6))/2)","v":0},{"$f":"(COUNTIF(CALENDRIER!GL$374:GL$738,CALENDRIER!$A$6))+((COUNTIF(CALENDRIER!GL$374:GL$738,CALENDRIER!$B$6))/2)","v":0},{"$f":"(COUNTIF(CALENDRIER!GM$374:GM$738,CALENDRIER!$A$6))+((COUNTIF(CALENDRIER!GM$374:GM$738,CALENDRIER!$B$6))/2)","v":0},{"$f":"(COUNTIF(CALENDRIER!GN$374:GN$738,CALENDRIER!$A$6))+((COUNTIF(CALENDRIER!GN$374:GN$738,CALENDRIER!$B$6))/2)","v":0},{"$f":"(COUNTIF(CALENDRIER!GO$374:GO$738,CALENDRIER!$A$6))+((COUNTIF(CALENDRIER!GO$374:GO$738,CALENDRIER!$B$6))/2)","v":0},{"$f":"(COUNTIF(CALENDRIER!GP$374:GP$738,CALENDRIER!$A$6))+((COUNTIF(CALENDRIER!GP$374:GP$738,CALENDRIER!$B$6))/2)","v":0},{"$f":"(COUNTIF(CALENDRIER!GQ$374:GQ$738,CALENDRIER!$A$6))+((COUNTIF(CALENDRIER!GQ$374:GQ$738,CALENDRIER!$B$6))/2)","v":0},{"$f":"(COUNTIF(CALENDRIER!GR$374:GR$738,CALENDRIER!$A$6))+((COUNTIF(CALENDRIER!GR$374:GR$738,CALENDRIER!$B$6))/2)","v":0}]
[null,{"$f":"\"Solde \"&CALENDRIER!$A$6&\" \"&A254&\" : \"","v":"Solde … 2016-2017 : "},{"$f":"C255-C256","v":0},{"$f":"D255-D256","v":0},0,0,0,0,0,0,0,0,0,0,0,0,0,0,0,0,0,0,0,0,0,0,0,0,0,0,0,0,0,0,0,0,0,0,0,0,0,0,0,0,0,0,0,0,0,0,0,0,0,0,0,0,0,0,0,0,0,0,0,0,0,0,0,{"$f":"BP255-BP256","v":0},0,0,0,0,0,0,0,0,0,0,0,0,0,0,0,0,0,0,0,0,0,0,0,0,0,0,0,0,0,0,0,0,0,0,0,0,0,0,0,0,0,0,0,0,0,0,0,0,0,0,0,0,0,0,0,0,0,0,0,0,0,0,0,{"$f":"EB255-EB256","v":0},0,0,0,0,0,0,0,0,0,0,0,0,0,0,0,0,0,0,0,0,0,0,0,0,0,0,0,0,0,0,0,0,0,0,0,0,0,0,0,0,0,0,0,0,0,0,0,0,0,0,0,0,0,0,0,0,0,0,0,0,0,0,0,{"$f":"GN255-GN256","v":0},0,0,0,0]
[]
["2017-2018",{"$f":"CALENDRIER!$A$6","v":"…"}]
[null,"SOLDE DEPART"]
[null,{"$f":"CALENDRIER!$A$6&\" PRIS\"","v":"… PRIS"},{"$f":"(COUNTIF(CALENDRIER!C$739:C$1103,CALENDRIER!$A$6))+((COUNTIF(CALENDRIER!C$739:C$1103,CALENDRIER!$B$6))/2)","v":0},{"$f":"(COUNTIF(CALENDRIER!D$739:D$1103,CALENDRIER!$A$6))+((COUNTIF(CALENDRIER!D$739:D$1103,CALENDRIER!$B$6))/2)","v":0},{"$f":"(COUNTIF(CALENDRIER!E$739:E$1103,CALENDRIER!$A$6))+((COUNTIF(CALENDRIER!E$739:E$1103,CALENDRIER!$B$6))/2)","v":0},{"$f":"(COUNTIF(CALENDRIER!F$739:F$1103,CALENDRIER!$A$6))+((COUNTIF(CALENDRIER!F$739:F$1103,CALENDRIER!$B$6))/2)","v":0},{"$f":"(COUNTIF(CALENDRIER!G$739:G$1103,CALENDRIER!$A$6))+((COUNTIF(CALENDRIER!G$739:G$1103,CALENDRIER!$B$6))/2)","v":0},{"$f":"(COUNTIF(CALENDRIER!H$739:H$1103,CALENDRIER!$A$6))+((COUNTIF(CALENDRIER!H$739:H$1103,CALENDRIER!$B$6))/2)","v":0},{"$f":"(COUNTIF(CALENDRIER!I$739:I$1103,CALENDRIER!$A$6))+((COUNTIF(CALENDRIER!I$739:I$1103,CALENDRIER!$B$6))/2)","v":0},{"$f":"(COUNTIF(CALENDRIER!J$739:J$1103,CALENDRIER!$A$6))+((COUNTIF(CALENDRIER!J$739:J$1103,CALENDRIER!$B$6))/2)","v":0},{"$f":"(COUNTIF(CALENDRIER!K$739:K$1103,CALENDRIER!$A$6))+((COUNTIF(CALENDRIER!K$739:K$1103,CALENDRIER!$B$6))/2)","v":0},{"$f":"(COUNTIF(CALENDRIER!L$739:L$1103,CALENDRIER!$A$6))+((COUNTIF(CALENDRIER!L$739:L$1103,CALENDRIER!$B$6))/2)","v":0},{"$f":"(COUNTIF(CALENDRIER!M$739:M$1103,CALENDRIER!$A$6))+((COUNTIF(CALENDRIER!M$739:M$1103,CALENDRIER!$B$6))/2)","v":0},{"$f":"(COUNTIF(CALENDRIER!N$739:N$1103,CALENDRIER!$A$6))+((COUNTIF(CALENDRIER!N$739:N$1103,CALENDRIER!$B$6))/2)","v":0},{"$f":"(COUNTIF(CALENDRIER!O$739:O$1103,CALENDRIER!$A$6))+((COUNTIF(CALENDRIER!O$739:O$1103,CALENDRIER!$B$6))/2)","v":0},{"$f":"(COUNTIF(CALENDRIER!P$739:P$1103,CALENDRIER!$A$6))+((COUNTIF(CALENDRIER!P$739:P$1103,CALENDRIER!$B$6))/2)","v":0},{"$f":"(COUNTIF(CALENDRIER!Q$739:Q$1103,CALENDRIER!$A$6))+((COUNTIF(CALENDRIER!Q$739:Q$1103,CALENDRIER!$B$6))/2)","v":0},{"$f":"(COUNTIF(CALENDRIER!R$739:R$1103,CALENDRIER!$A$6))+((COUNTIF(CALENDRIER!R$739:R$1103,CALENDRIER!$B$6))/2)","v":0},{"$f":"(COUNTIF(CALENDRIER!S$739:S$1103,CALENDRIER!$A$6))+((COUNTIF(CALENDRIER!S$739:S$1103,CALENDRIER!$B$6))/2)","v":0},{"$f":"(COUNTIF(CALENDRIER!T$739:T$1103,CALENDRIER!$A$6))+((COUNTIF(CALENDRIER!T$739:T$1103,CALENDRIER!$B$6))/2)","v":0},{"$f":"(COUNTIF(CALENDRIER!U$739:U$1103,CALENDRIER!$A$6))+((COUNTIF(CALENDRIER!U$739:U$1103,CALENDRIER!$B$6))/2)","v":0},{"$f":"(COUNTIF(CALENDRIER!V$739:V$1103,CALENDRIER!$A$6))+((COUNTIF(CALENDRIER!V$739:V$1103,CALENDRIER!$B$6))/2)","v":0},{"$f":"(COUNTIF(CALENDRIER!W$739:W$1103,CALENDRIER!$A$6))+((COUNTIF(CALENDRIER!W$739:W$1103,CALENDRIER!$B$6))/2)","v":0},{"$f":"(COUNTIF(CALENDRIER!X$739:X$1103,CALENDRIER!$A$6))+((COUNTIF(CALENDRIER!X$739:X$1103,CALENDRIER!$B$6))/2)","v":0},{"$f":"(COUNTIF(CALENDRIER!Y$739:Y$1103,CALENDRIER!$A$6))+((COUNTIF(CALENDRIER!Y$739:Y$1103,CALENDRIER!$B$6))/2)","v":0},{"$f":"(COUNTIF(CALENDRIER!Z$739:Z$1103,CALENDRIER!$A$6))+((COUNTIF(CALENDRIER!Z$739:Z$1103,CALENDRIER!$B$6))/2)","v":0},{"$f":"(COUNTIF(CALENDRIER!AA$739:AA$1103,CALENDRIER!$A$6))+((COUNTIF(CALENDRIER!AA$739:AA$1103,CALENDRIER!$B$6))/2)","v":0},{"$f":"(COUNTIF(CALENDRIER!AB$739:AB$1103,CALENDRIER!$A$6))+((COUNTIF(CALENDRIER!AB$739:AB$1103,CALENDRIER!$B$6))/2)","v":0},{"$f":"(COUNTIF(CALENDRIER!AC$739:AC$1103,CALENDRIER!$A$6))+((COUNTIF(CALENDRIER!AC$739:AC$1103,CALENDRIER!$B$6))/2)","v":0},{"$f":"(COUNTIF(CALENDRIER!AD$739:AD$1103,CALENDRIER!$A$6))+((COUNTIF(CALENDRIER!AD$739:AD$1103,CALENDRIER!$B$6))/2)","v":0},{"$f":"(COUNTIF(CALENDRIER!AE$739:AE$1103,CALENDRIER!$A$6))+((COUNTIF(CALENDRIER!AE$739:AE$1103,CALENDRIER!$B$6))/2)","v":0},{"$f":"(COUNTIF(CALENDRIER!AF$739:AF$1103,CALENDRIER!$A$6))+((COUNTIF(CALENDRIER!AF$739:AF$1103,CALENDRIER!$B$6))/2)","v":0},{"$f":"(COUNTIF(CALENDRIER!AG$739:AG$1103,CALENDRIER!$A$6))+((COUNTIF(CALENDRIER!AG$739:AG$1103,CALENDRIER!$B$6))/2)","v":0},{"$f":"(COUNTIF(CALENDRIER!AH$739:AH$1103,CALENDRIER!$A$6))+((COUNTIF(CALENDRIER!AH$739:AH$1103,CALENDRIER!$B$6))/2)","v":0},{"$f":"(COUNTIF(CALENDRIER!AI$739:AI$1103,CALENDRIER!$A$6))+((COUNTIF(CALENDRIER!AI$739:AI$1103,CALENDRIER!$B$6))/2)","v":0},{"$f":"(COUNTIF(CALENDRIER!AJ$739:AJ$1103,CALENDRIER!$A$6))+((COUNTIF(CALENDRIER!AJ$739:AJ$1103,CALENDRIER!$B$6))/2)","v":0},{"$f":"(COUNTIF(CALENDRIER!AK$739:AK$1103,CALENDRIER!$A$6))+((COUNTIF(CALENDRIER!AK$739:AK$1103,CALENDRIER!$B$6))/2)","v":0},{"$f":"(COUNTIF(CALENDRIER!AL$739:AL$1103,CALENDRIER!$A$6))+((COUNTIF(CALENDRIER!AL$739:AL$1103,CALENDRIER!$B$6))/2)","v":0},{"$f":"(COUNTIF(CALENDRIER!AM$739:AM$1103,CALENDRIER!$A$6))+((COUNTIF(CALENDRIER!AM$739:AM$1103,CALENDRIER!$B$6))/2)","v":0},{"$f":"(COUNTIF(CALENDRIER!AN$739:AN$1103,CALENDRIER!$A$6))+((COUNTIF(CALENDRIER!AN$739:AN$1103,CALENDRIER!$B$6))/2)","v":0},{"$f":"(COUNTIF(CALENDRIER!AO$739:AO$1103,CALENDRIER!$A$6))+((COUNTIF(CALENDRIER!AO$739:AO$1103,CALENDRIER!$B$6))/2)","v":0},{"$f":"(COUNTIF(CALENDRIER!AP$739:AP$1103,CALENDRIER!$A$6))+((COUNTIF(CALENDRIER!AP$739:AP$1103,CALENDRIER!$B$6))/2)","v":0},{"$f":"(COUNTIF(CALENDRIER!AQ$739:AQ$1103,CALENDRIER!$A$6))+((COUNTIF(CALENDRIER!AQ$739:AQ$1103,CALENDRIER!$B$6))/2)","v":0},{"$f":"(COUNTIF(CALENDRIER!AR$739:AR$1103,CALENDRIER!$A$6))+((COUNTIF(CALENDRIER!AR$739:AR$1103,CALENDRIER!$B$6))/2)","v":0},{"$f":"(COUNTIF(CALENDRIER!AS$739:AS$1103,CALENDRIER!$A$6))+((COUNTIF(CALENDRIER!AS$739:AS$1103,CALENDRIER!$B$6))/2)","v":0},{"$f":"(COUNTIF(CALENDRIER!AT$739:AT$1103,CALENDRIER!$A$6))+((COUNTIF(CALENDRIER!AT$739:AT$1103,CALENDRIER!$B$6))/2)","v":0},{"$f":"(COUNTIF(CALENDRIER!AU$739:AU$1103,CALENDRIER!$A$6))+((COUNTIF(CALENDRIER!AU$739:AU$1103,CALENDRIER!$B$6))/2)","v":0},{"$f":"(COUNTIF(CALENDRIER!AV$739:AV$1103,CALENDRIER!$A$6))+((COUNTIF(CALENDRIER!AV$739:AV$1103,CALENDRIER!$B$6))/2)","v":0},{"$f":"(COUNTIF(CALENDRIER!AW$739:AW$1103,CALENDRIER!$A$6))+((COUNTIF(CALENDRIER!AW$739:AW$1103,CALENDRIER!$B$6))/2)","v":0},{"$f":"(COUNTIF(CALENDRIER!AX$739:AX$1103,CALENDRIER!$A$6))+((COUNTIF(CALENDRIER!AX$739:AX$1103,CALENDRIER!$B$6))/2)","v":0},{"$f":"(COUNTIF(CALENDRIER!AY$739:AY$1103,CALENDRIER!$A$6))+((COUNTIF(CALENDRIER!AY$739:AY$1103,CALENDRIER!$B$6))/2)","v":0},{"$f":"(COUNTIF(CALENDRIER!AZ$739:AZ$1103,CALENDRIER!$A$6))+((COUNTIF(CALENDRIER!AZ$739:AZ$1103,CALENDRIER!$B$6))/2)","v":0},{"$f":"(COUNTIF(CALENDRIER!BA$739:BA$1103,CALENDRIER!$A$6))+((COUNTIF(CALENDRIER!BA$739:BA$1103,CALENDRIER!$B$6))/2)","v":0},{"$f":"(COUNTIF(CALENDRIER!BB$739:BB$1103,CALENDRIER!$A$6))+((COUNTIF(CALENDRIER!BB$739:BB$1103,CALENDRIER!$B$6))/2)","v":0},{"$f":"(COUNTIF(CALENDRIER!BC$739:BC$1103,CALENDRIER!$A$6))+((COUNTIF(CALENDRIER!BC$739:BC$1103,CALENDRIER!$B$6))/2)","v":0},{"$f":"(COUNTIF(CALENDRIER!BD$739:BD$1103,CALENDRIER!$A$6))+((COUNTIF(CALENDRIER!BD$739:BD$1103,CALENDRIER!$B$6))/2)","v":0},{"$f":"(COUNTIF(CALENDRIER!BE$739:BE$1103,CALENDRIER!$A$6))+((COUNTIF(CALENDRIER!BE$739:BE$1103,CALENDRIER!$B$6))/2)","v":0},{"$f":"(COUNTIF(CALENDRIER!BF$739:BF$1103,CALENDRIER!$A$6))+((COUNTIF(CALENDRIER!BF$739:BF$1103,CALENDRIER!$B$6))/2)","v":0},{"$f":"(COUNTIF(CALENDRIER!BG$739:BG$1103,CALENDRIER!$A$6))+((COUNTIF(CALENDRIER!BG$739:BG$1103,CALENDRIER!$B$6))/2)","v":0},{"$f":"(COUNTIF(CALENDRIER!BH$739:BH$1103,CALENDRIER!$A$6))+((COUNTIF(CALENDRIER!BH$739:BH$1103,CALENDRIER!$B$6))/2)","v":0},{"$f":"(COUNTIF(CALENDRIER!BI$739:BI$1103,CALENDRIER!$A$6))+((COUNTIF(CALENDRIER!BI$739:BI$1103,CALENDRIER!$B$6))/2)","v":0},{"$f":"(COUNTIF(CALENDRIER!BJ$739:BJ$1103,CALENDRIER!$A$6))+((COUNTIF(CALENDRIER!BJ$739:BJ$1103,CALENDRIER!$B$6))/2)","v":0},{"$f":"(COUNTIF(CALENDRIER!BK$739:BK$1103,CALENDRIER!$A$6))+((COUNTIF(CALENDRIER!BK$739:BK$1103,CALENDRIER!$B$6))/2)","v":0},{"$f":"(COUNTIF(CALENDRIER!BL$739:BL$1103,CALENDRIER!$A$6))+((COUNTIF(CALENDRIER!BL$739:BL$1103,CALENDRIER!$B$6))/2)","v":0},{"$f":"(COUNTIF(CALENDRIER!BM$739:BM$1103,CALENDRIER!$A$6))+((COUNTIF(CALENDRIER!BM$739:BM$1103,CALENDRIER!$B$6))/2)","v":0},{"$f":"(COUNTIF(CALENDRIER!BN$739:BN$1103,CALENDRIER!$A$6))+((COUNTIF(CALENDRIER!BN$739:BN$1103,CALENDRIER!$B$6))/2)","v":0},{"$f":"(COUNTIF(CALENDRIER!BO$739:BO$1103,CALENDRIER!$A$6))+((COUNTIF(CALENDRIER!BO$739:BO$1103,CALENDRIER!$B$6))/2)","v":0},{"$f":"(COUNTIF(CALENDRIER!BP$739:BP$1103,CALENDRIER!$A$6))+((COUNTIF(CALENDRIER!BP$739:BP$1103,CALENDRIER!$B$6))/2)","v":0},{"$f":"(COUNTIF(CALENDRIER!BQ$739:BQ$1103,CALENDRIER!$A$6))+((COUNTIF(CALENDRIER!BQ$739:BQ$1103,CALENDRIER!$B$6))/2)","v":0},{"$f":"(COUNTIF(CALENDRIER!BR$739:BR$1103,CALENDRIER!$A$6))+((COUNTIF(CALENDRIER!BR$739:BR$1103,CALENDRIER!$B$6))/2)","v":0},{"$f":"(COUNTIF(CALENDRIER!BS$739:BS$1103,CALENDRIER!$A$6))+((COUNTIF(CALENDRIER!BS$739:BS$1103,CALENDRIER!$B$6))/2)","v":0},{"$f":"(COUNTIF(CALENDRIER!BT$739:BT$1103,CALENDRIER!$A$6))+((COUNTIF(CALENDRIER!BT$739:BT$1103,CALENDRIER!$B$6))/2)","v":0},{"$f":"(COUNTIF(CALENDRIER!BU$739:BU$1103,CALENDRIER!$A$6))+((COUNTIF(CALENDRIER!BU$739:BU$1103,CALENDRIER!$B$6))/2)","v":0},{"$f":"(COUNTIF(CALENDRIER!BV$739:BV$1103,CALENDRIER!$A$6))+((COUNTIF(CALENDRIER!BV$739:BV$1103,CALENDRIER!$B$6))/2)","v":0},{"$f":"(COUNTIF(CALENDRIER!BW$739:BW$1103,CALENDRIER!$A$6))+((COUNTIF(CALENDRIER!BW$739:BW$1103,CALENDRIER!$B$6))/2)","v":0},{"$f":"(COUNTIF(CALENDRIER!BX$739:BX$1103,CALENDRIER!$A$6))+((COUNTIF(CALENDRIER!BX$739:BX$1103,CALENDRIER!$B$6))/2)","v":0},{"$f":"(COUNTIF(CALENDRIER!BY$739:BY$1103,CALENDRIER!$A$6))+((COUNTIF(CALENDRIER!BY$739:BY$1103,CALENDRIER!$B$6))/2)","v":0},{"$f":"(COUNTIF(CALENDRIER!BZ$739:BZ$1103,CALENDRIER!$A$6))+((COUNTIF(CALENDRIER!BZ$739:BZ$1103,CALENDRIER!$B$6))/2)","v":0},{"$f":"(COUNTIF(CALENDRIER!CA$739:CA$1103,CALENDRIER!$A$6))+((COUNTIF(CALENDRIER!CA$739:CA$1103,CALENDRIER!$B$6))/2)","v":0},{"$f":"(COUNTIF(CALENDRIER!CB$739:CB$1103,CALENDRIER!$A$6))+((COUNTIF(CALENDRIER!CB$739:CB$1103,CALENDRIER!$B$6))/2)","v":0},{"$f":"(COUNTIF(CALENDRIER!CC$739:CC$1103,CALENDRIER!$A$6))+((COUNTIF(CALENDRIER!CC$739:CC$1103,CALENDRIER!$B$6))/2)","v":0},{"$f":"(COUNTIF(CALENDRIER!CD$739:CD$1103,CALENDRIER!$A$6))+((COUNTIF(CALENDRIER!CD$739:CD$1103,CALENDRIER!$B$6))/2)","v":0},{"$f":"(COUNTIF(CALENDRIER!CE$739:CE$1103,CALENDRIER!$A$6))+((COUNTIF(CALENDRIER!CE$739:CE$1103,CALENDRIER!$B$6))/2)","v":0},{"$f":"(COUNTIF(CALENDRIER!CF$739:CF$1103,CALENDRIER!$A$6))+((COUNTIF(CALENDRIER!CF$739:CF$1103,CALENDRIER!$B$6))/2)","v":0},{"$f":"(COUNTIF(CALENDRIER!CG$739:CG$1103,CALENDRIER!$A$6))+((COUNTIF(CALENDRIER!CG$739:CG$1103,CALENDRIER!$B$6))/2)","v":0},{"$f":"(COUNTIF(CALENDRIER!CH$739:CH$1103,CALENDRIER!$A$6))+((COUNTIF(CALENDRIER!CH$739:CH$1103,CALENDRIER!$B$6))/2)","v":0},{"$f":"(COUNTIF(CALENDRIER!CI$739:CI$1103,CALENDRIER!$A$6))+((COUNTIF(CALENDRIER!CI$739:CI$1103,CALENDRIER!$B$6))/2)","v":0},{"$f":"(COUNTIF(CALENDRIER!CJ$739:CJ$1103,CALENDRIER!$A$6))+((COUNTIF(CALENDRIER!CJ$739:CJ$1103,CALENDRIER!$B$6))/2)","v":0},{"$f":"(COUNTIF(CALENDRIER!CK$739:CK$1103,CALENDRIER!$A$6))+((COUNTIF(CALENDRIER!CK$739:CK$1103,CALENDRIER!$B$6))/2)","v":0},{"$f":"(COUNTIF(CALENDRIER!CL$739:CL$1103,CALENDRIER!$A$6))+((COUNTIF(CALENDRIER!CL$739:CL$1103,CALENDRIER!$B$6))/2)","v":0},{"$f":"(COUNTIF(CALENDRIER!CM$739:CM$1103,CALENDRIER!$A$6))+((COUNTIF(CALENDRIER!CM$739:CM$1103,CALENDRIER!$B$6))/2)","v":0},{"$f":"(COUNTIF(CALENDRIER!CN$739:CN$1103,CALENDRIER!$A$6))+((COUNTIF(CALENDRIER!CN$739:CN$1103,CALENDRIER!$B$6))/2)","v":0},{"$f":"(COUNTIF(CALENDRIER!CO$739:CO$1103,CALENDRIER!$A$6))+((COUNTIF(CALENDRIER!CO$739:CO$1103,CALENDRIER!$B$6))/2)","v":0},{"$f":"(COUNTIF(CALENDRIER!CP$739:CP$1103,CALENDRIER!$A$6))+((COUNTIF(CALENDRIER!CP$739:CP$1103,CALENDRIER!$B$6))/2)","v":0},{"$f":"(COUNTIF(CALENDRIER!CQ$739:CQ$1103,CALENDRIER!$A$6))+((COUNTIF(CALENDRIER!CQ$739:CQ$1103,CALENDRIER!$B$6))/2)","v":0},{"$f":"(COUNTIF(CALENDRIER!CR$739:CR$1103,CALENDRIER!$A$6))+((COUNTIF(CALENDRIER!CR$739:CR$1103,CALENDRIER!$B$6))/2)","v":0},{"$f":"(COUNTIF(CALENDRIER!CS$739:CS$1103,CALENDRIER!$A$6))+((COUNTIF(CALENDRIER!CS$739:CS$1103,CALENDRIER!$B$6))/2)","v":0},{"$f":"(COUNTIF(CALENDRIER!CT$739:CT$1103,CALENDRIER!$A$6))+((COUNTIF(CALENDRIER!CT$739:CT$1103,CALENDRIER!$B$6))/2)","v":0},{"$f":"(COUNTIF(CALENDRIER!CU$739:CU$1103,CALENDRIER!$A$6))+((COUNTIF(CALENDRIER!CU$739:CU$1103,CALENDRIER!$B$6))/2)","v":0},{"$f":"(COUNTIF(CALENDRIER!CV$739:CV$1103,CALENDRIER!$A$6))+((COUNTIF(CALENDRIER!CV$739:CV$1103,CALENDRIER!$B$6))/2)","v":0},{"$f":"(COUNTIF(CALENDRIER!CW$739:CW$1103,CALENDRIER!$A$6))+((COUNTIF(CALENDRIER!CW$739:CW$1103,CALENDRIER!$B$6))/2)","v":0},{"$f":"(COUNTIF(CALENDRIER!CX$739:CX$1103,CALENDRIER!$A$6))+((COUNTIF(CALENDRIER!CX$739:CX$1103,CALENDRIER!$B$6))/2)","v":0},{"$f":"(COUNTIF(CALENDRIER!CY$739:CY$1103,CALENDRIER!$A$6))+((COUNTIF(CALENDRIER!CY$739:CY$1103,CALENDRIER!$B$6))/2)","v":0},{"$f":"(COUNTIF(CALENDRIER!CZ$739:CZ$1103,CALENDRIER!$A$6))+((COUNTIF(CALENDRIER!CZ$739:CZ$1103,CALENDRIER!$B$6))/2)","v":0},{"$f":"(COUNTIF(CALENDRIER!DA$739:DA$1103,CALENDRIER!$A$6))+((COUNTIF(CALENDRIER!DA$739:DA$1103,CALENDRIER!$B$6))/2)","v":0},{"$f":"(COUNTIF(CALENDRIER!DB$739:DB$1103,CALENDRIER!$A$6))+((COUNTIF(CALENDRIER!DB$739:DB$1103,CALENDRIER!$B$6))/2)","v":0},{"$f":"(COUNTIF(CALENDRIER!DC$739:DC$1103,CALENDRIER!$A$6))+((COUNTIF(CALENDRIER!DC$739:DC$1103,CALENDRIER!$B$6))/2)","v":0},{"$f":"(COUNTIF(CALENDRIER!DD$739:DD$1103,CALENDRIER!$A$6))+((COUNTIF(CALENDRIER!DD$739:DD$1103,CALENDRIER!$B$6))/2)","v":0},{"$f":"(COUNTIF(CALENDRIER!DE$739:DE$1103,CALENDRIER!$A$6))+((COUNTIF(CALENDRIER!DE$739:DE$1103,CALENDRIER!$B$6))/2)","v":0},{"$f":"(COUNTIF(CALENDRIER!DF$739:DF$1103,CALENDRIER!$A$6))+((COUNTIF(CALENDRIER!DF$739:DF$1103,CALENDRIER!$B$6))/2)","v":0},{"$f":"(COUNTIF(CALENDRIER!DG$739:DG$1103,CALENDRIER!$A$6))+((COUNTIF(CALENDRIER!DG$739:DG$1103,CALENDRIER!$B$6))/2)","v":0},{"$f":"(COUNTIF(CALENDRIER!DH$739:DH$1103,CALENDRIER!$A$6))+((COUNTIF(CALENDRIER!DH$739:DH$1103,CALENDRIER!$B$6))/2)","v":0},{"$f":"(COUNTIF(CALENDRIER!DI$739:DI$1103,CALENDRIER!$A$6))+((COUNTIF(CALENDRIER!DI$739:DI$1103,CALENDRIER!$B$6))/2)","v":0},{"$f":"(COUNTIF(CALENDRIER!DJ$739:DJ$1103,CALENDRIER!$A$6))+((COUNTIF(CALENDRIER!DJ$739:DJ$1103,CALENDRIER!$B$6))/2)","v":0},{"$f":"(COUNTIF(CALENDRIER!DK$739:DK$1103,CALENDRIER!$A$6))+((COUNTIF(CALENDRIER!DK$739:DK$1103,CALENDRIER!$B$6))/2)","v":0},{"$f":"(COUNTIF(CALENDRIER!DL$739:DL$1103,CALENDRIER!$A$6))+((COUNTIF(CALENDRIER!DL$739:DL$1103,CALENDRIER!$B$6))/2)","v":0},{"$f":"(COUNTIF(CALENDRIER!DM$739:DM$1103,CALENDRIER!$A$6))+((COUNTIF(CALENDRIER!DM$739:DM$1103,CALENDRIER!$B$6))/2)","v":0},{"$f":"(COUNTIF(CALENDRIER!DN$739:DN$1103,CALENDRIER!$A$6))+((COUNTIF(CALENDRIER!DN$739:DN$1103,CALENDRIER!$B$6))/2)","v":0},{"$f":"(COUNTIF(CALENDRIER!DO$739:DO$1103,CALENDRIER!$A$6))+((COUNTIF(CALENDRIER!DO$739:DO$1103,CALENDRIER!$B$6))/2)","v":0},{"$f":"(COUNTIF(CALENDRIER!DP$739:DP$1103,CALENDRIER!$A$6))+((COUNTIF(CALENDRIER!DP$739:DP$1103,CALENDRIER!$B$6))/2)","v":0},{"$f":"(COUNTIF(CALENDRIER!DQ$739:DQ$1103,CALENDRIER!$A$6))+((COUNTIF(CALENDRIER!DQ$739:DQ$1103,CALENDRIER!$B$6))/2)","v":0},{"$f":"(COUNTIF(CALENDRIER!DR$739:DR$1103,CALENDRIER!$A$6))+((COUNTIF(CALENDRIER!DR$739:DR$1103,CALENDRIER!$B$6))/2)","v":0},{"$f":"(COUNTIF(CALENDRIER!DS$739:DS$1103,CALENDRIER!$A$6))+((COUNTIF(CALENDRIER!DS$739:DS$1103,CALENDRIER!$B$6))/2)","v":0},{"$f":"(COUNTIF(CALENDRIER!DT$739:DT$1103,CALENDRIER!$A$6))+((COUNTIF(CALENDRIER!DT$739:DT$1103,CALENDRIER!$B$6))/2)","v":0},{"$f":"(COUNTIF(CALENDRIER!DU$739:DU$1103,CALENDRIER!$A$6))+((COUNTIF(CALENDRIER!DU$739:DU$1103,CALENDRIER!$B$6))/2)","v":0},{"$f":"(COUNTIF(CALENDRIER!DV$739:DV$1103,CALENDRIER!$A$6))+((COUNTIF(CALENDRIER!DV$739:DV$1103,CALENDRIER!$B$6))/2)","v":0},{"$f":"(COUNTIF(CALENDRIER!DW$739:DW$1103,CALENDRIER!$A$6))+((COUNTIF(CALENDRIER!DW$739:DW$1103,CALENDRIER!$B$6))/2)","v":0},{"$f":"(COUNTIF(CALENDRIER!DX$739:DX$1103,CALENDRIER!$A$6))+((COUNTIF(CALENDRIER!DX$739:DX$1103,CALENDRIER!$B$6))/2)","v":0},{"$f":"(COUNTIF(CALENDRIER!DY$739:DY$1103,CALENDRIER!$A$6))+((COUNTIF(CALENDRIER!DY$739:DY$1103,CALENDRIER!$B$6))/2)","v":0},{"$f":"(COUNTIF(CALENDRIER!DZ$739:DZ$1103,CALENDRIER!$A$6))+((COUNTIF(CALENDRIER!DZ$739:DZ$1103,CALENDRIER!$B$6))/2)","v":0},{"$f":"(COUNTIF(CALENDRIER!EA$739:EA$1103,CALENDRIER!$A$6))+((COUNTIF(CALENDRIER!EA$739:EA$1103,CALENDRIER!$B$6))/2)","v":0},{"$f":"(COUNTIF(CALENDRIER!EB$739:EB$1103,CALENDRIER!$A$6))+((COUNTIF(CALENDRIER!EB$739:EB$1103,CALENDRIER!$B$6))/2)","v":0},{"$f":"(COUNTIF(CALENDRIER!EC$739:EC$1103,CALENDRIER!$A$6))+((COUNTIF(CALENDRIER!EC$739:EC$1103,CALENDRIER!$B$6))/2)","v":0},{"$f":"(COUNTIF(CALENDRIER!ED$739:ED$1103,CALENDRIER!$A$6))+((COUNTIF(CALENDRIER!ED$739:ED$1103,CALENDRIER!$B$6))/2)","v":0},{"$f":"(COUNTIF(CALENDRIER!EE$739:EE$1103,CALENDRIER!$A$6))+((COUNTIF(CALENDRIER!EE$739:EE$1103,CALENDRIER!$B$6))/2)","v":0},{"$f":"(COUNTIF(CALENDRIER!EF$739:EF$1103,CALENDRIER!$A$6))+((COUNTIF(CALENDRIER!EF$739:EF$1103,CALENDRIER!$B$6))/2)","v":0},{"$f":"(COUNTIF(CALENDRIER!EG$739:EG$1103,CALENDRIER!$A$6))+((COUNTIF(CALENDRIER!EG$739:EG$1103,CALENDRIER!$B$6))/2)","v":0},{"$f":"(COUNTIF(CALENDRIER!EH$739:EH$1103,CALENDRIER!$A$6))+((COUNTIF(CALENDRIER!EH$739:EH$1103,CALENDRIER!$B$6))/2)","v":0},{"$f":"(COUNTIF(CALENDRIER!EI$739:EI$1103,CALENDRIER!$A$6))+((COUNTIF(CALENDRIER!EI$739:EI$1103,CALENDRIER!$B$6))/2)","v":0},{"$f":"(COUNTIF(CALENDRIER!EJ$739:EJ$1103,CALENDRIER!$A$6))+((COUNTIF(CALENDRIER!EJ$739:EJ$1103,CALENDRIER!$B$6))/2)","v":0},{"$f":"(COUNTIF(CALENDRIER!EK$739:EK$1103,CALENDRIER!$A$6))+((COUNTIF(CALENDRIER!EK$739:EK$1103,CALENDRIER!$B$6))/2)","v":0},{"$f":"(COUNTIF(CALENDRIER!EL$739:EL$1103,CALENDRIER!$A$6))+((COUNTIF(CALENDRIER!EL$739:EL$1103,CALENDRIER!$B$6))/2)","v":0},{"$f":"(COUNTIF(CALENDRIER!EM$739:EM$1103,CALENDRIER!$A$6))+((COUNTIF(CALENDRIER!EM$739:EM$1103,CALENDRIER!$B$6))/2)","v":0},{"$f":"(COUNTIF(CALENDRIER!EN$739:EN$1103,CALENDRIER!$A$6))+((COUNTIF(CALENDRIER!EN$739:EN$1103,CALENDRIER!$B$6))/2)","v":0},{"$f":"(COUNTIF(CALENDRIER!EO$739:EO$1103,CALENDRIER!$A$6))+((COUNTIF(CALENDRIER!EO$739:EO$1103,CALENDRIER!$B$6))/2)","v":0},{"$f":"(COUNTIF(CALENDRIER!EP$739:EP$1103,CALENDRIER!$A$6))+((COUNTIF(CALENDRIER!EP$739:EP$1103,CALENDRIER!$B$6))/2)","v":0},{"$f":"(COUNTIF(CALENDRIER!EQ$739:EQ$1103,CALENDRIER!$A$6))+((COUNTIF(CALENDRIER!EQ$739:EQ$1103,CALENDRIER!$B$6))/2)","v":0},{"$f":"(COUNTIF(CALENDRIER!ER$739:ER$1103,CALENDRIER!$A$6))+((COUNTIF(CALENDRIER!ER$739:ER$1103,CALENDRIER!$B$6))/2)","v":0},{"$f":"(COUNTIF(CALENDRIER!ES$739:ES$1103,CALENDRIER!$A$6))+((COUNTIF(CALENDRIER!ES$739:ES$1103,CALENDRIER!$B$6))/2)","v":0},{"$f":"(COUNTIF(CALENDRIER!ET$739:ET$1103,CALENDRIER!$A$6))+((COUNTIF(CALENDRIER!ET$739:ET$1103,CALENDRIER!$B$6))/2)","v":0},{"$f":"(COUNTIF(CALENDRIER!EU$739:EU$1103,CALENDRIER!$A$6))+((COUNTIF(CALENDRIER!EU$739:EU$1103,CALENDRIER!$B$6))/2)","v":0},{"$f":"(COUNTIF(CALENDRIER!EV$739:EV$1103,CALENDRIER!$A$6))+((COUNTIF(CALENDRIER!EV$739:EV$1103,CALENDRIER!$B$6))/2)","v":0},{"$f":"(COUNTIF(CALENDRIER!EW$739:EW$1103,CALENDRIER!$A$6))+((COUNTIF(CALENDRIER!EW$739:EW$1103,CALENDRIER!$B$6))/2)","v":0},{"$f":"(COUNTIF(CALENDRIER!EX$739:EX$1103,CALENDRIER!$A$6))+((COUNTIF(CALENDRIER!EX$739:EX$1103,CALENDRIER!$B$6))/2)","v":0},{"$f":"(COUNTIF(CALENDRIER!EY$739:EY$1103,CALENDRIER!$A$6))+((COUNTIF(CALENDRIER!EY$739:EY$1103,CALENDRIER!$B$6))/2)","v":0},{"$f":"(COUNTIF(CALENDRIER!EZ$739:EZ$1103,CALENDRIER!$A$6))+((COUNTIF(CALENDRIER!EZ$739:EZ$1103,CALENDRIER!$B$6))/2)","v":0},{"$f":"(COUNTIF(CALENDRIER!FA$739:FA$1103,CALENDRIER!$A$6))+((COUNTIF(CALENDRIER!FA$739:FA$1103,CALENDRIER!$B$6))/2)","v":0},{"$f":"(COUNTIF(CALENDRIER!FB$739:FB$1103,CALENDRIER!$A$6))+((COUNTIF(CALENDRIER!FB$739:FB$1103,CALENDRIER!$B$6))/2)","v":0},{"$f":"(COUNTIF(CALENDRIER!FC$739:FC$1103,CALENDRIER!$A$6))+((COUNTIF(CALENDRIER!FC$739:FC$1103,CALENDRIER!$B$6))/2)","v":0},{"$f":"(COUNTIF(CALENDRIER!FD$739:FD$1103,CALENDRIER!$A$6))+((COUNTIF(CALENDRIER!FD$739:FD$1103,CALENDRIER!$B$6))/2)","v":0},{"$f":"(COUNTIF(CALENDRIER!FE$739:FE$1103,CALENDRIER!$A$6))+((COUNTIF(CALENDRIER!FE$739:FE$1103,CALENDRIER!$B$6))/2)","v":0},{"$f":"(COUNTIF(CALENDRIER!FF$739:FF$1103,CALENDRIER!$A$6))+((COUNTIF(CALENDRIER!FF$739:FF$1103,CALENDRIER!$B$6))/2)","v":0},{"$f":"(COUNTIF(CALENDRIER!FG$739:FG$1103,CALENDRIER!$A$6))+((COUNTIF(CALENDRIER!FG$739:FG$1103,CALENDRIER!$B$6))/2)","v":0},{"$f":"(COUNTIF(CALENDRIER!FH$739:FH$1103,CALENDRIER!$A$6))+((COUNTIF(CALENDRIER!FH$739:FH$1103,CALENDRIER!$B$6))/2)","v":0},{"$f":"(COUNTIF(CALENDRIER!FI$739:FI$1103,CALENDRIER!$A$6))+((COUNTIF(CALENDRIER!FI$739:FI$1103,CALENDRIER!$B$6))/2)","v":0},{"$f":"(COUNTIF(CALENDRIER!FJ$739:FJ$1103,CALENDRIER!$A$6))+((COUNTIF(CALENDRIER!FJ$739:FJ$1103,CALENDRIER!$B$6))/2)","v":0},{"$f":"(COUNTIF(CALENDRIER!FK$739:FK$1103,CALENDRIER!$A$6))+((COUNTIF(CALENDRIER!FK$739:FK$1103,CALENDRIER!$B$6))/2)","v":0},{"$f":"(COUNTIF(CALENDRIER!FL$739:FL$1103,CALENDRIER!$A$6))+((COUNTIF(CALENDRIER!FL$739:FL$1103,CALENDRIER!$B$6))/2)","v":0},{"$f":"(COUNTIF(CALENDRIER!FM$739:FM$1103,CALENDRIER!$A$6))+((COUNTIF(CALENDRIER!FM$739:FM$1103,CALENDRIER!$B$6))/2)","v":0},{"$f":"(COUNTIF(CALENDRIER!FN$739:FN$1103,CALENDRIER!$A$6))+((COUNTIF(CALENDRIER!FN$739:FN$1103,CALENDRIER!$B$6))/2)","v":0},{"$f":"(COUNTIF(CALENDRIER!FO$739:FO$1103,CALENDRIER!$A$6))+((COUNTIF(CALENDRIER!FO$739:FO$1103,CALENDRIER!$B$6))/2)","v":0},{"$f":"(COUNTIF(CALENDRIER!FP$739:FP$1103,CALENDRIER!$A$6))+((COUNTIF(CALENDRIER!FP$739:FP$1103,CALENDRIER!$B$6))/2)","v":0},{"$f":"(COUNTIF(CALENDRIER!FQ$739:FQ$1103,CALENDRIER!$A$6))+((COUNTIF(CALENDRIER!FQ$739:FQ$1103,CALENDRIER!$B$6))/2)","v":0},{"$f":"(COUNTIF(CALENDRIER!FR$739:FR$1103,CALENDRIER!$A$6))+((COUNTIF(CALENDRIER!FR$739:FR$1103,CALENDRIER!$B$6))/2)","v":0},{"$f":"(COUNTIF(CALENDRIER!FS$739:FS$1103,CALENDRIER!$A$6))+((COUNTIF(CALENDRIER!FS$739:FS$1103,CALENDRIER!$B$6))/2)","v":0},{"$f":"(COUNTIF(CALENDRIER!FT$739:FT$1103,CALENDRIER!$A$6))+((COUNTIF(CALENDRIER!FT$739:FT$1103,CALENDRIER!$B$6))/2)","v":0},{"$f":"(COUNTIF(CALENDRIER!FU$739:FU$1103,CALENDRIER!$A$6))+((COUNTIF(CALENDRIER!FU$739:FU$1103,CALENDRIER!$B$6))/2)","v":0},{"$f":"(COUNTIF(CALENDRIER!FV$739:FV$1103,CALENDRIER!$A$6))+((COUNTIF(CALENDRIER!FV$739:FV$1103,CALENDRIER!$B$6))/2)","v":0},{"$f":"(COUNTIF(CALENDRIER!FW$739:FW$1103,CALENDRIER!$A$6))+((COUNTIF(CALENDRIER!FW$739:FW$1103,CALENDRIER!$B$6))/2)","v":0},{"$f":"(COUNTIF(CALENDRIER!FX$739:FX$1103,CALENDRIER!$A$6))+((COUNTIF(CALENDRIER!FX$739:FX$1103,CALENDRIER!$B$6))/2)","v":0},{"$f":"(COUNTIF(CALENDRIER!FY$739:FY$1103,CALENDRIER!$A$6))+((COUNTIF(CALENDRIER!FY$739:FY$1103,CALENDRIER!$B$6))/2)","v":0},{"$f":"(COUNTIF(CALENDRIER!FZ$739:FZ$1103,CALENDRIER!$A$6))+((COUNTIF(CALENDRIER!FZ$739:FZ$1103,CALENDRIER!$B$6))/2)","v":0},{"$f":"(COUNTIF(CALENDRIER!GA$739:GA$1103,CALENDRIER!$A$6))+((COUNTIF(CALENDRIER!GA$739:GA$1103,CALENDRIER!$B$6))/2)","v":0},{"$f":"(COUNTIF(CALENDRIER!GB$739:GB$1103,CALENDRIER!$A$6))+((COUNTIF(CALENDRIER!GB$739:GB$1103,CALENDRIER!$B$6))/2)","v":0},{"$f":"(COUNTIF(CALENDRIER!GC$739:GC$1103,CALENDRIER!$A$6))+((COUNTIF(CALENDRIER!GC$739:GC$1103,CALENDRIER!$B$6))/2)","v":0},{"$f":"(COUNTIF(CALENDRIER!GD$739:GD$1103,CALENDRIER!$A$6))+((COUNTIF(CALENDRIER!GD$739:GD$1103,CALENDRIER!$B$6))/2)","v":0},{"$f":"(COUNTIF(CALENDRIER!GE$739:GE$1103,CALENDRIER!$A$6))+((COUNTIF(CALENDRIER!GE$739:GE$1103,CALENDRIER!$B$6))/2)","v":0},{"$f":"(COUNTIF(CALENDRIER!GF$739:GF$1103,CALENDRIER!$A$6))+((COUNTIF(CALENDRIER!GF$739:GF$1103,CALENDRIER!$B$6))/2)","v":0},{"$f":"(COUNTIF(CALENDRIER!GG$739:GG$1103,CALENDRIER!$A$6))+((COUNTIF(CALENDRIER!GG$739:GG$1103,CALENDRIER!$B$6))/2)","v":0},{"$f":"(COUNTIF(CALENDRIER!GH$739:GH$1103,CALENDRIER!$A$6))+((COUNTIF(CALENDRIER!GH$739:GH$1103,CALENDRIER!$B$6))/2)","v":0},{"$f":"(COUNTIF(CALENDRIER!GI$739:GI$1103,CALENDRIER!$A$6))+((COUNTIF(CALENDRIER!GI$739:GI$1103,CALENDRIER!$B$6))/2)","v":0},{"$f":"(COUNTIF(CALENDRIER!GJ$739:GJ$1103,CALENDRIER!$A$6))+((COUNTIF(CALENDRIER!GJ$739:GJ$1103,CALENDRIER!$B$6))/2)","v":0},{"$f":"(COUNTIF(CALENDRIER!GK$739:GK$1103,CALENDRIER!$A$6))+((COUNTIF(CALENDRIER!GK$739:GK$1103,CALENDRIER!$B$6))/2)","v":0},{"$f":"(COUNTIF(CALENDRIER!GL$739:GL$1103,CALENDRIER!$A$6))+((COUNTIF(CALENDRIER!GL$739:GL$1103,CALENDRIER!$B$6))/2)","v":0},{"$f":"(COUNTIF(CALENDRIER!GM$739:GM$1103,CALENDRIER!$A$6))+((COUNTIF(CALENDRIER!GM$739:GM$1103,CALENDRIER!$B$6))/2)","v":0},{"$f":"(COUNTIF(CALENDRIER!GN$739:GN$1103,CALENDRIER!$A$6))+((COUNTIF(CALENDRIER!GN$739:GN$1103,CALENDRIER!$B$6))/2)","v":0},{"$f":"(COUNTIF(CALENDRIER!GO$739:GO$1103,CALENDRIER!$A$6))+((COUNTIF(CALENDRIER!GO$739:GO$1103,CALENDRIER!$B$6))/2)","v":0},{"$f":"(COUNTIF(CALENDRIER!GP$739:GP$1103,CALENDRIER!$A$6))+((COUNTIF(CALENDRIER!GP$739:GP$1103,CALENDRIER!$B$6))/2)","v":0},{"$f":"(COUNTIF(CALENDRIER!GQ$739:GQ$1103,CALENDRIER!$A$6))+((COUNTIF(CALENDRIER!GQ$739:GQ$1103,CALENDRIER!$B$6))/2)","v":0},{"$f":"(COUNTIF(CALENDRIER!GR$739:GR$1103,CALENDRIER!$A$6))+((COUNTIF(CALENDRIER!GR$739:GR$1103,CALENDRIER!$B$6))/2)","v":0}]
[null,{"$f":"\"Solde \"&CALENDRIER!$A$6&\" \"&A259&\" : \"","v":"Solde … 2017-2018 : "},{"$f":"C260-C261","v":0},{"$f":"D260-D261","v":0},0,0,0,0,0,0,0,0,0,0,0,0,0,0,0,0,0,0,0,0,0,0,0,0,0,0,0,0,0,0,0,0,0,0,0,0,0,0,0,0,0,0,0,0,0,0,0,0,0,0,0,0,0,0,0,0,0,0,0,0,0,0,0,{"$f":"BP260-BP261","v":0},0,0,0,0,0,0,0,0,0,0,0,0,0,0,0,0,0,0,0,0,0,0,0,0,0,0,0,0,0,0,0,0,0,0,0,0,0,0,0,0,0,0,0,0,0,0,0,0,0,0,0,0,0,0,0,0,0,0,0,0,0,0,0,{"$f":"EB260-EB261","v":0},0,0,0,0,0,0,0,0,0,0,0,0,0,0,0,0,0,0,0,0,0,0,0,0,0,0,0,0,0,0,0,0,0,0,0,0,0,0,0,0,0,0,0,0,0,0,0,0,0,0,0,0,0,0,0,0,0,0,0,0,0,0,0,{"$f":"GN260-GN261","v":0},0,0,0,0]
[]
["2018-2019",{"$f":"CALENDRIER!$A$6","v":"…"}]
[null,"SOLDE DEPART"]
[null,{"$f":"CALENDRIER!$A$6&\" PRIS\"","v":"… PRIS"},{"$f":"(COUNTIF(CALENDRIER!C$1104:C$1468,CALENDRIER!$A$6))+((COUNTIF(CALENDRIER!C$1104:C$1468,CALENDRIER!$B$6))/2)","v":0},{"$f":"(COUNTIF(CALENDRIER!D$1104:D$1468,CALENDRIER!$A$6))+((COUNTIF(CALENDRIER!D$1104:D$1468,CALENDRIER!$B$6))/2)","v":0},{"$f":"(COUNTIF(CALENDRIER!E$1104:E$1468,CALENDRIER!$A$6))+((COUNTIF(CALENDRIER!E$1104:E$1468,CALENDRIER!$B$6))/2)","v":0},{"$f":"(COUNTIF(CALENDRIER!F$1104:F$1468,CALENDRIER!$A$6))+((COUNTIF(CALENDRIER!F$1104:F$1468,CALENDRIER!$B$6))/2)","v":0},{"$f":"(COUNTIF(CALENDRIER!G$1104:G$1468,CALENDRIER!$A$6))+((COUNTIF(CALENDRIER!G$1104:G$1468,CALENDRIER!$B$6))/2)","v":0},{"$f":"(COUNTIF(CALENDRIER!H$1104:H$1468,CALENDRIER!$A$6))+((COUNTIF(CALENDRIER!H$1104:H$1468,CALENDRIER!$B$6))/2)","v":0},{"$f":"(COUNTIF(CALENDRIER!I$1104:I$1468,CALENDRIER!$A$6))+((COUNTIF(CALENDRIER!I$1104:I$1468,CALENDRIER!$B$6))/2)","v":0},{"$f":"(COUNTIF(CALENDRIER!J$1104:J$1468,CALENDRIER!$A$6))+((COUNTIF(CALENDRIER!J$1104:J$1468,CALENDRIER!$B$6))/2)","v":0},{"$f":"(COUNTIF(CALENDRIER!K$1104:K$1468,CALENDRIER!$A$6))+((COUNTIF(CALENDRIER!K$1104:K$1468,CALENDRIER!$B$6))/2)","v":0},{"$f":"(COUNTIF(CALENDRIER!L$1104:L$1468,CALENDRIER!$A$6))+((COUNTIF(CALENDRIER!L$1104:L$1468,CALENDRIER!$B$6))/2)","v":0},{"$f":"(COUNTIF(CALENDRIER!M$1104:M$1468,CALENDRIER!$A$6))+((COUNTIF(CALENDRIER!M$1104:M$1468,CALENDRIER!$B$6))/2)","v":0},{"$f":"(COUNTIF(CALENDRIER!N$1104:N$1468,CALENDRIER!$A$6))+((COUNTIF(CALENDRIER!N$1104:N$1468,CALENDRIER!$B$6))/2)","v":0},{"$f":"(COUNTIF(CALENDRIER!O$1104:O$1468,CALENDRIER!$A$6))+((COUNTIF(CALENDRIER!O$1104:O$1468,CALENDRIER!$B$6))/2)","v":0},{"$f":"(COUNTIF(CALENDRIER!P$1104:P$1468,CALENDRIER!$A$6))+((COUNTIF(CALENDRIER!P$1104:P$1468,CALENDRIER!$B$6))/2)","v":0},{"$f":"(COUNTIF(CALENDRIER!Q$1104:Q$1468,CALENDRIER!$A$6))+((COUNTIF(CALENDRIER!Q$1104:Q$1468,CALENDRIER!$B$6))/2)","v":0},{"$f":"(COUNTIF(CALENDRIER!R$1104:R$1468,CALENDRIER!$A$6))+((COUNTIF(CALENDRIER!R$1104:R$1468,CALENDRIER!$B$6))/2)","v":0},{"$f":"(COUNTIF(CALENDRIER!S$1104:S$1468,CALENDRIER!$A$6))+((COUNTIF(CALENDRIER!S$1104:S$1468,CALENDRIER!$B$6))/2)","v":0},{"$f":"(COUNTIF(CALENDRIER!T$1104:T$1468,CALENDRIER!$A$6))+((COUNTIF(CALENDRIER!T$1104:T$1468,CALENDRIER!$B$6))/2)","v":0},{"$f":"(COUNTIF(CALENDRIER!U$1104:U$1468,CALENDRIER!$A$6))+((COUNTIF(CALENDRIER!U$1104:U$1468,CALENDRIER!$B$6))/2)","v":0},{"$f":"(COUNTIF(CALENDRIER!V$1104:V$1468,CALENDRIER!$A$6))+((COUNTIF(CALENDRIER!V$1104:V$1468,CALENDRIER!$B$6))/2)","v":0},{"$f":"(COUNTIF(CALENDRIER!W$1104:W$1468,CALENDRIER!$A$6))+((COUNTIF(CALENDRIER!W$1104:W$1468,CALENDRIER!$B$6))/2)","v":0},{"$f":"(COUNTIF(CALENDRIER!X$1104:X$1468,CALENDRIER!$A$6))+((COUNTIF(CALENDRIER!X$1104:X$1468,CALENDRIER!$B$6))/2)","v":0},{"$f":"(COUNTIF(CALENDRIER!Y$1104:Y$1468,CALENDRIER!$A$6))+((COUNTIF(CALENDRIER!Y$1104:Y$1468,CALENDRIER!$B$6))/2)","v":0},{"$f":"(COUNTIF(CALENDRIER!Z$1104:Z$1468,CALENDRIER!$A$6))+((COUNTIF(CALENDRIER!Z$1104:Z$1468,CALENDRIER!$B$6))/2)","v":0},{"$f":"(COUNTIF(CALENDRIER!AA$1104:AA$1468,CALENDRIER!$A$6))+((COUNTIF(CALENDRIER!AA$1104:AA$1468,CALENDRIER!$B$6))/2)","v":0},{"$f":"(COUNTIF(CALENDRIER!AB$1104:AB$1468,CALENDRIER!$A$6))+((COUNTIF(CALENDRIER!AB$1104:AB$1468,CALENDRIER!$B$6))/2)","v":0},{"$f":"(COUNTIF(CALENDRIER!AC$1104:AC$1468,CALENDRIER!$A$6))+((COUNTIF(CALENDRIER!AC$1104:AC$1468,CALENDRIER!$B$6))/2)","v":0},{"$f":"(COUNTIF(CALENDRIER!AD$1104:AD$1468,CALENDRIER!$A$6))+((COUNTIF(CALENDRIER!AD$1104:AD$1468,CALENDRIER!$B$6))/2)","v":0},{"$f":"(COUNTIF(CALENDRIER!AE$1104:AE$1468,CALENDRIER!$A$6))+((COUNTIF(CALENDRIER!AE$1104:AE$1468,CALENDRIER!$B$6))/2)","v":0},{"$f":"(COUNTIF(CALENDRIER!AF$1104:AF$1468,CALENDRIER!$A$6))+((COUNTIF(CALENDRIER!AF$1104:AF$1468,CALENDRIER!$B$6))/2)","v":0},{"$f":"(COUNTIF(CALENDRIER!AG$1104:AG$1468,CALENDRIER!$A$6))+((COUNTIF(CALENDRIER!AG$1104:AG$1468,CALENDRIER!$B$6))/2)","v":0},{"$f":"(COUNTIF(CALENDRIER!AH$1104:AH$1468,CALENDRIER!$A$6))+((COUNTIF(CALENDRIER!AH$1104:AH$1468,CALENDRIER!$B$6))/2)","v":0},{"$f":"(COUNTIF(CALENDRIER!AI$1104:AI$1468,CALENDRIER!$A$6))+((COUNTIF(CALENDRIER!AI$1104:AI$1468,CALENDRIER!$B$6))/2)","v":0},{"$f":"(COUNTIF(CALENDRIER!AJ$1104:AJ$1468,CALENDRIER!$A$6))+((COUNTIF(CALENDRIER!AJ$1104:AJ$1468,CALENDRIER!$B$6))/2)","v":0},{"$f":"(COUNTIF(CALENDRIER!AK$1104:AK$1468,CALENDRIER!$A$6))+((COUNTIF(CALENDRIER!AK$1104:AK$1468,CALENDRIER!$B$6))/2)","v":0},{"$f":"(COUNTIF(CALENDRIER!AL$1104:AL$1468,CALENDRIER!$A$6))+((COUNTIF(CALENDRIER!AL$1104:AL$1468,CALENDRIER!$B$6))/2)","v":0},{"$f":"(COUNTIF(CALENDRIER!AM$1104:AM$1468,CALENDRIER!$A$6))+((COUNTIF(CALENDRIER!AM$1104:AM$1468,CALENDRIER!$B$6))/2)","v":0},{"$f":"(COUNTIF(CALENDRIER!AN$1104:AN$1468,CALENDRIER!$A$6))+((COUNTIF(CALENDRIER!AN$1104:AN$1468,CALENDRIER!$B$6))/2)","v":0},{"$f":"(COUNTIF(CALENDRIER!AO$1104:AO$1468,CALENDRIER!$A$6))+((COUNTIF(CALENDRIER!AO$1104:AO$1468,CALENDRIER!$B$6))/2)","v":0},{"$f":"(COUNTIF(CALENDRIER!AP$1104:AP$1468,CALENDRIER!$A$6))+((COUNTIF(CALENDRIER!AP$1104:AP$1468,CALENDRIER!$B$6))/2)","v":0},{"$f":"(COUNTIF(CALENDRIER!AQ$1104:AQ$1468,CALENDRIER!$A$6))+((COUNTIF(CALENDRIER!AQ$1104:AQ$1468,CALENDRIER!$B$6))/2)","v":0},{"$f":"(COUNTIF(CALENDRIER!AR$1104:AR$1468,CALENDRIER!$A$6))+((COUNTIF(CALENDRIER!AR$1104:AR$1468,CALENDRIER!$B$6))/2)","v":0},{"$f":"(COUNTIF(CALENDRIER!AS$1104:AS$1468,CALENDRIER!$A$6))+((COUNTIF(CALENDRIER!AS$1104:AS$1468,CALENDRIER!$B$6))/2)","v":0},{"$f":"(COUNTIF(CALENDRIER!AT$1104:AT$1468,CALENDRIER!$A$6))+((COUNTIF(CALENDRIER!AT$1104:AT$1468,CALENDRIER!$B$6))/2)","v":0},{"$f":"(COUNTIF(CALENDRIER!AU$1104:AU$1468,CALENDRIER!$A$6))+((COUNTIF(CALENDRIER!AU$1104:AU$1468,CALENDRIER!$B$6))/2)","v":0},{"$f":"(COUNTIF(CALENDRIER!AV$1104:AV$1468,CALENDRIER!$A$6))+((COUNTIF(CALENDRIER!AV$1104:AV$1468,CALENDRIER!$B$6))/2)","v":0},{"$f":"(COUNTIF(CALENDRIER!AW$1104:AW$1468,CALENDRIER!$A$6))+((COUNTIF(CALENDRIER!AW$1104:AW$1468,CALENDRIER!$B$6))/2)","v":0},{"$f":"(COUNTIF(CALENDRIER!AX$1104:AX$1468,CALENDRIER!$A$6))+((COUNTIF(CALENDRIER!AX$1104:AX$1468,CALENDRIER!$B$6))/2)","v":0},{"$f":"(COUNTIF(CALENDRIER!AY$1104:AY$1468,CALENDRIER!$A$6))+((COUNTIF(CALENDRIER!AY$1104:AY$1468,CALENDRIER!$B$6))/2)","v":0},{"$f":"(COUNTIF(CALENDRIER!AZ$1104:AZ$1468,CALENDRIER!$A$6))+((COUNTIF(CALENDRIER!AZ$1104:AZ$1468,CALENDRIER!$B$6))/2)","v":0},{"$f":"(COUNTIF(CALENDRIER!BA$1104:BA$1468,CALENDRIER!$A$6))+((COUNTIF(CALENDRIER!BA$1104:BA$1468,CALENDRIER!$B$6))/2)","v":0},{"$f":"(COUNTIF(CALENDRIER!BB$1104:BB$1468,CALENDRIER!$A$6))+((COUNTIF(CALENDRIER!BB$1104:BB$1468,CALENDRIER!$B$6))/2)","v":0},{"$f":"(COUNTIF(CALENDRIER!BC$1104:BC$1468,CALENDRIER!$A$6))+((COUNTIF(CALENDRIER!BC$1104:BC$1468,CALENDRIER!$B$6))/2)","v":0},{"$f":"(COUNTIF(CALENDRIER!BD$1104:BD$1468,CALENDRIER!$A$6))+((COUNTIF(CALENDRIER!BD$1104:BD$1468,CALENDRIER!$B$6))/2)","v":0},{"$f":"(COUNTIF(CALENDRIER!BE$1104:BE$1468,CALENDRIER!$A$6))+((COUNTIF(CALENDRIER!BE$1104:BE$1468,CALENDRIER!$B$6))/2)","v":0},{"$f":"(COUNTIF(CALENDRIER!BF$1104:BF$1468,CALENDRIER!$A$6))+((COUNTIF(CALENDRIER!BF$1104:BF$1468,CALENDRIER!$B$6))/2)","v":0},{"$f":"(COUNTIF(CALENDRIER!BG$1104:BG$1468,CALENDRIER!$A$6))+((COUNTIF(CALENDRIER!BG$1104:BG$1468,CALENDRIER!$B$6))/2)","v":0},{"$f":"(COUNTIF(CALENDRIER!BH$1104:BH$1468,CALENDRIER!$A$6))+((COUNTIF(CALENDRIER!BH$1104:BH$1468,CALENDRIER!$B$6))/2)","v":0},{"$f":"(COUNTIF(CALENDRIER!BI$1104:BI$1468,CALENDRIER!$A$6))+((COUNTIF(CALENDRIER!BI$1104:BI$1468,CALENDRIER!$B$6))/2)","v":0},{"$f":"(COUNTIF(CALENDRIER!BJ$1104:BJ$1468,CALENDRIER!$A$6))+((COUNTIF(CALENDRIER!BJ$1104:BJ$1468,CALENDRIER!$B$6))/2)","v":0},{"$f":"(COUNTIF(CALENDRIER!BK$1104:BK$1468,CALENDRIER!$A$6))+((COUNTIF(CALENDRIER!BK$1104:BK$1468,CALENDRIER!$B$6))/2)","v":0},{"$f":"(COUNTIF(CALENDRIER!BL$1104:BL$1468,CALENDRIER!$A$6))+((COUNTIF(CALENDRIER!BL$1104:BL$1468,CALENDRIER!$B$6))/2)","v":0},{"$f":"(COUNTIF(CALENDRIER!BM$1104:BM$1468,CALENDRIER!$A$6))+((COUNTIF(CALENDRIER!BM$1104:BM$1468,CALENDRIER!$B$6))/2)","v":0},{"$f":"(COUNTIF(CALENDRIER!BN$1104:BN$1468,CALENDRIER!$A$6))+((COUNTIF(CALENDRIER!BN$1104:BN$1468,CALENDRIER!$B$6))/2)","v":0},{"$f":"(COUNTIF(CALENDRIER!BO$1104:BO$1468,CALENDRIER!$A$6))+((COUNTIF(CALENDRIER!BO$1104:BO$1468,CALENDRIER!$B$6))/2)","v":0},{"$f":"(COUNTIF(CALENDRIER!BP$1104:BP$1468,CALENDRIER!$A$6))+((COUNTIF(CALENDRIER!BP$1104:BP$1468,CALENDRIER!$B$6))/2)","v":0},{"$f":"(COUNTIF(CALENDRIER!BQ$1104:BQ$1468,CALENDRIER!$A$6))+((COUNTIF(CALENDRIER!BQ$1104:BQ$1468,CALENDRIER!$B$6))/2)","v":0},{"$f":"(COUNTIF(CALENDRIER!BR$1104:BR$1468,CALENDRIER!$A$6))+((COUNTIF(CALENDRIER!BR$1104:BR$1468,CALENDRIER!$B$6))/2)","v":0},{"$f":"(COUNTIF(CALENDRIER!BS$1104:BS$1468,CALENDRIER!$A$6))+((COUNTIF(CALENDRIER!BS$1104:BS$1468,CALENDRIER!$B$6))/2)","v":0},{"$f":"(COUNTIF(CALENDRIER!BT$1104:BT$1468,CALENDRIER!$A$6))+((COUNTIF(CALENDRIER!BT$1104:BT$1468,CALENDRIER!$B$6))/2)","v":0},{"$f":"(COUNTIF(CALENDRIER!BU$1104:BU$1468,CALENDRIER!$A$6))+((COUNTIF(CALENDRIER!BU$1104:BU$1468,CALENDRIER!$B$6))/2)","v":0},{"$f":"(COUNTIF(CALENDRIER!BV$1104:BV$1468,CALENDRIER!$A$6))+((COUNTIF(CALENDRIER!BV$1104:BV$1468,CALENDRIER!$B$6))/2)","v":0},{"$f":"(COUNTIF(CALENDRIER!BW$1104:BW$1468,CALENDRIER!$A$6))+((COUNTIF(CALENDRIER!BW$1104:BW$1468,CALENDRIER!$B$6))/2)","v":0},{"$f":"(COUNTIF(CALENDRIER!BX$1104:BX$1468,CALENDRIER!$A$6))+((COUNTIF(CALENDRIER!BX$1104:BX$1468,CALENDRIER!$B$6))/2)","v":0},{"$f":"(COUNTIF(CALENDRIER!BY$1104:BY$1468,CALENDRIER!$A$6))+((COUNTIF(CALENDRIER!BY$1104:BY$1468,CALENDRIER!$B$6))/2)","v":0},{"$f":"(COUNTIF(CALENDRIER!BZ$1104:BZ$1468,CALENDRIER!$A$6))+((COUNTIF(CALENDRIER!BZ$1104:BZ$1468,CALENDRIER!$B$6))/2)","v":0},{"$f":"(COUNTIF(CALENDRIER!CA$1104:CA$1468,CALENDRIER!$A$6))+((COUNTIF(CALENDRIER!CA$1104:CA$1468,CALENDRIER!$B$6))/2)","v":0},{"$f":"(COUNTIF(CALENDRIER!CB$1104:CB$1468,CALENDRIER!$A$6))+((COUNTIF(CALENDRIER!CB$1104:CB$1468,CALENDRIER!$B$6))/2)","v":0},{"$f":"(COUNTIF(CALENDRIER!CC$1104:CC$1468,CALENDRIER!$A$6))+((COUNTIF(CALENDRIER!CC$1104:CC$1468,CALENDRIER!$B$6))/2)","v":0},{"$f":"(COUNTIF(CALENDRIER!CD$1104:CD$1468,CALENDRIER!$A$6))+((COUNTIF(CALENDRIER!CD$1104:CD$1468,CALENDRIER!$B$6))/2)","v":0},{"$f":"(COUNTIF(CALENDRIER!CE$1104:CE$1468,CALENDRIER!$A$6))+((COUNTIF(CALENDRIER!CE$1104:CE$1468,CALENDRIER!$B$6))/2)","v":0},{"$f":"(COUNTIF(CALENDRIER!CF$1104:CF$1468,CALENDRIER!$A$6))+((COUNTIF(CALENDRIER!CF$1104:CF$1468,CALENDRIER!$B$6))/2)","v":0},{"$f":"(COUNTIF(CALENDRIER!CG$1104:CG$1468,CALENDRIER!$A$6))+((COUNTIF(CALENDRIER!CG$1104:CG$1468,CALENDRIER!$B$6))/2)","v":0},{"$f":"(COUNTIF(CALENDRIER!CH$1104:CH$1468,CALENDRIER!$A$6))+((COUNTIF(CALENDRIER!CH$1104:CH$1468,CALENDRIER!$B$6))/2)","v":0},{"$f":"(COUNTIF(CALENDRIER!CI$1104:CI$1468,CALENDRIER!$A$6))+((COUNTIF(CALENDRIER!CI$1104:CI$1468,CALENDRIER!$B$6))/2)","v":0},{"$f":"(COUNTIF(CALENDRIER!CJ$1104:CJ$1468,CALENDRIER!$A$6))+((COUNTIF(CALENDRIER!CJ$1104:CJ$1468,CALENDRIER!$B$6))/2)","v":0},{"$f":"(COUNTIF(CALENDRIER!CK$1104:CK$1468,CALENDRIER!$A$6))+((COUNTIF(CALENDRIER!CK$1104:CK$1468,CALENDRIER!$B$6))/2)","v":0},{"$f":"(COUNTIF(CALENDRIER!CL$1104:CL$1468,CALENDRIER!$A$6))+((COUNTIF(CALENDRIER!CL$1104:CL$1468,CALENDRIER!$B$6))/2)","v":0},{"$f":"(COUNTIF(CALENDRIER!CM$1104:CM$1468,CALENDRIER!$A$6))+((COUNTIF(CALENDRIER!CM$1104:CM$1468,CALENDRIER!$B$6))/2)","v":0},{"$f":"(COUNTIF(CALENDRIER!CN$1104:CN$1468,CALENDRIER!$A$6))+((COUNTIF(CALENDRIER!CN$1104:CN$1468,CALENDRIER!$B$6))/2)","v":0},{"$f":"(COUNTIF(CALENDRIER!CO$1104:CO$1468,CALENDRIER!$A$6))+((COUNTIF(CALENDRIER!CO$1104:CO$1468,CALENDRIER!$B$6))/2)","v":0},{"$f":"(COUNTIF(CALENDRIER!CP$1104:CP$1468,CALENDRIER!$A$6))+((COUNTIF(CALENDRIER!CP$1104:CP$1468,CALENDRIER!$B$6))/2)","v":0},{"$f":"(COUNTIF(CALENDRIER!CQ$1104:CQ$1468,CALENDRIER!$A$6))+((COUNTIF(CALENDRIER!CQ$1104:CQ$1468,CALENDRIER!$B$6))/2)","v":0},{"$f":"(COUNTIF(CALENDRIER!CR$1104:CR$1468,CALENDRIER!$A$6))+((COUNTIF(CALENDRIER!CR$1104:CR$1468,CALENDRIER!$B$6))/2)","v":0},{"$f":"(COUNTIF(CALENDRIER!CS$1104:CS$1468,CALENDRIER!$A$6))+((COUNTIF(CALENDRIER!CS$1104:CS$1468,CALENDRIER!$B$6))/2)","v":0},{"$f":"(COUNTIF(CALENDRIER!CT$1104:CT$1468,CALENDRIER!$A$6))+((COUNTIF(CALENDRIER!CT$1104:CT$1468,CALENDRIER!$B$6))/2)","v":0},{"$f":"(COUNTIF(CALENDRIER!CU$1104:CU$1468,CALENDRIER!$A$6))+((COUNTIF(CALENDRIER!CU$1104:CU$1468,CALENDRIER!$B$6))/2)","v":0},{"$f":"(COUNTIF(CALENDRIER!CV$1104:CV$1468,CALENDRIER!$A$6))+((COUNTIF(CALENDRIER!CV$1104:CV$1468,CALENDRIER!$B$6))/2)","v":0},{"$f":"(COUNTIF(CALENDRIER!CW$1104:CW$1468,CALENDRIER!$A$6))+((COUNTIF(CALENDRIER!CW$1104:CW$1468,CALENDRIER!$B$6))/2)","v":0},{"$f":"(COUNTIF(CALENDRIER!CX$1104:CX$1468,CALENDRIER!$A$6))+((COUNTIF(CALENDRIER!CX$1104:CX$1468,CALENDRIER!$B$6))/2)","v":0},{"$f":"(COUNTIF(CALENDRIER!CY$1104:CY$1468,CALENDRIER!$A$6))+((COUNTIF(CALENDRIER!CY$1104:CY$1468,CALENDRIER!$B$6))/2)","v":0},{"$f":"(COUNTIF(CALENDRIER!CZ$1104:CZ$1468,CALENDRIER!$A$6))+((COUNTIF(CALENDRIER!CZ$1104:CZ$1468,CALENDRIER!$B$6))/2)","v":0},{"$f":"(COUNTIF(CALENDRIER!DA$1104:DA$1468,CALENDRIER!$A$6))+((COUNTIF(CALENDRIER!DA$1104:DA$1468,CALENDRIER!$B$6))/2)","v":0},{"$f":"(COUNTIF(CALENDRIER!DB$1104:DB$1468,CALENDRIER!$A$6))+((COUNTIF(CALENDRIER!DB$1104:DB$1468,CALENDRIER!$B$6))/2)","v":0},{"$f":"(COUNTIF(CALENDRIER!DC$1104:DC$1468,CALENDRIER!$A$6))+((COUNTIF(CALENDRIER!DC$1104:DC$1468,CALENDRIER!$B$6))/2)","v":0},{"$f":"(COUNTIF(CALENDRIER!DD$1104:DD$1468,CALENDRIER!$A$6))+((COUNTIF(CALENDRIER!DD$1104:DD$1468,CALENDRIER!$B$6))/2)","v":0},{"$f":"(COUNTIF(CALENDRIER!DE$1104:DE$1468,CALENDRIER!$A$6))+((COUNTIF(CALENDRIER!DE$1104:DE$1468,CALENDRIER!$B$6))/2)","v":0},{"$f":"(COUNTIF(CALENDRIER!DF$1104:DF$1468,CALENDRIER!$A$6))+((COUNTIF(CALENDRIER!DF$1104:DF$1468,CALENDRIER!$B$6))/2)","v":0},{"$f":"(COUNTIF(CALENDRIER!DG$1104:DG$1468,CALENDRIER!$A$6))+((COUNTIF(CALENDRIER!DG$1104:DG$1468,CALENDRIER!$B$6))/2)","v":0},{"$f":"(COUNTIF(CALENDRIER!DH$1104:DH$1468,CALENDRIER!$A$6))+((COUNTIF(CALENDRIER!DH$1104:DH$1468,CALENDRIER!$B$6))/2)","v":0},{"$f":"(COUNTIF(CALENDRIER!DI$1104:DI$1468,CALENDRIER!$A$6))+((COUNTIF(CALENDRIER!DI$1104:DI$1468,CALENDRIER!$B$6))/2)","v":0},{"$f":"(COUNTIF(CALENDRIER!DJ$1104:DJ$1468,CALENDRIER!$A$6))+((COUNTIF(CALENDRIER!DJ$1104:DJ$1468,CALENDRIER!$B$6))/2)","v":0},{"$f":"(COUNTIF(CALENDRIER!DK$1104:DK$1468,CALENDRIER!$A$6))+((COUNTIF(CALENDRIER!DK$1104:DK$1468,CALENDRIER!$B$6))/2)","v":0},{"$f":"(COUNTIF(CALENDRIER!DL$1104:DL$1468,CALENDRIER!$A$6))+((COUNTIF(CALENDRIER!DL$1104:DL$1468,CALENDRIER!$B$6))/2)","v":0},{"$f":"(COUNTIF(CALENDRIER!DM$1104:DM$1468,CALENDRIER!$A$6))+((COUNTIF(CALENDRIER!DM$1104:DM$1468,CALENDRIER!$B$6))/2)","v":0},{"$f":"(COUNTIF(CALENDRIER!DN$1104:DN$1468,CALENDRIER!$A$6))+((COUNTIF(CALENDRIER!DN$1104:DN$1468,CALENDRIER!$B$6))/2)","v":0},{"$f":"(COUNTIF(CALENDRIER!DO$1104:DO$1468,CALENDRIER!$A$6))+((COUNTIF(CALENDRIER!DO$1104:DO$1468,CALENDRIER!$B$6))/2)","v":0},{"$f":"(COUNTIF(CALENDRIER!DP$1104:DP$1468,CALENDRIER!$A$6))+((COUNTIF(CALENDRIER!DP$1104:DP$1468,CALENDRIER!$B$6))/2)","v":0},{"$f":"(COUNTIF(CALENDRIER!DQ$1104:DQ$1468,CALENDRIER!$A$6))+((COUNTIF(CALENDRIER!DQ$1104:DQ$1468,CALENDRIER!$B$6))/2)","v":0},{"$f":"(COUNTIF(CALENDRIER!DR$1104:DR$1468,CALENDRIER!$A$6))+((COUNTIF(CALENDRIER!DR$1104:DR$1468,CALENDRIER!$B$6))/2)","v":0},{"$f":"(COUNTIF(CALENDRIER!DS$1104:DS$1468,CALENDRIER!$A$6))+((COUNTIF(CALENDRIER!DS$1104:DS$1468,CALENDRIER!$B$6))/2)","v":0},{"$f":"(COUNTIF(CALENDRIER!DT$1104:DT$1468,CALENDRIER!$A$6))+((COUNTIF(CALENDRIER!DT$1104:DT$1468,CALENDRIER!$B$6))/2)","v":0},{"$f":"(COUNTIF(CALENDRIER!DU$1104:DU$1468,CALENDRIER!$A$6))+((COUNTIF(CALENDRIER!DU$1104:DU$1468,CALENDRIER!$B$6))/2)","v":0},{"$f":"(COUNTIF(CALENDRIER!DV$1104:DV$1468,CALENDRIER!$A$6))+((COUNTIF(CALENDRIER!DV$1104:DV$1468,CALENDRIER!$B$6))/2)","v":0},{"$f":"(COUNTIF(CALENDRIER!DW$1104:DW$1468,CALENDRIER!$A$6))+((COUNTIF(CALENDRIER!DW$1104:DW$1468,CALENDRIER!$B$6))/2)","v":0},{"$f":"(COUNTIF(CALENDRIER!DX$1104:DX$1468,CALENDRIER!$A$6))+((COUNTIF(CALENDRIER!DX$1104:DX$1468,CALENDRIER!$B$6))/2)","v":0},{"$f":"(COUNTIF(CALENDRIER!DY$1104:DY$1468,CALENDRIER!$A$6))+((COUNTIF(CALENDRIER!DY$1104:DY$1468,CALENDRIER!$B$6))/2)","v":0},{"$f":"(COUNTIF(CALENDRIER!DZ$1104:DZ$1468,CALENDRIER!$A$6))+((COUNTIF(CALENDRIER!DZ$1104:DZ$1468,CALENDRIER!$B$6))/2)","v":0},{"$f":"(COUNTIF(CALENDRIER!EA$1104:EA$1468,CALENDRIER!$A$6))+((COUNTIF(CALENDRIER!EA$1104:EA$1468,CALENDRIER!$B$6))/2)","v":0},{"$f":"(COUNTIF(CALENDRIER!EB$1104:EB$1468,CALENDRIER!$A$6))+((COUNTIF(CALENDRIER!EB$1104:EB$1468,CALENDRIER!$B$6))/2)","v":0},{"$f":"(COUNTIF(CALENDRIER!EC$1104:EC$1468,CALENDRIER!$A$6))+((COUNTIF(CALENDRIER!EC$1104:EC$1468,CALENDRIER!$B$6))/2)","v":0},{"$f":"(COUNTIF(CALENDRIER!ED$1104:ED$1468,CALENDRIER!$A$6))+((COUNTIF(CALENDRIER!ED$1104:ED$1468,CALENDRIER!$B$6))/2)","v":0},{"$f":"(COUNTIF(CALENDRIER!EE$1104:EE$1468,CALENDRIER!$A$6))+((COUNTIF(CALENDRIER!EE$1104:EE$1468,CALENDRIER!$B$6))/2)","v":0},{"$f":"(COUNTIF(CALENDRIER!EF$1104:EF$1468,CALENDRIER!$A$6))+((COUNTIF(CALENDRIER!EF$1104:EF$1468,CALENDRIER!$B$6))/2)","v":0},{"$f":"(COUNTIF(CALENDRIER!EG$1104:EG$1468,CALENDRIER!$A$6))+((COUNTIF(CALENDRIER!EG$1104:EG$1468,CALENDRIER!$B$6))/2)","v":0},{"$f":"(COUNTIF(CALENDRIER!EH$1104:EH$1468,CALENDRIER!$A$6))+((COUNTIF(CALENDRIER!EH$1104:EH$1468,CALENDRIER!$B$6))/2)","v":0},{"$f":"(COUNTIF(CALENDRIER!EI$1104:EI$1468,CALENDRIER!$A$6))+((COUNTIF(CALENDRIER!EI$1104:EI$1468,CALENDRIER!$B$6))/2)","v":0},{"$f":"(COUNTIF(CALENDRIER!EJ$1104:EJ$1468,CALENDRIER!$A$6))+((COUNTIF(CALENDRIER!EJ$1104:EJ$1468,CALENDRIER!$B$6))/2)","v":0},{"$f":"(COUNTIF(CALENDRIER!EK$1104:EK$1468,CALENDRIER!$A$6))+((COUNTIF(CALENDRIER!EK$1104:EK$1468,CALENDRIER!$B$6))/2)","v":0},{"$f":"(COUNTIF(CALENDRIER!EL$1104:EL$1468,CALENDRIER!$A$6))+((COUNTIF(CALENDRIER!EL$1104:EL$1468,CALENDRIER!$B$6))/2)","v":0},{"$f":"(COUNTIF(CALENDRIER!EM$1104:EM$1468,CALENDRIER!$A$6))+((COUNTIF(CALENDRIER!EM$1104:EM$1468,CALENDRIER!$B$6))/2)","v":0},{"$f":"(COUNTIF(CALENDRIER!EN$1104:EN$1468,CALENDRIER!$A$6))+((COUNTIF(CALENDRIER!EN$1104:EN$1468,CALENDRIER!$B$6))/2)","v":0},{"$f":"(COUNTIF(CALENDRIER!EO$1104:EO$1468,CALENDRIER!$A$6))+((COUNTIF(CALENDRIER!EO$1104:EO$1468,CALENDRIER!$B$6))/2)","v":0},{"$f":"(COUNTIF(CALENDRIER!EP$1104:EP$1468,CALENDRIER!$A$6))+((COUNTIF(CALENDRIER!EP$1104:EP$1468,CALENDRIER!$B$6))/2)","v":0},{"$f":"(COUNTIF(CALENDRIER!EQ$1104:EQ$1468,CALENDRIER!$A$6))+((COUNTIF(CALENDRIER!EQ$1104:EQ$1468,CALENDRIER!$B$6))/2)","v":0},{"$f":"(COUNTIF(CALENDRIER!ER$1104:ER$1468,CALENDRIER!$A$6))+((COUNTIF(CALENDRIER!ER$1104:ER$1468,CALENDRIER!$B$6))/2)","v":0},{"$f":"(COUNTIF(CALENDRIER!ES$1104:ES$1468,CALENDRIER!$A$6))+((COUNTIF(CALENDRIER!ES$1104:ES$1468,CALENDRIER!$B$6))/2)","v":0},{"$f":"(COUNTIF(CALENDRIER!ET$1104:ET$1468,CALENDRIER!$A$6))+((COUNTIF(CALENDRIER!ET$1104:ET$1468,CALENDRIER!$B$6))/2)","v":0},{"$f":"(COUNTIF(CALENDRIER!EU$1104:EU$1468,CALENDRIER!$A$6))+((COUNTIF(CALENDRIER!EU$1104:EU$1468,CALENDRIER!$B$6))/2)","v":0},{"$f":"(COUNTIF(CALENDRIER!EV$1104:EV$1468,CALENDRIER!$A$6))+((COUNTIF(CALENDRIER!EV$1104:EV$1468,CALENDRIER!$B$6))/2)","v":0},{"$f":"(COUNTIF(CALENDRIER!EW$1104:EW$1468,CALENDRIER!$A$6))+((COUNTIF(CALENDRIER!EW$1104:EW$1468,CALENDRIER!$B$6))/2)","v":0},{"$f":"(COUNTIF(CALENDRIER!EX$1104:EX$1468,CALENDRIER!$A$6))+((COUNTIF(CALENDRIER!EX$1104:EX$1468,CALENDRIER!$B$6))/2)","v":0},{"$f":"(COUNTIF(CALENDRIER!EY$1104:EY$1468,CALENDRIER!$A$6))+((COUNTIF(CALENDRIER!EY$1104:EY$1468,CALENDRIER!$B$6))/2)","v":0},{"$f":"(COUNTIF(CALENDRIER!EZ$1104:EZ$1468,CALENDRIER!$A$6))+((COUNTIF(CALENDRIER!EZ$1104:EZ$1468,CALENDRIER!$B$6))/2)","v":0},{"$f":"(COUNTIF(CALENDRIER!FA$1104:FA$1468,CALENDRIER!$A$6))+((COUNTIF(CALENDRIER!FA$1104:FA$1468,CALENDRIER!$B$6))/2)","v":0},{"$f":"(COUNTIF(CALENDRIER!FB$1104:FB$1468,CALENDRIER!$A$6))+((COUNTIF(CALENDRIER!FB$1104:FB$1468,CALENDRIER!$B$6))/2)","v":0},{"$f":"(COUNTIF(CALENDRIER!FC$1104:FC$1468,CALENDRIER!$A$6))+((COUNTIF(CALENDRIER!FC$1104:FC$1468,CALENDRIER!$B$6))/2)","v":0},{"$f":"(COUNTIF(CALENDRIER!FD$1104:FD$1468,CALENDRIER!$A$6))+((COUNTIF(CALENDRIER!FD$1104:FD$1468,CALENDRIER!$B$6))/2)","v":0},{"$f":"(COUNTIF(CALENDRIER!FE$1104:FE$1468,CALENDRIER!$A$6))+((COUNTIF(CALENDRIER!FE$1104:FE$1468,CALENDRIER!$B$6))/2)","v":0},{"$f":"(COUNTIF(CALENDRIER!FF$1104:FF$1468,CALENDRIER!$A$6))+((COUNTIF(CALENDRIER!FF$1104:FF$1468,CALENDRIER!$B$6))/2)","v":0},{"$f":"(COUNTIF(CALENDRIER!FG$1104:FG$1468,CALENDRIER!$A$6))+((COUNTIF(CALENDRIER!FG$1104:FG$1468,CALENDRIER!$B$6))/2)","v":0},{"$f":"(COUNTIF(CALENDRIER!FH$1104:FH$1468,CALENDRIER!$A$6))+((COUNTIF(CALENDRIER!FH$1104:FH$1468,CALENDRIER!$B$6))/2)","v":0},{"$f":"(COUNTIF(CALENDRIER!FI$1104:FI$1468,CALENDRIER!$A$6))+((COUNTIF(CALENDRIER!FI$1104:FI$1468,CALENDRIER!$B$6))/2)","v":0},{"$f":"(COUNTIF(CALENDRIER!FJ$1104:FJ$1468,CALENDRIER!$A$6))+((COUNTIF(CALENDRIER!FJ$1104:FJ$1468,CALENDRIER!$B$6))/2)","v":0},{"$f":"(COUNTIF(CALENDRIER!FK$1104:FK$1468,CALENDRIER!$A$6))+((COUNTIF(CALENDRIER!FK$1104:FK$1468,CALENDRIER!$B$6))/2)","v":0},{"$f":"(COUNTIF(CALENDRIER!FL$1104:FL$1468,CALENDRIER!$A$6))+((COUNTIF(CALENDRIER!FL$1104:FL$1468,CALENDRIER!$B$6))/2)","v":0},{"$f":"(COUNTIF(CALENDRIER!FM$1104:FM$1468,CALENDRIER!$A$6))+((COUNTIF(CALENDRIER!FM$1104:FM$1468,CALENDRIER!$B$6))/2)","v":0},{"$f":"(COUNTIF(CALENDRIER!FN$1104:FN$1468,CALENDRIER!$A$6))+((COUNTIF(CALENDRIER!FN$1104:FN$1468,CALENDRIER!$B$6))/2)","v":0},{"$f":"(COUNTIF(CALENDRIER!FO$1104:FO$1468,CALENDRIER!$A$6))+((COUNTIF(CALENDRIER!FO$1104:FO$1468,CALENDRIER!$B$6))/2)","v":0},{"$f":"(COUNTIF(CALENDRIER!FP$1104:FP$1468,CALENDRIER!$A$6))+((COUNTIF(CALENDRIER!FP$1104:FP$1468,CALENDRIER!$B$6))/2)","v":0},{"$f":"(COUNTIF(CALENDRIER!FQ$1104:FQ$1468,CALENDRIER!$A$6))+((COUNTIF(CALENDRIER!FQ$1104:FQ$1468,CALENDRIER!$B$6))/2)","v":0},{"$f":"(COUNTIF(CALENDRIER!FR$1104:FR$1468,CALENDRIER!$A$6))+((COUNTIF(CALENDRIER!FR$1104:FR$1468,CALENDRIER!$B$6))/2)","v":0},{"$f":"(COUNTIF(CALENDRIER!FS$1104:FS$1468,CALENDRIER!$A$6))+((COUNTIF(CALENDRIER!FS$1104:FS$1468,CALENDRIER!$B$6))/2)","v":0},{"$f":"(COUNTIF(CALENDRIER!FT$1104:FT$1468,CALENDRIER!$A$6))+((COUNTIF(CALENDRIER!FT$1104:FT$1468,CALENDRIER!$B$6))/2)","v":0},{"$f":"(COUNTIF(CALENDRIER!FU$1104:FU$1468,CALENDRIER!$A$6))+((COUNTIF(CALENDRIER!FU$1104:FU$1468,CALENDRIER!$B$6))/2)","v":0},{"$f":"(COUNTIF(CALENDRIER!FV$1104:FV$1468,CALENDRIER!$A$6))+((COUNTIF(CALENDRIER!FV$1104:FV$1468,CALENDRIER!$B$6))/2)","v":0},{"$f":"(COUNTIF(CALENDRIER!FW$1104:FW$1468,CALENDRIER!$A$6))+((COUNTIF(CALENDRIER!FW$1104:FW$1468,CALENDRIER!$B$6))/2)","v":0},{"$f":"(COUNTIF(CALENDRIER!FX$1104:FX$1468,CALENDRIER!$A$6))+((COUNTIF(CALENDRIER!FX$1104:FX$1468,CALENDRIER!$B$6))/2)","v":0},{"$f":"(COUNTIF(CALENDRIER!FY$1104:FY$1468,CALENDRIER!$A$6))+((COUNTIF(CALENDRIER!FY$1104:FY$1468,CALENDRIER!$B$6))/2)","v":0},{"$f":"(COUNTIF(CALENDRIER!FZ$1104:FZ$1468,CALENDRIER!$A$6))+((COUNTIF(CALENDRIER!FZ$1104:FZ$1468,CALENDRIER!$B$6))/2)","v":0},{"$f":"(COUNTIF(CALENDRIER!GA$1104:GA$1468,CALENDRIER!$A$6))+((COUNTIF(CALENDRIER!GA$1104:GA$1468,CALENDRIER!$B$6))/2)","v":0},{"$f":"(COUNTIF(CALENDRIER!GB$1104:GB$1468,CALENDRIER!$A$6))+((COUNTIF(CALENDRIER!GB$1104:GB$1468,CALENDRIER!$B$6))/2)","v":0},{"$f":"(COUNTIF(CALENDRIER!GC$1104:GC$1468,CALENDRIER!$A$6))+((COUNTIF(CALENDRIER!GC$1104:GC$1468,CALENDRIER!$B$6))/2)","v":0},{"$f":"(COUNTIF(CALENDRIER!GD$1104:GD$1468,CALENDRIER!$A$6))+((COUNTIF(CALENDRIER!GD$1104:GD$1468,CALENDRIER!$B$6))/2)","v":0},{"$f":"(COUNTIF(CALENDRIER!GE$1104:GE$1468,CALENDRIER!$A$6))+((COUNTIF(CALENDRIER!GE$1104:GE$1468,CALENDRIER!$B$6))/2)","v":0},{"$f":"(COUNTIF(CALENDRIER!GF$1104:GF$1468,CALENDRIER!$A$6))+((COUNTIF(CALENDRIER!GF$1104:GF$1468,CALENDRIER!$B$6))/2)","v":0},{"$f":"(COUNTIF(CALENDRIER!GG$1104:GG$1468,CALENDRIER!$A$6))+((COUNTIF(CALENDRIER!GG$1104:GG$1468,CALENDRIER!$B$6))/2)","v":0},{"$f":"(COUNTIF(CALENDRIER!GH$1104:GH$1468,CALENDRIER!$A$6))+((COUNTIF(CALENDRIER!GH$1104:GH$1468,CALENDRIER!$B$6))/2)","v":0},{"$f":"(COUNTIF(CALENDRIER!GI$1104:GI$1468,CALENDRIER!$A$6))+((COUNTIF(CALENDRIER!GI$1104:GI$1468,CALENDRIER!$B$6))/2)","v":0},{"$f":"(COUNTIF(CALENDRIER!GJ$1104:GJ$1468,CALENDRIER!$A$6))+((COUNTIF(CALENDRIER!GJ$1104:GJ$1468,CALENDRIER!$B$6))/2)","v":0},{"$f":"(COUNTIF(CALENDRIER!GK$1104:GK$1468,CALENDRIER!$A$6))+((COUNTIF(CALENDRIER!GK$1104:GK$1468,CALENDRIER!$B$6))/2)","v":0},{"$f":"(COUNTIF(CALENDRIER!GL$1104:GL$1468,CALENDRIER!$A$6))+((COUNTIF(CALENDRIER!GL$1104:GL$1468,CALENDRIER!$B$6))/2)","v":0},{"$f":"(COUNTIF(CALENDRIER!GM$1104:GM$1468,CALENDRIER!$A$6))+((COUNTIF(CALENDRIER!GM$1104:GM$1468,CALENDRIER!$B$6))/2)","v":0},{"$f":"(COUNTIF(CALENDRIER!GN$1104:GN$1468,CALENDRIER!$A$6))+((COUNTIF(CALENDRIER!GN$1104:GN$1468,CALENDRIER!$B$6))/2)","v":0},{"$f":"(COUNTIF(CALENDRIER!GO$1104:GO$1468,CALENDRIER!$A$6))+((COUNTIF(CALENDRIER!GO$1104:GO$1468,CALENDRIER!$B$6))/2)","v":0},{"$f":"(COUNTIF(CALENDRIER!GP$1104:GP$1468,CALENDRIER!$A$6))+((COUNTIF(CALENDRIER!GP$1104:GP$1468,CALENDRIER!$B$6))/2)","v":0},{"$f":"(COUNTIF(CALENDRIER!GQ$1104:GQ$1468,CALENDRIER!$A$6))+((COUNTIF(CALENDRIER!GQ$1104:GQ$1468,CALENDRIER!$B$6))/2)","v":0},{"$f":"(COUNTIF(CALENDRIER!GR$1104:GR$1468,CALENDRIER!$A$6))+((COUNTIF(CALENDRIER!GR$1104:GR$1468,CALENDRIER!$B$6))/2)","v":0}]
[null,{"$f":"\"Solde \"&CALENDRIER!$A$6&\" \"&A264&\" : \"","v":"Solde … 2018-2019 : "},{"$f":"C265-C266","v":0},{"$f":"D265-D266","v":0},0,0,0,0,0,0,0,0,0,0,0,0,0,0,0,0,0,0,0,0,0,0,0,0,0,0,0,0,0,0,0,0,0,0,0,0,0,0,0,0,0,0,0,0,0,0,0,0,0,0,0,0,0,0,0,0,0,0,0,0,0,0,0,{"$f":"BP265-BP266","v":0},0,0,0,0,0,0,0,0,0,0,0,0,0,0,0,0,0,0,0,0,0,0,0,0,0,0,0,0,0,0,0,0,0,0,0,0,0,0,0,0,0,0,0,0,0,0,0,0,0,0,0,0,0,0,0,0,0,0,0,0,0,0,0,{"$f":"EB265-EB266","v":0},0,0,0,0,0,0,0,0,0,0,0,0,0,0,0,0,0,0,0,0,0,0,0,0,0,0,0,0,0,0,0,0,0,0,0,0,0,0,0,0,0,0,0,0,0,0,0,0,0,0,0,0,0,0,0,0,0,0,0,0,0,0,0,{"$f":"GN265-GN266","v":0},0,0,0,0]
[]
["2019-2020",{"$f":"CALENDRIER!$A$6","v":"…"}]
[null,"SOLDE DEPART"]
[null,{"$f":"CALENDRIER!$A$6&\" PRIS\"","v":"… PRIS"},{"$f":"(COUNTIF(CALENDRIER!C$1469:C$1834,CALENDRIER!$A$6))+((COUNTIF(CALENDRIER!C$1469:C$1834,CALENDRIER!$B$6))/2)","v":0},{"$f":"(COUNTIF(CALENDRIER!D$1469:D$1834,CALENDRIER!$A$6))+((COUNTIF(CALENDRIER!D$1469:D$1834,CALENDRIER!$B$6))/2)","v":0},{"$f":"(COUNTIF(CALENDRIER!E$1469:E$1834,CALENDRIER!$A$6))+((COUNTIF(CALENDRIER!E$1469:E$1834,CALENDRIER!$B$6))/2)","v":0},{"$f":"(COUNTIF(CALENDRIER!F$1469:F$1834,CALENDRIER!$A$6))+((COUNTIF(CALENDRIER!F$1469:F$1834,CALENDRIER!$B$6))/2)","v":0},{"$f":"(COUNTIF(CALENDRIER!G$1469:G$1834,CALENDRIER!$A$6))+((COUNTIF(CALENDRIER!G$1469:G$1834,CALENDRIER!$B$6))/2)","v":0},{"$f":"(COUNTIF(CALENDRIER!H$1469:H$1834,CALENDRIER!$A$6))+((COUNTIF(CALENDRIER!H$1469:H$1834,CALENDRIER!$B$6))/2)","v":0},{"$f":"(COUNTIF(CALENDRIER!I$1469:I$1834,CALENDRIER!$A$6))+((COUNTIF(CALENDRIER!I$1469:I$1834,CALENDRIER!$B$6))/2)","v":0},{"$f":"(COUNTIF(CALENDRIER!J$1469:J$1834,CALENDRIER!$A$6))+((COUNTIF(CALENDRIER!J$1469:J$1834,CALENDRIER!$B$6))/2)","v":0},{"$f":"(COUNTIF(CALENDRIER!K$1469:K$1834,CALENDRIER!$A$6))+((COUNTIF(CALENDRIER!K$1469:K$1834,CALENDRIER!$B$6))/2)","v":0},{"$f":"(COUNTIF(CALENDRIER!L$1469:L$1834,CALENDRIER!$A$6))+((COUNTIF(CALENDRIER!L$1469:L$1834,CALENDRIER!$B$6))/2)","v":0},{"$f":"(COUNTIF(CALENDRIER!M$1469:M$1834,CALENDRIER!$A$6))+((COUNTIF(CALENDRIER!M$1469:M$1834,CALENDRIER!$B$6))/2)","v":0},{"$f":"(COUNTIF(CALENDRIER!N$1469:N$1834,CALENDRIER!$A$6))+((COUNTIF(CALENDRIER!N$1469:N$1834,CALENDRIER!$B$6))/2)","v":0},{"$f":"(COUNTIF(CALENDRIER!O$1469:O$1834,CALENDRIER!$A$6))+((COUNTIF(CALENDRIER!O$1469:O$1834,CALENDRIER!$B$6))/2)","v":0},{"$f":"(COUNTIF(CALENDRIER!P$1469:P$1834,CALENDRIER!$A$6))+((COUNTIF(CALENDRIER!P$1469:P$1834,CALENDRIER!$B$6))/2)","v":0},{"$f":"(COUNTIF(CALENDRIER!Q$1469:Q$1834,CALENDRIER!$A$6))+((COUNTIF(CALENDRIER!Q$1469:Q$1834,CALENDRIER!$B$6))/2)","v":0},{"$f":"(COUNTIF(CALENDRIER!R$1469:R$1834,CALENDRIER!$A$6))+((COUNTIF(CALENDRIER!R$1469:R$1834,CALENDRIER!$B$6))/2)","v":0},{"$f":"(COUNTIF(CALENDRIER!S$1469:S$1834,CALENDRIER!$A$6))+((COUNTIF(CALENDRIER!S$1469:S$1834,CALENDRIER!$B$6))/2)","v":0},{"$f":"(COUNTIF(CALENDRIER!T$1469:T$1834,CALENDRIER!$A$6))+((COUNTIF(CALENDRIER!T$1469:T$1834,CALENDRIER!$B$6))/2)","v":0},{"$f":"(COUNTIF(CALENDRIER!U$1469:U$1834,CALENDRIER!$A$6))+((COUNTIF(CALENDRIER!U$1469:U$1834,CALENDRIER!$B$6))/2)","v":0},{"$f":"(COUNTIF(CALENDRIER!V$1469:V$1834,CALENDRIER!$A$6))+((COUNTIF(CALENDRIER!V$1469:V$1834,CALENDRIER!$B$6))/2)","v":0},{"$f":"(COUNTIF(CALENDRIER!W$1469:W$1834,CALENDRIER!$A$6))+((COUNTIF(CALENDRIER!W$1469:W$1834,CALENDRIER!$B$6))/2)","v":0},{"$f":"(COUNTIF(CALENDRIER!X$1469:X$1834,CALENDRIER!$A$6))+((COUNTIF(CALENDRIER!X$1469:X$1834,CALENDRIER!$B$6))/2)","v":0},{"$f":"(COUNTIF(CALENDRIER!Y$1469:Y$1834,CALENDRIER!$A$6))+((COUNTIF(CALENDRIER!Y$1469:Y$1834,CALENDRIER!$B$6))/2)","v":0},{"$f":"(COUNTIF(CALENDRIER!Z$1469:Z$1834,CALENDRIER!$A$6))+((COUNTIF(CALENDRIER!Z$1469:Z$1834,CALENDRIER!$B$6))/2)","v":0},{"$f":"(COUNTIF(CALENDRIER!AA$1469:AA$1834,CALENDRIER!$A$6))+((COUNTIF(CALENDRIER!AA$1469:AA$1834,CALENDRIER!$B$6))/2)","v":0},{"$f":"(COUNTIF(CALENDRIER!AB$1469:AB$1834,CALENDRIER!$A$6))+((COUNTIF(CALENDRIER!AB$1469:AB$1834,CALENDRIER!$B$6))/2)","v":0},{"$f":"(COUNTIF(CALENDRIER!AC$1469:AC$1834,CALENDRIER!$A$6))+((COUNTIF(CALENDRIER!AC$1469:AC$1834,CALENDRIER!$B$6))/2)","v":0},{"$f":"(COUNTIF(CALENDRIER!AD$1469:AD$1834,CALENDRIER!$A$6))+((COUNTIF(CALENDRIER!AD$1469:AD$1834,CALENDRIER!$B$6))/2)","v":0},{"$f":"(COUNTIF(CALENDRIER!AE$1469:AE$1834,CALENDRIER!$A$6))+((COUNTIF(CALENDRIER!AE$1469:AE$1834,CALENDRIER!$B$6))/2)","v":0},{"$f":"(COUNTIF(CALENDRIER!AF$1469:AF$1834,CALENDRIER!$A$6))+((COUNTIF(CALENDRIER!AF$1469:AF$1834,CALENDRIER!$B$6))/2)","v":0},{"$f":"(COUNTIF(CALENDRIER!AG$1469:AG$1834,CALENDRIER!$A$6))+((COUNTIF(CALENDRIER!AG$1469:AG$1834,CALENDRIER!$B$6))/2)","v":0},{"$f":"(COUNTIF(CALENDRIER!AH$1469:AH$1834,CALENDRIER!$A$6))+((COUNTIF(CALENDRIER!AH$1469:AH$1834,CALENDRIER!$B$6))/2)","v":0},{"$f":"(COUNTIF(CALENDRIER!AI$1469:AI$1834,CALENDRIER!$A$6))+((COUNTIF(CALENDRIER!AI$1469:AI$1834,CALENDRIER!$B$6))/2)","v":0},{"$f":"(COUNTIF(CALENDRIER!AJ$1469:AJ$1834,CALENDRIER!$A$6))+((COUNTIF(CALENDRIER!AJ$1469:AJ$1834,CALENDRIER!$B$6))/2)","v":0},{"$f":"(COUNTIF(CALENDRIER!AK$1469:AK$1834,CALENDRIER!$A$6))+((COUNTIF(CALENDRIER!AK$1469:AK$1834,CALENDRIER!$B$6))/2)","v":0},{"$f":"(COUNTIF(CALENDRIER!AL$1469:AL$1834,CALENDRIER!$A$6))+((COUNTIF(CALENDRIER!AL$1469:AL$1834,CALENDRIER!$B$6))/2)","v":0},{"$f":"(COUNTIF(CALENDRIER!AM$1469:AM$1834,CALENDRIER!$A$6))+((COUNTIF(CALENDRIER!AM$1469:AM$1834,CALENDRIER!$B$6))/2)","v":0},{"$f":"(COUNTIF(CALENDRIER!AN$1469:AN$1834,CALENDRIER!$A$6))+((COUNTIF(CALENDRIER!AN$1469:AN$1834,CALENDRIER!$B$6))/2)","v":0},{"$f":"(COUNTIF(CALENDRIER!AO$1469:AO$1834,CALENDRIER!$A$6))+((COUNTIF(CALENDRIER!AO$1469:AO$1834,CALENDRIER!$B$6))/2)","v":0},{"$f":"(COUNTIF(CALENDRIER!AP$1469:AP$1834,CALENDRIER!$A$6))+((COUNTIF(CALENDRIER!AP$1469:AP$1834,CALENDRIER!$B$6))/2)","v":0},{"$f":"(COUNTIF(CALENDRIER!AQ$1469:AQ$1834,CALENDRIER!$A$6))+((COUNTIF(CALENDRIER!AQ$1469:AQ$1834,CALENDRIER!$B$6))/2)","v":0},{"$f":"(COUNTIF(CALENDRIER!AR$1469:AR$1834,CALENDRIER!$A$6))+((COUNTIF(CALENDRIER!AR$1469:AR$1834,CALENDRIER!$B$6))/2)","v":0},{"$f":"(COUNTIF(CALENDRIER!AS$1469:AS$1834,CALENDRIER!$A$6))+((COUNTIF(CALENDRIER!AS$1469:AS$1834,CALENDRIER!$B$6))/2)","v":0},{"$f":"(COUNTIF(CALENDRIER!AT$1469:AT$1834,CALENDRIER!$A$6))+((COUNTIF(CALENDRIER!AT$1469:AT$1834,CALENDRIER!$B$6))/2)","v":0},{"$f":"(COUNTIF(CALENDRIER!AU$1469:AU$1834,CALENDRIER!$A$6))+((COUNTIF(CALENDRIER!AU$1469:AU$1834,CALENDRIER!$B$6))/2)","v":0},{"$f":"(COUNTIF(CALENDRIER!AV$1469:AV$1834,CALENDRIER!$A$6))+((COUNTIF(CALENDRIER!AV$1469:AV$1834,CALENDRIER!$B$6))/2)","v":0},{"$f":"(COUNTIF(CALENDRIER!AW$1469:AW$1834,CALENDRIER!$A$6))+((COUNTIF(CALENDRIER!AW$1469:AW$1834,CALENDRIER!$B$6))/2)","v":0},{"$f":"(COUNTIF(CALENDRIER!AX$1469:AX$1834,CALENDRIER!$A$6))+((COUNTIF(CALENDRIER!AX$1469:AX$1834,CALENDRIER!$B$6))/2)","v":0},{"$f":"(COUNTIF(CALENDRIER!AY$1469:AY$1834,CALENDRIER!$A$6))+((COUNTIF(CALENDRIER!AY$1469:AY$1834,CALENDRIER!$B$6))/2)","v":0},{"$f":"(COUNTIF(CALENDRIER!AZ$1469:AZ$1834,CALENDRIER!$A$6))+((COUNTIF(CALENDRIER!AZ$1469:AZ$1834,CALENDRIER!$B$6))/2)","v":0},{"$f":"(COUNTIF(CALENDRIER!BA$1469:BA$1834,CALENDRIER!$A$6))+((COUNTIF(CALENDRIER!BA$1469:BA$1834,CALENDRIER!$B$6))/2)","v":0},{"$f":"(COUNTIF(CALENDRIER!BB$1469:BB$1834,CALENDRIER!$A$6))+((COUNTIF(CALENDRIER!BB$1469:BB$1834,CALENDRIER!$B$6))/2)","v":0},{"$f":"(COUNTIF(CALENDRIER!BC$1469:BC$1834,CALENDRIER!$A$6))+((COUNTIF(CALENDRIER!BC$1469:BC$1834,CALENDRIER!$B$6))/2)","v":0},{"$f":"(COUNTIF(CALENDRIER!BD$1469:BD$1834,CALENDRIER!$A$6))+((COUNTIF(CALENDRIER!BD$1469:BD$1834,CALENDRIER!$B$6))/2)","v":0},{"$f":"(COUNTIF(CALENDRIER!BE$1469:BE$1834,CALENDRIER!$A$6))+((COUNTIF(CALENDRIER!BE$1469:BE$1834,CALENDRIER!$B$6))/2)","v":0},{"$f":"(COUNTIF(CALENDRIER!BF$1469:BF$1834,CALENDRIER!$A$6))+((COUNTIF(CALENDRIER!BF$1469:BF$1834,CALENDRIER!$B$6))/2)","v":0},{"$f":"(COUNTIF(CALENDRIER!BG$1469:BG$1834,CALENDRIER!$A$6))+((COUNTIF(CALENDRIER!BG$1469:BG$1834,CALENDRIER!$B$6))/2)","v":0},{"$f":"(COUNTIF(CALENDRIER!BH$1469:BH$1834,CALENDRIER!$A$6))+((COUNTIF(CALENDRIER!BH$1469:BH$1834,CALENDRIER!$B$6))/2)","v":0},{"$f":"(COUNTIF(CALENDRIER!BI$1469:BI$1834,CALENDRIER!$A$6))+((COUNTIF(CALENDRIER!BI$1469:BI$1834,CALENDRIER!$B$6))/2)","v":0},{"$f":"(COUNTIF(CALENDRIER!BJ$1469:BJ$1834,CALENDRIER!$A$6))+((COUNTIF(CALENDRIER!BJ$1469:BJ$1834,CALENDRIER!$B$6))/2)","v":0},{"$f":"(COUNTIF(CALENDRIER!BK$1469:BK$1834,CALENDRIER!$A$6))+((COUNTIF(CALENDRIER!BK$1469:BK$1834,CALENDRIER!$B$6))/2)","v":0},{"$f":"(COUNTIF(CALENDRIER!BL$1469:BL$1834,CALENDRIER!$A$6))+((COUNTIF(CALENDRIER!BL$1469:BL$1834,CALENDRIER!$B$6))/2)","v":0},{"$f":"(COUNTIF(CALENDRIER!BM$1469:BM$1834,CALENDRIER!$A$6))+((COUNTIF(CALENDRIER!BM$1469:BM$1834,CALENDRIER!$B$6))/2)","v":0},{"$f":"(COUNTIF(CALENDRIER!BN$1469:BN$1834,CALENDRIER!$A$6))+((COUNTIF(CALENDRIER!BN$1469:BN$1834,CALENDRIER!$B$6))/2)","v":0},{"$f":"(COUNTIF(CALENDRIER!BO$1469:BO$1834,CALENDRIER!$A$6))+((COUNTIF(CALENDRIER!BO$1469:BO$1834,CALENDRIER!$B$6))/2)","v":0},{"$f":"(COUNTIF(CALENDRIER!BP$1469:BP$1834,CALENDRIER!$A$6))+((COUNTIF(CALENDRIER!BP$1469:BP$1834,CALENDRIER!$B$6))/2)","v":0},{"$f":"(COUNTIF(CALENDRIER!BQ$1469:BQ$1834,CALENDRIER!$A$6))+((COUNTIF(CALENDRIER!BQ$1469:BQ$1834,CALENDRIER!$B$6))/2)","v":0},{"$f":"(COUNTIF(CALENDRIER!BR$1469:BR$1834,CALENDRIER!$A$6))+((COUNTIF(CALENDRIER!BR$1469:BR$1834,CALENDRIER!$B$6))/2)","v":0},{"$f":"(COUNTIF(CALENDRIER!BS$1469:BS$1834,CALENDRIER!$A$6))+((COUNTIF(CALENDRIER!BS$1469:BS$1834,CALENDRIER!$B$6))/2)","v":0},{"$f":"(COUNTIF(CALENDRIER!BT$1469:BT$1834,CALENDRIER!$A$6))+((COUNTIF(CALENDRIER!BT$1469:BT$1834,CALENDRIER!$B$6))/2)","v":0},{"$f":"(COUNTIF(CALENDRIER!BU$1469:BU$1834,CALENDRIER!$A$6))+((COUNTIF(CALENDRIER!BU$1469:BU$1834,CALENDRIER!$B$6))/2)","v":0},{"$f":"(COUNTIF(CALENDRIER!BV$1469:BV$1834,CALENDRIER!$A$6))+((COUNTIF(CALENDRIER!BV$1469:BV$1834,CALENDRIER!$B$6))/2)","v":0},{"$f":"(COUNTIF(CALENDRIER!BW$1469:BW$1834,CALENDRIER!$A$6))+((COUNTIF(CALENDRIER!BW$1469:BW$1834,CALENDRIER!$B$6))/2)","v":0},{"$f":"(COUNTIF(CALENDRIER!BX$1469:BX$1834,CALENDRIER!$A$6))+((COUNTIF(CALENDRIER!BX$1469:BX$1834,CALENDRIER!$B$6))/2)","v":0},{"$f":"(COUNTIF(CALENDRIER!BY$1469:BY$1834,CALENDRIER!$A$6))+((COUNTIF(CALENDRIER!BY$1469:BY$1834,CALENDRIER!$B$6))/2)","v":0},{"$f":"(COUNTIF(CALENDRIER!BZ$1469:BZ$1834,CALENDRIER!$A$6))+((COUNTIF(CALENDRIER!BZ$1469:BZ$1834,CALENDRIER!$B$6))/2)","v":0},{"$f":"(COUNTIF(CALENDRIER!CA$1469:CA$1834,CALENDRIER!$A$6))+((COUNTIF(CALENDRIER!CA$1469:CA$1834,CALENDRIER!$B$6))/2)","v":0},{"$f":"(COUNTIF(CALENDRIER!CB$1469:CB$1834,CALENDRIER!$A$6))+((COUNTIF(CALENDRIER!CB$1469:CB$1834,CALENDRIER!$B$6))/2)","v":0},{"$f":"(COUNTIF(CALENDRIER!CC$1469:CC$1834,CALENDRIER!$A$6))+((COUNTIF(CALENDRIER!CC$1469:CC$1834,CALENDRIER!$B$6))/2)","v":0},{"$f":"(COUNTIF(CALENDRIER!CD$1469:CD$1834,CALENDRIER!$A$6))+((COUNTIF(CALENDRIER!CD$1469:CD$1834,CALENDRIER!$B$6))/2)","v":0},{"$f":"(COUNTIF(CALENDRIER!CE$1469:CE$1834,CALENDRIER!$A$6))+((COUNTIF(CALENDRIER!CE$1469:CE$1834,CALENDRIER!$B$6))/2)","v":0},{"$f":"(COUNTIF(CALENDRIER!CF$1469:CF$1834,CALENDRIER!$A$6))+((COUNTIF(CALENDRIER!CF$1469:CF$1834,CALENDRIER!$B$6))/2)","v":0},{"$f":"(COUNTIF(CALENDRIER!CG$1469:CG$1834,CALENDRIER!$A$6))+((COUNTIF(CALENDRIER!CG$1469:CG$1834,CALENDRIER!$B$6))/2)","v":0},{"$f":"(COUNTIF(CALENDRIER!CH$1469:CH$1834,CALENDRIER!$A$6))+((COUNTIF(CALENDRIER!CH$1469:CH$1834,CALENDRIER!$B$6))/2)","v":0},{"$f":"(COUNTIF(CALENDRIER!CI$1469:CI$1834,CALENDRIER!$A$6))+((COUNTIF(CALENDRIER!CI$1469:CI$1834,CALENDRIER!$B$6))/2)","v":0},{"$f":"(COUNTIF(CALENDRIER!CJ$1469:CJ$1834,CALENDRIER!$A$6))+((COUNTIF(CALENDRIER!CJ$1469:CJ$1834,CALENDRIER!$B$6))/2)","v":0},{"$f":"(COUNTIF(CALENDRIER!CK$1469:CK$1834,CALENDRIER!$A$6))+((COUNTIF(CALENDRIER!CK$1469:CK$1834,CALENDRIER!$B$6))/2)","v":0},{"$f":"(COUNTIF(CALENDRIER!CL$1469:CL$1834,CALENDRIER!$A$6))+((COUNTIF(CALENDRIER!CL$1469:CL$1834,CALENDRIER!$B$6))/2)","v":0},{"$f":"(COUNTIF(CALENDRIER!CM$1469:CM$1834,CALENDRIER!$A$6))+((COUNTIF(CALENDRIER!CM$1469:CM$1834,CALENDRIER!$B$6))/2)","v":0},{"$f":"(COUNTIF(CALENDRIER!CN$1469:CN$1834,CALENDRIER!$A$6))+((COUNTIF(CALENDRIER!CN$1469:CN$1834,CALENDRIER!$B$6))/2)","v":0},{"$f":"(COUNTIF(CALENDRIER!CO$1469:CO$1834,CALENDRIER!$A$6))+((COUNTIF(CALENDRIER!CO$1469:CO$1834,CALENDRIER!$B$6))/2)","v":0},{"$f":"(COUNTIF(CALENDRIER!CP$1469:CP$1834,CALENDRIER!$A$6))+((COUNTIF(CALENDRIER!CP$1469:CP$1834,CALENDRIER!$B$6))/2)","v":0},{"$f":"(COUNTIF(CALENDRIER!CQ$1469:CQ$1834,CALENDRIER!$A$6))+((COUNTIF(CALENDRIER!CQ$1469:CQ$1834,CALENDRIER!$B$6))/2)","v":0},{"$f":"(COUNTIF(CALENDRIER!CR$1469:CR$1834,CALENDRIER!$A$6))+((COUNTIF(CALENDRIER!CR$1469:CR$1834,CALENDRIER!$B$6))/2)","v":0},{"$f":"(COUNTIF(CALENDRIER!CS$1469:CS$1834,CALENDRIER!$A$6))+((COUNTIF(CALENDRIER!CS$1469:CS$1834,CALENDRIER!$B$6))/2)","v":0},{"$f":"(COUNTIF(CALENDRIER!CT$1469:CT$1834,CALENDRIER!$A$6))+((COUNTIF(CALENDRIER!CT$1469:CT$1834,CALENDRIER!$B$6))/2)","v":0},{"$f":"(COUNTIF(CALENDRIER!CU$1469:CU$1834,CALENDRIER!$A$6))+((COUNTIF(CALENDRIER!CU$1469:CU$1834,CALENDRIER!$B$6))/2)","v":0},{"$f":"(COUNTIF(CALENDRIER!CV$1469:CV$1834,CALENDRIER!$A$6))+((COUNTIF(CALENDRIER!CV$1469:CV$1834,CALENDRIER!$B$6))/2)","v":0},{"$f":"(COUNTIF(CALENDRIER!CW$1469:CW$1834,CALENDRIER!$A$6))+((COUNTIF(CALENDRIER!CW$1469:CW$1834,CALENDRIER!$B$6))/2)","v":0},{"$f":"(COUNTIF(CALENDRIER!CX$1469:CX$1834,CALENDRIER!$A$6))+((COUNTIF(CALENDRIER!CX$1469:CX$1834,CALENDRIER!$B$6))/2)","v":0},{"$f":"(COUNTIF(CALENDRIER!CY$1469:CY$1834,CALENDRIER!$A$6))+((COUNTIF(CALENDRIER!CY$1469:CY$1834,CALENDRIER!$B$6))/2)","v":0},{"$f":"(COUNTIF(CALENDRIER!CZ$1469:CZ$1834,CALENDRIER!$A$6))+((COUNTIF(CALENDRIER!CZ$1469:CZ$1834,CALENDRIER!$B$6))/2)","v":0},{"$f":"(COUNTIF(CALENDRIER!DA$1469:DA$1834,CALENDRIER!$A$6))+((COUNTIF(CALENDRIER!DA$1469:DA$1834,CALENDRIER!$B$6))/2)","v":0},{"$f":"(COUNTIF(CALENDRIER!DB$1469:DB$1834,CALENDRIER!$A$6))+((COUNTIF(CALENDRIER!DB$1469:DB$1834,CALENDRIER!$B$6))/2)","v":0},{"$f":"(COUNTIF(CALENDRIER!DC$1469:DC$1834,CALENDRIER!$A$6))+((COUNTIF(CALENDRIER!DC$1469:DC$1834,CALENDRIER!$B$6))/2)","v":0},{"$f":"(COUNTIF(CALENDRIER!DD$1469:DD$1834,CALENDRIER!$A$6))+((COUNTIF(CALENDRIER!DD$1469:DD$1834,CALENDRIER!$B$6))/2)","v":0},{"$f":"(COUNTIF(CALENDRIER!DE$1469:DE$1834,CALENDRIER!$A$6))+((COUNTIF(CALENDRIER!DE$1469:DE$1834,CALENDRIER!$B$6))/2)","v":0},{"$f":"(COUNTIF(CALENDRIER!DF$1469:DF$1834,CALENDRIER!$A$6))+((COUNTIF(CALENDRIER!DF$1469:DF$1834,CALENDRIER!$B$6))/2)","v":0},{"$f":"(COUNTIF(CALENDRIER!DG$1469:DG$1834,CALENDRIER!$A$6))+((COUNTIF(CALENDRIER!DG$1469:DG$1834,CALENDRIER!$B$6))/2)","v":0},{"$f":"(COUNTIF(CALENDRIER!DH$1469:DH$1834,CALENDRIER!$A$6))+((COUNTIF(CALENDRIER!DH$1469:DH$1834,CALENDRIER!$B$6))/2)","v":0},{"$f":"(COUNTIF(CALENDRIER!DI$1469:DI$1834,CALENDRIER!$A$6))+((COUNTIF(CALENDRIER!DI$1469:DI$1834,CALENDRIER!$B$6))/2)","v":0},{"$f":"(COUNTIF(CALENDRIER!DJ$1469:DJ$1834,CALENDRIER!$A$6))+((COUNTIF(CALENDRIER!DJ$1469:DJ$1834,CALENDRIER!$B$6))/2)","v":0},{"$f":"(COUNTIF(CALENDRIER!DK$1469:DK$1834,CALENDRIER!$A$6))+((COUNTIF(CALENDRIER!DK$1469:DK$1834,CALENDRIER!$B$6))/2)","v":0},{"$f":"(COUNTIF(CALENDRIER!DL$1469:DL$1834,CALENDRIER!$A$6))+((COUNTIF(CALENDRIER!DL$1469:DL$1834,CALENDRIER!$B$6))/2)","v":0},{"$f":"(COUNTIF(CALENDRIER!DM$1469:DM$1834,CALENDRIER!$A$6))+((COUNTIF(CALENDRIER!DM$1469:DM$1834,CALENDRIER!$B$6))/2)","v":0},{"$f":"(COUNTIF(CALENDRIER!DN$1469:DN$1834,CALENDRIER!$A$6))+((COUNTIF(CALENDRIER!DN$1469:DN$1834,CALENDRIER!$B$6))/2)","v":0},{"$f":"(COUNTIF(CALENDRIER!DO$1469:DO$1834,CALENDRIER!$A$6))+((COUNTIF(CALENDRIER!DO$1469:DO$1834,CALENDRIER!$B$6))/2)","v":0},{"$f":"(COUNTIF(CALENDRIER!DP$1469:DP$1834,CALENDRIER!$A$6))+((COUNTIF(CALENDRIER!DP$1469:DP$1834,CALENDRIER!$B$6))/2)","v":0},{"$f":"(COUNTIF(CALENDRIER!DQ$1469:DQ$1834,CALENDRIER!$A$6))+((COUNTIF(CALENDRIER!DQ$1469:DQ$1834,CALENDRIER!$B$6))/2)","v":0},{"$f":"(COUNTIF(CALENDRIER!DR$1469:DR$1834,CALENDRIER!$A$6))+((COUNTIF(CALENDRIER!DR$1469:DR$1834,CALENDRIER!$B$6))/2)","v":0},{"$f":"(COUNTIF(CALENDRIER!DS$1469:DS$1834,CALENDRIER!$A$6))+((COUNTIF(CALENDRIER!DS$1469:DS$1834,CALENDRIER!$B$6))/2)","v":0},{"$f":"(COUNTIF(CALENDRIER!DT$1469:DT$1834,CALENDRIER!$A$6))+((COUNTIF(CALENDRIER!DT$1469:DT$1834,CALENDRIER!$B$6))/2)","v":0},{"$f":"(COUNTIF(CALENDRIER!DU$1469:DU$1834,CALENDRIER!$A$6))+((COUNTIF(CALENDRIER!DU$1469:DU$1834,CALENDRIER!$B$6))/2)","v":0},{"$f":"(COUNTIF(CALENDRIER!DV$1469:DV$1834,CALENDRIER!$A$6))+((COUNTIF(CALENDRIER!DV$1469:DV$1834,CALENDRIER!$B$6))/2)","v":0},{"$f":"(COUNTIF(CALENDRIER!DW$1469:DW$1834,CALENDRIER!$A$6))+((COUNTIF(CALENDRIER!DW$1469:DW$1834,CALENDRIER!$B$6))/2)","v":0},{"$f":"(COUNTIF(CALENDRIER!DX$1469:DX$1834,CALENDRIER!$A$6))+((COUNTIF(CALENDRIER!DX$1469:DX$1834,CALENDRIER!$B$6))/2)","v":0},{"$f":"(COUNTIF(CALENDRIER!DY$1469:DY$1834,CALENDRIER!$A$6))+((COUNTIF(CALENDRIER!DY$1469:DY$1834,CALENDRIER!$B$6))/2)","v":0},{"$f":"(COUNTIF(CALENDRIER!DZ$1469:DZ$1834,CALENDRIER!$A$6))+((COUNTIF(CALENDRIER!DZ$1469:DZ$1834,CALENDRIER!$B$6))/2)","v":0},{"$f":"(COUNTIF(CALENDRIER!EA$1469:EA$1834,CALENDRIER!$A$6))+((COUNTIF(CALENDRIER!EA$1469:EA$1834,CALENDRIER!$B$6))/2)","v":0},{"$f":"(COUNTIF(CALENDRIER!EB$1469:EB$1834,CALENDRIER!$A$6))+((COUNTIF(CALENDRIER!EB$1469:EB$1834,CALENDRIER!$B$6))/2)","v":0},{"$f":"(COUNTIF(CALENDRIER!EC$1469:EC$1834,CALENDRIER!$A$6))+((COUNTIF(CALENDRIER!EC$1469:EC$1834,CALENDRIER!$B$6))/2)","v":0},{"$f":"(COUNTIF(CALENDRIER!ED$1469:ED$1834,CALENDRIER!$A$6))+((COUNTIF(CALENDRIER!ED$1469:ED$1834,CALENDRIER!$B$6))/2)","v":0},{"$f":"(COUNTIF(CALENDRIER!EE$1469:EE$1834,CALENDRIER!$A$6))+((COUNTIF(CALENDRIER!EE$1469:EE$1834,CALENDRIER!$B$6))/2)","v":0},{"$f":"(COUNTIF(CALENDRIER!EF$1469:EF$1834,CALENDRIER!$A$6))+((COUNTIF(CALENDRIER!EF$1469:EF$1834,CALENDRIER!$B$6))/2)","v":0},{"$f":"(COUNTIF(CALENDRIER!EG$1469:EG$1834,CALENDRIER!$A$6))+((COUNTIF(CALENDRIER!EG$1469:EG$1834,CALENDRIER!$B$6))/2)","v":0},{"$f":"(COUNTIF(CALENDRIER!EH$1469:EH$1834,CALENDRIER!$A$6))+((COUNTIF(CALENDRIER!EH$1469:EH$1834,CALENDRIER!$B$6))/2)","v":0},{"$f":"(COUNTIF(CALENDRIER!EI$1469:EI$1834,CALENDRIER!$A$6))+((COUNTIF(CALENDRIER!EI$1469:EI$1834,CALENDRIER!$B$6))/2)","v":0},{"$f":"(COUNTIF(CALENDRIER!EJ$1469:EJ$1834,CALENDRIER!$A$6))+((COUNTIF(CALENDRIER!EJ$1469:EJ$1834,CALENDRIER!$B$6))/2)","v":0},{"$f":"(COUNTIF(CALENDRIER!EK$1469:EK$1834,CALENDRIER!$A$6))+((COUNTIF(CALENDRIER!EK$1469:EK$1834,CALENDRIER!$B$6))/2)","v":0},{"$f":"(COUNTIF(CALENDRIER!EL$1469:EL$1834,CALENDRIER!$A$6))+((COUNTIF(CALENDRIER!EL$1469:EL$1834,CALENDRIER!$B$6))/2)","v":0},{"$f":"(COUNTIF(CALENDRIER!EM$1469:EM$1834,CALENDRIER!$A$6))+((COUNTIF(CALENDRIER!EM$1469:EM$1834,CALENDRIER!$B$6))/2)","v":0},{"$f":"(COUNTIF(CALENDRIER!EN$1469:EN$1834,CALENDRIER!$A$6))+((COUNTIF(CALENDRIER!EN$1469:EN$1834,CALENDRIER!$B$6))/2)","v":0},{"$f":"(COUNTIF(CALENDRIER!EO$1469:EO$1834,CALENDRIER!$A$6))+((COUNTIF(CALENDRIER!EO$1469:EO$1834,CALENDRIER!$B$6))/2)","v":0},{"$f":"(COUNTIF(CALENDRIER!EP$1469:EP$1834,CALENDRIER!$A$6))+((COUNTIF(CALENDRIER!EP$1469:EP$1834,CALENDRIER!$B$6))/2)","v":0},{"$f":"(COUNTIF(CALENDRIER!EQ$1469:EQ$1834,CALENDRIER!$A$6))+((COUNTIF(CALENDRIER!EQ$1469:EQ$1834,CALENDRIER!$B$6))/2)","v":0},{"$f":"(COUNTIF(CALENDRIER!ER$1469:ER$1834,CALENDRIER!$A$6))+((COUNTIF(CALENDRIER!ER$1469:ER$1834,CALENDRIER!$B$6))/2)","v":0},{"$f":"(COUNTIF(CALENDRIER!ES$1469:ES$1834,CALENDRIER!$A$6))+((COUNTIF(CALENDRIER!ES$1469:ES$1834,CALENDRIER!$B$6))/2)","v":0},{"$f":"(COUNTIF(CALENDRIER!ET$1469:ET$1834,CALENDRIER!$A$6))+((COUNTIF(CALENDRIER!ET$1469:ET$1834,CALENDRIER!$B$6))/2)","v":0},{"$f":"(COUNTIF(CALENDRIER!EU$1469:EU$1834,CALENDRIER!$A$6))+((COUNTIF(CALENDRIER!EU$1469:EU$1834,CALENDRIER!$B$6))/2)","v":0},{"$f":"(COUNTIF(CALENDRIER!EV$1469:EV$1834,CALENDRIER!$A$6))+((COUNTIF(CALENDRIER!EV$1469:EV$1834,CALENDRIER!$B$6))/2)","v":0},{"$f":"(COUNTIF(CALENDRIER!EW$1469:EW$1834,CALENDRIER!$A$6))+((COUNTIF(CALENDRIER!EW$1469:EW$1834,CALENDRIER!$B$6))/2)","v":0},{"$f":"(COUNTIF(CALENDRIER!EX$1469:EX$1834,CALENDRIER!$A$6))+((COUNTIF(CALENDRIER!EX$1469:EX$1834,CALENDRIER!$B$6))/2)","v":0},{"$f":"(COUNTIF(CALENDRIER!EY$1469:EY$1834,CALENDRIER!$A$6))+((COUNTIF(CALENDRIER!EY$1469:EY$1834,CALENDRIER!$B$6))/2)","v":0},{"$f":"(COUNTIF(CALENDRIER!EZ$1469:EZ$1834,CALENDRIER!$A$6))+((COUNTIF(CALENDRIER!EZ$1469:EZ$1834,CALENDRIER!$B$6))/2)","v":0},{"$f":"(COUNTIF(CALENDRIER!FA$1469:FA$1834,CALENDRIER!$A$6))+((COUNTIF(CALENDRIER!FA$1469:FA$1834,CALENDRIER!$B$6))/2)","v":0},{"$f":"(COUNTIF(CALENDRIER!FB$1469:FB$1834,CALENDRIER!$A$6))+((COUNTIF(CALENDRIER!FB$1469:FB$1834,CALENDRIER!$B$6))/2)","v":0},{"$f":"(COUNTIF(CALENDRIER!FC$1469:FC$1834,CALENDRIER!$A$6))+((COUNTIF(CALENDRIER!FC$1469:FC$1834,CALENDRIER!$B$6))/2)","v":0},{"$f":"(COUNTIF(CALENDRIER!FD$1469:FD$1834,CALENDRIER!$A$6))+((COUNTIF(CALENDRIER!FD$1469:FD$1834,CALENDRIER!$B$6))/2)","v":0},{"$f":"(COUNTIF(CALENDRIER!FE$1469:FE$1834,CALENDRIER!$A$6))+((COUNTIF(CALENDRIER!FE$1469:FE$1834,CALENDRIER!$B$6))/2)","v":0},{"$f":"(COUNTIF(CALENDRIER!FF$1469:FF$1834,CALENDRIER!$A$6))+((COUNTIF(CALENDRIER!FF$1469:FF$1834,CALENDRIER!$B$6))/2)","v":0},{"$f":"(COUNTIF(CALENDRIER!FG$1469:FG$1834,CALENDRIER!$A$6))+((COUNTIF(CALENDRIER!FG$1469:FG$1834,CALENDRIER!$B$6))/2)","v":0},{"$f":"(COUNTIF(CALENDRIER!FH$1469:FH$1834,CALENDRIER!$A$6))+((COUNTIF(CALENDRIER!FH$1469:FH$1834,CALENDRIER!$B$6))/2)","v":0},{"$f":"(COUNTIF(CALENDRIER!FI$1469:FI$1834,CALENDRIER!$A$6))+((COUNTIF(CALENDRIER!FI$1469:FI$1834,CALENDRIER!$B$6))/2)","v":0},{"$f":"(COUNTIF(CALENDRIER!FJ$1469:FJ$1834,CALENDRIER!$A$6))+((COUNTIF(CALENDRIER!FJ$1469:FJ$1834,CALENDRIER!$B$6))/2)","v":0},{"$f":"(COUNTIF(CALENDRIER!FK$1469:FK$1834,CALENDRIER!$A$6))+((COUNTIF(CALENDRIER!FK$1469:FK$1834,CALENDRIER!$B$6))/2)","v":0},{"$f":"(COUNTIF(CALENDRIER!FL$1469:FL$1834,CALENDRIER!$A$6))+((COUNTIF(CALENDRIER!FL$1469:FL$1834,CALENDRIER!$B$6))/2)","v":0},{"$f":"(COUNTIF(CALENDRIER!FM$1469:FM$1834,CALENDRIER!$A$6))+((COUNTIF(CALENDRIER!FM$1469:FM$1834,CALENDRIER!$B$6))/2)","v":0},{"$f":"(COUNTIF(CALENDRIER!FN$1469:FN$1834,CALENDRIER!$A$6))+((COUNTIF(CALENDRIER!FN$1469:FN$1834,CALENDRIER!$B$6))/2)","v":0},{"$f":"(COUNTIF(CALENDRIER!FO$1469:FO$1834,CALENDRIER!$A$6))+((COUNTIF(CALENDRIER!FO$1469:FO$1834,CALENDRIER!$B$6))/2)","v":0},{"$f":"(COUNTIF(CALENDRIER!FP$1469:FP$1834,CALENDRIER!$A$6))+((COUNTIF(CALENDRIER!FP$1469:FP$1834,CALENDRIER!$B$6))/2)","v":0},{"$f":"(COUNTIF(CALENDRIER!FQ$1469:FQ$1834,CALENDRIER!$A$6))+((COUNTIF(CALENDRIER!FQ$1469:FQ$1834,CALENDRIER!$B$6))/2)","v":0},{"$f":"(COUNTIF(CALENDRIER!FR$1469:FR$1834,CALENDRIER!$A$6))+((COUNTIF(CALENDRIER!FR$1469:FR$1834,CALENDRIER!$B$6))/2)","v":0},{"$f":"(COUNTIF(CALENDRIER!FS$1469:FS$1834,CALENDRIER!$A$6))+((COUNTIF(CALENDRIER!FS$1469:FS$1834,CALENDRIER!$B$6))/2)","v":0},{"$f":"(COUNTIF(CALENDRIER!FT$1469:FT$1834,CALENDRIER!$A$6))+((COUNTIF(CALENDRIER!FT$1469:FT$1834,CALENDRIER!$B$6))/2)","v":0},{"$f":"(COUNTIF(CALENDRIER!FU$1469:FU$1834,CALENDRIER!$A$6))+((COUNTIF(CALENDRIER!FU$1469:FU$1834,CALENDRIER!$B$6))/2)","v":0},{"$f":"(COUNTIF(CALENDRIER!FV$1469:FV$1834,CALENDRIER!$A$6))+((COUNTIF(CALENDRIER!FV$1469:FV$1834,CALENDRIER!$B$6))/2)","v":0},{"$f":"(COUNTIF(CALENDRIER!FW$1469:FW$1834,CALENDRIER!$A$6))+((COUNTIF(CALENDRIER!FW$1469:FW$1834,CALENDRIER!$B$6))/2)","v":0},{"$f":"(COUNTIF(CALENDRIER!FX$1469:FX$1834,CALENDRIER!$A$6))+((COUNTIF(CALENDRIER!FX$1469:FX$1834,CALENDRIER!$B$6))/2)","v":0},{"$f":"(COUNTIF(CALENDRIER!FY$1469:FY$1834,CALENDRIER!$A$6))+((COUNTIF(CALENDRIER!FY$1469:FY$1834,CALENDRIER!$B$6))/2)","v":0},{"$f":"(COUNTIF(CALENDRIER!FZ$1469:FZ$1834,CALENDRIER!$A$6))+((COUNTIF(CALENDRIER!FZ$1469:FZ$1834,CALENDRIER!$B$6))/2)","v":0},{"$f":"(COUNTIF(CALENDRIER!GA$1469:GA$1834,CALENDRIER!$A$6))+((COUNTIF(CALENDRIER!GA$1469:GA$1834,CALENDRIER!$B$6))/2)","v":0},{"$f":"(COUNTIF(CALENDRIER!GB$1469:GB$1834,CALENDRIER!$A$6))+((COUNTIF(CALENDRIER!GB$1469:GB$1834,CALENDRIER!$B$6))/2)","v":0},{"$f":"(COUNTIF(CALENDRIER!GC$1469:GC$1834,CALENDRIER!$A$6))+((COUNTIF(CALENDRIER!GC$1469:GC$1834,CALENDRIER!$B$6))/2)","v":0},{"$f":"(COUNTIF(CALENDRIER!GD$1469:GD$1834,CALENDRIER!$A$6))+((COUNTIF(CALENDRIER!GD$1469:GD$1834,CALENDRIER!$B$6))/2)","v":0},{"$f":"(COUNTIF(CALENDRIER!GE$1469:GE$1834,CALENDRIER!$A$6))+((COUNTIF(CALENDRIER!GE$1469:GE$1834,CALENDRIER!$B$6))/2)","v":0},{"$f":"(COUNTIF(CALENDRIER!GF$1469:GF$1834,CALENDRIER!$A$6))+((COUNTIF(CALENDRIER!GF$1469:GF$1834,CALENDRIER!$B$6))/2)","v":0},{"$f":"(COUNTIF(CALENDRIER!GG$1469:GG$1834,CALENDRIER!$A$6))+((COUNTIF(CALENDRIER!GG$1469:GG$1834,CALENDRIER!$B$6))/2)","v":0},{"$f":"(COUNTIF(CALENDRIER!GH$1469:GH$1834,CALENDRIER!$A$6))+((COUNTIF(CALENDRIER!GH$1469:GH$1834,CALENDRIER!$B$6))/2)","v":0},{"$f":"(COUNTIF(CALENDRIER!GI$1469:GI$1834,CALENDRIER!$A$6))+((COUNTIF(CALENDRIER!GI$1469:GI$1834,CALENDRIER!$B$6))/2)","v":0},{"$f":"(COUNTIF(CALENDRIER!GJ$1469:GJ$1834,CALENDRIER!$A$6))+((COUNTIF(CALENDRIER!GJ$1469:GJ$1834,CALENDRIER!$B$6))/2)","v":0},{"$f":"(COUNTIF(CALENDRIER!GK$1469:GK$1834,CALENDRIER!$A$6))+((COUNTIF(CALENDRIER!GK$1469:GK$1834,CALENDRIER!$B$6))/2)","v":0},{"$f":"(COUNTIF(CALENDRIER!GL$1469:GL$1834,CALENDRIER!$A$6))+((COUNTIF(CALENDRIER!GL$1469:GL$1834,CALENDRIER!$B$6))/2)","v":0},{"$f":"(COUNTIF(CALENDRIER!GM$1469:GM$1834,CALENDRIER!$A$6))+((COUNTIF(CALENDRIER!GM$1469:GM$1834,CALENDRIER!$B$6))/2)","v":0},{"$f":"(COUNTIF(CALENDRIER!GN$1469:GN$1834,CALENDRIER!$A$6))+((COUNTIF(CALENDRIER!GN$1469:GN$1834,CALENDRIER!$B$6))/2)","v":0},{"$f":"(COUNTIF(CALENDRIER!GO$1469:GO$1834,CALENDRIER!$A$6))+((COUNTIF(CALENDRIER!GO$1469:GO$1834,CALENDRIER!$B$6))/2)","v":0},{"$f":"(COUNTIF(CALENDRIER!GP$1469:GP$1834,CALENDRIER!$A$6))+((COUNTIF(CALENDRIER!GP$1469:GP$1834,CALENDRIER!$B$6))/2)","v":0},{"$f":"(COUNTIF(CALENDRIER!GQ$1469:GQ$1834,CALENDRIER!$A$6))+((COUNTIF(CALENDRIER!GQ$1469:GQ$1834,CALENDRIER!$B$6))/2)","v":0},{"$f":"(COUNTIF(CALENDRIER!GR$1469:GR$1834,CALENDRIER!$A$6))+((COUNTIF(CALENDRIER!GR$1469:GR$1834,CALENDRIER!$B$6))/2)","v":0}]
[null,{"$f":"\"Solde \"&CALENDRIER!$A$6&\" \"&A269&\" : \"","v":"Solde … 2019-2020 : "},{"$f":"C270-C271","v":0},{"$f":"D270-D271","v":0},0,0,0,0,0,0,0,0,0,0,0,0,0,0,0,0,0,0,0,0,0,0,0,0,0,0,0,0,0,0,0,0,0,0,0,0,0,0,0,0,0,0,0,0,0,0,0,0,0,0,0,0,0,0,0,0,0,0,0,0,0,0,0,{"$f":"BP270-BP271","v":0},0,0,0,0,0,0,0,0,0,0,0,0,0,0,0,0,0,0,0,0,0,0,0,0,0,0,0,0,0,0,0,0,0,0,0,0,0,0,0,0,0,0,0,0,0,0,0,0,0,0,0,0,0,0,0,0,0,0,0,0,0,0,0,{"$f":"EB270-EB271","v":0},0,0,0,0,0,0,0,0,0,0,0,0,0,0,0,0,0,0,0,0,0,0,0,0,0,0,0,0,0,0,0,0,0,0,0,0,0,0,0,0,0,0,0,0,0,0,0,0,0,0,0,0,0,0,0,0,0,0,0,0,0,0,0,{"$f":"GN270-GN271","v":0},0,0,0,0]
[]
["2020-2021",{"$f":"CALENDRIER!$A$6","v":"…"}]
[null,"SOLDE DEPART"]
[null,{"$f":"CALENDRIER!$A$6&\" PRIS\"","v":"… PRIS"},{"$f":"(COUNTIF(CALENDRIER!C$1835:C$2199,CALENDRIER!$A$6))+((COUNTIF(CALENDRIER!C$1835:C$2199,CALENDRIER!$B$6))/2)","v":0},{"$f":"(COUNTIF(CALENDRIER!D$1835:D$2199,CALENDRIER!$A$6))+((COUNTIF(CALENDRIER!D$1835:D$2199,CALENDRIER!$B$6))/2)","v":0},{"$f":"(COUNTIF(CALENDRIER!E$1835:E$2199,CALENDRIER!$A$6))+((COUNTIF(CALENDRIER!E$1835:E$2199,CALENDRIER!$B$6))/2)","v":0},{"$f":"(COUNTIF(CALENDRIER!F$1835:F$2199,CALENDRIER!$A$6))+((COUNTIF(CALENDRIER!F$1835:F$2199,CALENDRIER!$B$6))/2)","v":0},{"$f":"(COUNTIF(CALENDRIER!G$1835:G$2199,CALENDRIER!$A$6))+((COUNTIF(CALENDRIER!G$1835:G$2199,CALENDRIER!$B$6))/2)","v":0},{"$f":"(COUNTIF(CALENDRIER!H$1835:H$2199,CALENDRIER!$A$6))+((COUNTIF(CALENDRIER!H$1835:H$2199,CALENDRIER!$B$6))/2)","v":0},{"$f":"(COUNTIF(CALENDRIER!I$1835:I$2199,CALENDRIER!$A$6))+((COUNTIF(CALENDRIER!I$1835:I$2199,CALENDRIER!$B$6))/2)","v":0},{"$f":"(COUNTIF(CALENDRIER!J$1835:J$2199,CALENDRIER!$A$6))+((COUNTIF(CALENDRIER!J$1835:J$2199,CALENDRIER!$B$6))/2)","v":0},{"$f":"(COUNTIF(CALENDRIER!K$1835:K$2199,CALENDRIER!$A$6))+((COUNTIF(CALENDRIER!K$1835:K$2199,CALENDRIER!$B$6))/2)","v":0},{"$f":"(COUNTIF(CALENDRIER!L$1835:L$2199,CALENDRIER!$A$6))+((COUNTIF(CALENDRIER!L$1835:L$2199,CALENDRIER!$B$6))/2)","v":0},{"$f":"(COUNTIF(CALENDRIER!M$1835:M$2199,CALENDRIER!$A$6))+((COUNTIF(CALENDRIER!M$1835:M$2199,CALENDRIER!$B$6))/2)","v":0},{"$f":"(COUNTIF(CALENDRIER!N$1835:N$2199,CALENDRIER!$A$6))+((COUNTIF(CALENDRIER!N$1835:N$2199,CALENDRIER!$B$6))/2)","v":0},{"$f":"(COUNTIF(CALENDRIER!O$1835:O$2199,CALENDRIER!$A$6))+((COUNTIF(CALENDRIER!O$1835:O$2199,CALENDRIER!$B$6))/2)","v":0},{"$f":"(COUNTIF(CALENDRIER!P$1835:P$2199,CALENDRIER!$A$6))+((COUNTIF(CALENDRIER!P$1835:P$2199,CALENDRIER!$B$6))/2)","v":0},{"$f":"(COUNTIF(CALENDRIER!Q$1835:Q$2199,CALENDRIER!$A$6))+((COUNTIF(CALENDRIER!Q$1835:Q$2199,CALENDRIER!$B$6))/2)","v":0},{"$f":"(COUNTIF(CALENDRIER!R$1835:R$2199,CALENDRIER!$A$6))+((COUNTIF(CALENDRIER!R$1835:R$2199,CALENDRIER!$B$6))/2)","v":0},{"$f":"(COUNTIF(CALENDRIER!S$1835:S$2199,CALENDRIER!$A$6))+((COUNTIF(CALENDRIER!S$1835:S$2199,CALENDRIER!$B$6))/2)","v":0},{"$f":"(COUNTIF(CALENDRIER!T$1835:T$2199,CALENDRIER!$A$6))+((COUNTIF(CALENDRIER!T$1835:T$2199,CALENDRIER!$B$6))/2)","v":0},{"$f":"(COUNTIF(CALENDRIER!U$1835:U$2199,CALENDRIER!$A$6))+((COUNTIF(CALENDRIER!U$1835:U$2199,CALENDRIER!$B$6))/2)","v":0},{"$f":"(COUNTIF(CALENDRIER!V$1835:V$2199,CALENDRIER!$A$6))+((COUNTIF(CALENDRIER!V$1835:V$2199,CALENDRIER!$B$6))/2)","v":0},{"$f":"(COUNTIF(CALENDRIER!W$1835:W$2199,CALENDRIER!$A$6))+((COUNTIF(CALENDRIER!W$1835:W$2199,CALENDRIER!$B$6))/2)","v":0},{"$f":"(COUNTIF(CALENDRIER!X$1835:X$2199,CALENDRIER!$A$6))+((COUNTIF(CALENDRIER!X$1835:X$2199,CALENDRIER!$B$6))/2)","v":0},{"$f":"(COUNTIF(CALENDRIER!Y$1835:Y$2199,CALENDRIER!$A$6))+((COUNTIF(CALENDRIER!Y$1835:Y$2199,CALENDRIER!$B$6))/2)","v":0},{"$f":"(COUNTIF(CALENDRIER!Z$1835:Z$2199,CALENDRIER!$A$6))+((COUNTIF(CALENDRIER!Z$1835:Z$2199,CALENDRIER!$B$6))/2)","v":0},{"$f":"(COUNTIF(CALENDRIER!AA$1835:AA$2199,CALENDRIER!$A$6))+((COUNTIF(CALENDRIER!AA$1835:AA$2199,CALENDRIER!$B$6))/2)","v":0},{"$f":"(COUNTIF(CALENDRIER!AB$1835:AB$2199,CALENDRIER!$A$6))+((COUNTIF(CALENDRIER!AB$1835:AB$2199,CALENDRIER!$B$6))/2)","v":0},{"$f":"(COUNTIF(CALENDRIER!AC$1835:AC$2199,CALENDRIER!$A$6))+((COUNTIF(CALENDRIER!AC$1835:AC$2199,CALENDRIER!$B$6))/2)","v":0},{"$f":"(COUNTIF(CALENDRIER!AD$1835:AD$2199,CALENDRIER!$A$6))+((COUNTIF(CALENDRIER!AD$1835:AD$2199,CALENDRIER!$B$6))/2)","v":0},{"$f":"(COUNTIF(CALENDRIER!AE$1835:AE$2199,CALENDRIER!$A$6))+((COUNTIF(CALENDRIER!AE$1835:AE$2199,CALENDRIER!$B$6))/2)","v":0},{"$f":"(COUNTIF(CALENDRIER!AF$1835:AF$2199,CALENDRIER!$A$6))+((COUNTIF(CALENDRIER!AF$1835:AF$2199,CALENDRIER!$B$6))/2)","v":0},{"$f":"(COUNTIF(CALENDRIER!AG$1835:AG$2199,CALENDRIER!$A$6))+((COUNTIF(CALENDRIER!AG$1835:AG$2199,CALENDRIER!$B$6))/2)","v":0},{"$f":"(COUNTIF(CALENDRIER!AH$1835:AH$2199,CALENDRIER!$A$6))+((COUNTIF(CALENDRIER!AH$1835:AH$2199,CALENDRIER!$B$6))/2)","v":0},{"$f":"(COUNTIF(CALENDRIER!AI$1835:AI$2199,CALENDRIER!$A$6))+((COUNTIF(CALENDRIER!AI$1835:AI$2199,CALENDRIER!$B$6))/2)","v":0},{"$f":"(COUNTIF(CALENDRIER!AJ$1835:AJ$2199,CALENDRIER!$A$6))+((COUNTIF(CALENDRIER!AJ$1835:AJ$2199,CALENDRIER!$B$6))/2)","v":0},{"$f":"(COUNTIF(CALENDRIER!AK$1835:AK$2199,CALENDRIER!$A$6))+((COUNTIF(CALENDRIER!AK$1835:AK$2199,CALENDRIER!$B$6))/2)","v":0},{"$f":"(COUNTIF(CALENDRIER!AL$1835:AL$2199,CALENDRIER!$A$6))+((COUNTIF(CALENDRIER!AL$1835:AL$2199,CALENDRIER!$B$6))/2)","v":0},{"$f":"(COUNTIF(CALENDRIER!AM$1835:AM$2199,CALENDRIER!$A$6))+((COUNTIF(CALENDRIER!AM$1835:AM$2199,CALENDRIER!$B$6))/2)","v":0},{"$f":"(COUNTIF(CALENDRIER!AN$1835:AN$2199,CALENDRIER!$A$6))+((COUNTIF(CALENDRIER!AN$1835:AN$2199,CALENDRIER!$B$6))/2)","v":0},{"$f":"(COUNTIF(CALENDRIER!AO$1835:AO$2199,CALENDRIER!$A$6))+((COUNTIF(CALENDRIER!AO$1835:AO$2199,CALENDRIER!$B$6))/2)","v":0},{"$f":"(COUNTIF(CALENDRIER!AP$1835:AP$2199,CALENDRIER!$A$6))+((COUNTIF(CALENDRIER!AP$1835:AP$2199,CALENDRIER!$B$6))/2)","v":0},{"$f":"(COUNTIF(CALENDRIER!AQ$1835:AQ$2199,CALENDRIER!$A$6))+((COUNTIF(CALENDRIER!AQ$1835:AQ$2199,CALENDRIER!$B$6))/2)","v":0},{"$f":"(COUNTIF(CALENDRIER!AR$1835:AR$2199,CALENDRIER!$A$6))+((COUNTIF(CALENDRIER!AR$1835:AR$2199,CALENDRIER!$B$6))/2)","v":0},{"$f":"(COUNTIF(CALENDRIER!AS$1835:AS$2199,CALENDRIER!$A$6))+((COUNTIF(CALENDRIER!AS$1835:AS$2199,CALENDRIER!$B$6))/2)","v":0},{"$f":"(COUNTIF(CALENDRIER!AT$1835:AT$2199,CALENDRIER!$A$6))+((COUNTIF(CALENDRIER!AT$1835:AT$2199,CALENDRIER!$B$6))/2)","v":0},{"$f":"(COUNTIF(CALENDRIER!AU$1835:AU$2199,CALENDRIER!$A$6))+((COUNTIF(CALENDRIER!AU$1835:AU$2199,CALENDRIER!$B$6))/2)","v":0},{"$f":"(COUNTIF(CALENDRIER!AV$1835:AV$2199,CALENDRIER!$A$6))+((COUNTIF(CALENDRIER!AV$1835:AV$2199,CALENDRIER!$B$6))/2)","v":0},{"$f":"(COUNTIF(CALENDRIER!AW$1835:AW$2199,CALENDRIER!$A$6))+((COUNTIF(CALENDRIER!AW$1835:AW$2199,CALENDRIER!$B$6))/2)","v":0},{"$f":"(COUNTIF(CALENDRIER!AX$1835:AX$2199,CALENDRIER!$A$6))+((COUNTIF(CALENDRIER!AX$1835:AX$2199,CALENDRIER!$B$6))/2)","v":0},{"$f":"(COUNTIF(CALENDRIER!AY$1835:AY$2199,CALENDRIER!$A$6))+((COUNTIF(CALENDRIER!AY$1835:AY$2199,CALENDRIER!$B$6))/2)","v":0},{"$f":"(COUNTIF(CALENDRIER!AZ$1835:AZ$2199,CALENDRIER!$A$6))+((COUNTIF(CALENDRIER!AZ$1835:AZ$2199,CALENDRIER!$B$6))/2)","v":0},{"$f":"(COUNTIF(CALENDRIER!BA$1835:BA$2199,CALENDRIER!$A$6))+((COUNTIF(CALENDRIER!BA$1835:BA$2199,CALENDRIER!$B$6))/2)","v":0},{"$f":"(COUNTIF(CALENDRIER!BB$1835:BB$2199,CALENDRIER!$A$6))+((COUNTIF(CALENDRIER!BB$1835:BB$2199,CALENDRIER!$B$6))/2)","v":0},{"$f":"(COUNTIF(CALENDRIER!BC$1835:BC$2199,CALENDRIER!$A$6))+((COUNTIF(CALENDRIER!BC$1835:BC$2199,CALENDRIER!$B$6))/2)","v":0},{"$f":"(COUNTIF(CALENDRIER!BD$1835:BD$2199,CALENDRIER!$A$6))+((COUNTIF(CALENDRIER!BD$1835:BD$2199,CALENDRIER!$B$6))/2)","v":0},{"$f":"(COUNTIF(CALENDRIER!BE$1835:BE$2199,CALENDRIER!$A$6))+((COUNTIF(CALENDRIER!BE$1835:BE$2199,CALENDRIER!$B$6))/2)","v":0},{"$f":"(COUNTIF(CALENDRIER!BF$1835:BF$2199,CALENDRIER!$A$6))+((COUNTIF(CALENDRIER!BF$1835:BF$2199,CALENDRIER!$B$6))/2)","v":0},{"$f":"(COUNTIF(CALENDRIER!BG$1835:BG$2199,CALENDRIER!$A$6))+((COUNTIF(CALENDRIER!BG$1835:BG$2199,CALENDRIER!$B$6))/2)","v":0},{"$f":"(COUNTIF(CALENDRIER!BH$1835:BH$2199,CALENDRIER!$A$6))+((COUNTIF(CALENDRIER!BH$1835:BH$2199,CALENDRIER!$B$6))/2)","v":0},{"$f":"(COUNTIF(CALENDRIER!BI$1835:BI$2199,CALENDRIER!$A$6))+((COUNTIF(CALENDRIER!BI$1835:BI$2199,CALENDRIER!$B$6))/2)","v":0},{"$f":"(COUNTIF(CALENDRIER!BJ$1835:BJ$2199,CALENDRIER!$A$6))+((COUNTIF(CALENDRIER!BJ$1835:BJ$2199,CALENDRIER!$B$6))/2)","v":0},{"$f":"(COUNTIF(CALENDRIER!BK$1835:BK$2199,CALENDRIER!$A$6))+((COUNTIF(CALENDRIER!BK$1835:BK$2199,CALENDRIER!$B$6))/2)","v":0},{"$f":"(COUNTIF(CALENDRIER!BL$1835:BL$2199,CALENDRIER!$A$6))+((COUNTIF(CALENDRIER!BL$1835:BL$2199,CALENDRIER!$B$6))/2)","v":0},{"$f":"(COUNTIF(CALENDRIER!BM$1835:BM$2199,CALENDRIER!$A$6))+((COUNTIF(CALENDRIER!BM$1835:BM$2199,CALENDRIER!$B$6))/2)","v":0},{"$f":"(COUNTIF(CALENDRIER!BN$1835:BN$2199,CALENDRIER!$A$6))+((COUNTIF(CALENDRIER!BN$1835:BN$2199,CALENDRIER!$B$6))/2)","v":0},{"$f":"(COUNTIF(CALENDRIER!BO$1835:BO$2199,CALENDRIER!$A$6))+((COUNTIF(CALENDRIER!BO$1835:BO$2199,CALENDRIER!$B$6))/2)","v":0},{"$f":"(COUNTIF(CALENDRIER!BP$1835:BP$2199,CALENDRIER!$A$6))+((COUNTIF(CALENDRIER!BP$1835:BP$2199,CALENDRIER!$B$6))/2)","v":0},{"$f":"(COUNTIF(CALENDRIER!BQ$1835:BQ$2199,CALENDRIER!$A$6))+((COUNTIF(CALENDRIER!BQ$1835:BQ$2199,CALENDRIER!$B$6))/2)","v":0},{"$f":"(COUNTIF(CALENDRIER!BR$1835:BR$2199,CALENDRIER!$A$6))+((COUNTIF(CALENDRIER!BR$1835:BR$2199,CALENDRIER!$B$6))/2)","v":0},{"$f":"(COUNTIF(CALENDRIER!BS$1835:BS$2199,CALENDRIER!$A$6))+((COUNTIF(CALENDRIER!BS$1835:BS$2199,CALENDRIER!$B$6))/2)","v":0},{"$f":"(COUNTIF(CALENDRIER!BT$1835:BT$2199,CALENDRIER!$A$6))+((COUNTIF(CALENDRIER!BT$1835:BT$2199,CALENDRIER!$B$6))/2)","v":0},{"$f":"(COUNTIF(CALENDRIER!BU$1835:BU$2199,CALENDRIER!$A$6))+((COUNTIF(CALENDRIER!BU$1835:BU$2199,CALENDRIER!$B$6))/2)","v":0},{"$f":"(COUNTIF(CALENDRIER!BV$1835:BV$2199,CALENDRIER!$A$6))+((COUNTIF(CALENDRIER!BV$1835:BV$2199,CALENDRIER!$B$6))/2)","v":0},{"$f":"(COUNTIF(CALENDRIER!BW$1835:BW$2199,CALENDRIER!$A$6))+((COUNTIF(CALENDRIER!BW$1835:BW$2199,CALENDRIER!$B$6))/2)","v":0},{"$f":"(COUNTIF(CALENDRIER!BX$1835:BX$2199,CALENDRIER!$A$6))+((COUNTIF(CALENDRIER!BX$1835:BX$2199,CALENDRIER!$B$6))/2)","v":0},{"$f":"(COUNTIF(CALENDRIER!BY$1835:BY$2199,CALENDRIER!$A$6))+((COUNTIF(CALENDRIER!BY$1835:BY$2199,CALENDRIER!$B$6))/2)","v":0},{"$f":"(COUNTIF(CALENDRIER!BZ$1835:BZ$2199,CALENDRIER!$A$6))+((COUNTIF(CALENDRIER!BZ$1835:BZ$2199,CALENDRIER!$B$6))/2)","v":0},{"$f":"(COUNTIF(CALENDRIER!CA$1835:CA$2199,CALENDRIER!$A$6))+((COUNTIF(CALENDRIER!CA$1835:CA$2199,CALENDRIER!$B$6))/2)","v":0},{"$f":"(COUNTIF(CALENDRIER!CB$1835:CB$2199,CALENDRIER!$A$6))+((COUNTIF(CALENDRIER!CB$1835:CB$2199,CALENDRIER!$B$6))/2)","v":0},{"$f":"(COUNTIF(CALENDRIER!CC$1835:CC$2199,CALENDRIER!$A$6))+((COUNTIF(CALENDRIER!CC$1835:CC$2199,CALENDRIER!$B$6))/2)","v":0},{"$f":"(COUNTIF(CALENDRIER!CD$1835:CD$2199,CALENDRIER!$A$6))+((COUNTIF(CALENDRIER!CD$1835:CD$2199,CALENDRIER!$B$6))/2)","v":0},{"$f":"(COUNTIF(CALENDRIER!CE$1835:CE$2199,CALENDRIER!$A$6))+((COUNTIF(CALENDRIER!CE$1835:CE$2199,CALENDRIER!$B$6))/2)","v":0},{"$f":"(COUNTIF(CALENDRIER!CF$1835:CF$2199,CALENDRIER!$A$6))+((COUNTIF(CALENDRIER!CF$1835:CF$2199,CALENDRIER!$B$6))/2)","v":0},{"$f":"(COUNTIF(CALENDRIER!CG$1835:CG$2199,CALENDRIER!$A$6))+((COUNTIF(CALENDRIER!CG$1835:CG$2199,CALENDRIER!$B$6))/2)","v":0},{"$f":"(COUNTIF(CALENDRIER!CH$1835:CH$2199,CALENDRIER!$A$6))+((COUNTIF(CALENDRIER!CH$1835:CH$2199,CALENDRIER!$B$6))/2)","v":0},{"$f":"(COUNTIF(CALENDRIER!CI$1835:CI$2199,CALENDRIER!$A$6))+((COUNTIF(CALENDRIER!CI$1835:CI$2199,CALENDRIER!$B$6))/2)","v":0},{"$f":"(COUNTIF(CALENDRIER!CJ$1835:CJ$2199,CALENDRIER!$A$6))+((COUNTIF(CALENDRIER!CJ$1835:CJ$2199,CALENDRIER!$B$6))/2)","v":0},{"$f":"(COUNTIF(CALENDRIER!CK$1835:CK$2199,CALENDRIER!$A$6))+((COUNTIF(CALENDRIER!CK$1835:CK$2199,CALENDRIER!$B$6))/2)","v":0},{"$f":"(COUNTIF(CALENDRIER!CL$1835:CL$2199,CALENDRIER!$A$6))+((COUNTIF(CALENDRIER!CL$1835:CL$2199,CALENDRIER!$B$6))/2)","v":0},{"$f":"(COUNTIF(CALENDRIER!CM$1835:CM$2199,CALENDRIER!$A$6))+((COUNTIF(CALENDRIER!CM$1835:CM$2199,CALENDRIER!$B$6))/2)","v":0},{"$f":"(COUNTIF(CALENDRIER!CN$1835:CN$2199,CALENDRIER!$A$6))+((COUNTIF(CALENDRIER!CN$1835:CN$2199,CALENDRIER!$B$6))/2)","v":0},{"$f":"(COUNTIF(CALENDRIER!CO$1835:CO$2199,CALENDRIER!$A$6))+((COUNTIF(CALENDRIER!CO$1835:CO$2199,CALENDRIER!$B$6))/2)","v":0},{"$f":"(COUNTIF(CALENDRIER!CP$1835:CP$2199,CALENDRIER!$A$6))+((COUNTIF(CALENDRIER!CP$1835:CP$2199,CALENDRIER!$B$6))/2)","v":0},{"$f":"(COUNTIF(CALENDRIER!CQ$1835:CQ$2199,CALENDRIER!$A$6))+((COUNTIF(CALENDRIER!CQ$1835:CQ$2199,CALENDRIER!$B$6))/2)","v":0},{"$f":"(COUNTIF(CALENDRIER!CR$1835:CR$2199,CALENDRIER!$A$6))+((COUNTIF(CALENDRIER!CR$1835:CR$2199,CALENDRIER!$B$6))/2)","v":0},{"$f":"(COUNTIF(CALENDRIER!CS$1835:CS$2199,CALENDRIER!$A$6))+((COUNTIF(CALENDRIER!CS$1835:CS$2199,CALENDRIER!$B$6))/2)","v":0},{"$f":"(COUNTIF(CALENDRIER!CT$1835:CT$2199,CALENDRIER!$A$6))+((COUNTIF(CALENDRIER!CT$1835:CT$2199,CALENDRIER!$B$6))/2)","v":0},{"$f":"(COUNTIF(CALENDRIER!CU$1835:CU$2199,CALENDRIER!$A$6))+((COUNTIF(CALENDRIER!CU$1835:CU$2199,CALENDRIER!$B$6))/2)","v":0},{"$f":"(COUNTIF(CALENDRIER!CV$1835:CV$2199,CALENDRIER!$A$6))+((COUNTIF(CALENDRIER!CV$1835:CV$2199,CALENDRIER!$B$6))/2)","v":0},{"$f":"(COUNTIF(CALENDRIER!CW$1835:CW$2199,CALENDRIER!$A$6))+((COUNTIF(CALENDRIER!CW$1835:CW$2199,CALENDRIER!$B$6))/2)","v":0},{"$f":"(COUNTIF(CALENDRIER!CX$1835:CX$2199,CALENDRIER!$A$6))+((COUNTIF(CALENDRIER!CX$1835:CX$2199,CALENDRIER!$B$6))/2)","v":0},{"$f":"(COUNTIF(CALENDRIER!CY$1835:CY$2199,CALENDRIER!$A$6))+((COUNTIF(CALENDRIER!CY$1835:CY$2199,CALENDRIER!$B$6))/2)","v":0},{"$f":"(COUNTIF(CALENDRIER!CZ$1835:CZ$2199,CALENDRIER!$A$6))+((COUNTIF(CALENDRIER!CZ$1835:CZ$2199,CALENDRIER!$B$6))/2)","v":0},{"$f":"(COUNTIF(CALENDRIER!DA$1835:DA$2199,CALENDRIER!$A$6))+((COUNTIF(CALENDRIER!DA$1835:DA$2199,CALENDRIER!$B$6))/2)","v":0},{"$f":"(COUNTIF(CALENDRIER!DB$1835:DB$2199,CALENDRIER!$A$6))+((COUNTIF(CALENDRIER!DB$1835:DB$2199,CALENDRIER!$B$6))/2)","v":0},{"$f":"(COUNTIF(CALENDRIER!DC$1835:DC$2199,CALENDRIER!$A$6))+((COUNTIF(CALENDRIER!DC$1835:DC$2199,CALENDRIER!$B$6))/2)","v":0},{"$f":"(COUNTIF(CALENDRIER!DD$1835:DD$2199,CALENDRIER!$A$6))+((COUNTIF(CALENDRIER!DD$1835:DD$2199,CALENDRIER!$B$6))/2)","v":0},{"$f":"(COUNTIF(CALENDRIER!DE$1835:DE$2199,CALENDRIER!$A$6))+((COUNTIF(CALENDRIER!DE$1835:DE$2199,CALENDRIER!$B$6))/2)","v":0},{"$f":"(COUNTIF(CALENDRIER!DF$1835:DF$2199,CALENDRIER!$A$6))+((COUNTIF(CALENDRIER!DF$1835:DF$2199,CALENDRIER!$B$6))/2)","v":0},{"$f":"(COUNTIF(CALENDRIER!DG$1835:DG$2199,CALENDRIER!$A$6))+((COUNTIF(CALENDRIER!DG$1835:DG$2199,CALENDRIER!$B$6))/2)","v":0},{"$f":"(COUNTIF(CALENDRIER!DH$1835:DH$2199,CALENDRIER!$A$6))+((COUNTIF(CALENDRIER!DH$1835:DH$2199,CALENDRIER!$B$6))/2)","v":0},{"$f":"(COUNTIF(CALENDRIER!DI$1835:DI$2199,CALENDRIER!$A$6))+((COUNTIF(CALENDRIER!DI$1835:DI$2199,CALENDRIER!$B$6))/2)","v":0},{"$f":"(COUNTIF(CALENDRIER!DJ$1835:DJ$2199,CALENDRIER!$A$6))+((COUNTIF(CALENDRIER!DJ$1835:DJ$2199,CALENDRIER!$B$6))/2)","v":0},{"$f":"(COUNTIF(CALENDRIER!DK$1835:DK$2199,CALENDRIER!$A$6))+((COUNTIF(CALENDRIER!DK$1835:DK$2199,CALENDRIER!$B$6))/2)","v":0},{"$f":"(COUNTIF(CALENDRIER!DL$1835:DL$2199,CALENDRIER!$A$6))+((COUNTIF(CALENDRIER!DL$1835:DL$2199,CALENDRIER!$B$6))/2)","v":0},{"$f":"(COUNTIF(CALENDRIER!DM$1835:DM$2199,CALENDRIER!$A$6))+((COUNTIF(CALENDRIER!DM$1835:DM$2199,CALENDRIER!$B$6))/2)","v":0},{"$f":"(COUNTIF(CALENDRIER!DN$1835:DN$2199,CALENDRIER!$A$6))+((COUNTIF(CALENDRIER!DN$1835:DN$2199,CALENDRIER!$B$6))/2)","v":0},{"$f":"(COUNTIF(CALENDRIER!DO$1835:DO$2199,CALENDRIER!$A$6))+((COUNTIF(CALENDRIER!DO$1835:DO$2199,CALENDRIER!$B$6))/2)","v":0},{"$f":"(COUNTIF(CALENDRIER!DP$1835:DP$2199,CALENDRIER!$A$6))+((COUNTIF(CALENDRIER!DP$1835:DP$2199,CALENDRIER!$B$6))/2)","v":0},{"$f":"(COUNTIF(CALENDRIER!DQ$1835:DQ$2199,CALENDRIER!$A$6))+((COUNTIF(CALENDRIER!DQ$1835:DQ$2199,CALENDRIER!$B$6))/2)","v":0},{"$f":"(COUNTIF(CALENDRIER!DR$1835:DR$2199,CALENDRIER!$A$6))+((COUNTIF(CALENDRIER!DR$1835:DR$2199,CALENDRIER!$B$6))/2)","v":0},{"$f":"(COUNTIF(CALENDRIER!DS$1835:DS$2199,CALENDRIER!$A$6))+((COUNTIF(CALENDRIER!DS$1835:DS$2199,CALENDRIER!$B$6))/2)","v":0},{"$f":"(COUNTIF(CALENDRIER!DT$1835:DT$2199,CALENDRIER!$A$6))+((COUNTIF(CALENDRIER!DT$1835:DT$2199,CALENDRIER!$B$6))/2)","v":0},{"$f":"(COUNTIF(CALENDRIER!DU$1835:DU$2199,CALENDRIER!$A$6))+((COUNTIF(CALENDRIER!DU$1835:DU$2199,CALENDRIER!$B$6))/2)","v":0},{"$f":"(COUNTIF(CALENDRIER!DV$1835:DV$2199,CALENDRIER!$A$6))+((COUNTIF(CALENDRIER!DV$1835:DV$2199,CALENDRIER!$B$6))/2)","v":0},{"$f":"(COUNTIF(CALENDRIER!DW$1835:DW$2199,CALENDRIER!$A$6))+((COUNTIF(CALENDRIER!DW$1835:DW$2199,CALENDRIER!$B$6))/2)","v":0},{"$f":"(COUNTIF(CALENDRIER!DX$1835:DX$2199,CALENDRIER!$A$6))+((COUNTIF(CALENDRIER!DX$1835:DX$2199,CALENDRIER!$B$6))/2)","v":0},{"$f":"(COUNTIF(CALENDRIER!DY$1835:DY$2199,CALENDRIER!$A$6))+((COUNTIF(CALENDRIER!DY$1835:DY$2199,CALENDRIER!$B$6))/2)","v":0},{"$f":"(COUNTIF(CALENDRIER!DZ$1835:DZ$2199,CALENDRIER!$A$6))+((COUNTIF(CALENDRIER!DZ$1835:DZ$2199,CALENDRIER!$B$6))/2)","v":0},{"$f":"(COUNTIF(CALENDRIER!EA$1835:EA$2199,CALENDRIER!$A$6))+((COUNTIF(CALENDRIER!EA$1835:EA$2199,CALENDRIER!$B$6))/2)","v":0},{"$f":"(COUNTIF(CALENDRIER!EB$1835:EB$2199,CALENDRIER!$A$6))+((COUNTIF(CALENDRIER!EB$1835:EB$2199,CALENDRIER!$B$6))/2)","v":0},{"$f":"(COUNTIF(CALENDRIER!EC$1835:EC$2199,CALENDRIER!$A$6))+((COUNTIF(CALENDRIER!EC$1835:EC$2199,CALENDRIER!$B$6))/2)","v":0},{"$f":"(COUNTIF(CALENDRIER!ED$1835:ED$2199,CALENDRIER!$A$6))+((COUNTIF(CALENDRIER!ED$1835:ED$2199,CALENDRIER!$B$6))/2)","v":0},{"$f":"(COUNTIF(CALENDRIER!EE$1835:EE$2199,CALENDRIER!$A$6))+((COUNTIF(CALENDRIER!EE$1835:EE$2199,CALENDRIER!$B$6))/2)","v":0},{"$f":"(COUNTIF(CALENDRIER!EF$1835:EF$2199,CALENDRIER!$A$6))+((COUNTIF(CALENDRIER!EF$1835:EF$2199,CALENDRIER!$B$6))/2)","v":0},{"$f":"(COUNTIF(CALENDRIER!EG$1835:EG$2199,CALENDRIER!$A$6))+((COUNTIF(CALENDRIER!EG$1835:EG$2199,CALENDRIER!$B$6))/2)","v":0},{"$f":"(COUNTIF(CALENDRIER!EH$1835:EH$2199,CALENDRIER!$A$6))+((COUNTIF(CALENDRIER!EH$1835:EH$2199,CALENDRIER!$B$6))/2)","v":0},{"$f":"(COUNTIF(CALENDRIER!EI$1835:EI$2199,CALENDRIER!$A$6))+((COUNTIF(CALENDRIER!EI$1835:EI$2199,CALENDRIER!$B$6))/2)","v":0},{"$f":"(COUNTIF(CALENDRIER!EJ$1835:EJ$2199,CALENDRIER!$A$6))+((COUNTIF(CALENDRIER!EJ$1835:EJ$2199,CALENDRIER!$B$6))/2)","v":0},{"$f":"(COUNTIF(CALENDRIER!EK$1835:EK$2199,CALENDRIER!$A$6))+((COUNTIF(CALENDRIER!EK$1835:EK$2199,CALENDRIER!$B$6))/2)","v":0},{"$f":"(COUNTIF(CALENDRIER!EL$1835:EL$2199,CALENDRIER!$A$6))+((COUNTIF(CALENDRIER!EL$1835:EL$2199,CALENDRIER!$B$6))/2)","v":0},{"$f":"(COUNTIF(CALENDRIER!EM$1835:EM$2199,CALENDRIER!$A$6))+((COUNTIF(CALENDRIER!EM$1835:EM$2199,CALENDRIER!$B$6))/2)","v":0},{"$f":"(COUNTIF(CALENDRIER!EN$1835:EN$2199,CALENDRIER!$A$6))+((COUNTIF(CALENDRIER!EN$1835:EN$2199,CALENDRIER!$B$6))/2)","v":0},{"$f":"(COUNTIF(CALENDRIER!EO$1835:EO$2199,CALENDRIER!$A$6))+((COUNTIF(CALENDRIER!EO$1835:EO$2199,CALENDRIER!$B$6))/2)","v":0},{"$f":"(COUNTIF(CALENDRIER!EP$1835:EP$2199,CALENDRIER!$A$6))+((COUNTIF(CALENDRIER!EP$1835:EP$2199,CALENDRIER!$B$6))/2)","v":0},{"$f":"(COUNTIF(CALENDRIER!EQ$1835:EQ$2199,CALENDRIER!$A$6))+((COUNTIF(CALENDRIER!EQ$1835:EQ$2199,CALENDRIER!$B$6))/2)","v":0},{"$f":"(COUNTIF(CALENDRIER!ER$1835:ER$2199,CALENDRIER!$A$6))+((COUNTIF(CALENDRIER!ER$1835:ER$2199,CALENDRIER!$B$6))/2)","v":0},{"$f":"(COUNTIF(CALENDRIER!ES$1835:ES$2199,CALENDRIER!$A$6))+((COUNTIF(CALENDRIER!ES$1835:ES$2199,CALENDRIER!$B$6))/2)","v":0},{"$f":"(COUNTIF(CALENDRIER!ET$1835:ET$2199,CALENDRIER!$A$6))+((COUNTIF(CALENDRIER!ET$1835:ET$2199,CALENDRIER!$B$6))/2)","v":0},{"$f":"(COUNTIF(CALENDRIER!EU$1835:EU$2199,CALENDRIER!$A$6))+((COUNTIF(CALENDRIER!EU$1835:EU$2199,CALENDRIER!$B$6))/2)","v":0},{"$f":"(COUNTIF(CALENDRIER!EV$1835:EV$2199,CALENDRIER!$A$6))+((COUNTIF(CALENDRIER!EV$1835:EV$2199,CALENDRIER!$B$6))/2)","v":0},{"$f":"(COUNTIF(CALENDRIER!EW$1835:EW$2199,CALENDRIER!$A$6))+((COUNTIF(CALENDRIER!EW$1835:EW$2199,CALENDRIER!$B$6))/2)","v":0},{"$f":"(COUNTIF(CALENDRIER!EX$1835:EX$2199,CALENDRIER!$A$6))+((COUNTIF(CALENDRIER!EX$1835:EX$2199,CALENDRIER!$B$6))/2)","v":0},{"$f":"(COUNTIF(CALENDRIER!EY$1835:EY$2199,CALENDRIER!$A$6))+((COUNTIF(CALENDRIER!EY$1835:EY$2199,CALENDRIER!$B$6))/2)","v":0},{"$f":"(COUNTIF(CALENDRIER!EZ$1835:EZ$2199,CALENDRIER!$A$6))+((COUNTIF(CALENDRIER!EZ$1835:EZ$2199,CALENDRIER!$B$6))/2)","v":0},{"$f":"(COUNTIF(CALENDRIER!FA$1835:FA$2199,CALENDRIER!$A$6))+((COUNTIF(CALENDRIER!FA$1835:FA$2199,CALENDRIER!$B$6))/2)","v":0},{"$f":"(COUNTIF(CALENDRIER!FB$1835:FB$2199,CALENDRIER!$A$6))+((COUNTIF(CALENDRIER!FB$1835:FB$2199,CALENDRIER!$B$6))/2)","v":0},{"$f":"(COUNTIF(CALENDRIER!FC$1835:FC$2199,CALENDRIER!$A$6))+((COUNTIF(CALENDRIER!FC$1835:FC$2199,CALENDRIER!$B$6))/2)","v":0},{"$f":"(COUNTIF(CALENDRIER!FD$1835:FD$2199,CALENDRIER!$A$6))+((COUNTIF(CALENDRIER!FD$1835:FD$2199,CALENDRIER!$B$6))/2)","v":0},{"$f":"(COUNTIF(CALENDRIER!FE$1835:FE$2199,CALENDRIER!$A$6))+((COUNTIF(CALENDRIER!FE$1835:FE$2199,CALENDRIER!$B$6))/2)","v":0},{"$f":"(COUNTIF(CALENDRIER!FF$1835:FF$2199,CALENDRIER!$A$6))+((COUNTIF(CALENDRIER!FF$1835:FF$2199,CALENDRIER!$B$6))/2)","v":0},{"$f":"(COUNTIF(CALENDRIER!FG$1835:FG$2199,CALENDRIER!$A$6))+((COUNTIF(CALENDRIER!FG$1835:FG$2199,CALENDRIER!$B$6))/2)","v":0},{"$f":"(COUNTIF(CALENDRIER!FH$1835:FH$2199,CALENDRIER!$A$6))+((COUNTIF(CALENDRIER!FH$1835:FH$2199,CALENDRIER!$B$6))/2)","v":0},{"$f":"(COUNTIF(CALENDRIER!FI$1835:FI$2199,CALENDRIER!$A$6))+((COUNTIF(CALENDRIER!FI$1835:FI$2199,CALENDRIER!$B$6))/2)","v":0},{"$f":"(COUNTIF(CALENDRIER!FJ$1835:FJ$2199,CALENDRIER!$A$6))+((COUNTIF(CALENDRIER!FJ$1835:FJ$2199,CALENDRIER!$B$6))/2)","v":0},{"$f":"(COUNTIF(CALENDRIER!FK$1835:FK$2199,CALENDRIER!$A$6))+((COUNTIF(CALENDRIER!FK$1835:FK$2199,CALENDRIER!$B$6))/2)","v":0},{"$f":"(COUNTIF(CALENDRIER!FL$1835:FL$2199,CALENDRIER!$A$6))+((COUNTIF(CALENDRIER!FL$1835:FL$2199,CALENDRIER!$B$6))/2)","v":0},{"$f":"(COUNTIF(CALENDRIER!FM$1835:FM$2199,CALENDRIER!$A$6))+((COUNTIF(CALENDRIER!FM$1835:FM$2199,CALENDRIER!$B$6))/2)","v":0},{"$f":"(COUNTIF(CALENDRIER!FN$1835:FN$2199,CALENDRIER!$A$6))+((COUNTIF(CALENDRIER!FN$1835:FN$2199,CALENDRIER!$B$6))/2)","v":0},{"$f":"(COUNTIF(CALENDRIER!FO$1835:FO$2199,CALENDRIER!$A$6))+((COUNTIF(CALENDRIER!FO$1835:FO$2199,CALENDRIER!$B$6))/2)","v":0},{"$f":"(COUNTIF(CALENDRIER!FP$1835:FP$2199,CALENDRIER!$A$6))+((COUNTIF(CALENDRIER!FP$1835:FP$2199,CALENDRIER!$B$6))/2)","v":0},{"$f":"(COUNTIF(CALENDRIER!FQ$1835:FQ$2199,CALENDRIER!$A$6))+((COUNTIF(CALENDRIER!FQ$1835:FQ$2199,CALENDRIER!$B$6))/2)","v":0},{"$f":"(COUNTIF(CALENDRIER!FR$1835:FR$2199,CALENDRIER!$A$6))+((COUNTIF(CALENDRIER!FR$1835:FR$2199,CALENDRIER!$B$6))/2)","v":0},{"$f":"(COUNTIF(CALENDRIER!FS$1835:FS$2199,CALENDRIER!$A$6))+((COUNTIF(CALENDRIER!FS$1835:FS$2199,CALENDRIER!$B$6))/2)","v":0},{"$f":"(COUNTIF(CALENDRIER!FT$1835:FT$2199,CALENDRIER!$A$6))+((COUNTIF(CALENDRIER!FT$1835:FT$2199,CALENDRIER!$B$6))/2)","v":0},{"$f":"(COUNTIF(CALENDRIER!FU$1835:FU$2199,CALENDRIER!$A$6))+((COUNTIF(CALENDRIER!FU$1835:FU$2199,CALENDRIER!$B$6))/2)","v":0},{"$f":"(COUNTIF(CALENDRIER!FV$1835:FV$2199,CALENDRIER!$A$6))+((COUNTIF(CALENDRIER!FV$1835:FV$2199,CALENDRIER!$B$6))/2)","v":0},{"$f":"(COUNTIF(CALENDRIER!FW$1835:FW$2199,CALENDRIER!$A$6))+((COUNTIF(CALENDRIER!FW$1835:FW$2199,CALENDRIER!$B$6))/2)","v":0},{"$f":"(COUNTIF(CALENDRIER!FX$1835:FX$2199,CALENDRIER!$A$6))+((COUNTIF(CALENDRIER!FX$1835:FX$2199,CALENDRIER!$B$6))/2)","v":0},{"$f":"(COUNTIF(CALENDRIER!FY$1835:FY$2199,CALENDRIER!$A$6))+((COUNTIF(CALENDRIER!FY$1835:FY$2199,CALENDRIER!$B$6))/2)","v":0},{"$f":"(COUNTIF(CALENDRIER!FZ$1835:FZ$2199,CALENDRIER!$A$6))+((COUNTIF(CALENDRIER!FZ$1835:FZ$2199,CALENDRIER!$B$6))/2)","v":0},{"$f":"(COUNTIF(CALENDRIER!GA$1835:GA$2199,CALENDRIER!$A$6))+((COUNTIF(CALENDRIER!GA$1835:GA$2199,CALENDRIER!$B$6))/2)","v":0},{"$f":"(COUNTIF(CALENDRIER!GB$1835:GB$2199,CALENDRIER!$A$6))+((COUNTIF(CALENDRIER!GB$1835:GB$2199,CALENDRIER!$B$6))/2)","v":0},{"$f":"(COUNTIF(CALENDRIER!GC$1835:GC$2199,CALENDRIER!$A$6))+((COUNTIF(CALENDRIER!GC$1835:GC$2199,CALENDRIER!$B$6))/2)","v":0},{"$f":"(COUNTIF(CALENDRIER!GD$1835:GD$2199,CALENDRIER!$A$6))+((COUNTIF(CALENDRIER!GD$1835:GD$2199,CALENDRIER!$B$6))/2)","v":0},{"$f":"(COUNTIF(CALENDRIER!GE$1835:GE$2199,CALENDRIER!$A$6))+((COUNTIF(CALENDRIER!GE$1835:GE$2199,CALENDRIER!$B$6))/2)","v":0},{"$f":"(COUNTIF(CALENDRIER!GF$1835:GF$2199,CALENDRIER!$A$6))+((COUNTIF(CALENDRIER!GF$1835:GF$2199,CALENDRIER!$B$6))/2)","v":0},{"$f":"(COUNTIF(CALENDRIER!GG$1835:GG$2199,CALENDRIER!$A$6))+((COUNTIF(CALENDRIER!GG$1835:GG$2199,CALENDRIER!$B$6))/2)","v":0},{"$f":"(COUNTIF(CALENDRIER!GH$1835:GH$2199,CALENDRIER!$A$6))+((COUNTIF(CALENDRIER!GH$1835:GH$2199,CALENDRIER!$B$6))/2)","v":0},{"$f":"(COUNTIF(CALENDRIER!GI$1835:GI$2199,CALENDRIER!$A$6))+((COUNTIF(CALENDRIER!GI$1835:GI$2199,CALENDRIER!$B$6))/2)","v":0},{"$f":"(COUNTIF(CALENDRIER!GJ$1835:GJ$2199,CALENDRIER!$A$6))+((COUNTIF(CALENDRIER!GJ$1835:GJ$2199,CALENDRIER!$B$6))/2)","v":0},{"$f":"(COUNTIF(CALENDRIER!GK$1835:GK$2199,CALENDRIER!$A$6))+((COUNTIF(CALENDRIER!GK$1835:GK$2199,CALENDRIER!$B$6))/2)","v":0},{"$f":"(COUNTIF(CALENDRIER!GL$1835:GL$2199,CALENDRIER!$A$6))+((COUNTIF(CALENDRIER!GL$1835:GL$2199,CALENDRIER!$B$6))/2)","v":0},{"$f":"(COUNTIF(CALENDRIER!GM$1835:GM$2199,CALENDRIER!$A$6))+((COUNTIF(CALENDRIER!GM$1835:GM$2199,CALENDRIER!$B$6))/2)","v":0},{"$f":"(COUNTIF(CALENDRIER!GN$1835:GN$2199,CALENDRIER!$A$6))+((COUNTIF(CALENDRIER!GN$1835:GN$2199,CALENDRIER!$B$6))/2)","v":0},{"$f":"(COUNTIF(CALENDRIER!GO$1835:GO$2199,CALENDRIER!$A$6))+((COUNTIF(CALENDRIER!GO$1835:GO$2199,CALENDRIER!$B$6))/2)","v":0},{"$f":"(COUNTIF(CALENDRIER!GP$1835:GP$2199,CALENDRIER!$A$6))+((COUNTIF(CALENDRIER!GP$1835:GP$2199,CALENDRIER!$B$6))/2)","v":0},{"$f":"(COUNTIF(CALENDRIER!GQ$1835:GQ$2199,CALENDRIER!$A$6))+((COUNTIF(CALENDRIER!GQ$1835:GQ$2199,CALENDRIER!$B$6))/2)","v":0},{"$f":"(COUNTIF(CALENDRIER!GR$1835:GR$2199,CALENDRIER!$A$6))+((COUNTIF(CALENDRIER!GR$1835:GR$2199,CALENDRIER!$B$6))/2)","v":0}]
[null,{"$f":"\"Solde \"&CALENDRIER!$A$6&\" \"&A274&\" : \"","v":"Solde … 2020-2021 : "},{"$f":"C275-C276","v":0},{"$f":"D275-D276","v":0},0,0,0,0,0,0,0,0,0,0,0,0,0,0,0,0,0,0,0,0,0,0,0,0,0,0,0,0,0,0,0,0,0,0,0,0,0,0,0,0,0,0,0,0,0,0,0,0,0,0,0,0,0,0,0,0,0,0,0,0,0,0,0,{"$f":"BP275-BP276","v":0},0,0,0,0,0,0,0,0,0,0,0,0,0,0,0,0,0,0,0,0,0,0,0,0,0,0,0,0,0,0,0,0,0,0,0,0,0,0,0,0,0,0,0,0,0,0,0,0,0,0,0,0,0,0,0,0,0,0,0,0,0,0,0,{"$f":"EB275-EB276","v":0},0,0,0,0,0,0,0,0,0,0,0,0,0,0,0,0,0,0,0,0,0,0,0,0,0,0,0,0,0,0,0,0,0,0,0,0,0,0,0,0,0,0,0,0,0,0,0,0,0,0,0,0,0,0,0,0,0,0,0,0,0,0,0,{"$f":"GN275-GN276","v":0},0,0,0,0]