{"text_format":"1","workbook":"xlsx","n_sheets":12,"sheets":["Planning","Récap Individuel","Récap Global Horaire Activité","Récap_Pôles","Système","BD","A lire","Structure","Agenda_Vierge","Personnel 01","Annuel_Vierge","Personnel 01_AN"],"not_rendered":{"charts":0,"images":3,"macros":1,"external_links":0,"defined_names":165,"comments":4,"pivot_tables":0},"unopened":[],"bounds":{"document_bytes":16777216,"sheet_cells":100000,"rows_first":2000,"rows_last":500,"rows_between":2000,"halvings":0,"cell_chars":16384,"cell_head_chars":4096},"cells_cut":0,"cells_raw":0,"read":"whole","date_system":"1900"}

{"sheet":"Planning","index":0,"n_rows":65,"n_cols":401,"rows_kept":65,"cut":false,"hidden":false,"merged":[[52,1,63,1],[40,1,51,1],[12,1,23,1],[24,1,35,1],[9,0,36,0],[37,0,64,0],[11,1,11,2],[10,1,10,2],[38,1,38,2],[39,1,39,2],[64,1,64,2],[36,1,36,2],[1,1,1,2],[7,1,8,2],[2,1,2,2],[3,1,3,2],[4,1,4,2],[5,1,5,2],[6,1,6,2]]}
[null,null,null,{"$f":"IF(OR(AND(WEEKDAY(D$9)=1,Dimanche),AND(WEEKDAY(D$9)=2,Lundi),AND(WEEKDAY(D$9)=3,Mardi),AND(WEEKDAY(D$9)=4,Mercredi),AND(WEEKDAY(D$9)=5,Jeudi),AND(WEEKDAY(D$9)=6,Vendredi),AND(WEEKDAY(D$9)=7,Samedi),D$9=férié),0,1)","v":0},{"$f":"IF(OR(AND(WEEKDAY(E$9)=1,Dimanche),AND(WEEKDAY(E$9)=2,Lundi),AND(WEEKDAY(E$9)=3,Mardi),AND(WEEKDAY(E$9)=4,Mercredi),AND(WEEKDAY(E$9)=5,Jeudi),AND(WEEKDAY(E$9)=6,Vendredi),AND(WEEKDAY(E$9)=7,Samedi),E$9=férié),0,1)","v":1},{"$f":"IF(OR(AND(WEEKDAY(F$9)=1,Dimanche),AND(WEEKDAY(F$9)=2,Lundi),AND(WEEKDAY(F$9)=3,Mardi),AND(WEEKDAY(F$9)=4,Mercredi),AND(WEEKDAY(F$9)=5,Jeudi),AND(WEEKDAY(F$9)=6,Vendredi),AND(WEEKDAY(F$9)=7,Samedi),F$9=férié),0,1)","v":1},{"$f":"IF(OR(AND(WEEKDAY(G$9)=1,Dimanche),AND(WEEKDAY(G$9)=2,Lundi),AND(WEEKDAY(G$9)=3,Mardi),AND(WEEKDAY(G$9)=4,Mercredi),AND(WEEKDAY(G$9)=5,Jeudi),AND(WEEKDAY(G$9)=6,Vendredi),AND(WEEKDAY(G$9)=7,Samedi),G$9=férié),0,1)","v":1},{"$f":"IF(OR(AND(WEEKDAY(H$9)=1,Dimanche),AND(WEEKDAY(H$9)=2,Lundi),AND(WEEKDAY(H$9)=3,Mardi),AND(WEEKDAY(H$9)=4,Mercredi),AND(WEEKDAY(H$9)=5,Jeudi),AND(WEEKDAY(H$9)=6,Vendredi),AND(WEEKDAY(H$9)=7,Samedi),H$9=férié),0,1)","v":1},{"$f":"IF(OR(AND(WEEKDAY(I$9)=1,Dimanche),AND(WEEKDAY(I$9)=2,Lundi),AND(WEEKDAY(I$9)=3,Mardi),AND(WEEKDAY(I$9)=4,Mercredi),AND(WEEKDAY(I$9)=5,Jeudi),AND(WEEKDAY(I$9)=6,Vendredi),AND(WEEKDAY(I$9)=7,Samedi),I$9=férié),0,1)","v":1},{"$f":"IF(OR(AND(WEEKDAY(J$9)=1,Dimanche),AND(WEEKDAY(J$9)=2,Lundi),AND(WEEKDAY(J$9)=3,Mardi),AND(WEEKDAY(J$9)=4,Mercredi),AND(WEEKDAY(J$9)=5,Jeudi),AND(WEEKDAY(J$9)=6,Vendredi),AND(WEEKDAY(J$9)=7,Samedi),J$9=férié),0,1)","v":0},{"$f":"IF(OR(AND(WEEKDAY(K$9)=1,Dimanche),AND(WEEKDAY(K$9)=2,Lundi),AND(WEEKDAY(K$9)=3,Mardi),AND(WEEKDAY(K$9)=4,Mercredi),AND(WEEKDAY(K$9)=5,Jeudi),AND(WEEKDAY(K$9)=6,Vendredi),AND(WEEKDAY(K$9)=7,Samedi),K$9=férié),0,1)","v":0},{"$f":"IF(OR(AND(WEEKDAY(L$9)=1,Dimanche),AND(WEEKDAY(L$9)=2,Lundi),AND(WEEKDAY(L$9)=3,Mardi),AND(WEEKDAY(L$9)=4,Mercredi),AND(WEEKDAY(L$9)=5,Jeudi),AND(WEEKDAY(L$9)=6,Vendredi),AND(WEEKDAY(L$9)=7,Samedi),L$9=férié),0,1)","v":1},{"$f":"IF(OR(AND(WEEKDAY(M$9)=1,Dimanche),AND(WEEKDAY(M$9)=2,Lundi),AND(WEEKDAY(M$9)=3,Mardi),AND(WEEKDAY(M$9)=4,Mercredi),AND(WEEKDAY(M$9)=5,Jeudi),AND(WEEKDAY(M$9)=6,Vendredi),AND(WEEKDAY(M$9)=7,Samedi),M$9=férié),0,1)","v":1},{"$f":"IF(OR(AND(WEEKDAY(N$9)=1,Dimanche),AND(WEEKDAY(N$9)=2,Lundi),AND(WEEKDAY(N$9)=3,Mardi),AND(WEEKDAY(N$9)=4,Mercredi),AND(WEEKDAY(N$9)=5,Jeudi),AND(WEEKDAY(N$9)=6,Vendredi),AND(WEEKDAY(N$9)=7,Samedi),N$9=férié),0,1)","v":1},{"$f":"IF(OR(AND(WEEKDAY(O$9)=1,Dimanche),AND(WEEKDAY(O$9)=2,Lundi),AND(WEEKDAY(O$9)=3,Mardi),AND(WEEKDAY(O$9)=4,Mercredi),AND(WEEKDAY(O$9)=5,Jeudi),AND(WEEKDAY(O$9)=6,Vendredi),AND(WEEKDAY(O$9)=7,Samedi),O$9=férié),0,1)","v":1},{"$f":"IF(OR(AND(WEEKDAY(P$9)=1,Dimanche),AND(WEEKDAY(P$9)=2,Lundi),AND(WEEKDAY(P$9)=3,Mardi),AND(WEEKDAY(P$9)=4,Mercredi),AND(WEEKDAY(P$9)=5,Jeudi),AND(WEEKDAY(P$9)=6,Vendredi),AND(WEEKDAY(P$9)=7,Samedi),P$9=férié),0,1)","v":1},{"$f":"IF(OR(AND(WEEKDAY(Q$9)=1,Dimanche),AND(WEEKDAY(Q$9)=2,Lundi),AND(WEEKDAY(Q$9)=3,Mardi),AND(WEEKDAY(Q$9)=4,Mercredi),AND(WEEKDAY(Q$9)=5,Jeudi),AND(WEEKDAY(Q$9)=6,Vendredi),AND(WEEKDAY(Q$9)=7,Samedi),Q$9=férié),0,1)","v":0},{"$f":"IF(OR(AND(WEEKDAY(R$9)=1,Dimanche),AND(WEEKDAY(R$9)=2,Lundi),AND(WEEKDAY(R$9)=3,Mardi),AND(WEEKDAY(R$9)=4,Mercredi),AND(WEEKDAY(R$9)=5,Jeudi),AND(WEEKDAY(R$9)=6,Vendredi),AND(WEEKDAY(R$9)=7,Samedi),R$9=férié),0,1)","v":0},{"$f":"IF(OR(AND(WEEKDAY(S$9)=1,Dimanche),AND(WEEKDAY(S$9)=2,Lundi),AND(WEEKDAY(S$9)=3,Mardi),AND(WEEKDAY(S$9)=4,Mercredi),AND(WEEKDAY(S$9)=5,Jeudi),AND(WEEKDAY(S$9)=6,Vendredi),AND(WEEKDAY(S$9)=7,Samedi),S$9=férié),0,1)","v":1},{"$f":"IF(OR(AND(WEEKDAY(T$9)=1,Dimanche),AND(WEEKDAY(T$9)=2,Lundi),AND(WEEKDAY(T$9)=3,Mardi),AND(WEEKDAY(T$9)=4,Mercredi),AND(WEEKDAY(T$9)=5,Jeudi),AND(WEEKDAY(T$9)=6,Vendredi),AND(WEEKDAY(T$9)=7,Samedi),T$9=férié),0,1)","v":1},{"$f":"IF(OR(AND(WEEKDAY(U$9)=1,Dimanche),AND(WEEKDAY(U$9)=2,Lundi),AND(WEEKDAY(U$9)=3,Mardi),AND(WEEKDAY(U$9)=4,Mercredi),AND(WEEKDAY(U$9)=5,Jeudi),AND(WEEKDAY(U$9)=6,Vendredi),AND(WEEKDAY(U$9)=7,Samedi),U$9=férié),0,1)","v":1},{"$f":"IF(OR(AND(WEEKDAY(V$9)=1,Dimanche),AND(WEEKDAY(V$9)=2,Lundi),AND(WEEKDAY(V$9)=3,Mardi),AND(WEEKDAY(V$9)=4,Mercredi),AND(WEEKDAY(V$9)=5,Jeudi),AND(WEEKDAY(V$9)=6,Vendredi),AND(WEEKDAY(V$9)=7,Samedi),V$9=férié),0,1)","v":1},{"$f":"IF(OR(AND(WEEKDAY(W$9)=1,Dimanche),AND(WEEKDAY(W$9)=2,Lundi),AND(WEEKDAY(W$9)=3,Mardi),AND(WEEKDAY(W$9)=4,Mercredi),AND(WEEKDAY(W$9)=5,Jeudi),AND(WEEKDAY(W$9)=6,Vendredi),AND(WEEKDAY(W$9)=7,Samedi),W$9=férié),0,1)","v":1},{"$f":"IF(OR(AND(WEEKDAY(X$9)=1,Dimanche),AND(WEEKDAY(X$9)=2,Lundi),AND(WEEKDAY(X$9)=3,Mardi),AND(WEEKDAY(X$9)=4,Mercredi),AND(WEEKDAY(X$9)=5,Jeudi),AND(WEEKDAY(X$9)=6,Vendredi),AND(WEEKDAY(X$9)=7,Samedi),X$9=férié),0,1)","v":0},{"$f":"IF(OR(AND(WEEKDAY(Y$9)=1,Dimanche),AND(WEEKDAY(Y$9)=2,Lundi),AND(WEEKDAY(Y$9)=3,Mardi),AND(WEEKDAY(Y$9)=4,Mercredi),AND(WEEKDAY(Y$9)=5,Jeudi),AND(WEEKDAY(Y$9)=6,Vendredi),AND(WEEKDAY(Y$9)=7,Samedi),Y$9=férié),0,1)","v":0},{"$f":"IF(OR(AND(WEEKDAY(Z$9)=1,Dimanche),AND(WEEKDAY(Z$9)=2,Lundi),AND(WEEKDAY(Z$9)=3,Mardi),AND(WEEKDAY(Z$9)=4,Mercredi),AND(WEEKDAY(Z$9)=5,Jeudi),AND(WEEKDAY(Z$9)=6,Vendredi),AND(WEEKDAY(Z$9)=7,Samedi),Z$9=férié),0,1)","v":1},{"$f":"IF(OR(AND(WEEKDAY(AA$9)=1,Dimanche),AND(WEEKDAY(AA$9)=2,Lundi),AND(WEEKDAY(AA$9)=3,Mardi),AND(WEEKDAY(AA$9)=4,Mercredi),AND(WEEKDAY(AA$9)=5,Jeudi),AND(WEEKDAY(AA$9)=6,Vendredi),AND(WEEKDAY(AA$9)=7,Samedi),AA$9=férié),0,1)","v":1},{"$f":"IF(OR(AND(WEEKDAY(AB$9)=1,Dimanche),AND(WEEKDAY(AB$9)=2,Lundi),AND(WEEKDAY(AB$9)=3,Mardi),AND(WEEKDAY(AB$9)=4,Mercredi),AND(WEEKDAY(AB$9)=5,Jeudi),AND(WEEKDAY(AB$9)=6,Vendredi),AND(WEEKDAY(AB$9)=7,Samedi),AB$9=férié),0,1)","v":1},{"$f":"IF(OR(AND(WEEKDAY(AC$9)=1,Dimanche),AND(WEEKDAY(AC$9)=2,Lundi),AND(WEEKDAY(AC$9)=3,Mardi),AND(WEEKDAY(AC$9)=4,Mercredi),AND(WEEKDAY(AC$9)=5,Jeudi),AND(WEEKDAY(AC$9)=6,Vendredi),AND(WEEKDAY(AC$9)=7,Samedi),AC$9=férié),0,1)","v":1},{"$f":"IF(OR(AND(WEEKDAY(AD$9)=1,Dimanche),AND(WEEKDAY(AD$9)=2,Lundi),AND(WEEKDAY(AD$9)=3,Mardi),AND(WEEKDAY(AD$9)=4,Mercredi),AND(WEEKDAY(AD$9)=5,Jeudi),AND(WEEKDAY(AD$9)=6,Vendredi),AND(WEEKDAY(AD$9)=7,Samedi),AD$9=férié),0,1)","v":1},{"$f":"IF(OR(AND(WEEKDAY(AE$9)=1,Dimanche),AND(WEEKDAY(AE$9)=2,Lundi),AND(WEEKDAY(AE$9)=3,Mardi),AND(WEEKDAY(AE$9)=4,Mercredi),AND(WEEKDAY(AE$9)=5,Jeudi),AND(WEEKDAY(AE$9)=6,Vendredi),AND(WEEKDAY(AE$9)=7,Samedi),AE$9=férié),0,1)","v":0},{"$f":"IF(OR(AND(WEEKDAY(AF$9)=1,Dimanche),AND(WEEKDAY(AF$9)=2,Lundi),AND(WEEKDAY(AF$9)=3,Mardi),AND(WEEKDAY(AF$9)=4,Mercredi),AND(WEEKDAY(AF$9)=5,Jeudi),AND(WEEKDAY(AF$9)=6,Vendredi),AND(WEEKDAY(AF$9)=7,Samedi),AF$9=férié),0,1)","v":0},{"$f":"IF(OR(AND(WEEKDAY(AG$9)=1,Dimanche),AND(WEEKDAY(AG$9)=2,Lundi),AND(WEEKDAY(AG$9)=3,Mardi),AND(WEEKDAY(AG$9)=4,Mercredi),AND(WEEKDAY(AG$9)=5,Jeudi),AND(WEEKDAY(AG$9)=6,Vendredi),AND(WEEKDAY(AG$9)=7,Samedi),AG$9=férié),0,1)","v":1},{"$f":"IF(OR(AND(WEEKDAY(AH$9)=1,Dimanche),AND(WEEKDAY(AH$9)=2,Lundi),AND(WEEKDAY(AH$9)=3,Mardi),AND(WEEKDAY(AH$9)=4,Mercredi),AND(WEEKDAY(AH$9)=5,Jeudi),AND(WEEKDAY(AH$9)=6,Vendredi),AND(WEEKDAY(AH$9)=7,Samedi),AH$9=férié),0,1)","v":1},{"$f":"IF(OR(AND(WEEKDAY(AI$9)=1,Dimanche),AND(WEEKDAY(AI$9)=2,Lundi),AND(WEEKDAY(AI$9)=3,Mardi),AND(WEEKDAY(AI$9)=4,Mercredi),AND(WEEKDAY(AI$9)=5,Jeudi),AND(WEEKDAY(AI$9)=6,Vendredi),AND(WEEKDAY(AI$9)=7,Samedi),AI$9=férié),0,1)","v":1},{"$f":"IF(OR(AND(WEEKDAY(AJ$9)=1,Dimanche),AND(WEEKDAY(AJ$9)=2,Lundi),AND(WEEKDAY(AJ$9)=3,Mardi),AND(WEEKDAY(AJ$9)=4,Mercredi),AND(WEEKDAY(AJ$9)=5,Jeudi),AND(WEEKDAY(AJ$9)=6,Vendredi),AND(WEEKDAY(AJ$9)=7,Samedi),AJ$9=férié),0,1)","v":1},{"$f":"IF(OR(AND(WEEKDAY(AK$9)=1,Dimanche),AND(WEEKDAY(AK$9)=2,Lundi),AND(WEEKDAY(AK$9)=3,Mardi),AND(WEEKDAY(AK$9)=4,Mercredi),AND(WEEKDAY(AK$9)=5,Jeudi),AND(WEEKDAY(AK$9)=6,Vendredi),AND(WEEKDAY(AK$9)=7,Samedi),AK$9=férié),0,1)","v":1},{"$f":"IF(OR(AND(WEEKDAY(AL$9)=1,Dimanche),AND(WEEKDAY(AL$9)=2,Lundi),AND(WEEKDAY(AL$9)=3,Mardi),AND(WEEKDAY(AL$9)=4,Mercredi),AND(WEEKDAY(AL$9)=5,Jeudi),AND(WEEKDAY(AL$9)=6,Vendredi),AND(WEEKDAY(AL$9)=7,Samedi),AL$9=férié),0,1)","v":0},{"$f":"IF(OR(AND(WEEKDAY(AM$9)=1,Dimanche),AND(WEEKDAY(AM$9)=2,Lundi),AND(WEEKDAY(AM$9)=3,Mardi),AND(WEEKDAY(AM$9)=4,Mercredi),AND(WEEKDAY(AM$9)=5,Jeudi),AND(WEEKDAY(AM$9)=6,Vendredi),AND(WEEKDAY(AM$9)=7,Samedi),AM$9=férié),0,1)","v":0},{"$f":"IF(OR(AND(WEEKDAY(AN$9)=1,Dimanche),AND(WEEKDAY(AN$9)=2,Lundi),AND(WEEKDAY(AN$9)=3,Mardi),AND(WEEKDAY(AN$9)=4,Mercredi),AND(WEEKDAY(AN$9)=5,Jeudi),AND(WEEKDAY(AN$9)=6,Vendredi),AND(WEEKDAY(AN$9)=7,Samedi),AN$9=férié),0,1)","v":1},{"$f":"IF(OR(AND(WEEKDAY(AO$9)=1,Dimanche),AND(WEEKDAY(AO$9)=2,Lundi),AND(WEEKDAY(AO$9)=3,Mardi),AND(WEEKDAY(AO$9)=4,Mercredi),AND(WEEKDAY(AO$9)=5,Jeudi),AND(WEEKDAY(AO$9)=6,Vendredi),AND(WEEKDAY(AO$9)=7,Samedi),AO$9=férié),0,1)","v":1},{"$f":"IF(OR(AND(WEEKDAY(AP$9)=1,Dimanche),AND(WEEKDAY(AP$9)=2,Lundi),AND(WEEKDAY(AP$9)=3,Mardi),AND(WEEKDAY(AP$9)=4,Mercredi),AND(WEEKDAY(AP$9)=5,Jeudi),AND(WEEKDAY(AP$9)=6,Vendredi),AND(WEEKDAY(AP$9)=7,Samedi),AP$9=férié),0,1)","v":1},{"$f":"IF(OR(AND(WEEKDAY(AQ$9)=1,Dimanche),AND(WEEKDAY(AQ$9)=2,Lundi),AND(WEEKDAY(AQ$9)=3,Mardi),AND(WEEKDAY(AQ$9)=4,Mercredi),AND(WEEKDAY(AQ$9)=5,Jeudi),AND(WEEKDAY(AQ$9)=6,Vendredi),AND(WEEKDAY(AQ$9)=7,Samedi),AQ$9=férié),0,1)","v":1},{"$f":"IF(OR(AND(WEEKDAY(AR$9)=1,Dimanche),AND(WEEKDAY(AR$9)=2,Lundi),AND(WEEKDAY(AR$9)=3,Mardi),AND(WEEKDAY(AR$9)=4,Mercredi),AND(WEEKDAY(AR$9)=5,Jeudi),AND(WEEKDAY(AR$9)=6,Vendredi),AND(WEEKDAY(AR$9)=7,Samedi),AR$9=férié),0,1)","v":1},{"$f":"IF(OR(AND(WEEKDAY(AS$9)=1,Dimanche),AND(WEEKDAY(AS$9)=2,Lundi),AND(WEEKDAY(AS$9)=3,Mardi),AND(WEEKDAY(AS$9)=4,Mercredi),AND(WEEKDAY(AS$9)=5,Jeudi),AND(WEEKDAY(AS$9)=6,Vendredi),AND(WEEKDAY(AS$9)=7,Samedi),AS$9=férié),0,1)","v":0},{"$f":"IF(OR(AND(WEEKDAY(AT$9)=1,Dimanche),AND(WEEKDAY(AT$9)=2,Lundi),AND(WEEKDAY(AT$9)=3,Mardi),AND(WEEKDAY(AT$9)=4,Mercredi),AND(WEEKDAY(AT$9)=5,Jeudi),AND(WEEKDAY(AT$9)=6,Vendredi),AND(WEEKDAY(AT$9)=7,Samedi),AT$9=férié),0,1)","v":0},{"$f":"IF(OR(AND(WEEKDAY(AU$9)=1,Dimanche),AND(WEEKDAY(AU$9)=2,Lundi),AND(WEEKDAY(AU$9)=3,Mardi),AND(WEEKDAY(AU$9)=4,Mercredi),AND(WEEKDAY(AU$9)=5,Jeudi),AND(WEEKDAY(AU$9)=6,Vendredi),AND(WEEKDAY(AU$9)=7,Samedi),AU$9=férié),0,1)","v":1},{"$f":"IF(OR(AND(WEEKDAY(AV$9)=1,Dimanche),AND(WEEKDAY(AV$9)=2,Lundi),AND(WEEKDAY(AV$9)=3,Mardi),AND(WEEKDAY(AV$9)=4,Mercredi),AND(WEEKDAY(AV$9)=5,Jeudi),AND(WEEKDAY(AV$9)=6,Vendredi),AND(WEEKDAY(AV$9)=7,Samedi),AV$9=férié),0,1)","v":1},{"$f":"IF(OR(AND(WEEKDAY(AW$9)=1,Dimanche),AND(WEEKDAY(AW$9)=2,Lundi),AND(WEEKDAY(AW$9)=3,Mardi),AND(WEEKDAY(AW$9)=4,Mercredi),AND(WEEKDAY(AW$9)=5,Jeudi),AND(WEEKDAY(AW$9)=6,Vendredi),AND(WEEKDAY(AW$9)=7,Samedi),AW$9=férié),0,1)","v":1},{"$f":"IF(OR(AND(WEEKDAY(AX$9)=1,Dimanche),AND(WEEKDAY(AX$9)=2,Lundi),AND(WEEKDAY(AX$9)=3,Mardi),AND(WEEKDAY(AX$9)=4,Mercredi),AND(WEEKDAY(AX$9)=5,Jeudi),AND(WEEKDAY(AX$9)=6,Vendredi),AND(WEEKDAY(AX$9)=7,Samedi),AX$9=férié),0,1)","v":1},{"$f":"IF(OR(AND(WEEKDAY(AY$9)=1,Dimanche),AND(WEEKDAY(AY$9)=2,Lundi),AND(WEEKDAY(AY$9)=3,Mardi),AND(WEEKDAY(AY$9)=4,Mercredi),AND(WEEKDAY(AY$9)=5,Jeudi),AND(WEEKDAY(AY$9)=6,Vendredi),AND(WEEKDAY(AY$9)=7,Samedi),AY$9=férié),0,1)","v":1},{"$f":"IF(OR(AND(WEEKDAY(AZ$9)=1,Dimanche),AND(WEEKDAY(AZ$9)=2,Lundi),AND(WEEKDAY(AZ$9)=3,Mardi),AND(WEEKDAY(AZ$9)=4,Mercredi),AND(WEEKDAY(AZ$9)=5,Jeudi),AND(WEEKDAY(AZ$9)=6,Vendredi),AND(WEEKDAY(AZ$9)=7,Samedi),AZ$9=férié),0,1)","v":0},{"$f":"IF(OR(AND(WEEKDAY(BA$9)=1,Dimanche),AND(WEEKDAY(BA$9)=2,Lundi),AND(WEEKDAY(BA$9)=3,Mardi),AND(WEEKDAY(BA$9)=4,Mercredi),AND(WEEKDAY(BA$9)=5,Jeudi),AND(WEEKDAY(BA$9)=6,Vendredi),AND(WEEKDAY(BA$9)=7,Samedi),BA$9=férié),0,1)","v":0},{"$f":"IF(OR(AND(WEEKDAY(BB$9)=1,Dimanche),AND(WEEKDAY(BB$9)=2,Lundi),AND(WEEKDAY(BB$9)=3,Mardi),AND(WEEKDAY(BB$9)=4,Mercredi),AND(WEEKDAY(BB$9)=5,Jeudi),AND(WEEKDAY(BB$9)=6,Vendredi),AND(WEEKDAY(BB$9)=7,Samedi),BB$9=férié),0,1)","v":1},{"$f":"IF(OR(AND(WEEKDAY(BC$9)=1,Dimanche),AND(WEEKDAY(BC$9)=2,Lundi),AND(WEEKDAY(BC$9)=3,Mardi),AND(WEEKDAY(BC$9)=4,Mercredi),AND(WEEKDAY(BC$9)=5,Jeudi),AND(WEEKDAY(BC$9)=6,Vendredi),AND(WEEKDAY(BC$9)=7,Samedi),BC$9=férié),0,1)","v":1},{"$f":"IF(OR(AND(WEEKDAY(BD$9)=1,Dimanche),AND(WEEKDAY(BD$9)=2,Lundi),AND(WEEKDAY(BD$9)=3,Mardi),AND(WEEKDAY(BD$9)=4,Mercredi),AND(WEEKDAY(BD$9)=5,Jeudi),AND(WEEKDAY(BD$9)=6,Vendredi),AND(WEEKDAY(BD$9)=7,Samedi),BD$9=férié),0,1)","v":1},{"$f":"IF(OR(AND(WEEKDAY(BE$9)=1,Dimanche),AND(WEEKDAY(BE$9)=2,Lundi),AND(WEEKDAY(BE$9)=3,Mardi),AND(WEEKDAY(BE$9)=4,Mercredi),AND(WEEKDAY(BE$9)=5,Jeudi),AND(WEEKDAY(BE$9)=6,Vendredi),AND(WEEKDAY(BE$9)=7,Samedi),BE$9=férié),0,1)","v":1},{"$f":"IF(OR(AND(WEEKDAY(BF$9)=1,Dimanche),AND(WEEKDAY(BF$9)=2,Lundi),AND(WEEKDAY(BF$9)=3,Mardi),AND(WEEKDAY(BF$9)=4,Mercredi),AND(WEEKDAY(BF$9)=5,Jeudi),AND(WEEKDAY(BF$9)=6,Vendredi),AND(WEEKDAY(BF$9)=7,Samedi),BF$9=férié),0,1)","v":1},{"$f":"IF(OR(AND(WEEKDAY(BG$9)=1,Dimanche),AND(WEEKDAY(BG$9)=2,Lundi),AND(WEEKDAY(BG$9)=3,Mardi),AND(WEEKDAY(BG$9)=4,Mercredi),AND(WEEKDAY(BG$9)=5,Jeudi),AND(WEEKDAY(BG$9)=6,Vendredi),AND(WEEKDAY(BG$9)=7,Samedi),BG$9=férié),0,1)","v":0},{"$f":"IF(OR(AND(WEEKDAY(BH$9)=1,Dimanche),AND(WEEKDAY(BH$9)=2,Lundi),AND(WEEKDAY(BH$9)=3,Mardi),AND(WEEKDAY(BH$9)=4,Mercredi),AND(WEEKDAY(BH$9)=5,Jeudi),AND(WEEKDAY(BH$9)=6,Vendredi),AND(WEEKDAY(BH$9)=7,Samedi),BH$9=férié),0,1)","v":0},{"$f":"IF(OR(AND(WEEKDAY(BI$9)=1,Dimanche),AND(WEEKDAY(BI$9)=2,Lundi),AND(WEEKDAY(BI$9)=3,Mardi),AND(WEEKDAY(BI$9)=4,Mercredi),AND(WEEKDAY(BI$9)=5,Jeudi),AND(WEEKDAY(BI$9)=6,Vendredi),AND(WEEKDAY(BI$9)=7,Samedi),BI$9=férié),0,1)","v":1},{"$f":"IF(OR(AND(WEEKDAY(BJ$9)=1,Dimanche),AND(WEEKDAY(BJ$9)=2,Lundi),AND(WEEKDAY(BJ$9)=3,Mardi),AND(WEEKDAY(BJ$9)=4,Mercredi),AND(WEEKDAY(BJ$9)=5,Jeudi),AND(WEEKDAY(BJ$9)=6,Vendredi),AND(WEEKDAY(BJ$9)=7,Samedi),BJ$9=férié),0,1)","v":1},{"$f":"IF(OR(AND(WEEKDAY(BK$9)=1,Dimanche),AND(WEEKDAY(BK$9)=2,Lundi),AND(WEEKDAY(BK$9)=3,Mardi),AND(WEEKDAY(BK$9)=4,Mercredi),AND(WEEKDAY(BK$9)=5,Jeudi),AND(WEEKDAY(BK$9)=6,Vendredi),AND(WEEKDAY(BK$9)=7,Samedi),BK$9=férié),0,1)","v":1},{"$f":"IF(OR(AND(WEEKDAY(BL$9)=1,Dimanche),AND(WEEKDAY(BL$9)=2,Lundi),AND(WEEKDAY(BL$9)=3,Mardi),AND(WEEKDAY(BL$9)=4,Mercredi),AND(WEEKDAY(BL$9)=5,Jeudi),AND(WEEKDAY(BL$9)=6,Vendredi),AND(WEEKDAY(BL$9)=7,Samedi),BL$9=férié),0,1)","v":1},{"$f":"IF(OR(AND(WEEKDAY(BM$9)=1,Dimanche),AND(WEEKDAY(BM$9)=2,Lundi),AND(WEEKDAY(BM$9)=3,Mardi),AND(WEEKDAY(BM$9)=4,Mercredi),AND(WEEKDAY(BM$9)=5,Jeudi),AND(WEEKDAY(BM$9)=6,Vendredi),AND(WEEKDAY(BM$9)=7,Samedi),BM$9=férié),0,1)","v":1},{"$f":"IF(OR(AND(WEEKDAY(BN$9)=1,Dimanche),AND(WEEKDAY(BN$9)=2,Lundi),AND(WEEKDAY(BN$9)=3,Mardi),AND(WEEKDAY(BN$9)=4,Mercredi),AND(WEEKDAY(BN$9)=5,Jeudi),AND(WEEKDAY(BN$9)=6,Vendredi),AND(WEEKDAY(BN$9)=7,Samedi),BN$9=férié),0,1)","v":0},{"$f":"IF(OR(AND(WEEKDAY(BO$9)=1,Dimanche),AND(WEEKDAY(BO$9)=2,Lundi),AND(WEEKDAY(BO$9)=3,Mardi),AND(WEEKDAY(BO$9)=4,Mercredi),AND(WEEKDAY(BO$9)=5,Jeudi),AND(WEEKDAY(BO$9)=6,Vendredi),AND(WEEKDAY(BO$9)=7,Samedi),BO$9=férié),0,1)","v":0},{"$f":"IF(OR(AND(WEEKDAY(BP$9)=1,Dimanche),AND(WEEKDAY(BP$9)=2,Lundi),AND(WEEKDAY(BP$9)=3,Mardi),AND(WEEKDAY(BP$9)=4,Mercredi),AND(WEEKDAY(BP$9)=5,Jeudi),AND(WEEKDAY(BP$9)=6,Vendredi),AND(WEEKDAY(BP$9)=7,Samedi),BP$9=férié),0,1)","v":1},{"$f":"IF(OR(AND(WEEKDAY(BQ$9)=1,Dimanche),AND(WEEKDAY(BQ$9)=2,Lundi),AND(WEEKDAY(BQ$9)=3,Mardi),AND(WEEKDAY(BQ$9)=4,Mercredi),AND(WEEKDAY(BQ$9)=5,Jeudi),AND(WEEKDAY(BQ$9)=6,Vendredi),AND(WEEKDAY(BQ$9)=7,Samedi),BQ$9=férié),0,1)","v":1},{"$f":"IF(OR(AND(WEEKDAY(BR$9)=1,Dimanche),AND(WEEKDAY(BR$9)=2,Lundi),AND(WEEKDAY(BR$9)=3,Mardi),AND(WEEKDAY(BR$9)=4,Mercredi),AND(WEEKDAY(BR$9)=5,Jeudi),AND(WEEKDAY(BR$9)=6,Vendredi),AND(WEEKDAY(BR$9)=7,Samedi),BR$9=férié),0,1)","v":1},{"$f":"IF(OR(AND(WEEKDAY(BS$9)=1,Dimanche),AND(WEEKDAY(BS$9)=2,Lundi),AND(WEEKDAY(BS$9)=3,Mardi),AND(WEEKDAY(BS$9)=4,Mercredi),AND(WEEKDAY(BS$9)=5,Jeudi),AND(WEEKDAY(BS$9)=6,Vendredi),AND(WEEKDAY(BS$9)=7,Samedi),BS$9=férié),0,1)","v":1},{"$f":"IF(OR(AND(WEEKDAY(BT$9)=1,Dimanche),AND(WEEKDAY(BT$9)=2,Lundi),AND(WEEKDAY(BT$9)=3,Mardi),AND(WEEKDAY(BT$9)=4,Mercredi),AND(WEEKDAY(BT$9)=5,Jeudi),AND(WEEKDAY(BT$9)=6,Vendredi),AND(WEEKDAY(BT$9)=7,Samedi),BT$9=férié),0,1)","v":1},{"$f":"IF(OR(AND(WEEKDAY(BU$9)=1,Dimanche),AND(WEEKDAY(BU$9)=2,Lundi),AND(WEEKDAY(BU$9)=3,Mardi),AND(WEEKDAY(BU$9)=4,Mercredi),AND(WEEKDAY(BU$9)=5,Jeudi),AND(WEEKDAY(BU$9)=6,Vendredi),AND(WEEKDAY(BU$9)=7,Samedi),BU$9=férié),0,1)","v":0},{"$f":"IF(OR(AND(WEEKDAY(BV$9)=1,Dimanche),AND(WEEKDAY(BV$9)=2,Lundi),AND(WEEKDAY(BV$9)=3,Mardi),AND(WEEKDAY(BV$9)=4,Mercredi),AND(WEEKDAY(BV$9)=5,Jeudi),AND(WEEKDAY(BV$9)=6,Vendredi),AND(WEEKDAY(BV$9)=7,Samedi),BV$9=férié),0,1)","v":0},{"$f":"IF(OR(AND(WEEKDAY(BW$9)=1,Dimanche),AND(WEEKDAY(BW$9)=2,Lundi),AND(WEEKDAY(BW$9)=3,Mardi),AND(WEEKDAY(BW$9)=4,Mercredi),AND(WEEKDAY(BW$9)=5,Jeudi),AND(WEEKDAY(BW$9)=6,Vendredi),AND(WEEKDAY(BW$9)=7,Samedi),BW$9=férié),0,1)","v":1},{"$f":"IF(OR(AND(WEEKDAY(BX$9)=1,Dimanche),AND(WEEKDAY(BX$9)=2,Lundi),AND(WEEKDAY(BX$9)=3,Mardi),AND(WEEKDAY(BX$9)=4,Mercredi),AND(WEEKDAY(BX$9)=5,Jeudi),AND(WEEKDAY(BX$9)=6,Vendredi),AND(WEEKDAY(BX$9)=7,Samedi),BX$9=férié),0,1)","v":1},{"$f":"IF(OR(AND(WEEKDAY(BY$9)=1,Dimanche),AND(WEEKDAY(BY$9)=2,Lundi),AND(WEEKDAY(BY$9)=3,Mardi),AND(WEEKDAY(BY$9)=4,Mercredi),AND(WEEKDAY(BY$9)=5,Jeudi),AND(WEEKDAY(BY$9)=6,Vendredi),AND(WEEKDAY(BY$9)=7,Samedi),BY$9=férié),0,1)","v":1},{"$f":"IF(OR(AND(WEEKDAY(BZ$9)=1,Dimanche),AND(WEEKDAY(BZ$9)=2,Lundi),AND(WEEKDAY(BZ$9)=3,Mardi),AND(WEEKDAY(BZ$9)=4,Mercredi),AND(WEEKDAY(BZ$9)=5,Jeudi),AND(WEEKDAY(BZ$9)=6,Vendredi),AND(WEEKDAY(BZ$9)=7,Samedi),BZ$9=férié),0,1)","v":1},{"$f":"IF(OR(AND(WEEKDAY(CA$9)=1,Dimanche),AND(WEEKDAY(CA$9)=2,Lundi),AND(WEEKDAY(CA$9)=3,Mardi),AND(WEEKDAY(CA$9)=4,Mercredi),AND(WEEKDAY(CA$9)=5,Jeudi),AND(WEEKDAY(CA$9)=6,Vendredi),AND(WEEKDAY(CA$9)=7,Samedi),CA$9=férié),0,1)","v":1},{"$f":"IF(OR(AND(WEEKDAY(CB$9)=1,Dimanche),AND(WEEKDAY(CB$9)=2,Lundi),AND(WEEKDAY(CB$9)=3,Mardi),AND(WEEKDAY(CB$9)=4,Mercredi),AND(WEEKDAY(CB$9)=5,Jeudi),AND(WEEKDAY(CB$9)=6,Vendredi),AND(WEEKDAY(CB$9)=7,Samedi),CB$9=férié),0,1)","v":0},{"$f":"IF(OR(AND(WEEKDAY(CC$9)=1,Dimanche),AND(WEEKDAY(CC$9)=2,Lundi),AND(WEEKDAY(CC$9)=3,Mardi),AND(WEEKDAY(CC$9)=4,Mercredi),AND(WEEKDAY(CC$9)=5,Jeudi),AND(WEEKDAY(CC$9)=6,Vendredi),AND(WEEKDAY(CC$9)=7,Samedi),CC$9=férié),0,1)","v":0},{"$f":"IF(OR(AND(WEEKDAY(CD$9)=1,Dimanche),AND(WEEKDAY(CD$9)=2,Lundi),AND(WEEKDAY(CD$9)=3,Mardi),AND(WEEKDAY(CD$9)=4,Mercredi),AND(WEEKDAY(CD$9)=5,Jeudi),AND(WEEKDAY(CD$9)=6,Vendredi),AND(WEEKDAY(CD$9)=7,Samedi),CD$9=férié),0,1)","v":1},{"$f":"IF(OR(AND(WEEKDAY(CE$9)=1,Dimanche),AND(WEEKDAY(CE$9)=2,Lundi),AND(WEEKDAY(CE$9)=3,Mardi),AND(WEEKDAY(CE$9)=4,Mercredi),AND(WEEKDAY(CE$9)=5,Jeudi),AND(WEEKDAY(CE$9)=6,Vendredi),AND(WEEKDAY(CE$9)=7,Samedi),CE$9=férié),0,1)","v":1},{"$f":"IF(OR(AND(WEEKDAY(CF$9)=1,Dimanche),AND(WEEKDAY(CF$9)=2,Lundi),AND(WEEKDAY(CF$9)=3,Mardi),AND(WEEKDAY(CF$9)=4,Mercredi),AND(WEEKDAY(CF$9)=5,Jeudi),AND(WEEKDAY(CF$9)=6,Vendredi),AND(WEEKDAY(CF$9)=7,Samedi),CF$9=férié),0,1)","v":1},{"$f":"IF(OR(AND(WEEKDAY(CG$9)=1,Dimanche),AND(WEEKDAY(CG$9)=2,Lundi),AND(WEEKDAY(CG$9)=3,Mardi),AND(WEEKDAY(CG$9)=4,Mercredi),AND(WEEKDAY(CG$9)=5,Jeudi),AND(WEEKDAY(CG$9)=6,Vendredi),AND(WEEKDAY(CG$9)=7,Samedi),CG$9=férié),0,1)","v":1},{"$f":"IF(OR(AND(WEEKDAY(CH$9)=1,Dimanche),AND(WEEKDAY(CH$9)=2,Lundi),AND(WEEKDAY(CH$9)=3,Mardi),AND(WEEKDAY(CH$9)=4,Mercredi),AND(WEEKDAY(CH$9)=5,Jeudi),AND(WEEKDAY(CH$9)=6,Vendredi),AND(WEEKDAY(CH$9)=7,Samedi),CH$9=férié),0,1)","v":1},{"$f":"IF(OR(AND(WEEKDAY(CI$9)=1,Dimanche),AND(WEEKDAY(CI$9)=2,Lundi),AND(WEEKDAY(CI$9)=3,Mardi),AND(WEEKDAY(CI$9)=4,Mercredi),AND(WEEKDAY(CI$9)=5,Jeudi),AND(WEEKDAY(CI$9)=6,Vendredi),AND(WEEKDAY(CI$9)=7,Samedi),CI$9=férié),0,1)","v":0},{"$f":"IF(OR(AND(WEEKDAY(CJ$9)=1,Dimanche),AND(WEEKDAY(CJ$9)=2,Lundi),AND(WEEKDAY(CJ$9)=3,Mardi),AND(WEEKDAY(CJ$9)=4,Mercredi),AND(WEEKDAY(CJ$9)=5,Jeudi),AND(WEEKDAY(CJ$9)=6,Vendredi),AND(WEEKDAY(CJ$9)=7,Samedi),CJ$9=férié),0,1)","v":0},{"$f":"IF(OR(AND(WEEKDAY(CK$9)=1,Dimanche),AND(WEEKDAY(CK$9)=2,Lundi),AND(WEEKDAY(CK$9)=3,Mardi),AND(WEEKDAY(CK$9)=4,Mercredi),AND(WEEKDAY(CK$9)=5,Jeudi),AND(WEEKDAY(CK$9)=6,Vendredi),AND(WEEKDAY(CK$9)=7,Samedi),CK$9=férié),0,1)","v":1},{"$f":"IF(OR(AND(WEEKDAY(CL$9)=1,Dimanche),AND(WEEKDAY(CL$9)=2,Lundi),AND(WEEKDAY(CL$9)=3,Mardi),AND(WEEKDAY(CL$9)=4,Mercredi),AND(WEEKDAY(CL$9)=5,Jeudi),AND(WEEKDAY(CL$9)=6,Vendredi),AND(WEEKDAY(CL$9)=7,Samedi),CL$9=férié),0,1)","v":1},{"$f":"IF(OR(AND(WEEKDAY(CM$9)=1,Dimanche),AND(WEEKDAY(CM$9)=2,Lundi),AND(WEEKDAY(CM$9)=3,Mardi),AND(WEEKDAY(CM$9)=4,Mercredi),AND(WEEKDAY(CM$9)=5,Jeudi),AND(WEEKDAY(CM$9)=6,Vendredi),AND(WEEKDAY(CM$9)=7,Samedi),CM$9=férié),0,1)","v":1},{"$f":"IF(OR(AND(WEEKDAY(CN$9)=1,Dimanche),AND(WEEKDAY(CN$9)=2,Lundi),AND(WEEKDAY(CN$9)=3,Mardi),AND(WEEKDAY(CN$9)=4,Mercredi),AND(WEEKDAY(CN$9)=5,Jeudi),AND(WEEKDAY(CN$9)=6,Vendredi),AND(WEEKDAY(CN$9)=7,Samedi),CN$9=férié),0,1)","v":1},{"$f":"IF(OR(AND(WEEKDAY(CO$9)=1,Dimanche),AND(WEEKDAY(CO$9)=2,Lundi),AND(WEEKDAY(CO$9)=3,Mardi),AND(WEEKDAY(CO$9)=4,Mercredi),AND(WEEKDAY(CO$9)=5,Jeudi),AND(WEEKDAY(CO$9)=6,Vendredi),AND(WEEKDAY(CO$9)=7,Samedi),CO$9=férié),0,1)","v":1},{"$f":"IF(OR(AND(WEEKDAY(CP$9)=1,Dimanche),AND(WEEKDAY(CP$9)=2,Lundi),AND(WEEKDAY(CP$9)=3,Mardi),AND(WEEKDAY(CP$9)=4,Mercredi),AND(WEEKDAY(CP$9)=5,Jeudi),AND(WEEKDAY(CP$9)=6,Vendredi),AND(WEEKDAY(CP$9)=7,Samedi),CP$9=férié),0,1)","v":0},{"$f":"IF(OR(AND(WEEKDAY(CQ$9)=1,Dimanche),AND(WEEKDAY(CQ$9)=2,Lundi),AND(WEEKDAY(CQ$9)=3,Mardi),AND(WEEKDAY(CQ$9)=4,Mercredi),AND(WEEKDAY(CQ$9)=5,Jeudi),AND(WEEKDAY(CQ$9)=6,Vendredi),AND(WEEKDAY(CQ$9)=7,Samedi),CQ$9=férié),0,1)","v":0},{"$f":"IF(OR(AND(WEEKDAY(CR$9)=1,Dimanche),AND(WEEKDAY(CR$9)=2,Lundi),AND(WEEKDAY(CR$9)=3,Mardi),AND(WEEKDAY(CR$9)=4,Mercredi),AND(WEEKDAY(CR$9)=5,Jeudi),AND(WEEKDAY(CR$9)=6,Vendredi),AND(WEEKDAY(CR$9)=7,Samedi),CR$9=férié),0,1)","v":1},{"$f":"IF(OR(AND(WEEKDAY(CS$9)=1,Dimanche),AND(WEEKDAY(CS$9)=2,Lundi),AND(WEEKDAY(CS$9)=3,Mardi),AND(WEEKDAY(CS$9)=4,Mercredi),AND(WEEKDAY(CS$9)=5,Jeudi),AND(WEEKDAY(CS$9)=6,Vendredi),AND(WEEKDAY(CS$9)=7,Samedi),CS$9=férié),0,1)","v":1},{"$f":"IF(OR(AND(WEEKDAY(CT$9)=1,Dimanche),AND(WEEKDAY(CT$9)=2,Lundi),AND(WEEKDAY(CT$9)=3,Mardi),AND(WEEKDAY(CT$9)=4,Mercredi),AND(WEEKDAY(CT$9)=5,Jeudi),AND(WEEKDAY(CT$9)=6,Vendredi),AND(WEEKDAY(CT$9)=7,Samedi),CT$9=férié),0,1)","v":1},{"$f":"IF(OR(AND(WEEKDAY(CU$9)=1,Dimanche),AND(WEEKDAY(CU$9)=2,Lundi),AND(WEEKDAY(CU$9)=3,Mardi),AND(WEEKDAY(CU$9)=4,Mercredi),AND(WEEKDAY(CU$9)=5,Jeudi),AND(WEEKDAY(CU$9)=6,Vendredi),AND(WEEKDAY(CU$9)=7,Samedi),CU$9=férié),0,1)","v":1},{"$f":"IF(OR(AND(WEEKDAY(CV$9)=1,Dimanche),AND(WEEKDAY(CV$9)=2,Lundi),AND(WEEKDAY(CV$9)=3,Mardi),AND(WEEKDAY(CV$9)=4,Mercredi),AND(WEEKDAY(CV$9)=5,Jeudi),AND(WEEKDAY(CV$9)=6,Vendredi),AND(WEEKDAY(CV$9)=7,Samedi),CV$9=férié),0,1)","v":1},{"$f":"IF(OR(AND(WEEKDAY(CW$9)=1,Dimanche),AND(WEEKDAY(CW$9)=2,Lundi),AND(WEEKDAY(CW$9)=3,Mardi),AND(WEEKDAY(CW$9)=4,Mercredi),AND(WEEKDAY(CW$9)=5,Jeudi),AND(WEEKDAY(CW$9)=6,Vendredi),AND(WEEKDAY(CW$9)=7,Samedi),CW$9=férié),0,1)","v":0},{"$f":"IF(OR(AND(WEEKDAY(CX$9)=1,Dimanche),AND(WEEKDAY(CX$9)=2,Lundi),AND(WEEKDAY(CX$9)=3,Mardi),AND(WEEKDAY(CX$9)=4,Mercredi),AND(WEEKDAY(CX$9)=5,Jeudi),AND(WEEKDAY(CX$9)=6,Vendredi),AND(WEEKDAY(CX$9)=7,Samedi),CX$9=férié),0,1)","v":0},{"$f":"IF(OR(AND(WEEKDAY(CY$9)=1,Dimanche),AND(WEEKDAY(CY$9)=2,Lundi),AND(WEEKDAY(CY$9)=3,Mardi),AND(WEEKDAY(CY$9)=4,Mercredi),AND(WEEKDAY(CY$9)=5,Jeudi),AND(WEEKDAY(CY$9)=6,Vendredi),AND(WEEKDAY(CY$9)=7,Samedi),CY$9=férié),0,1)","v":1},{"$f":"IF(OR(AND(WEEKDAY(CZ$9)=1,Dimanche),AND(WEEKDAY(CZ$9)=2,Lundi),AND(WEEKDAY(CZ$9)=3,Mardi),AND(WEEKDAY(CZ$9)=4,Mercredi),AND(WEEKDAY(CZ$9)=5,Jeudi),AND(WEEKDAY(CZ$9)=6,Vendredi),AND(WEEKDAY(CZ$9)=7,Samedi),CZ$9=férié),0,1)","v":1},{"$f":"IF(OR(AND(WEEKDAY(DA$9)=1,Dimanche),AND(WEEKDAY(DA$9)=2,Lundi),AND(WEEKDAY(DA$9)=3,Mardi),AND(WEEKDAY(DA$9)=4,Mercredi),AND(WEEKDAY(DA$9)=5,Jeudi),AND(WEEKDAY(DA$9)=6,Vendredi),AND(WEEKDAY(DA$9)=7,Samedi),DA$9=férié),0,1)","v":1},{"$f":"IF(OR(AND(WEEKDAY(DB$9)=1,Dimanche),AND(WEEKDAY(DB$9)=2,Lundi),AND(WEEKDAY(DB$9)=3,Mardi),AND(WEEKDAY(DB$9)=4,Mercredi),AND(WEEKDAY(DB$9)=5,Jeudi),AND(WEEKDAY(DB$9)=6,Vendredi),AND(WEEKDAY(DB$9)=7,Samedi),DB$9=férié),0,1)","v":1},{"$f":"IF(OR(AND(WEEKDAY(DC$9)=1,Dimanche),AND(WEEKDAY(DC$9)=2,Lundi),AND(WEEKDAY(DC$9)=3,Mardi),AND(WEEKDAY(DC$9)=4,Mercredi),AND(WEEKDAY(DC$9)=5,Jeudi),AND(WEEKDAY(DC$9)=6,Vendredi),AND(WEEKDAY(DC$9)=7,Samedi),DC$9=férié),0,1)","v":1},{"$f":"IF(OR(AND(WEEKDAY(DD$9)=1,Dimanche),AND(WEEKDAY(DD$9)=2,Lundi),AND(WEEKDAY(DD$9)=3,Mardi),AND(WEEKDAY(DD$9)=4,Mercredi),AND(WEEKDAY(DD$9)=5,Jeudi),AND(WEEKDAY(DD$9)=6,Vendredi),AND(WEEKDAY(DD$9)=7,Samedi),DD$9=férié),0,1)","v":0},{"$f":"IF(OR(AND(WEEKDAY(DE$9)=1,Dimanche),AND(WEEKDAY(DE$9)=2,Lundi),AND(WEEKDAY(DE$9)=3,Mardi),AND(WEEKDAY(DE$9)=4,Mercredi),AND(WEEKDAY(DE$9)=5,Jeudi),AND(WEEKDAY(DE$9)=6,Vendredi),AND(WEEKDAY(DE$9)=7,Samedi),DE$9=férié),0,1)","v":0},{"$f":"IF(OR(AND(WEEKDAY(DF$9)=1,Dimanche),AND(WEEKDAY(DF$9)=2,Lundi),AND(WEEKDAY(DF$9)=3,Mardi),AND(WEEKDAY(DF$9)=4,Mercredi),AND(WEEKDAY(DF$9)=5,Jeudi),AND(WEEKDAY(DF$9)=6,Vendredi),AND(WEEKDAY(DF$9)=7,Samedi),DF$9=férié),0,1)","v":0},{"$f":"IF(OR(AND(WEEKDAY(DG$9)=1,Dimanche),AND(WEEKDAY(DG$9)=2,Lundi),AND(WEEKDAY(DG$9)=3,Mardi),AND(WEEKDAY(DG$9)=4,Mercredi),AND(WEEKDAY(DG$9)=5,Jeudi),AND(WEEKDAY(DG$9)=6,Vendredi),AND(WEEKDAY(DG$9)=7,Samedi),DG$9=férié),0,1)","v":1},{"$f":"IF(OR(AND(WEEKDAY(DH$9)=1,Dimanche),AND(WEEKDAY(DH$9)=2,Lundi),AND(WEEKDAY(DH$9)=3,Mardi),AND(WEEKDAY(DH$9)=4,Mercredi),AND(WEEKDAY(DH$9)=5,Jeudi),AND(WEEKDAY(DH$9)=6,Vendredi),AND(WEEKDAY(DH$9)=7,Samedi),DH$9=férié),0,1)","v":1},{"$f":"IF(OR(AND(WEEKDAY(DI$9)=1,Dimanche),AND(WEEKDAY(DI$9)=2,Lundi),AND(WEEKDAY(DI$9)=3,Mardi),AND(WEEKDAY(DI$9)=4,Mercredi),AND(WEEKDAY(DI$9)=5,Jeudi),AND(WEEKDAY(DI$9)=6,Vendredi),AND(WEEKDAY(DI$9)=7,Samedi),DI$9=férié),0,1)","v":1},{"$f":"IF(OR(AND(WEEKDAY(DJ$9)=1,Dimanche),AND(WEEKDAY(DJ$9)=2,Lundi),AND(WEEKDAY(DJ$9)=3,Mardi),AND(WEEKDAY(DJ$9)=4,Mercredi),AND(WEEKDAY(DJ$9)=5,Jeudi),AND(WEEKDAY(DJ$9)=6,Vendredi),AND(WEEKDAY(DJ$9)=7,Samedi),DJ$9=férié),0,1)","v":1},{"$f":"IF(OR(AND(WEEKDAY(DK$9)=1,Dimanche),AND(WEEKDAY(DK$9)=2,Lundi),AND(WEEKDAY(DK$9)=3,Mardi),AND(WEEKDAY(DK$9)=4,Mercredi),AND(WEEKDAY(DK$9)=5,Jeudi),AND(WEEKDAY(DK$9)=6,Vendredi),AND(WEEKDAY(DK$9)=7,Samedi),DK$9=férié),0,1)","v":0},{"$f":"IF(OR(AND(WEEKDAY(DL$9)=1,Dimanche),AND(WEEKDAY(DL$9)=2,Lundi),AND(WEEKDAY(DL$9)=3,Mardi),AND(WEEKDAY(DL$9)=4,Mercredi),AND(WEEKDAY(DL$9)=5,Jeudi),AND(WEEKDAY(DL$9)=6,Vendredi),AND(WEEKDAY(DL$9)=7,Samedi),DL$9=férié),0,1)","v":0},{"$f":"IF(OR(AND(WEEKDAY(DM$9)=1,Dimanche),AND(WEEKDAY(DM$9)=2,Lundi),AND(WEEKDAY(DM$9)=3,Mardi),AND(WEEKDAY(DM$9)=4,Mercredi),AND(WEEKDAY(DM$9)=5,Jeudi),AND(WEEKDAY(DM$9)=6,Vendredi),AND(WEEKDAY(DM$9)=7,Samedi),DM$9=férié),0,1)","v":1},{"$f":"IF(OR(AND(WEEKDAY(DN$9)=1,Dimanche),AND(WEEKDAY(DN$9)=2,Lundi),AND(WEEKDAY(DN$9)=3,Mardi),AND(WEEKDAY(DN$9)=4,Mercredi),AND(WEEKDAY(DN$9)=5,Jeudi),AND(WEEKDAY(DN$9)=6,Vendredi),AND(WEEKDAY(DN$9)=7,Samedi),DN$9=férié),0,1)","v":1},{"$f":"IF(OR(AND(WEEKDAY(DO$9)=1,Dimanche),AND(WEEKDAY(DO$9)=2,Lundi),AND(WEEKDAY(DO$9)=3,Mardi),AND(WEEKDAY(DO$9)=4,Mercredi),AND(WEEKDAY(DO$9)=5,Jeudi),AND(WEEKDAY(DO$9)=6,Vendredi),AND(WEEKDAY(DO$9)=7,Samedi),DO$9=férié),0,1)","v":1},{"$f":"IF(OR(AND(WEEKDAY(DP$9)=1,Dimanche),AND(WEEKDAY(DP$9)=2,Lundi),AND(WEEKDAY(DP$9)=3,Mardi),AND(WEEKDAY(DP$9)=4,Mercredi),AND(WEEKDAY(DP$9)=5,Jeudi),AND(WEEKDAY(DP$9)=6,Vendredi),AND(WEEKDAY(DP$9)=7,Samedi),DP$9=férié),0,1)","v":1},{"$f":"IF(OR(AND(WEEKDAY(DQ$9)=1,Dimanche),AND(WEEKDAY(DQ$9)=2,Lundi),AND(WEEKDAY(DQ$9)=3,Mardi),AND(WEEKDAY(DQ$9)=4,Mercredi),AND(WEEKDAY(DQ$9)=5,Jeudi),AND(WEEKDAY(DQ$9)=6,Vendredi),AND(WEEKDAY(DQ$9)=7,Samedi),DQ$9=férié),0,1)","v":1},{"$f":"IF(OR(AND(WEEKDAY(DR$9)=1,Dimanche),AND(WEEKDAY(DR$9)=2,Lundi),AND(WEEKDAY(DR$9)=3,Mardi),AND(WEEKDAY(DR$9)=4,Mercredi),AND(WEEKDAY(DR$9)=5,Jeudi),AND(WEEKDAY(DR$9)=6,Vendredi),AND(WEEKDAY(DR$9)=7,Samedi),DR$9=férié),0,1)","v":0},{"$f":"IF(OR(AND(WEEKDAY(DS$9)=1,Dimanche),AND(WEEKDAY(DS$9)=2,Lundi),AND(WEEKDAY(DS$9)=3,Mardi),AND(WEEKDAY(DS$9)=4,Mercredi),AND(WEEKDAY(DS$9)=5,Jeudi),AND(WEEKDAY(DS$9)=6,Vendredi),AND(WEEKDAY(DS$9)=7,Samedi),DS$9=férié),0,1)","v":0},{"$f":"IF(OR(AND(WEEKDAY(DT$9)=1,Dimanche),AND(WEEKDAY(DT$9)=2,Lundi),AND(WEEKDAY(DT$9)=3,Mardi),AND(WEEKDAY(DT$9)=4,Mercredi),AND(WEEKDAY(DT$9)=5,Jeudi),AND(WEEKDAY(DT$9)=6,Vendredi),AND(WEEKDAY(DT$9)=7,Samedi),DT$9=férié),0,1)","v":0},{"$f":"IF(OR(AND(WEEKDAY(DU$9)=1,Dimanche),AND(WEEKDAY(DU$9)=2,Lundi),AND(WEEKDAY(DU$9)=3,Mardi),AND(WEEKDAY(DU$9)=4,Mercredi),AND(WEEKDAY(DU$9)=5,Jeudi),AND(WEEKDAY(DU$9)=6,Vendredi),AND(WEEKDAY(DU$9)=7,Samedi),DU$9=férié),0,1)","v":1},{"$f":"IF(OR(AND(WEEKDAY(DV$9)=1,Dimanche),AND(WEEKDAY(DV$9)=2,Lundi),AND(WEEKDAY(DV$9)=3,Mardi),AND(WEEKDAY(DV$9)=4,Mercredi),AND(WEEKDAY(DV$9)=5,Jeudi),AND(WEEKDAY(DV$9)=6,Vendredi),AND(WEEKDAY(DV$9)=7,Samedi),DV$9=férié),0,1)","v":1},{"$f":"IF(OR(AND(WEEKDAY(DW$9)=1,Dimanche),AND(WEEKDAY(DW$9)=2,Lundi),AND(WEEKDAY(DW$9)=3,Mardi),AND(WEEKDAY(DW$9)=4,Mercredi),AND(WEEKDAY(DW$9)=5,Jeudi),AND(WEEKDAY(DW$9)=6,Vendredi),AND(WEEKDAY(DW$9)=7,Samedi),DW$9=férié),0,1)","v":1},{"$f":"IF(OR(AND(WEEKDAY(DX$9)=1,Dimanche),AND(WEEKDAY(DX$9)=2,Lundi),AND(WEEKDAY(DX$9)=3,Mardi),AND(WEEKDAY(DX$9)=4,Mercredi),AND(WEEKDAY(DX$9)=5,Jeudi),AND(WEEKDAY(DX$9)=6,Vendredi),AND(WEEKDAY(DX$9)=7,Samedi),DX$9=férié),0,1)","v":1},{"$f":"IF(OR(AND(WEEKDAY(DY$9)=1,Dimanche),AND(WEEKDAY(DY$9)=2,Lundi),AND(WEEKDAY(DY$9)=3,Mardi),AND(WEEKDAY(DY$9)=4,Mercredi),AND(WEEKDAY(DY$9)=5,Jeudi),AND(WEEKDAY(DY$9)=6,Vendredi),AND(WEEKDAY(DY$9)=7,Samedi),DY$9=férié),0,1)","v":0},{"$f":"IF(OR(AND(WEEKDAY(DZ$9)=1,Dimanche),AND(WEEKDAY(DZ$9)=2,Lundi),AND(WEEKDAY(DZ$9)=3,Mardi),AND(WEEKDAY(DZ$9)=4,Mercredi),AND(WEEKDAY(DZ$9)=5,Jeudi),AND(WEEKDAY(DZ$9)=6,Vendredi),AND(WEEKDAY(DZ$9)=7,Samedi),DZ$9=férié),0,1)","v":0},{"$f":"IF(OR(AND(WEEKDAY(EA$9)=1,Dimanche),AND(WEEKDAY(EA$9)=2,Lundi),AND(WEEKDAY(EA$9)=3,Mardi),AND(WEEKDAY(EA$9)=4,Mercredi),AND(WEEKDAY(EA$9)=5,Jeudi),AND(WEEKDAY(EA$9)=6,Vendredi),AND(WEEKDAY(EA$9)=7,Samedi),EA$9=férié),0,1)","v":0},{"$f":"IF(OR(AND(WEEKDAY(EB$9)=1,Dimanche),AND(WEEKDAY(EB$9)=2,Lundi),AND(WEEKDAY(EB$9)=3,Mardi),AND(WEEKDAY(EB$9)=4,Mercredi),AND(WEEKDAY(EB$9)=5,Jeudi),AND(WEEKDAY(EB$9)=6,Vendredi),AND(WEEKDAY(EB$9)=7,Samedi),EB$9=férié),0,1)","v":1},{"$f":"IF(OR(AND(WEEKDAY(EC$9)=1,Dimanche),AND(WEEKDAY(EC$9)=2,Lundi),AND(WEEKDAY(EC$9)=3,Mardi),AND(WEEKDAY(EC$9)=4,Mercredi),AND(WEEKDAY(EC$9)=5,Jeudi),AND(WEEKDAY(EC$9)=6,Vendredi),AND(WEEKDAY(EC$9)=7,Samedi),EC$9=férié),0,1)","v":1},{"$f":"IF(OR(AND(WEEKDAY(ED$9)=1,Dimanche),AND(WEEKDAY(ED$9)=2,Lundi),AND(WEEKDAY(ED$9)=3,Mardi),AND(WEEKDAY(ED$9)=4,Mercredi),AND(WEEKDAY(ED$9)=5,Jeudi),AND(WEEKDAY(ED$9)=6,Vendredi),AND(WEEKDAY(ED$9)=7,Samedi),ED$9=férié),0,1)","v":1},{"$f":"IF(OR(AND(WEEKDAY(EE$9)=1,Dimanche),AND(WEEKDAY(EE$9)=2,Lundi),AND(WEEKDAY(EE$9)=3,Mardi),AND(WEEKDAY(EE$9)=4,Mercredi),AND(WEEKDAY(EE$9)=5,Jeudi),AND(WEEKDAY(EE$9)=6,Vendredi),AND(WEEKDAY(EE$9)=7,Samedi),EE$9=férié),0,1)","v":1},{"$f":"IF(OR(AND(WEEKDAY(EF$9)=1,Dimanche),AND(WEEKDAY(EF$9)=2,Lundi),AND(WEEKDAY(EF$9)=3,Mardi),AND(WEEKDAY(EF$9)=4,Mercredi),AND(WEEKDAY(EF$9)=5,Jeudi),AND(WEEKDAY(EF$9)=6,Vendredi),AND(WEEKDAY(EF$9)=7,Samedi),EF$9=férié),0,1)","v":0},{"$f":"IF(OR(AND(WEEKDAY(EG$9)=1,Dimanche),AND(WEEKDAY(EG$9)=2,Lundi),AND(WEEKDAY(EG$9)=3,Mardi),AND(WEEKDAY(EG$9)=4,Mercredi),AND(WEEKDAY(EG$9)=5,Jeudi),AND(WEEKDAY(EG$9)=6,Vendredi),AND(WEEKDAY(EG$9)=7,Samedi),EG$9=férié),0,1)","v":0},{"$f":"IF(OR(AND(WEEKDAY(EH$9)=1,Dimanche),AND(WEEKDAY(EH$9)=2,Lundi),AND(WEEKDAY(EH$9)=3,Mardi),AND(WEEKDAY(EH$9)=4,Mercredi),AND(WEEKDAY(EH$9)=5,Jeudi),AND(WEEKDAY(EH$9)=6,Vendredi),AND(WEEKDAY(EH$9)=7,Samedi),EH$9=férié),0,1)","v":1},{"$f":"IF(OR(AND(WEEKDAY(EI$9)=1,Dimanche),AND(WEEKDAY(EI$9)=2,Lundi),AND(WEEKDAY(EI$9)=3,Mardi),AND(WEEKDAY(EI$9)=4,Mercredi),AND(WEEKDAY(EI$9)=5,Jeudi),AND(WEEKDAY(EI$9)=6,Vendredi),AND(WEEKDAY(EI$9)=7,Samedi),EI$9=férié),0,1)","v":1},{"$f":"IF(OR(AND(WEEKDAY(EJ$9)=1,Dimanche),AND(WEEKDAY(EJ$9)=2,Lundi),AND(WEEKDAY(EJ$9)=3,Mardi),AND(WEEKDAY(EJ$9)=4,Mercredi),AND(WEEKDAY(EJ$9)=5,Jeudi),AND(WEEKDAY(EJ$9)=6,Vendredi),AND(WEEKDAY(EJ$9)=7,Samedi),EJ$9=férié),0,1)","v":1},{"$f":"IF(OR(AND(WEEKDAY(EK$9)=1,Dimanche),AND(WEEKDAY(EK$9)=2,Lundi),AND(WEEKDAY(EK$9)=3,Mardi),AND(WEEKDAY(EK$9)=4,Mercredi),AND(WEEKDAY(EK$9)=5,Jeudi),AND(WEEKDAY(EK$9)=6,Vendredi),AND(WEEKDAY(EK$9)=7,Samedi),EK$9=férié),0,1)","v":1},{"$f":"IF(OR(AND(WEEKDAY(EL$9)=1,Dimanche),AND(WEEKDAY(EL$9)=2,Lundi),AND(WEEKDAY(EL$9)=3,Mardi),AND(WEEKDAY(EL$9)=4,Mercredi),AND(WEEKDAY(EL$9)=5,Jeudi),AND(WEEKDAY(EL$9)=6,Vendredi),AND(WEEKDAY(EL$9)=7,Samedi),EL$9=férié),0,1)","v":1},{"$f":"IF(OR(AND(WEEKDAY(EM$9)=1,Dimanche),AND(WEEKDAY(EM$9)=2,Lundi),AND(WEEKDAY(EM$9)=3,Mardi),AND(WEEKDAY(EM$9)=4,Mercredi),AND(WEEKDAY(EM$9)=5,Jeudi),AND(WEEKDAY(EM$9)=6,Vendredi),AND(WEEKDAY(EM$9)=7,Samedi),EM$9=férié),0,1)","v":0},{"$f":"IF(OR(AND(WEEKDAY(EN$9)=1,Dimanche),AND(WEEKDAY(EN$9)=2,Lundi),AND(WEEKDAY(EN$9)=3,Mardi),AND(WEEKDAY(EN$9)=4,Mercredi),AND(WEEKDAY(EN$9)=5,Jeudi),AND(WEEKDAY(EN$9)=6,Vendredi),AND(WEEKDAY(EN$9)=7,Samedi),EN$9=férié),0,1)","v":0},{"$f":"IF(OR(AND(WEEKDAY(EO$9)=1,Dimanche),AND(WEEKDAY(EO$9)=2,Lundi),AND(WEEKDAY(EO$9)=3,Mardi),AND(WEEKDAY(EO$9)=4,Mercredi),AND(WEEKDAY(EO$9)=5,Jeudi),AND(WEEKDAY(EO$9)=6,Vendredi),AND(WEEKDAY(EO$9)=7,Samedi),EO$9=férié),0,1)","v":1},{"$f":"IF(OR(AND(WEEKDAY(EP$9)=1,Dimanche),AND(WEEKDAY(EP$9)=2,Lundi),AND(WEEKDAY(EP$9)=3,Mardi),AND(WEEKDAY(EP$9)=4,Mercredi),AND(WEEKDAY(EP$9)=5,Jeudi),AND(WEEKDAY(EP$9)=6,Vendredi),AND(WEEKDAY(EP$9)=7,Samedi),EP$9=férié),0,1)","v":1},{"$f":"IF(OR(AND(WEEKDAY(EQ$9)=1,Dimanche),AND(WEEKDAY(EQ$9)=2,Lundi),AND(WEEKDAY(EQ$9)=3,Mardi),AND(WEEKDAY(EQ$9)=4,Mercredi),AND(WEEKDAY(EQ$9)=5,Jeudi),AND(WEEKDAY(EQ$9)=6,Vendredi),AND(WEEKDAY(EQ$9)=7,Samedi),EQ$9=férié),0,1)","v":1},{"$f":"IF(OR(AND(WEEKDAY(ER$9)=1,Dimanche),AND(WEEKDAY(ER$9)=2,Lundi),AND(WEEKDAY(ER$9)=3,Mardi),AND(WEEKDAY(ER$9)=4,Mercredi),AND(WEEKDAY(ER$9)=5,Jeudi),AND(WEEKDAY(ER$9)=6,Vendredi),AND(WEEKDAY(ER$9)=7,Samedi),ER$9=férié),0,1)","v":0},{"$f":"IF(OR(AND(WEEKDAY(ES$9)=1,Dimanche),AND(WEEKDAY(ES$9)=2,Lundi),AND(WEEKDAY(ES$9)=3,Mardi),AND(WEEKDAY(ES$9)=4,Mercredi),AND(WEEKDAY(ES$9)=5,Jeudi),AND(WEEKDAY(ES$9)=6,Vendredi),AND(WEEKDAY(ES$9)=7,Samedi),ES$9=férié),0,1)","v":1},{"$f":"IF(OR(AND(WEEKDAY(ET$9)=1,Dimanche),AND(WEEKDAY(ET$9)=2,Lundi),AND(WEEKDAY(ET$9)=3,Mardi),AND(WEEKDAY(ET$9)=4,Mercredi),AND(WEEKDAY(ET$9)=5,Jeudi),AND(WEEKDAY(ET$9)=6,Vendredi),AND(WEEKDAY(ET$9)=7,Samedi),ET$9=férié),0,1)","v":0},{"$f":"IF(OR(AND(WEEKDAY(EU$9)=1,Dimanche),AND(WEEKDAY(EU$9)=2,Lundi),AND(WEEKDAY(EU$9)=3,Mardi),AND(WEEKDAY(EU$9)=4,Mercredi),AND(WEEKDAY(EU$9)=5,Jeudi),AND(WEEKDAY(EU$9)=6,Vendredi),AND(WEEKDAY(EU$9)=7,Samedi),EU$9=férié),0,1)","v":0},{"$f":"IF(OR(AND(WEEKDAY(EV$9)=1,Dimanche),AND(WEEKDAY(EV$9)=2,Lundi),AND(WEEKDAY(EV$9)=3,Mardi),AND(WEEKDAY(EV$9)=4,Mercredi),AND(WEEKDAY(EV$9)=5,Jeudi),AND(WEEKDAY(EV$9)=6,Vendredi),AND(WEEKDAY(EV$9)=7,Samedi),EV$9=férié),0,1)","v":1},{"$f":"IF(OR(AND(WEEKDAY(EW$9)=1,Dimanche),AND(WEEKDAY(EW$9)=2,Lundi),AND(WEEKDAY(EW$9)=3,Mardi),AND(WEEKDAY(EW$9)=4,Mercredi),AND(WEEKDAY(EW$9)=5,Jeudi),AND(WEEKDAY(EW$9)=6,Vendredi),AND(WEEKDAY(EW$9)=7,Samedi),EW$9=férié),0,1)","v":1},{"$f":"IF(OR(AND(WEEKDAY(EX$9)=1,Dimanche),AND(WEEKDAY(EX$9)=2,Lundi),AND(WEEKDAY(EX$9)=3,Mardi),AND(WEEKDAY(EX$9)=4,Mercredi),AND(WEEKDAY(EX$9)=5,Jeudi),AND(WEEKDAY(EX$9)=6,Vendredi),AND(WEEKDAY(EX$9)=7,Samedi),EX$9=férié),0,1)","v":1},{"$f":"IF(OR(AND(WEEKDAY(EY$9)=1,Dimanche),AND(WEEKDAY(EY$9)=2,Lundi),AND(WEEKDAY(EY$9)=3,Mardi),AND(WEEKDAY(EY$9)=4,Mercredi),AND(WEEKDAY(EY$9)=5,Jeudi),AND(WEEKDAY(EY$9)=6,Vendredi),AND(WEEKDAY(EY$9)=7,Samedi),EY$9=férié),0,1)","v":1},{"$f":"IF(OR(AND(WEEKDAY(EZ$9)=1,Dimanche),AND(WEEKDAY(EZ$9)=2,Lundi),AND(WEEKDAY(EZ$9)=3,Mardi),AND(WEEKDAY(EZ$9)=4,Mercredi),AND(WEEKDAY(EZ$9)=5,Jeudi),AND(WEEKDAY(EZ$9)=6,Vendredi),AND(WEEKDAY(EZ$9)=7,Samedi),EZ$9=férié),0,1)","v":1},{"$f":"IF(OR(AND(WEEKDAY(FA$9)=1,Dimanche),AND(WEEKDAY(FA$9)=2,Lundi),AND(WEEKDAY(FA$9)=3,Mardi),AND(WEEKDAY(FA$9)=4,Mercredi),AND(WEEKDAY(FA$9)=5,Jeudi),AND(WEEKDAY(FA$9)=6,Vendredi),AND(WEEKDAY(FA$9)=7,Samedi),FA$9=férié),0,1)","v":0},{"$f":"IF(OR(AND(WEEKDAY(FB$9)=1,Dimanche),AND(WEEKDAY(FB$9)=2,Lundi),AND(WEEKDAY(FB$9)=3,Mardi),AND(WEEKDAY(FB$9)=4,Mercredi),AND(WEEKDAY(FB$9)=5,Jeudi),AND(WEEKDAY(FB$9)=6,Vendredi),AND(WEEKDAY(FB$9)=7,Samedi),FB$9=férié),0,1)","v":0},{"$f":"IF(OR(AND(WEEKDAY(FC$9)=1,Dimanche),AND(WEEKDAY(FC$9)=2,Lundi),AND(WEEKDAY(FC$9)=3,Mardi),AND(WEEKDAY(FC$9)=4,Mercredi),AND(WEEKDAY(FC$9)=5,Jeudi),AND(WEEKDAY(FC$9)=6,Vendredi),AND(WEEKDAY(FC$9)=7,Samedi),FC$9=férié),0,1)","v":0},{"$f":"IF(OR(AND(WEEKDAY(FD$9)=1,Dimanche),AND(WEEKDAY(FD$9)=2,Lundi),AND(WEEKDAY(FD$9)=3,Mardi),AND(WEEKDAY(FD$9)=4,Mercredi),AND(WEEKDAY(FD$9)=5,Jeudi),AND(WEEKDAY(FD$9)=6,Vendredi),AND(WEEKDAY(FD$9)=7,Samedi),FD$9=férié),0,1)","v":1},{"$f":"IF(OR(AND(WEEKDAY(FE$9)=1,Dimanche),AND(WEEKDAY(FE$9)=2,Lundi),AND(WEEKDAY(FE$9)=3,Mardi),AND(WEEKDAY(FE$9)=4,Mercredi),AND(WEEKDAY(FE$9)=5,Jeudi),AND(WEEKDAY(FE$9)=6,Vendredi),AND(WEEKDAY(FE$9)=7,Samedi),FE$9=férié),0,1)","v":1},{"$f":"IF(OR(AND(WEEKDAY(FF$9)=1,Dimanche),AND(WEEKDAY(FF$9)=2,Lundi),AND(WEEKDAY(FF$9)=3,Mardi),AND(WEEKDAY(FF$9)=4,Mercredi),AND(WEEKDAY(FF$9)=5,Jeudi),AND(WEEKDAY(FF$9)=6,Vendredi),AND(WEEKDAY(FF$9)=7,Samedi),FF$9=férié),0,1)","v":1},{"$f":"IF(OR(AND(WEEKDAY(FG$9)=1,Dimanche),AND(WEEKDAY(FG$9)=2,Lundi),AND(WEEKDAY(FG$9)=3,Mardi),AND(WEEKDAY(FG$9)=4,Mercredi),AND(WEEKDAY(FG$9)=5,Jeudi),AND(WEEKDAY(FG$9)=6,Vendredi),AND(WEEKDAY(FG$9)=7,Samedi),FG$9=férié),0,1)","v":1},{"$f":"IF(OR(AND(WEEKDAY(FH$9)=1,Dimanche),AND(WEEKDAY(FH$9)=2,Lundi),AND(WEEKDAY(FH$9)=3,Mardi),AND(WEEKDAY(FH$9)=4,Mercredi),AND(WEEKDAY(FH$9)=5,Jeudi),AND(WEEKDAY(FH$9)=6,Vendredi),AND(WEEKDAY(FH$9)=7,Samedi),FH$9=férié),0,1)","v":0},{"$f":"IF(OR(AND(WEEKDAY(FI$9)=1,Dimanche),AND(WEEKDAY(FI$9)=2,Lundi),AND(WEEKDAY(FI$9)=3,Mardi),AND(WEEKDAY(FI$9)=4,Mercredi),AND(WEEKDAY(FI$9)=5,Jeudi),AND(WEEKDAY(FI$9)=6,Vendredi),AND(WEEKDAY(FI$9)=7,Samedi),FI$9=férié),0,1)","v":0},{"$f":"IF(OR(AND(WEEKDAY(FJ$9)=1,Dimanche),AND(WEEKDAY(FJ$9)=2,Lundi),AND(WEEKDAY(FJ$9)=3,Mardi),AND(WEEKDAY(FJ$9)=4,Mercredi),AND(WEEKDAY(FJ$9)=5,Jeudi),AND(WEEKDAY(FJ$9)=6,Vendredi),AND(WEEKDAY(FJ$9)=7,Samedi),FJ$9=férié),0,1)","v":1},{"$f":"IF(OR(AND(WEEKDAY(FK$9)=1,Dimanche),AND(WEEKDAY(FK$9)=2,Lundi),AND(WEEKDAY(FK$9)=3,Mardi),AND(WEEKDAY(FK$9)=4,Mercredi),AND(WEEKDAY(FK$9)=5,Jeudi),AND(WEEKDAY(FK$9)=6,Vendredi),AND(WEEKDAY(FK$9)=7,Samedi),FK$9=férié),0,1)","v":1},{"$f":"IF(OR(AND(WEEKDAY(FL$9)=1,Dimanche),AND(WEEKDAY(FL$9)=2,Lundi),AND(WEEKDAY(FL$9)=3,Mardi),AND(WEEKDAY(FL$9)=4,Mercredi),AND(WEEKDAY(FL$9)=5,Jeudi),AND(WEEKDAY(FL$9)=6,Vendredi),AND(WEEKDAY(FL$9)=7,Samedi),FL$9=férié),0,1)","v":1},{"$f":"IF(OR(AND(WEEKDAY(FM$9)=1,Dimanche),AND(WEEKDAY(FM$9)=2,Lundi),AND(WEEKDAY(FM$9)=3,Mardi),AND(WEEKDAY(FM$9)=4,Mercredi),AND(WEEKDAY(FM$9)=5,Jeudi),AND(WEEKDAY(FM$9)=6,Vendredi),AND(WEEKDAY(FM$9)=7,Samedi),FM$9=férié),0,1)","v":1},{"$f":"IF(OR(AND(WEEKDAY(FN$9)=1,Dimanche),AND(WEEKDAY(FN$9)=2,Lundi),AND(WEEKDAY(FN$9)=3,Mardi),AND(WEEKDAY(FN$9)=4,Mercredi),AND(WEEKDAY(FN$9)=5,Jeudi),AND(WEEKDAY(FN$9)=6,Vendredi),AND(WEEKDAY(FN$9)=7,Samedi),FN$9=férié),0,1)","v":1},{"$f":"IF(OR(AND(WEEKDAY(FO$9)=1,Dimanche),AND(WEEKDAY(FO$9)=2,Lundi),AND(WEEKDAY(FO$9)=3,Mardi),AND(WEEKDAY(FO$9)=4,Mercredi),AND(WEEKDAY(FO$9)=5,Jeudi),AND(WEEKDAY(FO$9)=6,Vendredi),AND(WEEKDAY(FO$9)=7,Samedi),FO$9=férié),0,1)","v":0},{"$f":"IF(OR(AND(WEEKDAY(FP$9)=1,Dimanche),AND(WEEKDAY(FP$9)=2,Lundi),AND(WEEKDAY(FP$9)=3,Mardi),AND(WEEKDAY(FP$9)=4,Mercredi),AND(WEEKDAY(FP$9)=5,Jeudi),AND(WEEKDAY(FP$9)=6,Vendredi),AND(WEEKDAY(FP$9)=7,Samedi),FP$9=férié),0,1)","v":0},{"$f":"IF(OR(AND(WEEKDAY(FQ$9)=1,Dimanche),AND(WEEKDAY(FQ$9)=2,Lundi),AND(WEEKDAY(FQ$9)=3,Mardi),AND(WEEKDAY(FQ$9)=4,Mercredi),AND(WEEKDAY(FQ$9)=5,Jeudi),AND(WEEKDAY(FQ$9)=6,Vendredi),AND(WEEKDAY(FQ$9)=7,Samedi),FQ$9=férié),0,1)","v":1},{"$f":"IF(OR(AND(WEEKDAY(FR$9)=1,Dimanche),AND(WEEKDAY(FR$9)=2,Lundi),AND(WEEKDAY(FR$9)=3,Mardi),AND(WEEKDAY(FR$9)=4,Mercredi),AND(WEEKDAY(FR$9)=5,Jeudi),AND(WEEKDAY(FR$9)=6,Vendredi),AND(WEEKDAY(FR$9)=7,Samedi),FR$9=férié),0,1)","v":1},{"$f":"IF(OR(AND(WEEKDAY(FS$9)=1,Dimanche),AND(WEEKDAY(FS$9)=2,Lundi),AND(WEEKDAY(FS$9)=3,Mardi),AND(WEEKDAY(FS$9)=4,Mercredi),AND(WEEKDAY(FS$9)=5,Jeudi),AND(WEEKDAY(FS$9)=6,Vendredi),AND(WEEKDAY(FS$9)=7,Samedi),FS$9=férié),0,1)","v":1},{"$f":"IF(OR(AND(WEEKDAY(FT$9)=1,Dimanche),AND(WEEKDAY(FT$9)=2,Lundi),AND(WEEKDAY(FT$9)=3,Mardi),AND(WEEKDAY(FT$9)=4,Mercredi),AND(WEEKDAY(FT$9)=5,Jeudi),AND(WEEKDAY(FT$9)=6,Vendredi),AND(WEEKDAY(FT$9)=7,Samedi),FT$9=férié),0,1)","v":1},{"$f":"IF(OR(AND(WEEKDAY(FU$9)=1,Dimanche),AND(WEEKDAY(FU$9)=2,Lundi),AND(WEEKDAY(FU$9)=3,Mardi),AND(WEEKDAY(FU$9)=4,Mercredi),AND(WEEKDAY(FU$9)=5,Jeudi),AND(WEEKDAY(FU$9)=6,Vendredi),AND(WEEKDAY(FU$9)=7,Samedi),FU$9=férié),0,1)","v":1},{"$f":"IF(OR(AND(WEEKDAY(FV$9)=1,Dimanche),AND(WEEKDAY(FV$9)=2,Lundi),AND(WEEKDAY(FV$9)=3,Mardi),AND(WEEKDAY(FV$9)=4,Mercredi),AND(WEEKDAY(FV$9)=5,Jeudi),AND(WEEKDAY(FV$9)=6,Vendredi),AND(WEEKDAY(FV$9)=7,Samedi),FV$9=férié),0,1)","v":0},{"$f":"IF(OR(AND(WEEKDAY(FW$9)=1,Dimanche),AND(WEEKDAY(FW$9)=2,Lundi),AND(WEEKDAY(FW$9)=3,Mardi),AND(WEEKDAY(FW$9)=4,Mercredi),AND(WEEKDAY(FW$9)=5,Jeudi),AND(WEEKDAY(FW$9)=6,Vendredi),AND(WEEKDAY(FW$9)=7,Samedi),FW$9=férié),0,1)","v":0},{"$f":"IF(OR(AND(WEEKDAY(FX$9)=1,Dimanche),AND(WEEKDAY(FX$9)=2,Lundi),AND(WEEKDAY(FX$9)=3,Mardi),AND(WEEKDAY(FX$9)=4,Mercredi),AND(WEEKDAY(FX$9)=5,Jeudi),AND(WEEKDAY(FX$9)=6,Vendredi),AND(WEEKDAY(FX$9)=7,Samedi),FX$9=férié),0,1)","v":1},{"$f":"IF(OR(AND(WEEKDAY(FY$9)=1,Dimanche),AND(WEEKDAY(FY$9)=2,Lundi),AND(WEEKDAY(FY$9)=3,Mardi),AND(WEEKDAY(FY$9)=4,Mercredi),AND(WEEKDAY(FY$9)=5,Jeudi),AND(WEEKDAY(FY$9)=6,Vendredi),AND(WEEKDAY(FY$9)=7,Samedi),FY$9=férié),0,1)","v":1},{"$f":"IF(OR(AND(WEEKDAY(FZ$9)=1,Dimanche),AND(WEEKDAY(FZ$9)=2,Lundi),AND(WEEKDAY(FZ$9)=3,Mardi),AND(WEEKDAY(FZ$9)=4,Mercredi),AND(WEEKDAY(FZ$9)=5,Jeudi),AND(WEEKDAY(FZ$9)=6,Vendredi),AND(WEEKDAY(FZ$9)=7,Samedi),FZ$9=férié),0,1)","v":1},{"$f":"IF(OR(AND(WEEKDAY(GA$9)=1,Dimanche),AND(WEEKDAY(GA$9)=2,Lundi),AND(WEEKDAY(GA$9)=3,Mardi),AND(WEEKDAY(GA$9)=4,Mercredi),AND(WEEKDAY(GA$9)=5,Jeudi),AND(WEEKDAY(GA$9)=6,Vendredi),AND(WEEKDAY(GA$9)=7,Samedi),GA$9=férié),0,1)","v":1},{"$f":"IF(OR(AND(WEEKDAY(GB$9)=1,Dimanche),AND(WEEKDAY(GB$9)=2,Lundi),AND(WEEKDAY(GB$9)=3,Mardi),AND(WEEKDAY(GB$9)=4,Mercredi),AND(WEEKDAY(GB$9)=5,Jeudi),AND(WEEKDAY(GB$9)=6,Vendredi),AND(WEEKDAY(GB$9)=7,Samedi),GB$9=férié),0,1)","v":1},{"$f":"IF(OR(AND(WEEKDAY(GC$9)=1,Dimanche),AND(WEEKDAY(GC$9)=2,Lundi),AND(WEEKDAY(GC$9)=3,Mardi),AND(WEEKDAY(GC$9)=4,Mercredi),AND(WEEKDAY(GC$9)=5,Jeudi),AND(WEEKDAY(GC$9)=6,Vendredi),AND(WEEKDAY(GC$9)=7,Samedi),GC$9=férié),0,1)","v":0},{"$f":"IF(OR(AND(WEEKDAY(GD$9)=1,Dimanche),AND(WEEKDAY(GD$9)=2,Lundi),AND(WEEKDAY(GD$9)=3,Mardi),AND(WEEKDAY(GD$9)=4,Mercredi),AND(WEEKDAY(GD$9)=5,Jeudi),AND(WEEKDAY(GD$9)=6,Vendredi),AND(WEEKDAY(GD$9)=7,Samedi),GD$9=férié),0,1)","v":0},{"$f":"IF(OR(AND(WEEKDAY(GE$9)=1,Dimanche),AND(WEEKDAY(GE$9)=2,Lundi),AND(WEEKDAY(GE$9)=3,Mardi),AND(WEEKDAY(GE$9)=4,Mercredi),AND(WEEKDAY(GE$9)=5,Jeudi),AND(WEEKDAY(GE$9)=6,Vendredi),AND(WEEKDAY(GE$9)=7,Samedi),GE$9=férié),0,1)","v":1},{"$f":"IF(OR(AND(WEEKDAY(GF$9)=1,Dimanche),AND(WEEKDAY(GF$9)=2,Lundi),AND(WEEKDAY(GF$9)=3,Mardi),AND(WEEKDAY(GF$9)=4,Mercredi),AND(WEEKDAY(GF$9)=5,Jeudi),AND(WEEKDAY(GF$9)=6,Vendredi),AND(WEEKDAY(GF$9)=7,Samedi),GF$9=férié),0,1)","v":1},{"$f":"IF(OR(AND(WEEKDAY(GG$9)=1,Dimanche),AND(WEEKDAY(GG$9)=2,Lundi),AND(WEEKDAY(GG$9)=3,Mardi),AND(WEEKDAY(GG$9)=4,Mercredi),AND(WEEKDAY(GG$9)=5,Jeudi),AND(WEEKDAY(GG$9)=6,Vendredi),AND(WEEKDAY(GG$9)=7,Samedi),GG$9=férié),0,1)","v":1},{"$f":"IF(OR(AND(WEEKDAY(GH$9)=1,Dimanche),AND(WEEKDAY(GH$9)=2,Lundi),AND(WEEKDAY(GH$9)=3,Mardi),AND(WEEKDAY(GH$9)=4,Mercredi),AND(WEEKDAY(GH$9)=5,Jeudi),AND(WEEKDAY(GH$9)=6,Vendredi),AND(WEEKDAY(GH$9)=7,Samedi),GH$9=férié),0,1)","v":1},{"$f":"IF(OR(AND(WEEKDAY(GI$9)=1,Dimanche),AND(WEEKDAY(GI$9)=2,Lundi),AND(WEEKDAY(GI$9)=3,Mardi),AND(WEEKDAY(GI$9)=4,Mercredi),AND(WEEKDAY(GI$9)=5,Jeudi),AND(WEEKDAY(GI$9)=6,Vendredi),AND(WEEKDAY(GI$9)=7,Samedi),GI$9=férié),0,1)","v":1},{"$f":"IF(OR(AND(WEEKDAY(GJ$9)=1,Dimanche),AND(WEEKDAY(GJ$9)=2,Lundi),AND(WEEKDAY(GJ$9)=3,Mardi),AND(WEEKDAY(GJ$9)=4,Mercredi),AND(WEEKDAY(GJ$9)=5,Jeudi),AND(WEEKDAY(GJ$9)=6,Vendredi),AND(WEEKDAY(GJ$9)=7,Samedi),GJ$9=férié),0,1)","v":0},{"$f":"IF(OR(AND(WEEKDAY(GK$9)=1,Dimanche),AND(WEEKDAY(GK$9)=2,Lundi),AND(WEEKDAY(GK$9)=3,Mardi),AND(WEEKDAY(GK$9)=4,Mercredi),AND(WEEKDAY(GK$9)=5,Jeudi),AND(WEEKDAY(GK$9)=6,Vendredi),AND(WEEKDAY(GK$9)=7,Samedi),GK$9=férié),0,1)","v":0},{"$f":"IF(OR(AND(WEEKDAY(GL$9)=1,Dimanche),AND(WEEKDAY(GL$9)=2,Lundi),AND(WEEKDAY(GL$9)=3,Mardi),AND(WEEKDAY(GL$9)=4,Mercredi),AND(WEEKDAY(GL$9)=5,Jeudi),AND(WEEKDAY(GL$9)=6,Vendredi),AND(WEEKDAY(GL$9)=7,Samedi),GL$9=férié),0,1)","v":1},{"$f":"IF(OR(AND(WEEKDAY(GM$9)=1,Dimanche),AND(WEEKDAY(GM$9)=2,Lundi),AND(WEEKDAY(GM$9)=3,Mardi),AND(WEEKDAY(GM$9)=4,Mercredi),AND(WEEKDAY(GM$9)=5,Jeudi),AND(WEEKDAY(GM$9)=6,Vendredi),AND(WEEKDAY(GM$9)=7,Samedi),GM$9=férié),0,1)","v":1},{"$f":"IF(OR(AND(WEEKDAY(GN$9)=1,Dimanche),AND(WEEKDAY(GN$9)=2,Lundi),AND(WEEKDAY(GN$9)=3,Mardi),AND(WEEKDAY(GN$9)=4,Mercredi),AND(WEEKDAY(GN$9)=5,Jeudi),AND(WEEKDAY(GN$9)=6,Vendredi),AND(WEEKDAY(GN$9)=7,Samedi),GN$9=férié),0,1)","v":1},{"$f":"IF(OR(AND(WEEKDAY(GO$9)=1,Dimanche),AND(WEEKDAY(GO$9)=2,Lundi),AND(WEEKDAY(GO$9)=3,Mardi),AND(WEEKDAY(GO$9)=4,Mercredi),AND(WEEKDAY(GO$9)=5,Jeudi),AND(WEEKDAY(GO$9)=6,Vendredi),AND(WEEKDAY(GO$9)=7,Samedi),GO$9=férié),0,1)","v":1},{"$f":"IF(OR(AND(WEEKDAY(GP$9)=1,Dimanche),AND(WEEKDAY(GP$9)=2,Lundi),AND(WEEKDAY(GP$9)=3,Mardi),AND(WEEKDAY(GP$9)=4,Mercredi),AND(WEEKDAY(GP$9)=5,Jeudi),AND(WEEKDAY(GP$9)=6,Vendredi),AND(WEEKDAY(GP$9)=7,Samedi),GP$9=férié),0,1)","v":0},{"$f":"IF(OR(AND(WEEKDAY(GQ$9)=1,Dimanche),AND(WEEKDAY(GQ$9)=2,Lundi),AND(WEEKDAY(GQ$9)=3,Mardi),AND(WEEKDAY(GQ$9)=4,Mercredi),AND(WEEKDAY(GQ$9)=5,Jeudi),AND(WEEKDAY(GQ$9)=6,Vendredi),AND(WEEKDAY(GQ$9)=7,Samedi),GQ$9=férié),0,1)","v":0},{"$f":"IF(OR(AND(WEEKDAY(GR$9)=1,Dimanche),AND(WEEKDAY(GR$9)=2,Lundi),AND(WEEKDAY(GR$9)=3,Mardi),AND(WEEKDAY(GR$9)=4,Mercredi),AND(WEEKDAY(GR$9)=5,Jeudi),AND(WEEKDAY(GR$9)=6,Vendredi),AND(WEEKDAY(GR$9)=7,Samedi),GR$9=férié),0,1)","v":0},{"$f":"IF(OR(AND(WEEKDAY(GS$9)=1,Dimanche),AND(WEEKDAY(GS$9)=2,Lundi),AND(WEEKDAY(GS$9)=3,Mardi),AND(WEEKDAY(GS$9)=4,Mercredi),AND(WEEKDAY(GS$9)=5,Jeudi),AND(WEEKDAY(GS$9)=6,Vendredi),AND(WEEKDAY(GS$9)=7,Samedi),GS$9=férié),0,1)","v":1},{"$f":"IF(OR(AND(WEEKDAY(GT$9)=1,Dimanche),AND(WEEKDAY(GT$9)=2,Lundi),AND(WEEKDAY(GT$9)=3,Mardi),AND(WEEKDAY(GT$9)=4,Mercredi),AND(WEEKDAY(GT$9)=5,Jeudi),AND(WEEKDAY(GT$9)=6,Vendredi),AND(WEEKDAY(GT$9)=7,Samedi),GT$9=férié),0,1)","v":1},{"$f":"IF(OR(AND(WEEKDAY(GU$9)=1,Dimanche),AND(WEEKDAY(GU$9)=2,Lundi),AND(WEEKDAY(GU$9)=3,Mardi),AND(WEEKDAY(GU$9)=4,Mercredi),AND(WEEKDAY(GU$9)=5,Jeudi),AND(WEEKDAY(GU$9)=6,Vendredi),AND(WEEKDAY(GU$9)=7,Samedi),GU$9=férié),0,1)","v":1},{"$f":"IF(OR(AND(WEEKDAY(GV$9)=1,Dimanche),AND(WEEKDAY(GV$9)=2,Lundi),AND(WEEKDAY(GV$9)=3,Mardi),AND(WEEKDAY(GV$9)=4,Mercredi),AND(WEEKDAY(GV$9)=5,Jeudi),AND(WEEKDAY(GV$9)=6,Vendredi),AND(WEEKDAY(GV$9)=7,Samedi),GV$9=férié),0,1)","v":1},{"$f":"IF(OR(AND(WEEKDAY(GW$9)=1,Dimanche),AND(WEEKDAY(GW$9)=2,Lundi),AND(WEEKDAY(GW$9)=3,Mardi),AND(WEEKDAY(GW$9)=4,Mercredi),AND(WEEKDAY(GW$9)=5,Jeudi),AND(WEEKDAY(GW$9)=6,Vendredi),AND(WEEKDAY(GW$9)=7,Samedi),GW$9=férié),0,1)","v":1},{"$f":"IF(OR(AND(WEEKDAY(GX$9)=1,Dimanche),AND(WEEKDAY(GX$9)=2,Lundi),AND(WEEKDAY(GX$9)=3,Mardi),AND(WEEKDAY(GX$9)=4,Mercredi),AND(WEEKDAY(GX$9)=5,Jeudi),AND(WEEKDAY(GX$9)=6,Vendredi),AND(WEEKDAY(GX$9)=7,Samedi),GX$9=férié),0,1)","v":0},{"$f":"IF(OR(AND(WEEKDAY(GY$9)=1,Dimanche),AND(WEEKDAY(GY$9)=2,Lundi),AND(WEEKDAY(GY$9)=3,Mardi),AND(WEEKDAY(GY$9)=4,Mercredi),AND(WEEKDAY(GY$9)=5,Jeudi),AND(WEEKDAY(GY$9)=6,Vendredi),AND(WEEKDAY(GY$9)=7,Samedi),GY$9=férié),0,1)","v":0},{"$f":"IF(OR(AND(WEEKDAY(GZ$9)=1,Dimanche),AND(WEEKDAY(GZ$9)=2,Lundi),AND(WEEKDAY(GZ$9)=3,Mardi),AND(WEEKDAY(GZ$9)=4,Mercredi),AND(WEEKDAY(GZ$9)=5,Jeudi),AND(WEEKDAY(GZ$9)=6,Vendredi),AND(WEEKDAY(GZ$9)=7,Samedi),GZ$9=férié),0,1)","v":1},{"$f":"IF(OR(AND(WEEKDAY(HA$9)=1,Dimanche),AND(WEEKDAY(HA$9)=2,Lundi),AND(WEEKDAY(HA$9)=3,Mardi),AND(WEEKDAY(HA$9)=4,Mercredi),AND(WEEKDAY(HA$9)=5,Jeudi),AND(WEEKDAY(HA$9)=6,Vendredi),AND(WEEKDAY(HA$9)=7,Samedi),HA$9=férié),0,1)","v":1},{"$f":"IF(OR(AND(WEEKDAY(HB$9)=1,Dimanche),AND(WEEKDAY(HB$9)=2,Lundi),AND(WEEKDAY(HB$9)=3,Mardi),AND(WEEKDAY(HB$9)=4,Mercredi),AND(WEEKDAY(HB$9)=5,Jeudi),AND(WEEKDAY(HB$9)=6,Vendredi),AND(WEEKDAY(HB$9)=7,Samedi),HB$9=férié),0,1)","v":1},{"$f":"IF(OR(AND(WEEKDAY(HC$9)=1,Dimanche),AND(WEEKDAY(HC$9)=2,Lundi),AND(WEEKDAY(HC$9)=3,Mardi),AND(WEEKDAY(HC$9)=4,Mercredi),AND(WEEKDAY(HC$9)=5,Jeudi),AND(WEEKDAY(HC$9)=6,Vendredi),AND(WEEKDAY(HC$9)=7,Samedi),HC$9=férié),0,1)","v":1},{"$f":"IF(OR(AND(WEEKDAY(HD$9)=1,Dimanche),AND(WEEKDAY(HD$9)=2,Lundi),AND(WEEKDAY(HD$9)=3,Mardi),AND(WEEKDAY(HD$9)=4,Mercredi),AND(WEEKDAY(HD$9)=5,Jeudi),AND(WEEKDAY(HD$9)=6,Vendredi),AND(WEEKDAY(HD$9)=7,Samedi),HD$9=férié),0,1)","v":1},{"$f":"IF(OR(AND(WEEKDAY(HE$9)=1,Dimanche),AND(WEEKDAY(HE$9)=2,Lundi),AND(WEEKDAY(HE$9)=3,Mardi),AND(WEEKDAY(HE$9)=4,Mercredi),AND(WEEKDAY(HE$9)=5,Jeudi),AND(WEEKDAY(HE$9)=6,Vendredi),AND(WEEKDAY(HE$9)=7,Samedi),HE$9=férié),0,1)","v":0},{"$f":"IF(OR(AND(WEEKDAY(HF$9)=1,Dimanche),AND(WEEKDAY(HF$9)=2,Lundi),AND(WEEKDAY(HF$9)=3,Mardi),AND(WEEKDAY(HF$9)=4,Mercredi),AND(WEEKDAY(HF$9)=5,Jeudi),AND(WEEKDAY(HF$9)=6,Vendredi),AND(WEEKDAY(HF$9)=7,Samedi),HF$9=férié),0,1)","v":0},{"$f":"IF(OR(AND(WEEKDAY(HG$9)=1,Dimanche),AND(WEEKDAY(HG$9)=2,Lundi),AND(WEEKDAY(HG$9)=3,Mardi),AND(WEEKDAY(HG$9)=4,Mercredi),AND(WEEKDAY(HG$9)=5,Jeudi),AND(WEEKDAY(HG$9)=6,Vendredi),AND(WEEKDAY(HG$9)=7,Samedi),HG$9=férié),0,1)","v":1},{"$f":"IF(OR(AND(WEEKDAY(HH$9)=1,Dimanche),AND(WEEKDAY(HH$9)=2,Lundi),AND(WEEKDAY(HH$9)=3,Mardi),AND(WEEKDAY(HH$9)=4,Mercredi),AND(WEEKDAY(HH$9)=5,Jeudi),AND(WEEKDAY(HH$9)=6,Vendredi),AND(WEEKDAY(HH$9)=7,Samedi),HH$9=férié),0,1)","v":1},{"$f":"IF(OR(AND(WEEKDAY(HI$9)=1,Dimanche),AND(WEEKDAY(HI$9)=2,Lundi),AND(WEEKDAY(HI$9)=3,Mardi),AND(WEEKDAY(HI$9)=4,Mercredi),AND(WEEKDAY(HI$9)=5,Jeudi),AND(WEEKDAY(HI$9)=6,Vendredi),AND(WEEKDAY(HI$9)=7,Samedi),HI$9=férié),0,1)","v":1},{"$f":"IF(OR(AND(WEEKDAY(HJ$9)=1,Dimanche),AND(WEEKDAY(HJ$9)=2,Lundi),AND(WEEKDAY(HJ$9)=3,Mardi),AND(WEEKDAY(HJ$9)=4,Mercredi),AND(WEEKDAY(HJ$9)=5,Jeudi),AND(WEEKDAY(HJ$9)=6,Vendredi),AND(WEEKDAY(HJ$9)=7,Samedi),HJ$9=férié),0,1)","v":1},{"$f":"IF(OR(AND(WEEKDAY(HK$9)=1,Dimanche),AND(WEEKDAY(HK$9)=2,Lundi),AND(WEEKDAY(HK$9)=3,Mardi),AND(WEEKDAY(HK$9)=4,Mercredi),AND(WEEKDAY(HK$9)=5,Jeudi),AND(WEEKDAY(HK$9)=6,Vendredi),AND(WEEKDAY(HK$9)=7,Samedi),HK$9=férié),0,1)","v":1},{"$f":"IF(OR(AND(WEEKDAY(HL$9)=1,Dimanche),AND(WEEKDAY(HL$9)=2,Lundi),AND(WEEKDAY(HL$9)=3,Mardi),AND(WEEKDAY(HL$9)=4,Mercredi),AND(WEEKDAY(HL$9)=5,Jeudi),AND(WEEKDAY(HL$9)=6,Vendredi),AND(WEEKDAY(HL$9)=7,Samedi),HL$9=férié),0,1)","v":0},{"$f":"IF(OR(AND(WEEKDAY(HM$9)=1,Dimanche),AND(WEEKDAY(HM$9)=2,Lundi),AND(WEEKDAY(HM$9)=3,Mardi),AND(WEEKDAY(HM$9)=4,Mercredi),AND(WEEKDAY(HM$9)=5,Jeudi),AND(WEEKDAY(HM$9)=6,Vendredi),AND(WEEKDAY(HM$9)=7,Samedi),HM$9=férié),0,1)","v":0},{"$f":"IF(OR(AND(WEEKDAY(HN$9)=1,Dimanche),AND(WEEKDAY(HN$9)=2,Lundi),AND(WEEKDAY(HN$9)=3,Mardi),AND(WEEKDAY(HN$9)=4,Mercredi),AND(WEEKDAY(HN$9)=5,Jeudi),AND(WEEKDAY(HN$9)=6,Vendredi),AND(WEEKDAY(HN$9)=7,Samedi),HN$9=férié),0,1)","v":1},{"$f":"IF(OR(AND(WEEKDAY(HO$9)=1,Dimanche),AND(WEEKDAY(HO$9)=2,Lundi),AND(WEEKDAY(HO$9)=3,Mardi),AND(WEEKDAY(HO$9)=4,Mercredi),AND(WEEKDAY(HO$9)=5,Jeudi),AND(WEEKDAY(HO$9)=6,Vendredi),AND(WEEKDAY(HO$9)=7,Samedi),HO$9=férié),0,1)","v":1},{"$f":"IF(OR(AND(WEEKDAY(HP$9)=1,Dimanche),AND(WEEKDAY(HP$9)=2,Lundi),AND(WEEKDAY(HP$9)=3,Mardi),AND(WEEKDAY(HP$9)=4,Mercredi),AND(WEEKDAY(HP$9)=5,Jeudi),AND(WEEKDAY(HP$9)=6,Vendredi),AND(WEEKDAY(HP$9)=7,Samedi),HP$9=férié),0,1)","v":1},{"$f":"IF(OR(AND(WEEKDAY(HQ$9)=1,Dimanche),AND(WEEKDAY(HQ$9)=2,Lundi),AND(WEEKDAY(HQ$9)=3,Mardi),AND(WEEKDAY(HQ$9)=4,Mercredi),AND(WEEKDAY(HQ$9)=5,Jeudi),AND(WEEKDAY(HQ$9)=6,Vendredi),AND(WEEKDAY(HQ$9)=7,Samedi),HQ$9=férié),0,1)","v":1},{"$f":"IF(OR(AND(WEEKDAY(HR$9)=1,Dimanche),AND(WEEKDAY(HR$9)=2,Lundi),AND(WEEKDAY(HR$9)=3,Mardi),AND(WEEKDAY(HR$9)=4,Mercredi),AND(WEEKDAY(HR$9)=5,Jeudi),AND(WEEKDAY(HR$9)=6,Vendredi),AND(WEEKDAY(HR$9)=7,Samedi),HR$9=férié),0,1)","v":1},{"$f":"IF(OR(AND(WEEKDAY(HS$9)=1,Dimanche),AND(WEEKDAY(HS$9)=2,Lundi),AND(WEEKDAY(HS$9)=3,Mardi),AND(WEEKDAY(HS$9)=4,Mercredi),AND(WEEKDAY(HS$9)=5,Jeudi),AND(WEEKDAY(HS$9)=6,Vendredi),AND(WEEKDAY(HS$9)=7,Samedi),HS$9=férié),0,1)","v":0},{"$f":"IF(OR(AND(WEEKDAY(HT$9)=1,Dimanche),AND(WEEKDAY(HT$9)=2,Lundi),AND(WEEKDAY(HT$9)=3,Mardi),AND(WEEKDAY(HT$9)=4,Mercredi),AND(WEEKDAY(HT$9)=5,Jeudi),AND(WEEKDAY(HT$9)=6,Vendredi),AND(WEEKDAY(HT$9)=7,Samedi),HT$9=férié),0,1)","v":0},{"$f":"IF(OR(AND(WEEKDAY(HU$9)=1,Dimanche),AND(WEEKDAY(HU$9)=2,Lundi),AND(WEEKDAY(HU$9)=3,Mardi),AND(WEEKDAY(HU$9)=4,Mercredi),AND(WEEKDAY(HU$9)=5,Jeudi),AND(WEEKDAY(HU$9)=6,Vendredi),AND(WEEKDAY(HU$9)=7,Samedi),HU$9=férié),0,1)","v":1},{"$f":"IF(OR(AND(WEEKDAY(HV$9)=1,Dimanche),AND(WEEKDAY(HV$9)=2,Lundi),AND(WEEKDAY(HV$9)=3,Mardi),AND(WEEKDAY(HV$9)=4,Mercredi),AND(WEEKDAY(HV$9)=5,Jeudi),AND(WEEKDAY(HV$9)=6,Vendredi),AND(WEEKDAY(HV$9)=7,Samedi),HV$9=férié),0,1)","v":0},{"$f":"IF(OR(AND(WEEKDAY(HW$9)=1,Dimanche),AND(WEEKDAY(HW$9)=2,Lundi),AND(WEEKDAY(HW$9)=3,Mardi),AND(WEEKDAY(HW$9)=4,Mercredi),AND(WEEKDAY(HW$9)=5,Jeudi),AND(WEEKDAY(HW$9)=6,Vendredi),AND(WEEKDAY(HW$9)=7,Samedi),HW$9=férié),0,1)","v":1},{"$f":"IF(OR(AND(WEEKDAY(HX$9)=1,Dimanche),AND(WEEKDAY(HX$9)=2,Lundi),AND(WEEKDAY(HX$9)=3,Mardi),AND(WEEKDAY(HX$9)=4,Mercredi),AND(WEEKDAY(HX$9)=5,Jeudi),AND(WEEKDAY(HX$9)=6,Vendredi),AND(WEEKDAY(HX$9)=7,Samedi),HX$9=férié),0,1)","v":1},{"$f":"IF(OR(AND(WEEKDAY(HY$9)=1,Dimanche),AND(WEEKDAY(HY$9)=2,Lundi),AND(WEEKDAY(HY$9)=3,Mardi),AND(WEEKDAY(HY$9)=4,Mercredi),AND(WEEKDAY(HY$9)=5,Jeudi),AND(WEEKDAY(HY$9)=6,Vendredi),AND(WEEKDAY(HY$9)=7,Samedi),HY$9=férié),0,1)","v":1},{"$f":"IF(OR(AND(WEEKDAY(HZ$9)=1,Dimanche),AND(WEEKDAY(HZ$9)=2,Lundi),AND(WEEKDAY(HZ$9)=3,Mardi),AND(WEEKDAY(HZ$9)=4,Mercredi),AND(WEEKDAY(HZ$9)=5,Jeudi),AND(WEEKDAY(HZ$9)=6,Vendredi),AND(WEEKDAY(HZ$9)=7,Samedi),HZ$9=férié),0,1)","v":0},{"$f":"IF(OR(AND(WEEKDAY(IA$9)=1,Dimanche),AND(WEEKDAY(IA$9)=2,Lundi),AND(WEEKDAY(IA$9)=3,Mardi),AND(WEEKDAY(IA$9)=4,Mercredi),AND(WEEKDAY(IA$9)=5,Jeudi),AND(WEEKDAY(IA$9)=6,Vendredi),AND(WEEKDAY(IA$9)=7,Samedi),IA$9=férié),0,1)","v":0},{"$f":"IF(OR(AND(WEEKDAY(IB$9)=1,Dimanche),AND(WEEKDAY(IB$9)=2,Lundi),AND(WEEKDAY(IB$9)=3,Mardi),AND(WEEKDAY(IB$9)=4,Mercredi),AND(WEEKDAY(IB$9)=5,Jeudi),AND(WEEKDAY(IB$9)=6,Vendredi),AND(WEEKDAY(IB$9)=7,Samedi),IB$9=férié),0,1)","v":1},{"$f":"IF(OR(AND(WEEKDAY(IC$9)=1,Dimanche),AND(WEEKDAY(IC$9)=2,Lundi),AND(WEEKDAY(IC$9)=3,Mardi),AND(WEEKDAY(IC$9)=4,Mercredi),AND(WEEKDAY(IC$9)=5,Jeudi),AND(WEEKDAY(IC$9)=6,Vendredi),AND(WEEKDAY(IC$9)=7,Samedi),IC$9=férié),0,1)","v":1},{"$f":"IF(OR(AND(WEEKDAY(ID$9)=1,Dimanche),AND(WEEKDAY(ID$9)=2,Lundi),AND(WEEKDAY(ID$9)=3,Mardi),AND(WEEKDAY(ID$9)=4,Mercredi),AND(WEEKDAY(ID$9)=5,Jeudi),AND(WEEKDAY(ID$9)=6,Vendredi),AND(WEEKDAY(ID$9)=7,Samedi),ID$9=férié),0,1)","v":1},{"$f":"IF(OR(AND(WEEKDAY(IE$9)=1,Dimanche),AND(WEEKDAY(IE$9)=2,Lundi),AND(WEEKDAY(IE$9)=3,Mardi),AND(WEEKDAY(IE$9)=4,Mercredi),AND(WEEKDAY(IE$9)=5,Jeudi),AND(WEEKDAY(IE$9)=6,Vendredi),AND(WEEKDAY(IE$9)=7,Samedi),IE$9=férié),0,1)","v":1},{"$f":"IF(OR(AND(WEEKDAY(IF$9)=1,Dimanche),AND(WEEKDAY(IF$9)=2,Lundi),AND(WEEKDAY(IF$9)=3,Mardi),AND(WEEKDAY(IF$9)=4,Mercredi),AND(WEEKDAY(IF$9)=5,Jeudi),AND(WEEKDAY(IF$9)=6,Vendredi),AND(WEEKDAY(IF$9)=7,Samedi),IF$9=férié),0,1)","v":1},{"$f":"IF(OR(AND(WEEKDAY(IG$9)=1,Dimanche),AND(WEEKDAY(IG$9)=2,Lundi),AND(WEEKDAY(IG$9)=3,Mardi),AND(WEEKDAY(IG$9)=4,Mercredi),AND(WEEKDAY(IG$9)=5,Jeudi),AND(WEEKDAY(IG$9)=6,Vendredi),AND(WEEKDAY(IG$9)=7,Samedi),IG$9=férié),0,1)","v":0},{"$f":"IF(OR(AND(WEEKDAY(IH$9)=1,Dimanche),AND(WEEKDAY(IH$9)=2,Lundi),AND(WEEKDAY(IH$9)=3,Mardi),AND(WEEKDAY(IH$9)=4,Mercredi),AND(WEEKDAY(IH$9)=5,Jeudi),AND(WEEKDAY(IH$9)=6,Vendredi),AND(WEEKDAY(IH$9)=7,Samedi),IH$9=férié),0,1)","v":0},{"$f":"IF(OR(AND(WEEKDAY(II$9)=1,Dimanche),AND(WEEKDAY(II$9)=2,Lundi),AND(WEEKDAY(II$9)=3,Mardi),AND(WEEKDAY(II$9)=4,Mercredi),AND(WEEKDAY(II$9)=5,Jeudi),AND(WEEKDAY(II$9)=6,Vendredi),AND(WEEKDAY(II$9)=7,Samedi),II$9=férié),0,1)","v":1},{"$f":"IF(OR(AND(WEEKDAY(IJ$9)=1,Dimanche),AND(WEEKDAY(IJ$9)=2,Lundi),AND(WEEKDAY(IJ$9)=3,Mardi),AND(WEEKDAY(IJ$9)=4,Mercredi),AND(WEEKDAY(IJ$9)=5,Jeudi),AND(WEEKDAY(IJ$9)=6,Vendredi),AND(WEEKDAY(IJ$9)=7,Samedi),IJ$9=férié),0,1)","v":1},{"$f":"IF(OR(AND(WEEKDAY(IK$9)=1,Dimanche),AND(WEEKDAY(IK$9)=2,Lundi),AND(WEEKDAY(IK$9)=3,Mardi),AND(WEEKDAY(IK$9)=4,Mercredi),AND(WEEKDAY(IK$9)=5,Jeudi),AND(WEEKDAY(IK$9)=6,Vendredi),AND(WEEKDAY(IK$9)=7,Samedi),IK$9=férié),0,1)","v":1},{"$f":"IF(OR(AND(WEEKDAY(IL$9)=1,Dimanche),AND(WEEKDAY(IL$9)=2,Lundi),AND(WEEKDAY(IL$9)=3,Mardi),AND(WEEKDAY(IL$9)=4,Mercredi),AND(WEEKDAY(IL$9)=5,Jeudi),AND(WEEKDAY(IL$9)=6,Vendredi),AND(WEEKDAY(IL$9)=7,Samedi),IL$9=férié),0,1)","v":1},{"$f":"IF(OR(AND(WEEKDAY(IM$9)=1,Dimanche),AND(WEEKDAY(IM$9)=2,Lundi),AND(WEEKDAY(IM$9)=3,Mardi),AND(WEEKDAY(IM$9)=4,Mercredi),AND(WEEKDAY(IM$9)=5,Jeudi),AND(WEEKDAY(IM$9)=6,Vendredi),AND(WEEKDAY(IM$9)=7,Samedi),IM$9=férié),0,1)","v":1},{"$f":"IF(OR(AND(WEEKDAY(IN$9)=1,Dimanche),AND(WEEKDAY(IN$9)=2,Lundi),AND(WEEKDAY(IN$9)=3,Mardi),AND(WEEKDAY(IN$9)=4,Mercredi),AND(WEEKDAY(IN$9)=5,Jeudi),AND(WEEKDAY(IN$9)=6,Vendredi),AND(WEEKDAY(IN$9)=7,Samedi),IN$9=férié),0,1)","v":0},{"$f":"IF(OR(AND(WEEKDAY(IO$9)=1,Dimanche),AND(WEEKDAY(IO$9)=2,Lundi),AND(WEEKDAY(IO$9)=3,Mardi),AND(WEEKDAY(IO$9)=4,Mercredi),AND(WEEKDAY(IO$9)=5,Jeudi),AND(WEEKDAY(IO$9)=6,Vendredi),AND(WEEKDAY(IO$9)=7,Samedi),IO$9=férié),0,1)","v":0},{"$f":"IF(OR(AND(WEEKDAY(IP$9)=1,Dimanche),AND(WEEKDAY(IP$9)=2,Lundi),AND(WEEKDAY(IP$9)=3,Mardi),AND(WEEKDAY(IP$9)=4,Mercredi),AND(WEEKDAY(IP$9)=5,Jeudi),AND(WEEKDAY(IP$9)=6,Vendredi),AND(WEEKDAY(IP$9)=7,Samedi),IP$9=férié),0,1)","v":1},{"$f":"IF(OR(AND(WEEKDAY(IQ$9)=1,Dimanche),AND(WEEKDAY(IQ$9)=2,Lundi),AND(WEEKDAY(IQ$9)=3,Mardi),AND(WEEKDAY(IQ$9)=4,Mercredi),AND(WEEKDAY(IQ$9)=5,Jeudi),AND(WEEKDAY(IQ$9)=6,Vendredi),AND(WEEKDAY(IQ$9)=7,Samedi),IQ$9=férié),0,1)","v":1},{"$f":"IF(OR(AND(WEEKDAY(IR$9)=1,Dimanche),AND(WEEKDAY(IR$9)=2,Lundi),AND(WEEKDAY(IR$9)=3,Mardi),AND(WEEKDAY(IR$9)=4,Mercredi),AND(WEEKDAY(IR$9)=5,Jeudi),AND(WEEKDAY(IR$9)=6,Vendredi),AND(WEEKDAY(IR$9)=7,Samedi),IR$9=férié),0,1)","v":1},{"$f":"IF(OR(AND(WEEKDAY(IS$9)=1,Dimanche),AND(WEEKDAY(IS$9)=2,Lundi),AND(WEEKDAY(IS$9)=3,Mardi),AND(WEEKDAY(IS$9)=4,Mercredi),AND(WEEKDAY(IS$9)=5,Jeudi),AND(WEEKDAY(IS$9)=6,Vendredi),AND(WEEKDAY(IS$9)=7,Samedi),IS$9=férié),0,1)","v":1},{"$f":"IF(OR(AND(WEEKDAY(IT$9)=1,Dimanche),AND(WEEKDAY(IT$9)=2,Lundi),AND(WEEKDAY(IT$9)=3,Mardi),AND(WEEKDAY(IT$9)=4,Mercredi),AND(WEEKDAY(IT$9)=5,Jeudi),AND(WEEKDAY(IT$9)=6,Vendredi),AND(WEEKDAY(IT$9)=7,Samedi),IT$9=férié),0,1)","v":1},{"$f":"IF(OR(AND(WEEKDAY(IU$9)=1,Dimanche),AND(WEEKDAY(IU$9)=2,Lundi),AND(WEEKDAY(IU$9)=3,Mardi),AND(WEEKDAY(IU$9)=4,Mercredi),AND(WEEKDAY(IU$9)=5,Jeudi),AND(WEEKDAY(IU$9)=6,Vendredi),AND(WEEKDAY(IU$9)=7,Samedi),IU$9=férié),0,1)","v":0},{"$f":"IF(OR(AND(WEEKDAY(IV$9)=1,Dimanche),AND(WEEKDAY(IV$9)=2,Lundi),AND(WEEKDAY(IV$9)=3,Mardi),AND(WEEKDAY(IV$9)=4,Mercredi),AND(WEEKDAY(IV$9)=5,Jeudi),AND(WEEKDAY(IV$9)=6,Vendredi),AND(WEEKDAY(IV$9)=7,Samedi),IV$9=férié),0,1)","v":0},{"$f":"IF(OR(AND(WEEKDAY(IW$9)=1,Dimanche),AND(WEEKDAY(IW$9)=2,Lundi),AND(WEEKDAY(IW$9)=3,Mardi),AND(WEEKDAY(IW$9)=4,Mercredi),AND(WEEKDAY(IW$9)=5,Jeudi),AND(WEEKDAY(IW$9)=6,Vendredi),AND(WEEKDAY(IW$9)=7,Samedi),IW$9=férié),0,1)","v":1},{"$f":"IF(OR(AND(WEEKDAY(IX$9)=1,Dimanche),AND(WEEKDAY(IX$9)=2,Lundi),AND(WEEKDAY(IX$9)=3,Mardi),AND(WEEKDAY(IX$9)=4,Mercredi),AND(WEEKDAY(IX$9)=5,Jeudi),AND(WEEKDAY(IX$9)=6,Vendredi),AND(WEEKDAY(IX$9)=7,Samedi),IX$9=férié),0,1)","v":1},{"$f":"IF(OR(AND(WEEKDAY(IY$9)=1,Dimanche),AND(WEEKDAY(IY$9)=2,Lundi),AND(WEEKDAY(IY$9)=3,Mardi),AND(WEEKDAY(IY$9)=4,Mercredi),AND(WEEKDAY(IY$9)=5,Jeudi),AND(WEEKDAY(IY$9)=6,Vendredi),AND(WEEKDAY(IY$9)=7,Samedi),IY$9=férié),0,1)","v":1},{"$f":"IF(OR(AND(WEEKDAY(IZ$9)=1,Dimanche),AND(WEEKDAY(IZ$9)=2,Lundi),AND(WEEKDAY(IZ$9)=3,Mardi),AND(WEEKDAY(IZ$9)=4,Mercredi),AND(WEEKDAY(IZ$9)=5,Jeudi),AND(WEEKDAY(IZ$9)=6,Vendredi),AND(WEEKDAY(IZ$9)=7,Samedi),IZ$9=férié),0,1)","v":1},{"$f":"IF(OR(AND(WEEKDAY(JA$9)=1,Dimanche),AND(WEEKDAY(JA$9)=2,Lundi),AND(WEEKDAY(JA$9)=3,Mardi),AND(WEEKDAY(JA$9)=4,Mercredi),AND(WEEKDAY(JA$9)=5,Jeudi),AND(WEEKDAY(JA$9)=6,Vendredi),AND(WEEKDAY(JA$9)=7,Samedi),JA$9=férié),0,1)","v":1},{"$f":"IF(OR(AND(WEEKDAY(JB$9)=1,Dimanche),AND(WEEKDAY(JB$9)=2,Lundi),AND(WEEKDAY(JB$9)=3,Mardi),AND(WEEKDAY(JB$9)=4,Mercredi),AND(WEEKDAY(JB$9)=5,Jeudi),AND(WEEKDAY(JB$9)=6,Vendredi),AND(WEEKDAY(JB$9)=7,Samedi),JB$9=férié),0,1)","v":0},{"$f":"IF(OR(AND(WEEKDAY(JC$9)=1,Dimanche),AND(WEEKDAY(JC$9)=2,Lundi),AND(WEEKDAY(JC$9)=3,Mardi),AND(WEEKDAY(JC$9)=4,Mercredi),AND(WEEKDAY(JC$9)=5,Jeudi),AND(WEEKDAY(JC$9)=6,Vendredi),AND(WEEKDAY(JC$9)=7,Samedi),JC$9=férié),0,1)","v":0},{"$f":"IF(OR(AND(WEEKDAY(JD$9)=1,Dimanche),AND(WEEKDAY(JD$9)=2,Lundi),AND(WEEKDAY(JD$9)=3,Mardi),AND(WEEKDAY(JD$9)=4,Mercredi),AND(WEEKDAY(JD$9)=5,Jeudi),AND(WEEKDAY(JD$9)=6,Vendredi),AND(WEEKDAY(JD$9)=7,Samedi),JD$9=férié),0,1)","v":1},{"$f":"IF(OR(AND(WEEKDAY(JE$9)=1,Dimanche),AND(WEEKDAY(JE$9)=2,Lundi),AND(WEEKDAY(JE$9)=3,Mardi),AND(WEEKDAY(JE$9)=4,Mercredi),AND(WEEKDAY(JE$9)=5,Jeudi),AND(WEEKDAY(JE$9)=6,Vendredi),AND(WEEKDAY(JE$9)=7,Samedi),JE$9=férié),0,1)","v":1},{"$f":"IF(OR(AND(WEEKDAY(JF$9)=1,Dimanche),AND(WEEKDAY(JF$9)=2,Lundi),AND(WEEKDAY(JF$9)=3,Mardi),AND(WEEKDAY(JF$9)=4,Mercredi),AND(WEEKDAY(JF$9)=5,Jeudi),AND(WEEKDAY(JF$9)=6,Vendredi),AND(WEEKDAY(JF$9)=7,Samedi),JF$9=férié),0,1)","v":1},{"$f":"IF(OR(AND(WEEKDAY(JG$9)=1,Dimanche),AND(WEEKDAY(JG$9)=2,Lundi),AND(WEEKDAY(JG$9)=3,Mardi),AND(WEEKDAY(JG$9)=4,Mercredi),AND(WEEKDAY(JG$9)=5,Jeudi),AND(WEEKDAY(JG$9)=6,Vendredi),AND(WEEKDAY(JG$9)=7,Samedi),JG$9=férié),0,1)","v":1},{"$f":"IF(OR(AND(WEEKDAY(JH$9)=1,Dimanche),AND(WEEKDAY(JH$9)=2,Lundi),AND(WEEKDAY(JH$9)=3,Mardi),AND(WEEKDAY(JH$9)=4,Mercredi),AND(WEEKDAY(JH$9)=5,Jeudi),AND(WEEKDAY(JH$9)=6,Vendredi),AND(WEEKDAY(JH$9)=7,Samedi),JH$9=férié),0,1)","v":1},{"$f":"IF(OR(AND(WEEKDAY(JI$9)=1,Dimanche),AND(WEEKDAY(JI$9)=2,Lundi),AND(WEEKDAY(JI$9)=3,Mardi),AND(WEEKDAY(JI$9)=4,Mercredi),AND(WEEKDAY(JI$9)=5,Jeudi),AND(WEEKDAY(JI$9)=6,Vendredi),AND(WEEKDAY(JI$9)=7,Samedi),JI$9=férié),0,1)","v":0},{"$f":"IF(OR(AND(WEEKDAY(JJ$9)=1,Dimanche),AND(WEEKDAY(JJ$9)=2,Lundi),AND(WEEKDAY(JJ$9)=3,Mardi),AND(WEEKDAY(JJ$9)=4,Mercredi),AND(WEEKDAY(JJ$9)=5,Jeudi),AND(WEEKDAY(JJ$9)=6,Vendredi),AND(WEEKDAY(JJ$9)=7,Samedi),JJ$9=férié),0,1)","v":0},{"$f":"IF(OR(AND(WEEKDAY(JK$9)=1,Dimanche),AND(WEEKDAY(JK$9)=2,Lundi),AND(WEEKDAY(JK$9)=3,Mardi),AND(WEEKDAY(JK$9)=4,Mercredi),AND(WEEKDAY(JK$9)=5,Jeudi),AND(WEEKDAY(JK$9)=6,Vendredi),AND(WEEKDAY(JK$9)=7,Samedi),JK$9=férié),0,1)","v":1},{"$f":"IF(OR(AND(WEEKDAY(JL$9)=1,Dimanche),AND(WEEKDAY(JL$9)=2,Lundi),AND(WEEKDAY(JL$9)=3,Mardi),AND(WEEKDAY(JL$9)=4,Mercredi),AND(WEEKDAY(JL$9)=5,Jeudi),AND(WEEKDAY(JL$9)=6,Vendredi),AND(WEEKDAY(JL$9)=7,Samedi),JL$9=férié),0,1)","v":1},{"$f":"IF(OR(AND(WEEKDAY(JM$9)=1,Dimanche),AND(WEEKDAY(JM$9)=2,Lundi),AND(WEEKDAY(JM$9)=3,Mardi),AND(WEEKDAY(JM$9)=4,Mercredi),AND(WEEKDAY(JM$9)=5,Jeudi),AND(WEEKDAY(JM$9)=6,Vendredi),AND(WEEKDAY(JM$9)=7,Samedi),JM$9=férié),0,1)","v":1},{"$f":"IF(OR(AND(WEEKDAY(JN$9)=1,Dimanche),AND(WEEKDAY(JN$9)=2,Lundi),AND(WEEKDAY(JN$9)=3,Mardi),AND(WEEKDAY(JN$9)=4,Mercredi),AND(WEEKDAY(JN$9)=5,Jeudi),AND(WEEKDAY(JN$9)=6,Vendredi),AND(WEEKDAY(JN$9)=7,Samedi),JN$9=férié),0,1)","v":1},{"$f":"IF(OR(AND(WEEKDAY(JO$9)=1,Dimanche),AND(WEEKDAY(JO$9)=2,Lundi),AND(WEEKDAY(JO$9)=3,Mardi),AND(WEEKDAY(JO$9)=4,Mercredi),AND(WEEKDAY(JO$9)=5,Jeudi),AND(WEEKDAY(JO$9)=6,Vendredi),AND(WEEKDAY(JO$9)=7,Samedi),JO$9=férié),0,1)","v":1},{"$f":"IF(OR(AND(WEEKDAY(JP$9)=1,Dimanche),AND(WEEKDAY(JP$9)=2,Lundi),AND(WEEKDAY(JP$9)=3,Mardi),AND(WEEKDAY(JP$9)=4,Mercredi),AND(WEEKDAY(JP$9)=5,Jeudi),AND(WEEKDAY(JP$9)=6,Vendredi),AND(WEEKDAY(JP$9)=7,Samedi),JP$9=férié),0,1)","v":0},{"$f":"IF(OR(AND(WEEKDAY(JQ$9)=1,Dimanche),AND(WEEKDAY(JQ$9)=2,Lundi),AND(WEEKDAY(JQ$9)=3,Mardi),AND(WEEKDAY(JQ$9)=4,Mercredi),AND(WEEKDAY(JQ$9)=5,Jeudi),AND(WEEKDAY(JQ$9)=6,Vendredi),AND(WEEKDAY(JQ$9)=7,Samedi),JQ$9=férié),0,1)","v":0},{"$f":"IF(OR(AND(WEEKDAY(JR$9)=1,Dimanche),AND(WEEKDAY(JR$9)=2,Lundi),AND(WEEKDAY(JR$9)=3,Mardi),AND(WEEKDAY(JR$9)=4,Mercredi),AND(WEEKDAY(JR$9)=5,Jeudi),AND(WEEKDAY(JR$9)=6,Vendredi),AND(WEEKDAY(JR$9)=7,Samedi),JR$9=férié),0,1)","v":1},{"$f":"IF(OR(AND(WEEKDAY(JS$9)=1,Dimanche),AND(WEEKDAY(JS$9)=2,Lundi),AND(WEEKDAY(JS$9)=3,Mardi),AND(WEEKDAY(JS$9)=4,Mercredi),AND(WEEKDAY(JS$9)=5,Jeudi),AND(WEEKDAY(JS$9)=6,Vendredi),AND(WEEKDAY(JS$9)=7,Samedi),JS$9=férié),0,1)","v":1},{"$f":"IF(OR(AND(WEEKDAY(JT$9)=1,Dimanche),AND(WEEKDAY(JT$9)=2,Lundi),AND(WEEKDAY(JT$9)=3,Mardi),AND(WEEKDAY(JT$9)=4,Mercredi),AND(WEEKDAY(JT$9)=5,Jeudi),AND(WEEKDAY(JT$9)=6,Vendredi),AND(WEEKDAY(JT$9)=7,Samedi),JT$9=férié),0,1)","v":1},{"$f":"IF(OR(AND(WEEKDAY(JU$9)=1,Dimanche),AND(WEEKDAY(JU$9)=2,Lundi),AND(WEEKDAY(JU$9)=3,Mardi),AND(WEEKDAY(JU$9)=4,Mercredi),AND(WEEKDAY(JU$9)=5,Jeudi),AND(WEEKDAY(JU$9)=6,Vendredi),AND(WEEKDAY(JU$9)=7,Samedi),JU$9=férié),0,1)","v":1},{"$f":"IF(OR(AND(WEEKDAY(JV$9)=1,Dimanche),AND(WEEKDAY(JV$9)=2,Lundi),AND(WEEKDAY(JV$9)=3,Mardi),AND(WEEKDAY(JV$9)=4,Mercredi),AND(WEEKDAY(JV$9)=5,Jeudi),AND(WEEKDAY(JV$9)=6,Vendredi),AND(WEEKDAY(JV$9)=7,Samedi),JV$9=férié),0,1)","v":1},{"$f":"IF(OR(AND(WEEKDAY(JW$9)=1,Dimanche),AND(WEEKDAY(JW$9)=2,Lundi),AND(WEEKDAY(JW$9)=3,Mardi),AND(WEEKDAY(JW$9)=4,Mercredi),AND(WEEKDAY(JW$9)=5,Jeudi),AND(WEEKDAY(JW$9)=6,Vendredi),AND(WEEKDAY(JW$9)=7,Samedi),JW$9=férié),0,1)","v":0},{"$f":"IF(OR(AND(WEEKDAY(JX$9)=1,Dimanche),AND(WEEKDAY(JX$9)=2,Lundi),AND(WEEKDAY(JX$9)=3,Mardi),AND(WEEKDAY(JX$9)=4,Mercredi),AND(WEEKDAY(JX$9)=5,Jeudi),AND(WEEKDAY(JX$9)=6,Vendredi),AND(WEEKDAY(JX$9)=7,Samedi),JX$9=férié),0,1)","v":0},{"$f":"IF(OR(AND(WEEKDAY(JY$9)=1,Dimanche),AND(WEEKDAY(JY$9)=2,Lundi),AND(WEEKDAY(JY$9)=3,Mardi),AND(WEEKDAY(JY$9)=4,Mercredi),AND(WEEKDAY(JY$9)=5,Jeudi),AND(WEEKDAY(JY$9)=6,Vendredi),AND(WEEKDAY(JY$9)=7,Samedi),JY$9=férié),0,1)","v":1},{"$f":"IF(OR(AND(WEEKDAY(JZ$9)=1,Dimanche),AND(WEEKDAY(JZ$9)=2,Lundi),AND(WEEKDAY(JZ$9)=3,Mardi),AND(WEEKDAY(JZ$9)=4,Mercredi),AND(WEEKDAY(JZ$9)=5,Jeudi),AND(WEEKDAY(JZ$9)=6,Vendredi),AND(WEEKDAY(JZ$9)=7,Samedi),JZ$9=férié),0,1)","v":1},{"$f":"IF(OR(AND(WEEKDAY(KA$9)=1,Dimanche),AND(WEEKDAY(KA$9)=2,Lundi),AND(WEEKDAY(KA$9)=3,Mardi),AND(WEEKDAY(KA$9)=4,Mercredi),AND(WEEKDAY(KA$9)=5,Jeudi),AND(WEEKDAY(KA$9)=6,Vendredi),AND(WEEKDAY(KA$9)=7,Samedi),KA$9=férié),0,1)","v":1},{"$f":"IF(OR(AND(WEEKDAY(KB$9)=1,Dimanche),AND(WEEKDAY(KB$9)=2,Lundi),AND(WEEKDAY(KB$9)=3,Mardi),AND(WEEKDAY(KB$9)=4,Mercredi),AND(WEEKDAY(KB$9)=5,Jeudi),AND(WEEKDAY(KB$9)=6,Vendredi),AND(WEEKDAY(KB$9)=7,Samedi),KB$9=férié),0,1)","v":1},{"$f":"IF(OR(AND(WEEKDAY(KC$9)=1,Dimanche),AND(WEEKDAY(KC$9)=2,Lundi),AND(WEEKDAY(KC$9)=3,Mardi),AND(WEEKDAY(KC$9)=4,Mercredi),AND(WEEKDAY(KC$9)=5,Jeudi),AND(WEEKDAY(KC$9)=6,Vendredi),AND(WEEKDAY(KC$9)=7,Samedi),KC$9=férié),0,1)","v":1},{"$f":"IF(OR(AND(WEEKDAY(KD$9)=1,Dimanche),AND(WEEKDAY(KD$9)=2,Lundi),AND(WEEKDAY(KD$9)=3,Mardi),AND(WEEKDAY(KD$9)=4,Mercredi),AND(WEEKDAY(KD$9)=5,Jeudi),AND(WEEKDAY(KD$9)=6,Vendredi),AND(WEEKDAY(KD$9)=7,Samedi),KD$9=férié),0,1)","v":0},{"$f":"IF(OR(AND(WEEKDAY(KE$9)=1,Dimanche),AND(WEEKDAY(KE$9)=2,Lundi),AND(WEEKDAY(KE$9)=3,Mardi),AND(WEEKDAY(KE$9)=4,Mercredi),AND(WEEKDAY(KE$9)=5,Jeudi),AND(WEEKDAY(KE$9)=6,Vendredi),AND(WEEKDAY(KE$9)=7,Samedi),KE$9=férié),0,1)","v":0},{"$f":"IF(OR(AND(WEEKDAY(KF$9)=1,Dimanche),AND(WEEKDAY(KF$9)=2,Lundi),AND(WEEKDAY(KF$9)=3,Mardi),AND(WEEKDAY(KF$9)=4,Mercredi),AND(WEEKDAY(KF$9)=5,Jeudi),AND(WEEKDAY(KF$9)=6,Vendredi),AND(WEEKDAY(KF$9)=7,Samedi),KF$9=férié),0,1)","v":1},{"$f":"IF(OR(AND(WEEKDAY(KG$9)=1,Dimanche),AND(WEEKDAY(KG$9)=2,Lundi),AND(WEEKDAY(KG$9)=3,Mardi),AND(WEEKDAY(KG$9)=4,Mercredi),AND(WEEKDAY(KG$9)=5,Jeudi),AND(WEEKDAY(KG$9)=6,Vendredi),AND(WEEKDAY(KG$9)=7,Samedi),KG$9=férié),0,1)","v":1},{"$f":"IF(OR(AND(WEEKDAY(KH$9)=1,Dimanche),AND(WEEKDAY(KH$9)=2,Lundi),AND(WEEKDAY(KH$9)=3,Mardi),AND(WEEKDAY(KH$9)=4,Mercredi),AND(WEEKDAY(KH$9)=5,Jeudi),AND(WEEKDAY(KH$9)=6,Vendredi),AND(WEEKDAY(KH$9)=7,Samedi),KH$9=férié),0,1)","v":1},{"$f":"IF(OR(AND(WEEKDAY(KI$9)=1,Dimanche),AND(WEEKDAY(KI$9)=2,Lundi),AND(WEEKDAY(KI$9)=3,Mardi),AND(WEEKDAY(KI$9)=4,Mercredi),AND(WEEKDAY(KI$9)=5,Jeudi),AND(WEEKDAY(KI$9)=6,Vendredi),AND(WEEKDAY(KI$9)=7,Samedi),KI$9=férié),0,1)","v":1},{"$f":"IF(OR(AND(WEEKDAY(KJ$9)=1,Dimanche),AND(WEEKDAY(KJ$9)=2,Lundi),AND(WEEKDAY(KJ$9)=3,Mardi),AND(WEEKDAY(KJ$9)=4,Mercredi),AND(WEEKDAY(KJ$9)=5,Jeudi),AND(WEEKDAY(KJ$9)=6,Vendredi),AND(WEEKDAY(KJ$9)=7,Samedi),KJ$9=férié),0,1)","v":1},{"$f":"IF(OR(AND(WEEKDAY(KK$9)=1,Dimanche),AND(WEEKDAY(KK$9)=2,Lundi),AND(WEEKDAY(KK$9)=3,Mardi),AND(WEEKDAY(KK$9)=4,Mercredi),AND(WEEKDAY(KK$9)=5,Jeudi),AND(WEEKDAY(KK$9)=6,Vendredi),AND(WEEKDAY(KK$9)=7,Samedi),KK$9=férié),0,1)","v":0},{"$f":"IF(OR(AND(WEEKDAY(KL$9)=1,Dimanche),AND(WEEKDAY(KL$9)=2,Lundi),AND(WEEKDAY(KL$9)=3,Mardi),AND(WEEKDAY(KL$9)=4,Mercredi),AND(WEEKDAY(KL$9)=5,Jeudi),AND(WEEKDAY(KL$9)=6,Vendredi),AND(WEEKDAY(KL$9)=7,Samedi),KL$9=férié),0,1)","v":0},{"$f":"IF(OR(AND(WEEKDAY(KM$9)=1,Dimanche),AND(WEEKDAY(KM$9)=2,Lundi),AND(WEEKDAY(KM$9)=3,Mardi),AND(WEEKDAY(KM$9)=4,Mercredi),AND(WEEKDAY(KM$9)=5,Jeudi),AND(WEEKDAY(KM$9)=6,Vendredi),AND(WEEKDAY(KM$9)=7,Samedi),KM$9=férié),0,1)","v":1},{"$f":"IF(OR(AND(WEEKDAY(KN$9)=1,Dimanche),AND(WEEKDAY(KN$9)=2,Lundi),AND(WEEKDAY(KN$9)=3,Mardi),AND(WEEKDAY(KN$9)=4,Mercredi),AND(WEEKDAY(KN$9)=5,Jeudi),AND(WEEKDAY(KN$9)=6,Vendredi),AND(WEEKDAY(KN$9)=7,Samedi),KN$9=férié),0,1)","v":1},{"$f":"IF(OR(AND(WEEKDAY(KO$9)=1,Dimanche),AND(WEEKDAY(KO$9)=2,Lundi),AND(WEEKDAY(KO$9)=3,Mardi),AND(WEEKDAY(KO$9)=4,Mercredi),AND(WEEKDAY(KO$9)=5,Jeudi),AND(WEEKDAY(KO$9)=6,Vendredi),AND(WEEKDAY(KO$9)=7,Samedi),KO$9=férié),0,1)","v":1},{"$f":"IF(OR(AND(WEEKDAY(KP$9)=1,Dimanche),AND(WEEKDAY(KP$9)=2,Lundi),AND(WEEKDAY(KP$9)=3,Mardi),AND(WEEKDAY(KP$9)=4,Mercredi),AND(WEEKDAY(KP$9)=5,Jeudi),AND(WEEKDAY(KP$9)=6,Vendredi),AND(WEEKDAY(KP$9)=7,Samedi),KP$9=férié),0,1)","v":1},{"$f":"IF(OR(AND(WEEKDAY(KQ$9)=1,Dimanche),AND(WEEKDAY(KQ$9)=2,Lundi),AND(WEEKDAY(KQ$9)=3,Mardi),AND(WEEKDAY(KQ$9)=4,Mercredi),AND(WEEKDAY(KQ$9)=5,Jeudi),AND(WEEKDAY(KQ$9)=6,Vendredi),AND(WEEKDAY(KQ$9)=7,Samedi),KQ$9=férié),0,1)","v":1},{"$f":"IF(OR(AND(WEEKDAY(KR$9)=1,Dimanche),AND(WEEKDAY(KR$9)=2,Lundi),AND(WEEKDAY(KR$9)=3,Mardi),AND(WEEKDAY(KR$9)=4,Mercredi),AND(WEEKDAY(KR$9)=5,Jeudi),AND(WEEKDAY(KR$9)=6,Vendredi),AND(WEEKDAY(KR$9)=7,Samedi),KR$9=férié),0,1)","v":0},{"$f":"IF(OR(AND(WEEKDAY(KS$9)=1,Dimanche),AND(WEEKDAY(KS$9)=2,Lundi),AND(WEEKDAY(KS$9)=3,Mardi),AND(WEEKDAY(KS$9)=4,Mercredi),AND(WEEKDAY(KS$9)=5,Jeudi),AND(WEEKDAY(KS$9)=6,Vendredi),AND(WEEKDAY(KS$9)=7,Samedi),KS$9=férié),0,1)","v":0},{"$f":"IF(OR(AND(WEEKDAY(KT$9)=1,Dimanche),AND(WEEKDAY(KT$9)=2,Lundi),AND(WEEKDAY(KT$9)=3,Mardi),AND(WEEKDAY(KT$9)=4,Mercredi),AND(WEEKDAY(KT$9)=5,Jeudi),AND(WEEKDAY(KT$9)=6,Vendredi),AND(WEEKDAY(KT$9)=7,Samedi),KT$9=férié),0,1)","v":1},{"$f":"IF(OR(AND(WEEKDAY(KU$9)=1,Dimanche),AND(WEEKDAY(KU$9)=2,Lundi),AND(WEEKDAY(KU$9)=3,Mardi),AND(WEEKDAY(KU$9)=4,Mercredi),AND(WEEKDAY(KU$9)=5,Jeudi),AND(WEEKDAY(KU$9)=6,Vendredi),AND(WEEKDAY(KU$9)=7,Samedi),KU$9=férié),0,1)","v":1},{"$f":"IF(OR(AND(WEEKDAY(KV$9)=1,Dimanche),AND(WEEKDAY(KV$9)=2,Lundi),AND(WEEKDAY(KV$9)=3,Mardi),AND(WEEKDAY(KV$9)=4,Mercredi),AND(WEEKDAY(KV$9)=5,Jeudi),AND(WEEKDAY(KV$9)=6,Vendredi),AND(WEEKDAY(KV$9)=7,Samedi),KV$9=férié),0,1)","v":0},{"$f":"IF(OR(AND(WEEKDAY(KW$9)=1,Dimanche),AND(WEEKDAY(KW$9)=2,Lundi),AND(WEEKDAY(KW$9)=3,Mardi),AND(WEEKDAY(KW$9)=4,Mercredi),AND(WEEKDAY(KW$9)=5,Jeudi),AND(WEEKDAY(KW$9)=6,Vendredi),AND(WEEKDAY(KW$9)=7,Samedi),KW$9=férié),0,1)","v":1},{"$f":"IF(OR(AND(WEEKDAY(KX$9)=1,Dimanche),AND(WEEKDAY(KX$9)=2,Lundi),AND(WEEKDAY(KX$9)=3,Mardi),AND(WEEKDAY(KX$9)=4,Mercredi),AND(WEEKDAY(KX$9)=5,Jeudi),AND(WEEKDAY(KX$9)=6,Vendredi),AND(WEEKDAY(KX$9)=7,Samedi),KX$9=férié),0,1)","v":1},{"$f":"IF(OR(AND(WEEKDAY(KY$9)=1,Dimanche),AND(WEEKDAY(KY$9)=2,Lundi),AND(WEEKDAY(KY$9)=3,Mardi),AND(WEEKDAY(KY$9)=4,Mercredi),AND(WEEKDAY(KY$9)=5,Jeudi),AND(WEEKDAY(KY$9)=6,Vendredi),AND(WEEKDAY(KY$9)=7,Samedi),KY$9=férié),0,1)","v":0},{"$f":"IF(OR(AND(WEEKDAY(KZ$9)=1,Dimanche),AND(WEEKDAY(KZ$9)=2,Lundi),AND(WEEKDAY(KZ$9)=3,Mardi),AND(WEEKDAY(KZ$9)=4,Mercredi),AND(WEEKDAY(KZ$9)=5,Jeudi),AND(WEEKDAY(KZ$9)=6,Vendredi),AND(WEEKDAY(KZ$9)=7,Samedi),KZ$9=férié),0,1)","v":0},{"$f":"IF(OR(AND(WEEKDAY(LA$9)=1,Dimanche),AND(WEEKDAY(LA$9)=2,Lundi),AND(WEEKDAY(LA$9)=3,Mardi),AND(WEEKDAY(LA$9)=4,Mercredi),AND(WEEKDAY(LA$9)=5,Jeudi),AND(WEEKDAY(LA$9)=6,Vendredi),AND(WEEKDAY(LA$9)=7,Samedi),LA$9=férié),0,1)","v":1},{"$f":"IF(OR(AND(WEEKDAY(LB$9)=1,Dimanche),AND(WEEKDAY(LB$9)=2,Lundi),AND(WEEKDAY(LB$9)=3,Mardi),AND(WEEKDAY(LB$9)=4,Mercredi),AND(WEEKDAY(LB$9)=5,Jeudi),AND(WEEKDAY(LB$9)=6,Vendredi),AND(WEEKDAY(LB$9)=7,Samedi),LB$9=férié),0,1)","v":1},{"$f":"IF(OR(AND(WEEKDAY(LC$9)=1,Dimanche),AND(WEEKDAY(LC$9)=2,Lundi),AND(WEEKDAY(LC$9)=3,Mardi),AND(WEEKDAY(LC$9)=4,Mercredi),AND(WEEKDAY(LC$9)=5,Jeudi),AND(WEEKDAY(LC$9)=6,Vendredi),AND(WEEKDAY(LC$9)=7,Samedi),LC$9=férié),0,1)","v":1},{"$f":"IF(OR(AND(WEEKDAY(LD$9)=1,Dimanche),AND(WEEKDAY(LD$9)=2,Lundi),AND(WEEKDAY(LD$9)=3,Mardi),AND(WEEKDAY(LD$9)=4,Mercredi),AND(WEEKDAY(LD$9)=5,Jeudi),AND(WEEKDAY(LD$9)=6,Vendredi),AND(WEEKDAY(LD$9)=7,Samedi),LD$9=férié),0,1)","v":1},{"$f":"IF(OR(AND(WEEKDAY(LE$9)=1,Dimanche),AND(WEEKDAY(LE$9)=2,Lundi),AND(WEEKDAY(LE$9)=3,Mardi),AND(WEEKDAY(LE$9)=4,Mercredi),AND(WEEKDAY(LE$9)=5,Jeudi),AND(WEEKDAY(LE$9)=6,Vendredi),AND(WEEKDAY(LE$9)=7,Samedi),LE$9=férié),0,1)","v":1},{"$f":"IF(OR(AND(WEEKDAY(LF$9)=1,Dimanche),AND(WEEKDAY(LF$9)=2,Lundi),AND(WEEKDAY(LF$9)=3,Mardi),AND(WEEKDAY(LF$9)=4,Mercredi),AND(WEEKDAY(LF$9)=5,Jeudi),AND(WEEKDAY(LF$9)=6,Vendredi),AND(WEEKDAY(LF$9)=7,Samedi),LF$9=férié),0,1)","v":0},{"$f":"IF(OR(AND(WEEKDAY(LG$9)=1,Dimanche),AND(WEEKDAY(LG$9)=2,Lundi),AND(WEEKDAY(LG$9)=3,Mardi),AND(WEEKDAY(LG$9)=4,Mercredi),AND(WEEKDAY(LG$9)=5,Jeudi),AND(WEEKDAY(LG$9)=6,Vendredi),AND(WEEKDAY(LG$9)=7,Samedi),LG$9=férié),0,1)","v":0},{"$f":"IF(OR(AND(WEEKDAY(LH$9)=1,Dimanche),AND(WEEKDAY(LH$9)=2,Lundi),AND(WEEKDAY(LH$9)=3,Mardi),AND(WEEKDAY(LH$9)=4,Mercredi),AND(WEEKDAY(LH$9)=5,Jeudi),AND(WEEKDAY(LH$9)=6,Vendredi),AND(WEEKDAY(LH$9)=7,Samedi),LH$9=férié),0,1)","v":1},{"$f":"IF(OR(AND(WEEKDAY(LI$9)=1,Dimanche),AND(WEEKDAY(LI$9)=2,Lundi),AND(WEEKDAY(LI$9)=3,Mardi),AND(WEEKDAY(LI$9)=4,Mercredi),AND(WEEKDAY(LI$9)=5,Jeudi),AND(WEEKDAY(LI$9)=6,Vendredi),AND(WEEKDAY(LI$9)=7,Samedi),LI$9=férié),0,1)","v":1},{"$f":"IF(OR(AND(WEEKDAY(LJ$9)=1,Dimanche),AND(WEEKDAY(LJ$9)=2,Lundi),AND(WEEKDAY(LJ$9)=3,Mardi),AND(WEEKDAY(LJ$9)=4,Mercredi),AND(WEEKDAY(LJ$9)=5,Jeudi),AND(WEEKDAY(LJ$9)=6,Vendredi),AND(WEEKDAY(LJ$9)=7,Samedi),LJ$9=férié),0,1)","v":1},{"$f":"IF(OR(AND(WEEKDAY(LK$9)=1,Dimanche),AND(WEEKDAY(LK$9)=2,Lundi),AND(WEEKDAY(LK$9)=3,Mardi),AND(WEEKDAY(LK$9)=4,Mercredi),AND(WEEKDAY(LK$9)=5,Jeudi),AND(WEEKDAY(LK$9)=6,Vendredi),AND(WEEKDAY(LK$9)=7,Samedi),LK$9=férié),0,1)","v":1},{"$f":"IF(OR(AND(WEEKDAY(LL$9)=1,Dimanche),AND(WEEKDAY(LL$9)=2,Lundi),AND(WEEKDAY(LL$9)=3,Mardi),AND(WEEKDAY(LL$9)=4,Mercredi),AND(WEEKDAY(LL$9)=5,Jeudi),AND(WEEKDAY(LL$9)=6,Vendredi),AND(WEEKDAY(LL$9)=7,Samedi),LL$9=férié),0,1)","v":1},{"$f":"IF(OR(AND(WEEKDAY(LM$9)=1,Dimanche),AND(WEEKDAY(LM$9)=2,Lundi),AND(WEEKDAY(LM$9)=3,Mardi),AND(WEEKDAY(LM$9)=4,Mercredi),AND(WEEKDAY(LM$9)=5,Jeudi),AND(WEEKDAY(LM$9)=6,Vendredi),AND(WEEKDAY(LM$9)=7,Samedi),LM$9=férié),0,1)","v":0},{"$f":"IF(OR(AND(WEEKDAY(LN$9)=1,Dimanche),AND(WEEKDAY(LN$9)=2,Lundi),AND(WEEKDAY(LN$9)=3,Mardi),AND(WEEKDAY(LN$9)=4,Mercredi),AND(WEEKDAY(LN$9)=5,Jeudi),AND(WEEKDAY(LN$9)=6,Vendredi),AND(WEEKDAY(LN$9)=7,Samedi),LN$9=férié),0,1)","v":0},{"$f":"IF(OR(AND(WEEKDAY(LO$9)=1,Dimanche),AND(WEEKDAY(LO$9)=2,Lundi),AND(WEEKDAY(LO$9)=3,Mardi),AND(WEEKDAY(LO$9)=4,Mercredi),AND(WEEKDAY(LO$9)=5,Jeudi),AND(WEEKDAY(LO$9)=6,Vendredi),AND(WEEKDAY(LO$9)=7,Samedi),LO$9=férié),0,1)","v":1},{"$f":"IF(OR(AND(WEEKDAY(LP$9)=1,Dimanche),AND(WEEKDAY(LP$9)=2,Lundi),AND(WEEKDAY(LP$9)=3,Mardi),AND(WEEKDAY(LP$9)=4,Mercredi),AND(WEEKDAY(LP$9)=5,Jeudi),AND(WEEKDAY(LP$9)=6,Vendredi),AND(WEEKDAY(LP$9)=7,Samedi),LP$9=férié),0,1)","v":1},{"$f":"IF(OR(AND(WEEKDAY(LQ$9)=1,Dimanche),AND(WEEKDAY(LQ$9)=2,Lundi),AND(WEEKDAY(LQ$9)=3,Mardi),AND(WEEKDAY(LQ$9)=4,Mercredi),AND(WEEKDAY(LQ$9)=5,Jeudi),AND(WEEKDAY(LQ$9)=6,Vendredi),AND(WEEKDAY(LQ$9)=7,Samedi),LQ$9=férié),0,1)","v":1},{"$f":"IF(OR(AND(WEEKDAY(LR$9)=1,Dimanche),AND(WEEKDAY(LR$9)=2,Lundi),AND(WEEKDAY(LR$9)=3,Mardi),AND(WEEKDAY(LR$9)=4,Mercredi),AND(WEEKDAY(LR$9)=5,Jeudi),AND(WEEKDAY(LR$9)=6,Vendredi),AND(WEEKDAY(LR$9)=7,Samedi),LR$9=férié),0,1)","v":1},{"$f":"IF(OR(AND(WEEKDAY(LS$9)=1,Dimanche),AND(WEEKDAY(LS$9)=2,Lundi),AND(WEEKDAY(LS$9)=3,Mardi),AND(WEEKDAY(LS$9)=4,Mercredi),AND(WEEKDAY(LS$9)=5,Jeudi),AND(WEEKDAY(LS$9)=6,Vendredi),AND(WEEKDAY(LS$9)=7,Samedi),LS$9=férié),0,1)","v":1},{"$f":"IF(OR(AND(WEEKDAY(LT$9)=1,Dimanche),AND(WEEKDAY(LT$9)=2,Lundi),AND(WEEKDAY(LT$9)=3,Mardi),AND(WEEKDAY(LT$9)=4,Mercredi),AND(WEEKDAY(LT$9)=5,Jeudi),AND(WEEKDAY(LT$9)=6,Vendredi),AND(WEEKDAY(LT$9)=7,Samedi),LT$9=férié),0,1)","v":0},{"$f":"IF(OR(AND(WEEKDAY(LU$9)=1,Dimanche),AND(WEEKDAY(LU$9)=2,Lundi),AND(WEEKDAY(LU$9)=3,Mardi),AND(WEEKDAY(LU$9)=4,Mercredi),AND(WEEKDAY(LU$9)=5,Jeudi),AND(WEEKDAY(LU$9)=6,Vendredi),AND(WEEKDAY(LU$9)=7,Samedi),LU$9=férié),0,1)","v":0},{"$f":"IF(OR(AND(WEEKDAY(LV$9)=1,Dimanche),AND(WEEKDAY(LV$9)=2,Lundi),AND(WEEKDAY(LV$9)=3,Mardi),AND(WEEKDAY(LV$9)=4,Mercredi),AND(WEEKDAY(LV$9)=5,Jeudi),AND(WEEKDAY(LV$9)=6,Vendredi),AND(WEEKDAY(LV$9)=7,Samedi),LV$9=férié),0,1)","v":1},{"$f":"IF(OR(AND(WEEKDAY(LW$9)=1,Dimanche),AND(WEEKDAY(LW$9)=2,Lundi),AND(WEEKDAY(LW$9)=3,Mardi),AND(WEEKDAY(LW$9)=4,Mercredi),AND(WEEKDAY(LW$9)=5,Jeudi),AND(WEEKDAY(LW$9)=6,Vendredi),AND(WEEKDAY(LW$9)=7,Samedi),LW$9=férié),0,1)","v":1},{"$f":"IF(OR(AND(WEEKDAY(LX$9)=1,Dimanche),AND(WEEKDAY(LX$9)=2,Lundi),AND(WEEKDAY(LX$9)=3,Mardi),AND(WEEKDAY(LX$9)=4,Mercredi),AND(WEEKDAY(LX$9)=5,Jeudi),AND(WEEKDAY(LX$9)=6,Vendredi),AND(WEEKDAY(LX$9)=7,Samedi),LX$9=férié),0,1)","v":1},{"$f":"IF(OR(AND(WEEKDAY(LY$9)=1,Dimanche),AND(WEEKDAY(LY$9)=2,Lundi),AND(WEEKDAY(LY$9)=3,Mardi),AND(WEEKDAY(LY$9)=4,Mercredi),AND(WEEKDAY(LY$9)=5,Jeudi),AND(WEEKDAY(LY$9)=6,Vendredi),AND(WEEKDAY(LY$9)=7,Samedi),LY$9=férié),0,1)","v":1},{"$f":"IF(OR(AND(WEEKDAY(LZ$9)=1,Dimanche),AND(WEEKDAY(LZ$9)=2,Lundi),AND(WEEKDAY(LZ$9)=3,Mardi),AND(WEEKDAY(LZ$9)=4,Mercredi),AND(WEEKDAY(LZ$9)=5,Jeudi),AND(WEEKDAY(LZ$9)=6,Vendredi),AND(WEEKDAY(LZ$9)=7,Samedi),LZ$9=férié),0,1)","v":1},{"$f":"IF(OR(AND(WEEKDAY(MA$9)=1,Dimanche),AND(WEEKDAY(MA$9)=2,Lundi),AND(WEEKDAY(MA$9)=3,Mardi),AND(WEEKDAY(MA$9)=4,Mercredi),AND(WEEKDAY(MA$9)=5,Jeudi),AND(WEEKDAY(MA$9)=6,Vendredi),AND(WEEKDAY(MA$9)=7,Samedi),MA$9=férié),0,1)","v":0},{"$f":"IF(OR(AND(WEEKDAY(MB$9)=1,Dimanche),AND(WEEKDAY(MB$9)=2,Lundi),AND(WEEKDAY(MB$9)=3,Mardi),AND(WEEKDAY(MB$9)=4,Mercredi),AND(WEEKDAY(MB$9)=5,Jeudi),AND(WEEKDAY(MB$9)=6,Vendredi),AND(WEEKDAY(MB$9)=7,Samedi),MB$9=férié),0,1)","v":0},{"$f":"IF(OR(AND(WEEKDAY(MC$9)=1,Dimanche),AND(WEEKDAY(MC$9)=2,Lundi),AND(WEEKDAY(MC$9)=3,Mardi),AND(WEEKDAY(MC$9)=4,Mercredi),AND(WEEKDAY(MC$9)=5,Jeudi),AND(WEEKDAY(MC$9)=6,Vendredi),AND(WEEKDAY(MC$9)=7,Samedi),MC$9=férié),0,1)","v":1},{"$f":"IF(OR(AND(WEEKDAY(MD$9)=1,Dimanche),AND(WEEKDAY(MD$9)=2,Lundi),AND(WEEKDAY(MD$9)=3,Mardi),AND(WEEKDAY(MD$9)=4,Mercredi),AND(WEEKDAY(MD$9)=5,Jeudi),AND(WEEKDAY(MD$9)=6,Vendredi),AND(WEEKDAY(MD$9)=7,Samedi),MD$9=férié),0,1)","v":1},{"$f":"IF(OR(AND(WEEKDAY(ME$9)=1,Dimanche),AND(WEEKDAY(ME$9)=2,Lundi),AND(WEEKDAY(ME$9)=3,Mardi),AND(WEEKDAY(ME$9)=4,Mercredi),AND(WEEKDAY(ME$9)=5,Jeudi),AND(WEEKDAY(ME$9)=6,Vendredi),AND(WEEKDAY(ME$9)=7,Samedi),ME$9=férié),0,1)","v":1},{"$f":"IF(OR(AND(WEEKDAY(MF$9)=1,Dimanche),AND(WEEKDAY(MF$9)=2,Lundi),AND(WEEKDAY(MF$9)=3,Mardi),AND(WEEKDAY(MF$9)=4,Mercredi),AND(WEEKDAY(MF$9)=5,Jeudi),AND(WEEKDAY(MF$9)=6,Vendredi),AND(WEEKDAY(MF$9)=7,Samedi),MF$9=férié),0,1)","v":1},{"$f":"IF(OR(AND(WEEKDAY(MG$9)=1,Dimanche),AND(WEEKDAY(MG$9)=2,Lundi),AND(WEEKDAY(MG$9)=3,Mardi),AND(WEEKDAY(MG$9)=4,Mercredi),AND(WEEKDAY(MG$9)=5,Jeudi),AND(WEEKDAY(MG$9)=6,Vendredi),AND(WEEKDAY(MG$9)=7,Samedi),MG$9=férié),0,1)","v":1},{"$f":"IF(OR(AND(WEEKDAY(MH$9)=1,Dimanche),AND(WEEKDAY(MH$9)=2,Lundi),AND(WEEKDAY(MH$9)=3,Mardi),AND(WEEKDAY(MH$9)=4,Mercredi),AND(WEEKDAY(MH$9)=5,Jeudi),AND(WEEKDAY(MH$9)=6,Vendredi),AND(WEEKDAY(MH$9)=7,Samedi),MH$9=férié),0,1)","v":0},{"$f":"IF(OR(AND(WEEKDAY(MI$9)=1,Dimanche),AND(WEEKDAY(MI$9)=2,Lundi),AND(WEEKDAY(MI$9)=3,Mardi),AND(WEEKDAY(MI$9)=4,Mercredi),AND(WEEKDAY(MI$9)=5,Jeudi),AND(WEEKDAY(MI$9)=6,Vendredi),AND(WEEKDAY(MI$9)=7,Samedi),MI$9=férié),0,1)","v":0},{"$f":"IF(OR(AND(WEEKDAY(MJ$9)=1,Dimanche),AND(WEEKDAY(MJ$9)=2,Lundi),AND(WEEKDAY(MJ$9)=3,Mardi),AND(WEEKDAY(MJ$9)=4,Mercredi),AND(WEEKDAY(MJ$9)=5,Jeudi),AND(WEEKDAY(MJ$9)=6,Vendredi),AND(WEEKDAY(MJ$9)=7,Samedi),MJ$9=férié),0,1)","v":1},{"$f":"IF(OR(AND(WEEKDAY(MK$9)=1,Dimanche),AND(WEEKDAY(MK$9)=2,Lundi),AND(WEEKDAY(MK$9)=3,Mardi),AND(WEEKDAY(MK$9)=4,Mercredi),AND(WEEKDAY(MK$9)=5,Jeudi),AND(WEEKDAY(MK$9)=6,Vendredi),AND(WEEKDAY(MK$9)=7,Samedi),MK$9=férié),0,1)","v":1},{"$f":"IF(OR(AND(WEEKDAY(ML$9)=1,Dimanche),AND(WEEKDAY(ML$9)=2,Lundi),AND(WEEKDAY(ML$9)=3,Mardi),AND(WEEKDAY(ML$9)=4,Mercredi),AND(WEEKDAY(ML$9)=5,Jeudi),AND(WEEKDAY(ML$9)=6,Vendredi),AND(WEEKDAY(ML$9)=7,Samedi),ML$9=férié),0,1)","v":1},{"$f":"IF(OR(AND(WEEKDAY(MM$9)=1,Dimanche),AND(WEEKDAY(MM$9)=2,Lundi),AND(WEEKDAY(MM$9)=3,Mardi),AND(WEEKDAY(MM$9)=4,Mercredi),AND(WEEKDAY(MM$9)=5,Jeudi),AND(WEEKDAY(MM$9)=6,Vendredi),AND(WEEKDAY(MM$9)=7,Samedi),MM$9=férié),0,1)","v":1},{"$f":"IF(OR(AND(WEEKDAY(MN$9)=1,Dimanche),AND(WEEKDAY(MN$9)=2,Lundi),AND(WEEKDAY(MN$9)=3,Mardi),AND(WEEKDAY(MN$9)=4,Mercredi),AND(WEEKDAY(MN$9)=5,Jeudi),AND(WEEKDAY(MN$9)=6,Vendredi),AND(WEEKDAY(MN$9)=7,Samedi),MN$9=férié),0,1)","v":1},{"$f":"IF(OR(AND(WEEKDAY(MO$9)=1,Dimanche),AND(WEEKDAY(MO$9)=2,Lundi),AND(WEEKDAY(MO$9)=3,Mardi),AND(WEEKDAY(MO$9)=4,Mercredi),AND(WEEKDAY(MO$9)=5,Jeudi),AND(WEEKDAY(MO$9)=6,Vendredi),AND(WEEKDAY(MO$9)=7,Samedi),MO$9=férié),0,1)","v":0},{"$f":"IF(OR(AND(WEEKDAY(MP$9)=1,Dimanche),AND(WEEKDAY(MP$9)=2,Lundi),AND(WEEKDAY(MP$9)=3,Mardi),AND(WEEKDAY(MP$9)=4,Mercredi),AND(WEEKDAY(MP$9)=5,Jeudi),AND(WEEKDAY(MP$9)=6,Vendredi),AND(WEEKDAY(MP$9)=7,Samedi),MP$9=férié),0,1)","v":0},{"$f":"IF(OR(AND(WEEKDAY(MQ$9)=1,Dimanche),AND(WEEKDAY(MQ$9)=2,Lundi),AND(WEEKDAY(MQ$9)=3,Mardi),AND(WEEKDAY(MQ$9)=4,Mercredi),AND(WEEKDAY(MQ$9)=5,Jeudi),AND(WEEKDAY(MQ$9)=6,Vendredi),AND(WEEKDAY(MQ$9)=7,Samedi),MQ$9=férié),0,1)","v":1},{"$f":"IF(OR(AND(WEEKDAY(MR$9)=1,Dimanche),AND(WEEKDAY(MR$9)=2,Lundi),AND(WEEKDAY(MR$9)=3,Mardi),AND(WEEKDAY(MR$9)=4,Mercredi),AND(WEEKDAY(MR$9)=5,Jeudi),AND(WEEKDAY(MR$9)=6,Vendredi),AND(WEEKDAY(MR$9)=7,Samedi),MR$9=férié),0,1)","v":1},{"$f":"IF(OR(AND(WEEKDAY(MS$9)=1,Dimanche),AND(WEEKDAY(MS$9)=2,Lundi),AND(WEEKDAY(MS$9)=3,Mardi),AND(WEEKDAY(MS$9)=4,Mercredi),AND(WEEKDAY(MS$9)=5,Jeudi),AND(WEEKDAY(MS$9)=6,Vendredi),AND(WEEKDAY(MS$9)=7,Samedi),MS$9=férié),0,1)","v":1},{"$f":"IF(OR(AND(WEEKDAY(MT$9)=1,Dimanche),AND(WEEKDAY(MT$9)=2,Lundi),AND(WEEKDAY(MT$9)=3,Mardi),AND(WEEKDAY(MT$9)=4,Mercredi),AND(WEEKDAY(MT$9)=5,Jeudi),AND(WEEKDAY(MT$9)=6,Vendredi),AND(WEEKDAY(MT$9)=7,Samedi),MT$9=férié),0,1)","v":1},{"$f":"IF(OR(AND(WEEKDAY(MU$9)=1,Dimanche),AND(WEEKDAY(MU$9)=2,Lundi),AND(WEEKDAY(MU$9)=3,Mardi),AND(WEEKDAY(MU$9)=4,Mercredi),AND(WEEKDAY(MU$9)=5,Jeudi),AND(WEEKDAY(MU$9)=6,Vendredi),AND(WEEKDAY(MU$9)=7,Samedi),MU$9=férié),0,1)","v":1},{"$f":"IF(OR(AND(WEEKDAY(MV$9)=1,Dimanche),AND(WEEKDAY(MV$9)=2,Lundi),AND(WEEKDAY(MV$9)=3,Mardi),AND(WEEKDAY(MV$9)=4,Mercredi),AND(WEEKDAY(MV$9)=5,Jeudi),AND(WEEKDAY(MV$9)=6,Vendredi),AND(WEEKDAY(MV$9)=7,Samedi),MV$9=férié),0,1)","v":0},{"$f":"IF(OR(AND(WEEKDAY(MW$9)=1,Dimanche),AND(WEEKDAY(MW$9)=2,Lundi),AND(WEEKDAY(MW$9)=3,Mardi),AND(WEEKDAY(MW$9)=4,Mercredi),AND(WEEKDAY(MW$9)=5,Jeudi),AND(WEEKDAY(MW$9)=6,Vendredi),AND(WEEKDAY(MW$9)=7,Samedi),MW$9=férié),0,1)","v":0},{"$f":"IF(OR(AND(WEEKDAY(MX$9)=1,Dimanche),AND(WEEKDAY(MX$9)=2,Lundi),AND(WEEKDAY(MX$9)=3,Mardi),AND(WEEKDAY(MX$9)=4,Mercredi),AND(WEEKDAY(MX$9)=5,Jeudi),AND(WEEKDAY(MX$9)=6,Vendredi),AND(WEEKDAY(MX$9)=7,Samedi),MX$9=férié),0,1)","v":0},{"$f":"IF(OR(AND(WEEKDAY(MY$9)=1,Dimanche),AND(WEEKDAY(MY$9)=2,Lundi),AND(WEEKDAY(MY$9)=3,Mardi),AND(WEEKDAY(MY$9)=4,Mercredi),AND(WEEKDAY(MY$9)=5,Jeudi),AND(WEEKDAY(MY$9)=6,Vendredi),AND(WEEKDAY(MY$9)=7,Samedi),MY$9=férié),0,1)","v":1},{"$f":"IF(OR(AND(WEEKDAY(MZ$9)=1,Dimanche),AND(WEEKDAY(MZ$9)=2,Lundi),AND(WEEKDAY(MZ$9)=3,Mardi),AND(WEEKDAY(MZ$9)=4,Mercredi),AND(WEEKDAY(MZ$9)=5,Jeudi),AND(WEEKDAY(MZ$9)=6,Vendredi),AND(WEEKDAY(MZ$9)=7,Samedi),MZ$9=férié),0,1)","v":1},{"$f":"IF(OR(AND(WEEKDAY(NA$9)=1,Dimanche),AND(WEEKDAY(NA$9)=2,Lundi),AND(WEEKDAY(NA$9)=3,Mardi),AND(WEEKDAY(NA$9)=4,Mercredi),AND(WEEKDAY(NA$9)=5,Jeudi),AND(WEEKDAY(NA$9)=6,Vendredi),AND(WEEKDAY(NA$9)=7,Samedi),NA$9=férié),0,1)","v":1},{"$f":"IF(OR(AND(WEEKDAY(NB$9)=1,Dimanche),AND(WEEKDAY(NB$9)=2,Lundi),AND(WEEKDAY(NB$9)=3,Mardi),AND(WEEKDAY(NB$9)=4,Mercredi),AND(WEEKDAY(NB$9)=5,Jeudi),AND(WEEKDAY(NB$9)=6,Vendredi),AND(WEEKDAY(NB$9)=7,Samedi),NB$9=férié),0,1)","v":1},{"$f":"IF(OR(AND(WEEKDAY(NC$9)=1,Dimanche),AND(WEEKDAY(NC$9)=2,Lundi),AND(WEEKDAY(NC$9)=3,Mardi),AND(WEEKDAY(NC$9)=4,Mercredi),AND(WEEKDAY(NC$9)=5,Jeudi),AND(WEEKDAY(NC$9)=6,Vendredi),AND(WEEKDAY(NC$9)=7,Samedi),NC$9=férié),0,1)","v":0},{"$f":"IF(OR(AND(WEEKDAY(ND$9)=1,Dimanche),AND(WEEKDAY(ND$9)=2,Lundi),AND(WEEKDAY(ND$9)=3,Mardi),AND(WEEKDAY(ND$9)=4,Mercredi),AND(WEEKDAY(ND$9)=5,Jeudi),AND(WEEKDAY(ND$9)=6,Vendredi),AND(WEEKDAY(ND$9)=7,Samedi),ND$9=férié),0,1)","v":0},{"$f":"IF(OR(AND(WEEKDAY(NE$9)=1,Dimanche),AND(WEEKDAY(NE$9)=2,Lundi),AND(WEEKDAY(NE$9)=3,Mardi),AND(WEEKDAY(NE$9)=4,Mercredi),AND(WEEKDAY(NE$9)=5,Jeudi),AND(WEEKDAY(NE$9)=6,Vendredi),AND(WEEKDAY(NE$9)=7,Samedi),NE$9=férié),0,1)","v":0},{"$f":"IF(OR(AND(WEEKDAY(NF$9)=1,Dimanche),AND(WEEKDAY(NF$9)=2,Lundi),AND(WEEKDAY(NF$9)=3,Mardi),AND(WEEKDAY(NF$9)=4,Mercredi),AND(WEEKDAY(NF$9)=5,Jeudi),AND(WEEKDAY(NF$9)=6,Vendredi),AND(WEEKDAY(NF$9)=7,Samedi),NF$9=férié),0,1)","v":1},{"$f":"IF(OR(AND(WEEKDAY(NG$9)=1,Dimanche),AND(WEEKDAY(NG$9)=2,Lundi),AND(WEEKDAY(NG$9)=3,Mardi),AND(WEEKDAY(NG$9)=4,Mercredi),AND(WEEKDAY(NG$9)=5,Jeudi),AND(WEEKDAY(NG$9)=6,Vendredi),AND(WEEKDAY(NG$9)=7,Samedi),NG$9=férié),0,1)","v":1},{"$f":"IF(OR(AND(WEEKDAY(NH$9)=1,Dimanche),AND(WEEKDAY(NH$9)=2,Lundi),AND(WEEKDAY(NH$9)=3,Mardi),AND(WEEKDAY(NH$9)=4,Mercredi),AND(WEEKDAY(NH$9)=5,Jeudi),AND(WEEKDAY(NH$9)=6,Vendredi),AND(WEEKDAY(NH$9)=7,Samedi),NH$9=férié),0,1)","v":1},{"$f":"IF(OR(AND(WEEKDAY(NI$9)=1,Dimanche),AND(WEEKDAY(NI$9)=2,Lundi),AND(WEEKDAY(NI$9)=3,Mardi),AND(WEEKDAY(NI$9)=4,Mercredi),AND(WEEKDAY(NI$9)=5,Jeudi),AND(WEEKDAY(NI$9)=6,Vendredi),AND(WEEKDAY(NI$9)=7,Samedi),NI$9=férié),0,1)","v":1},{"$f":"IF(OR(AND(WEEKDAY(NJ$9)=1,Dimanche),AND(WEEKDAY(NJ$9)=2,Lundi),AND(WEEKDAY(NJ$9)=3,Mardi),AND(WEEKDAY(NJ$9)=4,Mercredi),AND(WEEKDAY(NJ$9)=5,Jeudi),AND(WEEKDAY(NJ$9)=6,Vendredi),AND(WEEKDAY(NJ$9)=7,Samedi),NJ$9=férié),0,1)","v":0},{"$f":"IF(OR(AND(WEEKDAY(NK$9)=1,Dimanche),AND(WEEKDAY(NK$9)=2,Lundi),AND(WEEKDAY(NK$9)=3,Mardi),AND(WEEKDAY(NK$9)=4,Mercredi),AND(WEEKDAY(NK$9)=5,Jeudi),AND(WEEKDAY(NK$9)=6,Vendredi),AND(WEEKDAY(NK$9)=7,Samedi),NK$9=férié),0,1)","v":0},{"$f":"IF(OR(AND(WEEKDAY(NL$9)=1,Dimanche),AND(WEEKDAY(NL$9)=2,Lundi),AND(WEEKDAY(NL$9)=3,Mardi),AND(WEEKDAY(NL$9)=4,Mercredi),AND(WEEKDAY(NL$9)=5,Jeudi),AND(WEEKDAY(NL$9)=6,Vendredi),AND(WEEKDAY(NL$9)=7,Samedi),NL$9=férié),0,1)","v":1},{"$f":"IF(OR(AND(WEEKDAY(NM$9)=1,Dimanche),AND(WEEKDAY(NM$9)=2,Lundi),AND(WEEKDAY(NM$9)=3,Mardi),AND(WEEKDAY(NM$9)=4,Mercredi),AND(WEEKDAY(NM$9)=5,Jeudi),AND(WEEKDAY(NM$9)=6,Vendredi),AND(WEEKDAY(NM$9)=7,Samedi),NM$9=férié),0,1)","v":1},{"$f":"IF(OR(AND(WEEKDAY(NN$9)=1,Dimanche),AND(WEEKDAY(NN$9)=2,Lundi),AND(WEEKDAY(NN$9)=3,Mardi),AND(WEEKDAY(NN$9)=4,Mercredi),AND(WEEKDAY(NN$9)=5,Jeudi),AND(WEEKDAY(NN$9)=6,Vendredi),AND(WEEKDAY(NN$9)=7,Samedi),NN$9=férié),0,1)","v":1},{"$f":"IF(OR(AND(WEEKDAY(NO$9)=1,Dimanche),AND(WEEKDAY(NO$9)=2,Lundi),AND(WEEKDAY(NO$9)=3,Mardi),AND(WEEKDAY(NO$9)=4,Mercredi),AND(WEEKDAY(NO$9)=5,Jeudi),AND(WEEKDAY(NO$9)=6,Vendredi),AND(WEEKDAY(NO$9)=7,Samedi),NO$9=férié),0,1)","v":1},{"$f":"IF(OR(AND(WEEKDAY(NP$9)=1,Dimanche),AND(WEEKDAY(NP$9)=2,Lundi),AND(WEEKDAY(NP$9)=3,Mardi),AND(WEEKDAY(NP$9)=4,Mercredi),AND(WEEKDAY(NP$9)=5,Jeudi),AND(WEEKDAY(NP$9)=6,Vendredi),AND(WEEKDAY(NP$9)=7,Samedi),NP$9=férié),0,1)","v":1},{"$f":"IF(OR(AND(WEEKDAY(NQ$9)=1,Dimanche),AND(WEEKDAY(NQ$9)=2,Lundi),AND(WEEKDAY(NQ$9)=3,Mardi),AND(WEEKDAY(NQ$9)=4,Mercredi),AND(WEEKDAY(NQ$9)=5,Jeudi),AND(WEEKDAY(NQ$9)=6,Vendredi),AND(WEEKDAY(NQ$9)=7,Samedi),NQ$9=férié),0,1)","v":0},{"$f":"IF(OR(AND(WEEKDAY(NR$9)=1,Dimanche),AND(WEEKDAY(NR$9)=2,Lundi),AND(WEEKDAY(NR$9)=3,Mardi),AND(WEEKDAY(NR$9)=4,Mercredi),AND(WEEKDAY(NR$9)=5,Jeudi),AND(WEEKDAY(NR$9)=6,Vendredi),AND(WEEKDAY(NR$9)=7,Samedi),NR$9=férié),0,1)","v":0},{"$f":"IF(OR(AND(WEEKDAY(NS$9)=1,Dimanche),AND(WEEKDAY(NS$9)=2,Lundi),AND(WEEKDAY(NS$9)=3,Mardi),AND(WEEKDAY(NS$9)=4,Mercredi),AND(WEEKDAY(NS$9)=5,Jeudi),AND(WEEKDAY(NS$9)=6,Vendredi),AND(WEEKDAY(NS$9)=7,Samedi),NS$9=férié),0,1)","v":1},{"$f":"IF(OR(AND(WEEKDAY(NT$9)=1,Dimanche),AND(WEEKDAY(NT$9)=2,Lundi),AND(WEEKDAY(NT$9)=3,Mardi),AND(WEEKDAY(NT$9)=4,Mercredi),AND(WEEKDAY(NT$9)=5,Jeudi),AND(WEEKDAY(NT$9)=6,Vendredi),AND(WEEKDAY(NT$9)=7,Samedi),NT$9=férié),0,1)","v":1},{"$f":"IF(OR(AND(WEEKDAY(NU$9)=1,Dimanche),AND(WEEKDAY(NU$9)=2,Lundi),AND(WEEKDAY(NU$9)=3,Mardi),AND(WEEKDAY(NU$9)=4,Mercredi),AND(WEEKDAY(NU$9)=5,Jeudi),AND(WEEKDAY(NU$9)=6,Vendredi),AND(WEEKDAY(NU$9)=7,Samedi),NU$9=férié),0,1)","v":1},{"$f":"IF(OR(AND(WEEKDAY(NV$9)=1,Dimanche),AND(WEEKDAY(NV$9)=2,Lundi),AND(WEEKDAY(NV$9)=3,Mardi),AND(WEEKDAY(NV$9)=4,Mercredi),AND(WEEKDAY(NV$9)=5,Jeudi),AND(WEEKDAY(NV$9)=6,Vendredi),AND(WEEKDAY(NV$9)=7,Samedi),NV$9=férié),0,1)","v":1},{"$f":"IF(OR(AND(WEEKDAY(NW$9)=1,Dimanche),AND(WEEKDAY(NW$9)=2,Lundi),AND(WEEKDAY(NW$9)=3,Mardi),AND(WEEKDAY(NW$9)=4,Mercredi),AND(WEEKDAY(NW$9)=5,Jeudi),AND(WEEKDAY(NW$9)=6,Vendredi),AND(WEEKDAY(NW$9)=7,Samedi),NW$9=férié),0,1)","v":1},{"$f":"IF(OR(AND(WEEKDAY(NX$9)=1,Dimanche),AND(WEEKDAY(NX$9)=2,Lundi),AND(WEEKDAY(NX$9)=3,Mardi),AND(WEEKDAY(NX$9)=4,Mercredi),AND(WEEKDAY(NX$9)=5,Jeudi),AND(WEEKDAY(NX$9)=6,Vendredi),AND(WEEKDAY(NX$9)=7,Samedi),NX$9=férié),0,1)","v":0},{"$f":"IF(OR(AND(WEEKDAY(NY$9)=1,Dimanche),AND(WEEKDAY(NY$9)=2,Lundi),AND(WEEKDAY(NY$9)=3,Mardi),AND(WEEKDAY(NY$9)=4,Mercredi),AND(WEEKDAY(NY$9)=5,Jeudi),AND(WEEKDAY(NY$9)=6,Vendredi),AND(WEEKDAY(NY$9)=7,Samedi),NY$9=férié),0,1)","v":0},{"$f":"IF(OR(AND(WEEKDAY(NZ$9)=1,Dimanche),AND(WEEKDAY(NZ$9)=2,Lundi),AND(WEEKDAY(NZ$9)=3,Mardi),AND(WEEKDAY(NZ$9)=4,Mercredi),AND(WEEKDAY(NZ$9)=5,Jeudi),AND(WEEKDAY(NZ$9)=6,Vendredi),AND(WEEKDAY(NZ$9)=7,Samedi),NZ$9=férié),0,1)","v":1},{"$f":"IF(OR(AND(WEEKDAY(OA$9)=1,Dimanche),AND(WEEKDAY(OA$9)=2,Lundi),AND(WEEKDAY(OA$9)=3,Mardi),AND(WEEKDAY(OA$9)=4,Mercredi),AND(WEEKDAY(OA$9)=5,Jeudi),AND(WEEKDAY(OA$9)=6,Vendredi),AND(WEEKDAY(OA$9)=7,Samedi),OA$9=férié),0,1)","v":1},{"$f":"IF(OR(AND(WEEKDAY(OB$9)=1,Dimanche),AND(WEEKDAY(OB$9)=2,Lundi),AND(WEEKDAY(OB$9)=3,Mardi),AND(WEEKDAY(OB$9)=4,Mercredi),AND(WEEKDAY(OB$9)=5,Jeudi),AND(WEEKDAY(OB$9)=6,Vendredi),AND(WEEKDAY(OB$9)=7,Samedi),OB$9=férié),0,1)","v":1},{"$f":"IF(OR(AND(WEEKDAY(OC$9)=1,Dimanche),AND(WEEKDAY(OC$9)=2,Lundi),AND(WEEKDAY(OC$9)=3,Mardi),AND(WEEKDAY(OC$9)=4,Mercredi),AND(WEEKDAY(OC$9)=5,Jeudi),AND(WEEKDAY(OC$9)=6,Vendredi),AND(WEEKDAY(OC$9)=7,Samedi),OC$9=férié),0,1)","v":1},{"$f":"IF(OR(AND(WEEKDAY(OD$9)=1,Dimanche),AND(WEEKDAY(OD$9)=2,Lundi),AND(WEEKDAY(OD$9)=3,Mardi),AND(WEEKDAY(OD$9)=4,Mercredi),AND(WEEKDAY(OD$9)=5,Jeudi),AND(WEEKDAY(OD$9)=6,Vendredi),AND(WEEKDAY(OD$9)=7,Samedi),OD$9=férié),0,1)","v":1},{"$f":"IF(OR(AND(WEEKDAY(OE$9)=1,Dimanche),AND(WEEKDAY(OE$9)=2,Lundi),AND(WEEKDAY(OE$9)=3,Mardi),AND(WEEKDAY(OE$9)=4,Mercredi),AND(WEEKDAY(OE$9)=5,Jeudi),AND(WEEKDAY(OE$9)=6,Vendredi),AND(WEEKDAY(OE$9)=7,Samedi),OE$9=férié),0,1)","v":0},{"$f":"IF(OR(AND(WEEKDAY(OF$9)=1,Dimanche),AND(WEEKDAY(OF$9)=2,Lundi),AND(WEEKDAY(OF$9)=3,Mardi),AND(WEEKDAY(OF$9)=4,Mercredi),AND(WEEKDAY(OF$9)=5,Jeudi),AND(WEEKDAY(OF$9)=6,Vendredi),AND(WEEKDAY(OF$9)=7,Samedi),OF$9=férié),0,1)","v":0},{"$f":"IF(OR(AND(WEEKDAY(OG$9)=1,Dimanche),AND(WEEKDAY(OG$9)=2,Lundi),AND(WEEKDAY(OG$9)=3,Mardi),AND(WEEKDAY(OG$9)=4,Mercredi),AND(WEEKDAY(OG$9)=5,Jeudi),AND(WEEKDAY(OG$9)=6,Vendredi),AND(WEEKDAY(OG$9)=7,Samedi),OG$9=férié),0,1)","v":1},{"$f":"IF(OR(AND(WEEKDAY(OH$9)=1,Dimanche),AND(WEEKDAY(OH$9)=2,Lundi),AND(WEEKDAY(OH$9)=3,Mardi),AND(WEEKDAY(OH$9)=4,Mercredi),AND(WEEKDAY(OH$9)=5,Jeudi),AND(WEEKDAY(OH$9)=6,Vendredi),AND(WEEKDAY(OH$9)=7,Samedi),OH$9=férié),0,1)","v":1},{"$f":"IF(OR(AND(WEEKDAY(OI$9)=1,Dimanche),AND(WEEKDAY(OI$9)=2,Lundi),AND(WEEKDAY(OI$9)=3,Mardi),AND(WEEKDAY(OI$9)=4,Mercredi),AND(WEEKDAY(OI$9)=5,Jeudi),AND(WEEKDAY(OI$9)=6,Vendredi),AND(WEEKDAY(OI$9)=7,Samedi),OI$9=férié),0,1)","v":1},{"$f":"IF(OR(AND(WEEKDAY(OJ$9)=1,Dimanche),AND(WEEKDAY(OJ$9)=2,Lundi),AND(WEEKDAY(OJ$9)=3,Mardi),AND(WEEKDAY(OJ$9)=4,Mercredi),AND(WEEKDAY(OJ$9)=5,Jeudi),AND(WEEKDAY(OJ$9)=6,Vendredi),AND(WEEKDAY(OJ$9)=7,Samedi),OJ$9=férié),0,1)","v":1}]
[{"$f":"Service","v":"LRD.com Production ©"},"Mois",null,null,null,null,null,null,null,null,null,null,null,null,null,null,null,"JANVIER 2017",null,null,null,null,null,null,null,null,null,null,null,null,null,null,null,null,null,null,null,null,null,null,null,null,null,null,null,null,null,null,"FÉVRIER 2017",null,null,null,null,null,null,null,null,null,null,null,null,null,null,null,null,null,null,null,null,null,null,null,null,null,null,null,"MARS 2017",null,null,null,null,null,null,null,null,null,null,null,null,null,null,null,null,null,null,null,null,null,null,null,null,null,null,null,null,null,null,"AVRIL 2017",null,null,null,null,null,null,null,null,null,null,null,null,null,null,null,null,null,null,null,null,null,null,null,null,null,null,null,null,null,"MAI 2017",null,null,null,null,null,null,null,null,null,null,null,null,null,null,null,null,null,null,null,null,null,null,null,null,null,null,null,null,null,null,"JUIN 2017",null,null,null,null,null,null,null,null,null,null,null,null,null,null,null,null,null,null,null,null,null,null,null,null,null,null,null,null,null,"JUILLET 2017",null,null,null,null,null,null,null,null,null,null,null,null,null,null,null,null,null,null,null,null,null,null,null,null,null,null,null,null,null,null,"AOÛT 2017",null,null,null,null,null,null,null,null,null,null,null,null,null,null,null,null,null,null,null,null,null,null,null,null,null,null,null,null,null,null,"SEPTEMBRE 2017",null,null,null,null,null,null,null,null,null,null,null,null,null,null,null,null,null,null,null,null,null,null,null,null,null,null,null,null,null,"OCTOBRE 2017",null,null,null,null,null,null,null,null,null,null,null,null,null,null,null,null,null,null,null,null,null,null,null,null,null,null,null,null,null,null,"NOVEMBRE 2017",null,null,null,null,null,null,null,null,null,null,null,null,null,null,null,null,null,null,null,null,null,null,null,null,null,null,null,null,null,"DÉCEMBRE 2017",null,null,null,null,null,null,null,null,null,null,null,null,null,null,null,null,null,null,null,null,{"$f":"UPPER(TEXT(DATE(AN,Mois_deb_planning+12,1),\"MMMM AAAA\"))&\" - tuilage sur l'année suivante - les données ne sont pas prises en compte dans les tableaux\"","v":"JANVIER 2018 - tuilage sur l'année suivante - les données ne sont pas prises en compte dans les tableaux"}]
[null,"N° de la semaine",null,{"$f":"INT((D9-LOOKUP(D9,DATE(YEAR(D9)+{-1;0;1},1,3)-WEEKDAY(DATE(YEAR(D9)+{-1;0;1},1,3))+2))/7)+1","v":52},{"$f":"INT((E9-LOOKUP(E9,DATE(YEAR(E9)+{-1;0;1},1,3)-WEEKDAY(DATE(YEAR(E9)+{-1;0;1},1,3))+2))/7)+1","v":1},{"$f":"INT((F9-LOOKUP(F9,DATE(YEAR(F9)+{-1;0;1},1,3)-WEEKDAY(DATE(YEAR(F9)+{-1;0;1},1,3))+2))/7)+1","v":1},{"$f":"INT((G9-LOOKUP(G9,DATE(YEAR(G9)+{-1;0;1},1,3)-WEEKDAY(DATE(YEAR(G9)+{-1;0;1},1,3))+2))/7)+1","v":1},{"$f":"INT((H9-LOOKUP(H9,DATE(YEAR(H9)+{-1;0;1},1,3)-WEEKDAY(DATE(YEAR(H9)+{-1;0;1},1,3))+2))/7)+1","v":1},{"$f":"INT((I9-LOOKUP(I9,DATE(YEAR(I9)+{-1;0;1},1,3)-WEEKDAY(DATE(YEAR(I9)+{-1;0;1},1,3))+2))/7)+1","v":1},{"$f":"INT((J9-LOOKUP(J9,DATE(YEAR(J9)+{-1;0;1},1,3)-WEEKDAY(DATE(YEAR(J9)+{-1;0;1},1,3))+2))/7)+1","v":1},{"$f":"INT((K9-LOOKUP(K9,DATE(YEAR(K9)+{-1;0;1},1,3)-WEEKDAY(DATE(YEAR(K9)+{-1;0;1},1,3))+2))/7)+1","v":1},{"$f":"INT((L9-LOOKUP(L9,DATE(YEAR(L9)+{-1;0;1},1,3)-WEEKDAY(DATE(YEAR(L9)+{-1;0;1},1,3))+2))/7)+1","v":2},{"$f":"INT((M9-LOOKUP(M9,DATE(YEAR(M9)+{-1;0;1},1,3)-WEEKDAY(DATE(YEAR(M9)+{-1;0;1},1,3))+2))/7)+1","v":2},{"$f":"INT((N9-LOOKUP(N9,DATE(YEAR(N9)+{-1;0;1},1,3)-WEEKDAY(DATE(YEAR(N9)+{-1;0;1},1,3))+2))/7)+1","v":2},{"$f":"INT((O9-LOOKUP(O9,DATE(YEAR(O9)+{-1;0;1},1,3)-WEEKDAY(DATE(YEAR(O9)+{-1;0;1},1,3))+2))/7)+1","v":2},{"$f":"INT((P9-LOOKUP(P9,DATE(YEAR(P9)+{-1;0;1},1,3)-WEEKDAY(DATE(YEAR(P9)+{-1;0;1},1,3))+2))/7)+1","v":2},{"$f":"INT((Q9-LOOKUP(Q9,DATE(YEAR(Q9)+{-1;0;1},1,3)-WEEKDAY(DATE(YEAR(Q9)+{-1;0;1},1,3))+2))/7)+1","v":2},{"$f":"INT((R9-LOOKUP(R9,DATE(YEAR(R9)+{-1;0;1},1,3)-WEEKDAY(DATE(YEAR(R9)+{-1;0;1},1,3))+2))/7)+1","v":2},{"$f":"INT((S9-LOOKUP(S9,DATE(YEAR(S9)+{-1;0;1},1,3)-WEEKDAY(DATE(YEAR(S9)+{-1;0;1},1,3))+2))/7)+1","v":3},{"$f":"INT((T9-LOOKUP(T9,DATE(YEAR(T9)+{-1;0;1},1,3)-WEEKDAY(DATE(YEAR(T9)+{-1;0;1},1,3))+2))/7)+1","v":3},{"$f":"INT((U9-LOOKUP(U9,DATE(YEAR(U9)+{-1;0;1},1,3)-WEEKDAY(DATE(YEAR(U9)+{-1;0;1},1,3))+2))/7)+1","v":3},{"$f":"INT((V9-LOOKUP(V9,DATE(YEAR(V9)+{-1;0;1},1,3)-WEEKDAY(DATE(YEAR(V9)+{-1;0;1},1,3))+2))/7)+1","v":3},{"$f":"INT((W9-LOOKUP(W9,DATE(YEAR(W9)+{-1;0;1},1,3)-WEEKDAY(DATE(YEAR(W9)+{-1;0;1},1,3))+2))/7)+1","v":3},{"$f":"INT((X9-LOOKUP(X9,DATE(YEAR(X9)+{-1;0;1},1,3)-WEEKDAY(DATE(YEAR(X9)+{-1;0;1},1,3))+2))/7)+1","v":3},{"$f":"INT((Y9-LOOKUP(Y9,DATE(YEAR(Y9)+{-1;0;1},1,3)-WEEKDAY(DATE(YEAR(Y9)+{-1;0;1},1,3))+2))/7)+1","v":3},{"$f":"INT((Z9-LOOKUP(Z9,DATE(YEAR(Z9)+{-1;0;1},1,3)-WEEKDAY(DATE(YEAR(Z9)+{-1;0;1},1,3))+2))/7)+1","v":4},{"$f":"INT((AA9-LOOKUP(AA9,DATE(YEAR(AA9)+{-1;0;1},1,3)-WEEKDAY(DATE(YEAR(AA9)+{-1;0;1},1,3))+2))/7)+1","v":4},{"$f":"INT((AB9-LOOKUP(AB9,DATE(YEAR(AB9)+{-1;0;1},1,3)-WEEKDAY(DATE(YEAR(AB9)+{-1;0;1},1,3))+2))/7)+1","v":4},{"$f":"INT((AC9-LOOKUP(AC9,DATE(YEAR(AC9)+{-1;0;1},1,3)-WEEKDAY(DATE(YEAR(AC9)+{-1;0;1},1,3))+2))/7)+1","v":4},{"$f":"INT((AD9-LOOKUP(AD9,DATE(YEAR(AD9)+{-1;0;1},1,3)-WEEKDAY(DATE(YEAR(AD9)+{-1;0;1},1,3))+2))/7)+1","v":4},{"$f":"INT((AE9-LOOKUP(AE9,DATE(YEAR(AE9)+{-1;0;1},1,3)-WEEKDAY(DATE(YEAR(AE9)+{-1;0;1},1,3))+2))/7)+1","v":4},{"$f":"INT((AF9-LOOKUP(AF9,DATE(YEAR(AF9)+{-1;0;1},1,3)-WEEKDAY(DATE(YEAR(AF9)+{-1;0;1},1,3))+2))/7)+1","v":4},{"$f":"INT((AG9-LOOKUP(AG9,DATE(YEAR(AG9)+{-1;0;1},1,3)-WEEKDAY(DATE(YEAR(AG9)+{-1;0;1},1,3))+2))/7)+1","v":5},{"$f":"INT((AH9-LOOKUP(AH9,DATE(YEAR(AH9)+{-1;0;1},1,3)-WEEKDAY(DATE(YEAR(AH9)+{-1;0;1},1,3))+2))/7)+1","v":5},{"$f":"INT((AI9-LOOKUP(AI9,DATE(YEAR(AI9)+{-1;0;1},1,3)-WEEKDAY(DATE(YEAR(AI9)+{-1;0;1},1,3))+2))/7)+1","v":5},{"$f":"INT((AJ9-LOOKUP(AJ9,DATE(YEAR(AJ9)+{-1;0;1},1,3)-WEEKDAY(DATE(YEAR(AJ9)+{-1;0;1},1,3))+2))/7)+1","v":5},{"$f":"INT((AK9-LOOKUP(AK9,DATE(YEAR(AK9)+{-1;0;1},1,3)-WEEKDAY(DATE(YEAR(AK9)+{-1;0;1},1,3))+2))/7)+1","v":5},{"$f":"INT((AL9-LOOKUP(AL9,DATE(YEAR(AL9)+{-1;0;1},1,3)-WEEKDAY(DATE(YEAR(AL9)+{-1;0;1},1,3))+2))/7)+1","v":5},{"$f":"INT((AM9-LOOKUP(AM9,DATE(YEAR(AM9)+{-1;0;1},1,3)-WEEKDAY(DATE(YEAR(AM9)+{-1;0;1},1,3))+2))/7)+1","v":5},{"$f":"INT((AN9-LOOKUP(AN9,DATE(YEAR(AN9)+{-1;0;1},1,3)-WEEKDAY(DATE(YEAR(AN9)+{-1;0;1},1,3))+2))/7)+1","v":6},{"$f":"INT((AO9-LOOKUP(AO9,DATE(YEAR(AO9)+{-1;0;1},1,3)-WEEKDAY(DATE(YEAR(AO9)+{-1;0;1},1,3))+2))/7)+1","v":6},{"$f":"INT((AP9-LOOKUP(AP9,DATE(YEAR(AP9)+{-1;0;1},1,3)-WEEKDAY(DATE(YEAR(AP9)+{-1;0;1},1,3))+2))/7)+1","v":6},{"$f":"INT((AQ9-LOOKUP(AQ9,DATE(YEAR(AQ9)+{-1;0;1},1,3)-WEEKDAY(DATE(YEAR(AQ9)+{-1;0;1},1,3))+2))/7)+1","v":6},{"$f":"INT((AR9-LOOKUP(AR9,DATE(YEAR(AR9)+{-1;0;1},1,3)-WEEKDAY(DATE(YEAR(AR9)+{-1;0;1},1,3))+2))/7)+1","v":6},{"$f":"INT((AS9-LOOKUP(AS9,DATE(YEAR(AS9)+{-1;0;1},1,3)-WEEKDAY(DATE(YEAR(AS9)+{-1;0;1},1,3))+2))/7)+1","v":6},{"$f":"INT((AT9-LOOKUP(AT9,DATE(YEAR(AT9)+{-1;0;1},1,3)-WEEKDAY(DATE(YEAR(AT9)+{-1;0;1},1,3))+2))/7)+1","v":6},{"$f":"INT((AU9-LOOKUP(AU9,DATE(YEAR(AU9)+{-1;0;1},1,3)-WEEKDAY(DATE(YEAR(AU9)+{-1;0;1},1,3))+2))/7)+1","v":7},{"$f":"INT((AV9-LOOKUP(AV9,DATE(YEAR(AV9)+{-1;0;1},1,3)-WEEKDAY(DATE(YEAR(AV9)+{-1;0;1},1,3))+2))/7)+1","v":7},{"$f":"INT((AW9-LOOKUP(AW9,DATE(YEAR(AW9)+{-1;0;1},1,3)-WEEKDAY(DATE(YEAR(AW9)+{-1;0;1},1,3))+2))/7)+1","v":7},{"$f":"INT((AX9-LOOKUP(AX9,DATE(YEAR(AX9)+{-1;0;1},1,3)-WEEKDAY(DATE(YEAR(AX9)+{-1;0;1},1,3))+2))/7)+1","v":7},{"$f":"INT((AY9-LOOKUP(AY9,DATE(YEAR(AY9)+{-1;0;1},1,3)-WEEKDAY(DATE(YEAR(AY9)+{-1;0;1},1,3))+2))/7)+1","v":7},{"$f":"INT((AZ9-LOOKUP(AZ9,DATE(YEAR(AZ9)+{-1;0;1},1,3)-WEEKDAY(DATE(YEAR(AZ9)+{-1;0;1},1,3))+2))/7)+1","v":7},{"$f":"INT((BA9-LOOKUP(BA9,DATE(YEAR(BA9)+{-1;0;1},1,3)-WEEKDAY(DATE(YEAR(BA9)+{-1;0;1},1,3))+2))/7)+1","v":7},{"$f":"INT((BB9-LOOKUP(BB9,DATE(YEAR(BB9)+{-1;0;1},1,3)-WEEKDAY(DATE(YEAR(BB9)+{-1;0;1},1,3))+2))/7)+1","v":8},{"$f":"INT((BC9-LOOKUP(BC9,DATE(YEAR(BC9)+{-1;0;1},1,3)-WEEKDAY(DATE(YEAR(BC9)+{-1;0;1},1,3))+2))/7)+1","v":8},{"$f":"INT((BD9-LOOKUP(BD9,DATE(YEAR(BD9)+{-1;0;1},1,3)-WEEKDAY(DATE(YEAR(BD9)+{-1;0;1},1,3))+2))/7)+1","v":8},{"$f":"INT((BE9-LOOKUP(BE9,DATE(YEAR(BE9)+{-1;0;1},1,3)-WEEKDAY(DATE(YEAR(BE9)+{-1;0;1},1,3))+2))/7)+1","v":8},{"$f":"INT((BF9-LOOKUP(BF9,DATE(YEAR(BF9)+{-1;0;1},1,3)-WEEKDAY(DATE(YEAR(BF9)+{-1;0;1},1,3))+2))/7)+1","v":8},{"$f":"INT((BG9-LOOKUP(BG9,DATE(YEAR(BG9)+{-1;0;1},1,3)-WEEKDAY(DATE(YEAR(BG9)+{-1;0;1},1,3))+2))/7)+1","v":8},{"$f":"INT((BH9-LOOKUP(BH9,DATE(YEAR(BH9)+{-1;0;1},1,3)-WEEKDAY(DATE(YEAR(BH9)+{-1;0;1},1,3))+2))/7)+1","v":8},{"$f":"INT((BI9-LOOKUP(BI9,DATE(YEAR(BI9)+{-1;0;1},1,3)-WEEKDAY(DATE(YEAR(BI9)+{-1;0;1},1,3))+2))/7)+1","v":9},{"$f":"INT((BJ9-LOOKUP(BJ9,DATE(YEAR(BJ9)+{-1;0;1},1,3)-WEEKDAY(DATE(YEAR(BJ9)+{-1;0;1},1,3))+2))/7)+1","v":9},{"$f":"INT((BK9-LOOKUP(BK9,DATE(YEAR(BK9)+{-1;0;1},1,3)-WEEKDAY(DATE(YEAR(BK9)+{-1;0;1},1,3))+2))/7)+1","v":9},{"$f":"INT((BL9-LOOKUP(BL9,DATE(YEAR(BL9)+{-1;0;1},1,3)-WEEKDAY(DATE(YEAR(BL9)+{-1;0;1},1,3))+2))/7)+1","v":9},{"$f":"INT((BM9-LOOKUP(BM9,DATE(YEAR(BM9)+{-1;0;1},1,3)-WEEKDAY(DATE(YEAR(BM9)+{-1;0;1},1,3))+2))/7)+1","v":9},{"$f":"INT((BN9-LOOKUP(BN9,DATE(YEAR(BN9)+{-1;0;1},1,3)-WEEKDAY(DATE(YEAR(BN9)+{-1;0;1},1,3))+2))/7)+1","v":9},{"$f":"INT((BO9-LOOKUP(BO9,DATE(YEAR(BO9)+{-1;0;1},1,3)-WEEKDAY(DATE(YEAR(BO9)+{-1;0;1},1,3))+2))/7)+1","v":9},{"$f":"INT((BP9-LOOKUP(BP9,DATE(YEAR(BP9)+{-1;0;1},1,3)-WEEKDAY(DATE(YEAR(BP9)+{-1;0;1},1,3))+2))/7)+1","v":10},{"$f":"INT((BQ9-LOOKUP(BQ9,DATE(YEAR(BQ9)+{-1;0;1},1,3)-WEEKDAY(DATE(YEAR(BQ9)+{-1;0;1},1,3))+2))/7)+1","v":10},{"$f":"INT((BR9-LOOKUP(BR9,DATE(YEAR(BR9)+{-1;0;1},1,3)-WEEKDAY(DATE(YEAR(BR9)+{-1;0;1},1,3))+2))/7)+1","v":10},{"$f":"INT((BS9-LOOKUP(BS9,DATE(YEAR(BS9)+{-1;0;1},1,3)-WEEKDAY(DATE(YEAR(BS9)+{-1;0;1},1,3))+2))/7)+1","v":10},{"$f":"INT((BT9-LOOKUP(BT9,DATE(YEAR(BT9)+{-1;0;1},1,3)-WEEKDAY(DATE(YEAR(BT9)+{-1;0;1},1,3))+2))/7)+1","v":10},{"$f":"INT((BU9-LOOKUP(BU9,DATE(YEAR(BU9)+{-1;0;1},1,3)-WEEKDAY(DATE(YEAR(BU9)+{-1;0;1},1,3))+2))/7)+1","v":10},{"$f":"INT((BV9-LOOKUP(BV9,DATE(YEAR(BV9)+{-1;0;1},1,3)-WEEKDAY(DATE(YEAR(BV9)+{-1;0;1},1,3))+2))/7)+1","v":10},{"$f":"INT((BW9-LOOKUP(BW9,DATE(YEAR(BW9)+{-1;0;1},1,3)-WEEKDAY(DATE(YEAR(BW9)+{-1;0;1},1,3))+2))/7)+1","v":11},{"$f":"INT((BX9-LOOKUP(BX9,DATE(YEAR(BX9)+{-1;0;1},1,3)-WEEKDAY(DATE(YEAR(BX9)+{-1;0;1},1,3))+2))/7)+1","v":11},{"$f":"INT((BY9-LOOKUP(BY9,DATE(YEAR(BY9)+{-1;0;1},1,3)-WEEKDAY(DATE(YEAR(BY9)+{-1;0;1},1,3))+2))/7)+1","v":11},{"$f":"INT((BZ9-LOOKUP(BZ9,DATE(YEAR(BZ9)+{-1;0;1},1,3)-WEEKDAY(DATE(YEAR(BZ9)+{-1;0;1},1,3))+2))/7)+1","v":11},{"$f":"INT((CA9-LOOKUP(CA9,DATE(YEAR(CA9)+{-1;0;1},1,3)-WEEKDAY(DATE(YEAR(CA9)+{-1;0;1},1,3))+2))/7)+1","v":11},{"$f":"INT((CB9-LOOKUP(CB9,DATE(YEAR(CB9)+{-1;0;1},1,3)-WEEKDAY(DATE(YEAR(CB9)+{-1;0;1},1,3))+2))/7)+1","v":11},{"$f":"INT((CC9-LOOKUP(CC9,DATE(YEAR(CC9)+{-1;0;1},1,3)-WEEKDAY(DATE(YEAR(CC9)+{-1;0;1},1,3))+2))/7)+1","v":11},{"$f":"INT((CD9-LOOKUP(CD9,DATE(YEAR(CD9)+{-1;0;1},1,3)-WEEKDAY(DATE(YEAR(CD9)+{-1;0;1},1,3))+2))/7)+1","v":12},{"$f":"INT((CE9-LOOKUP(CE9,DATE(YEAR(CE9)+{-1;0;1},1,3)-WEEKDAY(DATE(YEAR(CE9)+{-1;0;1},1,3))+2))/7)+1","v":12},{"$f":"INT((CF9-LOOKUP(CF9,DATE(YEAR(CF9)+{-1;0;1},1,3)-WEEKDAY(DATE(YEAR(CF9)+{-1;0;1},1,3))+2))/7)+1","v":12},{"$f":"INT((CG9-LOOKUP(CG9,DATE(YEAR(CG9)+{-1;0;1},1,3)-WEEKDAY(DATE(YEAR(CG9)+{-1;0;1},1,3))+2))/7)+1","v":12},{"$f":"INT((CH9-LOOKUP(CH9,DATE(YEAR(CH9)+{-1;0;1},1,3)-WEEKDAY(DATE(YEAR(CH9)+{-1;0;1},1,3))+2))/7)+1","v":12},{"$f":"INT((CI9-LOOKUP(CI9,DATE(YEAR(CI9)+{-1;0;1},1,3)-WEEKDAY(DATE(YEAR(CI9)+{-1;0;1},1,3))+2))/7)+1","v":12},{"$f":"INT((CJ9-LOOKUP(CJ9,DATE(YEAR(CJ9)+{-1;0;1},1,3)-WEEKDAY(DATE(YEAR(CJ9)+{-1;0;1},1,3))+2))/7)+1","v":12},{"$f":"INT((CK9-LOOKUP(CK9,DATE(YEAR(CK9)+{-1;0;1},1,3)-WEEKDAY(DATE(YEAR(CK9)+{-1;0;1},1,3))+2))/7)+1","v":13},{"$f":"INT((CL9-LOOKUP(CL9,DATE(YEAR(CL9)+{-1;0;1},1,3)-WEEKDAY(DATE(YEAR(CL9)+{-1;0;1},1,3))+2))/7)+1","v":13},{"$f":"INT((CM9-LOOKUP(CM9,DATE(YEAR(CM9)+{-1;0;1},1,3)-WEEKDAY(DATE(YEAR(CM9)+{-1;0;1},1,3))+2))/7)+1","v":13},{"$f":"INT((CN9-LOOKUP(CN9,DATE(YEAR(CN9)+{-1;0;1},1,3)-WEEKDAY(DATE(YEAR(CN9)+{-1;0;1},1,3))+2))/7)+1","v":13},{"$f":"INT((CO9-LOOKUP(CO9,DATE(YEAR(CO9)+{-1;0;1},1,3)-WEEKDAY(DATE(YEAR(CO9)+{-1;0;1},1,3))+2))/7)+1","v":13},{"$f":"INT((CP9-LOOKUP(CP9,DATE(YEAR(CP9)+{-1;0;1},1,3)-WEEKDAY(DATE(YEAR(CP9)+{-1;0;1},1,3))+2))/7)+1","v":13},{"$f":"INT((CQ9-LOOKUP(CQ9,DATE(YEAR(CQ9)+{-1;0;1},1,3)-WEEKDAY(DATE(YEAR(CQ9)+{-1;0;1},1,3))+2))/7)+1","v":13},{"$f":"INT((CR9-LOOKUP(CR9,DATE(YEAR(CR9)+{-1;0;1},1,3)-WEEKDAY(DATE(YEAR(CR9)+{-1;0;1},1,3))+2))/7)+1","v":14},{"$f":"INT((CS9-LOOKUP(CS9,DATE(YEAR(CS9)+{-1;0;1},1,3)-WEEKDAY(DATE(YEAR(CS9)+{-1;0;1},1,3))+2))/7)+1","v":14},{"$f":"INT((CT9-LOOKUP(CT9,DATE(YEAR(CT9)+{-1;0;1},1,3)-WEEKDAY(DATE(YEAR(CT9)+{-1;0;1},1,3))+2))/7)+1","v":14},{"$f":"INT((CU9-LOOKUP(CU9,DATE(YEAR(CU9)+{-1;0;1},1,3)-WEEKDAY(DATE(YEAR(CU9)+{-1;0;1},1,3))+2))/7)+1","v":14},{"$f":"INT((CV9-LOOKUP(CV9,DATE(YEAR(CV9)+{-1;0;1},1,3)-WEEKDAY(DATE(YEAR(CV9)+{-1;0;1},1,3))+2))/7)+1","v":14},{"$f":"INT((CW9-LOOKUP(CW9,DATE(YEAR(CW9)+{-1;0;1},1,3)-WEEKDAY(DATE(YEAR(CW9)+{-1;0;1},1,3))+2))/7)+1","v":14},{"$f":"INT((CX9-LOOKUP(CX9,DATE(YEAR(CX9)+{-1;0;1},1,3)-WEEKDAY(DATE(YEAR(CX9)+{-1;0;1},1,3))+2))/7)+1","v":14},{"$f":"INT((CY9-LOOKUP(CY9,DATE(YEAR(CY9)+{-1;0;1},1,3)-WEEKDAY(DATE(YEAR(CY9)+{-1;0;1},1,3))+2))/7)+1","v":15},{"$f":"INT((CZ9-LOOKUP(CZ9,DATE(YEAR(CZ9)+{-1;0;1},1,3)-WEEKDAY(DATE(YEAR(CZ9)+{-1;0;1},1,3))+2))/7)+1","v":15},{"$f":"INT((DA9-LOOKUP(DA9,DATE(YEAR(DA9)+{-1;0;1},1,3)-WEEKDAY(DATE(YEAR(DA9)+{-1;0;1},1,3))+2))/7)+1","v":15},{"$f":"INT((DB9-LOOKUP(DB9,DATE(YEAR(DB9)+{-1;0;1},1,3)-WEEKDAY(DATE(YEAR(DB9)+{-1;0;1},1,3))+2))/7)+1","v":15},{"$f":"INT((DC9-LOOKUP(DC9,DATE(YEAR(DC9)+{-1;0;1},1,3)-WEEKDAY(DATE(YEAR(DC9)+{-1;0;1},1,3))+2))/7)+1","v":15},{"$f":"INT((DD9-LOOKUP(DD9,DATE(YEAR(DD9)+{-1;0;1},1,3)-WEEKDAY(DATE(YEAR(DD9)+{-1;0;1},1,3))+2))/7)+1","v":15},{"$f":"INT((DE9-LOOKUP(DE9,DATE(YEAR(DE9)+{-1;0;1},1,3)-WEEKDAY(DATE(YEAR(DE9)+{-1;0;1},1,3))+2))/7)+1","v":15},{"$f":"INT((DF9-LOOKUP(DF9,DATE(YEAR(DF9)+{-1;0;1},1,3)-WEEKDAY(DATE(YEAR(DF9)+{-1;0;1},1,3))+2))/7)+1","v":16},{"$f":"INT((DG9-LOOKUP(DG9,DATE(YEAR(DG9)+{-1;0;1},1,3)-WEEKDAY(DATE(YEAR(DG9)+{-1;0;1},1,3))+2))/7)+1","v":16},{"$f":"INT((DH9-LOOKUP(DH9,DATE(YEAR(DH9)+{-1;0;1},1,3)-WEEKDAY(DATE(YEAR(DH9)+{-1;0;1},1,3))+2))/7)+1","v":16},{"$f":"INT((DI9-LOOKUP(DI9,DATE(YEAR(DI9)+{-1;0;1},1,3)-WEEKDAY(DATE(YEAR(DI9)+{-1;0;1},1,3))+2))/7)+1","v":16},{"$f":"INT((DJ9-LOOKUP(DJ9,DATE(YEAR(DJ9)+{-1;0;1},1,3)-WEEKDAY(DATE(YEAR(DJ9)+{-1;0;1},1,3))+2))/7)+1","v":16},{"$f":"INT((DK9-LOOKUP(DK9,DATE(YEAR(DK9)+{-1;0;1},1,3)-WEEKDAY(DATE(YEAR(DK9)+{-1;0;1},1,3))+2))/7)+1","v":16},{"$f":"INT((DL9-LOOKUP(DL9,DATE(YEAR(DL9)+{-1;0;1},1,3)-WEEKDAY(DATE(YEAR(DL9)+{-1;0;1},1,3))+2))/7)+1","v":16},{"$f":"INT((DM9-LOOKUP(DM9,DATE(YEAR(DM9)+{-1;0;1},1,3)-WEEKDAY(DATE(YEAR(DM9)+{-1;0;1},1,3))+2))/7)+1","v":17},{"$f":"INT((DN9-LOOKUP(DN9,DATE(YEAR(DN9)+{-1;0;1},1,3)-WEEKDAY(DATE(YEAR(DN9)+{-1;0;1},1,3))+2))/7)+1","v":17},{"$f":"INT((DO9-LOOKUP(DO9,DATE(YEAR(DO9)+{-1;0;1},1,3)-WEEKDAY(DATE(YEAR(DO9)+{-1;0;1},1,3))+2))/7)+1","v":17},{"$f":"INT((DP9-LOOKUP(DP9,DATE(YEAR(DP9)+{-1;0;1},1,3)-WEEKDAY(DATE(YEAR(DP9)+{-1;0;1},1,3))+2))/7)+1","v":17},{"$f":"INT((DQ9-LOOKUP(DQ9,DATE(YEAR(DQ9)+{-1;0;1},1,3)-WEEKDAY(DATE(YEAR(DQ9)+{-1;0;1},1,3))+2))/7)+1","v":17},{"$f":"INT((DR9-LOOKUP(DR9,DATE(YEAR(DR9)+{-1;0;1},1,3)-WEEKDAY(DATE(YEAR(DR9)+{-1;0;1},1,3))+2))/7)+1","v":17},{"$f":"INT((DS9-LOOKUP(DS9,DATE(YEAR(DS9)+{-1;0;1},1,3)-WEEKDAY(DATE(YEAR(DS9)+{-1;0;1},1,3))+2))/7)+1","v":17},{"$f":"INT((DT9-LOOKUP(DT9,DATE(YEAR(DT9)+{-1;0;1},1,3)-WEEKDAY(DATE(YEAR(DT9)+{-1;0;1},1,3))+2))/7)+1","v":18},{"$f":"INT((DU9-LOOKUP(DU9,DATE(YEAR(DU9)+{-1;0;1},1,3)-WEEKDAY(DATE(YEAR(DU9)+{-1;0;1},1,3))+2))/7)+1","v":18},{"$f":"INT((DV9-LOOKUP(DV9,DATE(YEAR(DV9)+{-1;0;1},1,3)-WEEKDAY(DATE(YEAR(DV9)+{-1;0;1},1,3))+2))/7)+1","v":18},{"$f":"INT((DW9-LOOKUP(DW9,DATE(YEAR(DW9)+{-1;0;1},1,3)-WEEKDAY(DATE(YEAR(DW9)+{-1;0;1},1,3))+2))/7)+1","v":18},{"$f":"INT((DX9-LOOKUP(DX9,DATE(YEAR(DX9)+{-1;0;1},1,3)-WEEKDAY(DATE(YEAR(DX9)+{-1;0;1},1,3))+2))/7)+1","v":18},{"$f":"INT((DY9-LOOKUP(DY9,DATE(YEAR(DY9)+{-1;0;1},1,3)-WEEKDAY(DATE(YEAR(DY9)+{-1;0;1},1,3))+2))/7)+1","v":18},{"$f":"INT((DZ9-LOOKUP(DZ9,DATE(YEAR(DZ9)+{-1;0;1},1,3)-WEEKDAY(DATE(YEAR(DZ9)+{-1;0;1},1,3))+2))/7)+1","v":18},{"$f":"INT((EA9-LOOKUP(EA9,DATE(YEAR(EA9)+{-1;0;1},1,3)-WEEKDAY(DATE(YEAR(EA9)+{-1;0;1},1,3))+2))/7)+1","v":19},{"$f":"INT((EB9-LOOKUP(EB9,DATE(YEAR(EB9)+{-1;0;1},1,3)-WEEKDAY(DATE(YEAR(EB9)+{-1;0;1},1,3))+2))/7)+1","v":19},{"$f":"INT((EC9-LOOKUP(EC9,DATE(YEAR(EC9)+{-1;0;1},1,3)-WEEKDAY(DATE(YEAR(EC9)+{-1;0;1},1,3))+2))/7)+1","v":19},{"$f":"INT((ED9-LOOKUP(ED9,DATE(YEAR(ED9)+{-1;0;1},1,3)-WEEKDAY(DATE(YEAR(ED9)+{-1;0;1},1,3))+2))/7)+1","v":19},{"$f":"INT((EE9-LOOKUP(EE9,DATE(YEAR(EE9)+{-1;0;1},1,3)-WEEKDAY(DATE(YEAR(EE9)+{-1;0;1},1,3))+2))/7)+1","v":19},{"$f":"INT((EF9-LOOKUP(EF9,DATE(YEAR(EF9)+{-1;0;1},1,3)-WEEKDAY(DATE(YEAR(EF9)+{-1;0;1},1,3))+2))/7)+1","v":19},{"$f":"INT((EG9-LOOKUP(EG9,DATE(YEAR(EG9)+{-1;0;1},1,3)-WEEKDAY(DATE(YEAR(EG9)+{-1;0;1},1,3))+2))/7)+1","v":19},{"$f":"INT((EH9-LOOKUP(EH9,DATE(YEAR(EH9)+{-1;0;1},1,3)-WEEKDAY(DATE(YEAR(EH9)+{-1;0;1},1,3))+2))/7)+1","v":20},{"$f":"INT((EI9-LOOKUP(EI9,DATE(YEAR(EI9)+{-1;0;1},1,3)-WEEKDAY(DATE(YEAR(EI9)+{-1;0;1},1,3))+2))/7)+1","v":20},{"$f":"INT((EJ9-LOOKUP(EJ9,DATE(YEAR(EJ9)+{-1;0;1},1,3)-WEEKDAY(DATE(YEAR(EJ9)+{-1;0;1},1,3))+2))/7)+1","v":20},{"$f":"INT((EK9-LOOKUP(EK9,DATE(YEAR(EK9)+{-1;0;1},1,3)-WEEKDAY(DATE(YEAR(EK9)+{-1;0;1},1,3))+2))/7)+1","v":20},{"$f":"INT((EL9-LOOKUP(EL9,DATE(YEAR(EL9)+{-1;0;1},1,3)-WEEKDAY(DATE(YEAR(EL9)+{-1;0;1},1,3))+2))/7)+1","v":20},{"$f":"INT((EM9-LOOKUP(EM9,DATE(YEAR(EM9)+{-1;0;1},1,3)-WEEKDAY(DATE(YEAR(EM9)+{-1;0;1},1,3))+2))/7)+1","v":20},{"$f":"INT((EN9-LOOKUP(EN9,DATE(YEAR(EN9)+{-1;0;1},1,3)-WEEKDAY(DATE(YEAR(EN9)+{-1;0;1},1,3))+2))/7)+1","v":20},{"$f":"INT((EO9-LOOKUP(EO9,DATE(YEAR(EO9)+{-1;0;1},1,3)-WEEKDAY(DATE(YEAR(EO9)+{-1;0;1},1,3))+2))/7)+1","v":21},{"$f":"INT((EP9-LOOKUP(EP9,DATE(YEAR(EP9)+{-1;0;1},1,3)-WEEKDAY(DATE(YEAR(EP9)+{-1;0;1},1,3))+2))/7)+1","v":21},{"$f":"INT((EQ9-LOOKUP(EQ9,DATE(YEAR(EQ9)+{-1;0;1},1,3)-WEEKDAY(DATE(YEAR(EQ9)+{-1;0;1},1,3))+2))/7)+1","v":21},{"$f":"INT((ER9-LOOKUP(ER9,DATE(YEAR(ER9)+{-1;0;1},1,3)-WEEKDAY(DATE(YEAR(ER9)+{-1;0;1},1,3))+2))/7)+1","v":21},{"$f":"INT((ES9-LOOKUP(ES9,DATE(YEAR(ES9)+{-1;0;1},1,3)-WEEKDAY(DATE(YEAR(ES9)+{-1;0;1},1,3))+2))/7)+1","v":21},{"$f":"INT((ET9-LOOKUP(ET9,DATE(YEAR(ET9)+{-1;0;1},1,3)-WEEKDAY(DATE(YEAR(ET9)+{-1;0;1},1,3))+2))/7)+1","v":21},{"$f":"INT((EU9-LOOKUP(EU9,DATE(YEAR(EU9)+{-1;0;1},1,3)-WEEKDAY(DATE(YEAR(EU9)+{-1;0;1},1,3))+2))/7)+1","v":21},{"$f":"INT((EV9-LOOKUP(EV9,DATE(YEAR(EV9)+{-1;0;1},1,3)-WEEKDAY(DATE(YEAR(EV9)+{-1;0;1},1,3))+2))/7)+1","v":22},{"$f":"INT((EW9-LOOKUP(EW9,DATE(YEAR(EW9)+{-1;0;1},1,3)-WEEKDAY(DATE(YEAR(EW9)+{-1;0;1},1,3))+2))/7)+1","v":22},{"$f":"INT((EX9-LOOKUP(EX9,DATE(YEAR(EX9)+{-1;0;1},1,3)-WEEKDAY(DATE(YEAR(EX9)+{-1;0;1},1,3))+2))/7)+1","v":22},{"$f":"INT((EY9-LOOKUP(EY9,DATE(YEAR(EY9)+{-1;0;1},1,3)-WEEKDAY(DATE(YEAR(EY9)+{-1;0;1},1,3))+2))/7)+1","v":22},{"$f":"INT((EZ9-LOOKUP(EZ9,DATE(YEAR(EZ9)+{-1;0;1},1,3)-WEEKDAY(DATE(YEAR(EZ9)+{-1;0;1},1,3))+2))/7)+1","v":22},{"$f":"INT((FA9-LOOKUP(FA9,DATE(YEAR(FA9)+{-1;0;1},1,3)-WEEKDAY(DATE(YEAR(FA9)+{-1;0;1},1,3))+2))/7)+1","v":22},{"$f":"INT((FB9-LOOKUP(FB9,DATE(YEAR(FB9)+{-1;0;1},1,3)-WEEKDAY(DATE(YEAR(FB9)+{-1;0;1},1,3))+2))/7)+1","v":22},{"$f":"INT((FC9-LOOKUP(FC9,DATE(YEAR(FC9)+{-1;0;1},1,3)-WEEKDAY(DATE(YEAR(FC9)+{-1;0;1},1,3))+2))/7)+1","v":23},{"$f":"INT((FD9-LOOKUP(FD9,DATE(YEAR(FD9)+{-1;0;1},1,3)-WEEKDAY(DATE(YEAR(FD9)+{-1;0;1},1,3))+2))/7)+1","v":23},{"$f":"INT((FE9-LOOKUP(FE9,DATE(YEAR(FE9)+{-1;0;1},1,3)-WEEKDAY(DATE(YEAR(FE9)+{-1;0;1},1,3))+2))/7)+1","v":23},{"$f":"INT((FF9-LOOKUP(FF9,DATE(YEAR(FF9)+{-1;0;1},1,3)-WEEKDAY(DATE(YEAR(FF9)+{-1;0;1},1,3))+2))/7)+1","v":23},{"$f":"INT((FG9-LOOKUP(FG9,DATE(YEAR(FG9)+{-1;0;1},1,3)-WEEKDAY(DATE(YEAR(FG9)+{-1;0;1},1,3))+2))/7)+1","v":23},{"$f":"INT((FH9-LOOKUP(FH9,DATE(YEAR(FH9)+{-1;0;1},1,3)-WEEKDAY(DATE(YEAR(FH9)+{-1;0;1},1,3))+2))/7)+1","v":23},{"$f":"INT((FI9-LOOKUP(FI9,DATE(YEAR(FI9)+{-1;0;1},1,3)-WEEKDAY(DATE(YEAR(FI9)+{-1;0;1},1,3))+2))/7)+1","v":23},{"$f":"INT((FJ9-LOOKUP(FJ9,DATE(YEAR(FJ9)+{-1;0;1},1,3)-WEEKDAY(DATE(YEAR(FJ9)+{-1;0;1},1,3))+2))/7)+1","v":24},{"$f":"INT((FK9-LOOKUP(FK9,DATE(YEAR(FK9)+{-1;0;1},1,3)-WEEKDAY(DATE(YEAR(FK9)+{-1;0;1},1,3))+2))/7)+1","v":24},{"$f":"INT((FL9-LOOKUP(FL9,DATE(YEAR(FL9)+{-1;0;1},1,3)-WEEKDAY(DATE(YEAR(FL9)+{-1;0;1},1,3))+2))/7)+1","v":24},{"$f":"INT((FM9-LOOKUP(FM9,DATE(YEAR(FM9)+{-1;0;1},1,3)-WEEKDAY(DATE(YEAR(FM9)+{-1;0;1},1,3))+2))/7)+1","v":24},{"$f":"INT((FN9-LOOKUP(FN9,DATE(YEAR(FN9)+{-1;0;1},1,3)-WEEKDAY(DATE(YEAR(FN9)+{-1;0;1},1,3))+2))/7)+1","v":24},{"$f":"INT((FO9-LOOKUP(FO9,DATE(YEAR(FO9)+{-1;0;1},1,3)-WEEKDAY(DATE(YEAR(FO9)+{-1;0;1},1,3))+2))/7)+1","v":24},{"$f":"INT((FP9-LOOKUP(FP9,DATE(YEAR(FP9)+{-1;0;1},1,3)-WEEKDAY(DATE(YEAR(FP9)+{-1;0;1},1,3))+2))/7)+1","v":24},{"$f":"INT((FQ9-LOOKUP(FQ9,DATE(YEAR(FQ9)+{-1;0;1},1,3)-WEEKDAY(DATE(YEAR(FQ9)+{-1;0;1},1,3))+2))/7)+1","v":25},{"$f":"INT((FR9-LOOKUP(FR9,DATE(YEAR(FR9)+{-1;0;1},1,3)-WEEKDAY(DATE(YEAR(FR9)+{-1;0;1},1,3))+2))/7)+1","v":25},{"$f":"INT((FS9-LOOKUP(FS9,DATE(YEAR(FS9)+{-1;0;1},1,3)-WEEKDAY(DATE(YEAR(FS9)+{-1;0;1},1,3))+2))/7)+1","v":25},{"$f":"INT((FT9-LOOKUP(FT9,DATE(YEAR(FT9)+{-1;0;1},1,3)-WEEKDAY(DATE(YEAR(FT9)+{-1;0;1},1,3))+2))/7)+1","v":25},{"$f":"INT((FU9-LOOKUP(FU9,DATE(YEAR(FU9)+{-1;0;1},1,3)-WEEKDAY(DATE(YEAR(FU9)+{-1;0;1},1,3))+2))/7)+1","v":25},{"$f":"INT((FV9-LOOKUP(FV9,DATE(YEAR(FV9)+{-1;0;1},1,3)-WEEKDAY(DATE(YEAR(FV9)+{-1;0;1},1,3))+2))/7)+1","v":25},{"$f":"INT((FW9-LOOKUP(FW9,DATE(YEAR(FW9)+{-1;0;1},1,3)-WEEKDAY(DATE(YEAR(FW9)+{-1;0;1},1,3))+2))/7)+1","v":25},{"$f":"INT((FX9-LOOKUP(FX9,DATE(YEAR(FX9)+{-1;0;1},1,3)-WEEKDAY(DATE(YEAR(FX9)+{-1;0;1},1,3))+2))/7)+1","v":26},{"$f":"INT((FY9-LOOKUP(FY9,DATE(YEAR(FY9)+{-1;0;1},1,3)-WEEKDAY(DATE(YEAR(FY9)+{-1;0;1},1,3))+2))/7)+1","v":26},{"$f":"INT((FZ9-LOOKUP(FZ9,DATE(YEAR(FZ9)+{-1;0;1},1,3)-WEEKDAY(DATE(YEAR(FZ9)+{-1;0;1},1,3))+2))/7)+1","v":26},{"$f":"INT((GA9-LOOKUP(GA9,DATE(YEAR(GA9)+{-1;0;1},1,3)-WEEKDAY(DATE(YEAR(GA9)+{-1;0;1},1,3))+2))/7)+1","v":26},{"$f":"INT((GB9-LOOKUP(GB9,DATE(YEAR(GB9)+{-1;0;1},1,3)-WEEKDAY(DATE(YEAR(GB9)+{-1;0;1},1,3))+2))/7)+1","v":26},{"$f":"INT((GC9-LOOKUP(GC9,DATE(YEAR(GC9)+{-1;0;1},1,3)-WEEKDAY(DATE(YEAR(GC9)+{-1;0;1},1,3))+2))/7)+1","v":26},{"$f":"INT((GD9-LOOKUP(GD9,DATE(YEAR(GD9)+{-1;0;1},1,3)-WEEKDAY(DATE(YEAR(GD9)+{-1;0;1},1,3))+2))/7)+1","v":26},{"$f":"INT((GE9-LOOKUP(GE9,DATE(YEAR(GE9)+{-1;0;1},1,3)-WEEKDAY(DATE(YEAR(GE9)+{-1;0;1},1,3))+2))/7)+1","v":27},{"$f":"INT((GF9-LOOKUP(GF9,DATE(YEAR(GF9)+{-1;0;1},1,3)-WEEKDAY(DATE(YEAR(GF9)+{-1;0;1},1,3))+2))/7)+1","v":27},{"$f":"INT((GG9-LOOKUP(GG9,DATE(YEAR(GG9)+{-1;0;1},1,3)-WEEKDAY(DATE(YEAR(GG9)+{-1;0;1},1,3))+2))/7)+1","v":27},{"$f":"INT((GH9-LOOKUP(GH9,DATE(YEAR(GH9)+{-1;0;1},1,3)-WEEKDAY(DATE(YEAR(GH9)+{-1;0;1},1,3))+2))/7)+1","v":27},{"$f":"INT((GI9-LOOKUP(GI9,DATE(YEAR(GI9)+{-1;0;1},1,3)-WEEKDAY(DATE(YEAR(GI9)+{-1;0;1},1,3))+2))/7)+1","v":27},{"$f":"INT((GJ9-LOOKUP(GJ9,DATE(YEAR(GJ9)+{-1;0;1},1,3)-WEEKDAY(DATE(YEAR(GJ9)+{-1;0;1},1,3))+2))/7)+1","v":27},{"$f":"INT((GK9-LOOKUP(GK9,DATE(YEAR(GK9)+{-1;0;1},1,3)-WEEKDAY(DATE(YEAR(GK9)+{-1;0;1},1,3))+2))/7)+1","v":27},{"$f":"INT((GL9-LOOKUP(GL9,DATE(YEAR(GL9)+{-1;0;1},1,3)-WEEKDAY(DATE(YEAR(GL9)+{-1;0;1},1,3))+2))/7)+1","v":28},{"$f":"INT((GM9-LOOKUP(GM9,DATE(YEAR(GM9)+{-1;0;1},1,3)-WEEKDAY(DATE(YEAR(GM9)+{-1;0;1},1,3))+2))/7)+1","v":28},{"$f":"INT((GN9-LOOKUP(GN9,DATE(YEAR(GN9)+{-1;0;1},1,3)-WEEKDAY(DATE(YEAR(GN9)+{-1;0;1},1,3))+2))/7)+1","v":28},{"$f":"INT((GO9-LOOKUP(GO9,DATE(YEAR(GO9)+{-1;0;1},1,3)-WEEKDAY(DATE(YEAR(GO9)+{-1;0;1},1,3))+2))/7)+1","v":28},{"$f":"INT((GP9-LOOKUP(GP9,DATE(YEAR(GP9)+{-1;0;1},1,3)-WEEKDAY(DATE(YEAR(GP9)+{-1;0;1},1,3))+2))/7)+1","v":28},{"$f":"INT((GQ9-LOOKUP(GQ9,DATE(YEAR(GQ9)+{-1;0;1},1,3)-WEEKDAY(DATE(YEAR(GQ9)+{-1;0;1},1,3))+2))/7)+1","v":28},{"$f":"INT((GR9-LOOKUP(GR9,DATE(YEAR(GR9)+{-1;0;1},1,3)-WEEKDAY(DATE(YEAR(GR9)+{-1;0;1},1,3))+2))/7)+1","v":28},{"$f":"INT((GS9-LOOKUP(GS9,DATE(YEAR(GS9)+{-1;0;1},1,3)-WEEKDAY(DATE(YEAR(GS9)+{-1;0;1},1,3))+2))/7)+1","v":29},{"$f":"INT((GT9-LOOKUP(GT9,DATE(YEAR(GT9)+{-1;0;1},1,3)-WEEKDAY(DATE(YEAR(GT9)+{-1;0;1},1,3))+2))/7)+1","v":29},{"$f":"INT((GU9-LOOKUP(GU9,DATE(YEAR(GU9)+{-1;0;1},1,3)-WEEKDAY(DATE(YEAR(GU9)+{-1;0;1},1,3))+2))/7)+1","v":29},{"$f":"INT((GV9-LOOKUP(GV9,DATE(YEAR(GV9)+{-1;0;1},1,3)-WEEKDAY(DATE(YEAR(GV9)+{-1;0;1},1,3))+2))/7)+1","v":29},{"$f":"INT((GW9-LOOKUP(GW9,DATE(YEAR(GW9)+{-1;0;1},1,3)-WEEKDAY(DATE(YEAR(GW9)+{-1;0;1},1,3))+2))/7)+1","v":29},{"$f":"INT((GX9-LOOKUP(GX9,DATE(YEAR(GX9)+{-1;0;1},1,3)-WEEKDAY(DATE(YEAR(GX9)+{-1;0;1},1,3))+2))/7)+1","v":29},{"$f":"INT((GY9-LOOKUP(GY9,DATE(YEAR(GY9)+{-1;0;1},1,3)-WEEKDAY(DATE(YEAR(GY9)+{-1;0;1},1,3))+2))/7)+1","v":29},{"$f":"INT((GZ9-LOOKUP(GZ9,DATE(YEAR(GZ9)+{-1;0;1},1,3)-WEEKDAY(DATE(YEAR(GZ9)+{-1;0;1},1,3))+2))/7)+1","v":30},{"$f":"INT((HA9-LOOKUP(HA9,DATE(YEAR(HA9)+{-1;0;1},1,3)-WEEKDAY(DATE(YEAR(HA9)+{-1;0;1},1,3))+2))/7)+1","v":30},{"$f":"INT((HB9-LOOKUP(HB9,DATE(YEAR(HB9)+{-1;0;1},1,3)-WEEKDAY(DATE(YEAR(HB9)+{-1;0;1},1,3))+2))/7)+1","v":30},{"$f":"INT((HC9-LOOKUP(HC9,DATE(YEAR(HC9)+{-1;0;1},1,3)-WEEKDAY(DATE(YEAR(HC9)+{-1;0;1},1,3))+2))/7)+1","v":30},{"$f":"INT((HD9-LOOKUP(HD9,DATE(YEAR(HD9)+{-1;0;1},1,3)-WEEKDAY(DATE(YEAR(HD9)+{-1;0;1},1,3))+2))/7)+1","v":30},{"$f":"INT((HE9-LOOKUP(HE9,DATE(YEAR(HE9)+{-1;0;1},1,3)-WEEKDAY(DATE(YEAR(HE9)+{-1;0;1},1,3))+2))/7)+1","v":30},{"$f":"INT((HF9-LOOKUP(HF9,DATE(YEAR(HF9)+{-1;0;1},1,3)-WEEKDAY(DATE(YEAR(HF9)+{-1;0;1},1,3))+2))/7)+1","v":30},{"$f":"INT((HG9-LOOKUP(HG9,DATE(YEAR(HG9)+{-1;0;1},1,3)-WEEKDAY(DATE(YEAR(HG9)+{-1;0;1},1,3))+2))/7)+1","v":31},{"$f":"INT((HH9-LOOKUP(HH9,DATE(YEAR(HH9)+{-1;0;1},1,3)-WEEKDAY(DATE(YEAR(HH9)+{-1;0;1},1,3))+2))/7)+1","v":31},{"$f":"INT((HI9-LOOKUP(HI9,DATE(YEAR(HI9)+{-1;0;1},1,3)-WEEKDAY(DATE(YEAR(HI9)+{-1;0;1},1,3))+2))/7)+1","v":31},{"$f":"INT((HJ9-LOOKUP(HJ9,DATE(YEAR(HJ9)+{-1;0;1},1,3)-WEEKDAY(DATE(YEAR(HJ9)+{-1;0;1},1,3))+2))/7)+1","v":31},{"$f":"INT((HK9-LOOKUP(HK9,DATE(YEAR(HK9)+{-1;0;1},1,3)-WEEKDAY(DATE(YEAR(HK9)+{-1;0;1},1,3))+2))/7)+1","v":31},{"$f":"INT((HL9-LOOKUP(HL9,DATE(YEAR(HL9)+{-1;0;1},1,3)-WEEKDAY(DATE(YEAR(HL9)+{-1;0;1},1,3))+2))/7)+1","v":31},{"$f":"INT((HM9-LOOKUP(HM9,DATE(YEAR(HM9)+{-1;0;1},1,3)-WEEKDAY(DATE(YEAR(HM9)+{-1;0;1},1,3))+2))/7)+1","v":31},{"$f":"INT((HN9-LOOKUP(HN9,DATE(YEAR(HN9)+{-1;0;1},1,3)-WEEKDAY(DATE(YEAR(HN9)+{-1;0;1},1,3))+2))/7)+1","v":32},{"$f":"INT((HO9-LOOKUP(HO9,DATE(YEAR(HO9)+{-1;0;1},1,3)-WEEKDAY(DATE(YEAR(HO9)+{-1;0;1},1,3))+2))/7)+1","v":32},{"$f":"INT((HP9-LOOKUP(HP9,DATE(YEAR(HP9)+{-1;0;1},1,3)-WEEKDAY(DATE(YEAR(HP9)+{-1;0;1},1,3))+2))/7)+1","v":32},{"$f":"INT((HQ9-LOOKUP(HQ9,DATE(YEAR(HQ9)+{-1;0;1},1,3)-WEEKDAY(DATE(YEAR(HQ9)+{-1;0;1},1,3))+2))/7)+1","v":32},{"$f":"INT((HR9-LOOKUP(HR9,DATE(YEAR(HR9)+{-1;0;1},1,3)-WEEKDAY(DATE(YEAR(HR9)+{-1;0;1},1,3))+2))/7)+1","v":32},{"$f":"INT((HS9-LOOKUP(HS9,DATE(YEAR(HS9)+{-1;0;1},1,3)-WEEKDAY(DATE(YEAR(HS9)+{-1;0;1},1,3))+2))/7)+1","v":32},{"$f":"INT((HT9-LOOKUP(HT9,DATE(YEAR(HT9)+{-1;0;1},1,3)-WEEKDAY(DATE(YEAR(HT9)+{-1;0;1},1,3))+2))/7)+1","v":32},{"$f":"INT((HU9-LOOKUP(HU9,DATE(YEAR(HU9)+{-1;0;1},1,3)-WEEKDAY(DATE(YEAR(HU9)+{-1;0;1},1,3))+2))/7)+1","v":33},{"$f":"INT((HV9-LOOKUP(HV9,DATE(YEAR(HV9)+{-1;0;1},1,3)-WEEKDAY(DATE(YEAR(HV9)+{-1;0;1},1,3))+2))/7)+1","v":33},{"$f":"INT((HW9-LOOKUP(HW9,DATE(YEAR(HW9)+{-1;0;1},1,3)-WEEKDAY(DATE(YEAR(HW9)+{-1;0;1},1,3))+2))/7)+1","v":33},{"$f":"INT((HX9-LOOKUP(HX9,DATE(YEAR(HX9)+{-1;0;1},1,3)-WEEKDAY(DATE(YEAR(HX9)+{-1;0;1},1,3))+2))/7)+1","v":33},{"$f":"INT((HY9-LOOKUP(HY9,DATE(YEAR(HY9)+{-1;0;1},1,3)-WEEKDAY(DATE(YEAR(HY9)+{-1;0;1},1,3))+2))/7)+1","v":33},{"$f":"INT((HZ9-LOOKUP(HZ9,DATE(YEAR(HZ9)+{-1;0;1},1,3)-WEEKDAY(DATE(YEAR(HZ9)+{-1;0;1},1,3))+2))/7)+1","v":33},{"$f":"INT((IA9-LOOKUP(IA9,DATE(YEAR(IA9)+{-1;0;1},1,3)-WEEKDAY(DATE(YEAR(IA9)+{-1;0;1},1,3))+2))/7)+1","v":33},{"$f":"INT((IB9-LOOKUP(IB9,DATE(YEAR(IB9)+{-1;0;1},1,3)-WEEKDAY(DATE(YEAR(IB9)+{-1;0;1},1,3))+2))/7)+1","v":34},{"$f":"INT((IC9-LOOKUP(IC9,DATE(YEAR(IC9)+{-1;0;1},1,3)-WEEKDAY(DATE(YEAR(IC9)+{-1;0;1},1,3))+2))/7)+1","v":34},{"$f":"INT((ID9-LOOKUP(ID9,DATE(YEAR(ID9)+{-1;0;1},1,3)-WEEKDAY(DATE(YEAR(ID9)+{-1;0;1},1,3))+2))/7)+1","v":34},{"$f":"INT((IE9-LOOKUP(IE9,DATE(YEAR(IE9)+{-1;0;1},1,3)-WEEKDAY(DATE(YEAR(IE9)+{-1;0;1},1,3))+2))/7)+1","v":34},{"$f":"INT((IF9-LOOKUP(IF9,DATE(YEAR(IF9)+{-1;0;1},1,3)-WEEKDAY(DATE(YEAR(IF9)+{-1;0;1},1,3))+2))/7)+1","v":34},{"$f":"INT((IG9-LOOKUP(IG9,DATE(YEAR(IG9)+{-1;0;1},1,3)-WEEKDAY(DATE(YEAR(IG9)+{-1;0;1},1,3))+2))/7)+1","v":34},{"$f":"INT((IH9-LOOKUP(IH9,DATE(YEAR(IH9)+{-1;0;1},1,3)-WEEKDAY(DATE(YEAR(IH9)+{-1;0;1},1,3))+2))/7)+1","v":34},{"$f":"INT((II9-LOOKUP(II9,DATE(YEAR(II9)+{-1;0;1},1,3)-WEEKDAY(DATE(YEAR(II9)+{-1;0;1},1,3))+2))/7)+1","v":35},{"$f":"INT((IJ9-LOOKUP(IJ9,DATE(YEAR(IJ9)+{-1;0;1},1,3)-WEEKDAY(DATE(YEAR(IJ9)+{-1;0;1},1,3))+2))/7)+1","v":35},{"$f":"INT((IK9-LOOKUP(IK9,DATE(YEAR(IK9)+{-1;0;1},1,3)-WEEKDAY(DATE(YEAR(IK9)+{-1;0;1},1,3))+2))/7)+1","v":35},{"$f":"INT((IL9-LOOKUP(IL9,DATE(YEAR(IL9)+{-1;0;1},1,3)-WEEKDAY(DATE(YEAR(IL9)+{-1;0;1},1,3))+2))/7)+1","v":35},{"$f":"INT((IM9-LOOKUP(IM9,DATE(YEAR(IM9)+{-1;0;1},1,3)-WEEKDAY(DATE(YEAR(IM9)+{-1;0;1},1,3))+2))/7)+1","v":35},{"$f":"INT((IN9-LOOKUP(IN9,DATE(YEAR(IN9)+{-1;0;1},1,3)-WEEKDAY(DATE(YEAR(IN9)+{-1;0;1},1,3))+2))/7)+1","v":35},{"$f":"INT((IO9-LOOKUP(IO9,DATE(YEAR(IO9)+{-1;0;1},1,3)-WEEKDAY(DATE(YEAR(IO9)+{-1;0;1},1,3))+2))/7)+1","v":35},{"$f":"INT((IP9-LOOKUP(IP9,DATE(YEAR(IP9)+{-1;0;1},1,3)-WEEKDAY(DATE(YEAR(IP9)+{-1;0;1},1,3))+2))/7)+1","v":36},{"$f":"INT((IQ9-LOOKUP(IQ9,DATE(YEAR(IQ9)+{-1;0;1},1,3)-WEEKDAY(DATE(YEAR(IQ9)+{-1;0;1},1,3))+2))/7)+1","v":36},{"$f":"INT((IR9-LOOKUP(IR9,DATE(YEAR(IR9)+{-1;0;1},1,3)-WEEKDAY(DATE(YEAR(IR9)+{-1;0;1},1,3))+2))/7)+1","v":36},{"$f":"INT((IS9-LOOKUP(IS9,DATE(YEAR(IS9)+{-1;0;1},1,3)-WEEKDAY(DATE(YEAR(IS9)+{-1;0;1},1,3))+2))/7)+1","v":36},{"$f":"INT((IT9-LOOKUP(IT9,DATE(YEAR(IT9)+{-1;0;1},1,3)-WEEKDAY(DATE(YEAR(IT9)+{-1;0;1},1,3))+2))/7)+1","v":36},{"$f":"INT((IU9-LOOKUP(IU9,DATE(YEAR(IU9)+{-1;0;1},1,3)-WEEKDAY(DATE(YEAR(IU9)+{-1;0;1},1,3))+2))/7)+1","v":36},{"$f":"INT((IV9-LOOKUP(IV9,DATE(YEAR(IV9)+{-1;0;1},1,3)-WEEKDAY(DATE(YEAR(IV9)+{-1;0;1},1,3))+2))/7)+1","v":36},{"$f":"INT((IW9-LOOKUP(IW9,DATE(YEAR(IW9)+{-1;0;1},1,3)-WEEKDAY(DATE(YEAR(IW9)+{-1;0;1},1,3))+2))/7)+1","v":37},{"$f":"INT((IX9-LOOKUP(IX9,DATE(YEAR(IX9)+{-1;0;1},1,3)-WEEKDAY(DATE(YEAR(IX9)+{-1;0;1},1,3))+2))/7)+1","v":37},{"$f":"INT((IY9-LOOKUP(IY9,DATE(YEAR(IY9)+{-1;0;1},1,3)-WEEKDAY(DATE(YEAR(IY9)+{-1;0;1},1,3))+2))/7)+1","v":37},{"$f":"INT((IZ9-LOOKUP(IZ9,DATE(YEAR(IZ9)+{-1;0;1},1,3)-WEEKDAY(DATE(YEAR(IZ9)+{-1;0;1},1,3))+2))/7)+1","v":37},{"$f":"INT((JA9-LOOKUP(JA9,DATE(YEAR(JA9)+{-1;0;1},1,3)-WEEKDAY(DATE(YEAR(JA9)+{-1;0;1},1,3))+2))/7)+1","v":37},{"$f":"INT((JB9-LOOKUP(JB9,DATE(YEAR(JB9)+{-1;0;1},1,3)-WEEKDAY(DATE(YEAR(JB9)+{-1;0;1},1,3))+2))/7)+1","v":37},{"$f":"INT((JC9-LOOKUP(JC9,DATE(YEAR(JC9)+{-1;0;1},1,3)-WEEKDAY(DATE(YEAR(JC9)+{-1;0;1},1,3))+2))/7)+1","v":37},{"$f":"INT((JD9-LOOKUP(JD9,DATE(YEAR(JD9)+{-1;0;1},1,3)-WEEKDAY(DATE(YEAR(JD9)+{-1;0;1},1,3))+2))/7)+1","v":38},{"$f":"INT((JE9-LOOKUP(JE9,DATE(YEAR(JE9)+{-1;0;1},1,3)-WEEKDAY(DATE(YEAR(JE9)+{-1;0;1},1,3))+2))/7)+1","v":38},{"$f":"INT((JF9-LOOKUP(JF9,DATE(YEAR(JF9)+{-1;0;1},1,3)-WEEKDAY(DATE(YEAR(JF9)+{-1;0;1},1,3))+2))/7)+1","v":38},{"$f":"INT((JG9-LOOKUP(JG9,DATE(YEAR(JG9)+{-1;0;1},1,3)-WEEKDAY(DATE(YEAR(JG9)+{-1;0;1},1,3))+2))/7)+1","v":38},{"$f":"INT((JH9-LOOKUP(JH9,DATE(YEAR(JH9)+{-1;0;1},1,3)-WEEKDAY(DATE(YEAR(JH9)+{-1;0;1},1,3))+2))/7)+1","v":38},{"$f":"INT((JI9-LOOKUP(JI9,DATE(YEAR(JI9)+{-1;0;1},1,3)-WEEKDAY(DATE(YEAR(JI9)+{-1;0;1},1,3))+2))/7)+1","v":38},{"$f":"INT((JJ9-LOOKUP(JJ9,DATE(YEAR(JJ9)+{-1;0;1},1,3)-WEEKDAY(DATE(YEAR(JJ9)+{-1;0;1},1,3))+2))/7)+1","v":38},{"$f":"INT((JK9-LOOKUP(JK9,DATE(YEAR(JK9)+{-1;0;1},1,3)-WEEKDAY(DATE(YEAR(JK9)+{-1;0;1},1,3))+2))/7)+1","v":39},{"$f":"INT((JL9-LOOKUP(JL9,DATE(YEAR(JL9)+{-1;0;1},1,3)-WEEKDAY(DATE(YEAR(JL9)+{-1;0;1},1,3))+2))/7)+1","v":39},{"$f":"INT((JM9-LOOKUP(JM9,DATE(YEAR(JM9)+{-1;0;1},1,3)-WEEKDAY(DATE(YEAR(JM9)+{-1;0;1},1,3))+2))/7)+1","v":39},{"$f":"INT((JN9-LOOKUP(JN9,DATE(YEAR(JN9)+{-1;0;1},1,3)-WEEKDAY(DATE(YEAR(JN9)+{-1;0;1},1,3))+2))/7)+1","v":39},{"$f":"INT((JO9-LOOKUP(JO9,DATE(YEAR(JO9)+{-1;0;1},1,3)-WEEKDAY(DATE(YEAR(JO9)+{-1;0;1},1,3))+2))/7)+1","v":39},{"$f":"INT((JP9-LOOKUP(JP9,DATE(YEAR(JP9)+{-1;0;1},1,3)-WEEKDAY(DATE(YEAR(JP9)+{-1;0;1},1,3))+2))/7)+1","v":39},{"$f":"INT((JQ9-LOOKUP(JQ9,DATE(YEAR(JQ9)+{-1;0;1},1,3)-WEEKDAY(DATE(YEAR(JQ9)+{-1;0;1},1,3))+2))/7)+1","v":39},{"$f":"INT((JR9-LOOKUP(JR9,DATE(YEAR(JR9)+{-1;0;1},1,3)-WEEKDAY(DATE(YEAR(JR9)+{-1;0;1},1,3))+2))/7)+1","v":40},{"$f":"INT((JS9-LOOKUP(JS9,DATE(YEAR(JS9)+{-1;0;1},1,3)-WEEKDAY(DATE(YEAR(JS9)+{-1;0;1},1,3))+2))/7)+1","v":40},{"$f":"INT((JT9-LOOKUP(JT9,DATE(YEAR(JT9)+{-1;0;1},1,3)-WEEKDAY(DATE(YEAR(JT9)+{-1;0;1},1,3))+2))/7)+1","v":40},{"$f":"INT((JU9-LOOKUP(JU9,DATE(YEAR(JU9)+{-1;0;1},1,3)-WEEKDAY(DATE(YEAR(JU9)+{-1;0;1},1,3))+2))/7)+1","v":40},{"$f":"INT((JV9-LOOKUP(JV9,DATE(YEAR(JV9)+{-1;0;1},1,3)-WEEKDAY(DATE(YEAR(JV9)+{-1;0;1},1,3))+2))/7)+1","v":40},{"$f":"INT((JW9-LOOKUP(JW9,DATE(YEAR(JW9)+{-1;0;1},1,3)-WEEKDAY(DATE(YEAR(JW9)+{-1;0;1},1,3))+2))/7)+1","v":40},{"$f":"INT((JX9-LOOKUP(JX9,DATE(YEAR(JX9)+{-1;0;1},1,3)-WEEKDAY(DATE(YEAR(JX9)+{-1;0;1},1,3))+2))/7)+1","v":40},{"$f":"INT((JY9-LOOKUP(JY9,DATE(YEAR(JY9)+{-1;0;1},1,3)-WEEKDAY(DATE(YEAR(JY9)+{-1;0;1},1,3))+2))/7)+1","v":41},{"$f":"INT((JZ9-LOOKUP(JZ9,DATE(YEAR(JZ9)+{-1;0;1},1,3)-WEEKDAY(DATE(YEAR(JZ9)+{-1;0;1},1,3))+2))/7)+1","v":41},{"$f":"INT((KA9-LOOKUP(KA9,DATE(YEAR(KA9)+{-1;0;1},1,3)-WEEKDAY(DATE(YEAR(KA9)+{-1;0;1},1,3))+2))/7)+1","v":41},{"$f":"INT((KB9-LOOKUP(KB9,DATE(YEAR(KB9)+{-1;0;1},1,3)-WEEKDAY(DATE(YEAR(KB9)+{-1;0;1},1,3))+2))/7)+1","v":41},{"$f":"INT((KC9-LOOKUP(KC9,DATE(YEAR(KC9)+{-1;0;1},1,3)-WEEKDAY(DATE(YEAR(KC9)+{-1;0;1},1,3))+2))/7)+1","v":41},{"$f":"INT((KD9-LOOKUP(KD9,DATE(YEAR(KD9)+{-1;0;1},1,3)-WEEKDAY(DATE(YEAR(KD9)+{-1;0;1},1,3))+2))/7)+1","v":41},{"$f":"INT((KE9-LOOKUP(KE9,DATE(YEAR(KE9)+{-1;0;1},1,3)-WEEKDAY(DATE(YEAR(KE9)+{-1;0;1},1,3))+2))/7)+1","v":41},{"$f":"INT((KF9-LOOKUP(KF9,DATE(YEAR(KF9)+{-1;0;1},1,3)-WEEKDAY(DATE(YEAR(KF9)+{-1;0;1},1,3))+2))/7)+1","v":42},{"$f":"INT((KG9-LOOKUP(KG9,DATE(YEAR(KG9)+{-1;0;1},1,3)-WEEKDAY(DATE(YEAR(KG9)+{-1;0;1},1,3))+2))/7)+1","v":42},{"$f":"INT((KH9-LOOKUP(KH9,DATE(YEAR(KH9)+{-1;0;1},1,3)-WEEKDAY(DATE(YEAR(KH9)+{-1;0;1},1,3))+2))/7)+1","v":42},{"$f":"INT((KI9-LOOKUP(KI9,DATE(YEAR(KI9)+{-1;0;1},1,3)-WEEKDAY(DATE(YEAR(KI9)+{-1;0;1},1,3))+2))/7)+1","v":42},{"$f":"INT((KJ9-LOOKUP(KJ9,DATE(YEAR(KJ9)+{-1;0;1},1,3)-WEEKDAY(DATE(YEAR(KJ9)+{-1;0;1},1,3))+2))/7)+1","v":42},{"$f":"INT((KK9-LOOKUP(KK9,DATE(YEAR(KK9)+{-1;0;1},1,3)-WEEKDAY(DATE(YEAR(KK9)+{-1;0;1},1,3))+2))/7)+1","v":42},{"$f":"INT((KL9-LOOKUP(KL9,DATE(YEAR(KL9)+{-1;0;1},1,3)-WEEKDAY(DATE(YEAR(KL9)+{-1;0;1},1,3))+2))/7)+1","v":42},{"$f":"INT((KM9-LOOKUP(KM9,DATE(YEAR(KM9)+{-1;0;1},1,3)-WEEKDAY(DATE(YEAR(KM9)+{-1;0;1},1,3))+2))/7)+1","v":43},{"$f":"INT((KN9-LOOKUP(KN9,DATE(YEAR(KN9)+{-1;0;1},1,3)-WEEKDAY(DATE(YEAR(KN9)+{-1;0;1},1,3))+2))/7)+1","v":43},{"$f":"INT((KO9-LOOKUP(KO9,DATE(YEAR(KO9)+{-1;0;1},1,3)-WEEKDAY(DATE(YEAR(KO9)+{-1;0;1},1,3))+2))/7)+1","v":43},{"$f":"INT((KP9-LOOKUP(KP9,DATE(YEAR(KP9)+{-1;0;1},1,3)-WEEKDAY(DATE(YEAR(KP9)+{-1;0;1},1,3))+2))/7)+1","v":43},{"$f":"INT((KQ9-LOOKUP(KQ9,DATE(YEAR(KQ9)+{-1;0;1},1,3)-WEEKDAY(DATE(YEAR(KQ9)+{-1;0;1},1,3))+2))/7)+1","v":43},{"$f":"INT((KR9-LOOKUP(KR9,DATE(YEAR(KR9)+{-1;0;1},1,3)-WEEKDAY(DATE(YEAR(KR9)+{-1;0;1},1,3))+2))/7)+1","v":43},{"$f":"INT((KS9-LOOKUP(KS9,DATE(YEAR(KS9)+{-1;0;1},1,3)-WEEKDAY(DATE(YEAR(KS9)+{-1;0;1},1,3))+2))/7)+1","v":43},{"$f":"INT((KT9-LOOKUP(KT9,DATE(YEAR(KT9)+{-1;0;1},1,3)-WEEKDAY(DATE(YEAR(KT9)+{-1;0;1},1,3))+2))/7)+1","v":44},{"$f":"INT((KU9-LOOKUP(KU9,DATE(YEAR(KU9)+{-1;0;1},1,3)-WEEKDAY(DATE(YEAR(KU9)+{-1;0;1},1,3))+2))/7)+1","v":44},{"$f":"INT((KV9-LOOKUP(KV9,DATE(YEAR(KV9)+{-1;0;1},1,3)-WEEKDAY(DATE(YEAR(KV9)+{-1;0;1},1,3))+2))/7)+1","v":44},{"$f":"INT((KW9-LOOKUP(KW9,DATE(YEAR(KW9)+{-1;0;1},1,3)-WEEKDAY(DATE(YEAR(KW9)+{-1;0;1},1,3))+2))/7)+1","v":44},{"$f":"INT((KX9-LOOKUP(KX9,DATE(YEAR(KX9)+{-1;0;1},1,3)-WEEKDAY(DATE(YEAR(KX9)+{-1;0;1},1,3))+2))/7)+1","v":44},{"$f":"INT((KY9-LOOKUP(KY9,DATE(YEAR(KY9)+{-1;0;1},1,3)-WEEKDAY(DATE(YEAR(KY9)+{-1;0;1},1,3))+2))/7)+1","v":44},{"$f":"INT((KZ9-LOOKUP(KZ9,DATE(YEAR(KZ9)+{-1;0;1},1,3)-WEEKDAY(DATE(YEAR(KZ9)+{-1;0;1},1,3))+2))/7)+1","v":44},{"$f":"INT((LA9-LOOKUP(LA9,DATE(YEAR(LA9)+{-1;0;1},1,3)-WEEKDAY(DATE(YEAR(LA9)+{-1;0;1},1,3))+2))/7)+1","v":45},{"$f":"INT((LB9-LOOKUP(LB9,DATE(YEAR(LB9)+{-1;0;1},1,3)-WEEKDAY(DATE(YEAR(LB9)+{-1;0;1},1,3))+2))/7)+1","v":45},{"$f":"INT((LC9-LOOKUP(LC9,DATE(YEAR(LC9)+{-1;0;1},1,3)-WEEKDAY(DATE(YEAR(LC9)+{-1;0;1},1,3))+2))/7)+1","v":45},{"$f":"INT((LD9-LOOKUP(LD9,DATE(YEAR(LD9)+{-1;0;1},1,3)-WEEKDAY(DATE(YEAR(LD9)+{-1;0;1},1,3))+2))/7)+1","v":45},{"$f":"INT((LE9-LOOKUP(LE9,DATE(YEAR(LE9)+{-1;0;1},1,3)-WEEKDAY(DATE(YEAR(LE9)+{-1;0;1},1,3))+2))/7)+1","v":45},{"$f":"INT((LF9-LOOKUP(LF9,DATE(YEAR(LF9)+{-1;0;1},1,3)-WEEKDAY(DATE(YEAR(LF9)+{-1;0;1},1,3))+2))/7)+1","v":45},{"$f":"INT((LG9-LOOKUP(LG9,DATE(YEAR(LG9)+{-1;0;1},1,3)-WEEKDAY(DATE(YEAR(LG9)+{-1;0;1},1,3))+2))/7)+1","v":45},{"$f":"INT((LH9-LOOKUP(LH9,DATE(YEAR(LH9)+{-1;0;1},1,3)-WEEKDAY(DATE(YEAR(LH9)+{-1;0;1},1,3))+2))/7)+1","v":46},{"$f":"INT((LI9-LOOKUP(LI9,DATE(YEAR(LI9)+{-1;0;1},1,3)-WEEKDAY(DATE(YEAR(LI9)+{-1;0;1},1,3))+2))/7)+1","v":46},{"$f":"INT((LJ9-LOOKUP(LJ9,DATE(YEAR(LJ9)+{-1;0;1},1,3)-WEEKDAY(DATE(YEAR(LJ9)+{-1;0;1},1,3))+2))/7)+1","v":46},{"$f":"INT((LK9-LOOKUP(LK9,DATE(YEAR(LK9)+{-1;0;1},1,3)-WEEKDAY(DATE(YEAR(LK9)+{-1;0;1},1,3))+2))/7)+1","v":46},{"$f":"INT((LL9-LOOKUP(LL9,DATE(YEAR(LL9)+{-1;0;1},1,3)-WEEKDAY(DATE(YEAR(LL9)+{-1;0;1},1,3))+2))/7)+1","v":46},{"$f":"INT((LM9-LOOKUP(LM9,DATE(YEAR(LM9)+{-1;0;1},1,3)-WEEKDAY(DATE(YEAR(LM9)+{-1;0;1},1,3))+2))/7)+1","v":46},{"$f":"INT((LN9-LOOKUP(LN9,DATE(YEAR(LN9)+{-1;0;1},1,3)-WEEKDAY(DATE(YEAR(LN9)+{-1;0;1},1,3))+2))/7)+1","v":46},{"$f":"INT((LO9-LOOKUP(LO9,DATE(YEAR(LO9)+{-1;0;1},1,3)-WEEKDAY(DATE(YEAR(LO9)+{-1;0;1},1,3))+2))/7)+1","v":47},{"$f":"INT((LP9-LOOKUP(LP9,DATE(YEAR(LP9)+{-1;0;1},1,3)-WEEKDAY(DATE(YEAR(LP9)+{-1;0;1},1,3))+2))/7)+1","v":47},{"$f":"INT((LQ9-LOOKUP(LQ9,DATE(YEAR(LQ9)+{-1;0;1},1,3)-WEEKDAY(DATE(YEAR(LQ9)+{-1;0;1},1,3))+2))/7)+1","v":47},{"$f":"INT((LR9-LOOKUP(LR9,DATE(YEAR(LR9)+{-1;0;1},1,3)-WEEKDAY(DATE(YEAR(LR9)+{-1;0;1},1,3))+2))/7)+1","v":47},{"$f":"INT((LS9-LOOKUP(LS9,DATE(YEAR(LS9)+{-1;0;1},1,3)-WEEKDAY(DATE(YEAR(LS9)+{-1;0;1},1,3))+2))/7)+1","v":47},{"$f":"INT((LT9-LOOKUP(LT9,DATE(YEAR(LT9)+{-1;0;1},1,3)-WEEKDAY(DATE(YEAR(LT9)+{-1;0;1},1,3))+2))/7)+1","v":47},{"$f":"INT((LU9-LOOKUP(LU9,DATE(YEAR(LU9)+{-1;0;1},1,3)-WEEKDAY(DATE(YEAR(LU9)+{-1;0;1},1,3))+2))/7)+1","v":47},{"$f":"INT((LV9-LOOKUP(LV9,DATE(YEAR(LV9)+{-1;0;1},1,3)-WEEKDAY(DATE(YEAR(LV9)+{-1;0;1},1,3))+2))/7)+1","v":48},{"$f":"INT((LW9-LOOKUP(LW9,DATE(YEAR(LW9)+{-1;0;1},1,3)-WEEKDAY(DATE(YEAR(LW9)+{-1;0;1},1,3))+2))/7)+1","v":48},{"$f":"INT((LX9-LOOKUP(LX9,DATE(YEAR(LX9)+{-1;0;1},1,3)-WEEKDAY(DATE(YEAR(LX9)+{-1;0;1},1,3))+2))/7)+1","v":48},{"$f":"INT((LY9-LOOKUP(LY9,DATE(YEAR(LY9)+{-1;0;1},1,3)-WEEKDAY(DATE(YEAR(LY9)+{-1;0;1},1,3))+2))/7)+1","v":48},{"$f":"INT((LZ9-LOOKUP(LZ9,DATE(YEAR(LZ9)+{-1;0;1},1,3)-WEEKDAY(DATE(YEAR(LZ9)+{-1;0;1},1,3))+2))/7)+1","v":48},{"$f":"INT((MA9-LOOKUP(MA9,DATE(YEAR(MA9)+{-1;0;1},1,3)-WEEKDAY(DATE(YEAR(MA9)+{-1;0;1},1,3))+2))/7)+1","v":48},{"$f":"INT((MB9-LOOKUP(MB9,DATE(YEAR(MB9)+{-1;0;1},1,3)-WEEKDAY(DATE(YEAR(MB9)+{-1;0;1},1,3))+2))/7)+1","v":48},{"$f":"INT((MC9-LOOKUP(MC9,DATE(YEAR(MC9)+{-1;0;1},1,3)-WEEKDAY(DATE(YEAR(MC9)+{-1;0;1},1,3))+2))/7)+1","v":49},{"$f":"INT((MD9-LOOKUP(MD9,DATE(YEAR(MD9)+{-1;0;1},1,3)-WEEKDAY(DATE(YEAR(MD9)+{-1;0;1},1,3))+2))/7)+1","v":49},{"$f":"INT((ME9-LOOKUP(ME9,DATE(YEAR(ME9)+{-1;0;1},1,3)-WEEKDAY(DATE(YEAR(ME9)+{-1;0;1},1,3))+2))/7)+1","v":49},{"$f":"INT((MF9-LOOKUP(MF9,DATE(YEAR(MF9)+{-1;0;1},1,3)-WEEKDAY(DATE(YEAR(MF9)+{-1;0;1},1,3))+2))/7)+1","v":49},{"$f":"INT((MG9-LOOKUP(MG9,DATE(YEAR(MG9)+{-1;0;1},1,3)-WEEKDAY(DATE(YEAR(MG9)+{-1;0;1},1,3))+2))/7)+1","v":49},{"$f":"INT((MH9-LOOKUP(MH9,DATE(YEAR(MH9)+{-1;0;1},1,3)-WEEKDAY(DATE(YEAR(MH9)+{-1;0;1},1,3))+2))/7)+1","v":49},{"$f":"INT((MI9-LOOKUP(MI9,DATE(YEAR(MI9)+{-1;0;1},1,3)-WEEKDAY(DATE(YEAR(MI9)+{-1;0;1},1,3))+2))/7)+1","v":49},{"$f":"INT((MJ9-LOOKUP(MJ9,DATE(YEAR(MJ9)+{-1;0;1},1,3)-WEEKDAY(DATE(YEAR(MJ9)+{-1;0;1},1,3))+2))/7)+1","v":50},{"$f":"INT((MK9-LOOKUP(MK9,DATE(YEAR(MK9)+{-1;0;1},1,3)-WEEKDAY(DATE(YEAR(MK9)+{-1;0;1},1,3))+2))/7)+1","v":50},{"$f":"INT((ML9-LOOKUP(ML9,DATE(YEAR(ML9)+{-1;0;1},1,3)-WEEKDAY(DATE(YEAR(ML9)+{-1;0;1},1,3))+2))/7)+1","v":50},{"$f":"INT((MM9-LOOKUP(MM9,DATE(YEAR(MM9)+{-1;0;1},1,3)-WEEKDAY(DATE(YEAR(MM9)+{-1;0;1},1,3))+2))/7)+1","v":50},{"$f":"INT((MN9-LOOKUP(MN9,DATE(YEAR(MN9)+{-1;0;1},1,3)-WEEKDAY(DATE(YEAR(MN9)+{-1;0;1},1,3))+2))/7)+1","v":50},{"$f":"INT((MO9-LOOKUP(MO9,DATE(YEAR(MO9)+{-1;0;1},1,3)-WEEKDAY(DATE(YEAR(MO9)+{-1;0;1},1,3))+2))/7)+1","v":50},{"$f":"INT((MP9-LOOKUP(MP9,DATE(YEAR(MP9)+{-1;0;1},1,3)-WEEKDAY(DATE(YEAR(MP9)+{-1;0;1},1,3))+2))/7)+1","v":50},{"$f":"INT((MQ9-LOOKUP(MQ9,DATE(YEAR(MQ9)+{-1;0;1},1,3)-WEEKDAY(DATE(YEAR(MQ9)+{-1;0;1},1,3))+2))/7)+1","v":51},{"$f":"INT((MR9-LOOKUP(MR9,DATE(YEAR(MR9)+{-1;0;1},1,3)-WEEKDAY(DATE(YEAR(MR9)+{-1;0;1},1,3))+2))/7)+1","v":51},{"$f":"INT((MS9-LOOKUP(MS9,DATE(YEAR(MS9)+{-1;0;1},1,3)-WEEKDAY(DATE(YEAR(MS9)+{-1;0;1},1,3))+2))/7)+1","v":51},{"$f":"INT((MT9-LOOKUP(MT9,DATE(YEAR(MT9)+{-1;0;1},1,3)-WEEKDAY(DATE(YEAR(MT9)+{-1;0;1},1,3))+2))/7)+1","v":51},{"$f":"INT((MU9-LOOKUP(MU9,DATE(YEAR(MU9)+{-1;0;1},1,3)-WEEKDAY(DATE(YEAR(MU9)+{-1;0;1},1,3))+2))/7)+1","v":51},{"$f":"INT((MV9-LOOKUP(MV9,DATE(YEAR(MV9)+{-1;0;1},1,3)-WEEKDAY(DATE(YEAR(MV9)+{-1;0;1},1,3))+2))/7)+1","v":51},{"$f":"INT((MW9-LOOKUP(MW9,DATE(YEAR(MW9)+{-1;0;1},1,3)-WEEKDAY(DATE(YEAR(MW9)+{-1;0;1},1,3))+2))/7)+1","v":51},{"$f":"INT((MX9-LOOKUP(MX9,DATE(YEAR(MX9)+{-1;0;1},1,3)-WEEKDAY(DATE(YEAR(MX9)+{-1;0;1},1,3))+2))/7)+1","v":52},{"$f":"INT((MY9-LOOKUP(MY9,DATE(YEAR(MY9)+{-1;0;1},1,3)-WEEKDAY(DATE(YEAR(MY9)+{-1;0;1},1,3))+2))/7)+1","v":52},{"$f":"INT((MZ9-LOOKUP(MZ9,DATE(YEAR(MZ9)+{-1;0;1},1,3)-WEEKDAY(DATE(YEAR(MZ9)+{-1;0;1},1,3))+2))/7)+1","v":52},{"$f":"INT((NA9-LOOKUP(NA9,DATE(YEAR(NA9)+{-1;0;1},1,3)-WEEKDAY(DATE(YEAR(NA9)+{-1;0;1},1,3))+2))/7)+1","v":52},{"$f":"INT((NB9-LOOKUP(NB9,DATE(YEAR(NB9)+{-1;0;1},1,3)-WEEKDAY(DATE(YEAR(NB9)+{-1;0;1},1,3))+2))/7)+1","v":52},{"$f":"INT((NC9-LOOKUP(NC9,DATE(YEAR(NC9)+{-1;0;1},1,3)-WEEKDAY(DATE(YEAR(NC9)+{-1;0;1},1,3))+2))/7)+1","v":52},{"$f":"INT((ND9-LOOKUP(ND9,DATE(YEAR(ND9)+{-1;0;1},1,3)-WEEKDAY(DATE(YEAR(ND9)+{-1;0;1},1,3))+2))/7)+1","v":52},{"$f":"INT((NE9-LOOKUP(NE9,DATE(YEAR(NE9)+{-1;0;1},1,3)-WEEKDAY(DATE(YEAR(NE9)+{-1;0;1},1,3))+2))/7)+1","v":1},{"$f":"INT((NF9-LOOKUP(NF9,DATE(YEAR(NF9)+{-1;0;1},1,3)-WEEKDAY(DATE(YEAR(NF9)+{-1;0;1},1,3))+2))/7)+1","v":1},{"$f":"INT((NG9-LOOKUP(NG9,DATE(YEAR(NG9)+{-1;0;1},1,3)-WEEKDAY(DATE(YEAR(NG9)+{-1;0;1},1,3))+2))/7)+1","v":1},{"$f":"INT((NH9-LOOKUP(NH9,DATE(YEAR(NH9)+{-1;0;1},1,3)-WEEKDAY(DATE(YEAR(NH9)+{-1;0;1},1,3))+2))/7)+1","v":1},{"$f":"INT((NI9-LOOKUP(NI9,DATE(YEAR(NI9)+{-1;0;1},1,3)-WEEKDAY(DATE(YEAR(NI9)+{-1;0;1},1,3))+2))/7)+1","v":1},{"$f":"INT((NJ9-LOOKUP(NJ9,DATE(YEAR(NJ9)+{-1;0;1},1,3)-WEEKDAY(DATE(YEAR(NJ9)+{-1;0;1},1,3))+2))/7)+1","v":1},{"$f":"INT((NK9-LOOKUP(NK9,DATE(YEAR(NK9)+{-1;0;1},1,3)-WEEKDAY(DATE(YEAR(NK9)+{-1;0;1},1,3))+2))/7)+1","v":1},{"$f":"INT((NL9-LOOKUP(NL9,DATE(YEAR(NL9)+{-1;0;1},1,3)-WEEKDAY(DATE(YEAR(NL9)+{-1;0;1},1,3))+2))/7)+1","v":2},{"$f":"INT((NM9-LOOKUP(NM9,DATE(YEAR(NM9)+{-1;0;1},1,3)-WEEKDAY(DATE(YEAR(NM9)+{-1;0;1},1,3))+2))/7)+1","v":2},{"$f":"INT((NN9-LOOKUP(NN9,DATE(YEAR(NN9)+{-1;0;1},1,3)-WEEKDAY(DATE(YEAR(NN9)+{-1;0;1},1,3))+2))/7)+1","v":2},{"$f":"INT((NO9-LOOKUP(NO9,DATE(YEAR(NO9)+{-1;0;1},1,3)-WEEKDAY(DATE(YEAR(NO9)+{-1;0;1},1,3))+2))/7)+1","v":2},{"$f":"INT((NP9-LOOKUP(NP9,DATE(YEAR(NP9)+{-1;0;1},1,3)-WEEKDAY(DATE(YEAR(NP9)+{-1;0;1},1,3))+2))/7)+1","v":2},{"$f":"INT((NQ9-LOOKUP(NQ9,DATE(YEAR(NQ9)+{-1;0;1},1,3)-WEEKDAY(DATE(YEAR(NQ9)+{-1;0;1},1,3))+2))/7)+1","v":2},{"$f":"INT((NR9-LOOKUP(NR9,DATE(YEAR(NR9)+{-1;0;1},1,3)-WEEKDAY(DATE(YEAR(NR9)+{-1;0;1},1,3))+2))/7)+1","v":2},{"$f":"INT((NS9-LOOKUP(NS9,DATE(YEAR(NS9)+{-1;0;1},1,3)-WEEKDAY(DATE(YEAR(NS9)+{-1;0;1},1,3))+2))/7)+1","v":3},{"$f":"INT((NT9-LOOKUP(NT9,DATE(YEAR(NT9)+{-1;0;1},1,3)-WEEKDAY(DATE(YEAR(NT9)+{-1;0;1},1,3))+2))/7)+1","v":3},{"$f":"INT((NU9-LOOKUP(NU9,DATE(YEAR(NU9)+{-1;0;1},1,3)-WEEKDAY(DATE(YEAR(NU9)+{-1;0;1},1,3))+2))/7)+1","v":3},{"$f":"INT((NV9-LOOKUP(NV9,DATE(YEAR(NV9)+{-1;0;1},1,3)-WEEKDAY(DATE(YEAR(NV9)+{-1;0;1},1,3))+2))/7)+1","v":3},{"$f":"INT((NW9-LOOKUP(NW9,DATE(YEAR(NW9)+{-1;0;1},1,3)-WEEKDAY(DATE(YEAR(NW9)+{-1;0;1},1,3))+2))/7)+1","v":3},{"$f":"INT((NX9-LOOKUP(NX9,DATE(YEAR(NX9)+{-1;0;1},1,3)-WEEKDAY(DATE(YEAR(NX9)+{-1;0;1},1,3))+2))/7)+1","v":3},{"$f":"INT((NY9-LOOKUP(NY9,DATE(YEAR(NY9)+{-1;0;1},1,3)-WEEKDAY(DATE(YEAR(NY9)+{-1;0;1},1,3))+2))/7)+1","v":3},{"$f":"INT((NZ9-LOOKUP(NZ9,DATE(YEAR(NZ9)+{-1;0;1},1,3)-WEEKDAY(DATE(YEAR(NZ9)+{-1;0;1},1,3))+2))/7)+1","v":4},{"$f":"INT((OA9-LOOKUP(OA9,DATE(YEAR(OA9)+{-1;0;1},1,3)-WEEKDAY(DATE(YEAR(OA9)+{-1;0;1},1,3))+2))/7)+1","v":4},{"$f":"INT((OB9-LOOKUP(OB9,DATE(YEAR(OB9)+{-1;0;1},1,3)-WEEKDAY(DATE(YEAR(OB9)+{-1;0;1},1,3))+2))/7)+1","v":4},{"$f":"INT((OC9-LOOKUP(OC9,DATE(YEAR(OC9)+{-1;0;1},1,3)-WEEKDAY(DATE(YEAR(OC9)+{-1;0;1},1,3))+2))/7)+1","v":4},{"$f":"INT((OD9-LOOKUP(OD9,DATE(YEAR(OD9)+{-1;0;1},1,3)-WEEKDAY(DATE(YEAR(OD9)+{-1;0;1},1,3))+2))/7)+1","v":4},{"$f":"INT((OE9-LOOKUP(OE9,DATE(YEAR(OE9)+{-1;0;1},1,3)-WEEKDAY(DATE(YEAR(OE9)+{-1;0;1},1,3))+2))/7)+1","v":4},{"$f":"INT((OF9-LOOKUP(OF9,DATE(YEAR(OF9)+{-1;0;1},1,3)-WEEKDAY(DATE(YEAR(OF9)+{-1;0;1},1,3))+2))/7)+1","v":4},{"$f":"INT((OG9-LOOKUP(OG9,DATE(YEAR(OG9)+{-1;0;1},1,3)-WEEKDAY(DATE(YEAR(OG9)+{-1;0;1},1,3))+2))/7)+1","v":5},{"$f":"INT((OH9-LOOKUP(OH9,DATE(YEAR(OH9)+{-1;0;1},1,3)-WEEKDAY(DATE(YEAR(OH9)+{-1;0;1},1,3))+2))/7)+1","v":5},{"$f":"INT((OI9-LOOKUP(OI9,DATE(YEAR(OI9)+{-1;0;1},1,3)-WEEKDAY(DATE(YEAR(OI9)+{-1;0;1},1,3))+2))/7)+1","v":5},{"$f":"INT((OJ9-LOOKUP(OJ9,DATE(YEAR(OJ9)+{-1;0;1},1,3)-WEEKDAY(DATE(YEAR(OJ9)+{-1;0;1},1,3))+2))/7)+1","v":5}]
[null,"Agenda 1"]
[null,"Agenda 2"]
[null,"Agenda 3"]
[null,"Agenda 4"]
[null,"Découpage\nde la journée",null,{"$f":"DATE(AN,Mois_deb_planning,1)","v":"2017-01-01"},{"$f":"D8+1","v":"2017-01-02"},{"$f":"E8+1","v":"2017-01-03"},"2017-01-04","2017-01-05","2017-01-06","2017-01-07","2017-01-08","2017-01-09","2017-01-10","2017-01-11","2017-01-12","2017-01-13","2017-01-14","2017-01-15","2017-01-16","2017-01-17","2017-01-18","2017-01-19","2017-01-20","2017-01-21","2017-01-22","2017-01-23","2017-01-24","2017-01-25","2017-01-26","2017-01-27","2017-01-28","2017-01-29","2017-01-30","2017-01-31","2017-02-01","2017-02-02","2017-02-03","2017-02-04","2017-02-05","2017-02-06","2017-02-07","2017-02-08","2017-02-09","2017-02-10","2017-02-11","2017-02-12","2017-02-13","2017-02-14","2017-02-15","2017-02-16","2017-02-17","2017-02-18","2017-02-19","2017-02-20","2017-02-21","2017-02-22","2017-02-23","2017-02-24","2017-02-25","2017-02-26","2017-02-27","2017-02-28",{"$f":"BJ8+1","v":"2017-03-01"},"2017-03-02","2017-03-03","2017-03-04","2017-03-05","2017-03-06","2017-03-07","2017-03-08","2017-03-09","2017-03-10","2017-03-11","2017-03-12","2017-03-13","2017-03-14","2017-03-15","2017-03-16","2017-03-17","2017-03-18","2017-03-19","2017-03-20","2017-03-21","2017-03-22","2017-03-23","2017-03-24","2017-03-25","2017-03-26","2017-03-27","2017-03-28","2017-03-29","2017-03-30","2017-03-31","2017-04-01","2017-04-02","2017-04-03","2017-04-04","2017-04-05","2017-04-06","2017-04-07","2017-04-08","2017-04-09","2017-04-10","2017-04-11","2017-04-12","2017-04-13","2017-04-14","2017-04-15","2017-04-16","2017-04-17","2017-04-18","2017-04-19","2017-04-20","2017-04-21","2017-04-22","2017-04-23","2017-04-24","2017-04-25","2017-04-26","2017-04-27","2017-04-28","2017-04-29","2017-04-30","2017-05-01","2017-05-02","2017-05-03",{"$f":"DV8+1","v":"2017-05-04"},"2017-05-05","2017-05-06","2017-05-07","2017-05-08","2017-05-09","2017-05-10","2017-05-11","2017-05-12","2017-05-13","2017-05-14","2017-05-15","2017-05-16","2017-05-17","2017-05-18","2017-05-19","2017-05-20","2017-05-21","2017-05-22","2017-05-23","2017-05-24","2017-05-25","2017-05-26","2017-05-27","2017-05-28","2017-05-29","2017-05-30","2017-05-31","2017-06-01","2017-06-02","2017-06-03","2017-06-04","2017-06-05","2017-06-06","2017-06-07","2017-06-08","2017-06-09","2017-06-10","2017-06-11","2017-06-12","2017-06-13","2017-06-14","2017-06-15","2017-06-16","2017-06-17","2017-06-18","2017-06-19","2017-06-20","2017-06-21","2017-06-22","2017-06-23","2017-06-24","2017-06-25","2017-06-26","2017-06-27","2017-06-28","2017-06-29","2017-06-30","2017-07-01","2017-07-02","2017-07-03","2017-07-04","2017-07-05","2017-07-06",{"$f":"GH8+1","v":"2017-07-07"},"2017-07-08","2017-07-09","2017-07-10","2017-07-11","2017-07-12","2017-07-13","2017-07-14","2017-07-15","2017-07-16","2017-07-17","2017-07-18","2017-07-19","2017-07-20","2017-07-21","2017-07-22","2017-07-23","2017-07-24","2017-07-25","2017-07-26","2017-07-27","2017-07-28","2017-07-29","2017-07-30","2017-07-31","2017-08-01","2017-08-02","2017-08-03","2017-08-04","2017-08-05","2017-08-06","2017-08-07","2017-08-08","2017-08-09","2017-08-10","2017-08-11","2017-08-12","2017-08-13","2017-08-14","2017-08-15","2017-08-16","2017-08-17","2017-08-18","2017-08-19","2017-08-20","2017-08-21","2017-08-22","2017-08-23","2017-08-24","2017-08-25","2017-08-26","2017-08-27","2017-08-28","2017-08-29","2017-08-30","2017-08-31","2017-09-01","2017-09-02","2017-09-03","2017-09-04","2017-09-05","2017-09-06","2017-09-07","2017-09-08",{"$f":"IT8+1","v":"2017-09-09"},"2017-09-10","2017-09-11","2017-09-12","2017-09-13","2017-09-14","2017-09-15","2017-09-16","2017-09-17","2017-09-18","2017-09-19","2017-09-20","2017-09-21","2017-09-22","2017-09-23","2017-09-24","2017-09-25","2017-09-26","2017-09-27","2017-09-28","2017-09-29","2017-09-30","2017-10-01","2017-10-02","2017-10-03","2017-10-04","2017-10-05","2017-10-06","2017-10-07","2017-10-08","2017-10-09","2017-10-10","2017-10-11","2017-10-12","2017-10-13","2017-10-14","2017-10-15","2017-10-16","2017-10-17","2017-10-18","2017-10-19","2017-10-20","2017-10-21","2017-10-22","2017-10-23","2017-10-24","2017-10-25","2017-10-26","2017-10-27","2017-10-28","2017-10-29","2017-10-30","2017-10-31","2017-11-01","2017-11-02","2017-11-03","2017-11-04","2017-11-05","2017-11-06","2017-11-07","2017-11-08","2017-11-09","2017-11-10","2017-11-11",{"$f":"LF8+1","v":"2017-11-12"},"2017-11-13","2017-11-14","2017-11-15","2017-11-16","2017-11-17","2017-11-18","2017-11-19","2017-11-20","2017-11-21","2017-11-22","2017-11-23","2017-11-24","2017-11-25","2017-11-26","2017-11-27","2017-11-28","2017-11-29","2017-11-30","2017-12-01","2017-12-02","2017-12-03","2017-12-04","2017-12-05","2017-12-06","2017-12-07","2017-12-08","2017-12-09","2017-12-10","2017-12-11","2017-12-12","2017-12-13","2017-12-14","2017-12-15","2017-12-16","2017-12-17","2017-12-18","2017-12-19","2017-12-20","2017-12-21","2017-12-22","2017-12-23","2017-12-24","2017-12-25","2017-12-26","2017-12-27","2017-12-28","2017-12-29","2017-12-30","2017-12-31","2018-01-01",{"$f":"NE8+1","v":"2018-01-02"},{"$f":"NF8+1","v":"2018-01-03"},{"$f":"NG8+1","v":"2018-01-04"},{"$f":"NH8+1","v":"2018-01-05"},{"$f":"NI8+1","v":"2018-01-06"},{"$f":"NJ8+1","v":"2018-01-07"},{"$f":"NK8+1","v":"2018-01-08"},{"$f":"NL8+1","v":"2018-01-09"},{"$f":"NM8+1","v":"2018-01-10"},{"$f":"NN8+1","v":"2018-01-11"},{"$f":"NO8+1","v":"2018-01-12"},{"$f":"NP8+1","v":"2018-01-13"},{"$f":"NQ8+1","v":"2018-01-14"},{"$f":"NR8+1","v":"2018-01-15"},{"$f":"NS8+1","v":"2018-01-16"},{"$f":"NT8+1","v":"2018-01-17"},{"$f":"NU8+1","v":"2018-01-18"},{"$f":"NV8+1","v":"2018-01-19"},{"$f":"NW8+1","v":"2018-01-20"},{"$f":"NX8+1","v":"2018-01-21"},{"$f":"NY8+1","v":"2018-01-22"},{"$f":"NZ8+1","v":"2018-01-23"},{"$f":"OA8+1","v":"2018-01-24"},{"$f":"OB8+1","v":"2018-01-25"},{"$f":"OC8+1","v":"2018-01-26"},{"$f":"OD8+1","v":"2018-01-27"},{"$f":"OE8+1","v":"2018-01-28"},{"$f":"OF8+1","v":"2018-01-29"},{"$f":"OG8+1","v":"2018-01-30"},{"$f":"OH8+1","v":"2018-01-31"},{"$f":"OI8+1","v":"2018-02-01"}]
["Personnels",null,null,{"$f":"DATE(AN,Mois_deb_planning,1)","v":"2017-01-01"},{"$f":"D9+1","v":"2017-01-02"},{"$f":"E9+1","v":"2017-01-03"},"2017-01-04","2017-01-05","2017-01-06","2017-01-07","2017-01-08","2017-01-09","2017-01-10","2017-01-11","2017-01-12","2017-01-13","2017-01-14","2017-01-15","2017-01-16","2017-01-17","2017-01-18","2017-01-19","2017-01-20","2017-01-21","2017-01-22","2017-01-23","2017-01-24","2017-01-25","2017-01-26","2017-01-27","2017-01-28","2017-01-29","2017-01-30","2017-01-31",{"$f":"AH9+1","v":"2017-02-01"},"2017-02-02","2017-02-03","2017-02-04","2017-02-05","2017-02-06","2017-02-07","2017-02-08","2017-02-09","2017-02-10","2017-02-11","2017-02-12","2017-02-13","2017-02-14","2017-02-15","2017-02-16","2017-02-17","2017-02-18","2017-02-19","2017-02-20","2017-02-21","2017-02-22","2017-02-23","2017-02-24","2017-02-25","2017-02-26","2017-02-27","2017-02-28",{"$f":"BJ9+1","v":"2017-03-01"},"2017-03-02","2017-03-03","2017-03-04","2017-03-05","2017-03-06","2017-03-07","2017-03-08","2017-03-09","2017-03-10","2017-03-11","2017-03-12","2017-03-13","2017-03-14","2017-03-15","2017-03-16","2017-03-17","2017-03-18","2017-03-19","2017-03-20","2017-03-21","2017-03-22","2017-03-23","2017-03-24","2017-03-25","2017-03-26","2017-03-27","2017-03-28","2017-03-29","2017-03-30","2017-03-31","2017-04-01","2017-04-02","2017-04-03","2017-04-04","2017-04-05","2017-04-06","2017-04-07","2017-04-08","2017-04-09","2017-04-10","2017-04-11","2017-04-12","2017-04-13","2017-04-14","2017-04-15","2017-04-16","2017-04-17","2017-04-18","2017-04-19","2017-04-20","2017-04-21","2017-04-22","2017-04-23","2017-04-24","2017-04-25","2017-04-26","2017-04-27","2017-04-28","2017-04-29","2017-04-30","2017-05-01","2017-05-02","2017-05-03",{"$f":"DV9+1","v":"2017-05-04"},"2017-05-05","2017-05-06","2017-05-07","2017-05-08","2017-05-09","2017-05-10","2017-05-11","2017-05-12","2017-05-13","2017-05-14","2017-05-15","2017-05-16","2017-05-17","2017-05-18","2017-05-19","2017-05-20","2017-05-21","2017-05-22","2017-05-23","2017-05-24","2017-05-25","2017-05-26","2017-05-27","2017-05-28","2017-05-29","2017-05-30","2017-05-31","2017-06-01","2017-06-02","2017-06-03","2017-06-04","2017-06-05","2017-06-06","2017-06-07","2017-06-08","2017-06-09","2017-06-10","2017-06-11","2017-06-12","2017-06-13","2017-06-14","2017-06-15","2017-06-16","2017-06-17","2017-06-18","2017-06-19","2017-06-20","2017-06-21","2017-06-22","2017-06-23","2017-06-24","2017-06-25","2017-06-26","2017-06-27","2017-06-28","2017-06-29","2017-06-30","2017-07-01","2017-07-02","2017-07-03","2017-07-04","2017-07-05","2017-07-06",{"$f":"GH9+1","v":"2017-07-07"},"2017-07-08","2017-07-09","2017-07-10","2017-07-11","2017-07-12","2017-07-13","2017-07-14","2017-07-15","2017-07-16","2017-07-17","2017-07-18","2017-07-19","2017-07-20","2017-07-21","2017-07-22","2017-07-23","2017-07-24","2017-07-25","2017-07-26","2017-07-27","2017-07-28","2017-07-29","2017-07-30","2017-07-31","2017-08-01","2017-08-02","2017-08-03","2017-08-04","2017-08-05","2017-08-06","2017-08-07","2017-08-08","2017-08-09","2017-08-10","2017-08-11","2017-08-12","2017-08-13","2017-08-14","2017-08-15","2017-08-16","2017-08-17","2017-08-18","2017-08-19","2017-08-20","2017-08-21","2017-08-22","2017-08-23","2017-08-24","2017-08-25","2017-08-26","2017-08-27","2017-08-28","2017-08-29","2017-08-30","2017-08-31","2017-09-01","2017-09-02","2017-09-03","2017-09-04","2017-09-05","2017-09-06","2017-09-07","2017-09-08",{"$f":"IT9+1","v":"2017-09-09"},"2017-09-10","2017-09-11","2017-09-12","2017-09-13","2017-09-14","2017-09-15","2017-09-16","2017-09-17","2017-09-18","2017-09-19","2017-09-20","2017-09-21","2017-09-22","2017-09-23","2017-09-24","2017-09-25","2017-09-26","2017-09-27","2017-09-28","2017-09-29","2017-09-30","2017-10-01","2017-10-02","2017-10-03","2017-10-04","2017-10-05","2017-10-06","2017-10-07","2017-10-08","2017-10-09","2017-10-10","2017-10-11","2017-10-12","2017-10-13","2017-10-14","2017-10-15","2017-10-16","2017-10-17","2017-10-18","2017-10-19","2017-10-20","2017-10-21","2017-10-22","2017-10-23","2017-10-24","2017-10-25","2017-10-26","2017-10-27","2017-10-28","2017-10-29","2017-10-30","2017-10-31","2017-11-01","2017-11-02","2017-11-03","2017-11-04","2017-11-05","2017-11-06","2017-11-07","2017-11-08","2017-11-09","2017-11-10","2017-11-11",{"$f":"LF9+1","v":"2017-11-12"},"2017-11-13","2017-11-14","2017-11-15","2017-11-16","2017-11-17","2017-11-18","2017-11-19","2017-11-20","2017-11-21","2017-11-22","2017-11-23","2017-11-24","2017-11-25","2017-11-26","2017-11-27","2017-11-28","2017-11-29","2017-11-30","2017-12-01","2017-12-02","2017-12-03","2017-12-04","2017-12-05","2017-12-06","2017-12-07","2017-12-08","2017-12-09","2017-12-10","2017-12-11","2017-12-12","2017-12-13","2017-12-14","2017-12-15","2017-12-16","2017-12-17","2017-12-18","2017-12-19","2017-12-20","2017-12-21","2017-12-22","2017-12-23","2017-12-24","2017-12-25","2017-12-26","2017-12-27","2017-12-28","2017-12-29","2017-12-30","2017-12-31","2018-01-01","2018-01-02","2018-01-03","2018-01-04","2018-01-05","2018-01-06","2018-01-07","2018-01-08","2018-01-09","2018-01-10","2018-01-11","2018-01-12","2018-01-13","2018-01-14","2018-01-15","2018-01-16","2018-01-17","2018-01-18","2018-01-19","2018-01-20","2018-01-21","2018-01-22","2018-01-23","2018-01-24","2018-01-25","2018-01-26","2018-01-27","2018-01-28","2018-01-29","2018-01-30","2018-01-31","2018-02-01"]
["Personnel 01"]
[null,{"$f":"Position_journalière","v":"Absences"},null,null,null,null,null,null,null,null,null,null,null,null,null,null,null,null,null,null,null,null,null,null,null,null,null,null,null,null,null,null,null,null,null,null,null,null,null,null,null,null,null,null,null,null,null,null,null,null,null,null,null,null,null,null,null,null,null,null,null,null,null,null,null,null,null,null,null,null,null,null,null,null,null,null,null,null,null,null,null,null,null,null,null,null,null,null,null,null,null,null,null,null,null,null,null,null,null,null,null,null,null,null,null,null,null,null,null,null,null,null,null,null,null,null,null,null,null,null,null,null,null,null,null,null,null,null,null,null,null,null,null,null,null,null,null,null,null,null,null,null,null,null,null,null,null,null,null,null,null,null,null,null,null,null,null,null,null,null,null,null,null,null,null,null,null,null,null,null,null,null,null,null,null,null,null,null,null,null,null,null,null,null,null,null,null,null,null,null,null,null,null,null,null,null,null,null,null,null,null,null,null,null,null,null,null,null,null,null,null,null,null,null,null,null,null,null,null,null,null,null,null,null,null,null,null,null,null,null,null,null,null,null,null,null,null,null,null,null,null,null,null,null,null,null,null,null,null,null,null,null,null,null,null,null,null,null,null,null,null,null,null,null,null,null,null,null,null,null,null,null,null,null,null,null,null,null,null,null,null,null,null,null,null,null,null,null,null,null,null,null,null,null,null,null,null,null,null,null,null,null,null,null,null,null,null,null,null,null,null,null,null,null,null,null,null,null,null,null,null,null,null,null,null,null,null,null,null,null,null,null,null,null,null,null,null,null,null,null,null,null,null,null,null,null,null,null,null,null,null,null,null,null,null,null,null,null,null,null,null,null,null,null,null,null,null,null,null,null,null,null,null,null,null,null,null,null,null,null,null,null,null,null,null,null,null,null,null,null,null,null,null,null,null,null,null,null,null,null,"X"]
[null,{"$f":"Avant_Journée","v":"HHO du matin"}]
[null,{"$f":"Journée_matin","v":"HOMA"},"08h00 / 08h30"]
[null,null,"08h30 / 09h00"]
[null,null,"09h00 / 09h30"]
[null,null,"09h30 / 10h00"]
[null,null,"10h00 / 10h30"]
[null,null,"10h30 / 11h00"]
[null,null,"11h00 / 11h30"]
[null,null,"11h30 / 12h00"]
[null,null,"12h00 / 12h30"]
[null,null,"12h30 / 13h00"]
[null,null,"13h00 / 13h30"]
[null,null,"13h30 / 14h00"]
[null,{"$f":"Journée_Midi","v":"HOMI"},"14h00 / 14h30"]
[null,null,"14h30 / 15h00"]
[null,null,"15h00 / 15h30"]
[null,null,"15h30 / 16h00"]
[null,null,"16h00 / 16h30"]
[null,null,"16h30 / 17h00"]
[null,null,"17h00 / 17h30"]
[null,null,"17h30 / 18h00"]
[null,null,"18h00 / 18h30"]
[null,null,"18h30 / 19h00"]
[null,null,"19h00 / 19h30"]
[null,null,"19h30 / 20h00"]
[null,{"$f":"Après_Journée","v":"HHO du soir"}]
["Personnel 02"]
[null,{"$f":"Position_journalière","v":"Absences"},null,null,null,null,null,null,null,null,null,null,null,null,null,null,null,null,null,null,null,null,null,null,null,null,null,null,null,null,null,null,null,null,null,null,null,null,null,null,null,null,null,null,null,null,null,null,null,null,null,null,null,null,null,null,null,null,null,null,null,null,null,null,null,null,null,null,null,null,null,null,null,null,null,null,null,null,null,null,null,null,null,null,null,null,null,null,null,null,null,null,null,null,null,null,null,null,null,null,null,null,null,null,null,null,null,null,null,null,null,null,null,null,null,null,null,null,null,null,null,null,null,null,null,null,null,null,null,null,null,null,null,null,null,null,null,null,null,null,null,null,null,null,null,null,null,null,null,null,null,null,null,null,null,null,null,null,null,null,null,null,null,null,null,null,null,null,null,null,null,null,null,null,null,null,null,null,null,null,null,null,null,null,null,null,null,null,null,null,null,null,null,null,null,null,null,null,null,null,null,null,null,null,null,null,null,null,null,null,null,null,null,null,null,null,null,null,null,null,null,null,null,null,null,null,null,null,null,null,null,null,null,null,null,null,null,null,null,null,null,null,null,null,null,null,null,null,null,null,null,null,null,null,null,null,null,null,null,null,null,null,null,null,null,null,null,null,null,null,null,null,null,null,null,null,null,null,null,null,null,null,null,null,null,null,null,null,null,null,null,null,null,null,null,null,null,null,null,null,null,null,null,null,null,null,null,null,null,null,null,null,null,null,null,null,null,null,null,null,null,null,null,null,null,null,null,null,null,null,null,null,null,null,null,null,null,null,null,null,null,null,null,null,null,null,null,null,null,null,null,null,null,null,null,null,null,null,null,null,null,null,null,null,null,null,null,null,null,null,null,null,null,null,null,null,null,null,null,null,null,null,null,null,null,null,null,null,null,null,null,null,null,null,null,null,null,null,null,null,"X"]
[null,{"$f":"Avant_Journée","v":"HHO du matin"}]
[null,{"$f":"Journée_matin","v":"HOMA"},"08h00 / 08h30"]
[null,null,"08h30 / 09h00"]
[null,null,"09h00 / 09h30"]
[null,null,"09h30 / 10h00"]
[null,null,"10h00 / 10h30"]
[null,null,"10h30 / 11h00"]
[null,null,"11h00 / 11h30"]
[null,null,"11h30 / 12h00"]
[null,null,"12h00 / 12h30"]
[null,null,"12h30 / 13h00"]
[null,null,"13h00 / 13h30"]
[null,null,"13h30 / 14h00"]
[null,{"$f":"Journée_Midi","v":"HOMI"},"14h00 / 14h30"]
[null,null,"14h30 / 15h00"]
[null,null,"15h00 / 15h30"]
[null,null,"15h30 / 16h00"]
[null,null,"16h00 / 16h30"]
[null,null,"16h30 / 17h00"]
[null,null,"17h00 / 17h30"]
[null,null,"17h30 / 18h00"]
[null,null,"18h00 / 18h30"]
[null,null,"18h30 / 19h00"]
[null,null,"19h00 / 19h30"]
[null,null,"19h30 / 20h00"]
[null,{"$f":"Après_Journée","v":"HHO du soir"}]

{"sheet":"Récap Individuel","index":1,"n_rows":10,"n_cols":82,"rows_kept":10,"cut":false,"hidden":false,"merged":[[0,79,0,80],[0,81,1,81],[0,5,0,17],[0,1,0,3],[0,18,0,33],[0,34,0,44],[0,45,0,57],[0,58,0,62],[0,63,0,67],[0,68,0,72],[0,73,0,78]]}
["Année entière","Suivi des Congés Payés",null,null,"HHO","Absences",null,null,null,null,null,null,null,null,null,null,null,null,"Rubrique 1",null,null,null,null,null,null,null,null,null,null,null,null,null,null,null,"Rubrique 2",null,null,null,null,null,null,null,null,null,null,"Rubrique 3",null,null,null,null,null,null,null,null,null,null,null,null,"Rubrique 4",null,null,null,null,"Rubrique 5",null,null,null,null,"Rubrique 6",null,null,null,null,"Rubrique 7",null,null,null,null,null,"Rubrique 8",null,"Total Heures"]
["Nom","Reste droits ouvert année précédente",{"$f":"\"Droit ouvert en \"&AN","v":"Droit ouvert en 2017"},{"$f":"\"Droit restant en \"&AN","v":"Droit restant en 2017"},"Heures non répertoriées","Congés Payés","Demi Congés Payés Matin","Demi Congés Payés Après Midi","RTT","RTT Matin","RTT Midi","Garde Enfant Malade","Maladie / Arrêt de Travail","Formation","Stage","Mission","Détachement","Congrés","Catégorie 1.1","Catégorie 1.2","Catégorie 1.3","Catégorie 1.4","Catégorie 1.5","Catégorie 1.6","Catégorie 1.7","Catégorie 1.8","Catégorie 1.9","Catégorie 1.10","Catégorie 1.11","Catégorie 1.12","Catégorie 1.13","Catégorie 1.14","Catégorie 1.15","Total heures Rubrique 1","Catégorie 2.1","Catégorie 2.2","Catégorie 2.3","Catégorie 2.4","Catégorie 2.5","Catégorie 2.1","Catégorie 2.2","Catégorie 2.3","Catégorie 2.4","Catégorie 2.5","Total heures Rubrique 2","Catégorie 3.1","Catégorie 3.2","Catégorie 3.3","Catégorie 3.4","Catégorie 3.5","Catégorie 3.6","Catégorie 3.1","Catégorie 3.2","Catégorie 3.3","Catégorie 3.4","Catégorie 3.5","Catégorie 3.6","Total heures Rubrique 3","Catégorie 4.1","Catégorie 4.2","Catégorie 4.3","Catégorie 4.4","Total heures Rubrique 4","Catégorie 5.1","Catégorie 5.2","Catégorie 5.3","Catégorie 5.4","Total heures Rubrique 5","Catégorie 6.1","Catégorie 6.2","Catégorie 6.3","Catégorie 6.4","Total heures Rubrique 6","Catégorie 7.1","Catégorie 7.2","Catégorie 7.3","Catégorie 7.4","Catégorie 7.5","Total heures Rubrique 7","Catégorie 8.1","Total heures Rubrique 8"]
[{"$f":"IF(INDIRECT(\"'Planning'!A\"&10+((ROW()-3)*28))=\"\",IF(INDIRECT(\"'Planning'!A\"&11+((ROW()-3)*28))<>\"\",INDIRECT(\"'Planning'!A\"&11+((ROW()-3)*28)),\"\"),IF(INDIRECT(\"'Planning'!A\"&10+((ROW()-3)*28))<>\"\",INDIRECT(\"'Planning'!A\"&10+((ROW()-3)*28)),\"\"))","v":"Personnel 01"},0,25,{"$f":"IF($A$1=\"Année entière\",IFERROR(B3+C3-F3-(SUM(G3:H3)/2),\"\"),\"\")","v":25},{"$f":"IF($A3=\"\",\"\",SUM(INDIRECT(\"'Planning'!\"&VLOOKUP($A$1,tab_z,2,FALSE)&(10+((ROW()-3)*28))&\":\"&VLOOKUP($A$1,tab_z,3,FALSE)&(37+((ROW()-3)*28)))))","v":0},{"$f":"IF($A3=\"\",\"\",COUNTIF(INDIRECT(\"'Planning'!\"&VLOOKUP($A$1,tab_z,2,FALSE)&(10+((ROW()-3)*28))&\":\"&VLOOKUP($A$1,tab_z,3,FALSE)&(37+((ROW()-3)*28))),BD!$B$2))","v":0},{"$f":"IF($A3=\"\",\"\",COUNTIF(INDIRECT(\"'Planning'!\"&VLOOKUP($A$1,tab_z,2,FALSE)&(10+((ROW()-3)*28))&\":\"&VLOOKUP($A$1,tab_z,3,FALSE)&(37+((ROW()-3)*28))),BD!$B$3))","v":0},{"$f":"IF($A3=\"\",\"\",COUNTIF(INDIRECT(\"'Planning'!\"&VLOOKUP($A$1,tab_z,2,FALSE)&(10+((ROW()-3)*28))&\":\"&VLOOKUP($A$1,tab_z,3,FALSE)&(37+((ROW()-3)*28))),BD!$B$4))","v":0},{"$f":"IF($A3=\"\",\"\",COUNTIF(INDIRECT(\"'Planning'!\"&VLOOKUP($A$1,tab_z,2,FALSE)&(10+((ROW()-3)*28))&\":\"&VLOOKUP($A$1,tab_z,3,FALSE)&(37+((ROW()-3)*28))),BD!$B$5))","v":0},{"$f":"IF($A3=\"\",\"\",COUNTIF(INDIRECT(\"'Planning'!\"&VLOOKUP($A$1,tab_z,2,FALSE)&(10+((ROW()-3)*28))&\":\"&VLOOKUP($A$1,tab_z,3,FALSE)&(37+((ROW()-3)*28))),BD!$B$6))","v":0},{"$f":"IF($A3=\"\",\"\",COUNTIF(INDIRECT(\"'Planning'!\"&VLOOKUP($A$1,tab_z,2,FALSE)&(10+((ROW()-3)*28))&\":\"&VLOOKUP($A$1,tab_z,3,FALSE)&(37+((ROW()-3)*28))),BD!$B$7))","v":0},{"$f":"IF($A3=\"\",\"\",COUNTIF(INDIRECT(\"'Planning'!\"&VLOOKUP($A$1,tab_z,2,FALSE)&(10+((ROW()-3)*28))&\":\"&VLOOKUP($A$1,tab_z,3,FALSE)&(37+((ROW()-3)*28))),BD!$B$8))","v":0},{"$f":"IF($A3=\"\",\"\",COUNTIF(INDIRECT(\"'Planning'!\"&VLOOKUP($A$1,tab_z,2,FALSE)&(10+((ROW()-3)*28))&\":\"&VLOOKUP($A$1,tab_z,3,FALSE)&(37+((ROW()-3)*28))),BD!$B$9))","v":0},{"$f":"IF($A3=\"\",\"\",COUNTIF(INDIRECT(\"'Planning'!\"&VLOOKUP($A$1,tab_z,2,FALSE)&(10+((ROW()-3)*28))&\":\"&VLOOKUP($A$1,tab_z,3,FALSE)&(37+((ROW()-3)*28))),BD!$B$10))","v":0},{"$f":"IF($A3=\"\",\"\",COUNTIF(INDIRECT(\"'Planning'!\"&VLOOKUP($A$1,tab_z,2,FALSE)&(10+((ROW()-3)*28))&\":\"&VLOOKUP($A$1,tab_z,3,FALSE)&(37+((ROW()-3)*28))),BD!$B$11))","v":0},{"$f":"IF($A3=\"\",\"\",COUNTIF(INDIRECT(\"'Planning'!\"&VLOOKUP($A$1,tab_z,2,FALSE)&(10+((ROW()-3)*28))&\":\"&VLOOKUP($A$1,tab_z,3,FALSE)&(37+((ROW()-3)*28))),BD!$B$12))","v":0},{"$f":"IF($A3=\"\",\"\",COUNTIF(INDIRECT(\"'Planning'!\"&VLOOKUP($A$1,tab_z,2,FALSE)&(10+((ROW()-3)*28))&\":\"&VLOOKUP($A$1,tab_z,3,FALSE)&(37+((ROW()-3)*28))),BD!$B$13))","v":0},{"$f":"IF($A3=\"\",\"\",COUNTIF(INDIRECT(\"'Planning'!\"&VLOOKUP($A$1,tab_z,2,FALSE)&(10+((ROW()-3)*28))&\":\"&VLOOKUP($A$1,tab_z,3,FALSE)&(37+((ROW()-3)*28))),BD!$B$14))","v":0},{"$f":"IF($A3=\"\",\"\",COUNTIF(INDIRECT(\"'Planning'!\"&VLOOKUP($A$1,tab_z,2,FALSE)&(10+((ROW()-3)*28))&\":\"&VLOOKUP($A$1,tab_z,3,FALSE)&(37+((ROW()-3)*28))),BD!$E$2)*BD!$F$2)","v":0},{"$f":"IF($A3=\"\",\"\",COUNTIF(INDIRECT(\"'Planning'!\"&VLOOKUP($A$1,tab_z,2,FALSE)&(10+((ROW()-3)*28))&\":\"&VLOOKUP($A$1,tab_z,3,FALSE)&(37+((ROW()-3)*28))),BD!$E$3)*BD!$F$3)","v":0},{"$f":"IF($A3=\"\",\"\",COUNTIF(INDIRECT(\"'Planning'!\"&VLOOKUP($A$1,tab_z,2,FALSE)&(10+((ROW()-3)*28))&\":\"&VLOOKUP($A$1,tab_z,3,FALSE)&(37+((ROW()-3)*28))),BD!$E$4)*BD!$F$4)","v":0},{"$f":"IF($A3=\"\",\"\",COUNTIF(INDIRECT(\"'Planning'!\"&VLOOKUP($A$1,tab_z,2,FALSE)&(10+((ROW()-3)*28))&\":\"&VLOOKUP($A$1,tab_z,3,FALSE)&(37+((ROW()-3)*28))),BD!$E$6)*BD!$F$6)","v":0},{"$f":"IF($A3=\"\",\"\",COUNTIF(INDIRECT(\"'Planning'!\"&VLOOKUP($A$1,tab_z,2,FALSE)&(10+((ROW()-3)*28))&\":\"&VLOOKUP($A$1,tab_z,3,FALSE)&(37+((ROW()-3)*28))),BD!$E$7)*BD!$F$7)","v":0},{"$f":"IF($A3=\"\",\"\",COUNTIF(INDIRECT(\"'Planning'!\"&VLOOKUP($A$1,tab_z,2,FALSE)&(10+((ROW()-3)*28))&\":\"&VLOOKUP($A$1,tab_z,3,FALSE)&(37+((ROW()-3)*28))),BD!$E$8)*BD!$F$8)","v":0},{"$f":"IF($A3=\"\",\"\",COUNTIF(INDIRECT(\"'Planning'!\"&VLOOKUP($A$1,tab_z,2,FALSE)&(10+((ROW()-3)*28))&\":\"&VLOOKUP($A$1,tab_z,3,FALSE)&(37+((ROW()-3)*28))),BD!$E$9)*BD!$F$9)","v":0},{"$f":"IF($A3=\"\",\"\",COUNTIF(INDIRECT(\"'Planning'!\"&VLOOKUP($A$1,tab_z,2,FALSE)&(10+((ROW()-3)*28))&\":\"&VLOOKUP($A$1,tab_z,3,FALSE)&(37+((ROW()-3)*28))),BD!$E$11)*BD!$F$11)","v":0},{"$f":"IF($A3=\"\",\"\",COUNTIF(INDIRECT(\"'Planning'!\"&VLOOKUP($A$1,tab_z,2,FALSE)&(10+((ROW()-3)*28))&\":\"&VLOOKUP($A$1,tab_z,3,FALSE)&(37+((ROW()-3)*28))),BD!$E$12)*BD!$F$12)","v":0},{"$f":"IF($A3=\"\",\"\",COUNTIF(INDIRECT(\"'Planning'!\"&VLOOKUP($A$1,tab_z,2,FALSE)&(10+((ROW()-3)*28))&\":\"&VLOOKUP($A$1,tab_z,3,FALSE)&(37+((ROW()-3)*28))),BD!$E$13)*BD!$F$13)","v":0},{"$f":"IF($A3=\"\",\"\",COUNTIF(INDIRECT(\"'Planning'!\"&VLOOKUP($A$1,tab_z,2,FALSE)&(10+((ROW()-3)*28))&\":\"&VLOOKUP($A$1,tab_z,3,FALSE)&(37+((ROW()-3)*28))),BD!$E$15)*BD!$F$15)","v":0},{"$f":"IF($A3=\"\",\"\",COUNTIF(INDIRECT(\"'Planning'!\"&VLOOKUP($A$1,tab_z,2,FALSE)&(10+((ROW()-3)*28))&\":\"&VLOOKUP($A$1,tab_z,3,FALSE)&(37+((ROW()-3)*28))),BD!$E$16)*BD!$F$16)","v":0},{"$f":"IF($A3=\"\",\"\",COUNTIF(INDIRECT(\"'Planning'!\"&VLOOKUP($A$1,tab_z,2,FALSE)&(10+((ROW()-3)*28))&\":\"&VLOOKUP($A$1,tab_z,3,FALSE)&(37+((ROW()-3)*28))),BD!$E$17)*BD!$F$17)","v":0},{"$f":"IF($A3=\"\",\"\",COUNTIF(INDIRECT(\"'Planning'!\"&VLOOKUP($A$1,tab_z,2,FALSE)&(10+((ROW()-3)*28))&\":\"&VLOOKUP($A$1,tab_z,3,FALSE)&(37+((ROW()-3)*28))),BD!$E$19)*BD!$F$19)","v":0},{"$f":"IF($A3=\"\",\"\",COUNTIF(INDIRECT(\"'Planning'!\"&VLOOKUP($A$1,tab_z,2,FALSE)&(10+((ROW()-3)*28))&\":\"&VLOOKUP($A$1,tab_z,3,FALSE)&(37+((ROW()-3)*28))),BD!$E$20)*BD!$F$20)","v":0},{"$f":"SUM(SUM(S3:AG3))","v":0},{"$f":"IF($A3=\"\",\"\",COUNTIF(INDIRECT(\"'Planning'!\"&VLOOKUP($A$1,tab_z,2,FALSE)&(10+((ROW()-3)*28))&\":\"&VLOOKUP($A$1,tab_z,3,FALSE)&(37+((ROW()-3)*28))),BD!$H$2)*BD!$I$2)","v":0},{"$f":"IF($A3=\"\",\"\",COUNTIF(INDIRECT(\"'Planning'!\"&VLOOKUP($A$1,tab_z,2,FALSE)&(10+((ROW()-3)*28))&\":\"&VLOOKUP($A$1,tab_z,3,FALSE)&(37+((ROW()-3)*28))),BD!$H$3)*BD!$I$3)","v":0},{"$f":"IF($A3=\"\",\"\",COUNTIF(INDIRECT(\"'Planning'!\"&VLOOKUP($A$1,tab_z,2,FALSE)&(10+((ROW()-3)*28))&\":\"&VLOOKUP($A$1,tab_z,3,FALSE)&(37+((ROW()-3)*28))),BD!$H$5)*BD!$I$5)","v":0},{"$f":"IF($A3=\"\",\"\",COUNTIF(INDIRECT(\"'Planning'!\"&VLOOKUP($A$1,tab_z,2,FALSE)&(10+((ROW()-3)*28))&\":\"&VLOOKUP($A$1,tab_z,3,FALSE)&(37+((ROW()-3)*28))),BD!$H$6)*BD!$I$6)","v":0},{"$f":"IF($A3=\"\",\"\",COUNTIF(INDIRECT(\"'Planning'!\"&VLOOKUP($A$1,tab_z,2,FALSE)&(10+((ROW()-3)*28))&\":\"&VLOOKUP($A$1,tab_z,3,FALSE)&(37+((ROW()-3)*28))),BD!$H$8)*BD!$I$8)","v":0},{"$f":"IF($A3=\"\",\"\",COUNTIF(INDIRECT(\"'Planning'!\"&VLOOKUP($A$1,tab_z,2,FALSE)&(10+((ROW()-3)*28))&\":\"&VLOOKUP($A$1,tab_z,3,FALSE)&(37+((ROW()-3)*28))),BD!$H$9)*BD!$I$9)","v":0},{"$f":"IF($A3=\"\",\"\",COUNTIF(INDIRECT(\"'Planning'!\"&VLOOKUP($A$1,tab_z,2,FALSE)&(10+((ROW()-3)*28))&\":\"&VLOOKUP($A$1,tab_z,3,FALSE)&(37+((ROW()-3)*28))),BD!$H$10)*BD!$I$10)","v":0},{"$f":"IF($A3=\"\",\"\",COUNTIF(INDIRECT(\"'Planning'!\"&VLOOKUP($A$1,tab_z,2,FALSE)&(10+((ROW()-3)*28))&\":\"&VLOOKUP($A$1,tab_z,3,FALSE)&(37+((ROW()-3)*28))),BD!$H$12)*BD!$I$12)","v":0},{"$f":"IF($A3=\"\",\"\",COUNTIF(INDIRECT(\"'Planning'!\"&VLOOKUP($A$1,tab_z,2,FALSE)&(10+((ROW()-3)*28))&\":\"&VLOOKUP($A$1,tab_z,3,FALSE)&(37+((ROW()-3)*28))),BD!$H$13)*BD!$I$13)","v":0},{"$f":"IF($A3=\"\",\"\",COUNTIF(INDIRECT(\"'Planning'!\"&VLOOKUP($A$1,tab_z,2,FALSE)&(10+((ROW()-3)*28))&\":\"&VLOOKUP($A$1,tab_z,3,FALSE)&(37+((ROW()-3)*28))),BD!$H$15)*BD!$I$15)","v":0},{"$f":"SUM(SUM(AI3:AR3))","v":0},{"$f":"IF($A3=\"\",\"\",COUNTIF(INDIRECT(\"'Planning'!\"&VLOOKUP($A$1,tab_z,2,FALSE)&(10+((ROW()-3)*28))&\":\"&VLOOKUP($A$1,tab_z,3,FALSE)&(37+((ROW()-3)*28))),BD!$K$2)*BD!$L$2)","v":0},{"$f":"IF($A3=\"\",\"\",COUNTIF(INDIRECT(\"'Planning'!\"&VLOOKUP($A$1,tab_z,2,FALSE)&(10+((ROW()-3)*28))&\":\"&VLOOKUP($A$1,tab_z,3,FALSE)&(37+((ROW()-3)*28))),BD!$K$3)*BD!$L$3)","v":0},{"$f":"IF($A3=\"\",\"\",COUNTIF(INDIRECT(\"'Planning'!\"&VLOOKUP($A$1,tab_z,2,FALSE)&(10+((ROW()-3)*28))&\":\"&VLOOKUP($A$1,tab_z,3,FALSE)&(37+((ROW()-3)*28))),BD!$K$4)*BD!$L$4)","v":0},{"$f":"IF($A3=\"\",\"\",COUNTIF(INDIRECT(\"'Planning'!\"&VLOOKUP($A$1,tab_z,2,FALSE)&(10+((ROW()-3)*28))&\":\"&VLOOKUP($A$1,tab_z,3,FALSE)&(37+((ROW()-3)*28))),BD!$K$5)*BD!$L$5)","v":0},{"$f":"IF($A3=\"\",\"\",COUNTIF(INDIRECT(\"'Planning'!\"&VLOOKUP($A$1,tab_z,2,FALSE)&(10+((ROW()-3)*28))&\":\"&VLOOKUP($A$1,tab_z,3,FALSE)&(37+((ROW()-3)*28))),BD!$K$6)*BD!$L$6)","v":0},{"$f":"IF($A3=\"\",\"\",COUNTIF(INDIRECT(\"'Planning'!\"&VLOOKUP($A$1,tab_z,2,FALSE)&(10+((ROW()-3)*28))&\":\"&VLOOKUP($A$1,tab_z,3,FALSE)&(37+((ROW()-3)*28))),BD!$K$7)*BD!$L$7)","v":0},{"$f":"IF($A3=\"\",\"\",COUNTIF(INDIRECT(\"'Planning'!\"&VLOOKUP($A$1,tab_z,2,FALSE)&(10+((ROW()-3)*28))&\":\"&VLOOKUP($A$1,tab_z,3,FALSE)&(37+((ROW()-3)*28))),BD!$K$8)*BD!$L$8)","v":0},{"$f":"IF($A3=\"\",\"\",COUNTIF(INDIRECT(\"'Planning'!\"&VLOOKUP($A$1,tab_z,2,FALSE)&(10+((ROW()-3)*28))&\":\"&VLOOKUP($A$1,tab_z,3,FALSE)&(37+((ROW()-3)*28))),BD!$K$9)*BD!$L$9)","v":0},{"$f":"IF($A3=\"\",\"\",COUNTIF(INDIRECT(\"'Planning'!\"&VLOOKUP($A$1,tab_z,2,FALSE)&(10+((ROW()-3)*28))&\":\"&VLOOKUP($A$1,tab_z,3,FALSE)&(37+((ROW()-3)*28))),BD!$K$10)*BD!$L$10)","v":0},{"$f":"IF($A3=\"\",\"\",COUNTIF(INDIRECT(\"'Planning'!\"&VLOOKUP($A$1,tab_z,2,FALSE)&(10+((ROW()-3)*28))&\":\"&VLOOKUP($A$1,tab_z,3,FALSE)&(37+((ROW()-3)*28))),BD!$K$11)*BD!$L$11)","v":0},{"$f":"IF($A3=\"\",\"\",COUNTIF(INDIRECT(\"'Planning'!\"&VLOOKUP($A$1,tab_z,2,FALSE)&(10+((ROW()-3)*28))&\":\"&VLOOKUP($A$1,tab_z,3,FALSE)&(37+((ROW()-3)*28))),BD!$K$12)*BD!$L$12)","v":0},{"$f":"IF($A3=\"\",\"\",COUNTIF(INDIRECT(\"'Planning'!\"&VLOOKUP($A$1,tab_z,2,FALSE)&(10+((ROW()-3)*28))&\":\"&VLOOKUP($A$1,tab_z,3,FALSE)&(37+((ROW()-3)*28))),BD!$K$13)*BD!$L$13)","v":0},{"$f":"SUM(SUM(AT3:BE3))","v":0},{"$f":"IF($A3=\"\",\"\",COUNTIF(INDIRECT(\"'Planning'!\"&VLOOKUP($A$1,tab_z,2,FALSE)&(10+((ROW()-3)*28))&\":\"&VLOOKUP($A$1,tab_z,3,FALSE)&(37+((ROW()-3)*28))),BD!$N$2)*BD!$O$2)","v":0},{"$f":"IF($A3=\"\",\"\",COUNTIF(INDIRECT(\"'Planning'!\"&VLOOKUP($A$1,tab_z,2,FALSE)&(10+((ROW()-3)*28))&\":\"&VLOOKUP($A$1,tab_z,3,FALSE)&(37+((ROW()-3)*28))),BD!$N$3)*BD!$O$3)","v":0},{"$f":"IF($A3=\"\",\"\",COUNTIF(INDIRECT(\"'Planning'!\"&VLOOKUP($A$1,tab_z,2,FALSE)&(10+((ROW()-3)*28))&\":\"&VLOOKUP($A$1,tab_z,3,FALSE)&(37+((ROW()-3)*28))),BD!$N$4)*BD!$O$4)","v":0},{"$f":"IF($A3=\"\",\"\",COUNTIF(INDIRECT(\"'Planning'!\"&VLOOKUP($A$1,tab_z,2,FALSE)&(10+((ROW()-3)*28))&\":\"&VLOOKUP($A$1,tab_z,3,FALSE)&(37+((ROW()-3)*28))),BD!$N$5)*BD!$O$5)","v":0},{"$f":"SUM(SUM(BG3:BJ3))","v":0},{"$f":"IF($A3=\"\",\"\",COUNTIF(INDIRECT(\"'Planning'!\"&VLOOKUP($A$1,tab_z,2,FALSE)&(10+((ROW()-3)*28))&\":\"&VLOOKUP($A$1,tab_z,3,FALSE)&(37+((ROW()-3)*28))),BD!$Q$2)*BD!$R$2)","v":0},{"$f":"IF($A3=\"\",\"\",COUNTIF(INDIRECT(\"'Planning'!\"&VLOOKUP($A$1,tab_z,2,FALSE)&(10+((ROW()-3)*28))&\":\"&VLOOKUP($A$1,tab_z,3,FALSE)&(37+((ROW()-3)*28))),BD!$Q$3)*BD!$R$3)","v":0},{"$f":"IF($A3=\"\",\"\",COUNTIF(INDIRECT(\"'Planning'!\"&VLOOKUP($A$1,tab_z,2,FALSE)&(10+((ROW()-3)*28))&\":\"&VLOOKUP($A$1,tab_z,3,FALSE)&(37+((ROW()-3)*28))),BD!$Q$4)*BD!$R$4)","v":0},{"$f":"IF($A3=\"\",\"\",COUNTIF(INDIRECT(\"'Planning'!\"&VLOOKUP($A$1,tab_z,2,FALSE)&(10+((ROW()-3)*28))&\":\"&VLOOKUP($A$1,tab_z,3,FALSE)&(37+((ROW()-3)*28))),BD!$Q$5)*BD!$R$5)","v":0},{"$f":"SUM(SUM(BL3:BO3))","v":0},{"$f":"IF($A3=\"\",\"\",COUNTIF(INDIRECT(\"'Planning'!\"&VLOOKUP($A$1,tab_z,2,FALSE)&(10+((ROW()-3)*28))&\":\"&VLOOKUP($A$1,tab_z,3,FALSE)&(37+((ROW()-3)*28))),BD!$T$2)*BD!$U$2)","v":0},{"$f":"IF($A3=\"\",\"\",COUNTIF(INDIRECT(\"'Planning'!\"&VLOOKUP($A$1,tab_z,2,FALSE)&(10+((ROW()-3)*28))&\":\"&VLOOKUP($A$1,tab_z,3,FALSE)&(37+((ROW()-3)*28))),BD!$T$3)*BD!$U$3)","v":0},{"$f":"IF($A3=\"\",\"\",COUNTIF(INDIRECT(\"'Planning'!\"&VLOOKUP($A$1,tab_z,2,FALSE)&(10+((ROW()-3)*28))&\":\"&VLOOKUP($A$1,tab_z,3,FALSE)&(37+((ROW()-3)*28))),BD!$T$4)*BD!$U$4)","v":0},{"$f":"IF($A3=\"\",\"\",COUNTIF(INDIRECT(\"'Planning'!\"&VLOOKUP($A$1,tab_z,2,FALSE)&(10+((ROW()-3)*28))&\":\"&VLOOKUP($A$1,tab_z,3,FALSE)&(37+((ROW()-3)*28))),BD!$T$5)*BD!$U$5)","v":0},{"$f":"SUM(SUM(BQ3:BT3))","v":0},{"$f":"IF($A3=\"\",\"\",COUNTIF(INDIRECT(\"'Planning'!\"&VLOOKUP($A$1,tab_z,2,FALSE)&(10+((ROW()-3)*28))&\":\"&VLOOKUP($A$1,tab_z,3,FALSE)&(37+((ROW()-3)*28))),BD!$W$2)*BD!$X$2)","v":0},{"$f":"IF($A3=\"\",\"\",COUNTIF(INDIRECT(\"'Planning'!\"&VLOOKUP($A$1,tab_z,2,FALSE)&(10+((ROW()-3)*28))&\":\"&VLOOKUP($A$1,tab_z,3,FALSE)&(37+((ROW()-3)*28))),BD!$W$3)*BD!$X$3)","v":0},{"$f":"IF($A3=\"\",\"\",COUNTIF(INDIRECT(\"'Planning'!\"&VLOOKUP($A$1,tab_z,2,FALSE)&(10+((ROW()-3)*28))&\":\"&VLOOKUP($A$1,tab_z,3,FALSE)&(37+((ROW()-3)*28))),BD!$W$4)*BD!$X$4)","v":0},{"$f":"IF($A3=\"\",\"\",COUNTIF(INDIRECT(\"'Planning'!\"&VLOOKUP($A$1,tab_z,2,FALSE)&(10+((ROW()-3)*28))&\":\"&VLOOKUP($A$1,tab_z,3,FALSE)&(37+((ROW()-3)*28))),BD!$W$5)*BD!$X$5)","v":0},{"$f":"IF($A3=\"\",\"\",COUNTIF(INDIRECT(\"'Planning'!\"&VLOOKUP($A$1,tab_z,2,FALSE)&(10+((ROW()-3)*28))&\":\"&VLOOKUP($A$1,tab_z,3,FALSE)&(37+((ROW()-3)*28))),BD!$W$6)*BD!$X$6)","v":0},{"$f":"SUM(SUM(BV3:BZ3))","v":0},{"$f":"IF($A3=\"\",\"\",COUNTIF(INDIRECT(\"'Planning'!\"&VLOOKUP($A$1,tab_z,2,FALSE)&(10+((ROW()-3)*28))&\":\"&VLOOKUP($A$1,tab_z,3,FALSE)&(37+((ROW()-3)*28))),BD!$Z$2)*BD!$AA$2)","v":0},{"$f":"SUM(SUM(CB3:CB3))","v":0},{"$f":"IFERROR(SUM($S3:$CC3)/2 + $E3,\"\")","v":0}]
["Personnel 02",0,25,25,0,{"$f":"IF($A4=\"\",\"\",COUNTIF(INDIRECT(\"'Planning'!\"&VLOOKUP($A$1,tab_z,2,FALSE)&(10+((ROW()-3)*28))&\":\"&VLOOKUP($A$1,tab_z,3,FALSE)&(37+((ROW()-3)*28))),BD!$B$2))","v":0},{"$f":"IF($A4=\"\",\"\",COUNTIF(INDIRECT(\"'Planning'!\"&VLOOKUP($A$1,tab_z,2,FALSE)&(10+((ROW()-3)*28))&\":\"&VLOOKUP($A$1,tab_z,3,FALSE)&(37+((ROW()-3)*28))),BD!$B$3))","v":0},{"$f":"IF($A4=\"\",\"\",COUNTIF(INDIRECT(\"'Planning'!\"&VLOOKUP($A$1,tab_z,2,FALSE)&(10+((ROW()-3)*28))&\":\"&VLOOKUP($A$1,tab_z,3,FALSE)&(37+((ROW()-3)*28))),BD!$B$4))","v":0},{"$f":"IF($A4=\"\",\"\",COUNTIF(INDIRECT(\"'Planning'!\"&VLOOKUP($A$1,tab_z,2,FALSE)&(10+((ROW()-3)*28))&\":\"&VLOOKUP($A$1,tab_z,3,FALSE)&(37+((ROW()-3)*28))),BD!$B$5))","v":0},{"$f":"IF($A4=\"\",\"\",COUNTIF(INDIRECT(\"'Planning'!\"&VLOOKUP($A$1,tab_z,2,FALSE)&(10+((ROW()-3)*28))&\":\"&VLOOKUP($A$1,tab_z,3,FALSE)&(37+((ROW()-3)*28))),BD!$B$6))","v":0},{"$f":"IF($A4=\"\",\"\",COUNTIF(INDIRECT(\"'Planning'!\"&VLOOKUP($A$1,tab_z,2,FALSE)&(10+((ROW()-3)*28))&\":\"&VLOOKUP($A$1,tab_z,3,FALSE)&(37+((ROW()-3)*28))),BD!$B$7))","v":0},{"$f":"IF($A4=\"\",\"\",COUNTIF(INDIRECT(\"'Planning'!\"&VLOOKUP($A$1,tab_z,2,FALSE)&(10+((ROW()-3)*28))&\":\"&VLOOKUP($A$1,tab_z,3,FALSE)&(37+((ROW()-3)*28))),BD!$B$8))","v":0},{"$f":"IF($A4=\"\",\"\",COUNTIF(INDIRECT(\"'Planning'!\"&VLOOKUP($A$1,tab_z,2,FALSE)&(10+((ROW()-3)*28))&\":\"&VLOOKUP($A$1,tab_z,3,FALSE)&(37+((ROW()-3)*28))),BD!$B$9))","v":0},{"$f":"IF($A4=\"\",\"\",COUNTIF(INDIRECT(\"'Planning'!\"&VLOOKUP($A$1,tab_z,2,FALSE)&(10+((ROW()-3)*28))&\":\"&VLOOKUP($A$1,tab_z,3,FALSE)&(37+((ROW()-3)*28))),BD!$B$10))","v":0},{"$f":"IF($A4=\"\",\"\",COUNTIF(INDIRECT(\"'Planning'!\"&VLOOKUP($A$1,tab_z,2,FALSE)&(10+((ROW()-3)*28))&\":\"&VLOOKUP($A$1,tab_z,3,FALSE)&(37+((ROW()-3)*28))),BD!$B$11))","v":0},{"$f":"IF($A4=\"\",\"\",COUNTIF(INDIRECT(\"'Planning'!\"&VLOOKUP($A$1,tab_z,2,FALSE)&(10+((ROW()-3)*28))&\":\"&VLOOKUP($A$1,tab_z,3,FALSE)&(37+((ROW()-3)*28))),BD!$B$12))","v":0},{"$f":"IF($A4=\"\",\"\",COUNTIF(INDIRECT(\"'Planning'!\"&VLOOKUP($A$1,tab_z,2,FALSE)&(10+((ROW()-3)*28))&\":\"&VLOOKUP($A$1,tab_z,3,FALSE)&(37+((ROW()-3)*28))),BD!$B$13))","v":0},{"$f":"IF($A4=\"\",\"\",COUNTIF(INDIRECT(\"'Planning'!\"&VLOOKUP($A$1,tab_z,2,FALSE)&(10+((ROW()-3)*28))&\":\"&VLOOKUP($A$1,tab_z,3,FALSE)&(37+((ROW()-3)*28))),BD!$B$14))","v":0},{"$f":"IF($A4=\"\",\"\",COUNTIF(INDIRECT(\"'Planning'!\"&VLOOKUP($A$1,tab_z,2,FALSE)&(10+((ROW()-3)*28))&\":\"&VLOOKUP($A$1,tab_z,3,FALSE)&(37+((ROW()-3)*28))),BD!$E$2)*BD!$F$2)","v":0},{"$f":"IF($A4=\"\",\"\",COUNTIF(INDIRECT(\"'Planning'!\"&VLOOKUP($A$1,tab_z,2,FALSE)&(10+((ROW()-3)*28))&\":\"&VLOOKUP($A$1,tab_z,3,FALSE)&(37+((ROW()-3)*28))),BD!$E$3)*BD!$F$3)","v":0},{"$f":"IF($A4=\"\",\"\",COUNTIF(INDIRECT(\"'Planning'!\"&VLOOKUP($A$1,tab_z,2,FALSE)&(10+((ROW()-3)*28))&\":\"&VLOOKUP($A$1,tab_z,3,FALSE)&(37+((ROW()-3)*28))),BD!$E$4)*BD!$F$4)","v":0},{"$f":"IF($A4=\"\",\"\",COUNTIF(INDIRECT(\"'Planning'!\"&VLOOKUP($A$1,tab_z,2,FALSE)&(10+((ROW()-3)*28))&\":\"&VLOOKUP($A$1,tab_z,3,FALSE)&(37+((ROW()-3)*28))),BD!$E$6)*BD!$F$6)","v":0},{"$f":"IF($A4=\"\",\"\",COUNTIF(INDIRECT(\"'Planning'!\"&VLOOKUP($A$1,tab_z,2,FALSE)&(10+((ROW()-3)*28))&\":\"&VLOOKUP($A$1,tab_z,3,FALSE)&(37+((ROW()-3)*28))),BD!$E$7)*BD!$F$7)","v":0},{"$f":"IF($A4=\"\",\"\",COUNTIF(INDIRECT(\"'Planning'!\"&VLOOKUP($A$1,tab_z,2,FALSE)&(10+((ROW()-3)*28))&\":\"&VLOOKUP($A$1,tab_z,3,FALSE)&(37+((ROW()-3)*28))),BD!$E$8)*BD!$F$8)","v":0},{"$f":"IF($A4=\"\",\"\",COUNTIF(INDIRECT(\"'Planning'!\"&VLOOKUP($A$1,tab_z,2,FALSE)&(10+((ROW()-3)*28))&\":\"&VLOOKUP($A$1,tab_z,3,FALSE)&(37+((ROW()-3)*28))),BD!$E$9)*BD!$F$9)","v":0},{"$f":"IF($A4=\"\",\"\",COUNTIF(INDIRECT(\"'Planning'!\"&VLOOKUP($A$1,tab_z,2,FALSE)&(10+((ROW()-3)*28))&\":\"&VLOOKUP($A$1,tab_z,3,FALSE)&(37+((ROW()-3)*28))),BD!$E$11)*BD!$F$11)","v":0},{"$f":"IF($A4=\"\",\"\",COUNTIF(INDIRECT(\"'Planning'!\"&VLOOKUP($A$1,tab_z,2,FALSE)&(10+((ROW()-3)*28))&\":\"&VLOOKUP($A$1,tab_z,3,FALSE)&(37+((ROW()-3)*28))),BD!$E$12)*BD!$F$12)","v":0},{"$f":"IF($A4=\"\",\"\",COUNTIF(INDIRECT(\"'Planning'!\"&VLOOKUP($A$1,tab_z,2,FALSE)&(10+((ROW()-3)*28))&\":\"&VLOOKUP($A$1,tab_z,3,FALSE)&(37+((ROW()-3)*28))),BD!$E$13)*BD!$F$13)","v":0},{"$f":"IF($A4=\"\",\"\",COUNTIF(INDIRECT(\"'Planning'!\"&VLOOKUP($A$1,tab_z,2,FALSE)&(10+((ROW()-3)*28))&\":\"&VLOOKUP($A$1,tab_z,3,FALSE)&(37+((ROW()-3)*28))),BD!$E$15)*BD!$F$15)","v":0},{"$f":"IF($A4=\"\",\"\",COUNTIF(INDIRECT(\"'Planning'!\"&VLOOKUP($A$1,tab_z,2,FALSE)&(10+((ROW()-3)*28))&\":\"&VLOOKUP($A$1,tab_z,3,FALSE)&(37+((ROW()-3)*28))),BD!$E$16)*BD!$F$16)","v":0},{"$f":"IF($A4=\"\",\"\",COUNTIF(INDIRECT(\"'Planning'!\"&VLOOKUP($A$1,tab_z,2,FALSE)&(10+((ROW()-3)*28))&\":\"&VLOOKUP($A$1,tab_z,3,FALSE)&(37+((ROW()-3)*28))),BD!$E$17)*BD!$F$17)","v":0},{"$f":"IF($A4=\"\",\"\",COUNTIF(INDIRECT(\"'Planning'!\"&VLOOKUP($A$1,tab_z,2,FALSE)&(10+((ROW()-3)*28))&\":\"&VLOOKUP($A$1,tab_z,3,FALSE)&(37+((ROW()-3)*28))),BD!$E$19)*BD!$F$19)","v":0},{"$f":"IF($A4=\"\",\"\",COUNTIF(INDIRECT(\"'Planning'!\"&VLOOKUP($A$1,tab_z,2,FALSE)&(10+((ROW()-3)*28))&\":\"&VLOOKUP($A$1,tab_z,3,FALSE)&(37+((ROW()-3)*28))),BD!$E$20)*BD!$F$20)","v":0},0,{"$f":"IF($A4=\"\",\"\",COUNTIF(INDIRECT(\"'Planning'!\"&VLOOKUP($A$1,tab_z,2,FALSE)&(10+((ROW()-3)*28))&\":\"&VLOOKUP($A$1,tab_z,3,FALSE)&(37+((ROW()-3)*28))),BD!$H$2)*BD!$I$2)","v":0},{"$f":"IF($A4=\"\",\"\",COUNTIF(INDIRECT(\"'Planning'!\"&VLOOKUP($A$1,tab_z,2,FALSE)&(10+((ROW()-3)*28))&\":\"&VLOOKUP($A$1,tab_z,3,FALSE)&(37+((ROW()-3)*28))),BD!$H$3)*BD!$I$3)","v":0},{"$f":"IF($A4=\"\",\"\",COUNTIF(INDIRECT(\"'Planning'!\"&VLOOKUP($A$1,tab_z,2,FALSE)&(10+((ROW()-3)*28))&\":\"&VLOOKUP($A$1,tab_z,3,FALSE)&(37+((ROW()-3)*28))),BD!$H$5)*BD!$I$5)","v":0},{"$f":"IF($A4=\"\",\"\",COUNTIF(INDIRECT(\"'Planning'!\"&VLOOKUP($A$1,tab_z,2,FALSE)&(10+((ROW()-3)*28))&\":\"&VLOOKUP($A$1,tab_z,3,FALSE)&(37+((ROW()-3)*28))),BD!$H$6)*BD!$I$6)","v":0},{"$f":"IF($A4=\"\",\"\",COUNTIF(INDIRECT(\"'Planning'!\"&VLOOKUP($A$1,tab_z,2,FALSE)&(10+((ROW()-3)*28))&\":\"&VLOOKUP($A$1,tab_z,3,FALSE)&(37+((ROW()-3)*28))),BD!$H$8)*BD!$I$8)","v":0},{"$f":"IF($A4=\"\",\"\",COUNTIF(INDIRECT(\"'Planning'!\"&VLOOKUP($A$1,tab_z,2,FALSE)&(10+((ROW()-3)*28))&\":\"&VLOOKUP($A$1,tab_z,3,FALSE)&(37+((ROW()-3)*28))),BD!$H$9)*BD!$I$9)","v":0},{"$f":"IF($A4=\"\",\"\",COUNTIF(INDIRECT(\"'Planning'!\"&VLOOKUP($A$1,tab_z,2,FALSE)&(10+((ROW()-3)*28))&\":\"&VLOOKUP($A$1,tab_z,3,FALSE)&(37+((ROW()-3)*28))),BD!$H$10)*BD!$I$10)","v":0},{"$f":"IF($A4=\"\",\"\",COUNTIF(INDIRECT(\"'Planning'!\"&VLOOKUP($A$1,tab_z,2,FALSE)&(10+((ROW()-3)*28))&\":\"&VLOOKUP($A$1,tab_z,3,FALSE)&(37+((ROW()-3)*28))),BD!$H$12)*BD!$I$12)","v":0},{"$f":"IF($A4=\"\",\"\",COUNTIF(INDIRECT(\"'Planning'!\"&VLOOKUP($A$1,tab_z,2,FALSE)&(10+((ROW()-3)*28))&\":\"&VLOOKUP($A$1,tab_z,3,FALSE)&(37+((ROW()-3)*28))),BD!$H$13)*BD!$I$13)","v":0},{"$f":"IF($A4=\"\",\"\",COUNTIF(INDIRECT(\"'Planning'!\"&VLOOKUP($A$1,tab_z,2,FALSE)&(10+((ROW()-3)*28))&\":\"&VLOOKUP($A$1,tab_z,3,FALSE)&(37+((ROW()-3)*28))),BD!$H$15)*BD!$I$15)","v":0},0,{"$f":"IF($A4=\"\",\"\",COUNTIF(INDIRECT(\"'Planning'!\"&VLOOKUP($A$1,tab_z,2,FALSE)&(10+((ROW()-3)*28))&\":\"&VLOOKUP($A$1,tab_z,3,FALSE)&(37+((ROW()-3)*28))),BD!$K$2)*BD!$L$2)","v":0},{"$f":"IF($A4=\"\",\"\",COUNTIF(INDIRECT(\"'Planning'!\"&VLOOKUP($A$1,tab_z,2,FALSE)&(10+((ROW()-3)*28))&\":\"&VLOOKUP($A$1,tab_z,3,FALSE)&(37+((ROW()-3)*28))),BD!$K$3)*BD!$L$3)","v":0},{"$f":"IF($A4=\"\",\"\",COUNTIF(INDIRECT(\"'Planning'!\"&VLOOKUP($A$1,tab_z,2,FALSE)&(10+((ROW()-3)*28))&\":\"&VLOOKUP($A$1,tab_z,3,FALSE)&(37+((ROW()-3)*28))),BD!$K$4)*BD!$L$4)","v":0},{"$f":"IF($A4=\"\",\"\",COUNTIF(INDIRECT(\"'Planning'!\"&VLOOKUP($A$1,tab_z,2,FALSE)&(10+((ROW()-3)*28))&\":\"&VLOOKUP($A$1,tab_z,3,FALSE)&(37+((ROW()-3)*28))),BD!$K$5)*BD!$L$5)","v":0},{"$f":"IF($A4=\"\",\"\",COUNTIF(INDIRECT(\"'Planning'!\"&VLOOKUP($A$1,tab_z,2,FALSE)&(10+((ROW()-3)*28))&\":\"&VLOOKUP($A$1,tab_z,3,FALSE)&(37+((ROW()-3)*28))),BD!$K$6)*BD!$L$6)","v":0},{"$f":"IF($A4=\"\",\"\",COUNTIF(INDIRECT(\"'Planning'!\"&VLOOKUP($A$1,tab_z,2,FALSE)&(10+((ROW()-3)*28))&\":\"&VLOOKUP($A$1,tab_z,3,FALSE)&(37+((ROW()-3)*28))),BD!$K$7)*BD!$L$7)","v":0},{"$f":"IF($A4=\"\",\"\",COUNTIF(INDIRECT(\"'Planning'!\"&VLOOKUP($A$1,tab_z,2,FALSE)&(10+((ROW()-3)*28))&\":\"&VLOOKUP($A$1,tab_z,3,FALSE)&(37+((ROW()-3)*28))),BD!$K$8)*BD!$L$8)","v":0},{"$f":"IF($A4=\"\",\"\",COUNTIF(INDIRECT(\"'Planning'!\"&VLOOKUP($A$1,tab_z,2,FALSE)&(10+((ROW()-3)*28))&\":\"&VLOOKUP($A$1,tab_z,3,FALSE)&(37+((ROW()-3)*28))),BD!$K$9)*BD!$L$9)","v":0},{"$f":"IF($A4=\"\",\"\",COUNTIF(INDIRECT(\"'Planning'!\"&VLOOKUP($A$1,tab_z,2,FALSE)&(10+((ROW()-3)*28))&\":\"&VLOOKUP($A$1,tab_z,3,FALSE)&(37+((ROW()-3)*28))),BD!$K$10)*BD!$L$10)","v":0},{"$f":"IF($A4=\"\",\"\",COUNTIF(INDIRECT(\"'Planning'!\"&VLOOKUP($A$1,tab_z,2,FALSE)&(10+((ROW()-3)*28))&\":\"&VLOOKUP($A$1,tab_z,3,FALSE)&(37+((ROW()-3)*28))),BD!$K$11)*BD!$L$11)","v":0},{"$f":"IF($A4=\"\",\"\",COUNTIF(INDIRECT(\"'Planning'!\"&VLOOKUP($A$1,tab_z,2,FALSE)&(10+((ROW()-3)*28))&\":\"&VLOOKUP($A$1,tab_z,3,FALSE)&(37+((ROW()-3)*28))),BD!$K$12)*BD!$L$12)","v":0},{"$f":"IF($A4=\"\",\"\",COUNTIF(INDIRECT(\"'Planning'!\"&VLOOKUP($A$1,tab_z,2,FALSE)&(10+((ROW()-3)*28))&\":\"&VLOOKUP($A$1,tab_z,3,FALSE)&(37+((ROW()-3)*28))),BD!$K$13)*BD!$L$13)","v":0},0,{"$f":"IF($A4=\"\",\"\",COUNTIF(INDIRECT(\"'Planning'!\"&VLOOKUP($A$1,tab_z,2,FALSE)&(10+((ROW()-3)*28))&\":\"&VLOOKUP($A$1,tab_z,3,FALSE)&(37+((ROW()-3)*28))),BD!$N$2)*BD!$O$2)","v":0},{"$f":"IF($A4=\"\",\"\",COUNTIF(INDIRECT(\"'Planning'!\"&VLOOKUP($A$1,tab_z,2,FALSE)&(10+((ROW()-3)*28))&\":\"&VLOOKUP($A$1,tab_z,3,FALSE)&(37+((ROW()-3)*28))),BD!$N$3)*BD!$O$3)","v":0},{"$f":"IF($A4=\"\",\"\",COUNTIF(INDIRECT(\"'Planning'!\"&VLOOKUP($A$1,tab_z,2,FALSE)&(10+((ROW()-3)*28))&\":\"&VLOOKUP($A$1,tab_z,3,FALSE)&(37+((ROW()-3)*28))),BD!$N$4)*BD!$O$4)","v":0},{"$f":"IF($A4=\"\",\"\",COUNTIF(INDIRECT(\"'Planning'!\"&VLOOKUP($A$1,tab_z,2,FALSE)&(10+((ROW()-3)*28))&\":\"&VLOOKUP($A$1,tab_z,3,FALSE)&(37+((ROW()-3)*28))),BD!$N$5)*BD!$O$5)","v":0},0,{"$f":"IF($A4=\"\",\"\",COUNTIF(INDIRECT(\"'Planning'!\"&VLOOKUP($A$1,tab_z,2,FALSE)&(10+((ROW()-3)*28))&\":\"&VLOOKUP($A$1,tab_z,3,FALSE)&(37+((ROW()-3)*28))),BD!$Q$2)*BD!$R$2)","v":0},{"$f":"IF($A4=\"\",\"\",COUNTIF(INDIRECT(\"'Planning'!\"&VLOOKUP($A$1,tab_z,2,FALSE)&(10+((ROW()-3)*28))&\":\"&VLOOKUP($A$1,tab_z,3,FALSE)&(37+((ROW()-3)*28))),BD!$Q$3)*BD!$R$3)","v":0},{"$f":"IF($A4=\"\",\"\",COUNTIF(INDIRECT(\"'Planning'!\"&VLOOKUP($A$1,tab_z,2,FALSE)&(10+((ROW()-3)*28))&\":\"&VLOOKUP($A$1,tab_z,3,FALSE)&(37+((ROW()-3)*28))),BD!$Q$4)*BD!$R$4)","v":0},{"$f":"IF($A4=\"\",\"\",COUNTIF(INDIRECT(\"'Planning'!\"&VLOOKUP($A$1,tab_z,2,FALSE)&(10+((ROW()-3)*28))&\":\"&VLOOKUP($A$1,tab_z,3,FALSE)&(37+((ROW()-3)*28))),BD!$Q$5)*BD!$R$5)","v":0},0,{"$f":"IF($A4=\"\",\"\",COUNTIF(INDIRECT(\"'Planning'!\"&VLOOKUP($A$1,tab_z,2,FALSE)&(10+((ROW()-3)*28))&\":\"&VLOOKUP($A$1,tab_z,3,FALSE)&(37+((ROW()-3)*28))),BD!$T$2)*BD!$U$2)","v":0},{"$f":"IF($A4=\"\",\"\",COUNTIF(INDIRECT(\"'Planning'!\"&VLOOKUP($A$1,tab_z,2,FALSE)&(10+((ROW()-3)*28))&\":\"&VLOOKUP($A$1,tab_z,3,FALSE)&(37+((ROW()-3)*28))),BD!$T$3)*BD!$U$3)","v":0},{"$f":"IF($A4=\"\",\"\",COUNTIF(INDIRECT(\"'Planning'!\"&VLOOKUP($A$1,tab_z,2,FALSE)&(10+((ROW()-3)*28))&\":\"&VLOOKUP($A$1,tab_z,3,FALSE)&(37+((ROW()-3)*28))),BD!$T$4)*BD!$U$4)","v":0},{"$f":"IF($A4=\"\",\"\",COUNTIF(INDIRECT(\"'Planning'!\"&VLOOKUP($A$1,tab_z,2,FALSE)&(10+((ROW()-3)*28))&\":\"&VLOOKUP($A$1,tab_z,3,FALSE)&(37+((ROW()-3)*28))),BD!$T$5)*BD!$U$5)","v":0},0,{"$f":"IF($A4=\"\",\"\",COUNTIF(INDIRECT(\"'Planning'!\"&VLOOKUP($A$1,tab_z,2,FALSE)&(10+((ROW()-3)*28))&\":\"&VLOOKUP($A$1,tab_z,3,FALSE)&(37+((ROW()-3)*28))),BD!$W$2)*BD!$X$2)","v":0},{"$f":"IF($A4=\"\",\"\",COUNTIF(INDIRECT(\"'Planning'!\"&VLOOKUP($A$1,tab_z,2,FALSE)&(10+((ROW()-3)*28))&\":\"&VLOOKUP($A$1,tab_z,3,FALSE)&(37+((ROW()-3)*28))),BD!$W$3)*BD!$X$3)","v":0},{"$f":"IF($A4=\"\",\"\",COUNTIF(INDIRECT(\"'Planning'!\"&VLOOKUP($A$1,tab_z,2,FALSE)&(10+((ROW()-3)*28))&\":\"&VLOOKUP($A$1,tab_z,3,FALSE)&(37+((ROW()-3)*28))),BD!$W$4)*BD!$X$4)","v":0},{"$f":"IF($A4=\"\",\"\",COUNTIF(INDIRECT(\"'Planning'!\"&VLOOKUP($A$1,tab_z,2,FALSE)&(10+((ROW()-3)*28))&\":\"&VLOOKUP($A$1,tab_z,3,FALSE)&(37+((ROW()-3)*28))),BD!$W$5)*BD!$X$5)","v":0},{"$f":"IF($A4=\"\",\"\",COUNTIF(INDIRECT(\"'Planning'!\"&VLOOKUP($A$1,tab_z,2,FALSE)&(10+((ROW()-3)*28))&\":\"&VLOOKUP($A$1,tab_z,3,FALSE)&(37+((ROW()-3)*28))),BD!$W$6)*BD!$X$6)","v":0},0,{"$f":"IF($A4=\"\",\"\",COUNTIF(INDIRECT(\"'Planning'!\"&VLOOKUP($A$1,tab_z,2,FALSE)&(10+((ROW()-3)*28))&\":\"&VLOOKUP($A$1,tab_z,3,FALSE)&(37+((ROW()-3)*28))),BD!$Z$2)*BD!$AA$2)","v":0},0,0]
["",0,25,"","",{"$f":"IF($A5=\"\",\"\",COUNTIF(INDIRECT(\"'Planning'!\"&VLOOKUP($A$1,tab_z,2,FALSE)&(10+((ROW()-3)*28))&\":\"&VLOOKUP($A$1,tab_z,3,FALSE)&(37+((ROW()-3)*28))),BD!$B$2))","v":""},{"$f":"IF($A5=\"\",\"\",COUNTIF(INDIRECT(\"'Planning'!\"&VLOOKUP($A$1,tab_z,2,FALSE)&(10+((ROW()-3)*28))&\":\"&VLOOKUP($A$1,tab_z,3,FALSE)&(37+((ROW()-3)*28))),BD!$B$3))","v":""},{"$f":"IF($A5=\"\",\"\",COUNTIF(INDIRECT(\"'Planning'!\"&VLOOKUP($A$1,tab_z,2,FALSE)&(10+((ROW()-3)*28))&\":\"&VLOOKUP($A$1,tab_z,3,FALSE)&(37+((ROW()-3)*28))),BD!$B$4))","v":""},{"$f":"IF($A5=\"\",\"\",COUNTIF(INDIRECT(\"'Planning'!\"&VLOOKUP($A$1,tab_z,2,FALSE)&(10+((ROW()-3)*28))&\":\"&VLOOKUP($A$1,tab_z,3,FALSE)&(37+((ROW()-3)*28))),BD!$B$5))","v":""},{"$f":"IF($A5=\"\",\"\",COUNTIF(INDIRECT(\"'Planning'!\"&VLOOKUP($A$1,tab_z,2,FALSE)&(10+((ROW()-3)*28))&\":\"&VLOOKUP($A$1,tab_z,3,FALSE)&(37+((ROW()-3)*28))),BD!$B$6))","v":""},{"$f":"IF($A5=\"\",\"\",COUNTIF(INDIRECT(\"'Planning'!\"&VLOOKUP($A$1,tab_z,2,FALSE)&(10+((ROW()-3)*28))&\":\"&VLOOKUP($A$1,tab_z,3,FALSE)&(37+((ROW()-3)*28))),BD!$B$7))","v":""},{"$f":"IF($A5=\"\",\"\",COUNTIF(INDIRECT(\"'Planning'!\"&VLOOKUP($A$1,tab_z,2,FALSE)&(10+((ROW()-3)*28))&\":\"&VLOOKUP($A$1,tab_z,3,FALSE)&(37+((ROW()-3)*28))),BD!$B$8))","v":""},{"$f":"IF($A5=\"\",\"\",COUNTIF(INDIRECT(\"'Planning'!\"&VLOOKUP($A$1,tab_z,2,FALSE)&(10+((ROW()-3)*28))&\":\"&VLOOKUP($A$1,tab_z,3,FALSE)&(37+((ROW()-3)*28))),BD!$B$9))","v":""},{"$f":"IF($A5=\"\",\"\",COUNTIF(INDIRECT(\"'Planning'!\"&VLOOKUP($A$1,tab_z,2,FALSE)&(10+((ROW()-3)*28))&\":\"&VLOOKUP($A$1,tab_z,3,FALSE)&(37+((ROW()-3)*28))),BD!$B$10))","v":""},{"$f":"IF($A5=\"\",\"\",COUNTIF(INDIRECT(\"'Planning'!\"&VLOOKUP($A$1,tab_z,2,FALSE)&(10+((ROW()-3)*28))&\":\"&VLOOKUP($A$1,tab_z,3,FALSE)&(37+((ROW()-3)*28))),BD!$B$11))","v":""},{"$f":"IF($A5=\"\",\"\",COUNTIF(INDIRECT(\"'Planning'!\"&VLOOKUP($A$1,tab_z,2,FALSE)&(10+((ROW()-3)*28))&\":\"&VLOOKUP($A$1,tab_z,3,FALSE)&(37+((ROW()-3)*28))),BD!$B$12))","v":""},{"$f":"IF($A5=\"\",\"\",COUNTIF(INDIRECT(\"'Planning'!\"&VLOOKUP($A$1,tab_z,2,FALSE)&(10+((ROW()-3)*28))&\":\"&VLOOKUP($A$1,tab_z,3,FALSE)&(37+((ROW()-3)*28))),BD!$B$13))","v":""},{"$f":"IF($A5=\"\",\"\",COUNTIF(INDIRECT(\"'Planning'!\"&VLOOKUP($A$1,tab_z,2,FALSE)&(10+((ROW()-3)*28))&\":\"&VLOOKUP($A$1,tab_z,3,FALSE)&(37+((ROW()-3)*28))),BD!$B$14))","v":""},{"$f":"IF($A5=\"\",\"\",COUNTIF(INDIRECT(\"'Planning'!\"&VLOOKUP($A$1,tab_z,2,FALSE)&(10+((ROW()-3)*28))&\":\"&VLOOKUP($A$1,tab_z,3,FALSE)&(37+((ROW()-3)*28))),BD!$E$2)*BD!$F$2)","v":""},{"$f":"IF($A5=\"\",\"\",COUNTIF(INDIRECT(\"'Planning'!\"&VLOOKUP($A$1,tab_z,2,FALSE)&(10+((ROW()-3)*28))&\":\"&VLOOKUP($A$1,tab_z,3,FALSE)&(37+((ROW()-3)*28))),BD!$E$3)*BD!$F$3)","v":""},{"$f":"IF($A5=\"\",\"\",COUNTIF(INDIRECT(\"'Planning'!\"&VLOOKUP($A$1,tab_z,2,FALSE)&(10+((ROW()-3)*28))&\":\"&VLOOKUP($A$1,tab_z,3,FALSE)&(37+((ROW()-3)*28))),BD!$E$4)*BD!$F$4)","v":""},{"$f":"IF($A5=\"\",\"\",COUNTIF(INDIRECT(\"'Planning'!\"&VLOOKUP($A$1,tab_z,2,FALSE)&(10+((ROW()-3)*28))&\":\"&VLOOKUP($A$1,tab_z,3,FALSE)&(37+((ROW()-3)*28))),BD!$E$6)*BD!$F$6)","v":""},{"$f":"IF($A5=\"\",\"\",COUNTIF(INDIRECT(\"'Planning'!\"&VLOOKUP($A$1,tab_z,2,FALSE)&(10+((ROW()-3)*28))&\":\"&VLOOKUP($A$1,tab_z,3,FALSE)&(37+((ROW()-3)*28))),BD!$E$7)*BD!$F$7)","v":""},{"$f":"IF($A5=\"\",\"\",COUNTIF(INDIRECT(\"'Planning'!\"&VLOOKUP($A$1,tab_z,2,FALSE)&(10+((ROW()-3)*28))&\":\"&VLOOKUP($A$1,tab_z,3,FALSE)&(37+((ROW()-3)*28))),BD!$E$8)*BD!$F$8)","v":""},{"$f":"IF($A5=\"\",\"\",COUNTIF(INDIRECT(\"'Planning'!\"&VLOOKUP($A$1,tab_z,2,FALSE)&(10+((ROW()-3)*28))&\":\"&VLOOKUP($A$1,tab_z,3,FALSE)&(37+((ROW()-3)*28))),BD!$E$9)*BD!$F$9)","v":""},{"$f":"IF($A5=\"\",\"\",COUNTIF(INDIRECT(\"'Planning'!\"&VLOOKUP($A$1,tab_z,2,FALSE)&(10+((ROW()-3)*28))&\":\"&VLOOKUP($A$1,tab_z,3,FALSE)&(37+((ROW()-3)*28))),BD!$E$11)*BD!$F$11)","v":""},{"$f":"IF($A5=\"\",\"\",COUNTIF(INDIRECT(\"'Planning'!\"&VLOOKUP($A$1,tab_z,2,FALSE)&(10+((ROW()-3)*28))&\":\"&VLOOKUP($A$1,tab_z,3,FALSE)&(37+((ROW()-3)*28))),BD!$E$12)*BD!$F$12)","v":""},{"$f":"IF($A5=\"\",\"\",COUNTIF(INDIRECT(\"'Planning'!\"&VLOOKUP($A$1,tab_z,2,FALSE)&(10+((ROW()-3)*28))&\":\"&VLOOKUP($A$1,tab_z,3,FALSE)&(37+((ROW()-3)*28))),BD!$E$13)*BD!$F$13)","v":""},{"$f":"IF($A5=\"\",\"\",COUNTIF(INDIRECT(\"'Planning'!\"&VLOOKUP($A$1,tab_z,2,FALSE)&(10+((ROW()-3)*28))&\":\"&VLOOKUP($A$1,tab_z,3,FALSE)&(37+((ROW()-3)*28))),BD!$E$15)*BD!$F$15)","v":""},{"$f":"IF($A5=\"\",\"\",COUNTIF(INDIRECT(\"'Planning'!\"&VLOOKUP($A$1,tab_z,2,FALSE)&(10+((ROW()-3)*28))&\":\"&VLOOKUP($A$1,tab_z,3,FALSE)&(37+((ROW()-3)*28))),BD!$E$16)*BD!$F$16)","v":""},{"$f":"IF($A5=\"\",\"\",COUNTIF(INDIRECT(\"'Planning'!\"&VLOOKUP($A$1,tab_z,2,FALSE)&(10+((ROW()-3)*28))&\":\"&VLOOKUP($A$1,tab_z,3,FALSE)&(37+((ROW()-3)*28))),BD!$E$17)*BD!$F$17)","v":""},{"$f":"IF($A5=\"\",\"\",COUNTIF(INDIRECT(\"'Planning'!\"&VLOOKUP($A$1,tab_z,2,FALSE)&(10+((ROW()-3)*28))&\":\"&VLOOKUP($A$1,tab_z,3,FALSE)&(37+((ROW()-3)*28))),BD!$E$19)*BD!$F$19)","v":""},{"$f":"IF($A5=\"\",\"\",COUNTIF(INDIRECT(\"'Planning'!\"&VLOOKUP($A$1,tab_z,2,FALSE)&(10+((ROW()-3)*28))&\":\"&VLOOKUP($A$1,tab_z,3,FALSE)&(37+((ROW()-3)*28))),BD!$E$20)*BD!$F$20)","v":""},0,{"$f":"IF($A5=\"\",\"\",COUNTIF(INDIRECT(\"'Planning'!\"&VLOOKUP($A$1,tab_z,2,FALSE)&(10+((ROW()-3)*28))&\":\"&VLOOKUP($A$1,tab_z,3,FALSE)&(37+((ROW()-3)*28))),BD!$H$2)*BD!$I$2)","v":""},{"$f":"IF($A5=\"\",\"\",COUNTIF(INDIRECT(\"'Planning'!\"&VLOOKUP($A$1,tab_z,2,FALSE)&(10+((ROW()-3)*28))&\":\"&VLOOKUP($A$1,tab_z,3,FALSE)&(37+((ROW()-3)*28))),BD!$H$3)*BD!$I$3)","v":""},{"$f":"IF($A5=\"\",\"\",COUNTIF(INDIRECT(\"'Planning'!\"&VLOOKUP($A$1,tab_z,2,FALSE)&(10+((ROW()-3)*28))&\":\"&VLOOKUP($A$1,tab_z,3,FALSE)&(37+((ROW()-3)*28))),BD!$H$5)*BD!$I$5)","v":""},{"$f":"IF($A5=\"\",\"\",COUNTIF(INDIRECT(\"'Planning'!\"&VLOOKUP($A$1,tab_z,2,FALSE)&(10+((ROW()-3)*28))&\":\"&VLOOKUP($A$1,tab_z,3,FALSE)&(37+((ROW()-3)*28))),BD!$H$6)*BD!$I$6)","v":""},{"$f":"IF($A5=\"\",\"\",COUNTIF(INDIRECT(\"'Planning'!\"&VLOOKUP($A$1,tab_z,2,FALSE)&(10+((ROW()-3)*28))&\":\"&VLOOKUP($A$1,tab_z,3,FALSE)&(37+((ROW()-3)*28))),BD!$H$8)*BD!$I$8)","v":""},{"$f":"IF($A5=\"\",\"\",COUNTIF(INDIRECT(\"'Planning'!\"&VLOOKUP($A$1,tab_z,2,FALSE)&(10+((ROW()-3)*28))&\":\"&VLOOKUP($A$1,tab_z,3,FALSE)&(37+((ROW()-3)*28))),BD!$H$9)*BD!$I$9)","v":""},{"$f":"IF($A5=\"\",\"\",COUNTIF(INDIRECT(\"'Planning'!\"&VLOOKUP($A$1,tab_z,2,FALSE)&(10+((ROW()-3)*28))&\":\"&VLOOKUP($A$1,tab_z,3,FALSE)&(37+((ROW()-3)*28))),BD!$H$10)*BD!$I$10)","v":""},{"$f":"IF($A5=\"\",\"\",COUNTIF(INDIRECT(\"'Planning'!\"&VLOOKUP($A$1,tab_z,2,FALSE)&(10+((ROW()-3)*28))&\":\"&VLOOKUP($A$1,tab_z,3,FALSE)&(37+((ROW()-3)*28))),BD!$H$12)*BD!$I$12)","v":""},{"$f":"IF($A5=\"\",\"\",COUNTIF(INDIRECT(\"'Planning'!\"&VLOOKUP($A$1,tab_z,2,FALSE)&(10+((ROW()-3)*28))&\":\"&VLOOKUP($A$1,tab_z,3,FALSE)&(37+((ROW()-3)*28))),BD!$H$13)*BD!$I$13)","v":""},{"$f":"IF($A5=\"\",\"\",COUNTIF(INDIRECT(\"'Planning'!\"&VLOOKUP($A$1,tab_z,2,FALSE)&(10+((ROW()-3)*28))&\":\"&VLOOKUP($A$1,tab_z,3,FALSE)&(37+((ROW()-3)*28))),BD!$H$15)*BD!$I$15)","v":""},0,{"$f":"IF($A5=\"\",\"\",COUNTIF(INDIRECT(\"'Planning'!\"&VLOOKUP($A$1,tab_z,2,FALSE)&(10+((ROW()-3)*28))&\":\"&VLOOKUP($A$1,tab_z,3,FALSE)&(37+((ROW()-3)*28))),BD!$K$2)*BD!$L$2)","v":""},{"$f":"IF($A5=\"\",\"\",COUNTIF(INDIRECT(\"'Planning'!\"&VLOOKUP($A$1,tab_z,2,FALSE)&(10+((ROW()-3)*28))&\":\"&VLOOKUP($A$1,tab_z,3,FALSE)&(37+((ROW()-3)*28))),BD!$K$3)*BD!$L$3)","v":""},{"$f":"IF($A5=\"\",\"\",COUNTIF(INDIRECT(\"'Planning'!\"&VLOOKUP($A$1,tab_z,2,FALSE)&(10+((ROW()-3)*28))&\":\"&VLOOKUP($A$1,tab_z,3,FALSE)&(37+((ROW()-3)*28))),BD!$K$4)*BD!$L$4)","v":""},{"$f":"IF($A5=\"\",\"\",COUNTIF(INDIRECT(\"'Planning'!\"&VLOOKUP($A$1,tab_z,2,FALSE)&(10+((ROW()-3)*28))&\":\"&VLOOKUP($A$1,tab_z,3,FALSE)&(37+((ROW()-3)*28))),BD!$K$5)*BD!$L$5)","v":""},{"$f":"IF($A5=\"\",\"\",COUNTIF(INDIRECT(\"'Planning'!\"&VLOOKUP($A$1,tab_z,2,FALSE)&(10+((ROW()-3)*28))&\":\"&VLOOKUP($A$1,tab_z,3,FALSE)&(37+((ROW()-3)*28))),BD!$K$6)*BD!$L$6)","v":""},{"$f":"IF($A5=\"\",\"\",COUNTIF(INDIRECT(\"'Planning'!\"&VLOOKUP($A$1,tab_z,2,FALSE)&(10+((ROW()-3)*28))&\":\"&VLOOKUP($A$1,tab_z,3,FALSE)&(37+((ROW()-3)*28))),BD!$K$7)*BD!$L$7)","v":""},{"$f":"IF($A5=\"\",\"\",COUNTIF(INDIRECT(\"'Planning'!\"&VLOOKUP($A$1,tab_z,2,FALSE)&(10+((ROW()-3)*28))&\":\"&VLOOKUP($A$1,tab_z,3,FALSE)&(37+((ROW()-3)*28))),BD!$K$8)*BD!$L$8)","v":""},{"$f":"IF($A5=\"\",\"\",COUNTIF(INDIRECT(\"'Planning'!\"&VLOOKUP($A$1,tab_z,2,FALSE)&(10+((ROW()-3)*28))&\":\"&VLOOKUP($A$1,tab_z,3,FALSE)&(37+((ROW()-3)*28))),BD!$K$9)*BD!$L$9)","v":""},{"$f":"IF($A5=\"\",\"\",COUNTIF(INDIRECT(\"'Planning'!\"&VLOOKUP($A$1,tab_z,2,FALSE)&(10+((ROW()-3)*28))&\":\"&VLOOKUP($A$1,tab_z,3,FALSE)&(37+((ROW()-3)*28))),BD!$K$10)*BD!$L$10)","v":""},{"$f":"IF($A5=\"\",\"\",COUNTIF(INDIRECT(\"'Planning'!\"&VLOOKUP($A$1,tab_z,2,FALSE)&(10+((ROW()-3)*28))&\":\"&VLOOKUP($A$1,tab_z,3,FALSE)&(37+((ROW()-3)*28))),BD!$K$11)*BD!$L$11)","v":""},{"$f":"IF($A5=\"\",\"\",COUNTIF(INDIRECT(\"'Planning'!\"&VLOOKUP($A$1,tab_z,2,FALSE)&(10+((ROW()-3)*28))&\":\"&VLOOKUP($A$1,tab_z,3,FALSE)&(37+((ROW()-3)*28))),BD!$K$12)*BD!$L$12)","v":""},{"$f":"IF($A5=\"\",\"\",COUNTIF(INDIRECT(\"'Planning'!\"&VLOOKUP($A$1,tab_z,2,FALSE)&(10+((ROW()-3)*28))&\":\"&VLOOKUP($A$1,tab_z,3,FALSE)&(37+((ROW()-3)*28))),BD!$K$13)*BD!$L$13)","v":""},0,{"$f":"IF($A5=\"\",\"\",COUNTIF(INDIRECT(\"'Planning'!\"&VLOOKUP($A$1,tab_z,2,FALSE)&(10+((ROW()-3)*28))&\":\"&VLOOKUP($A$1,tab_z,3,FALSE)&(37+((ROW()-3)*28))),BD!$N$2)*BD!$O$2)","v":""},{"$f":"IF($A5=\"\",\"\",COUNTIF(INDIRECT(\"'Planning'!\"&VLOOKUP($A$1,tab_z,2,FALSE)&(10+((ROW()-3)*28))&\":\"&VLOOKUP($A$1,tab_z,3,FALSE)&(37+((ROW()-3)*28))),BD!$N$3)*BD!$O$3)","v":""},{"$f":"IF($A5=\"\",\"\",COUNTIF(INDIRECT(\"'Planning'!\"&VLOOKUP($A$1,tab_z,2,FALSE)&(10+((ROW()-3)*28))&\":\"&VLOOKUP($A$1,tab_z,3,FALSE)&(37+((ROW()-3)*28))),BD!$N$4)*BD!$O$4)","v":""},{"$f":"IF($A5=\"\",\"\",COUNTIF(INDIRECT(\"'Planning'!\"&VLOOKUP($A$1,tab_z,2,FALSE)&(10+((ROW()-3)*28))&\":\"&VLOOKUP($A$1,tab_z,3,FALSE)&(37+((ROW()-3)*28))),BD!$N$5)*BD!$O$5)","v":""},0,{"$f":"IF($A5=\"\",\"\",COUNTIF(INDIRECT(\"'Planning'!\"&VLOOKUP($A$1,tab_z,2,FALSE)&(10+((ROW()-3)*28))&\":\"&VLOOKUP($A$1,tab_z,3,FALSE)&(37+((ROW()-3)*28))),BD!$Q$2)*BD!$R$2)","v":""},{"$f":"IF($A5=\"\",\"\",COUNTIF(INDIRECT(\"'Planning'!\"&VLOOKUP($A$1,tab_z,2,FALSE)&(10+((ROW()-3)*28))&\":\"&VLOOKUP($A$1,tab_z,3,FALSE)&(37+((ROW()-3)*28))),BD!$Q$3)*BD!$R$3)","v":""},{"$f":"IF($A5=\"\",\"\",COUNTIF(INDIRECT(\"'Planning'!\"&VLOOKUP($A$1,tab_z,2,FALSE)&(10+((ROW()-3)*28))&\":\"&VLOOKUP($A$1,tab_z,3,FALSE)&(37+((ROW()-3)*28))),BD!$Q$4)*BD!$R$4)","v":""},{"$f":"IF($A5=\"\",\"\",COUNTIF(INDIRECT(\"'Planning'!\"&VLOOKUP($A$1,tab_z,2,FALSE)&(10+((ROW()-3)*28))&\":\"&VLOOKUP($A$1,tab_z,3,FALSE)&(37+((ROW()-3)*28))),BD!$Q$5)*BD!$R$5)","v":""},0,{"$f":"IF($A5=\"\",\"\",COUNTIF(INDIRECT(\"'Planning'!\"&VLOOKUP($A$1,tab_z,2,FALSE)&(10+((ROW()-3)*28))&\":\"&VLOOKUP($A$1,tab_z,3,FALSE)&(37+((ROW()-3)*28))),BD!$T$2)*BD!$U$2)","v":""},{"$f":"IF($A5=\"\",\"\",COUNTIF(INDIRECT(\"'Planning'!\"&VLOOKUP($A$1,tab_z,2,FALSE)&(10+((ROW()-3)*28))&\":\"&VLOOKUP($A$1,tab_z,3,FALSE)&(37+((ROW()-3)*28))),BD!$T$3)*BD!$U$3)","v":""},{"$f":"IF($A5=\"\",\"\",COUNTIF(INDIRECT(\"'Planning'!\"&VLOOKUP($A$1,tab_z,2,FALSE)&(10+((ROW()-3)*28))&\":\"&VLOOKUP($A$1,tab_z,3,FALSE)&(37+((ROW()-3)*28))),BD!$T$4)*BD!$U$4)","v":""},{"$f":"IF($A5=\"\",\"\",COUNTIF(INDIRECT(\"'Planning'!\"&VLOOKUP($A$1,tab_z,2,FALSE)&(10+((ROW()-3)*28))&\":\"&VLOOKUP($A$1,tab_z,3,FALSE)&(37+((ROW()-3)*28))),BD!$T$5)*BD!$U$5)","v":""},0,{"$f":"IF($A5=\"\",\"\",COUNTIF(INDIRECT(\"'Planning'!\"&VLOOKUP($A$1,tab_z,2,FALSE)&(10+((ROW()-3)*28))&\":\"&VLOOKUP($A$1,tab_z,3,FALSE)&(37+((ROW()-3)*28))),BD!$W$2)*BD!$X$2)","v":""},{"$f":"IF($A5=\"\",\"\",COUNTIF(INDIRECT(\"'Planning'!\"&VLOOKUP($A$1,tab_z,2,FALSE)&(10+((ROW()-3)*28))&\":\"&VLOOKUP($A$1,tab_z,3,FALSE)&(37+((ROW()-3)*28))),BD!$W$3)*BD!$X$3)","v":""},{"$f":"IF($A5=\"\",\"\",COUNTIF(INDIRECT(\"'Planning'!\"&VLOOKUP($A$1,tab_z,2,FALSE)&(10+((ROW()-3)*28))&\":\"&VLOOKUP($A$1,tab_z,3,FALSE)&(37+((ROW()-3)*28))),BD!$W$4)*BD!$X$4)","v":""},{"$f":"IF($A5=\"\",\"\",COUNTIF(INDIRECT(\"'Planning'!\"&VLOOKUP($A$1,tab_z,2,FALSE)&(10+((ROW()-3)*28))&\":\"&VLOOKUP($A$1,tab_z,3,FALSE)&(37+((ROW()-3)*28))),BD!$W$5)*BD!$X$5)","v":""},{"$f":"IF($A5=\"\",\"\",COUNTIF(INDIRECT(\"'Planning'!\"&VLOOKUP($A$1,tab_z,2,FALSE)&(10+((ROW()-3)*28))&\":\"&VLOOKUP($A$1,tab_z,3,FALSE)&(37+((ROW()-3)*28))),BD!$W$6)*BD!$X$6)","v":""},0,{"$f":"IF($A5=\"\",\"\",COUNTIF(INDIRECT(\"'Planning'!\"&VLOOKUP($A$1,tab_z,2,FALSE)&(10+((ROW()-3)*28))&\":\"&VLOOKUP($A$1,tab_z,3,FALSE)&(37+((ROW()-3)*28))),BD!$Z$2)*BD!$AA$2)","v":""},0,""]
["",0,25,"","",{"$f":"IF($A6=\"\",\"\",COUNTIF(INDIRECT(\"'Planning'!\"&VLOOKUP($A$1,tab_z,2,FALSE)&(10+((ROW()-3)*28))&\":\"&VLOOKUP($A$1,tab_z,3,FALSE)&(37+((ROW()-3)*28))),BD!$B$2))","v":""},{"$f":"IF($A6=\"\",\"\",COUNTIF(INDIRECT(\"'Planning'!\"&VLOOKUP($A$1,tab_z,2,FALSE)&(10+((ROW()-3)*28))&\":\"&VLOOKUP($A$1,tab_z,3,FALSE)&(37+((ROW()-3)*28))),BD!$B$3))","v":""},{"$f":"IF($A6=\"\",\"\",COUNTIF(INDIRECT(\"'Planning'!\"&VLOOKUP($A$1,tab_z,2,FALSE)&(10+((ROW()-3)*28))&\":\"&VLOOKUP($A$1,tab_z,3,FALSE)&(37+((ROW()-3)*28))),BD!$B$4))","v":""},{"$f":"IF($A6=\"\",\"\",COUNTIF(INDIRECT(\"'Planning'!\"&VLOOKUP($A$1,tab_z,2,FALSE)&(10+((ROW()-3)*28))&\":\"&VLOOKUP($A$1,tab_z,3,FALSE)&(37+((ROW()-3)*28))),BD!$B$5))","v":""},{"$f":"IF($A6=\"\",\"\",COUNTIF(INDIRECT(\"'Planning'!\"&VLOOKUP($A$1,tab_z,2,FALSE)&(10+((ROW()-3)*28))&\":\"&VLOOKUP($A$1,tab_z,3,FALSE)&(37+((ROW()-3)*28))),BD!$B$6))","v":""},{"$f":"IF($A6=\"\",\"\",COUNTIF(INDIRECT(\"'Planning'!\"&VLOOKUP($A$1,tab_z,2,FALSE)&(10+((ROW()-3)*28))&\":\"&VLOOKUP($A$1,tab_z,3,FALSE)&(37+((ROW()-3)*28))),BD!$B$7))","v":""},{"$f":"IF($A6=\"\",\"\",COUNTIF(INDIRECT(\"'Planning'!\"&VLOOKUP($A$1,tab_z,2,FALSE)&(10+((ROW()-3)*28))&\":\"&VLOOKUP($A$1,tab_z,3,FALSE)&(37+((ROW()-3)*28))),BD!$B$8))","v":""},{"$f":"IF($A6=\"\",\"\",COUNTIF(INDIRECT(\"'Planning'!\"&VLOOKUP($A$1,tab_z,2,FALSE)&(10+((ROW()-3)*28))&\":\"&VLOOKUP($A$1,tab_z,3,FALSE)&(37+((ROW()-3)*28))),BD!$B$9))","v":""},{"$f":"IF($A6=\"\",\"\",COUNTIF(INDIRECT(\"'Planning'!\"&VLOOKUP($A$1,tab_z,2,FALSE)&(10+((ROW()-3)*28))&\":\"&VLOOKUP($A$1,tab_z,3,FALSE)&(37+((ROW()-3)*28))),BD!$B$10))","v":""},{"$f":"IF($A6=\"\",\"\",COUNTIF(INDIRECT(\"'Planning'!\"&VLOOKUP($A$1,tab_z,2,FALSE)&(10+((ROW()-3)*28))&\":\"&VLOOKUP($A$1,tab_z,3,FALSE)&(37+((ROW()-3)*28))),BD!$B$11))","v":""},{"$f":"IF($A6=\"\",\"\",COUNTIF(INDIRECT(\"'Planning'!\"&VLOOKUP($A$1,tab_z,2,FALSE)&(10+((ROW()-3)*28))&\":\"&VLOOKUP($A$1,tab_z,3,FALSE)&(37+((ROW()-3)*28))),BD!$B$12))","v":""},{"$f":"IF($A6=\"\",\"\",COUNTIF(INDIRECT(\"'Planning'!\"&VLOOKUP($A$1,tab_z,2,FALSE)&(10+((ROW()-3)*28))&\":\"&VLOOKUP($A$1,tab_z,3,FALSE)&(37+((ROW()-3)*28))),BD!$B$13))","v":""},{"$f":"IF($A6=\"\",\"\",COUNTIF(INDIRECT(\"'Planning'!\"&VLOOKUP($A$1,tab_z,2,FALSE)&(10+((ROW()-3)*28))&\":\"&VLOOKUP($A$1,tab_z,3,FALSE)&(37+((ROW()-3)*28))),BD!$B$14))","v":""},{"$f":"IF($A6=\"\",\"\",COUNTIF(INDIRECT(\"'Planning'!\"&VLOOKUP($A$1,tab_z,2,FALSE)&(10+((ROW()-3)*28))&\":\"&VLOOKUP($A$1,tab_z,3,FALSE)&(37+((ROW()-3)*28))),BD!$E$2)*BD!$F$2)","v":""},{"$f":"IF($A6=\"\",\"\",COUNTIF(INDIRECT(\"'Planning'!\"&VLOOKUP($A$1,tab_z,2,FALSE)&(10+((ROW()-3)*28))&\":\"&VLOOKUP($A$1,tab_z,3,FALSE)&(37+((ROW()-3)*28))),BD!$E$3)*BD!$F$3)","v":""},{"$f":"IF($A6=\"\",\"\",COUNTIF(INDIRECT(\"'Planning'!\"&VLOOKUP($A$1,tab_z,2,FALSE)&(10+((ROW()-3)*28))&\":\"&VLOOKUP($A$1,tab_z,3,FALSE)&(37+((ROW()-3)*28))),BD!$E$4)*BD!$F$4)","v":""},{"$f":"IF($A6=\"\",\"\",COUNTIF(INDIRECT(\"'Planning'!\"&VLOOKUP($A$1,tab_z,2,FALSE)&(10+((ROW()-3)*28))&\":\"&VLOOKUP($A$1,tab_z,3,FALSE)&(37+((ROW()-3)*28))),BD!$E$6)*BD!$F$6)","v":""},{"$f":"IF($A6=\"\",\"\",COUNTIF(INDIRECT(\"'Planning'!\"&VLOOKUP($A$1,tab_z,2,FALSE)&(10+((ROW()-3)*28))&\":\"&VLOOKUP($A$1,tab_z,3,FALSE)&(37+((ROW()-3)*28))),BD!$E$7)*BD!$F$7)","v":""},{"$f":"IF($A6=\"\",\"\",COUNTIF(INDIRECT(\"'Planning'!\"&VLOOKUP($A$1,tab_z,2,FALSE)&(10+((ROW()-3)*28))&\":\"&VLOOKUP($A$1,tab_z,3,FALSE)&(37+((ROW()-3)*28))),BD!$E$8)*BD!$F$8)","v":""},{"$f":"IF($A6=\"\",\"\",COUNTIF(INDIRECT(\"'Planning'!\"&VLOOKUP($A$1,tab_z,2,FALSE)&(10+((ROW()-3)*28))&\":\"&VLOOKUP($A$1,tab_z,3,FALSE)&(37+((ROW()-3)*28))),BD!$E$9)*BD!$F$9)","v":""},{"$f":"IF($A6=\"\",\"\",COUNTIF(INDIRECT(\"'Planning'!\"&VLOOKUP($A$1,tab_z,2,FALSE)&(10+((ROW()-3)*28))&\":\"&VLOOKUP($A$1,tab_z,3,FALSE)&(37+((ROW()-3)*28))),BD!$E$11)*BD!$F$11)","v":""},{"$f":"IF($A6=\"\",\"\",COUNTIF(INDIRECT(\"'Planning'!\"&VLOOKUP($A$1,tab_z,2,FALSE)&(10+((ROW()-3)*28))&\":\"&VLOOKUP($A$1,tab_z,3,FALSE)&(37+((ROW()-3)*28))),BD!$E$12)*BD!$F$12)","v":""},{"$f":"IF($A6=\"\",\"\",COUNTIF(INDIRECT(\"'Planning'!\"&VLOOKUP($A$1,tab_z,2,FALSE)&(10+((ROW()-3)*28))&\":\"&VLOOKUP($A$1,tab_z,3,FALSE)&(37+((ROW()-3)*28))),BD!$E$13)*BD!$F$13)","v":""},{"$f":"IF($A6=\"\",\"\",COUNTIF(INDIRECT(\"'Planning'!\"&VLOOKUP($A$1,tab_z,2,FALSE)&(10+((ROW()-3)*28))&\":\"&VLOOKUP($A$1,tab_z,3,FALSE)&(37+((ROW()-3)*28))),BD!$E$15)*BD!$F$15)","v":""},{"$f":"IF($A6=\"\",\"\",COUNTIF(INDIRECT(\"'Planning'!\"&VLOOKUP($A$1,tab_z,2,FALSE)&(10+((ROW()-3)*28))&\":\"&VLOOKUP($A$1,tab_z,3,FALSE)&(37+((ROW()-3)*28))),BD!$E$16)*BD!$F$16)","v":""},{"$f":"IF($A6=\"\",\"\",COUNTIF(INDIRECT(\"'Planning'!\"&VLOOKUP($A$1,tab_z,2,FALSE)&(10+((ROW()-3)*28))&\":\"&VLOOKUP($A$1,tab_z,3,FALSE)&(37+((ROW()-3)*28))),BD!$E$17)*BD!$F$17)","v":""},{"$f":"IF($A6=\"\",\"\",COUNTIF(INDIRECT(\"'Planning'!\"&VLOOKUP($A$1,tab_z,2,FALSE)&(10+((ROW()-3)*28))&\":\"&VLOOKUP($A$1,tab_z,3,FALSE)&(37+((ROW()-3)*28))),BD!$E$19)*BD!$F$19)","v":""},{"$f":"IF($A6=\"\",\"\",COUNTIF(INDIRECT(\"'Planning'!\"&VLOOKUP($A$1,tab_z,2,FALSE)&(10+((ROW()-3)*28))&\":\"&VLOOKUP($A$1,tab_z,3,FALSE)&(37+((ROW()-3)*28))),BD!$E$20)*BD!$F$20)","v":""},0,{"$f":"IF($A6=\"\",\"\",COUNTIF(INDIRECT(\"'Planning'!\"&VLOOKUP($A$1,tab_z,2,FALSE)&(10+((ROW()-3)*28))&\":\"&VLOOKUP($A$1,tab_z,3,FALSE)&(37+((ROW()-3)*28))),BD!$H$2)*BD!$I$2)","v":""},{"$f":"IF($A6=\"\",\"\",COUNTIF(INDIRECT(\"'Planning'!\"&VLOOKUP($A$1,tab_z,2,FALSE)&(10+((ROW()-3)*28))&\":\"&VLOOKUP($A$1,tab_z,3,FALSE)&(37+((ROW()-3)*28))),BD!$H$3)*BD!$I$3)","v":""},{"$f":"IF($A6=\"\",\"\",COUNTIF(INDIRECT(\"'Planning'!\"&VLOOKUP($A$1,tab_z,2,FALSE)&(10+((ROW()-3)*28))&\":\"&VLOOKUP($A$1,tab_z,3,FALSE)&(37+((ROW()-3)*28))),BD!$H$5)*BD!$I$5)","v":""},{"$f":"IF($A6=\"\",\"\",COUNTIF(INDIRECT(\"'Planning'!\"&VLOOKUP($A$1,tab_z,2,FALSE)&(10+((ROW()-3)*28))&\":\"&VLOOKUP($A$1,tab_z,3,FALSE)&(37+((ROW()-3)*28))),BD!$H$6)*BD!$I$6)","v":""},{"$f":"IF($A6=\"\",\"\",COUNTIF(INDIRECT(\"'Planning'!\"&VLOOKUP($A$1,tab_z,2,FALSE)&(10+((ROW()-3)*28))&\":\"&VLOOKUP($A$1,tab_z,3,FALSE)&(37+((ROW()-3)*28))),BD!$H$8)*BD!$I$8)","v":""},{"$f":"IF($A6=\"\",\"\",COUNTIF(INDIRECT(\"'Planning'!\"&VLOOKUP($A$1,tab_z,2,FALSE)&(10+((ROW()-3)*28))&\":\"&VLOOKUP($A$1,tab_z,3,FALSE)&(37+((ROW()-3)*28))),BD!$H$9)*BD!$I$9)","v":""},{"$f":"IF($A6=\"\",\"\",COUNTIF(INDIRECT(\"'Planning'!\"&VLOOKUP($A$1,tab_z,2,FALSE)&(10+((ROW()-3)*28))&\":\"&VLOOKUP($A$1,tab_z,3,FALSE)&(37+((ROW()-3)*28))),BD!$H$10)*BD!$I$10)","v":""},{"$f":"IF($A6=\"\",\"\",COUNTIF(INDIRECT(\"'Planning'!\"&VLOOKUP($A$1,tab_z,2,FALSE)&(10+((ROW()-3)*28))&\":\"&VLOOKUP($A$1,tab_z,3,FALSE)&(37+((ROW()-3)*28))),BD!$H$12)*BD!$I$12)","v":""},{"$f":"IF($A6=\"\",\"\",COUNTIF(INDIRECT(\"'Planning'!\"&VLOOKUP($A$1,tab_z,2,FALSE)&(10+((ROW()-3)*28))&\":\"&VLOOKUP($A$1,tab_z,3,FALSE)&(37+((ROW()-3)*28))),BD!$H$13)*BD!$I$13)","v":""},{"$f":"IF($A6=\"\",\"\",COUNTIF(INDIRECT(\"'Planning'!\"&VLOOKUP($A$1,tab_z,2,FALSE)&(10+((ROW()-3)*28))&\":\"&VLOOKUP($A$1,tab_z,3,FALSE)&(37+((ROW()-3)*28))),BD!$H$15)*BD!$I$15)","v":""},0,{"$f":"IF($A6=\"\",\"\",COUNTIF(INDIRECT(\"'Planning'!\"&VLOOKUP($A$1,tab_z,2,FALSE)&(10+((ROW()-3)*28))&\":\"&VLOOKUP($A$1,tab_z,3,FALSE)&(37+((ROW()-3)*28))),BD!$K$2)*BD!$L$2)","v":""},{"$f":"IF($A6=\"\",\"\",COUNTIF(INDIRECT(\"'Planning'!\"&VLOOKUP($A$1,tab_z,2,FALSE)&(10+((ROW()-3)*28))&\":\"&VLOOKUP($A$1,tab_z,3,FALSE)&(37+((ROW()-3)*28))),BD!$K$3)*BD!$L$3)","v":""},{"$f":"IF($A6=\"\",\"\",COUNTIF(INDIRECT(\"'Planning'!\"&VLOOKUP($A$1,tab_z,2,FALSE)&(10+((ROW()-3)*28))&\":\"&VLOOKUP($A$1,tab_z,3,FALSE)&(37+((ROW()-3)*28))),BD!$K$4)*BD!$L$4)","v":""},{"$f":"IF($A6=\"\",\"\",COUNTIF(INDIRECT(\"'Planning'!\"&VLOOKUP($A$1,tab_z,2,FALSE)&(10+((ROW()-3)*28))&\":\"&VLOOKUP($A$1,tab_z,3,FALSE)&(37+((ROW()-3)*28))),BD!$K$5)*BD!$L$5)","v":""},{"$f":"IF($A6=\"\",\"\",COUNTIF(INDIRECT(\"'Planning'!\"&VLOOKUP($A$1,tab_z,2,FALSE)&(10+((ROW()-3)*28))&\":\"&VLOOKUP($A$1,tab_z,3,FALSE)&(37+((ROW()-3)*28))),BD!$K$6)*BD!$L$6)","v":""},{"$f":"IF($A6=\"\",\"\",COUNTIF(INDIRECT(\"'Planning'!\"&VLOOKUP($A$1,tab_z,2,FALSE)&(10+((ROW()-3)*28))&\":\"&VLOOKUP($A$1,tab_z,3,FALSE)&(37+((ROW()-3)*28))),BD!$K$7)*BD!$L$7)","v":""},{"$f":"IF($A6=\"\",\"\",COUNTIF(INDIRECT(\"'Planning'!\"&VLOOKUP($A$1,tab_z,2,FALSE)&(10+((ROW()-3)*28))&\":\"&VLOOKUP($A$1,tab_z,3,FALSE)&(37+((ROW()-3)*28))),BD!$K$8)*BD!$L$8)","v":""},{"$f":"IF($A6=\"\",\"\",COUNTIF(INDIRECT(\"'Planning'!\"&VLOOKUP($A$1,tab_z,2,FALSE)&(10+((ROW()-3)*28))&\":\"&VLOOKUP($A$1,tab_z,3,FALSE)&(37+((ROW()-3)*28))),BD!$K$9)*BD!$L$9)","v":""},{"$f":"IF($A6=\"\",\"\",COUNTIF(INDIRECT(\"'Planning'!\"&VLOOKUP($A$1,tab_z,2,FALSE)&(10+((ROW()-3)*28))&\":\"&VLOOKUP($A$1,tab_z,3,FALSE)&(37+((ROW()-3)*28))),BD!$K$10)*BD!$L$10)","v":""},{"$f":"IF($A6=\"\",\"\",COUNTIF(INDIRECT(\"'Planning'!\"&VLOOKUP($A$1,tab_z,2,FALSE)&(10+((ROW()-3)*28))&\":\"&VLOOKUP($A$1,tab_z,3,FALSE)&(37+((ROW()-3)*28))),BD!$K$11)*BD!$L$11)","v":""},{"$f":"IF($A6=\"\",\"\",COUNTIF(INDIRECT(\"'Planning'!\"&VLOOKUP($A$1,tab_z,2,FALSE)&(10+((ROW()-3)*28))&\":\"&VLOOKUP($A$1,tab_z,3,FALSE)&(37+((ROW()-3)*28))),BD!$K$12)*BD!$L$12)","v":""},{"$f":"IF($A6=\"\",\"\",COUNTIF(INDIRECT(\"'Planning'!\"&VLOOKUP($A$1,tab_z,2,FALSE)&(10+((ROW()-3)*28))&\":\"&VLOOKUP($A$1,tab_z,3,FALSE)&(37+((ROW()-3)*28))),BD!$K$13)*BD!$L$13)","v":""},0,{"$f":"IF($A6=\"\",\"\",COUNTIF(INDIRECT(\"'Planning'!\"&VLOOKUP($A$1,tab_z,2,FALSE)&(10+((ROW()-3)*28))&\":\"&VLOOKUP($A$1,tab_z,3,FALSE)&(37+((ROW()-3)*28))),BD!$N$2)*BD!$O$2)","v":""},{"$f":"IF($A6=\"\",\"\",COUNTIF(INDIRECT(\"'Planning'!\"&VLOOKUP($A$1,tab_z,2,FALSE)&(10+((ROW()-3)*28))&\":\"&VLOOKUP($A$1,tab_z,3,FALSE)&(37+((ROW()-3)*28))),BD!$N$3)*BD!$O$3)","v":""},{"$f":"IF($A6=\"\",\"\",COUNTIF(INDIRECT(\"'Planning'!\"&VLOOKUP($A$1,tab_z,2,FALSE)&(10+((ROW()-3)*28))&\":\"&VLOOKUP($A$1,tab_z,3,FALSE)&(37+((ROW()-3)*28))),BD!$N$4)*BD!$O$4)","v":""},{"$f":"IF($A6=\"\",\"\",COUNTIF(INDIRECT(\"'Planning'!\"&VLOOKUP($A$1,tab_z,2,FALSE)&(10+((ROW()-3)*28))&\":\"&VLOOKUP($A$1,tab_z,3,FALSE)&(37+((ROW()-3)*28))),BD!$N$5)*BD!$O$5)","v":""},0,{"$f":"IF($A6=\"\",\"\",COUNTIF(INDIRECT(\"'Planning'!\"&VLOOKUP($A$1,tab_z,2,FALSE)&(10+((ROW()-3)*28))&\":\"&VLOOKUP($A$1,tab_z,3,FALSE)&(37+((ROW()-3)*28))),BD!$Q$2)*BD!$R$2)","v":""},{"$f":"IF($A6=\"\",\"\",COUNTIF(INDIRECT(\"'Planning'!\"&VLOOKUP($A$1,tab_z,2,FALSE)&(10+((ROW()-3)*28))&\":\"&VLOOKUP($A$1,tab_z,3,FALSE)&(37+((ROW()-3)*28))),BD!$Q$3)*BD!$R$3)","v":""},{"$f":"IF($A6=\"\",\"\",COUNTIF(INDIRECT(\"'Planning'!\"&VLOOKUP($A$1,tab_z,2,FALSE)&(10+((ROW()-3)*28))&\":\"&VLOOKUP($A$1,tab_z,3,FALSE)&(37+((ROW()-3)*28))),BD!$Q$4)*BD!$R$4)","v":""},{"$f":"IF($A6=\"\",\"\",COUNTIF(INDIRECT(\"'Planning'!\"&VLOOKUP($A$1,tab_z,2,FALSE)&(10+((ROW()-3)*28))&\":\"&VLOOKUP($A$1,tab_z,3,FALSE)&(37+((ROW()-3)*28))),BD!$Q$5)*BD!$R$5)","v":""},0,{"$f":"IF($A6=\"\",\"\",COUNTIF(INDIRECT(\"'Planning'!\"&VLOOKUP($A$1,tab_z,2,FALSE)&(10+((ROW()-3)*28))&\":\"&VLOOKUP($A$1,tab_z,3,FALSE)&(37+((ROW()-3)*28))),BD!$T$2)*BD!$U$2)","v":""},{"$f":"IF($A6=\"\",\"\",COUNTIF(INDIRECT(\"'Planning'!\"&VLOOKUP($A$1,tab_z,2,FALSE)&(10+((ROW()-3)*28))&\":\"&VLOOKUP($A$1,tab_z,3,FALSE)&(37+((ROW()-3)*28))),BD!$T$3)*BD!$U$3)","v":""},{"$f":"IF($A6=\"\",\"\",COUNTIF(INDIRECT(\"'Planning'!\"&VLOOKUP($A$1,tab_z,2,FALSE)&(10+((ROW()-3)*28))&\":\"&VLOOKUP($A$1,tab_z,3,FALSE)&(37+((ROW()-3)*28))),BD!$T$4)*BD!$U$4)","v":""},{"$f":"IF($A6=\"\",\"\",COUNTIF(INDIRECT(\"'Planning'!\"&VLOOKUP($A$1,tab_z,2,FALSE)&(10+((ROW()-3)*28))&\":\"&VLOOKUP($A$1,tab_z,3,FALSE)&(37+((ROW()-3)*28))),BD!$T$5)*BD!$U$5)","v":""},0,{"$f":"IF($A6=\"\",\"\",COUNTIF(INDIRECT(\"'Planning'!\"&VLOOKUP($A$1,tab_z,2,FALSE)&(10+((ROW()-3)*28))&\":\"&VLOOKUP($A$1,tab_z,3,FALSE)&(37+((ROW()-3)*28))),BD!$W$2)*BD!$X$2)","v":""},{"$f":"IF($A6=\"\",\"\",COUNTIF(INDIRECT(\"'Planning'!\"&VLOOKUP($A$1,tab_z,2,FALSE)&(10+((ROW()-3)*28))&\":\"&VLOOKUP($A$1,tab_z,3,FALSE)&(37+((ROW()-3)*28))),BD!$W$3)*BD!$X$3)","v":""},{"$f":"IF($A6=\"\",\"\",COUNTIF(INDIRECT(\"'Planning'!\"&VLOOKUP($A$1,tab_z,2,FALSE)&(10+((ROW()-3)*28))&\":\"&VLOOKUP($A$1,tab_z,3,FALSE)&(37+((ROW()-3)*28))),BD!$W$4)*BD!$X$4)","v":""},{"$f":"IF($A6=\"\",\"\",COUNTIF(INDIRECT(\"'Planning'!\"&VLOOKUP($A$1,tab_z,2,FALSE)&(10+((ROW()-3)*28))&\":\"&VLOOKUP($A$1,tab_z,3,FALSE)&(37+((ROW()-3)*28))),BD!$W$5)*BD!$X$5)","v":""},{"$f":"IF($A6=\"\",\"\",COUNTIF(INDIRECT(\"'Planning'!\"&VLOOKUP($A$1,tab_z,2,FALSE)&(10+((ROW()-3)*28))&\":\"&VLOOKUP($A$1,tab_z,3,FALSE)&(37+((ROW()-3)*28))),BD!$W$6)*BD!$X$6)","v":""},0,{"$f":"IF($A6=\"\",\"\",COUNTIF(INDIRECT(\"'Planning'!\"&VLOOKUP($A$1,tab_z,2,FALSE)&(10+((ROW()-3)*28))&\":\"&VLOOKUP($A$1,tab_z,3,FALSE)&(37+((ROW()-3)*28))),BD!$Z$2)*BD!$AA$2)","v":""},0,""]
["",0,25,"","",{"$f":"IF($A7=\"\",\"\",COUNTIF(INDIRECT(\"'Planning'!\"&VLOOKUP($A$1,tab_z,2,FALSE)&(10+((ROW()-3)*28))&\":\"&VLOOKUP($A$1,tab_z,3,FALSE)&(37+((ROW()-3)*28))),BD!$B$2))","v":""},{"$f":"IF($A7=\"\",\"\",COUNTIF(INDIRECT(\"'Planning'!\"&VLOOKUP($A$1,tab_z,2,FALSE)&(10+((ROW()-3)*28))&\":\"&VLOOKUP($A$1,tab_z,3,FALSE)&(37+((ROW()-3)*28))),BD!$B$3))","v":""},{"$f":"IF($A7=\"\",\"\",COUNTIF(INDIRECT(\"'Planning'!\"&VLOOKUP($A$1,tab_z,2,FALSE)&(10+((ROW()-3)*28))&\":\"&VLOOKUP($A$1,tab_z,3,FALSE)&(37+((ROW()-3)*28))),BD!$B$4))","v":""},{"$f":"IF($A7=\"\",\"\",COUNTIF(INDIRECT(\"'Planning'!\"&VLOOKUP($A$1,tab_z,2,FALSE)&(10+((ROW()-3)*28))&\":\"&VLOOKUP($A$1,tab_z,3,FALSE)&(37+((ROW()-3)*28))),BD!$B$5))","v":""},{"$f":"IF($A7=\"\",\"\",COUNTIF(INDIRECT(\"'Planning'!\"&VLOOKUP($A$1,tab_z,2,FALSE)&(10+((ROW()-3)*28))&\":\"&VLOOKUP($A$1,tab_z,3,FALSE)&(37+((ROW()-3)*28))),BD!$B$6))","v":""},{"$f":"IF($A7=\"\",\"\",COUNTIF(INDIRECT(\"'Planning'!\"&VLOOKUP($A$1,tab_z,2,FALSE)&(10+((ROW()-3)*28))&\":\"&VLOOKUP($A$1,tab_z,3,FALSE)&(37+((ROW()-3)*28))),BD!$B$7))","v":""},{"$f":"IF($A7=\"\",\"\",COUNTIF(INDIRECT(\"'Planning'!\"&VLOOKUP($A$1,tab_z,2,FALSE)&(10+((ROW()-3)*28))&\":\"&VLOOKUP($A$1,tab_z,3,FALSE)&(37+((ROW()-3)*28))),BD!$B$8))","v":""},{"$f":"IF($A7=\"\",\"\",COUNTIF(INDIRECT(\"'Planning'!\"&VLOOKUP($A$1,tab_z,2,FALSE)&(10+((ROW()-3)*28))&\":\"&VLOOKUP($A$1,tab_z,3,FALSE)&(37+((ROW()-3)*28))),BD!$B$9))","v":""},{"$f":"IF($A7=\"\",\"\",COUNTIF(INDIRECT(\"'Planning'!\"&VLOOKUP($A$1,tab_z,2,FALSE)&(10+((ROW()-3)*28))&\":\"&VLOOKUP($A$1,tab_z,3,FALSE)&(37+((ROW()-3)*28))),BD!$B$10))","v":""},{"$f":"IF($A7=\"\",\"\",COUNTIF(INDIRECT(\"'Planning'!\"&VLOOKUP($A$1,tab_z,2,FALSE)&(10+((ROW()-3)*28))&\":\"&VLOOKUP($A$1,tab_z,3,FALSE)&(37+((ROW()-3)*28))),BD!$B$11))","v":""},{"$f":"IF($A7=\"\",\"\",COUNTIF(INDIRECT(\"'Planning'!\"&VLOOKUP($A$1,tab_z,2,FALSE)&(10+((ROW()-3)*28))&\":\"&VLOOKUP($A$1,tab_z,3,FALSE)&(37+((ROW()-3)*28))),BD!$B$12))","v":""},{"$f":"IF($A7=\"\",\"\",COUNTIF(INDIRECT(\"'Planning'!\"&VLOOKUP($A$1,tab_z,2,FALSE)&(10+((ROW()-3)*28))&\":\"&VLOOKUP($A$1,tab_z,3,FALSE)&(37+((ROW()-3)*28))),BD!$B$13))","v":""},{"$f":"IF($A7=\"\",\"\",COUNTIF(INDIRECT(\"'Planning'!\"&VLOOKUP($A$1,tab_z,2,FALSE)&(10+((ROW()-3)*28))&\":\"&VLOOKUP($A$1,tab_z,3,FALSE)&(37+((ROW()-3)*28))),BD!$B$14))","v":""},{"$f":"IF($A7=\"\",\"\",COUNTIF(INDIRECT(\"'Planning'!\"&VLOOKUP($A$1,tab_z,2,FALSE)&(10+((ROW()-3)*28))&\":\"&VLOOKUP($A$1,tab_z,3,FALSE)&(37+((ROW()-3)*28))),BD!$E$2)*BD!$F$2)","v":""},{"$f":"IF($A7=\"\",\"\",COUNTIF(INDIRECT(\"'Planning'!\"&VLOOKUP($A$1,tab_z,2,FALSE)&(10+((ROW()-3)*28))&\":\"&VLOOKUP($A$1,tab_z,3,FALSE)&(37+((ROW()-3)*28))),BD!$E$3)*BD!$F$3)","v":""},{"$f":"IF($A7=\"\",\"\",COUNTIF(INDIRECT(\"'Planning'!\"&VLOOKUP($A$1,tab_z,2,FALSE)&(10+((ROW()-3)*28))&\":\"&VLOOKUP($A$1,tab_z,3,FALSE)&(37+((ROW()-3)*28))),BD!$E$4)*BD!$F$4)","v":""},{"$f":"IF($A7=\"\",\"\",COUNTIF(INDIRECT(\"'Planning'!\"&VLOOKUP($A$1,tab_z,2,FALSE)&(10+((ROW()-3)*28))&\":\"&VLOOKUP($A$1,tab_z,3,FALSE)&(37+((ROW()-3)*28))),BD!$E$6)*BD!$F$6)","v":""},{"$f":"IF($A7=\"\",\"\",COUNTIF(INDIRECT(\"'Planning'!\"&VLOOKUP($A$1,tab_z,2,FALSE)&(10+((ROW()-3)*28))&\":\"&VLOOKUP($A$1,tab_z,3,FALSE)&(37+((ROW()-3)*28))),BD!$E$7)*BD!$F$7)","v":""},{"$f":"IF($A7=\"\",\"\",COUNTIF(INDIRECT(\"'Planning'!\"&VLOOKUP($A$1,tab_z,2,FALSE)&(10+((ROW()-3)*28))&\":\"&VLOOKUP($A$1,tab_z,3,FALSE)&(37+((ROW()-3)*28))),BD!$E$8)*BD!$F$8)","v":""},{"$f":"IF($A7=\"\",\"\",COUNTIF(INDIRECT(\"'Planning'!\"&VLOOKUP($A$1,tab_z,2,FALSE)&(10+((ROW()-3)*28))&\":\"&VLOOKUP($A$1,tab_z,3,FALSE)&(37+((ROW()-3)*28))),BD!$E$9)*BD!$F$9)","v":""},{"$f":"IF($A7=\"\",\"\",COUNTIF(INDIRECT(\"'Planning'!\"&VLOOKUP($A$1,tab_z,2,FALSE)&(10+((ROW()-3)*28))&\":\"&VLOOKUP($A$1,tab_z,3,FALSE)&(37+((ROW()-3)*28))),BD!$E$11)*BD!$F$11)","v":""},{"$f":"IF($A7=\"\",\"\",COUNTIF(INDIRECT(\"'Planning'!\"&VLOOKUP($A$1,tab_z,2,FALSE)&(10+((ROW()-3)*28))&\":\"&VLOOKUP($A$1,tab_z,3,FALSE)&(37+((ROW()-3)*28))),BD!$E$12)*BD!$F$12)","v":""},{"$f":"IF($A7=\"\",\"\",COUNTIF(INDIRECT(\"'Planning'!\"&VLOOKUP($A$1,tab_z,2,FALSE)&(10+((ROW()-3)*28))&\":\"&VLOOKUP($A$1,tab_z,3,FALSE)&(37+((ROW()-3)*28))),BD!$E$13)*BD!$F$13)","v":""},{"$f":"IF($A7=\"\",\"\",COUNTIF(INDIRECT(\"'Planning'!\"&VLOOKUP($A$1,tab_z,2,FALSE)&(10+((ROW()-3)*28))&\":\"&VLOOKUP($A$1,tab_z,3,FALSE)&(37+((ROW()-3)*28))),BD!$E$15)*BD!$F$15)","v":""},{"$f":"IF($A7=\"\",\"\",COUNTIF(INDIRECT(\"'Planning'!\"&VLOOKUP($A$1,tab_z,2,FALSE)&(10+((ROW()-3)*28))&\":\"&VLOOKUP($A$1,tab_z,3,FALSE)&(37+((ROW()-3)*28))),BD!$E$16)*BD!$F$16)","v":""},{"$f":"IF($A7=\"\",\"\",COUNTIF(INDIRECT(\"'Planning'!\"&VLOOKUP($A$1,tab_z,2,FALSE)&(10+((ROW()-3)*28))&\":\"&VLOOKUP($A$1,tab_z,3,FALSE)&(37+((ROW()-3)*28))),BD!$E$17)*BD!$F$17)","v":""},{"$f":"IF($A7=\"\",\"\",COUNTIF(INDIRECT(\"'Planning'!\"&VLOOKUP($A$1,tab_z,2,FALSE)&(10+((ROW()-3)*28))&\":\"&VLOOKUP($A$1,tab_z,3,FALSE)&(37+((ROW()-3)*28))),BD!$E$19)*BD!$F$19)","v":""},{"$f":"IF($A7=\"\",\"\",COUNTIF(INDIRECT(\"'Planning'!\"&VLOOKUP($A$1,tab_z,2,FALSE)&(10+((ROW()-3)*28))&\":\"&VLOOKUP($A$1,tab_z,3,FALSE)&(37+((ROW()-3)*28))),BD!$E$20)*BD!$F$20)","v":""},0,{"$f":"IF($A7=\"\",\"\",COUNTIF(INDIRECT(\"'Planning'!\"&VLOOKUP($A$1,tab_z,2,FALSE)&(10+((ROW()-3)*28))&\":\"&VLOOKUP($A$1,tab_z,3,FALSE)&(37+((ROW()-3)*28))),BD!$H$2)*BD!$I$2)","v":""},{"$f":"IF($A7=\"\",\"\",COUNTIF(INDIRECT(\"'Planning'!\"&VLOOKUP($A$1,tab_z,2,FALSE)&(10+((ROW()-3)*28))&\":\"&VLOOKUP($A$1,tab_z,3,FALSE)&(37+((ROW()-3)*28))),BD!$H$3)*BD!$I$3)","v":""},{"$f":"IF($A7=\"\",\"\",COUNTIF(INDIRECT(\"'Planning'!\"&VLOOKUP($A$1,tab_z,2,FALSE)&(10+((ROW()-3)*28))&\":\"&VLOOKUP($A$1,tab_z,3,FALSE)&(37+((ROW()-3)*28))),BD!$H$5)*BD!$I$5)","v":""},{"$f":"IF($A7=\"\",\"\",COUNTIF(INDIRECT(\"'Planning'!\"&VLOOKUP($A$1,tab_z,2,FALSE)&(10+((ROW()-3)*28))&\":\"&VLOOKUP($A$1,tab_z,3,FALSE)&(37+((ROW()-3)*28))),BD!$H$6)*BD!$I$6)","v":""},{"$f":"IF($A7=\"\",\"\",COUNTIF(INDIRECT(\"'Planning'!\"&VLOOKUP($A$1,tab_z,2,FALSE)&(10+((ROW()-3)*28))&\":\"&VLOOKUP($A$1,tab_z,3,FALSE)&(37+((ROW()-3)*28))),BD!$H$8)*BD!$I$8)","v":""},{"$f":"IF($A7=\"\",\"\",COUNTIF(INDIRECT(\"'Planning'!\"&VLOOKUP($A$1,tab_z,2,FALSE)&(10+((ROW()-3)*28))&\":\"&VLOOKUP($A$1,tab_z,3,FALSE)&(37+((ROW()-3)*28))),BD!$H$9)*BD!$I$9)","v":""},{"$f":"IF($A7=\"\",\"\",COUNTIF(INDIRECT(\"'Planning'!\"&VLOOKUP($A$1,tab_z,2,FALSE)&(10+((ROW()-3)*28))&\":\"&VLOOKUP($A$1,tab_z,3,FALSE)&(37+((ROW()-3)*28))),BD!$H$10)*BD!$I$10)","v":""},{"$f":"IF($A7=\"\",\"\",COUNTIF(INDIRECT(\"'Planning'!\"&VLOOKUP($A$1,tab_z,2,FALSE)&(10+((ROW()-3)*28))&\":\"&VLOOKUP($A$1,tab_z,3,FALSE)&(37+((ROW()-3)*28))),BD!$H$12)*BD!$I$12)","v":""},{"$f":"IF($A7=\"\",\"\",COUNTIF(INDIRECT(\"'Planning'!\"&VLOOKUP($A$1,tab_z,2,FALSE)&(10+((ROW()-3)*28))&\":\"&VLOOKUP($A$1,tab_z,3,FALSE)&(37+((ROW()-3)*28))),BD!$H$13)*BD!$I$13)","v":""},{"$f":"IF($A7=\"\",\"\",COUNTIF(INDIRECT(\"'Planning'!\"&VLOOKUP($A$1,tab_z,2,FALSE)&(10+((ROW()-3)*28))&\":\"&VLOOKUP($A$1,tab_z,3,FALSE)&(37+((ROW()-3)*28))),BD!$H$15)*BD!$I$15)","v":""},0,{"$f":"IF($A7=\"\",\"\",COUNTIF(INDIRECT(\"'Planning'!\"&VLOOKUP($A$1,tab_z,2,FALSE)&(10+((ROW()-3)*28))&\":\"&VLOOKUP($A$1,tab_z,3,FALSE)&(37+((ROW()-3)*28))),BD!$K$2)*BD!$L$2)","v":""},{"$f":"IF($A7=\"\",\"\",COUNTIF(INDIRECT(\"'Planning'!\"&VLOOKUP($A$1,tab_z,2,FALSE)&(10+((ROW()-3)*28))&\":\"&VLOOKUP($A$1,tab_z,3,FALSE)&(37+((ROW()-3)*28))),BD!$K$3)*BD!$L$3)","v":""},{"$f":"IF($A7=\"\",\"\",COUNTIF(INDIRECT(\"'Planning'!\"&VLOOKUP($A$1,tab_z,2,FALSE)&(10+((ROW()-3)*28))&\":\"&VLOOKUP($A$1,tab_z,3,FALSE)&(37+((ROW()-3)*28))),BD!$K$4)*BD!$L$4)","v":""},{"$f":"IF($A7=\"\",\"\",COUNTIF(INDIRECT(\"'Planning'!\"&VLOOKUP($A$1,tab_z,2,FALSE)&(10+((ROW()-3)*28))&\":\"&VLOOKUP($A$1,tab_z,3,FALSE)&(37+((ROW()-3)*28))),BD!$K$5)*BD!$L$5)","v":""},{"$f":"IF($A7=\"\",\"\",COUNTIF(INDIRECT(\"'Planning'!\"&VLOOKUP($A$1,tab_z,2,FALSE)&(10+((ROW()-3)*28))&\":\"&VLOOKUP($A$1,tab_z,3,FALSE)&(37+((ROW()-3)*28))),BD!$K$6)*BD!$L$6)","v":""},{"$f":"IF($A7=\"\",\"\",COUNTIF(INDIRECT(\"'Planning'!\"&VLOOKUP($A$1,tab_z,2,FALSE)&(10+((ROW()-3)*28))&\":\"&VLOOKUP($A$1,tab_z,3,FALSE)&(37+((ROW()-3)*28))),BD!$K$7)*BD!$L$7)","v":""},{"$f":"IF($A7=\"\",\"\",COUNTIF(INDIRECT(\"'Planning'!\"&VLOOKUP($A$1,tab_z,2,FALSE)&(10+((ROW()-3)*28))&\":\"&VLOOKUP($A$1,tab_z,3,FALSE)&(37+((ROW()-3)*28))),BD!$K$8)*BD!$L$8)","v":""},{"$f":"IF($A7=\"\",\"\",COUNTIF(INDIRECT(\"'Planning'!\"&VLOOKUP($A$1,tab_z,2,FALSE)&(10+((ROW()-3)*28))&\":\"&VLOOKUP($A$1,tab_z,3,FALSE)&(37+((ROW()-3)*28))),BD!$K$9)*BD!$L$9)","v":""},{"$f":"IF($A7=\"\",\"\",COUNTIF(INDIRECT(\"'Planning'!\"&VLOOKUP($A$1,tab_z,2,FALSE)&(10+((ROW()-3)*28))&\":\"&VLOOKUP($A$1,tab_z,3,FALSE)&(37+((ROW()-3)*28))),BD!$K$10)*BD!$L$10)","v":""},{"$f":"IF($A7=\"\",\"\",COUNTIF(INDIRECT(\"'Planning'!\"&VLOOKUP($A$1,tab_z,2,FALSE)&(10+((ROW()-3)*28))&\":\"&VLOOKUP($A$1,tab_z,3,FALSE)&(37+((ROW()-3)*28))),BD!$K$11)*BD!$L$11)","v":""},{"$f":"IF($A7=\"\",\"\",COUNTIF(INDIRECT(\"'Planning'!\"&VLOOKUP($A$1,tab_z,2,FALSE)&(10+((ROW()-3)*28))&\":\"&VLOOKUP($A$1,tab_z,3,FALSE)&(37+((ROW()-3)*28))),BD!$K$12)*BD!$L$12)","v":""},{"$f":"IF($A7=\"\",\"\",COUNTIF(INDIRECT(\"'Planning'!\"&VLOOKUP($A$1,tab_z,2,FALSE)&(10+((ROW()-3)*28))&\":\"&VLOOKUP($A$1,tab_z,3,FALSE)&(37+((ROW()-3)*28))),BD!$K$13)*BD!$L$13)","v":""},0,{"$f":"IF($A7=\"\",\"\",COUNTIF(INDIRECT(\"'Planning'!\"&VLOOKUP($A$1,tab_z,2,FALSE)&(10+((ROW()-3)*28))&\":\"&VLOOKUP($A$1,tab_z,3,FALSE)&(37+((ROW()-3)*28))),BD!$N$2)*BD!$O$2)","v":""},{"$f":"IF($A7=\"\",\"\",COUNTIF(INDIRECT(\"'Planning'!\"&VLOOKUP($A$1,tab_z,2,FALSE)&(10+((ROW()-3)*28))&\":\"&VLOOKUP($A$1,tab_z,3,FALSE)&(37+((ROW()-3)*28))),BD!$N$3)*BD!$O$3)","v":""},{"$f":"IF($A7=\"\",\"\",COUNTIF(INDIRECT(\"'Planning'!\"&VLOOKUP($A$1,tab_z,2,FALSE)&(10+((ROW()-3)*28))&\":\"&VLOOKUP($A$1,tab_z,3,FALSE)&(37+((ROW()-3)*28))),BD!$N$4)*BD!$O$4)","v":""},{"$f":"IF($A7=\"\",\"\",COUNTIF(INDIRECT(\"'Planning'!\"&VLOOKUP($A$1,tab_z,2,FALSE)&(10+((ROW()-3)*28))&\":\"&VLOOKUP($A$1,tab_z,3,FALSE)&(37+((ROW()-3)*28))),BD!$N$5)*BD!$O$5)","v":""},0,{"$f":"IF($A7=\"\",\"\",COUNTIF(INDIRECT(\"'Planning'!\"&VLOOKUP($A$1,tab_z,2,FALSE)&(10+((ROW()-3)*28))&\":\"&VLOOKUP($A$1,tab_z,3,FALSE)&(37+((ROW()-3)*28))),BD!$Q$2)*BD!$R$2)","v":""},{"$f":"IF($A7=\"\",\"\",COUNTIF(INDIRECT(\"'Planning'!\"&VLOOKUP($A$1,tab_z,2,FALSE)&(10+((ROW()-3)*28))&\":\"&VLOOKUP($A$1,tab_z,3,FALSE)&(37+((ROW()-3)*28))),BD!$Q$3)*BD!$R$3)","v":""},{"$f":"IF($A7=\"\",\"\",COUNTIF(INDIRECT(\"'Planning'!\"&VLOOKUP($A$1,tab_z,2,FALSE)&(10+((ROW()-3)*28))&\":\"&VLOOKUP($A$1,tab_z,3,FALSE)&(37+((ROW()-3)*28))),BD!$Q$4)*BD!$R$4)","v":""},{"$f":"IF($A7=\"\",\"\",COUNTIF(INDIRECT(\"'Planning'!\"&VLOOKUP($A$1,tab_z,2,FALSE)&(10+((ROW()-3)*28))&\":\"&VLOOKUP($A$1,tab_z,3,FALSE)&(37+((ROW()-3)*28))),BD!$Q$5)*BD!$R$5)","v":""},0,{"$f":"IF($A7=\"\",\"\",COUNTIF(INDIRECT(\"'Planning'!\"&VLOOKUP($A$1,tab_z,2,FALSE)&(10+((ROW()-3)*28))&\":\"&VLOOKUP($A$1,tab_z,3,FALSE)&(37+((ROW()-3)*28))),BD!$T$2)*BD!$U$2)","v":""},{"$f":"IF($A7=\"\",\"\",COUNTIF(INDIRECT(\"'Planning'!\"&VLOOKUP($A$1,tab_z,2,FALSE)&(10+((ROW()-3)*28))&\":\"&VLOOKUP($A$1,tab_z,3,FALSE)&(37+((ROW()-3)*28))),BD!$T$3)*BD!$U$3)","v":""},{"$f":"IF($A7=\"\",\"\",COUNTIF(INDIRECT(\"'Planning'!\"&VLOOKUP($A$1,tab_z,2,FALSE)&(10+((ROW()-3)*28))&\":\"&VLOOKUP($A$1,tab_z,3,FALSE)&(37+((ROW()-3)*28))),BD!$T$4)*BD!$U$4)","v":""},{"$f":"IF($A7=\"\",\"\",COUNTIF(INDIRECT(\"'Planning'!\"&VLOOKUP($A$1,tab_z,2,FALSE)&(10+((ROW()-3)*28))&\":\"&VLOOKUP($A$1,tab_z,3,FALSE)&(37+((ROW()-3)*28))),BD!$T$5)*BD!$U$5)","v":""},0,{"$f":"IF($A7=\"\",\"\",COUNTIF(INDIRECT(\"'Planning'!\"&VLOOKUP($A$1,tab_z,2,FALSE)&(10+((ROW()-3)*28))&\":\"&VLOOKUP($A$1,tab_z,3,FALSE)&(37+((ROW()-3)*28))),BD!$W$2)*BD!$X$2)","v":""},{"$f":"IF($A7=\"\",\"\",COUNTIF(INDIRECT(\"'Planning'!\"&VLOOKUP($A$1,tab_z,2,FALSE)&(10+((ROW()-3)*28))&\":\"&VLOOKUP($A$1,tab_z,3,FALSE)&(37+((ROW()-3)*28))),BD!$W$3)*BD!$X$3)","v":""},{"$f":"IF($A7=\"\",\"\",COUNTIF(INDIRECT(\"'Planning'!\"&VLOOKUP($A$1,tab_z,2,FALSE)&(10+((ROW()-3)*28))&\":\"&VLOOKUP($A$1,tab_z,3,FALSE)&(37+((ROW()-3)*28))),BD!$W$4)*BD!$X$4)","v":""},{"$f":"IF($A7=\"\",\"\",COUNTIF(INDIRECT(\"'Planning'!\"&VLOOKUP($A$1,tab_z,2,FALSE)&(10+((ROW()-3)*28))&\":\"&VLOOKUP($A$1,tab_z,3,FALSE)&(37+((ROW()-3)*28))),BD!$W$5)*BD!$X$5)","v":""},{"$f":"IF($A7=\"\",\"\",COUNTIF(INDIRECT(\"'Planning'!\"&VLOOKUP($A$1,tab_z,2,FALSE)&(10+((ROW()-3)*28))&\":\"&VLOOKUP($A$1,tab_z,3,FALSE)&(37+((ROW()-3)*28))),BD!$W$6)*BD!$X$6)","v":""},0,{"$f":"IF($A7=\"\",\"\",COUNTIF(INDIRECT(\"'Planning'!\"&VLOOKUP($A$1,tab_z,2,FALSE)&(10+((ROW()-3)*28))&\":\"&VLOOKUP($A$1,tab_z,3,FALSE)&(37+((ROW()-3)*28))),BD!$Z$2)*BD!$AA$2)","v":""},0,""]
["",0,25,"","",{"$f":"IF($A8=\"\",\"\",COUNTIF(INDIRECT(\"'Planning'!\"&VLOOKUP($A$1,tab_z,2,FALSE)&(10+((ROW()-3)*28))&\":\"&VLOOKUP($A$1,tab_z,3,FALSE)&(37+((ROW()-3)*28))),BD!$B$2))","v":""},{"$f":"IF($A8=\"\",\"\",COUNTIF(INDIRECT(\"'Planning'!\"&VLOOKUP($A$1,tab_z,2,FALSE)&(10+((ROW()-3)*28))&\":\"&VLOOKUP($A$1,tab_z,3,FALSE)&(37+((ROW()-3)*28))),BD!$B$3))","v":""},{"$f":"IF($A8=\"\",\"\",COUNTIF(INDIRECT(\"'Planning'!\"&VLOOKUP($A$1,tab_z,2,FALSE)&(10+((ROW()-3)*28))&\":\"&VLOOKUP($A$1,tab_z,3,FALSE)&(37+((ROW()-3)*28))),BD!$B$4))","v":""},{"$f":"IF($A8=\"\",\"\",COUNTIF(INDIRECT(\"'Planning'!\"&VLOOKUP($A$1,tab_z,2,FALSE)&(10+((ROW()-3)*28))&\":\"&VLOOKUP($A$1,tab_z,3,FALSE)&(37+((ROW()-3)*28))),BD!$B$5))","v":""},{"$f":"IF($A8=\"\",\"\",COUNTIF(INDIRECT(\"'Planning'!\"&VLOOKUP($A$1,tab_z,2,FALSE)&(10+((ROW()-3)*28))&\":\"&VLOOKUP($A$1,tab_z,3,FALSE)&(37+((ROW()-3)*28))),BD!$B$6))","v":""},{"$f":"IF($A8=\"\",\"\",COUNTIF(INDIRECT(\"'Planning'!\"&VLOOKUP($A$1,tab_z,2,FALSE)&(10+((ROW()-3)*28))&\":\"&VLOOKUP($A$1,tab_z,3,FALSE)&(37+((ROW()-3)*28))),BD!$B$7))","v":""},{"$f":"IF($A8=\"\",\"\",COUNTIF(INDIRECT(\"'Planning'!\"&VLOOKUP($A$1,tab_z,2,FALSE)&(10+((ROW()-3)*28))&\":\"&VLOOKUP($A$1,tab_z,3,FALSE)&(37+((ROW()-3)*28))),BD!$B$8))","v":""},{"$f":"IF($A8=\"\",\"\",COUNTIF(INDIRECT(\"'Planning'!\"&VLOOKUP($A$1,tab_z,2,FALSE)&(10+((ROW()-3)*28))&\":\"&VLOOKUP($A$1,tab_z,3,FALSE)&(37+((ROW()-3)*28))),BD!$B$9))","v":""},{"$f":"IF($A8=\"\",\"\",COUNTIF(INDIRECT(\"'Planning'!\"&VLOOKUP($A$1,tab_z,2,FALSE)&(10+((ROW()-3)*28))&\":\"&VLOOKUP($A$1,tab_z,3,FALSE)&(37+((ROW()-3)*28))),BD!$B$10))","v":""},{"$f":"IF($A8=\"\",\"\",COUNTIF(INDIRECT(\"'Planning'!\"&VLOOKUP($A$1,tab_z,2,FALSE)&(10+((ROW()-3)*28))&\":\"&VLOOKUP($A$1,tab_z,3,FALSE)&(37+((ROW()-3)*28))),BD!$B$11))","v":""},{"$f":"IF($A8=\"\",\"\",COUNTIF(INDIRECT(\"'Planning'!\"&VLOOKUP($A$1,tab_z,2,FALSE)&(10+((ROW()-3)*28))&\":\"&VLOOKUP($A$1,tab_z,3,FALSE)&(37+((ROW()-3)*28))),BD!$B$12))","v":""},{"$f":"IF($A8=\"\",\"\",COUNTIF(INDIRECT(\"'Planning'!\"&VLOOKUP($A$1,tab_z,2,FALSE)&(10+((ROW()-3)*28))&\":\"&VLOOKUP($A$1,tab_z,3,FALSE)&(37+((ROW()-3)*28))),BD!$B$13))","v":""},{"$f":"IF($A8=\"\",\"\",COUNTIF(INDIRECT(\"'Planning'!\"&VLOOKUP($A$1,tab_z,2,FALSE)&(10+((ROW()-3)*28))&\":\"&VLOOKUP($A$1,tab_z,3,FALSE)&(37+((ROW()-3)*28))),BD!$B$14))","v":""},{"$f":"IF($A8=\"\",\"\",COUNTIF(INDIRECT(\"'Planning'!\"&VLOOKUP($A$1,tab_z,2,FALSE)&(10+((ROW()-3)*28))&\":\"&VLOOKUP($A$1,tab_z,3,FALSE)&(37+((ROW()-3)*28))),BD!$E$2)*BD!$F$2)","v":""},{"$f":"IF($A8=\"\",\"\",COUNTIF(INDIRECT(\"'Planning'!\"&VLOOKUP($A$1,tab_z,2,FALSE)&(10+((ROW()-3)*28))&\":\"&VLOOKUP($A$1,tab_z,3,FALSE)&(37+((ROW()-3)*28))),BD!$E$3)*BD!$F$3)","v":""},{"$f":"IF($A8=\"\",\"\",COUNTIF(INDIRECT(\"'Planning'!\"&VLOOKUP($A$1,tab_z,2,FALSE)&(10+((ROW()-3)*28))&\":\"&VLOOKUP($A$1,tab_z,3,FALSE)&(37+((ROW()-3)*28))),BD!$E$4)*BD!$F$4)","v":""},{"$f":"IF($A8=\"\",\"\",COUNTIF(INDIRECT(\"'Planning'!\"&VLOOKUP($A$1,tab_z,2,FALSE)&(10+((ROW()-3)*28))&\":\"&VLOOKUP($A$1,tab_z,3,FALSE)&(37+((ROW()-3)*28))),BD!$E$6)*BD!$F$6)","v":""},{"$f":"IF($A8=\"\",\"\",COUNTIF(INDIRECT(\"'Planning'!\"&VLOOKUP($A$1,tab_z,2,FALSE)&(10+((ROW()-3)*28))&\":\"&VLOOKUP($A$1,tab_z,3,FALSE)&(37+((ROW()-3)*28))),BD!$E$7)*BD!$F$7)","v":""},{"$f":"IF($A8=\"\",\"\",COUNTIF(INDIRECT(\"'Planning'!\"&VLOOKUP($A$1,tab_z,2,FALSE)&(10+((ROW()-3)*28))&\":\"&VLOOKUP($A$1,tab_z,3,FALSE)&(37+((ROW()-3)*28))),BD!$E$8)*BD!$F$8)","v":""},{"$f":"IF($A8=\"\",\"\",COUNTIF(INDIRECT(\"'Planning'!\"&VLOOKUP($A$1,tab_z,2,FALSE)&(10+((ROW()-3)*28))&\":\"&VLOOKUP($A$1,tab_z,3,FALSE)&(37+((ROW()-3)*28))),BD!$E$9)*BD!$F$9)","v":""},{"$f":"IF($A8=\"\",\"\",COUNTIF(INDIRECT(\"'Planning'!\"&VLOOKUP($A$1,tab_z,2,FALSE)&(10+((ROW()-3)*28))&\":\"&VLOOKUP($A$1,tab_z,3,FALSE)&(37+((ROW()-3)*28))),BD!$E$11)*BD!$F$11)","v":""},{"$f":"IF($A8=\"\",\"\",COUNTIF(INDIRECT(\"'Planning'!\"&VLOOKUP($A$1,tab_z,2,FALSE)&(10+((ROW()-3)*28))&\":\"&VLOOKUP($A$1,tab_z,3,FALSE)&(37+((ROW()-3)*28))),BD!$E$12)*BD!$F$12)","v":""},{"$f":"IF($A8=\"\",\"\",COUNTIF(INDIRECT(\"'Planning'!\"&VLOOKUP($A$1,tab_z,2,FALSE)&(10+((ROW()-3)*28))&\":\"&VLOOKUP($A$1,tab_z,3,FALSE)&(37+((ROW()-3)*28))),BD!$E$13)*BD!$F$13)","v":""},{"$f":"IF($A8=\"\",\"\",COUNTIF(INDIRECT(\"'Planning'!\"&VLOOKUP($A$1,tab_z,2,FALSE)&(10+((ROW()-3)*28))&\":\"&VLOOKUP($A$1,tab_z,3,FALSE)&(37+((ROW()-3)*28))),BD!$E$15)*BD!$F$15)","v":""},{"$f":"IF($A8=\"\",\"\",COUNTIF(INDIRECT(\"'Planning'!\"&VLOOKUP($A$1,tab_z,2,FALSE)&(10+((ROW()-3)*28))&\":\"&VLOOKUP($A$1,tab_z,3,FALSE)&(37+((ROW()-3)*28))),BD!$E$16)*BD!$F$16)","v":""},{"$f":"IF($A8=\"\",\"\",COUNTIF(INDIRECT(\"'Planning'!\"&VLOOKUP($A$1,tab_z,2,FALSE)&(10+((ROW()-3)*28))&\":\"&VLOOKUP($A$1,tab_z,3,FALSE)&(37+((ROW()-3)*28))),BD!$E$17)*BD!$F$17)","v":""},{"$f":"IF($A8=\"\",\"\",COUNTIF(INDIRECT(\"'Planning'!\"&VLOOKUP($A$1,tab_z,2,FALSE)&(10+((ROW()-3)*28))&\":\"&VLOOKUP($A$1,tab_z,3,FALSE)&(37+((ROW()-3)*28))),BD!$E$19)*BD!$F$19)","v":""},{"$f":"IF($A8=\"\",\"\",COUNTIF(INDIRECT(\"'Planning'!\"&VLOOKUP($A$1,tab_z,2,FALSE)&(10+((ROW()-3)*28))&\":\"&VLOOKUP($A$1,tab_z,3,FALSE)&(37+((ROW()-3)*28))),BD!$E$20)*BD!$F$20)","v":""},0,{"$f":"IF($A8=\"\",\"\",COUNTIF(INDIRECT(\"'Planning'!\"&VLOOKUP($A$1,tab_z,2,FALSE)&(10+((ROW()-3)*28))&\":\"&VLOOKUP($A$1,tab_z,3,FALSE)&(37+((ROW()-3)*28))),BD!$H$2)*BD!$I$2)","v":""},{"$f":"IF($A8=\"\",\"\",COUNTIF(INDIRECT(\"'Planning'!\"&VLOOKUP($A$1,tab_z,2,FALSE)&(10+((ROW()-3)*28))&\":\"&VLOOKUP($A$1,tab_z,3,FALSE)&(37+((ROW()-3)*28))),BD!$H$3)*BD!$I$3)","v":""},{"$f":"IF($A8=\"\",\"\",COUNTIF(INDIRECT(\"'Planning'!\"&VLOOKUP($A$1,tab_z,2,FALSE)&(10+((ROW()-3)*28))&\":\"&VLOOKUP($A$1,tab_z,3,FALSE)&(37+((ROW()-3)*28))),BD!$H$5)*BD!$I$5)","v":""},{"$f":"IF($A8=\"\",\"\",COUNTIF(INDIRECT(\"'Planning'!\"&VLOOKUP($A$1,tab_z,2,FALSE)&(10+((ROW()-3)*28))&\":\"&VLOOKUP($A$1,tab_z,3,FALSE)&(37+((ROW()-3)*28))),BD!$H$6)*BD!$I$6)","v":""},{"$f":"IF($A8=\"\",\"\",COUNTIF(INDIRECT(\"'Planning'!\"&VLOOKUP($A$1,tab_z,2,FALSE)&(10+((ROW()-3)*28))&\":\"&VLOOKUP($A$1,tab_z,3,FALSE)&(37+((ROW()-3)*28))),BD!$H$8)*BD!$I$8)","v":""},{"$f":"IF($A8=\"\",\"\",COUNTIF(INDIRECT(\"'Planning'!\"&VLOOKUP($A$1,tab_z,2,FALSE)&(10+((ROW()-3)*28))&\":\"&VLOOKUP($A$1,tab_z,3,FALSE)&(37+((ROW()-3)*28))),BD!$H$9)*BD!$I$9)","v":""},{"$f":"IF($A8=\"\",\"\",COUNTIF(INDIRECT(\"'Planning'!\"&VLOOKUP($A$1,tab_z,2,FALSE)&(10+((ROW()-3)*28))&\":\"&VLOOKUP($A$1,tab_z,3,FALSE)&(37+((ROW()-3)*28))),BD!$H$10)*BD!$I$10)","v":""},{"$f":"IF($A8=\"\",\"\",COUNTIF(INDIRECT(\"'Planning'!\"&VLOOKUP($A$1,tab_z,2,FALSE)&(10+((ROW()-3)*28))&\":\"&VLOOKUP($A$1,tab_z,3,FALSE)&(37+((ROW()-3)*28))),BD!$H$12)*BD!$I$12)","v":""},{"$f":"IF($A8=\"\",\"\",COUNTIF(INDIRECT(\"'Planning'!\"&VLOOKUP($A$1,tab_z,2,FALSE)&(10+((ROW()-3)*28))&\":\"&VLOOKUP($A$1,tab_z,3,FALSE)&(37+((ROW()-3)*28))),BD!$H$13)*BD!$I$13)","v":""},{"$f":"IF($A8=\"\",\"\",COUNTIF(INDIRECT(\"'Planning'!\"&VLOOKUP($A$1,tab_z,2,FALSE)&(10+((ROW()-3)*28))&\":\"&VLOOKUP($A$1,tab_z,3,FALSE)&(37+((ROW()-3)*28))),BD!$H$15)*BD!$I$15)","v":""},0,{"$f":"IF($A8=\"\",\"\",COUNTIF(INDIRECT(\"'Planning'!\"&VLOOKUP($A$1,tab_z,2,FALSE)&(10+((ROW()-3)*28))&\":\"&VLOOKUP($A$1,tab_z,3,FALSE)&(37+((ROW()-3)*28))),BD!$K$2)*BD!$L$2)","v":""},{"$f":"IF($A8=\"\",\"\",COUNTIF(INDIRECT(\"'Planning'!\"&VLOOKUP($A$1,tab_z,2,FALSE)&(10+((ROW()-3)*28))&\":\"&VLOOKUP($A$1,tab_z,3,FALSE)&(37+((ROW()-3)*28))),BD!$K$3)*BD!$L$3)","v":""},{"$f":"IF($A8=\"\",\"\",COUNTIF(INDIRECT(\"'Planning'!\"&VLOOKUP($A$1,tab_z,2,FALSE)&(10+((ROW()-3)*28))&\":\"&VLOOKUP($A$1,tab_z,3,FALSE)&(37+((ROW()-3)*28))),BD!$K$4)*BD!$L$4)","v":""},{"$f":"IF($A8=\"\",\"\",COUNTIF(INDIRECT(\"'Planning'!\"&VLOOKUP($A$1,tab_z,2,FALSE)&(10+((ROW()-3)*28))&\":\"&VLOOKUP($A$1,tab_z,3,FALSE)&(37+((ROW()-3)*28))),BD!$K$5)*BD!$L$5)","v":""},{"$f":"IF($A8=\"\",\"\",COUNTIF(INDIRECT(\"'Planning'!\"&VLOOKUP($A$1,tab_z,2,FALSE)&(10+((ROW()-3)*28))&\":\"&VLOOKUP($A$1,tab_z,3,FALSE)&(37+((ROW()-3)*28))),BD!$K$6)*BD!$L$6)","v":""},{"$f":"IF($A8=\"\",\"\",COUNTIF(INDIRECT(\"'Planning'!\"&VLOOKUP($A$1,tab_z,2,FALSE)&(10+((ROW()-3)*28))&\":\"&VLOOKUP($A$1,tab_z,3,FALSE)&(37+((ROW()-3)*28))),BD!$K$7)*BD!$L$7)","v":""},{"$f":"IF($A8=\"\",\"\",COUNTIF(INDIRECT(\"'Planning'!\"&VLOOKUP($A$1,tab_z,2,FALSE)&(10+((ROW()-3)*28))&\":\"&VLOOKUP($A$1,tab_z,3,FALSE)&(37+((ROW()-3)*28))),BD!$K$8)*BD!$L$8)","v":""},{"$f":"IF($A8=\"\",\"\",COUNTIF(INDIRECT(\"'Planning'!\"&VLOOKUP($A$1,tab_z,2,FALSE)&(10+((ROW()-3)*28))&\":\"&VLOOKUP($A$1,tab_z,3,FALSE)&(37+((ROW()-3)*28))),BD!$K$9)*BD!$L$9)","v":""},{"$f":"IF($A8=\"\",\"\",COUNTIF(INDIRECT(\"'Planning'!\"&VLOOKUP($A$1,tab_z,2,FALSE)&(10+((ROW()-3)*28))&\":\"&VLOOKUP($A$1,tab_z,3,FALSE)&(37+((ROW()-3)*28))),BD!$K$10)*BD!$L$10)","v":""},{"$f":"IF($A8=\"\",\"\",COUNTIF(INDIRECT(\"'Planning'!\"&VLOOKUP($A$1,tab_z,2,FALSE)&(10+((ROW()-3)*28))&\":\"&VLOOKUP($A$1,tab_z,3,FALSE)&(37+((ROW()-3)*28))),BD!$K$11)*BD!$L$11)","v":""},{"$f":"IF($A8=\"\",\"\",COUNTIF(INDIRECT(\"'Planning'!\"&VLOOKUP($A$1,tab_z,2,FALSE)&(10+((ROW()-3)*28))&\":\"&VLOOKUP($A$1,tab_z,3,FALSE)&(37+((ROW()-3)*28))),BD!$K$12)*BD!$L$12)","v":""},{"$f":"IF($A8=\"\",\"\",COUNTIF(INDIRECT(\"'Planning'!\"&VLOOKUP($A$1,tab_z,2,FALSE)&(10+((ROW()-3)*28))&\":\"&VLOOKUP($A$1,tab_z,3,FALSE)&(37+((ROW()-3)*28))),BD!$K$13)*BD!$L$13)","v":""},0,{"$f":"IF($A8=\"\",\"\",COUNTIF(INDIRECT(\"'Planning'!\"&VLOOKUP($A$1,tab_z,2,FALSE)&(10+((ROW()-3)*28))&\":\"&VLOOKUP($A$1,tab_z,3,FALSE)&(37+((ROW()-3)*28))),BD!$N$2)*BD!$O$2)","v":""},{"$f":"IF($A8=\"\",\"\",COUNTIF(INDIRECT(\"'Planning'!\"&VLOOKUP($A$1,tab_z,2,FALSE)&(10+((ROW()-3)*28))&\":\"&VLOOKUP($A$1,tab_z,3,FALSE)&(37+((ROW()-3)*28))),BD!$N$3)*BD!$O$3)","v":""},{"$f":"IF($A8=\"\",\"\",COUNTIF(INDIRECT(\"'Planning'!\"&VLOOKUP($A$1,tab_z,2,FALSE)&(10+((ROW()-3)*28))&\":\"&VLOOKUP($A$1,tab_z,3,FALSE)&(37+((ROW()-3)*28))),BD!$N$4)*BD!$O$4)","v":""},{"$f":"IF($A8=\"\",\"\",COUNTIF(INDIRECT(\"'Planning'!\"&VLOOKUP($A$1,tab_z,2,FALSE)&(10+((ROW()-3)*28))&\":\"&VLOOKUP($A$1,tab_z,3,FALSE)&(37+((ROW()-3)*28))),BD!$N$5)*BD!$O$5)","v":""},0,{"$f":"IF($A8=\"\",\"\",COUNTIF(INDIRECT(\"'Planning'!\"&VLOOKUP($A$1,tab_z,2,FALSE)&(10+((ROW()-3)*28))&\":\"&VLOOKUP($A$1,tab_z,3,FALSE)&(37+((ROW()-3)*28))),BD!$Q$2)*BD!$R$2)","v":""},{"$f":"IF($A8=\"\",\"\",COUNTIF(INDIRECT(\"'Planning'!\"&VLOOKUP($A$1,tab_z,2,FALSE)&(10+((ROW()-3)*28))&\":\"&VLOOKUP($A$1,tab_z,3,FALSE)&(37+((ROW()-3)*28))),BD!$Q$3)*BD!$R$3)","v":""},{"$f":"IF($A8=\"\",\"\",COUNTIF(INDIRECT(\"'Planning'!\"&VLOOKUP($A$1,tab_z,2,FALSE)&(10+((ROW()-3)*28))&\":\"&VLOOKUP($A$1,tab_z,3,FALSE)&(37+((ROW()-3)*28))),BD!$Q$4)*BD!$R$4)","v":""},{"$f":"IF($A8=\"\",\"\",COUNTIF(INDIRECT(\"'Planning'!\"&VLOOKUP($A$1,tab_z,2,FALSE)&(10+((ROW()-3)*28))&\":\"&VLOOKUP($A$1,tab_z,3,FALSE)&(37+((ROW()-3)*28))),BD!$Q$5)*BD!$R$5)","v":""},0,{"$f":"IF($A8=\"\",\"\",COUNTIF(INDIRECT(\"'Planning'!\"&VLOOKUP($A$1,tab_z,2,FALSE)&(10+((ROW()-3)*28))&\":\"&VLOOKUP($A$1,tab_z,3,FALSE)&(37+((ROW()-3)*28))),BD!$T$2)*BD!$U$2)","v":""},{"$f":"IF($A8=\"\",\"\",COUNTIF(INDIRECT(\"'Planning'!\"&VLOOKUP($A$1,tab_z,2,FALSE)&(10+((ROW()-3)*28))&\":\"&VLOOKUP($A$1,tab_z,3,FALSE)&(37+((ROW()-3)*28))),BD!$T$3)*BD!$U$3)","v":""},{"$f":"IF($A8=\"\",\"\",COUNTIF(INDIRECT(\"'Planning'!\"&VLOOKUP($A$1,tab_z,2,FALSE)&(10+((ROW()-3)*28))&\":\"&VLOOKUP($A$1,tab_z,3,FALSE)&(37+((ROW()-3)*28))),BD!$T$4)*BD!$U$4)","v":""},{"$f":"IF($A8=\"\",\"\",COUNTIF(INDIRECT(\"'Planning'!\"&VLOOKUP($A$1,tab_z,2,FALSE)&(10+((ROW()-3)*28))&\":\"&VLOOKUP($A$1,tab_z,3,FALSE)&(37+((ROW()-3)*28))),BD!$T$5)*BD!$U$5)","v":""},0,{"$f":"IF($A8=\"\",\"\",COUNTIF(INDIRECT(\"'Planning'!\"&VLOOKUP($A$1,tab_z,2,FALSE)&(10+((ROW()-3)*28))&\":\"&VLOOKUP($A$1,tab_z,3,FALSE)&(37+((ROW()-3)*28))),BD!$W$2)*BD!$X$2)","v":""},{"$f":"IF($A8=\"\",\"\",COUNTIF(INDIRECT(\"'Planning'!\"&VLOOKUP($A$1,tab_z,2,FALSE)&(10+((ROW()-3)*28))&\":\"&VLOOKUP($A$1,tab_z,3,FALSE)&(37+((ROW()-3)*28))),BD!$W$3)*BD!$X$3)","v":""},{"$f":"IF($A8=\"\",\"\",COUNTIF(INDIRECT(\"'Planning'!\"&VLOOKUP($A$1,tab_z,2,FALSE)&(10+((ROW()-3)*28))&\":\"&VLOOKUP($A$1,tab_z,3,FALSE)&(37+((ROW()-3)*28))),BD!$W$4)*BD!$X$4)","v":""},{"$f":"IF($A8=\"\",\"\",COUNTIF(INDIRECT(\"'Planning'!\"&VLOOKUP($A$1,tab_z,2,FALSE)&(10+((ROW()-3)*28))&\":\"&VLOOKUP($A$1,tab_z,3,FALSE)&(37+((ROW()-3)*28))),BD!$W$5)*BD!$X$5)","v":""},{"$f":"IF($A8=\"\",\"\",COUNTIF(INDIRECT(\"'Planning'!\"&VLOOKUP($A$1,tab_z,2,FALSE)&(10+((ROW()-3)*28))&\":\"&VLOOKUP($A$1,tab_z,3,FALSE)&(37+((ROW()-3)*28))),BD!$W$6)*BD!$X$6)","v":""},0,{"$f":"IF($A8=\"\",\"\",COUNTIF(INDIRECT(\"'Planning'!\"&VLOOKUP($A$1,tab_z,2,FALSE)&(10+((ROW()-3)*28))&\":\"&VLOOKUP($A$1,tab_z,3,FALSE)&(37+((ROW()-3)*28))),BD!$Z$2)*BD!$AA$2)","v":""},0,""]
["",0,25,"","",{"$f":"IF($A9=\"\",\"\",COUNTIF(INDIRECT(\"'Planning'!\"&VLOOKUP($A$1,tab_z,2,FALSE)&(10+((ROW()-3)*28))&\":\"&VLOOKUP($A$1,tab_z,3,FALSE)&(37+((ROW()-3)*28))),BD!$B$2))","v":""},{"$f":"IF($A9=\"\",\"\",COUNTIF(INDIRECT(\"'Planning'!\"&VLOOKUP($A$1,tab_z,2,FALSE)&(10+((ROW()-3)*28))&\":\"&VLOOKUP($A$1,tab_z,3,FALSE)&(37+((ROW()-3)*28))),BD!$B$3))","v":""},{"$f":"IF($A9=\"\",\"\",COUNTIF(INDIRECT(\"'Planning'!\"&VLOOKUP($A$1,tab_z,2,FALSE)&(10+((ROW()-3)*28))&\":\"&VLOOKUP($A$1,tab_z,3,FALSE)&(37+((ROW()-3)*28))),BD!$B$4))","v":""},{"$f":"IF($A9=\"\",\"\",COUNTIF(INDIRECT(\"'Planning'!\"&VLOOKUP($A$1,tab_z,2,FALSE)&(10+((ROW()-3)*28))&\":\"&VLOOKUP($A$1,tab_z,3,FALSE)&(37+((ROW()-3)*28))),BD!$B$5))","v":""},{"$f":"IF($A9=\"\",\"\",COUNTIF(INDIRECT(\"'Planning'!\"&VLOOKUP($A$1,tab_z,2,FALSE)&(10+((ROW()-3)*28))&\":\"&VLOOKUP($A$1,tab_z,3,FALSE)&(37+((ROW()-3)*28))),BD!$B$6))","v":""},{"$f":"IF($A9=\"\",\"\",COUNTIF(INDIRECT(\"'Planning'!\"&VLOOKUP($A$1,tab_z,2,FALSE)&(10+((ROW()-3)*28))&\":\"&VLOOKUP($A$1,tab_z,3,FALSE)&(37+((ROW()-3)*28))),BD!$B$7))","v":""},{"$f":"IF($A9=\"\",\"\",COUNTIF(INDIRECT(\"'Planning'!\"&VLOOKUP($A$1,tab_z,2,FALSE)&(10+((ROW()-3)*28))&\":\"&VLOOKUP($A$1,tab_z,3,FALSE)&(37+((ROW()-3)*28))),BD!$B$8))","v":""},{"$f":"IF($A9=\"\",\"\",COUNTIF(INDIRECT(\"'Planning'!\"&VLOOKUP($A$1,tab_z,2,FALSE)&(10+((ROW()-3)*28))&\":\"&VLOOKUP($A$1,tab_z,3,FALSE)&(37+((ROW()-3)*28))),BD!$B$9))","v":""},{"$f":"IF($A9=\"\",\"\",COUNTIF(INDIRECT(\"'Planning'!\"&VLOOKUP($A$1,tab_z,2,FALSE)&(10+((ROW()-3)*28))&\":\"&VLOOKUP($A$1,tab_z,3,FALSE)&(37+((ROW()-3)*28))),BD!$B$10))","v":""},{"$f":"IF($A9=\"\",\"\",COUNTIF(INDIRECT(\"'Planning'!\"&VLOOKUP($A$1,tab_z,2,FALSE)&(10+((ROW()-3)*28))&\":\"&VLOOKUP($A$1,tab_z,3,FALSE)&(37+((ROW()-3)*28))),BD!$B$11))","v":""},{"$f":"IF($A9=\"\",\"\",COUNTIF(INDIRECT(\"'Planning'!\"&VLOOKUP($A$1,tab_z,2,FALSE)&(10+((ROW()-3)*28))&\":\"&VLOOKUP($A$1,tab_z,3,FALSE)&(37+((ROW()-3)*28))),BD!$B$12))","v":""},{"$f":"IF($A9=\"\",\"\",COUNTIF(INDIRECT(\"'Planning'!\"&VLOOKUP($A$1,tab_z,2,FALSE)&(10+((ROW()-3)*28))&\":\"&VLOOKUP($A$1,tab_z,3,FALSE)&(37+((ROW()-3)*28))),BD!$B$13))","v":""},{"$f":"IF($A9=\"\",\"\",COUNTIF(INDIRECT(\"'Planning'!\"&VLOOKUP($A$1,tab_z,2,FALSE)&(10+((ROW()-3)*28))&\":\"&VLOOKUP($A$1,tab_z,3,FALSE)&(37+((ROW()-3)*28))),BD!$B$14))","v":""},{"$f":"IF($A9=\"\",\"\",COUNTIF(INDIRECT(\"'Planning'!\"&VLOOKUP($A$1,tab_z,2,FALSE)&(10+((ROW()-3)*28))&\":\"&VLOOKUP($A$1,tab_z,3,FALSE)&(37+((ROW()-3)*28))),BD!$E$2)*BD!$F$2)","v":""},{"$f":"IF($A9=\"\",\"\",COUNTIF(INDIRECT(\"'Planning'!\"&VLOOKUP($A$1,tab_z,2,FALSE)&(10+((ROW()-3)*28))&\":\"&VLOOKUP($A$1,tab_z,3,FALSE)&(37+((ROW()-3)*28))),BD!$E$3)*BD!$F$3)","v":""},{"$f":"IF($A9=\"\",\"\",COUNTIF(INDIRECT(\"'Planning'!\"&VLOOKUP($A$1,tab_z,2,FALSE)&(10+((ROW()-3)*28))&\":\"&VLOOKUP($A$1,tab_z,3,FALSE)&(37+((ROW()-3)*28))),BD!$E$4)*BD!$F$4)","v":""},{"$f":"IF($A9=\"\",\"\",COUNTIF(INDIRECT(\"'Planning'!\"&VLOOKUP($A$1,tab_z,2,FALSE)&(10+((ROW()-3)*28))&\":\"&VLOOKUP($A$1,tab_z,3,FALSE)&(37+((ROW()-3)*28))),BD!$E$6)*BD!$F$6)","v":""},{"$f":"IF($A9=\"\",\"\",COUNTIF(INDIRECT(\"'Planning'!\"&VLOOKUP($A$1,tab_z,2,FALSE)&(10+((ROW()-3)*28))&\":\"&VLOOKUP($A$1,tab_z,3,FALSE)&(37+((ROW()-3)*28))),BD!$E$7)*BD!$F$7)","v":""},{"$f":"IF($A9=\"\",\"\",COUNTIF(INDIRECT(\"'Planning'!\"&VLOOKUP($A$1,tab_z,2,FALSE)&(10+((ROW()-3)*28))&\":\"&VLOOKUP($A$1,tab_z,3,FALSE)&(37+((ROW()-3)*28))),BD!$E$8)*BD!$F$8)","v":""},{"$f":"IF($A9=\"\",\"\",COUNTIF(INDIRECT(\"'Planning'!\"&VLOOKUP($A$1,tab_z,2,FALSE)&(10+((ROW()-3)*28))&\":\"&VLOOKUP($A$1,tab_z,3,FALSE)&(37+((ROW()-3)*28))),BD!$E$9)*BD!$F$9)","v":""},{"$f":"IF($A9=\"\",\"\",COUNTIF(INDIRECT(\"'Planning'!\"&VLOOKUP($A$1,tab_z,2,FALSE)&(10+((ROW()-3)*28))&\":\"&VLOOKUP($A$1,tab_z,3,FALSE)&(37+((ROW()-3)*28))),BD!$E$11)*BD!$F$11)","v":""},{"$f":"IF($A9=\"\",\"\",COUNTIF(INDIRECT(\"'Planning'!\"&VLOOKUP($A$1,tab_z,2,FALSE)&(10+((ROW()-3)*28))&\":\"&VLOOKUP($A$1,tab_z,3,FALSE)&(37+((ROW()-3)*28))),BD!$E$12)*BD!$F$12)","v":""},{"$f":"IF($A9=\"\",\"\",COUNTIF(INDIRECT(\"'Planning'!\"&VLOOKUP($A$1,tab_z,2,FALSE)&(10+((ROW()-3)*28))&\":\"&VLOOKUP($A$1,tab_z,3,FALSE)&(37+((ROW()-3)*28))),BD!$E$13)*BD!$F$13)","v":""},{"$f":"IF($A9=\"\",\"\",COUNTIF(INDIRECT(\"'Planning'!\"&VLOOKUP($A$1,tab_z,2,FALSE)&(10+((ROW()-3)*28))&\":\"&VLOOKUP($A$1,tab_z,3,FALSE)&(37+((ROW()-3)*28))),BD!$E$15)*BD!$F$15)","v":""},{"$f":"IF($A9=\"\",\"\",COUNTIF(INDIRECT(\"'Planning'!\"&VLOOKUP($A$1,tab_z,2,FALSE)&(10+((ROW()-3)*28))&\":\"&VLOOKUP($A$1,tab_z,3,FALSE)&(37+((ROW()-3)*28))),BD!$E$16)*BD!$F$16)","v":""},{"$f":"IF($A9=\"\",\"\",COUNTIF(INDIRECT(\"'Planning'!\"&VLOOKUP($A$1,tab_z,2,FALSE)&(10+((ROW()-3)*28))&\":\"&VLOOKUP($A$1,tab_z,3,FALSE)&(37+((ROW()-3)*28))),BD!$E$17)*BD!$F$17)","v":""},{"$f":"IF($A9=\"\",\"\",COUNTIF(INDIRECT(\"'Planning'!\"&VLOOKUP($A$1,tab_z,2,FALSE)&(10+((ROW()-3)*28))&\":\"&VLOOKUP($A$1,tab_z,3,FALSE)&(37+((ROW()-3)*28))),BD!$E$19)*BD!$F$19)","v":""},{"$f":"IF($A9=\"\",\"\",COUNTIF(INDIRECT(\"'Planning'!\"&VLOOKUP($A$1,tab_z,2,FALSE)&(10+((ROW()-3)*28))&\":\"&VLOOKUP($A$1,tab_z,3,FALSE)&(37+((ROW()-3)*28))),BD!$E$20)*BD!$F$20)","v":""},0,{"$f":"IF($A9=\"\",\"\",COUNTIF(INDIRECT(\"'Planning'!\"&VLOOKUP($A$1,tab_z,2,FALSE)&(10+((ROW()-3)*28))&\":\"&VLOOKUP($A$1,tab_z,3,FALSE)&(37+((ROW()-3)*28))),BD!$H$2)*BD!$I$2)","v":""},{"$f":"IF($A9=\"\",\"\",COUNTIF(INDIRECT(\"'Planning'!\"&VLOOKUP($A$1,tab_z,2,FALSE)&(10+((ROW()-3)*28))&\":\"&VLOOKUP($A$1,tab_z,3,FALSE)&(37+((ROW()-3)*28))),BD!$H$3)*BD!$I$3)","v":""},{"$f":"IF($A9=\"\",\"\",COUNTIF(INDIRECT(\"'Planning'!\"&VLOOKUP($A$1,tab_z,2,FALSE)&(10+((ROW()-3)*28))&\":\"&VLOOKUP($A$1,tab_z,3,FALSE)&(37+((ROW()-3)*28))),BD!$H$5)*BD!$I$5)","v":""},{"$f":"IF($A9=\"\",\"\",COUNTIF(INDIRECT(\"'Planning'!\"&VLOOKUP($A$1,tab_z,2,FALSE)&(10+((ROW()-3)*28))&\":\"&VLOOKUP($A$1,tab_z,3,FALSE)&(37+((ROW()-3)*28))),BD!$H$6)*BD!$I$6)","v":""},{"$f":"IF($A9=\"\",\"\",COUNTIF(INDIRECT(\"'Planning'!\"&VLOOKUP($A$1,tab_z,2,FALSE)&(10+((ROW()-3)*28))&\":\"&VLOOKUP($A$1,tab_z,3,FALSE)&(37+((ROW()-3)*28))),BD!$H$8)*BD!$I$8)","v":""},{"$f":"IF($A9=\"\",\"\",COUNTIF(INDIRECT(\"'Planning'!\"&VLOOKUP($A$1,tab_z,2,FALSE)&(10+((ROW()-3)*28))&\":\"&VLOOKUP($A$1,tab_z,3,FALSE)&(37+((ROW()-3)*28))),BD!$H$9)*BD!$I$9)","v":""},{"$f":"IF($A9=\"\",\"\",COUNTIF(INDIRECT(\"'Planning'!\"&VLOOKUP($A$1,tab_z,2,FALSE)&(10+((ROW()-3)*28))&\":\"&VLOOKUP($A$1,tab_z,3,FALSE)&(37+((ROW()-3)*28))),BD!$H$10)*BD!$I$10)","v":""},{"$f":"IF($A9=\"\",\"\",COUNTIF(INDIRECT(\"'Planning'!\"&VLOOKUP($A$1,tab_z,2,FALSE)&(10+((ROW()-3)*28))&\":\"&VLOOKUP($A$1,tab_z,3,FALSE)&(37+((ROW()-3)*28))),BD!$H$12)*BD!$I$12)","v":""},{"$f":"IF($A9=\"\",\"\",COUNTIF(INDIRECT(\"'Planning'!\"&VLOOKUP($A$1,tab_z,2,FALSE)&(10+((ROW()-3)*28))&\":\"&VLOOKUP($A$1,tab_z,3,FALSE)&(37+((ROW()-3)*28))),BD!$H$13)*BD!$I$13)","v":""},{"$f":"IF($A9=\"\",\"\",COUNTIF(INDIRECT(\"'Planning'!\"&VLOOKUP($A$1,tab_z,2,FALSE)&(10+((ROW()-3)*28))&\":\"&VLOOKUP($A$1,tab_z,3,FALSE)&(37+((ROW()-3)*28))),BD!$H$15)*BD!$I$15)","v":""},0,{"$f":"IF($A9=\"\",\"\",COUNTIF(INDIRECT(\"'Planning'!\"&VLOOKUP($A$1,tab_z,2,FALSE)&(10+((ROW()-3)*28))&\":\"&VLOOKUP($A$1,tab_z,3,FALSE)&(37+((ROW()-3)*28))),BD!$K$2)*BD!$L$2)","v":""},{"$f":"IF($A9=\"\",\"\",COUNTIF(INDIRECT(\"'Planning'!\"&VLOOKUP($A$1,tab_z,2,FALSE)&(10+((ROW()-3)*28))&\":\"&VLOOKUP($A$1,tab_z,3,FALSE)&(37+((ROW()-3)*28))),BD!$K$3)*BD!$L$3)","v":""},{"$f":"IF($A9=\"\",\"\",COUNTIF(INDIRECT(\"'Planning'!\"&VLOOKUP($A$1,tab_z,2,FALSE)&(10+((ROW()-3)*28))&\":\"&VLOOKUP($A$1,tab_z,3,FALSE)&(37+((ROW()-3)*28))),BD!$K$4)*BD!$L$4)","v":""},{"$f":"IF($A9=\"\",\"\",COUNTIF(INDIRECT(\"'Planning'!\"&VLOOKUP($A$1,tab_z,2,FALSE)&(10+((ROW()-3)*28))&\":\"&VLOOKUP($A$1,tab_z,3,FALSE)&(37+((ROW()-3)*28))),BD!$K$5)*BD!$L$5)","v":""},{"$f":"IF($A9=\"\",\"\",COUNTIF(INDIRECT(\"'Planning'!\"&VLOOKUP($A$1,tab_z,2,FALSE)&(10+((ROW()-3)*28))&\":\"&VLOOKUP($A$1,tab_z,3,FALSE)&(37+((ROW()-3)*28))),BD!$K$6)*BD!$L$6)","v":""},{"$f":"IF($A9=\"\",\"\",COUNTIF(INDIRECT(\"'Planning'!\"&VLOOKUP($A$1,tab_z,2,FALSE)&(10+((ROW()-3)*28))&\":\"&VLOOKUP($A$1,tab_z,3,FALSE)&(37+((ROW()-3)*28))),BD!$K$7)*BD!$L$7)","v":""},{"$f":"IF($A9=\"\",\"\",COUNTIF(INDIRECT(\"'Planning'!\"&VLOOKUP($A$1,tab_z,2,FALSE)&(10+((ROW()-3)*28))&\":\"&VLOOKUP($A$1,tab_z,3,FALSE)&(37+((ROW()-3)*28))),BD!$K$8)*BD!$L$8)","v":""},{"$f":"IF($A9=\"\",\"\",COUNTIF(INDIRECT(\"'Planning'!\"&VLOOKUP($A$1,tab_z,2,FALSE)&(10+((ROW()-3)*28))&\":\"&VLOOKUP($A$1,tab_z,3,FALSE)&(37+((ROW()-3)*28))),BD!$K$9)*BD!$L$9)","v":""},{"$f":"IF($A9=\"\",\"\",COUNTIF(INDIRECT(\"'Planning'!\"&VLOOKUP($A$1,tab_z,2,FALSE)&(10+((ROW()-3)*28))&\":\"&VLOOKUP($A$1,tab_z,3,FALSE)&(37+((ROW()-3)*28))),BD!$K$10)*BD!$L$10)","v":""},{"$f":"IF($A9=\"\",\"\",COUNTIF(INDIRECT(\"'Planning'!\"&VLOOKUP($A$1,tab_z,2,FALSE)&(10+((ROW()-3)*28))&\":\"&VLOOKUP($A$1,tab_z,3,FALSE)&(37+((ROW()-3)*28))),BD!$K$11)*BD!$L$11)","v":""},{"$f":"IF($A9=\"\",\"\",COUNTIF(INDIRECT(\"'Planning'!\"&VLOOKUP($A$1,tab_z,2,FALSE)&(10+((ROW()-3)*28))&\":\"&VLOOKUP($A$1,tab_z,3,FALSE)&(37+((ROW()-3)*28))),BD!$K$12)*BD!$L$12)","v":""},{"$f":"IF($A9=\"\",\"\",COUNTIF(INDIRECT(\"'Planning'!\"&VLOOKUP($A$1,tab_z,2,FALSE)&(10+((ROW()-3)*28))&\":\"&VLOOKUP($A$1,tab_z,3,FALSE)&(37+((ROW()-3)*28))),BD!$K$13)*BD!$L$13)","v":""},0,{"$f":"IF($A9=\"\",\"\",COUNTIF(INDIRECT(\"'Planning'!\"&VLOOKUP($A$1,tab_z,2,FALSE)&(10+((ROW()-3)*28))&\":\"&VLOOKUP($A$1,tab_z,3,FALSE)&(37+((ROW()-3)*28))),BD!$N$2)*BD!$O$2)","v":""},{"$f":"IF($A9=\"\",\"\",COUNTIF(INDIRECT(\"'Planning'!\"&VLOOKUP($A$1,tab_z,2,FALSE)&(10+((ROW()-3)*28))&\":\"&VLOOKUP($A$1,tab_z,3,FALSE)&(37+((ROW()-3)*28))),BD!$N$3)*BD!$O$3)","v":""},{"$f":"IF($A9=\"\",\"\",COUNTIF(INDIRECT(\"'Planning'!\"&VLOOKUP($A$1,tab_z,2,FALSE)&(10+((ROW()-3)*28))&\":\"&VLOOKUP($A$1,tab_z,3,FALSE)&(37+((ROW()-3)*28))),BD!$N$4)*BD!$O$4)","v":""},{"$f":"IF($A9=\"\",\"\",COUNTIF(INDIRECT(\"'Planning'!\"&VLOOKUP($A$1,tab_z,2,FALSE)&(10+((ROW()-3)*28))&\":\"&VLOOKUP($A$1,tab_z,3,FALSE)&(37+((ROW()-3)*28))),BD!$N$5)*BD!$O$5)","v":""},0,{"$f":"IF($A9=\"\",\"\",COUNTIF(INDIRECT(\"'Planning'!\"&VLOOKUP($A$1,tab_z,2,FALSE)&(10+((ROW()-3)*28))&\":\"&VLOOKUP($A$1,tab_z,3,FALSE)&(37+((ROW()-3)*28))),BD!$Q$2)*BD!$R$2)","v":""},{"$f":"IF($A9=\"\",\"\",COUNTIF(INDIRECT(\"'Planning'!\"&VLOOKUP($A$1,tab_z,2,FALSE)&(10+((ROW()-3)*28))&\":\"&VLOOKUP($A$1,tab_z,3,FALSE)&(37+((ROW()-3)*28))),BD!$Q$3)*BD!$R$3)","v":""},{"$f":"IF($A9=\"\",\"\",COUNTIF(INDIRECT(\"'Planning'!\"&VLOOKUP($A$1,tab_z,2,FALSE)&(10+((ROW()-3)*28))&\":\"&VLOOKUP($A$1,tab_z,3,FALSE)&(37+((ROW()-3)*28))),BD!$Q$4)*BD!$R$4)","v":""},{"$f":"IF($A9=\"\",\"\",COUNTIF(INDIRECT(\"'Planning'!\"&VLOOKUP($A$1,tab_z,2,FALSE)&(10+((ROW()-3)*28))&\":\"&VLOOKUP($A$1,tab_z,3,FALSE)&(37+((ROW()-3)*28))),BD!$Q$5)*BD!$R$5)","v":""},0,{"$f":"IF($A9=\"\",\"\",COUNTIF(INDIRECT(\"'Planning'!\"&VLOOKUP($A$1,tab_z,2,FALSE)&(10+((ROW()-3)*28))&\":\"&VLOOKUP($A$1,tab_z,3,FALSE)&(37+((ROW()-3)*28))),BD!$T$2)*BD!$U$2)","v":""},{"$f":"IF($A9=\"\",\"\",COUNTIF(INDIRECT(\"'Planning'!\"&VLOOKUP($A$1,tab_z,2,FALSE)&(10+((ROW()-3)*28))&\":\"&VLOOKUP($A$1,tab_z,3,FALSE)&(37+((ROW()-3)*28))),BD!$T$3)*BD!$U$3)","v":""},{"$f":"IF($A9=\"\",\"\",COUNTIF(INDIRECT(\"'Planning'!\"&VLOOKUP($A$1,tab_z,2,FALSE)&(10+((ROW()-3)*28))&\":\"&VLOOKUP($A$1,tab_z,3,FALSE)&(37+((ROW()-3)*28))),BD!$T$4)*BD!$U$4)","v":""},{"$f":"IF($A9=\"\",\"\",COUNTIF(INDIRECT(\"'Planning'!\"&VLOOKUP($A$1,tab_z,2,FALSE)&(10+((ROW()-3)*28))&\":\"&VLOOKUP($A$1,tab_z,3,FALSE)&(37+((ROW()-3)*28))),BD!$T$5)*BD!$U$5)","v":""},0,{"$f":"IF($A9=\"\",\"\",COUNTIF(INDIRECT(\"'Planning'!\"&VLOOKUP($A$1,tab_z,2,FALSE)&(10+((ROW()-3)*28))&\":\"&VLOOKUP($A$1,tab_z,3,FALSE)&(37+((ROW()-3)*28))),BD!$W$2)*BD!$X$2)","v":""},{"$f":"IF($A9=\"\",\"\",COUNTIF(INDIRECT(\"'Planning'!\"&VLOOKUP($A$1,tab_z,2,FALSE)&(10+((ROW()-3)*28))&\":\"&VLOOKUP($A$1,tab_z,3,FALSE)&(37+((ROW()-3)*28))),BD!$W$3)*BD!$X$3)","v":""},{"$f":"IF($A9=\"\",\"\",COUNTIF(INDIRECT(\"'Planning'!\"&VLOOKUP($A$1,tab_z,2,FALSE)&(10+((ROW()-3)*28))&\":\"&VLOOKUP($A$1,tab_z,3,FALSE)&(37+((ROW()-3)*28))),BD!$W$4)*BD!$X$4)","v":""},{"$f":"IF($A9=\"\",\"\",COUNTIF(INDIRECT(\"'Planning'!\"&VLOOKUP($A$1,tab_z,2,FALSE)&(10+((ROW()-3)*28))&\":\"&VLOOKUP($A$1,tab_z,3,FALSE)&(37+((ROW()-3)*28))),BD!$W$5)*BD!$X$5)","v":""},{"$f":"IF($A9=\"\",\"\",COUNTIF(INDIRECT(\"'Planning'!\"&VLOOKUP($A$1,tab_z,2,FALSE)&(10+((ROW()-3)*28))&\":\"&VLOOKUP($A$1,tab_z,3,FALSE)&(37+((ROW()-3)*28))),BD!$W$6)*BD!$X$6)","v":""},0,{"$f":"IF($A9=\"\",\"\",COUNTIF(INDIRECT(\"'Planning'!\"&VLOOKUP($A$1,tab_z,2,FALSE)&(10+((ROW()-3)*28))&\":\"&VLOOKUP($A$1,tab_z,3,FALSE)&(37+((ROW()-3)*28))),BD!$Z$2)*BD!$AA$2)","v":""},0,""]
["",0,25,"","",{"$f":"IF($A10=\"\",\"\",COUNTIF(INDIRECT(\"'Planning'!\"&VLOOKUP($A$1,tab_z,2,FALSE)&(10+((ROW()-3)*28))&\":\"&VLOOKUP($A$1,tab_z,3,FALSE)&(37+((ROW()-3)*28))),BD!$B$2))","v":""},{"$f":"IF($A10=\"\",\"\",COUNTIF(INDIRECT(\"'Planning'!\"&VLOOKUP($A$1,tab_z,2,FALSE)&(10+((ROW()-3)*28))&\":\"&VLOOKUP($A$1,tab_z,3,FALSE)&(37+((ROW()-3)*28))),BD!$B$3))","v":""},{"$f":"IF($A10=\"\",\"\",COUNTIF(INDIRECT(\"'Planning'!\"&VLOOKUP($A$1,tab_z,2,FALSE)&(10+((ROW()-3)*28))&\":\"&VLOOKUP($A$1,tab_z,3,FALSE)&(37+((ROW()-3)*28))),BD!$B$4))","v":""},{"$f":"IF($A10=\"\",\"\",COUNTIF(INDIRECT(\"'Planning'!\"&VLOOKUP($A$1,tab_z,2,FALSE)&(10+((ROW()-3)*28))&\":\"&VLOOKUP($A$1,tab_z,3,FALSE)&(37+((ROW()-3)*28))),BD!$B$5))","v":""},{"$f":"IF($A10=\"\",\"\",COUNTIF(INDIRECT(\"'Planning'!\"&VLOOKUP($A$1,tab_z,2,FALSE)&(10+((ROW()-3)*28))&\":\"&VLOOKUP($A$1,tab_z,3,FALSE)&(37+((ROW()-3)*28))),BD!$B$6))","v":""},{"$f":"IF($A10=\"\",\"\",COUNTIF(INDIRECT(\"'Planning'!\"&VLOOKUP($A$1,tab_z,2,FALSE)&(10+((ROW()-3)*28))&\":\"&VLOOKUP($A$1,tab_z,3,FALSE)&(37+((ROW()-3)*28))),BD!$B$7))","v":""},{"$f":"IF($A10=\"\",\"\",COUNTIF(INDIRECT(\"'Planning'!\"&VLOOKUP($A$1,tab_z,2,FALSE)&(10+((ROW()-3)*28))&\":\"&VLOOKUP($A$1,tab_z,3,FALSE)&(37+((ROW()-3)*28))),BD!$B$8))","v":""},{"$f":"IF($A10=\"\",\"\",COUNTIF(INDIRECT(\"'Planning'!\"&VLOOKUP($A$1,tab_z,2,FALSE)&(10+((ROW()-3)*28))&\":\"&VLOOKUP($A$1,tab_z,3,FALSE)&(37+((ROW()-3)*28))),BD!$B$9))","v":""},{"$f":"IF($A10=\"\",\"\",COUNTIF(INDIRECT(\"'Planning'!\"&VLOOKUP($A$1,tab_z,2,FALSE)&(10+((ROW()-3)*28))&\":\"&VLOOKUP($A$1,tab_z,3,FALSE)&(37+((ROW()-3)*28))),BD!$B$10))","v":""},{"$f":"IF($A10=\"\",\"\",COUNTIF(INDIRECT(\"'Planning'!\"&VLOOKUP($A$1,tab_z,2,FALSE)&(10+((ROW()-3)*28))&\":\"&VLOOKUP($A$1,tab_z,3,FALSE)&(37+((ROW()-3)*28))),BD!$B$11))","v":""},{"$f":"IF($A10=\"\",\"\",COUNTIF(INDIRECT(\"'Planning'!\"&VLOOKUP($A$1,tab_z,2,FALSE)&(10+((ROW()-3)*28))&\":\"&VLOOKUP($A$1,tab_z,3,FALSE)&(37+((ROW()-3)*28))),BD!$B$12))","v":""},{"$f":"IF($A10=\"\",\"\",COUNTIF(INDIRECT(\"'Planning'!\"&VLOOKUP($A$1,tab_z,2,FALSE)&(10+((ROW()-3)*28))&\":\"&VLOOKUP($A$1,tab_z,3,FALSE)&(37+((ROW()-3)*28))),BD!$B$13))","v":""},{"$f":"IF($A10=\"\",\"\",COUNTIF(INDIRECT(\"'Planning'!\"&VLOOKUP($A$1,tab_z,2,FALSE)&(10+((ROW()-3)*28))&\":\"&VLOOKUP($A$1,tab_z,3,FALSE)&(37+((ROW()-3)*28))),BD!$B$14))","v":""},{"$f":"IF($A10=\"\",\"\",COUNTIF(INDIRECT(\"'Planning'!\"&VLOOKUP($A$1,tab_z,2,FALSE)&(10+((ROW()-3)*28))&\":\"&VLOOKUP($A$1,tab_z,3,FALSE)&(37+((ROW()-3)*28))),BD!$E$2)*BD!$F$2)","v":""},{"$f":"IF($A10=\"\",\"\",COUNTIF(INDIRECT(\"'Planning'!\"&VLOOKUP($A$1,tab_z,2,FALSE)&(10+((ROW()-3)*28))&\":\"&VLOOKUP($A$1,tab_z,3,FALSE)&(37+((ROW()-3)*28))),BD!$E$3)*BD!$F$3)","v":""},{"$f":"IF($A10=\"\",\"\",COUNTIF(INDIRECT(\"'Planning'!\"&VLOOKUP($A$1,tab_z,2,FALSE)&(10+((ROW()-3)*28))&\":\"&VLOOKUP($A$1,tab_z,3,FALSE)&(37+((ROW()-3)*28))),BD!$E$4)*BD!$F$4)","v":""},{"$f":"IF($A10=\"\",\"\",COUNTIF(INDIRECT(\"'Planning'!\"&VLOOKUP($A$1,tab_z,2,FALSE)&(10+((ROW()-3)*28))&\":\"&VLOOKUP($A$1,tab_z,3,FALSE)&(37+((ROW()-3)*28))),BD!$E$6)*BD!$F$6)","v":""},{"$f":"IF($A10=\"\",\"\",COUNTIF(INDIRECT(\"'Planning'!\"&VLOOKUP($A$1,tab_z,2,FALSE)&(10+((ROW()-3)*28))&\":\"&VLOOKUP($A$1,tab_z,3,FALSE)&(37+((ROW()-3)*28))),BD!$E$7)*BD!$F$7)","v":""},{"$f":"IF($A10=\"\",\"\",COUNTIF(INDIRECT(\"'Planning'!\"&VLOOKUP($A$1,tab_z,2,FALSE)&(10+((ROW()-3)*28))&\":\"&VLOOKUP($A$1,tab_z,3,FALSE)&(37+((ROW()-3)*28))),BD!$E$8)*BD!$F$8)","v":""},{"$f":"IF($A10=\"\",\"\",COUNTIF(INDIRECT(\"'Planning'!\"&VLOOKUP($A$1,tab_z,2,FALSE)&(10+((ROW()-3)*28))&\":\"&VLOOKUP($A$1,tab_z,3,FALSE)&(37+((ROW()-3)*28))),BD!$E$9)*BD!$F$9)","v":""},{"$f":"IF($A10=\"\",\"\",COUNTIF(INDIRECT(\"'Planning'!\"&VLOOKUP($A$1,tab_z,2,FALSE)&(10+((ROW()-3)*28))&\":\"&VLOOKUP($A$1,tab_z,3,FALSE)&(37+((ROW()-3)*28))),BD!$E$11)*BD!$F$11)","v":""},{"$f":"IF($A10=\"\",\"\",COUNTIF(INDIRECT(\"'Planning'!\"&VLOOKUP($A$1,tab_z,2,FALSE)&(10+((ROW()-3)*28))&\":\"&VLOOKUP($A$1,tab_z,3,FALSE)&(37+((ROW()-3)*28))),BD!$E$12)*BD!$F$12)","v":""},{"$f":"IF($A10=\"\",\"\",COUNTIF(INDIRECT(\"'Planning'!\"&VLOOKUP($A$1,tab_z,2,FALSE)&(10+((ROW()-3)*28))&\":\"&VLOOKUP($A$1,tab_z,3,FALSE)&(37+((ROW()-3)*28))),BD!$E$13)*BD!$F$13)","v":""},{"$f":"IF($A10=\"\",\"\",COUNTIF(INDIRECT(\"'Planning'!\"&VLOOKUP($A$1,tab_z,2,FALSE)&(10+((ROW()-3)*28))&\":\"&VLOOKUP($A$1,tab_z,3,FALSE)&(37+((ROW()-3)*28))),BD!$E$15)*BD!$F$15)","v":""},{"$f":"IF($A10=\"\",\"\",COUNTIF(INDIRECT(\"'Planning'!\"&VLOOKUP($A$1,tab_z,2,FALSE)&(10+((ROW()-3)*28))&\":\"&VLOOKUP($A$1,tab_z,3,FALSE)&(37+((ROW()-3)*28))),BD!$E$16)*BD!$F$16)","v":""},{"$f":"IF($A10=\"\",\"\",COUNTIF(INDIRECT(\"'Planning'!\"&VLOOKUP($A$1,tab_z,2,FALSE)&(10+((ROW()-3)*28))&\":\"&VLOOKUP($A$1,tab_z,3,FALSE)&(37+((ROW()-3)*28))),BD!$E$17)*BD!$F$17)","v":""},{"$f":"IF($A10=\"\",\"\",COUNTIF(INDIRECT(\"'Planning'!\"&VLOOKUP($A$1,tab_z,2,FALSE)&(10+((ROW()-3)*28))&\":\"&VLOOKUP($A$1,tab_z,3,FALSE)&(37+((ROW()-3)*28))),BD!$E$19)*BD!$F$19)","v":""},{"$f":"IF($A10=\"\",\"\",COUNTIF(INDIRECT(\"'Planning'!\"&VLOOKUP($A$1,tab_z,2,FALSE)&(10+((ROW()-3)*28))&\":\"&VLOOKUP($A$1,tab_z,3,FALSE)&(37+((ROW()-3)*28))),BD!$E$20)*BD!$F$20)","v":""},0,{"$f":"IF($A10=\"\",\"\",COUNTIF(INDIRECT(\"'Planning'!\"&VLOOKUP($A$1,tab_z,2,FALSE)&(10+((ROW()-3)*28))&\":\"&VLOOKUP($A$1,tab_z,3,FALSE)&(37+((ROW()-3)*28))),BD!$H$2)*BD!$I$2)","v":""},{"$f":"IF($A10=\"\",\"\",COUNTIF(INDIRECT(\"'Planning'!\"&VLOOKUP($A$1,tab_z,2,FALSE)&(10+((ROW()-3)*28))&\":\"&VLOOKUP($A$1,tab_z,3,FALSE)&(37+((ROW()-3)*28))),BD!$H$3)*BD!$I$3)","v":""},{"$f":"IF($A10=\"\",\"\",COUNTIF(INDIRECT(\"'Planning'!\"&VLOOKUP($A$1,tab_z,2,FALSE)&(10+((ROW()-3)*28))&\":\"&VLOOKUP($A$1,tab_z,3,FALSE)&(37+((ROW()-3)*28))),BD!$H$5)*BD!$I$5)","v":""},{"$f":"IF($A10=\"\",\"\",COUNTIF(INDIRECT(\"'Planning'!\"&VLOOKUP($A$1,tab_z,2,FALSE)&(10+((ROW()-3)*28))&\":\"&VLOOKUP($A$1,tab_z,3,FALSE)&(37+((ROW()-3)*28))),BD!$H$6)*BD!$I$6)","v":""},{"$f":"IF($A10=\"\",\"\",COUNTIF(INDIRECT(\"'Planning'!\"&VLOOKUP($A$1,tab_z,2,FALSE)&(10+((ROW()-3)*28))&\":\"&VLOOKUP($A$1,tab_z,3,FALSE)&(37+((ROW()-3)*28))),BD!$H$8)*BD!$I$8)","v":""},{"$f":"IF($A10=\"\",\"\",COUNTIF(INDIRECT(\"'Planning'!\"&VLOOKUP($A$1,tab_z,2,FALSE)&(10+((ROW()-3)*28))&\":\"&VLOOKUP($A$1,tab_z,3,FALSE)&(37+((ROW()-3)*28))),BD!$H$9)*BD!$I$9)","v":""},{"$f":"IF($A10=\"\",\"\",COUNTIF(INDIRECT(\"'Planning'!\"&VLOOKUP($A$1,tab_z,2,FALSE)&(10+((ROW()-3)*28))&\":\"&VLOOKUP($A$1,tab_z,3,FALSE)&(37+((ROW()-3)*28))),BD!$H$10)*BD!$I$10)","v":""},{"$f":"IF($A10=\"\",\"\",COUNTIF(INDIRECT(\"'Planning'!\"&VLOOKUP($A$1,tab_z,2,FALSE)&(10+((ROW()-3)*28))&\":\"&VLOOKUP($A$1,tab_z,3,FALSE)&(37+((ROW()-3)*28))),BD!$H$12)*BD!$I$12)","v":""},{"$f":"IF($A10=\"\",\"\",COUNTIF(INDIRECT(\"'Planning'!\"&VLOOKUP($A$1,tab_z,2,FALSE)&(10+((ROW()-3)*28))&\":\"&VLOOKUP($A$1,tab_z,3,FALSE)&(37+((ROW()-3)*28))),BD!$H$13)*BD!$I$13)","v":""},{"$f":"IF($A10=\"\",\"\",COUNTIF(INDIRECT(\"'Planning'!\"&VLOOKUP($A$1,tab_z,2,FALSE)&(10+((ROW()-3)*28))&\":\"&VLOOKUP($A$1,tab_z,3,FALSE)&(37+((ROW()-3)*28))),BD!$H$15)*BD!$I$15)","v":""},0,{"$f":"IF($A10=\"\",\"\",COUNTIF(INDIRECT(\"'Planning'!\"&VLOOKUP($A$1,tab_z,2,FALSE)&(10+((ROW()-3)*28))&\":\"&VLOOKUP($A$1,tab_z,3,FALSE)&(37+((ROW()-3)*28))),BD!$K$2)*BD!$L$2)","v":""},{"$f":"IF($A10=\"\",\"\",COUNTIF(INDIRECT(\"'Planning'!\"&VLOOKUP($A$1,tab_z,2,FALSE)&(10+((ROW()-3)*28))&\":\"&VLOOKUP($A$1,tab_z,3,FALSE)&(37+((ROW()-3)*28))),BD!$K$3)*BD!$L$3)","v":""},{"$f":"IF($A10=\"\",\"\",COUNTIF(INDIRECT(\"'Planning'!\"&VLOOKUP($A$1,tab_z,2,FALSE)&(10+((ROW()-3)*28))&\":\"&VLOOKUP($A$1,tab_z,3,FALSE)&(37+((ROW()-3)*28))),BD!$K$4)*BD!$L$4)","v":""},{"$f":"IF($A10=\"\",\"\",COUNTIF(INDIRECT(\"'Planning'!\"&VLOOKUP($A$1,tab_z,2,FALSE)&(10+((ROW()-3)*28))&\":\"&VLOOKUP($A$1,tab_z,3,FALSE)&(37+((ROW()-3)*28))),BD!$K$5)*BD!$L$5)","v":""},{"$f":"IF($A10=\"\",\"\",COUNTIF(INDIRECT(\"'Planning'!\"&VLOOKUP($A$1,tab_z,2,FALSE)&(10+((ROW()-3)*28))&\":\"&VLOOKUP($A$1,tab_z,3,FALSE)&(37+((ROW()-3)*28))),BD!$K$6)*BD!$L$6)","v":""},{"$f":"IF($A10=\"\",\"\",COUNTIF(INDIRECT(\"'Planning'!\"&VLOOKUP($A$1,tab_z,2,FALSE)&(10+((ROW()-3)*28))&\":\"&VLOOKUP($A$1,tab_z,3,FALSE)&(37+((ROW()-3)*28))),BD!$K$7)*BD!$L$7)","v":""},{"$f":"IF($A10=\"\",\"\",COUNTIF(INDIRECT(\"'Planning'!\"&VLOOKUP($A$1,tab_z,2,FALSE)&(10+((ROW()-3)*28))&\":\"&VLOOKUP($A$1,tab_z,3,FALSE)&(37+((ROW()-3)*28))),BD!$K$8)*BD!$L$8)","v":""},{"$f":"IF($A10=\"\",\"\",COUNTIF(INDIRECT(\"'Planning'!\"&VLOOKUP($A$1,tab_z,2,FALSE)&(10+((ROW()-3)*28))&\":\"&VLOOKUP($A$1,tab_z,3,FALSE)&(37+((ROW()-3)*28))),BD!$K$9)*BD!$L$9)","v":""},{"$f":"IF($A10=\"\",\"\",COUNTIF(INDIRECT(\"'Planning'!\"&VLOOKUP($A$1,tab_z,2,FALSE)&(10+((ROW()-3)*28))&\":\"&VLOOKUP($A$1,tab_z,3,FALSE)&(37+((ROW()-3)*28))),BD!$K$10)*BD!$L$10)","v":""},{"$f":"IF($A10=\"\",\"\",COUNTIF(INDIRECT(\"'Planning'!\"&VLOOKUP($A$1,tab_z,2,FALSE)&(10+((ROW()-3)*28))&\":\"&VLOOKUP($A$1,tab_z,3,FALSE)&(37+((ROW()-3)*28))),BD!$K$11)*BD!$L$11)","v":""},{"$f":"IF($A10=\"\",\"\",COUNTIF(INDIRECT(\"'Planning'!\"&VLOOKUP($A$1,tab_z,2,FALSE)&(10+((ROW()-3)*28))&\":\"&VLOOKUP($A$1,tab_z,3,FALSE)&(37+((ROW()-3)*28))),BD!$K$12)*BD!$L$12)","v":""},{"$f":"IF($A10=\"\",\"\",COUNTIF(INDIRECT(\"'Planning'!\"&VLOOKUP($A$1,tab_z,2,FALSE)&(10+((ROW()-3)*28))&\":\"&VLOOKUP($A$1,tab_z,3,FALSE)&(37+((ROW()-3)*28))),BD!$K$13)*BD!$L$13)","v":""},0,{"$f":"IF($A10=\"\",\"\",COUNTIF(INDIRECT(\"'Planning'!\"&VLOOKUP($A$1,tab_z,2,FALSE)&(10+((ROW()-3)*28))&\":\"&VLOOKUP($A$1,tab_z,3,FALSE)&(37+((ROW()-3)*28))),BD!$N$2)*BD!$O$2)","v":""},{"$f":"IF($A10=\"\",\"\",COUNTIF(INDIRECT(\"'Planning'!\"&VLOOKUP($A$1,tab_z,2,FALSE)&(10+((ROW()-3)*28))&\":\"&VLOOKUP($A$1,tab_z,3,FALSE)&(37+((ROW()-3)*28))),BD!$N$3)*BD!$O$3)","v":""},{"$f":"IF($A10=\"\",\"\",COUNTIF(INDIRECT(\"'Planning'!\"&VLOOKUP($A$1,tab_z,2,FALSE)&(10+((ROW()-3)*28))&\":\"&VLOOKUP($A$1,tab_z,3,FALSE)&(37+((ROW()-3)*28))),BD!$N$4)*BD!$O$4)","v":""},{"$f":"IF($A10=\"\",\"\",COUNTIF(INDIRECT(\"'Planning'!\"&VLOOKUP($A$1,tab_z,2,FALSE)&(10+((ROW()-3)*28))&\":\"&VLOOKUP($A$1,tab_z,3,FALSE)&(37+((ROW()-3)*28))),BD!$N$5)*BD!$O$5)","v":""},0,{"$f":"IF($A10=\"\",\"\",COUNTIF(INDIRECT(\"'Planning'!\"&VLOOKUP($A$1,tab_z,2,FALSE)&(10+((ROW()-3)*28))&\":\"&VLOOKUP($A$1,tab_z,3,FALSE)&(37+((ROW()-3)*28))),BD!$Q$2)*BD!$R$2)","v":""},{"$f":"IF($A10=\"\",\"\",COUNTIF(INDIRECT(\"'Planning'!\"&VLOOKUP($A$1,tab_z,2,FALSE)&(10+((ROW()-3)*28))&\":\"&VLOOKUP($A$1,tab_z,3,FALSE)&(37+((ROW()-3)*28))),BD!$Q$3)*BD!$R$3)","v":""},{"$f":"IF($A10=\"\",\"\",COUNTIF(INDIRECT(\"'Planning'!\"&VLOOKUP($A$1,tab_z,2,FALSE)&(10+((ROW()-3)*28))&\":\"&VLOOKUP($A$1,tab_z,3,FALSE)&(37+((ROW()-3)*28))),BD!$Q$4)*BD!$R$4)","v":""},{"$f":"IF($A10=\"\",\"\",COUNTIF(INDIRECT(\"'Planning'!\"&VLOOKUP($A$1,tab_z,2,FALSE)&(10+((ROW()-3)*28))&\":\"&VLOOKUP($A$1,tab_z,3,FALSE)&(37+((ROW()-3)*28))),BD!$Q$5)*BD!$R$5)","v":""},0,{"$f":"IF($A10=\"\",\"\",COUNTIF(INDIRECT(\"'Planning'!\"&VLOOKUP($A$1,tab_z,2,FALSE)&(10+((ROW()-3)*28))&\":\"&VLOOKUP($A$1,tab_z,3,FALSE)&(37+((ROW()-3)*28))),BD!$T$2)*BD!$U$2)","v":""},{"$f":"IF($A10=\"\",\"\",COUNTIF(INDIRECT(\"'Planning'!\"&VLOOKUP($A$1,tab_z,2,FALSE)&(10+((ROW()-3)*28))&\":\"&VLOOKUP($A$1,tab_z,3,FALSE)&(37+((ROW()-3)*28))),BD!$T$3)*BD!$U$3)","v":""},{"$f":"IF($A10=\"\",\"\",COUNTIF(INDIRECT(\"'Planning'!\"&VLOOKUP($A$1,tab_z,2,FALSE)&(10+((ROW()-3)*28))&\":\"&VLOOKUP($A$1,tab_z,3,FALSE)&(37+((ROW()-3)*28))),BD!$T$4)*BD!$U$4)","v":""},{"$f":"IF($A10=\"\",\"\",COUNTIF(INDIRECT(\"'Planning'!\"&VLOOKUP($A$1,tab_z,2,FALSE)&(10+((ROW()-3)*28))&\":\"&VLOOKUP($A$1,tab_z,3,FALSE)&(37+((ROW()-3)*28))),BD!$T$5)*BD!$U$5)","v":""},0,{"$f":"IF($A10=\"\",\"\",COUNTIF(INDIRECT(\"'Planning'!\"&VLOOKUP($A$1,tab_z,2,FALSE)&(10+((ROW()-3)*28))&\":\"&VLOOKUP($A$1,tab_z,3,FALSE)&(37+((ROW()-3)*28))),BD!$W$2)*BD!$X$2)","v":""},{"$f":"IF($A10=\"\",\"\",COUNTIF(INDIRECT(\"'Planning'!\"&VLOOKUP($A$1,tab_z,2,FALSE)&(10+((ROW()-3)*28))&\":\"&VLOOKUP($A$1,tab_z,3,FALSE)&(37+((ROW()-3)*28))),BD!$W$3)*BD!$X$3)","v":""},{"$f":"IF($A10=\"\",\"\",COUNTIF(INDIRECT(\"'Planning'!\"&VLOOKUP($A$1,tab_z,2,FALSE)&(10+((ROW()-3)*28))&\":\"&VLOOKUP($A$1,tab_z,3,FALSE)&(37+((ROW()-3)*28))),BD!$W$4)*BD!$X$4)","v":""},{"$f":"IF($A10=\"\",\"\",COUNTIF(INDIRECT(\"'Planning'!\"&VLOOKUP($A$1,tab_z,2,FALSE)&(10+((ROW()-3)*28))&\":\"&VLOOKUP($A$1,tab_z,3,FALSE)&(37+((ROW()-3)*28))),BD!$W$5)*BD!$X$5)","v":""},{"$f":"IF($A10=\"\",\"\",COUNTIF(INDIRECT(\"'Planning'!\"&VLOOKUP($A$1,tab_z,2,FALSE)&(10+((ROW()-3)*28))&\":\"&VLOOKUP($A$1,tab_z,3,FALSE)&(37+((ROW()-3)*28))),BD!$W$6)*BD!$X$6)","v":""},0,{"$f":"IF($A10=\"\",\"\",COUNTIF(INDIRECT(\"'Planning'!\"&VLOOKUP($A$1,tab_z,2,FALSE)&(10+((ROW()-3)*28))&\":\"&VLOOKUP($A$1,tab_z,3,FALSE)&(37+((ROW()-3)*28))),BD!$Z$2)*BD!$AA$2)","v":""},0,""]

{"sheet":"Récap Global Horaire Activité","index":2,"n_rows":60,"n_cols":15,"rows_kept":60,"cut":false,"hidden":false,"merged":[[59,0,59,1],[53,0,57,0],[4,0,18,0],[19,0,28,0],[29,0,40,0],[41,0,44,0],[45,0,48,0],[49,0,52,0]]}
[null,"Début de mois",{"$f":"DATE(AN,Mois_deb_planning,1)","v":"2017-01-01"},{"$f":"DATE(AN,Mois_deb_planning+1,1)","v":"2017-02-01"},{"$f":"DATE(AN,Mois_deb_planning+2,1)","v":"2017-03-01"},{"$f":"DATE(AN,Mois_deb_planning+3,1)","v":"2017-04-01"},{"$f":"DATE(AN,Mois_deb_planning+4,1)","v":"2017-05-01"},{"$f":"DATE(AN,Mois_deb_planning+5,1)","v":"2017-06-01"},{"$f":"DATE(AN,Mois_deb_planning+6,1)","v":"2017-07-01"},{"$f":"DATE(AN,Mois_deb_planning+7,1)","v":"2017-08-01"},{"$f":"DATE(AN,Mois_deb_planning+8,1)","v":"2017-09-01"},{"$f":"DATE(AN,Mois_deb_planning+9,1)","v":"2017-10-01"},{"$f":"DATE(AN,Mois_deb_planning+10,1)","v":"2017-11-01"},{"$f":"DATE(AN,Mois_deb_planning+11,1)","v":"2017-12-01"}]
[null,"Fin de mois",{"$f":"EOMONTH(DATE(AN,Mois_deb_planning,1),0)","v":"2017-01-31"},{"$f":"EOMONTH(DATE(AN,Mois_deb_planning+1,1),0)","v":"2017-02-28"},{"$f":"EOMONTH(DATE(AN,Mois_deb_planning+2,1),0)","v":"2017-03-31"},{"$f":"EOMONTH(DATE(AN,Mois_deb_planning+3,1),0)","v":"2017-04-30"},{"$f":"EOMONTH(DATE(AN,Mois_deb_planning+4,1),0)","v":"2017-05-31"},{"$f":"EOMONTH(DATE(AN,Mois_deb_planning+5,1),0)","v":"2017-06-30"},{"$f":"EOMONTH(DATE(AN,Mois_deb_planning+6,1),0)","v":"2017-07-31"},{"$f":"EOMONTH(DATE(AN,Mois_deb_planning+7,1),0)","v":"2017-08-31"},{"$f":"EOMONTH(DATE(AN,Mois_deb_planning+8,1),0)","v":"2017-09-30"},{"$f":"EOMONTH(DATE(AN,Mois_deb_planning+9,1),0)","v":"2017-10-31"},{"$f":"EOMONTH(DATE(AN,Mois_deb_planning+10,1),0)","v":"2017-11-30"},{"$f":"EOMONTH(DATE(AN,Mois_deb_planning+11,1),0)","v":"2017-12-31"}]
["Rubriques","Catégories",{"$f":"UPPER(TEXT(DATE(AN,Mois_deb_planning,1),\"MMMM\"))","v":"JANVIER"},{"$f":"UPPER(TEXT(DATE(AN,Mois_deb_planning+1,1),\"MMMM\"))","v":"FÉVRIER"},{"$f":"UPPER(TEXT(DATE(AN,Mois_deb_planning+2,1),\"MMMM\"))","v":"MARS"},{"$f":"UPPER(TEXT(DATE(AN,Mois_deb_planning+3,1),\"MMMM\"))","v":"AVRIL"},{"$f":"UPPER(TEXT(DATE(AN,Mois_deb_planning+4,1),\"MMMM\"))","v":"MAI"},{"$f":"UPPER(TEXT(DATE(AN,Mois_deb_planning+5,1),\"MMMM\"))","v":"JUIN"},{"$f":"UPPER(TEXT(DATE(AN,Mois_deb_planning+6,1),\"MMMM\"))","v":"JUILLET"},{"$f":"UPPER(TEXT(DATE(AN,Mois_deb_planning+7,1),\"MMMM\"))","v":"AOÛT"},{"$f":"UPPER(TEXT(DATE(AN,Mois_deb_planning+8,1),\"MMMM\"))","v":"SEPTEMBRE"},{"$f":"UPPER(TEXT(DATE(AN,Mois_deb_planning+9,1),\"MMMM\"))","v":"OCTOBRE"},{"$f":"UPPER(TEXT(DATE(AN,Mois_deb_planning+10,1),\"MMMM\"))","v":"NOVEMBRE"},{"$f":"UPPER(TEXT(DATE(AN,Mois_deb_planning+11,1),\"MMMM\"))","v":"DÉCEMBRE"},"Totaux annuels par sous catégorie"]
["Heures non répertoriées","HHO",{"$f":"SUM(INDIRECT(\"'Planning'!$\"&VLOOKUP($C$3,tab_z,2,FALSE)&\"10:$\"&VLOOKUP($C$3,tab_z,3,FALSE)&9+NB_Personnel*28))","v":0},{"$f":"SUM(INDIRECT(\"'Planning'!$\"&VLOOKUP($D$3,tab_z,2,FALSE)&\"10:$\"&VLOOKUP($D$3,tab_z,3,FALSE)&9+NB_Personnel*28))","v":0},{"$f":"SUM(INDIRECT(\"'Planning'!$\"&VLOOKUP($E$3,tab_z,2,FALSE)&\"10:$\"&VLOOKUP($E$3,tab_z,3,FALSE)&9+NB_Personnel*28))","v":0},{"$f":"SUM(INDIRECT(\"'Planning'!$\"&VLOOKUP($F$3,tab_z,2,FALSE)&\"10:$\"&VLOOKUP($F$3,tab_z,3,FALSE)&9+NB_Personnel*28))","v":0},{"$f":"SUM(INDIRECT(\"'Planning'!$\"&VLOOKUP($G$3,tab_z,2,FALSE)&\"10:$\"&VLOOKUP($G$3,tab_z,3,FALSE)&9+NB_Personnel*28))","v":0},{"$f":"SUM(INDIRECT(\"'Planning'!$\"&VLOOKUP($H$3,tab_z,2,FALSE)&\"10:$\"&VLOOKUP($H$3,tab_z,3,FALSE)&9+NB_Personnel*28))","v":0},{"$f":"SUM(INDIRECT(\"'Planning'!$\"&VLOOKUP($I$3,tab_z,2,FALSE)&\"10:$\"&VLOOKUP($I$3,tab_z,3,FALSE)&9+NB_Personnel*28))","v":0},{"$f":"SUM(INDIRECT(\"'Planning'!$\"&VLOOKUP($J$3,tab_z,2,FALSE)&\"10:$\"&VLOOKUP($J$3,tab_z,3,FALSE)&9+NB_Personnel*28))","v":0},{"$f":"SUM(INDIRECT(\"'Planning'!$\"&VLOOKUP($K$3,tab_z,2,FALSE)&\"10:$\"&VLOOKUP($K$3,tab_z,3,FALSE)&9+NB_Personnel*28))","v":0},{"$f":"SUM(INDIRECT(\"'Planning'!$\"&VLOOKUP($L$3,tab_z,2,FALSE)&\"10:$\"&VLOOKUP($L$3,tab_z,3,FALSE)&9+NB_Personnel*28))","v":0},{"$f":"SUM(INDIRECT(\"'Planning'!$\"&VLOOKUP($M$3,tab_z,2,FALSE)&\"10:$\"&VLOOKUP($M$3,tab_z,3,FALSE)&9+NB_Personnel*28))","v":0},{"$f":"SUM(INDIRECT(\"'Planning'!$\"&VLOOKUP($N$3,tab_z,2,FALSE)&\"10:$\"&VLOOKUP($N$3,tab_z,3,FALSE)&9+NB_Personnel*28))","v":0},{"$f":"SUM(C4:N4)","v":0}]
["Rubrique 1","Catégorie 1.1",{"$f":"COUNTIF(INDIRECT(\"'Planning'!$\"&VLOOKUP($C$3,tab_z,2,FALSE)&\"10:$\"&VLOOKUP($C$3,tab_z,3,FALSE)&9+NB_Personnel*28),BD!$E$2)*BD!$F$2","v":0},{"$f":"COUNTIF(INDIRECT(\"'Planning'!$\"&VLOOKUP($D$3,tab_z,2,FALSE)&\"10:$\"&VLOOKUP($D$3,tab_z,3,FALSE)&9+NB_Personnel*28),BD!$E$2)*BD!$F$2","v":0},{"$f":"COUNTIF(INDIRECT(\"'Planning'!$\"&VLOOKUP($E$3,tab_z,2,FALSE)&\"10:$\"&VLOOKUP($E$3,tab_z,3,FALSE)&9+NB_Personnel*28),BD!$E$2)*BD!$F$2","v":0},{"$f":"COUNTIF(INDIRECT(\"'Planning'!$\"&VLOOKUP($F$3,tab_z,2,FALSE)&\"10:$\"&VLOOKUP($F$3,tab_z,3,FALSE)&9+NB_Personnel*28),BD!$E$2)*BD!$F$2","v":0},{"$f":"COUNTIF(INDIRECT(\"'Planning'!$\"&VLOOKUP($G$3,tab_z,2,FALSE)&\"10:$\"&VLOOKUP($G$3,tab_z,3,FALSE)&9+NB_Personnel*28),BD!$E$2)*BD!$F$2","v":0},{"$f":"COUNTIF(INDIRECT(\"'Planning'!$\"&VLOOKUP($H$3,tab_z,2,FALSE)&\"10:$\"&VLOOKUP($H$3,tab_z,3,FALSE)&9+NB_Personnel*28),BD!$E$2)*BD!$F$2","v":0},{"$f":"COUNTIF(INDIRECT(\"'Planning'!$\"&VLOOKUP($I$3,tab_z,2,FALSE)&\"10:$\"&VLOOKUP($I$3,tab_z,3,FALSE)&9+NB_Personnel*28),BD!$E$2)*BD!$F$2","v":0},{"$f":"COUNTIF(INDIRECT(\"'Planning'!$\"&VLOOKUP($J$3,tab_z,2,FALSE)&\"10:$\"&VLOOKUP($J$3,tab_z,3,FALSE)&9+NB_Personnel*28),BD!$E$2)*BD!$F$2","v":0},{"$f":"COUNTIF(INDIRECT(\"'Planning'!$\"&VLOOKUP($K$3,tab_z,2,FALSE)&\"10:$\"&VLOOKUP($K$3,tab_z,3,FALSE)&9+NB_Personnel*28),BD!$E$2)*BD!$F$2","v":0},{"$f":"COUNTIF(INDIRECT(\"'Planning'!$\"&VLOOKUP($L$3,tab_z,2,FALSE)&\"10:$\"&VLOOKUP($L$3,tab_z,3,FALSE)&9+NB_Personnel*28),BD!$E$2)*BD!$F$2","v":0},{"$f":"COUNTIF(INDIRECT(\"'Planning'!$\"&VLOOKUP($M$3,tab_z,2,FALSE)&\"10:$\"&VLOOKUP($M$3,tab_z,3,FALSE)&9+NB_Personnel*28),BD!$E$2)*BD!$F$2","v":0},{"$f":"COUNTIF(INDIRECT(\"'Planning'!$\"&VLOOKUP($N$3,tab_z,2,FALSE)&\"10:$\"&VLOOKUP($N$3,tab_z,3,FALSE)&9+NB_Personnel*28),BD!$E$2)*BD!$F$2","v":0},0]
[null,"Catégorie 1.2",{"$f":"COUNTIF(INDIRECT(\"'Planning'!$\"&VLOOKUP($C$3,tab_z,2,FALSE)&\"10:$\"&VLOOKUP($C$3,tab_z,3,FALSE)&9+NB_Personnel*28),BD!$E$3)*BD!$F$3","v":0},{"$f":"COUNTIF(INDIRECT(\"'Planning'!$\"&VLOOKUP($D$3,tab_z,2,FALSE)&\"10:$\"&VLOOKUP($D$3,tab_z,3,FALSE)&9+NB_Personnel*28),BD!$E$3)*BD!$F$3","v":0},{"$f":"COUNTIF(INDIRECT(\"'Planning'!$\"&VLOOKUP($E$3,tab_z,2,FALSE)&\"10:$\"&VLOOKUP($E$3,tab_z,3,FALSE)&9+NB_Personnel*28),BD!$E$3)*BD!$F$3","v":0},{"$f":"COUNTIF(INDIRECT(\"'Planning'!$\"&VLOOKUP($F$3,tab_z,2,FALSE)&\"10:$\"&VLOOKUP($F$3,tab_z,3,FALSE)&9+NB_Personnel*28),BD!$E$3)*BD!$F$3","v":0},{"$f":"COUNTIF(INDIRECT(\"'Planning'!$\"&VLOOKUP($G$3,tab_z,2,FALSE)&\"10:$\"&VLOOKUP($G$3,tab_z,3,FALSE)&9+NB_Personnel*28),BD!$E$3)*BD!$F$3","v":0},{"$f":"COUNTIF(INDIRECT(\"'Planning'!$\"&VLOOKUP($H$3,tab_z,2,FALSE)&\"10:$\"&VLOOKUP($H$3,tab_z,3,FALSE)&9+NB_Personnel*28),BD!$E$3)*BD!$F$3","v":0},{"$f":"COUNTIF(INDIRECT(\"'Planning'!$\"&VLOOKUP($I$3,tab_z,2,FALSE)&\"10:$\"&VLOOKUP($I$3,tab_z,3,FALSE)&9+NB_Personnel*28),BD!$E$3)*BD!$F$3","v":0},{"$f":"COUNTIF(INDIRECT(\"'Planning'!$\"&VLOOKUP($J$3,tab_z,2,FALSE)&\"10:$\"&VLOOKUP($J$3,tab_z,3,FALSE)&9+NB_Personnel*28),BD!$E$3)*BD!$F$3","v":0},{"$f":"COUNTIF(INDIRECT(\"'Planning'!$\"&VLOOKUP($K$3,tab_z,2,FALSE)&\"10:$\"&VLOOKUP($K$3,tab_z,3,FALSE)&9+NB_Personnel*28),BD!$E$3)*BD!$F$3","v":0},{"$f":"COUNTIF(INDIRECT(\"'Planning'!$\"&VLOOKUP($L$3,tab_z,2,FALSE)&\"10:$\"&VLOOKUP($L$3,tab_z,3,FALSE)&9+NB_Personnel*28),BD!$E$3)*BD!$F$3","v":0},{"$f":"COUNTIF(INDIRECT(\"'Planning'!$\"&VLOOKUP($M$3,tab_z,2,FALSE)&\"10:$\"&VLOOKUP($M$3,tab_z,3,FALSE)&9+NB_Personnel*28),BD!$E$3)*BD!$F$3","v":0},{"$f":"COUNTIF(INDIRECT(\"'Planning'!$\"&VLOOKUP($N$3,tab_z,2,FALSE)&\"10:$\"&VLOOKUP($N$3,tab_z,3,FALSE)&9+NB_Personnel*28),BD!$E$3)*BD!$F$3","v":0},0]
[null,"Catégorie 1.3",{"$f":"COUNTIF(INDIRECT(\"'Planning'!$\"&VLOOKUP($C$3,tab_z,2,FALSE)&\"10:$\"&VLOOKUP($C$3,tab_z,3,FALSE)&9+NB_Personnel*28),BD!$E$4)*BD!$F$4","v":0},{"$f":"COUNTIF(INDIRECT(\"'Planning'!$\"&VLOOKUP($D$3,tab_z,2,FALSE)&\"10:$\"&VLOOKUP($D$3,tab_z,3,FALSE)&9+NB_Personnel*28),BD!$E$4)*BD!$F$4","v":0},{"$f":"COUNTIF(INDIRECT(\"'Planning'!$\"&VLOOKUP($E$3,tab_z,2,FALSE)&\"10:$\"&VLOOKUP($E$3,tab_z,3,FALSE)&9+NB_Personnel*28),BD!$E$4)*BD!$F$4","v":0},{"$f":"COUNTIF(INDIRECT(\"'Planning'!$\"&VLOOKUP($F$3,tab_z,2,FALSE)&\"10:$\"&VLOOKUP($F$3,tab_z,3,FALSE)&9+NB_Personnel*28),BD!$E$4)*BD!$F$4","v":0},{"$f":"COUNTIF(INDIRECT(\"'Planning'!$\"&VLOOKUP($G$3,tab_z,2,FALSE)&\"10:$\"&VLOOKUP($G$3,tab_z,3,FALSE)&9+NB_Personnel*28),BD!$E$4)*BD!$F$4","v":0},{"$f":"COUNTIF(INDIRECT(\"'Planning'!$\"&VLOOKUP($H$3,tab_z,2,FALSE)&\"10:$\"&VLOOKUP($H$3,tab_z,3,FALSE)&9+NB_Personnel*28),BD!$E$4)*BD!$F$4","v":0},{"$f":"COUNTIF(INDIRECT(\"'Planning'!$\"&VLOOKUP($I$3,tab_z,2,FALSE)&\"10:$\"&VLOOKUP($I$3,tab_z,3,FALSE)&9+NB_Personnel*28),BD!$E$4)*BD!$F$4","v":0},{"$f":"COUNTIF(INDIRECT(\"'Planning'!$\"&VLOOKUP($J$3,tab_z,2,FALSE)&\"10:$\"&VLOOKUP($J$3,tab_z,3,FALSE)&9+NB_Personnel*28),BD!$E$4)*BD!$F$4","v":0},{"$f":"COUNTIF(INDIRECT(\"'Planning'!$\"&VLOOKUP($K$3,tab_z,2,FALSE)&\"10:$\"&VLOOKUP($K$3,tab_z,3,FALSE)&9+NB_Personnel*28),BD!$E$4)*BD!$F$4","v":0},{"$f":"COUNTIF(INDIRECT(\"'Planning'!$\"&VLOOKUP($L$3,tab_z,2,FALSE)&\"10:$\"&VLOOKUP($L$3,tab_z,3,FALSE)&9+NB_Personnel*28),BD!$E$4)*BD!$F$4","v":0},{"$f":"COUNTIF(INDIRECT(\"'Planning'!$\"&VLOOKUP($M$3,tab_z,2,FALSE)&\"10:$\"&VLOOKUP($M$3,tab_z,3,FALSE)&9+NB_Personnel*28),BD!$E$4)*BD!$F$4","v":0},{"$f":"COUNTIF(INDIRECT(\"'Planning'!$\"&VLOOKUP($N$3,tab_z,2,FALSE)&\"10:$\"&VLOOKUP($N$3,tab_z,3,FALSE)&9+NB_Personnel*28),BD!$E$4)*BD!$F$4","v":0},0]
[null,"Catégorie 1.4",{"$f":"COUNTIF(INDIRECT(\"'Planning'!$\"&VLOOKUP($C$3,tab_z,2,FALSE)&\"10:$\"&VLOOKUP($C$3,tab_z,3,FALSE)&9+NB_Personnel*28),BD!$E$6)*BD!$F$6","v":0},{"$f":"COUNTIF(INDIRECT(\"'Planning'!$\"&VLOOKUP($D$3,tab_z,2,FALSE)&\"10:$\"&VLOOKUP($D$3,tab_z,3,FALSE)&9+NB_Personnel*28),BD!$E$6)*BD!$F$6","v":0},{"$f":"COUNTIF(INDIRECT(\"'Planning'!$\"&VLOOKUP($E$3,tab_z,2,FALSE)&\"10:$\"&VLOOKUP($E$3,tab_z,3,FALSE)&9+NB_Personnel*28),BD!$E$6)*BD!$F$6","v":0},{"$f":"COUNTIF(INDIRECT(\"'Planning'!$\"&VLOOKUP($F$3,tab_z,2,FALSE)&\"10:$\"&VLOOKUP($F$3,tab_z,3,FALSE)&9+NB_Personnel*28),BD!$E$6)*BD!$F$6","v":0},{"$f":"COUNTIF(INDIRECT(\"'Planning'!$\"&VLOOKUP($G$3,tab_z,2,FALSE)&\"10:$\"&VLOOKUP($G$3,tab_z,3,FALSE)&9+NB_Personnel*28),BD!$E$6)*BD!$F$6","v":0},{"$f":"COUNTIF(INDIRECT(\"'Planning'!$\"&VLOOKUP($H$3,tab_z,2,FALSE)&\"10:$\"&VLOOKUP($H$3,tab_z,3,FALSE)&9+NB_Personnel*28),BD!$E$6)*BD!$F$6","v":0},{"$f":"COUNTIF(INDIRECT(\"'Planning'!$\"&VLOOKUP($I$3,tab_z,2,FALSE)&\"10:$\"&VLOOKUP($I$3,tab_z,3,FALSE)&9+NB_Personnel*28),BD!$E$6)*BD!$F$6","v":0},{"$f":"COUNTIF(INDIRECT(\"'Planning'!$\"&VLOOKUP($J$3,tab_z,2,FALSE)&\"10:$\"&VLOOKUP($J$3,tab_z,3,FALSE)&9+NB_Personnel*28),BD!$E$6)*BD!$F$6","v":0},{"$f":"COUNTIF(INDIRECT(\"'Planning'!$\"&VLOOKUP($K$3,tab_z,2,FALSE)&\"10:$\"&VLOOKUP($K$3,tab_z,3,FALSE)&9+NB_Personnel*28),BD!$E$6)*BD!$F$6","v":0},{"$f":"COUNTIF(INDIRECT(\"'Planning'!$\"&VLOOKUP($L$3,tab_z,2,FALSE)&\"10:$\"&VLOOKUP($L$3,tab_z,3,FALSE)&9+NB_Personnel*28),BD!$E$6)*BD!$F$6","v":0},{"$f":"COUNTIF(INDIRECT(\"'Planning'!$\"&VLOOKUP($M$3,tab_z,2,FALSE)&\"10:$\"&VLOOKUP($M$3,tab_z,3,FALSE)&9+NB_Personnel*28),BD!$E$6)*BD!$F$6","v":0},{"$f":"COUNTIF(INDIRECT(\"'Planning'!$\"&VLOOKUP($N$3,tab_z,2,FALSE)&\"10:$\"&VLOOKUP($N$3,tab_z,3,FALSE)&9+NB_Personnel*28),BD!$E$6)*BD!$F$6","v":0},0]
[null,"Catégorie 1.5",{"$f":"COUNTIF(INDIRECT(\"'Planning'!$\"&VLOOKUP($C$3,tab_z,2,FALSE)&\"10:$\"&VLOOKUP($C$3,tab_z,3,FALSE)&9+NB_Personnel*28),BD!$E$7)*BD!$F$7","v":0},{"$f":"COUNTIF(INDIRECT(\"'Planning'!$\"&VLOOKUP($D$3,tab_z,2,FALSE)&\"10:$\"&VLOOKUP($D$3,tab_z,3,FALSE)&9+NB_Personnel*28),BD!$E$7)*BD!$F$7","v":0},{"$f":"COUNTIF(INDIRECT(\"'Planning'!$\"&VLOOKUP($E$3,tab_z,2,FALSE)&\"10:$\"&VLOOKUP($E$3,tab_z,3,FALSE)&9+NB_Personnel*28),BD!$E$7)*BD!$F$7","v":0},{"$f":"COUNTIF(INDIRECT(\"'Planning'!$\"&VLOOKUP($F$3,tab_z,2,FALSE)&\"10:$\"&VLOOKUP($F$3,tab_z,3,FALSE)&9+NB_Personnel*28),BD!$E$7)*BD!$F$7","v":0},{"$f":"COUNTIF(INDIRECT(\"'Planning'!$\"&VLOOKUP($G$3,tab_z,2,FALSE)&\"10:$\"&VLOOKUP($G$3,tab_z,3,FALSE)&9+NB_Personnel*28),BD!$E$7)*BD!$F$7","v":0},{"$f":"COUNTIF(INDIRECT(\"'Planning'!$\"&VLOOKUP($H$3,tab_z,2,FALSE)&\"10:$\"&VLOOKUP($H$3,tab_z,3,FALSE)&9+NB_Personnel*28),BD!$E$7)*BD!$F$7","v":0},{"$f":"COUNTIF(INDIRECT(\"'Planning'!$\"&VLOOKUP($I$3,tab_z,2,FALSE)&\"10:$\"&VLOOKUP($I$3,tab_z,3,FALSE)&9+NB_Personnel*28),BD!$E$7)*BD!$F$7","v":0},{"$f":"COUNTIF(INDIRECT(\"'Planning'!$\"&VLOOKUP($J$3,tab_z,2,FALSE)&\"10:$\"&VLOOKUP($J$3,tab_z,3,FALSE)&9+NB_Personnel*28),BD!$E$7)*BD!$F$7","v":0},{"$f":"COUNTIF(INDIRECT(\"'Planning'!$\"&VLOOKUP($K$3,tab_z,2,FALSE)&\"10:$\"&VLOOKUP($K$3,tab_z,3,FALSE)&9+NB_Personnel*28),BD!$E$7)*BD!$F$7","v":0},{"$f":"COUNTIF(INDIRECT(\"'Planning'!$\"&VLOOKUP($L$3,tab_z,2,FALSE)&\"10:$\"&VLOOKUP($L$3,tab_z,3,FALSE)&9+NB_Personnel*28),BD!$E$7)*BD!$F$7","v":0},{"$f":"COUNTIF(INDIRECT(\"'Planning'!$\"&VLOOKUP($M$3,tab_z,2,FALSE)&\"10:$\"&VLOOKUP($M$3,tab_z,3,FALSE)&9+NB_Personnel*28),BD!$E$7)*BD!$F$7","v":0},{"$f":"COUNTIF(INDIRECT(\"'Planning'!$\"&VLOOKUP($N$3,tab_z,2,FALSE)&\"10:$\"&VLOOKUP($N$3,tab_z,3,FALSE)&9+NB_Personnel*28),BD!$E$7)*BD!$F$7","v":0},0]
[null,"Catégorie 1.6",{"$f":"COUNTIF(INDIRECT(\"'Planning'!$\"&VLOOKUP($C$3,tab_z,2,FALSE)&\"10:$\"&VLOOKUP($C$3,tab_z,3,FALSE)&9+NB_Personnel*28),BD!$E$8)*BD!$F$8","v":0},{"$f":"COUNTIF(INDIRECT(\"'Planning'!$\"&VLOOKUP($D$3,tab_z,2,FALSE)&\"10:$\"&VLOOKUP($D$3,tab_z,3,FALSE)&9+NB_Personnel*28),BD!$E$8)*BD!$F$8","v":0},{"$f":"COUNTIF(INDIRECT(\"'Planning'!$\"&VLOOKUP($E$3,tab_z,2,FALSE)&\"10:$\"&VLOOKUP($E$3,tab_z,3,FALSE)&9+NB_Personnel*28),BD!$E$8)*BD!$F$8","v":0},{"$f":"COUNTIF(INDIRECT(\"'Planning'!$\"&VLOOKUP($F$3,tab_z,2,FALSE)&\"10:$\"&VLOOKUP($F$3,tab_z,3,FALSE)&9+NB_Personnel*28),BD!$E$8)*BD!$F$8","v":0},{"$f":"COUNTIF(INDIRECT(\"'Planning'!$\"&VLOOKUP($G$3,tab_z,2,FALSE)&\"10:$\"&VLOOKUP($G$3,tab_z,3,FALSE)&9+NB_Personnel*28),BD!$E$8)*BD!$F$8","v":0},{"$f":"COUNTIF(INDIRECT(\"'Planning'!$\"&VLOOKUP($H$3,tab_z,2,FALSE)&\"10:$\"&VLOOKUP($H$3,tab_z,3,FALSE)&9+NB_Personnel*28),BD!$E$8)*BD!$F$8","v":0},{"$f":"COUNTIF(INDIRECT(\"'Planning'!$\"&VLOOKUP($I$3,tab_z,2,FALSE)&\"10:$\"&VLOOKUP($I$3,tab_z,3,FALSE)&9+NB_Personnel*28),BD!$E$8)*BD!$F$8","v":0},{"$f":"COUNTIF(INDIRECT(\"'Planning'!$\"&VLOOKUP($J$3,tab_z,2,FALSE)&\"10:$\"&VLOOKUP($J$3,tab_z,3,FALSE)&9+NB_Personnel*28),BD!$E$8)*BD!$F$8","v":0},{"$f":"COUNTIF(INDIRECT(\"'Planning'!$\"&VLOOKUP($K$3,tab_z,2,FALSE)&\"10:$\"&VLOOKUP($K$3,tab_z,3,FALSE)&9+NB_Personnel*28),BD!$E$8)*BD!$F$8","v":0},{"$f":"COUNTIF(INDIRECT(\"'Planning'!$\"&VLOOKUP($L$3,tab_z,2,FALSE)&\"10:$\"&VLOOKUP($L$3,tab_z,3,FALSE)&9+NB_Personnel*28),BD!$E$8)*BD!$F$8","v":0},{"$f":"COUNTIF(INDIRECT(\"'Planning'!$\"&VLOOKUP($M$3,tab_z,2,FALSE)&\"10:$\"&VLOOKUP($M$3,tab_z,3,FALSE)&9+NB_Personnel*28),BD!$E$8)*BD!$F$8","v":0},{"$f":"COUNTIF(INDIRECT(\"'Planning'!$\"&VLOOKUP($N$3,tab_z,2,FALSE)&\"10:$\"&VLOOKUP($N$3,tab_z,3,FALSE)&9+NB_Personnel*28),BD!$E$8)*BD!$F$8","v":0},0]
[null,"Catégorie 1.7",{"$f":"COUNTIF(INDIRECT(\"'Planning'!$\"&VLOOKUP($C$3,tab_z,2,FALSE)&\"10:$\"&VLOOKUP($C$3,tab_z,3,FALSE)&9+NB_Personnel*28),BD!$E$9)*BD!$F$9","v":0},{"$f":"COUNTIF(INDIRECT(\"'Planning'!$\"&VLOOKUP($D$3,tab_z,2,FALSE)&\"10:$\"&VLOOKUP($D$3,tab_z,3,FALSE)&9+NB_Personnel*28),BD!$E$9)*BD!$F$9","v":0},{"$f":"COUNTIF(INDIRECT(\"'Planning'!$\"&VLOOKUP($E$3,tab_z,2,FALSE)&\"10:$\"&VLOOKUP($E$3,tab_z,3,FALSE)&9+NB_Personnel*28),BD!$E$9)*BD!$F$9","v":0},{"$f":"COUNTIF(INDIRECT(\"'Planning'!$\"&VLOOKUP($F$3,tab_z,2,FALSE)&\"10:$\"&VLOOKUP($F$3,tab_z,3,FALSE)&9+NB_Personnel*28),BD!$E$9)*BD!$F$9","v":0},{"$f":"COUNTIF(INDIRECT(\"'Planning'!$\"&VLOOKUP($G$3,tab_z,2,FALSE)&\"10:$\"&VLOOKUP($G$3,tab_z,3,FALSE)&9+NB_Personnel*28),BD!$E$9)*BD!$F$9","v":0},{"$f":"COUNTIF(INDIRECT(\"'Planning'!$\"&VLOOKUP($H$3,tab_z,2,FALSE)&\"10:$\"&VLOOKUP($H$3,tab_z,3,FALSE)&9+NB_Personnel*28),BD!$E$9)*BD!$F$9","v":0},{"$f":"COUNTIF(INDIRECT(\"'Planning'!$\"&VLOOKUP($I$3,tab_z,2,FALSE)&\"10:$\"&VLOOKUP($I$3,tab_z,3,FALSE)&9+NB_Personnel*28),BD!$E$9)*BD!$F$9","v":0},{"$f":"COUNTIF(INDIRECT(\"'Planning'!$\"&VLOOKUP($J$3,tab_z,2,FALSE)&\"10:$\"&VLOOKUP($J$3,tab_z,3,FALSE)&9+NB_Personnel*28),BD!$E$9)*BD!$F$9","v":0},{"$f":"COUNTIF(INDIRECT(\"'Planning'!$\"&VLOOKUP($K$3,tab_z,2,FALSE)&\"10:$\"&VLOOKUP($K$3,tab_z,3,FALSE)&9+NB_Personnel*28),BD!$E$9)*BD!$F$9","v":0},{"$f":"COUNTIF(INDIRECT(\"'Planning'!$\"&VLOOKUP($L$3,tab_z,2,FALSE)&\"10:$\"&VLOOKUP($L$3,tab_z,3,FALSE)&9+NB_Personnel*28),BD!$E$9)*BD!$F$9","v":0},{"$f":"COUNTIF(INDIRECT(\"'Planning'!$\"&VLOOKUP($M$3,tab_z,2,FALSE)&\"10:$\"&VLOOKUP($M$3,tab_z,3,FALSE)&9+NB_Personnel*28),BD!$E$9)*BD!$F$9","v":0},{"$f":"COUNTIF(INDIRECT(\"'Planning'!$\"&VLOOKUP($N$3,tab_z,2,FALSE)&\"10:$\"&VLOOKUP($N$3,tab_z,3,FALSE)&9+NB_Personnel*28),BD!$E$9)*BD!$F$9","v":0},0]
[null,"Catégorie 1.8",{"$f":"COUNTIF(INDIRECT(\"'Planning'!$\"&VLOOKUP($C$3,tab_z,2,FALSE)&\"10:$\"&VLOOKUP($C$3,tab_z,3,FALSE)&9+NB_Personnel*28),BD!$E$11)*BD!$F$11","v":0},{"$f":"COUNTIF(INDIRECT(\"'Planning'!$\"&VLOOKUP($D$3,tab_z,2,FALSE)&\"10:$\"&VLOOKUP($D$3,tab_z,3,FALSE)&9+NB_Personnel*28),BD!$E$11)*BD!$F$11","v":0},{"$f":"COUNTIF(INDIRECT(\"'Planning'!$\"&VLOOKUP($E$3,tab_z,2,FALSE)&\"10:$\"&VLOOKUP($E$3,tab_z,3,FALSE)&9+NB_Personnel*28),BD!$E$11)*BD!$F$11","v":0},{"$f":"COUNTIF(INDIRECT(\"'Planning'!$\"&VLOOKUP($F$3,tab_z,2,FALSE)&\"10:$\"&VLOOKUP($F$3,tab_z,3,FALSE)&9+NB_Personnel*28),BD!$E$11)*BD!$F$11","v":0},{"$f":"COUNTIF(INDIRECT(\"'Planning'!$\"&VLOOKUP($G$3,tab_z,2,FALSE)&\"10:$\"&VLOOKUP($G$3,tab_z,3,FALSE)&9+NB_Personnel*28),BD!$E$11)*BD!$F$11","v":0},{"$f":"COUNTIF(INDIRECT(\"'Planning'!$\"&VLOOKUP($H$3,tab_z,2,FALSE)&\"10:$\"&VLOOKUP($H$3,tab_z,3,FALSE)&9+NB_Personnel*28),BD!$E$11)*BD!$F$11","v":0},{"$f":"COUNTIF(INDIRECT(\"'Planning'!$\"&VLOOKUP($I$3,tab_z,2,FALSE)&\"10:$\"&VLOOKUP($I$3,tab_z,3,FALSE)&9+NB_Personnel*28),BD!$E$11)*BD!$F$11","v":0},{"$f":"COUNTIF(INDIRECT(\"'Planning'!$\"&VLOOKUP($J$3,tab_z,2,FALSE)&\"10:$\"&VLOOKUP($J$3,tab_z,3,FALSE)&9+NB_Personnel*28),BD!$E$11)*BD!$F$11","v":0},{"$f":"COUNTIF(INDIRECT(\"'Planning'!$\"&VLOOKUP($K$3,tab_z,2,FALSE)&\"10:$\"&VLOOKUP($K$3,tab_z,3,FALSE)&9+NB_Personnel*28),BD!$E$11)*BD!$F$11","v":0},{"$f":"COUNTIF(INDIRECT(\"'Planning'!$\"&VLOOKUP($L$3,tab_z,2,FALSE)&\"10:$\"&VLOOKUP($L$3,tab_z,3,FALSE)&9+NB_Personnel*28),BD!$E$11)*BD!$F$11","v":0},{"$f":"COUNTIF(INDIRECT(\"'Planning'!$\"&VLOOKUP($M$3,tab_z,2,FALSE)&\"10:$\"&VLOOKUP($M$3,tab_z,3,FALSE)&9+NB_Personnel*28),BD!$E$11)*BD!$F$11","v":0},{"$f":"COUNTIF(INDIRECT(\"'Planning'!$\"&VLOOKUP($N$3,tab_z,2,FALSE)&\"10:$\"&VLOOKUP($N$3,tab_z,3,FALSE)&9+NB_Personnel*28),BD!$E$11)*BD!$F$11","v":0},0]
[null,"Catégorie 1.9",{"$f":"COUNTIF(INDIRECT(\"'Planning'!$\"&VLOOKUP($C$3,tab_z,2,FALSE)&\"10:$\"&VLOOKUP($C$3,tab_z,3,FALSE)&9+NB_Personnel*28),BD!$E$12)*BD!$F$12","v":0},{"$f":"COUNTIF(INDIRECT(\"'Planning'!$\"&VLOOKUP($D$3,tab_z,2,FALSE)&\"10:$\"&VLOOKUP($D$3,tab_z,3,FALSE)&9+NB_Personnel*28),BD!$E$12)*BD!$F$12","v":0},{"$f":"COUNTIF(INDIRECT(\"'Planning'!$\"&VLOOKUP($E$3,tab_z,2,FALSE)&\"10:$\"&VLOOKUP($E$3,tab_z,3,FALSE)&9+NB_Personnel*28),BD!$E$12)*BD!$F$12","v":0},{"$f":"COUNTIF(INDIRECT(\"'Planning'!$\"&VLOOKUP($F$3,tab_z,2,FALSE)&\"10:$\"&VLOOKUP($F$3,tab_z,3,FALSE)&9+NB_Personnel*28),BD!$E$12)*BD!$F$12","v":0},{"$f":"COUNTIF(INDIRECT(\"'Planning'!$\"&VLOOKUP($G$3,tab_z,2,FALSE)&\"10:$\"&VLOOKUP($G$3,tab_z,3,FALSE)&9+NB_Personnel*28),BD!$E$12)*BD!$F$12","v":0},{"$f":"COUNTIF(INDIRECT(\"'Planning'!$\"&VLOOKUP($H$3,tab_z,2,FALSE)&\"10:$\"&VLOOKUP($H$3,tab_z,3,FALSE)&9+NB_Personnel*28),BD!$E$12)*BD!$F$12","v":0},{"$f":"COUNTIF(INDIRECT(\"'Planning'!$\"&VLOOKUP($I$3,tab_z,2,FALSE)&\"10:$\"&VLOOKUP($I$3,tab_z,3,FALSE)&9+NB_Personnel*28),BD!$E$12)*BD!$F$12","v":0},{"$f":"COUNTIF(INDIRECT(\"'Planning'!$\"&VLOOKUP($J$3,tab_z,2,FALSE)&\"10:$\"&VLOOKUP($J$3,tab_z,3,FALSE)&9+NB_Personnel*28),BD!$E$12)*BD!$F$12","v":0},{"$f":"COUNTIF(INDIRECT(\"'Planning'!$\"&VLOOKUP($K$3,tab_z,2,FALSE)&\"10:$\"&VLOOKUP($K$3,tab_z,3,FALSE)&9+NB_Personnel*28),BD!$E$12)*BD!$F$12","v":0},{"$f":"COUNTIF(INDIRECT(\"'Planning'!$\"&VLOOKUP($L$3,tab_z,2,FALSE)&\"10:$\"&VLOOKUP($L$3,tab_z,3,FALSE)&9+NB_Personnel*28),BD!$E$12)*BD!$F$12","v":0},{"$f":"COUNTIF(INDIRECT(\"'Planning'!$\"&VLOOKUP($M$3,tab_z,2,FALSE)&\"10:$\"&VLOOKUP($M$3,tab_z,3,FALSE)&9+NB_Personnel*28),BD!$E$12)*BD!$F$12","v":0},{"$f":"COUNTIF(INDIRECT(\"'Planning'!$\"&VLOOKUP($N$3,tab_z,2,FALSE)&\"10:$\"&VLOOKUP($N$3,tab_z,3,FALSE)&9+NB_Personnel*28),BD!$E$12)*BD!$F$12","v":0},0]
[null,"Catégorie 1.10",{"$f":"COUNTIF(INDIRECT(\"'Planning'!$\"&VLOOKUP($C$3,tab_z,2,FALSE)&\"10:$\"&VLOOKUP($C$3,tab_z,3,FALSE)&9+NB_Personnel*28),BD!$E$13)*BD!$F$13","v":0},{"$f":"COUNTIF(INDIRECT(\"'Planning'!$\"&VLOOKUP($D$3,tab_z,2,FALSE)&\"10:$\"&VLOOKUP($D$3,tab_z,3,FALSE)&9+NB_Personnel*28),BD!$E$13)*BD!$F$13","v":0},{"$f":"COUNTIF(INDIRECT(\"'Planning'!$\"&VLOOKUP($E$3,tab_z,2,FALSE)&\"10:$\"&VLOOKUP($E$3,tab_z,3,FALSE)&9+NB_Personnel*28),BD!$E$13)*BD!$F$13","v":0},{"$f":"COUNTIF(INDIRECT(\"'Planning'!$\"&VLOOKUP($F$3,tab_z,2,FALSE)&\"10:$\"&VLOOKUP($F$3,tab_z,3,FALSE)&9+NB_Personnel*28),BD!$E$13)*BD!$F$13","v":0},{"$f":"COUNTIF(INDIRECT(\"'Planning'!$\"&VLOOKUP($G$3,tab_z,2,FALSE)&\"10:$\"&VLOOKUP($G$3,tab_z,3,FALSE)&9+NB_Personnel*28),BD!$E$13)*BD!$F$13","v":0},{"$f":"COUNTIF(INDIRECT(\"'Planning'!$\"&VLOOKUP($H$3,tab_z,2,FALSE)&\"10:$\"&VLOOKUP($H$3,tab_z,3,FALSE)&9+NB_Personnel*28),BD!$E$13)*BD!$F$13","v":0},{"$f":"COUNTIF(INDIRECT(\"'Planning'!$\"&VLOOKUP($I$3,tab_z,2,FALSE)&\"10:$\"&VLOOKUP($I$3,tab_z,3,FALSE)&9+NB_Personnel*28),BD!$E$13)*BD!$F$13","v":0},{"$f":"COUNTIF(INDIRECT(\"'Planning'!$\"&VLOOKUP($J$3,tab_z,2,FALSE)&\"10:$\"&VLOOKUP($J$3,tab_z,3,FALSE)&9+NB_Personnel*28),BD!$E$13)*BD!$F$13","v":0},{"$f":"COUNTIF(INDIRECT(\"'Planning'!$\"&VLOOKUP($K$3,tab_z,2,FALSE)&\"10:$\"&VLOOKUP($K$3,tab_z,3,FALSE)&9+NB_Personnel*28),BD!$E$13)*BD!$F$13","v":0},{"$f":"COUNTIF(INDIRECT(\"'Planning'!$\"&VLOOKUP($L$3,tab_z,2,FALSE)&\"10:$\"&VLOOKUP($L$3,tab_z,3,FALSE)&9+NB_Personnel*28),BD!$E$13)*BD!$F$13","v":0},{"$f":"COUNTIF(INDIRECT(\"'Planning'!$\"&VLOOKUP($M$3,tab_z,2,FALSE)&\"10:$\"&VLOOKUP($M$3,tab_z,3,FALSE)&9+NB_Personnel*28),BD!$E$13)*BD!$F$13","v":0},{"$f":"COUNTIF(INDIRECT(\"'Planning'!$\"&VLOOKUP($N$3,tab_z,2,FALSE)&\"10:$\"&VLOOKUP($N$3,tab_z,3,FALSE)&9+NB_Personnel*28),BD!$E$13)*BD!$F$13","v":0},0]
[null,"Catégorie 1.11",{"$f":"COUNTIF(INDIRECT(\"'Planning'!$\"&VLOOKUP($C$3,tab_z,2,FALSE)&\"10:$\"&VLOOKUP($C$3,tab_z,3,FALSE)&9+NB_Personnel*28),BD!$E$15)*BD!$F$15","v":0},{"$f":"COUNTIF(INDIRECT(\"'Planning'!$\"&VLOOKUP($D$3,tab_z,2,FALSE)&\"10:$\"&VLOOKUP($D$3,tab_z,3,FALSE)&9+NB_Personnel*28),BD!$E$15)*BD!$F$15","v":0},{"$f":"COUNTIF(INDIRECT(\"'Planning'!$\"&VLOOKUP($E$3,tab_z,2,FALSE)&\"10:$\"&VLOOKUP($E$3,tab_z,3,FALSE)&9+NB_Personnel*28),BD!$E$15)*BD!$F$15","v":0},{"$f":"COUNTIF(INDIRECT(\"'Planning'!$\"&VLOOKUP($F$3,tab_z,2,FALSE)&\"10:$\"&VLOOKUP($F$3,tab_z,3,FALSE)&9+NB_Personnel*28),BD!$E$15)*BD!$F$15","v":0},{"$f":"COUNTIF(INDIRECT(\"'Planning'!$\"&VLOOKUP($G$3,tab_z,2,FALSE)&\"10:$\"&VLOOKUP($G$3,tab_z,3,FALSE)&9+NB_Personnel*28),BD!$E$15)*BD!$F$15","v":0},{"$f":"COUNTIF(INDIRECT(\"'Planning'!$\"&VLOOKUP($H$3,tab_z,2,FALSE)&\"10:$\"&VLOOKUP($H$3,tab_z,3,FALSE)&9+NB_Personnel*28),BD!$E$15)*BD!$F$15","v":0},{"$f":"COUNTIF(INDIRECT(\"'Planning'!$\"&VLOOKUP($I$3,tab_z,2,FALSE)&\"10:$\"&VLOOKUP($I$3,tab_z,3,FALSE)&9+NB_Personnel*28),BD!$E$15)*BD!$F$15","v":0},{"$f":"COUNTIF(INDIRECT(\"'Planning'!$\"&VLOOKUP($J$3,tab_z,2,FALSE)&\"10:$\"&VLOOKUP($J$3,tab_z,3,FALSE)&9+NB_Personnel*28),BD!$E$15)*BD!$F$15","v":0},{"$f":"COUNTIF(INDIRECT(\"'Planning'!$\"&VLOOKUP($K$3,tab_z,2,FALSE)&\"10:$\"&VLOOKUP($K$3,tab_z,3,FALSE)&9+NB_Personnel*28),BD!$E$15)*BD!$F$15","v":0},{"$f":"COUNTIF(INDIRECT(\"'Planning'!$\"&VLOOKUP($L$3,tab_z,2,FALSE)&\"10:$\"&VLOOKUP($L$3,tab_z,3,FALSE)&9+NB_Personnel*28),BD!$E$15)*BD!$F$15","v":0},{"$f":"COUNTIF(INDIRECT(\"'Planning'!$\"&VLOOKUP($M$3,tab_z,2,FALSE)&\"10:$\"&VLOOKUP($M$3,tab_z,3,FALSE)&9+NB_Personnel*28),BD!$E$15)*BD!$F$15","v":0},{"$f":"COUNTIF(INDIRECT(\"'Planning'!$\"&VLOOKUP($N$3,tab_z,2,FALSE)&\"10:$\"&VLOOKUP($N$3,tab_z,3,FALSE)&9+NB_Personnel*28),BD!$E$15)*BD!$F$15","v":0},0]
[null,"Catégorie 1.12",{"$f":"COUNTIF(INDIRECT(\"'Planning'!$\"&VLOOKUP($C$3,tab_z,2,FALSE)&\"10:$\"&VLOOKUP($C$3,tab_z,3,FALSE)&9+NB_Personnel*28),BD!$E$16)*BD!$F$16","v":0},{"$f":"COUNTIF(INDIRECT(\"'Planning'!$\"&VLOOKUP($D$3,tab_z,2,FALSE)&\"10:$\"&VLOOKUP($D$3,tab_z,3,FALSE)&9+NB_Personnel*28),BD!$E$16)*BD!$F$16","v":0},{"$f":"COUNTIF(INDIRECT(\"'Planning'!$\"&VLOOKUP($E$3,tab_z,2,FALSE)&\"10:$\"&VLOOKUP($E$3,tab_z,3,FALSE)&9+NB_Personnel*28),BD!$E$16)*BD!$F$16","v":0},{"$f":"COUNTIF(INDIRECT(\"'Planning'!$\"&VLOOKUP($F$3,tab_z,2,FALSE)&\"10:$\"&VLOOKUP($F$3,tab_z,3,FALSE)&9+NB_Personnel*28),BD!$E$16)*BD!$F$16","v":0},{"$f":"COUNTIF(INDIRECT(\"'Planning'!$\"&VLOOKUP($G$3,tab_z,2,FALSE)&\"10:$\"&VLOOKUP($G$3,tab_z,3,FALSE)&9+NB_Personnel*28),BD!$E$16)*BD!$F$16","v":0},{"$f":"COUNTIF(INDIRECT(\"'Planning'!$\"&VLOOKUP($H$3,tab_z,2,FALSE)&\"10:$\"&VLOOKUP($H$3,tab_z,3,FALSE)&9+NB_Personnel*28),BD!$E$16)*BD!$F$16","v":0},{"$f":"COUNTIF(INDIRECT(\"'Planning'!$\"&VLOOKUP($I$3,tab_z,2,FALSE)&\"10:$\"&VLOOKUP($I$3,tab_z,3,FALSE)&9+NB_Personnel*28),BD!$E$16)*BD!$F$16","v":0},{"$f":"COUNTIF(INDIRECT(\"'Planning'!$\"&VLOOKUP($J$3,tab_z,2,FALSE)&\"10:$\"&VLOOKUP($J$3,tab_z,3,FALSE)&9+NB_Personnel*28),BD!$E$16)*BD!$F$16","v":0},{"$f":"COUNTIF(INDIRECT(\"'Planning'!$\"&VLOOKUP($K$3,tab_z,2,FALSE)&\"10:$\"&VLOOKUP($K$3,tab_z,3,FALSE)&9+NB_Personnel*28),BD!$E$16)*BD!$F$16","v":0},{"$f":"COUNTIF(INDIRECT(\"'Planning'!$\"&VLOOKUP($L$3,tab_z,2,FALSE)&\"10:$\"&VLOOKUP($L$3,tab_z,3,FALSE)&9+NB_Personnel*28),BD!$E$16)*BD!$F$16","v":0},{"$f":"COUNTIF(INDIRECT(\"'Planning'!$\"&VLOOKUP($M$3,tab_z,2,FALSE)&\"10:$\"&VLOOKUP($M$3,tab_z,3,FALSE)&9+NB_Personnel*28),BD!$E$16)*BD!$F$16","v":0},{"$f":"COUNTIF(INDIRECT(\"'Planning'!$\"&VLOOKUP($N$3,tab_z,2,FALSE)&\"10:$\"&VLOOKUP($N$3,tab_z,3,FALSE)&9+NB_Personnel*28),BD!$E$16)*BD!$F$16","v":0},0]
[null,"Catégorie 1.13",{"$f":"COUNTIF(INDIRECT(\"'Planning'!$\"&VLOOKUP($C$3,tab_z,2,FALSE)&\"10:$\"&VLOOKUP($C$3,tab_z,3,FALSE)&9+NB_Personnel*28),BD!$E$17)*BD!$F$17","v":0},{"$f":"COUNTIF(INDIRECT(\"'Planning'!$\"&VLOOKUP($D$3,tab_z,2,FALSE)&\"10:$\"&VLOOKUP($D$3,tab_z,3,FALSE)&9+NB_Personnel*28),BD!$E$17)*BD!$F$17","v":0},{"$f":"COUNTIF(INDIRECT(\"'Planning'!$\"&VLOOKUP($E$3,tab_z,2,FALSE)&\"10:$\"&VLOOKUP($E$3,tab_z,3,FALSE)&9+NB_Personnel*28),BD!$E$17)*BD!$F$17","v":0},{"$f":"COUNTIF(INDIRECT(\"'Planning'!$\"&VLOOKUP($F$3,tab_z,2,FALSE)&\"10:$\"&VLOOKUP($F$3,tab_z,3,FALSE)&9+NB_Personnel*28),BD!$E$17)*BD!$F$17","v":0},{"$f":"COUNTIF(INDIRECT(\"'Planning'!$\"&VLOOKUP($G$3,tab_z,2,FALSE)&\"10:$\"&VLOOKUP($G$3,tab_z,3,FALSE)&9+NB_Personnel*28),BD!$E$17)*BD!$F$17","v":0},{"$f":"COUNTIF(INDIRECT(\"'Planning'!$\"&VLOOKUP($H$3,tab_z,2,FALSE)&\"10:$\"&VLOOKUP($H$3,tab_z,3,FALSE)&9+NB_Personnel*28),BD!$E$17)*BD!$F$17","v":0},{"$f":"COUNTIF(INDIRECT(\"'Planning'!$\"&VLOOKUP($I$3,tab_z,2,FALSE)&\"10:$\"&VLOOKUP($I$3,tab_z,3,FALSE)&9+NB_Personnel*28),BD!$E$17)*BD!$F$17","v":0},{"$f":"COUNTIF(INDIRECT(\"'Planning'!$\"&VLOOKUP($J$3,tab_z,2,FALSE)&\"10:$\"&VLOOKUP($J$3,tab_z,3,FALSE)&9+NB_Personnel*28),BD!$E$17)*BD!$F$17","v":0},{"$f":"COUNTIF(INDIRECT(\"'Planning'!$\"&VLOOKUP($K$3,tab_z,2,FALSE)&\"10:$\"&VLOOKUP($K$3,tab_z,3,FALSE)&9+NB_Personnel*28),BD!$E$17)*BD!$F$17","v":0},{"$f":"COUNTIF(INDIRECT(\"'Planning'!$\"&VLOOKUP($L$3,tab_z,2,FALSE)&\"10:$\"&VLOOKUP($L$3,tab_z,3,FALSE)&9+NB_Personnel*28),BD!$E$17)*BD!$F$17","v":0},{"$f":"COUNTIF(INDIRECT(\"'Planning'!$\"&VLOOKUP($M$3,tab_z,2,FALSE)&\"10:$\"&VLOOKUP($M$3,tab_z,3,FALSE)&9+NB_Personnel*28),BD!$E$17)*BD!$F$17","v":0},{"$f":"COUNTIF(INDIRECT(\"'Planning'!$\"&VLOOKUP($N$3,tab_z,2,FALSE)&\"10:$\"&VLOOKUP($N$3,tab_z,3,FALSE)&9+NB_Personnel*28),BD!$E$17)*BD!$F$17","v":0},0]
[null,"Catégorie 1.14",{"$f":"COUNTIF(INDIRECT(\"'Planning'!$\"&VLOOKUP($C$3,tab_z,2,FALSE)&\"10:$\"&VLOOKUP($C$3,tab_z,3,FALSE)&9+NB_Personnel*28),BD!$E$19)*BD!$F$19","v":0},{"$f":"COUNTIF(INDIRECT(\"'Planning'!$\"&VLOOKUP($D$3,tab_z,2,FALSE)&\"10:$\"&VLOOKUP($D$3,tab_z,3,FALSE)&9+NB_Personnel*28),BD!$E$19)*BD!$F$19","v":0},{"$f":"COUNTIF(INDIRECT(\"'Planning'!$\"&VLOOKUP($E$3,tab_z,2,FALSE)&\"10:$\"&VLOOKUP($E$3,tab_z,3,FALSE)&9+NB_Personnel*28),BD!$E$19)*BD!$F$19","v":0},{"$f":"COUNTIF(INDIRECT(\"'Planning'!$\"&VLOOKUP($F$3,tab_z,2,FALSE)&\"10:$\"&VLOOKUP($F$3,tab_z,3,FALSE)&9+NB_Personnel*28),BD!$E$19)*BD!$F$19","v":0},{"$f":"COUNTIF(INDIRECT(\"'Planning'!$\"&VLOOKUP($G$3,tab_z,2,FALSE)&\"10:$\"&VLOOKUP($G$3,tab_z,3,FALSE)&9+NB_Personnel*28),BD!$E$19)*BD!$F$19","v":0},{"$f":"COUNTIF(INDIRECT(\"'Planning'!$\"&VLOOKUP($H$3,tab_z,2,FALSE)&\"10:$\"&VLOOKUP($H$3,tab_z,3,FALSE)&9+NB_Personnel*28),BD!$E$19)*BD!$F$19","v":0},{"$f":"COUNTIF(INDIRECT(\"'Planning'!$\"&VLOOKUP($I$3,tab_z,2,FALSE)&\"10:$\"&VLOOKUP($I$3,tab_z,3,FALSE)&9+NB_Personnel*28),BD!$E$19)*BD!$F$19","v":0},{"$f":"COUNTIF(INDIRECT(\"'Planning'!$\"&VLOOKUP($J$3,tab_z,2,FALSE)&\"10:$\"&VLOOKUP($J$3,tab_z,3,FALSE)&9+NB_Personnel*28),BD!$E$19)*BD!$F$19","v":0},{"$f":"COUNTIF(INDIRECT(\"'Planning'!$\"&VLOOKUP($K$3,tab_z,2,FALSE)&\"10:$\"&VLOOKUP($K$3,tab_z,3,FALSE)&9+NB_Personnel*28),BD!$E$19)*BD!$F$19","v":0},{"$f":"COUNTIF(INDIRECT(\"'Planning'!$\"&VLOOKUP($L$3,tab_z,2,FALSE)&\"10:$\"&VLOOKUP($L$3,tab_z,3,FALSE)&9+NB_Personnel*28),BD!$E$19)*BD!$F$19","v":0},{"$f":"COUNTIF(INDIRECT(\"'Planning'!$\"&VLOOKUP($M$3,tab_z,2,FALSE)&\"10:$\"&VLOOKUP($M$3,tab_z,3,FALSE)&9+NB_Personnel*28),BD!$E$19)*BD!$F$19","v":0},{"$f":"COUNTIF(INDIRECT(\"'Planning'!$\"&VLOOKUP($N$3,tab_z,2,FALSE)&\"10:$\"&VLOOKUP($N$3,tab_z,3,FALSE)&9+NB_Personnel*28),BD!$E$19)*BD!$F$19","v":0},0]
[null,"Catégorie 1.15",{"$f":"COUNTIF(INDIRECT(\"'Planning'!$\"&VLOOKUP($C$3,tab_z,2,FALSE)&\"10:$\"&VLOOKUP($C$3,tab_z,3,FALSE)&9+NB_Personnel*28),BD!$E$20)*BD!$F$20","v":0},{"$f":"COUNTIF(INDIRECT(\"'Planning'!$\"&VLOOKUP($D$3,tab_z,2,FALSE)&\"10:$\"&VLOOKUP($D$3,tab_z,3,FALSE)&9+NB_Personnel*28),BD!$E$20)*BD!$F$20","v":0},{"$f":"COUNTIF(INDIRECT(\"'Planning'!$\"&VLOOKUP($E$3,tab_z,2,FALSE)&\"10:$\"&VLOOKUP($E$3,tab_z,3,FALSE)&9+NB_Personnel*28),BD!$E$20)*BD!$F$20","v":0},{"$f":"COUNTIF(INDIRECT(\"'Planning'!$\"&VLOOKUP($F$3,tab_z,2,FALSE)&\"10:$\"&VLOOKUP($F$3,tab_z,3,FALSE)&9+NB_Personnel*28),BD!$E$20)*BD!$F$20","v":0},{"$f":"COUNTIF(INDIRECT(\"'Planning'!$\"&VLOOKUP($G$3,tab_z,2,FALSE)&\"10:$\"&VLOOKUP($G$3,tab_z,3,FALSE)&9+NB_Personnel*28),BD!$E$20)*BD!$F$20","v":0},{"$f":"COUNTIF(INDIRECT(\"'Planning'!$\"&VLOOKUP($H$3,tab_z,2,FALSE)&\"10:$\"&VLOOKUP($H$3,tab_z,3,FALSE)&9+NB_Personnel*28),BD!$E$20)*BD!$F$20","v":0},{"$f":"COUNTIF(INDIRECT(\"'Planning'!$\"&VLOOKUP($I$3,tab_z,2,FALSE)&\"10:$\"&VLOOKUP($I$3,tab_z,3,FALSE)&9+NB_Personnel*28),BD!$E$20)*BD!$F$20","v":0},{"$f":"COUNTIF(INDIRECT(\"'Planning'!$\"&VLOOKUP($J$3,tab_z,2,FALSE)&\"10:$\"&VLOOKUP($J$3,tab_z,3,FALSE)&9+NB_Personnel*28),BD!$E$20)*BD!$F$20","v":0},{"$f":"COUNTIF(INDIRECT(\"'Planning'!$\"&VLOOKUP($K$3,tab_z,2,FALSE)&\"10:$\"&VLOOKUP($K$3,tab_z,3,FALSE)&9+NB_Personnel*28),BD!$E$20)*BD!$F$20","v":0},{"$f":"COUNTIF(INDIRECT(\"'Planning'!$\"&VLOOKUP($L$3,tab_z,2,FALSE)&\"10:$\"&VLOOKUP($L$3,tab_z,3,FALSE)&9+NB_Personnel*28),BD!$E$20)*BD!$F$20","v":0},{"$f":"COUNTIF(INDIRECT(\"'Planning'!$\"&VLOOKUP($M$3,tab_z,2,FALSE)&\"10:$\"&VLOOKUP($M$3,tab_z,3,FALSE)&9+NB_Personnel*28),BD!$E$20)*BD!$F$20","v":0},{"$f":"COUNTIF(INDIRECT(\"'Planning'!$\"&VLOOKUP($N$3,tab_z,2,FALSE)&\"10:$\"&VLOOKUP($N$3,tab_z,3,FALSE)&9+NB_Personnel*28),BD!$E$20)*BD!$F$20","v":0},0]
["Rubrique 2","Catégorie 2.1",{"$f":"COUNTIF(INDIRECT(\"'Planning'!$\"&VLOOKUP($C$3,tab_z,2,FALSE)&\"10:$\"&VLOOKUP($C$3,tab_z,3,FALSE)&9+NB_Personnel*28),BD!$H$2)*BD!$I$2","v":0},{"$f":"COUNTIF(INDIRECT(\"'Planning'!$\"&VLOOKUP($D$3,tab_z,2,FALSE)&\"10:$\"&VLOOKUP($D$3,tab_z,3,FALSE)&9+NB_Personnel*28),BD!$H$2)*BD!$I$2","v":0},{"$f":"COUNTIF(INDIRECT(\"'Planning'!$\"&VLOOKUP($E$3,tab_z,2,FALSE)&\"10:$\"&VLOOKUP($E$3,tab_z,3,FALSE)&9+NB_Personnel*28),BD!$H$2)*BD!$I$2","v":0},{"$f":"COUNTIF(INDIRECT(\"'Planning'!$\"&VLOOKUP($F$3,tab_z,2,FALSE)&\"10:$\"&VLOOKUP($F$3,tab_z,3,FALSE)&9+NB_Personnel*28),BD!$H$2)*BD!$I$2","v":0},{"$f":"COUNTIF(INDIRECT(\"'Planning'!$\"&VLOOKUP($G$3,tab_z,2,FALSE)&\"10:$\"&VLOOKUP($G$3,tab_z,3,FALSE)&9+NB_Personnel*28),BD!$H$2)*BD!$I$2","v":0},{"$f":"COUNTIF(INDIRECT(\"'Planning'!$\"&VLOOKUP($H$3,tab_z,2,FALSE)&\"10:$\"&VLOOKUP($H$3,tab_z,3,FALSE)&9+NB_Personnel*28),BD!$H$2)*BD!$I$2","v":0},{"$f":"COUNTIF(INDIRECT(\"'Planning'!$\"&VLOOKUP($I$3,tab_z,2,FALSE)&\"10:$\"&VLOOKUP($I$3,tab_z,3,FALSE)&9+NB_Personnel*28),BD!$H$2)*BD!$I$2","v":0},{"$f":"COUNTIF(INDIRECT(\"'Planning'!$\"&VLOOKUP($J$3,tab_z,2,FALSE)&\"10:$\"&VLOOKUP($J$3,tab_z,3,FALSE)&9+NB_Personnel*28),BD!$H$2)*BD!$I$2","v":0},{"$f":"COUNTIF(INDIRECT(\"'Planning'!$\"&VLOOKUP($K$3,tab_z,2,FALSE)&\"10:$\"&VLOOKUP($K$3,tab_z,3,FALSE)&9+NB_Personnel*28),BD!$H$2)*BD!$I$2","v":0},{"$f":"COUNTIF(INDIRECT(\"'Planning'!$\"&VLOOKUP($L$3,tab_z,2,FALSE)&\"10:$\"&VLOOKUP($L$3,tab_z,3,FALSE)&9+NB_Personnel*28),BD!$H$2)*BD!$I$2","v":0},{"$f":"COUNTIF(INDIRECT(\"'Planning'!$\"&VLOOKUP($M$3,tab_z,2,FALSE)&\"10:$\"&VLOOKUP($M$3,tab_z,3,FALSE)&9+NB_Personnel*28),BD!$H$2)*BD!$I$2","v":0},{"$f":"COUNTIF(INDIRECT(\"'Planning'!$\"&VLOOKUP($N$3,tab_z,2,FALSE)&\"10:$\"&VLOOKUP($N$3,tab_z,3,FALSE)&9+NB_Personnel*28),BD!$H$2)*BD!$I$2","v":0},0]
[null,"Catégorie 2.2",{"$f":"COUNTIF(INDIRECT(\"'Planning'!$\"&VLOOKUP($C$3,tab_z,2,FALSE)&\"10:$\"&VLOOKUP($C$3,tab_z,3,FALSE)&9+NB_Personnel*28),BD!$H$3)*BD!$I$3","v":0},{"$f":"COUNTIF(INDIRECT(\"'Planning'!$\"&VLOOKUP($D$3,tab_z,2,FALSE)&\"10:$\"&VLOOKUP($D$3,tab_z,3,FALSE)&9+NB_Personnel*28),BD!$H$3)*BD!$I$3","v":0},{"$f":"COUNTIF(INDIRECT(\"'Planning'!$\"&VLOOKUP($E$3,tab_z,2,FALSE)&\"10:$\"&VLOOKUP($E$3,tab_z,3,FALSE)&9+NB_Personnel*28),BD!$H$3)*BD!$I$3","v":0},{"$f":"COUNTIF(INDIRECT(\"'Planning'!$\"&VLOOKUP($F$3,tab_z,2,FALSE)&\"10:$\"&VLOOKUP($F$3,tab_z,3,FALSE)&9+NB_Personnel*28),BD!$H$3)*BD!$I$3","v":0},{"$f":"COUNTIF(INDIRECT(\"'Planning'!$\"&VLOOKUP($G$3,tab_z,2,FALSE)&\"10:$\"&VLOOKUP($G$3,tab_z,3,FALSE)&9+NB_Personnel*28),BD!$H$3)*BD!$I$3","v":0},{"$f":"COUNTIF(INDIRECT(\"'Planning'!$\"&VLOOKUP($H$3,tab_z,2,FALSE)&\"10:$\"&VLOOKUP($H$3,tab_z,3,FALSE)&9+NB_Personnel*28),BD!$H$3)*BD!$I$3","v":0},{"$f":"COUNTIF(INDIRECT(\"'Planning'!$\"&VLOOKUP($I$3,tab_z,2,FALSE)&\"10:$\"&VLOOKUP($I$3,tab_z,3,FALSE)&9+NB_Personnel*28),BD!$H$3)*BD!$I$3","v":0},{"$f":"COUNTIF(INDIRECT(\"'Planning'!$\"&VLOOKUP($J$3,tab_z,2,FALSE)&\"10:$\"&VLOOKUP($J$3,tab_z,3,FALSE)&9+NB_Personnel*28),BD!$H$3)*BD!$I$3","v":0},{"$f":"COUNTIF(INDIRECT(\"'Planning'!$\"&VLOOKUP($K$3,tab_z,2,FALSE)&\"10:$\"&VLOOKUP($K$3,tab_z,3,FALSE)&9+NB_Personnel*28),BD!$H$3)*BD!$I$3","v":0},{"$f":"COUNTIF(INDIRECT(\"'Planning'!$\"&VLOOKUP($L$3,tab_z,2,FALSE)&\"10:$\"&VLOOKUP($L$3,tab_z,3,FALSE)&9+NB_Personnel*28),BD!$H$3)*BD!$I$3","v":0},{"$f":"COUNTIF(INDIRECT(\"'Planning'!$\"&VLOOKUP($M$3,tab_z,2,FALSE)&\"10:$\"&VLOOKUP($M$3,tab_z,3,FALSE)&9+NB_Personnel*28),BD!$H$3)*BD!$I$3","v":0},{"$f":"COUNTIF(INDIRECT(\"'Planning'!$\"&VLOOKUP($N$3,tab_z,2,FALSE)&\"10:$\"&VLOOKUP($N$3,tab_z,3,FALSE)&9+NB_Personnel*28),BD!$H$3)*BD!$I$3","v":0},0]
[null,"Catégorie 2.3",{"$f":"COUNTIF(INDIRECT(\"'Planning'!$\"&VLOOKUP($C$3,tab_z,2,FALSE)&\"10:$\"&VLOOKUP($C$3,tab_z,3,FALSE)&9+NB_Personnel*28),BD!$H$5)*BD!$I$5","v":0},{"$f":"COUNTIF(INDIRECT(\"'Planning'!$\"&VLOOKUP($D$3,tab_z,2,FALSE)&\"10:$\"&VLOOKUP($D$3,tab_z,3,FALSE)&9+NB_Personnel*28),BD!$H$5)*BD!$I$5","v":0},{"$f":"COUNTIF(INDIRECT(\"'Planning'!$\"&VLOOKUP($E$3,tab_z,2,FALSE)&\"10:$\"&VLOOKUP($E$3,tab_z,3,FALSE)&9+NB_Personnel*28),BD!$H$5)*BD!$I$5","v":0},{"$f":"COUNTIF(INDIRECT(\"'Planning'!$\"&VLOOKUP($F$3,tab_z,2,FALSE)&\"10:$\"&VLOOKUP($F$3,tab_z,3,FALSE)&9+NB_Personnel*28),BD!$H$5)*BD!$I$5","v":0},{"$f":"COUNTIF(INDIRECT(\"'Planning'!$\"&VLOOKUP($G$3,tab_z,2,FALSE)&\"10:$\"&VLOOKUP($G$3,tab_z,3,FALSE)&9+NB_Personnel*28),BD!$H$5)*BD!$I$5","v":0},{"$f":"COUNTIF(INDIRECT(\"'Planning'!$\"&VLOOKUP($H$3,tab_z,2,FALSE)&\"10:$\"&VLOOKUP($H$3,tab_z,3,FALSE)&9+NB_Personnel*28),BD!$H$5)*BD!$I$5","v":0},{"$f":"COUNTIF(INDIRECT(\"'Planning'!$\"&VLOOKUP($I$3,tab_z,2,FALSE)&\"10:$\"&VLOOKUP($I$3,tab_z,3,FALSE)&9+NB_Personnel*28),BD!$H$5)*BD!$I$5","v":0},{"$f":"COUNTIF(INDIRECT(\"'Planning'!$\"&VLOOKUP($J$3,tab_z,2,FALSE)&\"10:$\"&VLOOKUP($J$3,tab_z,3,FALSE)&9+NB_Personnel*28),BD!$H$5)*BD!$I$5","v":0},{"$f":"COUNTIF(INDIRECT(\"'Planning'!$\"&VLOOKUP($K$3,tab_z,2,FALSE)&\"10:$\"&VLOOKUP($K$3,tab_z,3,FALSE)&9+NB_Personnel*28),BD!$H$5)*BD!$I$5","v":0},{"$f":"COUNTIF(INDIRECT(\"'Planning'!$\"&VLOOKUP($L$3,tab_z,2,FALSE)&\"10:$\"&VLOOKUP($L$3,tab_z,3,FALSE)&9+NB_Personnel*28),BD!$H$5)*BD!$I$5","v":0},{"$f":"COUNTIF(INDIRECT(\"'Planning'!$\"&VLOOKUP($M$3,tab_z,2,FALSE)&\"10:$\"&VLOOKUP($M$3,tab_z,3,FALSE)&9+NB_Personnel*28),BD!$H$5)*BD!$I$5","v":0},{"$f":"COUNTIF(INDIRECT(\"'Planning'!$\"&VLOOKUP($N$3,tab_z,2,FALSE)&\"10:$\"&VLOOKUP($N$3,tab_z,3,FALSE)&9+NB_Personnel*28),BD!$H$5)*BD!$I$5","v":0},0]
[null,"Catégorie 2.4",{"$f":"COUNTIF(INDIRECT(\"'Planning'!$\"&VLOOKUP($C$3,tab_z,2,FALSE)&\"10:$\"&VLOOKUP($C$3,tab_z,3,FALSE)&9+NB_Personnel*28),BD!$H$6)*BD!$I$6","v":0},{"$f":"COUNTIF(INDIRECT(\"'Planning'!$\"&VLOOKUP($D$3,tab_z,2,FALSE)&\"10:$\"&VLOOKUP($D$3,tab_z,3,FALSE)&9+NB_Personnel*28),BD!$H$6)*BD!$I$6","v":0},{"$f":"COUNTIF(INDIRECT(\"'Planning'!$\"&VLOOKUP($E$3,tab_z,2,FALSE)&\"10:$\"&VLOOKUP($E$3,tab_z,3,FALSE)&9+NB_Personnel*28),BD!$H$6)*BD!$I$6","v":0},{"$f":"COUNTIF(INDIRECT(\"'Planning'!$\"&VLOOKUP($F$3,tab_z,2,FALSE)&\"10:$\"&VLOOKUP($F$3,tab_z,3,FALSE)&9+NB_Personnel*28),BD!$H$6)*BD!$I$6","v":0},{"$f":"COUNTIF(INDIRECT(\"'Planning'!$\"&VLOOKUP($G$3,tab_z,2,FALSE)&\"10:$\"&VLOOKUP($G$3,tab_z,3,FALSE)&9+NB_Personnel*28),BD!$H$6)*BD!$I$6","v":0},{"$f":"COUNTIF(INDIRECT(\"'Planning'!$\"&VLOOKUP($H$3,tab_z,2,FALSE)&\"10:$\"&VLOOKUP($H$3,tab_z,3,FALSE)&9+NB_Personnel*28),BD!$H$6)*BD!$I$6","v":0},{"$f":"COUNTIF(INDIRECT(\"'Planning'!$\"&VLOOKUP($I$3,tab_z,2,FALSE)&\"10:$\"&VLOOKUP($I$3,tab_z,3,FALSE)&9+NB_Personnel*28),BD!$H$6)*BD!$I$6","v":0},{"$f":"COUNTIF(INDIRECT(\"'Planning'!$\"&VLOOKUP($J$3,tab_z,2,FALSE)&\"10:$\"&VLOOKUP($J$3,tab_z,3,FALSE)&9+NB_Personnel*28),BD!$H$6)*BD!$I$6","v":0},{"$f":"COUNTIF(INDIRECT(\"'Planning'!$\"&VLOOKUP($K$3,tab_z,2,FALSE)&\"10:$\"&VLOOKUP($K$3,tab_z,3,FALSE)&9+NB_Personnel*28),BD!$H$6)*BD!$I$6","v":0},{"$f":"COUNTIF(INDIRECT(\"'Planning'!$\"&VLOOKUP($L$3,tab_z,2,FALSE)&\"10:$\"&VLOOKUP($L$3,tab_z,3,FALSE)&9+NB_Personnel*28),BD!$H$6)*BD!$I$6","v":0},{"$f":"COUNTIF(INDIRECT(\"'Planning'!$\"&VLOOKUP($M$3,tab_z,2,FALSE)&\"10:$\"&VLOOKUP($M$3,tab_z,3,FALSE)&9+NB_Personnel*28),BD!$H$6)*BD!$I$6","v":0},{"$f":"COUNTIF(INDIRECT(\"'Planning'!$\"&VLOOKUP($N$3,tab_z,2,FALSE)&\"10:$\"&VLOOKUP($N$3,tab_z,3,FALSE)&9+NB_Personnel*28),BD!$H$6)*BD!$I$6","v":0},0]
[null,"Catégorie 2.5",{"$f":"COUNTIF(INDIRECT(\"'Planning'!$\"&VLOOKUP($C$3,tab_z,2,FALSE)&\"10:$\"&VLOOKUP($C$3,tab_z,3,FALSE)&9+NB_Personnel*28),BD!$H$8)*BD!$I$8","v":0},{"$f":"COUNTIF(INDIRECT(\"'Planning'!$\"&VLOOKUP($D$3,tab_z,2,FALSE)&\"10:$\"&VLOOKUP($D$3,tab_z,3,FALSE)&9+NB_Personnel*28),BD!$H$8)*BD!$I$8","v":0},{"$f":"COUNTIF(INDIRECT(\"'Planning'!$\"&VLOOKUP($E$3,tab_z,2,FALSE)&\"10:$\"&VLOOKUP($E$3,tab_z,3,FALSE)&9+NB_Personnel*28),BD!$H$8)*BD!$I$8","v":0},{"$f":"COUNTIF(INDIRECT(\"'Planning'!$\"&VLOOKUP($F$3,tab_z,2,FALSE)&\"10:$\"&VLOOKUP($F$3,tab_z,3,FALSE)&9+NB_Personnel*28),BD!$H$8)*BD!$I$8","v":0},{"$f":"COUNTIF(INDIRECT(\"'Planning'!$\"&VLOOKUP($G$3,tab_z,2,FALSE)&\"10:$\"&VLOOKUP($G$3,tab_z,3,FALSE)&9+NB_Personnel*28),BD!$H$8)*BD!$I$8","v":0},{"$f":"COUNTIF(INDIRECT(\"'Planning'!$\"&VLOOKUP($H$3,tab_z,2,FALSE)&\"10:$\"&VLOOKUP($H$3,tab_z,3,FALSE)&9+NB_Personnel*28),BD!$H$8)*BD!$I$8","v":0},{"$f":"COUNTIF(INDIRECT(\"'Planning'!$\"&VLOOKUP($I$3,tab_z,2,FALSE)&\"10:$\"&VLOOKUP($I$3,tab_z,3,FALSE)&9+NB_Personnel*28),BD!$H$8)*BD!$I$8","v":0},{"$f":"COUNTIF(INDIRECT(\"'Planning'!$\"&VLOOKUP($J$3,tab_z,2,FALSE)&\"10:$\"&VLOOKUP($J$3,tab_z,3,FALSE)&9+NB_Personnel*28),BD!$H$8)*BD!$I$8","v":0},{"$f":"COUNTIF(INDIRECT(\"'Planning'!$\"&VLOOKUP($K$3,tab_z,2,FALSE)&\"10:$\"&VLOOKUP($K$3,tab_z,3,FALSE)&9+NB_Personnel*28),BD!$H$8)*BD!$I$8","v":0},{"$f":"COUNTIF(INDIRECT(\"'Planning'!$\"&VLOOKUP($L$3,tab_z,2,FALSE)&\"10:$\"&VLOOKUP($L$3,tab_z,3,FALSE)&9+NB_Personnel*28),BD!$H$8)*BD!$I$8","v":0},{"$f":"COUNTIF(INDIRECT(\"'Planning'!$\"&VLOOKUP($M$3,tab_z,2,FALSE)&\"10:$\"&VLOOKUP($M$3,tab_z,3,FALSE)&9+NB_Personnel*28),BD!$H$8)*BD!$I$8","v":0},{"$f":"COUNTIF(INDIRECT(\"'Planning'!$\"&VLOOKUP($N$3,tab_z,2,FALSE)&\"10:$\"&VLOOKUP($N$3,tab_z,3,FALSE)&9+NB_Personnel*28),BD!$H$8)*BD!$I$8","v":0},0]
[null,"Catégorie 2.1",{"$f":"COUNTIF(INDIRECT(\"'Planning'!$\"&VLOOKUP($C$3,tab_z,2,FALSE)&\"10:$\"&VLOOKUP($C$3,tab_z,3,FALSE)&9+NB_Personnel*28),BD!$H$9)*BD!$I$9","v":0},{"$f":"COUNTIF(INDIRECT(\"'Planning'!$\"&VLOOKUP($D$3,tab_z,2,FALSE)&\"10:$\"&VLOOKUP($D$3,tab_z,3,FALSE)&9+NB_Personnel*28),BD!$H$9)*BD!$I$9","v":0},{"$f":"COUNTIF(INDIRECT(\"'Planning'!$\"&VLOOKUP($E$3,tab_z,2,FALSE)&\"10:$\"&VLOOKUP($E$3,tab_z,3,FALSE)&9+NB_Personnel*28),BD!$H$9)*BD!$I$9","v":0},{"$f":"COUNTIF(INDIRECT(\"'Planning'!$\"&VLOOKUP($F$3,tab_z,2,FALSE)&\"10:$\"&VLOOKUP($F$3,tab_z,3,FALSE)&9+NB_Personnel*28),BD!$H$9)*BD!$I$9","v":0},{"$f":"COUNTIF(INDIRECT(\"'Planning'!$\"&VLOOKUP($G$3,tab_z,2,FALSE)&\"10:$\"&VLOOKUP($G$3,tab_z,3,FALSE)&9+NB_Personnel*28),BD!$H$9)*BD!$I$9","v":0},{"$f":"COUNTIF(INDIRECT(\"'Planning'!$\"&VLOOKUP($H$3,tab_z,2,FALSE)&\"10:$\"&VLOOKUP($H$3,tab_z,3,FALSE)&9+NB_Personnel*28),BD!$H$9)*BD!$I$9","v":0},{"$f":"COUNTIF(INDIRECT(\"'Planning'!$\"&VLOOKUP($I$3,tab_z,2,FALSE)&\"10:$\"&VLOOKUP($I$3,tab_z,3,FALSE)&9+NB_Personnel*28),BD!$H$9)*BD!$I$9","v":0},{"$f":"COUNTIF(INDIRECT(\"'Planning'!$\"&VLOOKUP($J$3,tab_z,2,FALSE)&\"10:$\"&VLOOKUP($J$3,tab_z,3,FALSE)&9+NB_Personnel*28),BD!$H$9)*BD!$I$9","v":0},{"$f":"COUNTIF(INDIRECT(\"'Planning'!$\"&VLOOKUP($K$3,tab_z,2,FALSE)&\"10:$\"&VLOOKUP($K$3,tab_z,3,FALSE)&9+NB_Personnel*28),BD!$H$9)*BD!$I$9","v":0},{"$f":"COUNTIF(INDIRECT(\"'Planning'!$\"&VLOOKUP($L$3,tab_z,2,FALSE)&\"10:$\"&VLOOKUP($L$3,tab_z,3,FALSE)&9+NB_Personnel*28),BD!$H$9)*BD!$I$9","v":0},{"$f":"COUNTIF(INDIRECT(\"'Planning'!$\"&VLOOKUP($M$3,tab_z,2,FALSE)&\"10:$\"&VLOOKUP($M$3,tab_z,3,FALSE)&9+NB_Personnel*28),BD!$H$9)*BD!$I$9","v":0},{"$f":"COUNTIF(INDIRECT(\"'Planning'!$\"&VLOOKUP($N$3,tab_z,2,FALSE)&\"10:$\"&VLOOKUP($N$3,tab_z,3,FALSE)&9+NB_Personnel*28),BD!$H$9)*BD!$I$9","v":0},0]
[null,"Catégorie 2.2",{"$f":"COUNTIF(INDIRECT(\"'Planning'!$\"&VLOOKUP($C$3,tab_z,2,FALSE)&\"10:$\"&VLOOKUP($C$3,tab_z,3,FALSE)&9+NB_Personnel*28),BD!$H$10)*BD!$I$10","v":0},{"$f":"COUNTIF(INDIRECT(\"'Planning'!$\"&VLOOKUP($D$3,tab_z,2,FALSE)&\"10:$\"&VLOOKUP($D$3,tab_z,3,FALSE)&9+NB_Personnel*28),BD!$H$10)*BD!$I$10","v":0},{"$f":"COUNTIF(INDIRECT(\"'Planning'!$\"&VLOOKUP($E$3,tab_z,2,FALSE)&\"10:$\"&VLOOKUP($E$3,tab_z,3,FALSE)&9+NB_Personnel*28),BD!$H$10)*BD!$I$10","v":0},{"$f":"COUNTIF(INDIRECT(\"'Planning'!$\"&VLOOKUP($F$3,tab_z,2,FALSE)&\"10:$\"&VLOOKUP($F$3,tab_z,3,FALSE)&9+NB_Personnel*28),BD!$H$10)*BD!$I$10","v":0},{"$f":"COUNTIF(INDIRECT(\"'Planning'!$\"&VLOOKUP($G$3,tab_z,2,FALSE)&\"10:$\"&VLOOKUP($G$3,tab_z,3,FALSE)&9+NB_Personnel*28),BD!$H$10)*BD!$I$10","v":0},{"$f":"COUNTIF(INDIRECT(\"'Planning'!$\"&VLOOKUP($H$3,tab_z,2,FALSE)&\"10:$\"&VLOOKUP($H$3,tab_z,3,FALSE)&9+NB_Personnel*28),BD!$H$10)*BD!$I$10","v":0},{"$f":"COUNTIF(INDIRECT(\"'Planning'!$\"&VLOOKUP($I$3,tab_z,2,FALSE)&\"10:$\"&VLOOKUP($I$3,tab_z,3,FALSE)&9+NB_Personnel*28),BD!$H$10)*BD!$I$10","v":0},{"$f":"COUNTIF(INDIRECT(\"'Planning'!$\"&VLOOKUP($J$3,tab_z,2,FALSE)&\"10:$\"&VLOOKUP($J$3,tab_z,3,FALSE)&9+NB_Personnel*28),BD!$H$10)*BD!$I$10","v":0},{"$f":"COUNTIF(INDIRECT(\"'Planning'!$\"&VLOOKUP($K$3,tab_z,2,FALSE)&\"10:$\"&VLOOKUP($K$3,tab_z,3,FALSE)&9+NB_Personnel*28),BD!$H$10)*BD!$I$10","v":0},{"$f":"COUNTIF(INDIRECT(\"'Planning'!$\"&VLOOKUP($L$3,tab_z,2,FALSE)&\"10:$\"&VLOOKUP($L$3,tab_z,3,FALSE)&9+NB_Personnel*28),BD!$H$10)*BD!$I$10","v":0},{"$f":"COUNTIF(INDIRECT(\"'Planning'!$\"&VLOOKUP($M$3,tab_z,2,FALSE)&\"10:$\"&VLOOKUP($M$3,tab_z,3,FALSE)&9+NB_Personnel*28),BD!$H$10)*BD!$I$10","v":0},{"$f":"COUNTIF(INDIRECT(\"'Planning'!$\"&VLOOKUP($N$3,tab_z,2,FALSE)&\"10:$\"&VLOOKUP($N$3,tab_z,3,FALSE)&9+NB_Personnel*28),BD!$H$10)*BD!$I$10","v":0},0]
[null,"Catégorie 2.3",{"$f":"COUNTIF(INDIRECT(\"'Planning'!$\"&VLOOKUP($C$3,tab_z,2,FALSE)&\"10:$\"&VLOOKUP($C$3,tab_z,3,FALSE)&9+NB_Personnel*28),BD!$H$12)*BD!$I$12","v":0},{"$f":"COUNTIF(INDIRECT(\"'Planning'!$\"&VLOOKUP($D$3,tab_z,2,FALSE)&\"10:$\"&VLOOKUP($D$3,tab_z,3,FALSE)&9+NB_Personnel*28),BD!$H$12)*BD!$I$12","v":0},{"$f":"COUNTIF(INDIRECT(\"'Planning'!$\"&VLOOKUP($E$3,tab_z,2,FALSE)&\"10:$\"&VLOOKUP($E$3,tab_z,3,FALSE)&9+NB_Personnel*28),BD!$H$12)*BD!$I$12","v":0},{"$f":"COUNTIF(INDIRECT(\"'Planning'!$\"&VLOOKUP($F$3,tab_z,2,FALSE)&\"10:$\"&VLOOKUP($F$3,tab_z,3,FALSE)&9+NB_Personnel*28),BD!$H$12)*BD!$I$12","v":0},{"$f":"COUNTIF(INDIRECT(\"'Planning'!$\"&VLOOKUP($G$3,tab_z,2,FALSE)&\"10:$\"&VLOOKUP($G$3,tab_z,3,FALSE)&9+NB_Personnel*28),BD!$H$12)*BD!$I$12","v":0},{"$f":"COUNTIF(INDIRECT(\"'Planning'!$\"&VLOOKUP($H$3,tab_z,2,FALSE)&\"10:$\"&VLOOKUP($H$3,tab_z,3,FALSE)&9+NB_Personnel*28),BD!$H$12)*BD!$I$12","v":0},{"$f":"COUNTIF(INDIRECT(\"'Planning'!$\"&VLOOKUP($I$3,tab_z,2,FALSE)&\"10:$\"&VLOOKUP($I$3,tab_z,3,FALSE)&9+NB_Personnel*28),BD!$H$12)*BD!$I$12","v":0},{"$f":"COUNTIF(INDIRECT(\"'Planning'!$\"&VLOOKUP($J$3,tab_z,2,FALSE)&\"10:$\"&VLOOKUP($J$3,tab_z,3,FALSE)&9+NB_Personnel*28),BD!$H$12)*BD!$I$12","v":0},{"$f":"COUNTIF(INDIRECT(\"'Planning'!$\"&VLOOKUP($K$3,tab_z,2,FALSE)&\"10:$\"&VLOOKUP($K$3,tab_z,3,FALSE)&9+NB_Personnel*28),BD!$H$12)*BD!$I$12","v":0},{"$f":"COUNTIF(INDIRECT(\"'Planning'!$\"&VLOOKUP($L$3,tab_z,2,FALSE)&\"10:$\"&VLOOKUP($L$3,tab_z,3,FALSE)&9+NB_Personnel*28),BD!$H$12)*BD!$I$12","v":0},{"$f":"COUNTIF(INDIRECT(\"'Planning'!$\"&VLOOKUP($M$3,tab_z,2,FALSE)&\"10:$\"&VLOOKUP($M$3,tab_z,3,FALSE)&9+NB_Personnel*28),BD!$H$12)*BD!$I$12","v":0},{"$f":"COUNTIF(INDIRECT(\"'Planning'!$\"&VLOOKUP($N$3,tab_z,2,FALSE)&\"10:$\"&VLOOKUP($N$3,tab_z,3,FALSE)&9+NB_Personnel*28),BD!$H$12)*BD!$I$12","v":0},0]
[null,"Catégorie 2.4",{"$f":"COUNTIF(INDIRECT(\"'Planning'!$\"&VLOOKUP($C$3,tab_z,2,FALSE)&\"10:$\"&VLOOKUP($C$3,tab_z,3,FALSE)&9+NB_Personnel*28),BD!$H$13)*BD!$I$13","v":0},{"$f":"COUNTIF(INDIRECT(\"'Planning'!$\"&VLOOKUP($D$3,tab_z,2,FALSE)&\"10:$\"&VLOOKUP($D$3,tab_z,3,FALSE)&9+NB_Personnel*28),BD!$H$13)*BD!$I$13","v":0},{"$f":"COUNTIF(INDIRECT(\"'Planning'!$\"&VLOOKUP($E$3,tab_z,2,FALSE)&\"10:$\"&VLOOKUP($E$3,tab_z,3,FALSE)&9+NB_Personnel*28),BD!$H$13)*BD!$I$13","v":0},{"$f":"COUNTIF(INDIRECT(\"'Planning'!$\"&VLOOKUP($F$3,tab_z,2,FALSE)&\"10:$\"&VLOOKUP($F$3,tab_z,3,FALSE)&9+NB_Personnel*28),BD!$H$13)*BD!$I$13","v":0},{"$f":"COUNTIF(INDIRECT(\"'Planning'!$\"&VLOOKUP($G$3,tab_z,2,FALSE)&\"10:$\"&VLOOKUP($G$3,tab_z,3,FALSE)&9+NB_Personnel*28),BD!$H$13)*BD!$I$13","v":0},{"$f":"COUNTIF(INDIRECT(\"'Planning'!$\"&VLOOKUP($H$3,tab_z,2,FALSE)&\"10:$\"&VLOOKUP($H$3,tab_z,3,FALSE)&9+NB_Personnel*28),BD!$H$13)*BD!$I$13","v":0},{"$f":"COUNTIF(INDIRECT(\"'Planning'!$\"&VLOOKUP($I$3,tab_z,2,FALSE)&\"10:$\"&VLOOKUP($I$3,tab_z,3,FALSE)&9+NB_Personnel*28),BD!$H$13)*BD!$I$13","v":0},{"$f":"COUNTIF(INDIRECT(\"'Planning'!$\"&VLOOKUP($J$3,tab_z,2,FALSE)&\"10:$\"&VLOOKUP($J$3,tab_z,3,FALSE)&9+NB_Personnel*28),BD!$H$13)*BD!$I$13","v":0},{"$f":"COUNTIF(INDIRECT(\"'Planning'!$\"&VLOOKUP($K$3,tab_z,2,FALSE)&\"10:$\"&VLOOKUP($K$3,tab_z,3,FALSE)&9+NB_Personnel*28),BD!$H$13)*BD!$I$13","v":0},{"$f":"COUNTIF(INDIRECT(\"'Planning'!$\"&VLOOKUP($L$3,tab_z,2,FALSE)&\"10:$\"&VLOOKUP($L$3,tab_z,3,FALSE)&9+NB_Personnel*28),BD!$H$13)*BD!$I$13","v":0},{"$f":"COUNTIF(INDIRECT(\"'Planning'!$\"&VLOOKUP($M$3,tab_z,2,FALSE)&\"10:$\"&VLOOKUP($M$3,tab_z,3,FALSE)&9+NB_Personnel*28),BD!$H$13)*BD!$I$13","v":0},{"$f":"COUNTIF(INDIRECT(\"'Planning'!$\"&VLOOKUP($N$3,tab_z,2,FALSE)&\"10:$\"&VLOOKUP($N$3,tab_z,3,FALSE)&9+NB_Personnel*28),BD!$H$13)*BD!$I$13","v":0},0]
[null,"Catégorie 2.5",{"$f":"COUNTIF(INDIRECT(\"'Planning'!$\"&VLOOKUP($C$3,tab_z,2,FALSE)&\"10:$\"&VLOOKUP($C$3,tab_z,3,FALSE)&9+NB_Personnel*28),BD!$H$15)*BD!$I$15","v":0},{"$f":"COUNTIF(INDIRECT(\"'Planning'!$\"&VLOOKUP($D$3,tab_z,2,FALSE)&\"10:$\"&VLOOKUP($D$3,tab_z,3,FALSE)&9+NB_Personnel*28),BD!$H$15)*BD!$I$15","v":0},{"$f":"COUNTIF(INDIRECT(\"'Planning'!$\"&VLOOKUP($E$3,tab_z,2,FALSE)&\"10:$\"&VLOOKUP($E$3,tab_z,3,FALSE)&9+NB_Personnel*28),BD!$H$15)*BD!$I$15","v":0},{"$f":"COUNTIF(INDIRECT(\"'Planning'!$\"&VLOOKUP($F$3,tab_z,2,FALSE)&\"10:$\"&VLOOKUP($F$3,tab_z,3,FALSE)&9+NB_Personnel*28),BD!$H$15)*BD!$I$15","v":0},{"$f":"COUNTIF(INDIRECT(\"'Planning'!$\"&VLOOKUP($G$3,tab_z,2,FALSE)&\"10:$\"&VLOOKUP($G$3,tab_z,3,FALSE)&9+NB_Personnel*28),BD!$H$15)*BD!$I$15","v":0},{"$f":"COUNTIF(INDIRECT(\"'Planning'!$\"&VLOOKUP($H$3,tab_z,2,FALSE)&\"10:$\"&VLOOKUP($H$3,tab_z,3,FALSE)&9+NB_Personnel*28),BD!$H$15)*BD!$I$15","v":0},{"$f":"COUNTIF(INDIRECT(\"'Planning'!$\"&VLOOKUP($I$3,tab_z,2,FALSE)&\"10:$\"&VLOOKUP($I$3,tab_z,3,FALSE)&9+NB_Personnel*28),BD!$H$15)*BD!$I$15","v":0},{"$f":"COUNTIF(INDIRECT(\"'Planning'!$\"&VLOOKUP($J$3,tab_z,2,FALSE)&\"10:$\"&VLOOKUP($J$3,tab_z,3,FALSE)&9+NB_Personnel*28),BD!$H$15)*BD!$I$15","v":0},{"$f":"COUNTIF(INDIRECT(\"'Planning'!$\"&VLOOKUP($K$3,tab_z,2,FALSE)&\"10:$\"&VLOOKUP($K$3,tab_z,3,FALSE)&9+NB_Personnel*28),BD!$H$15)*BD!$I$15","v":0},{"$f":"COUNTIF(INDIRECT(\"'Planning'!$\"&VLOOKUP($L$3,tab_z,2,FALSE)&\"10:$\"&VLOOKUP($L$3,tab_z,3,FALSE)&9+NB_Personnel*28),BD!$H$15)*BD!$I$15","v":0},{"$f":"COUNTIF(INDIRECT(\"'Planning'!$\"&VLOOKUP($M$3,tab_z,2,FALSE)&\"10:$\"&VLOOKUP($M$3,tab_z,3,FALSE)&9+NB_Personnel*28),BD!$H$15)*BD!$I$15","v":0},{"$f":"COUNTIF(INDIRECT(\"'Planning'!$\"&VLOOKUP($N$3,tab_z,2,FALSE)&\"10:$\"&VLOOKUP($N$3,tab_z,3,FALSE)&9+NB_Personnel*28),BD!$H$15)*BD!$I$15","v":0},0]
["Rubrique 3","Catégorie 3.1",{"$f":"COUNTIF(INDIRECT(\"'Planning'!$\"&VLOOKUP($C$3,tab_z,2,FALSE)&\"10:$\"&VLOOKUP($C$3,tab_z,3,FALSE)&9+NB_Personnel*28),BD!$K$2)*BD!$L$2","v":0},{"$f":"COUNTIF(INDIRECT(\"'Planning'!$\"&VLOOKUP($D$3,tab_z,2,FALSE)&\"10:$\"&VLOOKUP($D$3,tab_z,3,FALSE)&9+NB_Personnel*28),BD!$K$2)*BD!$L$2","v":0},{"$f":"COUNTIF(INDIRECT(\"'Planning'!$\"&VLOOKUP($E$3,tab_z,2,FALSE)&\"10:$\"&VLOOKUP($E$3,tab_z,3,FALSE)&9+NB_Personnel*28),BD!$K$2)*BD!$L$2","v":0},{"$f":"COUNTIF(INDIRECT(\"'Planning'!$\"&VLOOKUP($F$3,tab_z,2,FALSE)&\"10:$\"&VLOOKUP($F$3,tab_z,3,FALSE)&9+NB_Personnel*28),BD!$K$2)*BD!$L$2","v":0},{"$f":"COUNTIF(INDIRECT(\"'Planning'!$\"&VLOOKUP($G$3,tab_z,2,FALSE)&\"10:$\"&VLOOKUP($G$3,tab_z,3,FALSE)&9+NB_Personnel*28),BD!$K$2)*BD!$L$2","v":0},{"$f":"COUNTIF(INDIRECT(\"'Planning'!$\"&VLOOKUP($H$3,tab_z,2,FALSE)&\"10:$\"&VLOOKUP($H$3,tab_z,3,FALSE)&9+NB_Personnel*28),BD!$K$2)*BD!$L$2","v":0},{"$f":"COUNTIF(INDIRECT(\"'Planning'!$\"&VLOOKUP($I$3,tab_z,2,FALSE)&\"10:$\"&VLOOKUP($I$3,tab_z,3,FALSE)&9+NB_Personnel*28),BD!$K$2)*BD!$L$2","v":0},{"$f":"COUNTIF(INDIRECT(\"'Planning'!$\"&VLOOKUP($J$3,tab_z,2,FALSE)&\"10:$\"&VLOOKUP($J$3,tab_z,3,FALSE)&9+NB_Personnel*28),BD!$K$2)*BD!$L$2","v":0},{"$f":"COUNTIF(INDIRECT(\"'Planning'!$\"&VLOOKUP($K$3,tab_z,2,FALSE)&\"10:$\"&VLOOKUP($K$3,tab_z,3,FALSE)&9+NB_Personnel*28),BD!$K$2)*BD!$L$2","v":0},{"$f":"COUNTIF(INDIRECT(\"'Planning'!$\"&VLOOKUP($L$3,tab_z,2,FALSE)&\"10:$\"&VLOOKUP($L$3,tab_z,3,FALSE)&9+NB_Personnel*28),BD!$K$2)*BD!$L$2","v":0},{"$f":"COUNTIF(INDIRECT(\"'Planning'!$\"&VLOOKUP($M$3,tab_z,2,FALSE)&\"10:$\"&VLOOKUP($M$3,tab_z,3,FALSE)&9+NB_Personnel*28),BD!$K$2)*BD!$L$2","v":0},{"$f":"COUNTIF(INDIRECT(\"'Planning'!$\"&VLOOKUP($N$3,tab_z,2,FALSE)&\"10:$\"&VLOOKUP($N$3,tab_z,3,FALSE)&9+NB_Personnel*28),BD!$K$2)*BD!$L$2","v":0},0]
[null,"Catégorie 3.2",{"$f":"COUNTIF(INDIRECT(\"'Planning'!$\"&VLOOKUP($C$3,tab_z,2,FALSE)&\"10:$\"&VLOOKUP($C$3,tab_z,3,FALSE)&9+NB_Personnel*28),BD!$K$3)*BD!$L$3","v":0},{"$f":"COUNTIF(INDIRECT(\"'Planning'!$\"&VLOOKUP($D$3,tab_z,2,FALSE)&\"10:$\"&VLOOKUP($D$3,tab_z,3,FALSE)&9+NB_Personnel*28),BD!$K$3)*BD!$L$3","v":0},{"$f":"COUNTIF(INDIRECT(\"'Planning'!$\"&VLOOKUP($E$3,tab_z,2,FALSE)&\"10:$\"&VLOOKUP($E$3,tab_z,3,FALSE)&9+NB_Personnel*28),BD!$K$3)*BD!$L$3","v":0},{"$f":"COUNTIF(INDIRECT(\"'Planning'!$\"&VLOOKUP($F$3,tab_z,2,FALSE)&\"10:$\"&VLOOKUP($F$3,tab_z,3,FALSE)&9+NB_Personnel*28),BD!$K$3)*BD!$L$3","v":0},{"$f":"COUNTIF(INDIRECT(\"'Planning'!$\"&VLOOKUP($G$3,tab_z,2,FALSE)&\"10:$\"&VLOOKUP($G$3,tab_z,3,FALSE)&9+NB_Personnel*28),BD!$K$3)*BD!$L$3","v":0},{"$f":"COUNTIF(INDIRECT(\"'Planning'!$\"&VLOOKUP($H$3,tab_z,2,FALSE)&\"10:$\"&VLOOKUP($H$3,tab_z,3,FALSE)&9+NB_Personnel*28),BD!$K$3)*BD!$L$3","v":0},{"$f":"COUNTIF(INDIRECT(\"'Planning'!$\"&VLOOKUP($I$3,tab_z,2,FALSE)&\"10:$\"&VLOOKUP($I$3,tab_z,3,FALSE)&9+NB_Personnel*28),BD!$K$3)*BD!$L$3","v":0},{"$f":"COUNTIF(INDIRECT(\"'Planning'!$\"&VLOOKUP($J$3,tab_z,2,FALSE)&\"10:$\"&VLOOKUP($J$3,tab_z,3,FALSE)&9+NB_Personnel*28),BD!$K$3)*BD!$L$3","v":0},{"$f":"COUNTIF(INDIRECT(\"'Planning'!$\"&VLOOKUP($K$3,tab_z,2,FALSE)&\"10:$\"&VLOOKUP($K$3,tab_z,3,FALSE)&9+NB_Personnel*28),BD!$K$3)*BD!$L$3","v":0},{"$f":"COUNTIF(INDIRECT(\"'Planning'!$\"&VLOOKUP($L$3,tab_z,2,FALSE)&\"10:$\"&VLOOKUP($L$3,tab_z,3,FALSE)&9+NB_Personnel*28),BD!$K$3)*BD!$L$3","v":0},{"$f":"COUNTIF(INDIRECT(\"'Planning'!$\"&VLOOKUP($M$3,tab_z,2,FALSE)&\"10:$\"&VLOOKUP($M$3,tab_z,3,FALSE)&9+NB_Personnel*28),BD!$K$3)*BD!$L$3","v":0},{"$f":"COUNTIF(INDIRECT(\"'Planning'!$\"&VLOOKUP($N$3,tab_z,2,FALSE)&\"10:$\"&VLOOKUP($N$3,tab_z,3,FALSE)&9+NB_Personnel*28),BD!$K$3)*BD!$L$3","v":0},0]
[null,"Catégorie 3.3",{"$f":"COUNTIF(INDIRECT(\"'Planning'!$\"&VLOOKUP($C$3,tab_z,2,FALSE)&\"10:$\"&VLOOKUP($C$3,tab_z,3,FALSE)&9+NB_Personnel*28),BD!$K$4)*BD!$L$4","v":0},{"$f":"COUNTIF(INDIRECT(\"'Planning'!$\"&VLOOKUP($D$3,tab_z,2,FALSE)&\"10:$\"&VLOOKUP($D$3,tab_z,3,FALSE)&9+NB_Personnel*28),BD!$K$4)*BD!$L$4","v":0},{"$f":"COUNTIF(INDIRECT(\"'Planning'!$\"&VLOOKUP($E$3,tab_z,2,FALSE)&\"10:$\"&VLOOKUP($E$3,tab_z,3,FALSE)&9+NB_Personnel*28),BD!$K$4)*BD!$L$4","v":0},{"$f":"COUNTIF(INDIRECT(\"'Planning'!$\"&VLOOKUP($F$3,tab_z,2,FALSE)&\"10:$\"&VLOOKUP($F$3,tab_z,3,FALSE)&9+NB_Personnel*28),BD!$K$4)*BD!$L$4","v":0},{"$f":"COUNTIF(INDIRECT(\"'Planning'!$\"&VLOOKUP($G$3,tab_z,2,FALSE)&\"10:$\"&VLOOKUP($G$3,tab_z,3,FALSE)&9+NB_Personnel*28),BD!$K$4)*BD!$L$4","v":0},{"$f":"COUNTIF(INDIRECT(\"'Planning'!$\"&VLOOKUP($H$3,tab_z,2,FALSE)&\"10:$\"&VLOOKUP($H$3,tab_z,3,FALSE)&9+NB_Personnel*28),BD!$K$4)*BD!$L$4","v":0},{"$f":"COUNTIF(INDIRECT(\"'Planning'!$\"&VLOOKUP($I$3,tab_z,2,FALSE)&\"10:$\"&VLOOKUP($I$3,tab_z,3,FALSE)&9+NB_Personnel*28),BD!$K$4)*BD!$L$4","v":0},{"$f":"COUNTIF(INDIRECT(\"'Planning'!$\"&VLOOKUP($J$3,tab_z,2,FALSE)&\"10:$\"&VLOOKUP($J$3,tab_z,3,FALSE)&9+NB_Personnel*28),BD!$K$4)*BD!$L$4","v":0},{"$f":"COUNTIF(INDIRECT(\"'Planning'!$\"&VLOOKUP($K$3,tab_z,2,FALSE)&\"10:$\"&VLOOKUP($K$3,tab_z,3,FALSE)&9+NB_Personnel*28),BD!$K$4)*BD!$L$4","v":0},{"$f":"COUNTIF(INDIRECT(\"'Planning'!$\"&VLOOKUP($L$3,tab_z,2,FALSE)&\"10:$\"&VLOOKUP($L$3,tab_z,3,FALSE)&9+NB_Personnel*28),BD!$K$4)*BD!$L$4","v":0},{"$f":"COUNTIF(INDIRECT(\"'Planning'!$\"&VLOOKUP($M$3,tab_z,2,FALSE)&\"10:$\"&VLOOKUP($M$3,tab_z,3,FALSE)&9+NB_Personnel*28),BD!$K$4)*BD!$L$4","v":0},{"$f":"COUNTIF(INDIRECT(\"'Planning'!$\"&VLOOKUP($N$3,tab_z,2,FALSE)&\"10:$\"&VLOOKUP($N$3,tab_z,3,FALSE)&9+NB_Personnel*28),BD!$K$4)*BD!$L$4","v":0},0]
[null,"Catégorie 3.4",{"$f":"COUNTIF(INDIRECT(\"'Planning'!$\"&VLOOKUP($C$3,tab_z,2,FALSE)&\"10:$\"&VLOOKUP($C$3,tab_z,3,FALSE)&9+NB_Personnel*28),BD!$K$5)*BD!$L$5","v":0},{"$f":"COUNTIF(INDIRECT(\"'Planning'!$\"&VLOOKUP($D$3,tab_z,2,FALSE)&\"10:$\"&VLOOKUP($D$3,tab_z,3,FALSE)&9+NB_Personnel*28),BD!$K$5)*BD!$L$5","v":0},{"$f":"COUNTIF(INDIRECT(\"'Planning'!$\"&VLOOKUP($E$3,tab_z,2,FALSE)&\"10:$\"&VLOOKUP($E$3,tab_z,3,FALSE)&9+NB_Personnel*28),BD!$K$5)*BD!$L$5","v":0},{"$f":"COUNTIF(INDIRECT(\"'Planning'!$\"&VLOOKUP($F$3,tab_z,2,FALSE)&\"10:$\"&VLOOKUP($F$3,tab_z,3,FALSE)&9+NB_Personnel*28),BD!$K$5)*BD!$L$5","v":0},{"$f":"COUNTIF(INDIRECT(\"'Planning'!$\"&VLOOKUP($G$3,tab_z,2,FALSE)&\"10:$\"&VLOOKUP($G$3,tab_z,3,FALSE)&9+NB_Personnel*28),BD!$K$5)*BD!$L$5","v":0},{"$f":"COUNTIF(INDIRECT(\"'Planning'!$\"&VLOOKUP($H$3,tab_z,2,FALSE)&\"10:$\"&VLOOKUP($H$3,tab_z,3,FALSE)&9+NB_Personnel*28),BD!$K$5)*BD!$L$5","v":0},{"$f":"COUNTIF(INDIRECT(\"'Planning'!$\"&VLOOKUP($I$3,tab_z,2,FALSE)&\"10:$\"&VLOOKUP($I$3,tab_z,3,FALSE)&9+NB_Personnel*28),BD!$K$5)*BD!$L$5","v":0},{"$f":"COUNTIF(INDIRECT(\"'Planning'!$\"&VLOOKUP($J$3,tab_z,2,FALSE)&\"10:$\"&VLOOKUP($J$3,tab_z,3,FALSE)&9+NB_Personnel*28),BD!$K$5)*BD!$L$5","v":0},{"$f":"COUNTIF(INDIRECT(\"'Planning'!$\"&VLOOKUP($K$3,tab_z,2,FALSE)&\"10:$\"&VLOOKUP($K$3,tab_z,3,FALSE)&9+NB_Personnel*28),BD!$K$5)*BD!$L$5","v":0},{"$f":"COUNTIF(INDIRECT(\"'Planning'!$\"&VLOOKUP($L$3,tab_z,2,FALSE)&\"10:$\"&VLOOKUP($L$3,tab_z,3,FALSE)&9+NB_Personnel*28),BD!$K$5)*BD!$L$5","v":0},{"$f":"COUNTIF(INDIRECT(\"'Planning'!$\"&VLOOKUP($M$3,tab_z,2,FALSE)&\"10:$\"&VLOOKUP($M$3,tab_z,3,FALSE)&9+NB_Personnel*28),BD!$K$5)*BD!$L$5","v":0},{"$f":"COUNTIF(INDIRECT(\"'Planning'!$\"&VLOOKUP($N$3,tab_z,2,FALSE)&\"10:$\"&VLOOKUP($N$3,tab_z,3,FALSE)&9+NB_Personnel*28),BD!$K$5)*BD!$L$5","v":0},0]
[null,"Catégorie 3.5",{"$f":"COUNTIF(INDIRECT(\"'Planning'!$\"&VLOOKUP($C$3,tab_z,2,FALSE)&\"10:$\"&VLOOKUP($C$3,tab_z,3,FALSE)&9+NB_Personnel*28),BD!$K$6)*BD!$L$6","v":0},{"$f":"COUNTIF(INDIRECT(\"'Planning'!$\"&VLOOKUP($D$3,tab_z,2,FALSE)&\"10:$\"&VLOOKUP($D$3,tab_z,3,FALSE)&9+NB_Personnel*28),BD!$K$6)*BD!$L$6","v":0},{"$f":"COUNTIF(INDIRECT(\"'Planning'!$\"&VLOOKUP($E$3,tab_z,2,FALSE)&\"10:$\"&VLOOKUP($E$3,tab_z,3,FALSE)&9+NB_Personnel*28),BD!$K$6)*BD!$L$6","v":0},{"$f":"COUNTIF(INDIRECT(\"'Planning'!$\"&VLOOKUP($F$3,tab_z,2,FALSE)&\"10:$\"&VLOOKUP($F$3,tab_z,3,FALSE)&9+NB_Personnel*28),BD!$K$6)*BD!$L$6","v":0},{"$f":"COUNTIF(INDIRECT(\"'Planning'!$\"&VLOOKUP($G$3,tab_z,2,FALSE)&\"10:$\"&VLOOKUP($G$3,tab_z,3,FALSE)&9+NB_Personnel*28),BD!$K$6)*BD!$L$6","v":0},{"$f":"COUNTIF(INDIRECT(\"'Planning'!$\"&VLOOKUP($H$3,tab_z,2,FALSE)&\"10:$\"&VLOOKUP($H$3,tab_z,3,FALSE)&9+NB_Personnel*28),BD!$K$6)*BD!$L$6","v":0},{"$f":"COUNTIF(INDIRECT(\"'Planning'!$\"&VLOOKUP($I$3,tab_z,2,FALSE)&\"10:$\"&VLOOKUP($I$3,tab_z,3,FALSE)&9+NB_Personnel*28),BD!$K$6)*BD!$L$6","v":0},{"$f":"COUNTIF(INDIRECT(\"'Planning'!$\"&VLOOKUP($J$3,tab_z,2,FALSE)&\"10:$\"&VLOOKUP($J$3,tab_z,3,FALSE)&9+NB_Personnel*28),BD!$K$6)*BD!$L$6","v":0},{"$f":"COUNTIF(INDIRECT(\"'Planning'!$\"&VLOOKUP($K$3,tab_z,2,FALSE)&\"10:$\"&VLOOKUP($K$3,tab_z,3,FALSE)&9+NB_Personnel*28),BD!$K$6)*BD!$L$6","v":0},{"$f":"COUNTIF(INDIRECT(\"'Planning'!$\"&VLOOKUP($L$3,tab_z,2,FALSE)&\"10:$\"&VLOOKUP($L$3,tab_z,3,FALSE)&9+NB_Personnel*28),BD!$K$6)*BD!$L$6","v":0},{"$f":"COUNTIF(INDIRECT(\"'Planning'!$\"&VLOOKUP($M$3,tab_z,2,FALSE)&\"10:$\"&VLOOKUP($M$3,tab_z,3,FALSE)&9+NB_Personnel*28),BD!$K$6)*BD!$L$6","v":0},{"$f":"COUNTIF(INDIRECT(\"'Planning'!$\"&VLOOKUP($N$3,tab_z,2,FALSE)&\"10:$\"&VLOOKUP($N$3,tab_z,3,FALSE)&9+NB_Personnel*28),BD!$K$6)*BD!$L$6","v":0},0]
[null,"Catégorie 3.6",{"$f":"COUNTIF(INDIRECT(\"'Planning'!$\"&VLOOKUP($C$3,tab_z,2,FALSE)&\"10:$\"&VLOOKUP($C$3,tab_z,3,FALSE)&9+NB_Personnel*28),BD!$K$7)*BD!$L$7","v":0},{"$f":"COUNTIF(INDIRECT(\"'Planning'!$\"&VLOOKUP($D$3,tab_z,2,FALSE)&\"10:$\"&VLOOKUP($D$3,tab_z,3,FALSE)&9+NB_Personnel*28),BD!$K$7)*BD!$L$7","v":0},{"$f":"COUNTIF(INDIRECT(\"'Planning'!$\"&VLOOKUP($E$3,tab_z,2,FALSE)&\"10:$\"&VLOOKUP($E$3,tab_z,3,FALSE)&9+NB_Personnel*28),BD!$K$7)*BD!$L$7","v":0},{"$f":"COUNTIF(INDIRECT(\"'Planning'!$\"&VLOOKUP($F$3,tab_z,2,FALSE)&\"10:$\"&VLOOKUP($F$3,tab_z,3,FALSE)&9+NB_Personnel*28),BD!$K$7)*BD!$L$7","v":0},{"$f":"COUNTIF(INDIRECT(\"'Planning'!$\"&VLOOKUP($G$3,tab_z,2,FALSE)&\"10:$\"&VLOOKUP($G$3,tab_z,3,FALSE)&9+NB_Personnel*28),BD!$K$7)*BD!$L$7","v":0},{"$f":"COUNTIF(INDIRECT(\"'Planning'!$\"&VLOOKUP($H$3,tab_z,2,FALSE)&\"10:$\"&VLOOKUP($H$3,tab_z,3,FALSE)&9+NB_Personnel*28),BD!$K$7)*BD!$L$7","v":0},{"$f":"COUNTIF(INDIRECT(\"'Planning'!$\"&VLOOKUP($I$3,tab_z,2,FALSE)&\"10:$\"&VLOOKUP($I$3,tab_z,3,FALSE)&9+NB_Personnel*28),BD!$K$7)*BD!$L$7","v":0},{"$f":"COUNTIF(INDIRECT(\"'Planning'!$\"&VLOOKUP($J$3,tab_z,2,FALSE)&\"10:$\"&VLOOKUP($J$3,tab_z,3,FALSE)&9+NB_Personnel*28),BD!$K$7)*BD!$L$7","v":0},{"$f":"COUNTIF(INDIRECT(\"'Planning'!$\"&VLOOKUP($K$3,tab_z,2,FALSE)&\"10:$\"&VLOOKUP($K$3,tab_z,3,FALSE)&9+NB_Personnel*28),BD!$K$7)*BD!$L$7","v":0},{"$f":"COUNTIF(INDIRECT(\"'Planning'!$\"&VLOOKUP($L$3,tab_z,2,FALSE)&\"10:$\"&VLOOKUP($L$3,tab_z,3,FALSE)&9+NB_Personnel*28),BD!$K$7)*BD!$L$7","v":0},{"$f":"COUNTIF(INDIRECT(\"'Planning'!$\"&VLOOKUP($M$3,tab_z,2,FALSE)&\"10:$\"&VLOOKUP($M$3,tab_z,3,FALSE)&9+NB_Personnel*28),BD!$K$7)*BD!$L$7","v":0},{"$f":"COUNTIF(INDIRECT(\"'Planning'!$\"&VLOOKUP($N$3,tab_z,2,FALSE)&\"10:$\"&VLOOKUP($N$3,tab_z,3,FALSE)&9+NB_Personnel*28),BD!$K$7)*BD!$L$7","v":0},0]
[null,"Catégorie 3.1",{"$f":"COUNTIF(INDIRECT(\"'Planning'!$\"&VLOOKUP($C$3,tab_z,2,FALSE)&\"10:$\"&VLOOKUP($C$3,tab_z,3,FALSE)&9+NB_Personnel*28),BD!$K$8)*BD!$L$8","v":0},{"$f":"COUNTIF(INDIRECT(\"'Planning'!$\"&VLOOKUP($D$3,tab_z,2,FALSE)&\"10:$\"&VLOOKUP($D$3,tab_z,3,FALSE)&9+NB_Personnel*28),BD!$K$8)*BD!$L$8","v":0},{"$f":"COUNTIF(INDIRECT(\"'Planning'!$\"&VLOOKUP($E$3,tab_z,2,FALSE)&\"10:$\"&VLOOKUP($E$3,tab_z,3,FALSE)&9+NB_Personnel*28),BD!$K$8)*BD!$L$8","v":0},{"$f":"COUNTIF(INDIRECT(\"'Planning'!$\"&VLOOKUP($F$3,tab_z,2,FALSE)&\"10:$\"&VLOOKUP($F$3,tab_z,3,FALSE)&9+NB_Personnel*28),BD!$K$8)*BD!$L$8","v":0},{"$f":"COUNTIF(INDIRECT(\"'Planning'!$\"&VLOOKUP($G$3,tab_z,2,FALSE)&\"10:$\"&VLOOKUP($G$3,tab_z,3,FALSE)&9+NB_Personnel*28),BD!$K$8)*BD!$L$8","v":0},{"$f":"COUNTIF(INDIRECT(\"'Planning'!$\"&VLOOKUP($H$3,tab_z,2,FALSE)&\"10:$\"&VLOOKUP($H$3,tab_z,3,FALSE)&9+NB_Personnel*28),BD!$K$8)*BD!$L$8","v":0},{"$f":"COUNTIF(INDIRECT(\"'Planning'!$\"&VLOOKUP($I$3,tab_z,2,FALSE)&\"10:$\"&VLOOKUP($I$3,tab_z,3,FALSE)&9+NB_Personnel*28),BD!$K$8)*BD!$L$8","v":0},{"$f":"COUNTIF(INDIRECT(\"'Planning'!$\"&VLOOKUP($J$3,tab_z,2,FALSE)&\"10:$\"&VLOOKUP($J$3,tab_z,3,FALSE)&9+NB_Personnel*28),BD!$K$8)*BD!$L$8","v":0},{"$f":"COUNTIF(INDIRECT(\"'Planning'!$\"&VLOOKUP($K$3,tab_z,2,FALSE)&\"10:$\"&VLOOKUP($K$3,tab_z,3,FALSE)&9+NB_Personnel*28),BD!$K$8)*BD!$L$8","v":0},{"$f":"COUNTIF(INDIRECT(\"'Planning'!$\"&VLOOKUP($L$3,tab_z,2,FALSE)&\"10:$\"&VLOOKUP($L$3,tab_z,3,FALSE)&9+NB_Personnel*28),BD!$K$8)*BD!$L$8","v":0},{"$f":"COUNTIF(INDIRECT(\"'Planning'!$\"&VLOOKUP($M$3,tab_z,2,FALSE)&\"10:$\"&VLOOKUP($M$3,tab_z,3,FALSE)&9+NB_Personnel*28),BD!$K$8)*BD!$L$8","v":0},{"$f":"COUNTIF(INDIRECT(\"'Planning'!$\"&VLOOKUP($N$3,tab_z,2,FALSE)&\"10:$\"&VLOOKUP($N$3,tab_z,3,FALSE)&9+NB_Personnel*28),BD!$K$8)*BD!$L$8","v":0},{"$f":"SUM(C36:N36)","v":0}]
[null,"Catégorie 3.2",{"$f":"COUNTIF(INDIRECT(\"'Planning'!$\"&VLOOKUP($C$3,tab_z,2,FALSE)&\"10:$\"&VLOOKUP($C$3,tab_z,3,FALSE)&9+NB_Personnel*28),BD!$K$9)*BD!$L$9","v":0},{"$f":"COUNTIF(INDIRECT(\"'Planning'!$\"&VLOOKUP($D$3,tab_z,2,FALSE)&\"10:$\"&VLOOKUP($D$3,tab_z,3,FALSE)&9+NB_Personnel*28),BD!$K$9)*BD!$L$9","v":0},{"$f":"COUNTIF(INDIRECT(\"'Planning'!$\"&VLOOKUP($E$3,tab_z,2,FALSE)&\"10:$\"&VLOOKUP($E$3,tab_z,3,FALSE)&9+NB_Personnel*28),BD!$K$9)*BD!$L$9","v":0},{"$f":"COUNTIF(INDIRECT(\"'Planning'!$\"&VLOOKUP($F$3,tab_z,2,FALSE)&\"10:$\"&VLOOKUP($F$3,tab_z,3,FALSE)&9+NB_Personnel*28),BD!$K$9)*BD!$L$9","v":0},{"$f":"COUNTIF(INDIRECT(\"'Planning'!$\"&VLOOKUP($G$3,tab_z,2,FALSE)&\"10:$\"&VLOOKUP($G$3,tab_z,3,FALSE)&9+NB_Personnel*28),BD!$K$9)*BD!$L$9","v":0},{"$f":"COUNTIF(INDIRECT(\"'Planning'!$\"&VLOOKUP($H$3,tab_z,2,FALSE)&\"10:$\"&VLOOKUP($H$3,tab_z,3,FALSE)&9+NB_Personnel*28),BD!$K$9)*BD!$L$9","v":0},{"$f":"COUNTIF(INDIRECT(\"'Planning'!$\"&VLOOKUP($I$3,tab_z,2,FALSE)&\"10:$\"&VLOOKUP($I$3,tab_z,3,FALSE)&9+NB_Personnel*28),BD!$K$9)*BD!$L$9","v":0},{"$f":"COUNTIF(INDIRECT(\"'Planning'!$\"&VLOOKUP($J$3,tab_z,2,FALSE)&\"10:$\"&VLOOKUP($J$3,tab_z,3,FALSE)&9+NB_Personnel*28),BD!$K$9)*BD!$L$9","v":0},{"$f":"COUNTIF(INDIRECT(\"'Planning'!$\"&VLOOKUP($K$3,tab_z,2,FALSE)&\"10:$\"&VLOOKUP($K$3,tab_z,3,FALSE)&9+NB_Personnel*28),BD!$K$9)*BD!$L$9","v":0},{"$f":"COUNTIF(INDIRECT(\"'Planning'!$\"&VLOOKUP($L$3,tab_z,2,FALSE)&\"10:$\"&VLOOKUP($L$3,tab_z,3,FALSE)&9+NB_Personnel*28),BD!$K$9)*BD!$L$9","v":0},{"$f":"COUNTIF(INDIRECT(\"'Planning'!$\"&VLOOKUP($M$3,tab_z,2,FALSE)&\"10:$\"&VLOOKUP($M$3,tab_z,3,FALSE)&9+NB_Personnel*28),BD!$K$9)*BD!$L$9","v":0},{"$f":"COUNTIF(INDIRECT(\"'Planning'!$\"&VLOOKUP($N$3,tab_z,2,FALSE)&\"10:$\"&VLOOKUP($N$3,tab_z,3,FALSE)&9+NB_Personnel*28),BD!$K$9)*BD!$L$9","v":0},0]
[null,"Catégorie 3.3",{"$f":"COUNTIF(INDIRECT(\"'Planning'!$\"&VLOOKUP($C$3,tab_z,2,FALSE)&\"10:$\"&VLOOKUP($C$3,tab_z,3,FALSE)&9+NB_Personnel*28),BD!$K$10)*BD!$L$10","v":0},{"$f":"COUNTIF(INDIRECT(\"'Planning'!$\"&VLOOKUP($D$3,tab_z,2,FALSE)&\"10:$\"&VLOOKUP($D$3,tab_z,3,FALSE)&9+NB_Personnel*28),BD!$K$10)*BD!$L$10","v":0},{"$f":"COUNTIF(INDIRECT(\"'Planning'!$\"&VLOOKUP($E$3,tab_z,2,FALSE)&\"10:$\"&VLOOKUP($E$3,tab_z,3,FALSE)&9+NB_Personnel*28),BD!$K$10)*BD!$L$10","v":0},{"$f":"COUNTIF(INDIRECT(\"'Planning'!$\"&VLOOKUP($F$3,tab_z,2,FALSE)&\"10:$\"&VLOOKUP($F$3,tab_z,3,FALSE)&9+NB_Personnel*28),BD!$K$10)*BD!$L$10","v":0},{"$f":"COUNTIF(INDIRECT(\"'Planning'!$\"&VLOOKUP($G$3,tab_z,2,FALSE)&\"10:$\"&VLOOKUP($G$3,tab_z,3,FALSE)&9+NB_Personnel*28),BD!$K$10)*BD!$L$10","v":0},{"$f":"COUNTIF(INDIRECT(\"'Planning'!$\"&VLOOKUP($H$3,tab_z,2,FALSE)&\"10:$\"&VLOOKUP($H$3,tab_z,3,FALSE)&9+NB_Personnel*28),BD!$K$10)*BD!$L$10","v":0},{"$f":"COUNTIF(INDIRECT(\"'Planning'!$\"&VLOOKUP($I$3,tab_z,2,FALSE)&\"10:$\"&VLOOKUP($I$3,tab_z,3,FALSE)&9+NB_Personnel*28),BD!$K$10)*BD!$L$10","v":0},{"$f":"COUNTIF(INDIRECT(\"'Planning'!$\"&VLOOKUP($J$3,tab_z,2,FALSE)&\"10:$\"&VLOOKUP($J$3,tab_z,3,FALSE)&9+NB_Personnel*28),BD!$K$10)*BD!$L$10","v":0},{"$f":"COUNTIF(INDIRECT(\"'Planning'!$\"&VLOOKUP($K$3,tab_z,2,FALSE)&\"10:$\"&VLOOKUP($K$3,tab_z,3,FALSE)&9+NB_Personnel*28),BD!$K$10)*BD!$L$10","v":0},{"$f":"COUNTIF(INDIRECT(\"'Planning'!$\"&VLOOKUP($L$3,tab_z,2,FALSE)&\"10:$\"&VLOOKUP($L$3,tab_z,3,FALSE)&9+NB_Personnel*28),BD!$K$10)*BD!$L$10","v":0},{"$f":"COUNTIF(INDIRECT(\"'Planning'!$\"&VLOOKUP($M$3,tab_z,2,FALSE)&\"10:$\"&VLOOKUP($M$3,tab_z,3,FALSE)&9+NB_Personnel*28),BD!$K$10)*BD!$L$10","v":0},{"$f":"COUNTIF(INDIRECT(\"'Planning'!$\"&VLOOKUP($N$3,tab_z,2,FALSE)&\"10:$\"&VLOOKUP($N$3,tab_z,3,FALSE)&9+NB_Personnel*28),BD!$K$10)*BD!$L$10","v":0},0]
[null,"Catégorie 3.4",{"$f":"COUNTIF(INDIRECT(\"'Planning'!$\"&VLOOKUP($C$3,tab_z,2,FALSE)&\"10:$\"&VLOOKUP($C$3,tab_z,3,FALSE)&9+NB_Personnel*28),BD!$K$11)*BD!$L$11","v":0},{"$f":"COUNTIF(INDIRECT(\"'Planning'!$\"&VLOOKUP($D$3,tab_z,2,FALSE)&\"10:$\"&VLOOKUP($D$3,tab_z,3,FALSE)&9+NB_Personnel*28),BD!$K$11)*BD!$L$11","v":0},{"$f":"COUNTIF(INDIRECT(\"'Planning'!$\"&VLOOKUP($E$3,tab_z,2,FALSE)&\"10:$\"&VLOOKUP($E$3,tab_z,3,FALSE)&9+NB_Personnel*28),BD!$K$11)*BD!$L$11","v":0},{"$f":"COUNTIF(INDIRECT(\"'Planning'!$\"&VLOOKUP($F$3,tab_z,2,FALSE)&\"10:$\"&VLOOKUP($F$3,tab_z,3,FALSE)&9+NB_Personnel*28),BD!$K$11)*BD!$L$11","v":0},{"$f":"COUNTIF(INDIRECT(\"'Planning'!$\"&VLOOKUP($G$3,tab_z,2,FALSE)&\"10:$\"&VLOOKUP($G$3,tab_z,3,FALSE)&9+NB_Personnel*28),BD!$K$11)*BD!$L$11","v":0},{"$f":"COUNTIF(INDIRECT(\"'Planning'!$\"&VLOOKUP($H$3,tab_z,2,FALSE)&\"10:$\"&VLOOKUP($H$3,tab_z,3,FALSE)&9+NB_Personnel*28),BD!$K$11)*BD!$L$11","v":0},{"$f":"COUNTIF(INDIRECT(\"'Planning'!$\"&VLOOKUP($I$3,tab_z,2,FALSE)&\"10:$\"&VLOOKUP($I$3,tab_z,3,FALSE)&9+NB_Personnel*28),BD!$K$11)*BD!$L$11","v":0},{"$f":"COUNTIF(INDIRECT(\"'Planning'!$\"&VLOOKUP($J$3,tab_z,2,FALSE)&\"10:$\"&VLOOKUP($J$3,tab_z,3,FALSE)&9+NB_Personnel*28),BD!$K$11)*BD!$L$11","v":0},{"$f":"COUNTIF(INDIRECT(\"'Planning'!$\"&VLOOKUP($K$3,tab_z,2,FALSE)&\"10:$\"&VLOOKUP($K$3,tab_z,3,FALSE)&9+NB_Personnel*28),BD!$K$11)*BD!$L$11","v":0},{"$f":"COUNTIF(INDIRECT(\"'Planning'!$\"&VLOOKUP($L$3,tab_z,2,FALSE)&\"10:$\"&VLOOKUP($L$3,tab_z,3,FALSE)&9+NB_Personnel*28),BD!$K$11)*BD!$L$11","v":0},{"$f":"COUNTIF(INDIRECT(\"'Planning'!$\"&VLOOKUP($M$3,tab_z,2,FALSE)&\"10:$\"&VLOOKUP($M$3,tab_z,3,FALSE)&9+NB_Personnel*28),BD!$K$11)*BD!$L$11","v":0},{"$f":"COUNTIF(INDIRECT(\"'Planning'!$\"&VLOOKUP($N$3,tab_z,2,FALSE)&\"10:$\"&VLOOKUP($N$3,tab_z,3,FALSE)&9+NB_Personnel*28),BD!$K$11)*BD!$L$11","v":0},0]
[null,"Catégorie 3.5",{"$f":"COUNTIF(INDIRECT(\"'Planning'!$\"&VLOOKUP($C$3,tab_z,2,FALSE)&\"10:$\"&VLOOKUP($C$3,tab_z,3,FALSE)&9+NB_Personnel*28),BD!$K$12)*BD!$L$12","v":0},{"$f":"COUNTIF(INDIRECT(\"'Planning'!$\"&VLOOKUP($D$3,tab_z,2,FALSE)&\"10:$\"&VLOOKUP($D$3,tab_z,3,FALSE)&9+NB_Personnel*28),BD!$K$12)*BD!$L$12","v":0},{"$f":"COUNTIF(INDIRECT(\"'Planning'!$\"&VLOOKUP($E$3,tab_z,2,FALSE)&\"10:$\"&VLOOKUP($E$3,tab_z,3,FALSE)&9+NB_Personnel*28),BD!$K$12)*BD!$L$12","v":0},{"$f":"COUNTIF(INDIRECT(\"'Planning'!$\"&VLOOKUP($F$3,tab_z,2,FALSE)&\"10:$\"&VLOOKUP($F$3,tab_z,3,FALSE)&9+NB_Personnel*28),BD!$K$12)*BD!$L$12","v":0},{"$f":"COUNTIF(INDIRECT(\"'Planning'!$\"&VLOOKUP($G$3,tab_z,2,FALSE)&\"10:$\"&VLOOKUP($G$3,tab_z,3,FALSE)&9+NB_Personnel*28),BD!$K$12)*BD!$L$12","v":0},{"$f":"COUNTIF(INDIRECT(\"'Planning'!$\"&VLOOKUP($H$3,tab_z,2,FALSE)&\"10:$\"&VLOOKUP($H$3,tab_z,3,FALSE)&9+NB_Personnel*28),BD!$K$12)*BD!$L$12","v":0},{"$f":"COUNTIF(INDIRECT(\"'Planning'!$\"&VLOOKUP($I$3,tab_z,2,FALSE)&\"10:$\"&VLOOKUP($I$3,tab_z,3,FALSE)&9+NB_Personnel*28),BD!$K$12)*BD!$L$12","v":0},{"$f":"COUNTIF(INDIRECT(\"'Planning'!$\"&VLOOKUP($J$3,tab_z,2,FALSE)&\"10:$\"&VLOOKUP($J$3,tab_z,3,FALSE)&9+NB_Personnel*28),BD!$K$12)*BD!$L$12","v":0},{"$f":"COUNTIF(INDIRECT(\"'Planning'!$\"&VLOOKUP($K$3,tab_z,2,FALSE)&\"10:$\"&VLOOKUP($K$3,tab_z,3,FALSE)&9+NB_Personnel*28),BD!$K$12)*BD!$L$12","v":0},{"$f":"COUNTIF(INDIRECT(\"'Planning'!$\"&VLOOKUP($L$3,tab_z,2,FALSE)&\"10:$\"&VLOOKUP($L$3,tab_z,3,FALSE)&9+NB_Personnel*28),BD!$K$12)*BD!$L$12","v":0},{"$f":"COUNTIF(INDIRECT(\"'Planning'!$\"&VLOOKUP($M$3,tab_z,2,FALSE)&\"10:$\"&VLOOKUP($M$3,tab_z,3,FALSE)&9+NB_Personnel*28),BD!$K$12)*BD!$L$12","v":0},{"$f":"COUNTIF(INDIRECT(\"'Planning'!$\"&VLOOKUP($N$3,tab_z,2,FALSE)&\"10:$\"&VLOOKUP($N$3,tab_z,3,FALSE)&9+NB_Personnel*28),BD!$K$12)*BD!$L$12","v":0},0]
[null,"Catégorie 3.6",{"$f":"COUNTIF(INDIRECT(\"'Planning'!$\"&VLOOKUP($C$3,tab_z,2,FALSE)&\"10:$\"&VLOOKUP($C$3,tab_z,3,FALSE)&9+NB_Personnel*28),BD!$K$13)*BD!$L$13","v":0},{"$f":"COUNTIF(INDIRECT(\"'Planning'!$\"&VLOOKUP($D$3,tab_z,2,FALSE)&\"10:$\"&VLOOKUP($D$3,tab_z,3,FALSE)&9+NB_Personnel*28),BD!$K$13)*BD!$L$13","v":0},{"$f":"COUNTIF(INDIRECT(\"'Planning'!$\"&VLOOKUP($E$3,tab_z,2,FALSE)&\"10:$\"&VLOOKUP($E$3,tab_z,3,FALSE)&9+NB_Personnel*28),BD!$K$13)*BD!$L$13","v":0},{"$f":"COUNTIF(INDIRECT(\"'Planning'!$\"&VLOOKUP($F$3,tab_z,2,FALSE)&\"10:$\"&VLOOKUP($F$3,tab_z,3,FALSE)&9+NB_Personnel*28),BD!$K$13)*BD!$L$13","v":0},{"$f":"COUNTIF(INDIRECT(\"'Planning'!$\"&VLOOKUP($G$3,tab_z,2,FALSE)&\"10:$\"&VLOOKUP($G$3,tab_z,3,FALSE)&9+NB_Personnel*28),BD!$K$13)*BD!$L$13","v":0},{"$f":"COUNTIF(INDIRECT(\"'Planning'!$\"&VLOOKUP($H$3,tab_z,2,FALSE)&\"10:$\"&VLOOKUP($H$3,tab_z,3,FALSE)&9+NB_Personnel*28),BD!$K$13)*BD!$L$13","v":0},{"$f":"COUNTIF(INDIRECT(\"'Planning'!$\"&VLOOKUP($I$3,tab_z,2,FALSE)&\"10:$\"&VLOOKUP($I$3,tab_z,3,FALSE)&9+NB_Personnel*28),BD!$K$13)*BD!$L$13","v":0},{"$f":"COUNTIF(INDIRECT(\"'Planning'!$\"&VLOOKUP($J$3,tab_z,2,FALSE)&\"10:$\"&VLOOKUP($J$3,tab_z,3,FALSE)&9+NB_Personnel*28),BD!$K$13)*BD!$L$13","v":0},{"$f":"COUNTIF(INDIRECT(\"'Planning'!$\"&VLOOKUP($K$3,tab_z,2,FALSE)&\"10:$\"&VLOOKUP($K$3,tab_z,3,FALSE)&9+NB_Personnel*28),BD!$K$13)*BD!$L$13","v":0},{"$f":"COUNTIF(INDIRECT(\"'Planning'!$\"&VLOOKUP($L$3,tab_z,2,FALSE)&\"10:$\"&VLOOKUP($L$3,tab_z,3,FALSE)&9+NB_Personnel*28),BD!$K$13)*BD!$L$13","v":0},{"$f":"COUNTIF(INDIRECT(\"'Planning'!$\"&VLOOKUP($M$3,tab_z,2,FALSE)&\"10:$\"&VLOOKUP($M$3,tab_z,3,FALSE)&9+NB_Personnel*28),BD!$K$13)*BD!$L$13","v":0},{"$f":"COUNTIF(INDIRECT(\"'Planning'!$\"&VLOOKUP($N$3,tab_z,2,FALSE)&\"10:$\"&VLOOKUP($N$3,tab_z,3,FALSE)&9+NB_Personnel*28),BD!$K$13)*BD!$L$13","v":0},0]
["Rubrique 4","Catégorie 4.1",{"$f":"COUNTIF(INDIRECT(\"'Planning'!$\"&VLOOKUP($C$3,tab_z,2,FALSE)&\"10:$\"&VLOOKUP($C$3,tab_z,3,FALSE)&9+NB_Personnel*28),BD!$N$2)*BD!$O$2","v":0},{"$f":"COUNTIF(INDIRECT(\"'Planning'!$\"&VLOOKUP($D$3,tab_z,2,FALSE)&\"10:$\"&VLOOKUP($D$3,tab_z,3,FALSE)&9+NB_Personnel*28),BD!$N$2)*BD!$O$2","v":0},{"$f":"COUNTIF(INDIRECT(\"'Planning'!$\"&VLOOKUP($E$3,tab_z,2,FALSE)&\"10:$\"&VLOOKUP($E$3,tab_z,3,FALSE)&9+NB_Personnel*28),BD!$N$2)*BD!$O$2","v":0},{"$f":"COUNTIF(INDIRECT(\"'Planning'!$\"&VLOOKUP($F$3,tab_z,2,FALSE)&\"10:$\"&VLOOKUP($F$3,tab_z,3,FALSE)&9+NB_Personnel*28),BD!$N$2)*BD!$O$2","v":0},{"$f":"COUNTIF(INDIRECT(\"'Planning'!$\"&VLOOKUP($G$3,tab_z,2,FALSE)&\"10:$\"&VLOOKUP($G$3,tab_z,3,FALSE)&9+NB_Personnel*28),BD!$N$2)*BD!$O$2","v":0},{"$f":"COUNTIF(INDIRECT(\"'Planning'!$\"&VLOOKUP($H$3,tab_z,2,FALSE)&\"10:$\"&VLOOKUP($H$3,tab_z,3,FALSE)&9+NB_Personnel*28),BD!$N$2)*BD!$O$2","v":0},{"$f":"COUNTIF(INDIRECT(\"'Planning'!$\"&VLOOKUP($I$3,tab_z,2,FALSE)&\"10:$\"&VLOOKUP($I$3,tab_z,3,FALSE)&9+NB_Personnel*28),BD!$N$2)*BD!$O$2","v":0},{"$f":"COUNTIF(INDIRECT(\"'Planning'!$\"&VLOOKUP($J$3,tab_z,2,FALSE)&\"10:$\"&VLOOKUP($J$3,tab_z,3,FALSE)&9+NB_Personnel*28),BD!$N$2)*BD!$O$2","v":0},{"$f":"COUNTIF(INDIRECT(\"'Planning'!$\"&VLOOKUP($K$3,tab_z,2,FALSE)&\"10:$\"&VLOOKUP($K$3,tab_z,3,FALSE)&9+NB_Personnel*28),BD!$N$2)*BD!$O$2","v":0},{"$f":"COUNTIF(INDIRECT(\"'Planning'!$\"&VLOOKUP($L$3,tab_z,2,FALSE)&\"10:$\"&VLOOKUP($L$3,tab_z,3,FALSE)&9+NB_Personnel*28),BD!$N$2)*BD!$O$2","v":0},{"$f":"COUNTIF(INDIRECT(\"'Planning'!$\"&VLOOKUP($M$3,tab_z,2,FALSE)&\"10:$\"&VLOOKUP($M$3,tab_z,3,FALSE)&9+NB_Personnel*28),BD!$N$2)*BD!$O$2","v":0},{"$f":"COUNTIF(INDIRECT(\"'Planning'!$\"&VLOOKUP($N$3,tab_z,2,FALSE)&\"10:$\"&VLOOKUP($N$3,tab_z,3,FALSE)&9+NB_Personnel*28),BD!$N$2)*BD!$O$2","v":0},0]
[null,"Catégorie 4.2",{"$f":"COUNTIF(INDIRECT(\"'Planning'!$\"&VLOOKUP($C$3,tab_z,2,FALSE)&\"10:$\"&VLOOKUP($C$3,tab_z,3,FALSE)&9+NB_Personnel*28),BD!$N$3)*BD!$O$3","v":0},{"$f":"COUNTIF(INDIRECT(\"'Planning'!$\"&VLOOKUP($D$3,tab_z,2,FALSE)&\"10:$\"&VLOOKUP($D$3,tab_z,3,FALSE)&9+NB_Personnel*28),BD!$N$3)*BD!$O$3","v":0},{"$f":"COUNTIF(INDIRECT(\"'Planning'!$\"&VLOOKUP($E$3,tab_z,2,FALSE)&\"10:$\"&VLOOKUP($E$3,tab_z,3,FALSE)&9+NB_Personnel*28),BD!$N$3)*BD!$O$3","v":0},{"$f":"COUNTIF(INDIRECT(\"'Planning'!$\"&VLOOKUP($F$3,tab_z,2,FALSE)&\"10:$\"&VLOOKUP($F$3,tab_z,3,FALSE)&9+NB_Personnel*28),BD!$N$3)*BD!$O$3","v":0},{"$f":"COUNTIF(INDIRECT(\"'Planning'!$\"&VLOOKUP($G$3,tab_z,2,FALSE)&\"10:$\"&VLOOKUP($G$3,tab_z,3,FALSE)&9+NB_Personnel*28),BD!$N$3)*BD!$O$3","v":0},{"$f":"COUNTIF(INDIRECT(\"'Planning'!$\"&VLOOKUP($H$3,tab_z,2,FALSE)&\"10:$\"&VLOOKUP($H$3,tab_z,3,FALSE)&9+NB_Personnel*28),BD!$N$3)*BD!$O$3","v":0},{"$f":"COUNTIF(INDIRECT(\"'Planning'!$\"&VLOOKUP($I$3,tab_z,2,FALSE)&\"10:$\"&VLOOKUP($I$3,tab_z,3,FALSE)&9+NB_Personnel*28),BD!$N$3)*BD!$O$3","v":0},{"$f":"COUNTIF(INDIRECT(\"'Planning'!$\"&VLOOKUP($J$3,tab_z,2,FALSE)&\"10:$\"&VLOOKUP($J$3,tab_z,3,FALSE)&9+NB_Personnel*28),BD!$N$3)*BD!$O$3","v":0},{"$f":"COUNTIF(INDIRECT(\"'Planning'!$\"&VLOOKUP($K$3,tab_z,2,FALSE)&\"10:$\"&VLOOKUP($K$3,tab_z,3,FALSE)&9+NB_Personnel*28),BD!$N$3)*BD!$O$3","v":0},{"$f":"COUNTIF(INDIRECT(\"'Planning'!$\"&VLOOKUP($L$3,tab_z,2,FALSE)&\"10:$\"&VLOOKUP($L$3,tab_z,3,FALSE)&9+NB_Personnel*28),BD!$N$3)*BD!$O$3","v":0},{"$f":"COUNTIF(INDIRECT(\"'Planning'!$\"&VLOOKUP($M$3,tab_z,2,FALSE)&\"10:$\"&VLOOKUP($M$3,tab_z,3,FALSE)&9+NB_Personnel*28),BD!$N$3)*BD!$O$3","v":0},{"$f":"COUNTIF(INDIRECT(\"'Planning'!$\"&VLOOKUP($N$3,tab_z,2,FALSE)&\"10:$\"&VLOOKUP($N$3,tab_z,3,FALSE)&9+NB_Personnel*28),BD!$N$3)*BD!$O$3","v":0},0]
[null,"Catégorie 4.3",{"$f":"COUNTIF(INDIRECT(\"'Planning'!$\"&VLOOKUP($C$3,tab_z,2,FALSE)&\"10:$\"&VLOOKUP($C$3,tab_z,3,FALSE)&9+NB_Personnel*28),BD!$N$4)*BD!$O$4","v":0},{"$f":"COUNTIF(INDIRECT(\"'Planning'!$\"&VLOOKUP($D$3,tab_z,2,FALSE)&\"10:$\"&VLOOKUP($D$3,tab_z,3,FALSE)&9+NB_Personnel*28),BD!$N$4)*BD!$O$4","v":0},{"$f":"COUNTIF(INDIRECT(\"'Planning'!$\"&VLOOKUP($E$3,tab_z,2,FALSE)&\"10:$\"&VLOOKUP($E$3,tab_z,3,FALSE)&9+NB_Personnel*28),BD!$N$4)*BD!$O$4","v":0},{"$f":"COUNTIF(INDIRECT(\"'Planning'!$\"&VLOOKUP($F$3,tab_z,2,FALSE)&\"10:$\"&VLOOKUP($F$3,tab_z,3,FALSE)&9+NB_Personnel*28),BD!$N$4)*BD!$O$4","v":0},{"$f":"COUNTIF(INDIRECT(\"'Planning'!$\"&VLOOKUP($G$3,tab_z,2,FALSE)&\"10:$\"&VLOOKUP($G$3,tab_z,3,FALSE)&9+NB_Personnel*28),BD!$N$4)*BD!$O$4","v":0},{"$f":"COUNTIF(INDIRECT(\"'Planning'!$\"&VLOOKUP($H$3,tab_z,2,FALSE)&\"10:$\"&VLOOKUP($H$3,tab_z,3,FALSE)&9+NB_Personnel*28),BD!$N$4)*BD!$O$4","v":0},{"$f":"COUNTIF(INDIRECT(\"'Planning'!$\"&VLOOKUP($I$3,tab_z,2,FALSE)&\"10:$\"&VLOOKUP($I$3,tab_z,3,FALSE)&9+NB_Personnel*28),BD!$N$4)*BD!$O$4","v":0},{"$f":"COUNTIF(INDIRECT(\"'Planning'!$\"&VLOOKUP($J$3,tab_z,2,FALSE)&\"10:$\"&VLOOKUP($J$3,tab_z,3,FALSE)&9+NB_Personnel*28),BD!$N$4)*BD!$O$4","v":0},{"$f":"COUNTIF(INDIRECT(\"'Planning'!$\"&VLOOKUP($K$3,tab_z,2,FALSE)&\"10:$\"&VLOOKUP($K$3,tab_z,3,FALSE)&9+NB_Personnel*28),BD!$N$4)*BD!$O$4","v":0},{"$f":"COUNTIF(INDIRECT(\"'Planning'!$\"&VLOOKUP($L$3,tab_z,2,FALSE)&\"10:$\"&VLOOKUP($L$3,tab_z,3,FALSE)&9+NB_Personnel*28),BD!$N$4)*BD!$O$4","v":0},{"$f":"COUNTIF(INDIRECT(\"'Planning'!$\"&VLOOKUP($M$3,tab_z,2,FALSE)&\"10:$\"&VLOOKUP($M$3,tab_z,3,FALSE)&9+NB_Personnel*28),BD!$N$4)*BD!$O$4","v":0},{"$f":"COUNTIF(INDIRECT(\"'Planning'!$\"&VLOOKUP($N$3,tab_z,2,FALSE)&\"10:$\"&VLOOKUP($N$3,tab_z,3,FALSE)&9+NB_Personnel*28),BD!$N$4)*BD!$O$4","v":0},0]
[null,"Catégorie 4.4",{"$f":"COUNTIF(INDIRECT(\"'Planning'!$\"&VLOOKUP($C$3,tab_z,2,FALSE)&\"10:$\"&VLOOKUP($C$3,tab_z,3,FALSE)&9+NB_Personnel*28),BD!$N$5)*BD!$O$5","v":0},{"$f":"COUNTIF(INDIRECT(\"'Planning'!$\"&VLOOKUP($D$3,tab_z,2,FALSE)&\"10:$\"&VLOOKUP($D$3,tab_z,3,FALSE)&9+NB_Personnel*28),BD!$N$5)*BD!$O$5","v":0},{"$f":"COUNTIF(INDIRECT(\"'Planning'!$\"&VLOOKUP($E$3,tab_z,2,FALSE)&\"10:$\"&VLOOKUP($E$3,tab_z,3,FALSE)&9+NB_Personnel*28),BD!$N$5)*BD!$O$5","v":0},{"$f":"COUNTIF(INDIRECT(\"'Planning'!$\"&VLOOKUP($F$3,tab_z,2,FALSE)&\"10:$\"&VLOOKUP($F$3,tab_z,3,FALSE)&9+NB_Personnel*28),BD!$N$5)*BD!$O$5","v":0},{"$f":"COUNTIF(INDIRECT(\"'Planning'!$\"&VLOOKUP($G$3,tab_z,2,FALSE)&\"10:$\"&VLOOKUP($G$3,tab_z,3,FALSE)&9+NB_Personnel*28),BD!$N$5)*BD!$O$5","v":0},{"$f":"COUNTIF(INDIRECT(\"'Planning'!$\"&VLOOKUP($H$3,tab_z,2,FALSE)&\"10:$\"&VLOOKUP($H$3,tab_z,3,FALSE)&9+NB_Personnel*28),BD!$N$5)*BD!$O$5","v":0},{"$f":"COUNTIF(INDIRECT(\"'Planning'!$\"&VLOOKUP($I$3,tab_z,2,FALSE)&\"10:$\"&VLOOKUP($I$3,tab_z,3,FALSE)&9+NB_Personnel*28),BD!$N$5)*BD!$O$5","v":0},{"$f":"COUNTIF(INDIRECT(\"'Planning'!$\"&VLOOKUP($J$3,tab_z,2,FALSE)&\"10:$\"&VLOOKUP($J$3,tab_z,3,FALSE)&9+NB_Personnel*28),BD!$N$5)*BD!$O$5","v":0},{"$f":"COUNTIF(INDIRECT(\"'Planning'!$\"&VLOOKUP($K$3,tab_z,2,FALSE)&\"10:$\"&VLOOKUP($K$3,tab_z,3,FALSE)&9+NB_Personnel*28),BD!$N$5)*BD!$O$5","v":0},{"$f":"COUNTIF(INDIRECT(\"'Planning'!$\"&VLOOKUP($L$3,tab_z,2,FALSE)&\"10:$\"&VLOOKUP($L$3,tab_z,3,FALSE)&9+NB_Personnel*28),BD!$N$5)*BD!$O$5","v":0},{"$f":"COUNTIF(INDIRECT(\"'Planning'!$\"&VLOOKUP($M$3,tab_z,2,FALSE)&\"10:$\"&VLOOKUP($M$3,tab_z,3,FALSE)&9+NB_Personnel*28),BD!$N$5)*BD!$O$5","v":0},{"$f":"COUNTIF(INDIRECT(\"'Planning'!$\"&VLOOKUP($N$3,tab_z,2,FALSE)&\"10:$\"&VLOOKUP($N$3,tab_z,3,FALSE)&9+NB_Personnel*28),BD!$N$5)*BD!$O$5","v":0},0]
["Rubrique 5","Catégorie 5.1",{"$f":"COUNTIF(INDIRECT(\"'Planning'!$\"&VLOOKUP($C$3,tab_z,2,FALSE)&\"10:$\"&VLOOKUP($C$3,tab_z,3,FALSE)&9+NB_Personnel*28),BD!$Q$2)*BD!$R$2","v":0},{"$f":"COUNTIF(INDIRECT(\"'Planning'!$\"&VLOOKUP($D$3,tab_z,2,FALSE)&\"10:$\"&VLOOKUP($D$3,tab_z,3,FALSE)&9+NB_Personnel*28),BD!$Q$2)*BD!$R$2","v":0},{"$f":"COUNTIF(INDIRECT(\"'Planning'!$\"&VLOOKUP($E$3,tab_z,2,FALSE)&\"10:$\"&VLOOKUP($E$3,tab_z,3,FALSE)&9+NB_Personnel*28),BD!$Q$2)*BD!$R$2","v":0},{"$f":"COUNTIF(INDIRECT(\"'Planning'!$\"&VLOOKUP($F$3,tab_z,2,FALSE)&\"10:$\"&VLOOKUP($F$3,tab_z,3,FALSE)&9+NB_Personnel*28),BD!$Q$2)*BD!$R$2","v":0},{"$f":"COUNTIF(INDIRECT(\"'Planning'!$\"&VLOOKUP($G$3,tab_z,2,FALSE)&\"10:$\"&VLOOKUP($G$3,tab_z,3,FALSE)&9+NB_Personnel*28),BD!$Q$2)*BD!$R$2","v":0},{"$f":"COUNTIF(INDIRECT(\"'Planning'!$\"&VLOOKUP($H$3,tab_z,2,FALSE)&\"10:$\"&VLOOKUP($H$3,tab_z,3,FALSE)&9+NB_Personnel*28),BD!$Q$2)*BD!$R$2","v":0},{"$f":"COUNTIF(INDIRECT(\"'Planning'!$\"&VLOOKUP($I$3,tab_z,2,FALSE)&\"10:$\"&VLOOKUP($I$3,tab_z,3,FALSE)&9+NB_Personnel*28),BD!$Q$2)*BD!$R$2","v":0},{"$f":"COUNTIF(INDIRECT(\"'Planning'!$\"&VLOOKUP($J$3,tab_z,2,FALSE)&\"10:$\"&VLOOKUP($J$3,tab_z,3,FALSE)&9+NB_Personnel*28),BD!$Q$2)*BD!$R$2","v":0},{"$f":"COUNTIF(INDIRECT(\"'Planning'!$\"&VLOOKUP($K$3,tab_z,2,FALSE)&\"10:$\"&VLOOKUP($K$3,tab_z,3,FALSE)&9+NB_Personnel*28),BD!$Q$2)*BD!$R$2","v":0},{"$f":"COUNTIF(INDIRECT(\"'Planning'!$\"&VLOOKUP($L$3,tab_z,2,FALSE)&\"10:$\"&VLOOKUP($L$3,tab_z,3,FALSE)&9+NB_Personnel*28),BD!$Q$2)*BD!$R$2","v":0},{"$f":"COUNTIF(INDIRECT(\"'Planning'!$\"&VLOOKUP($M$3,tab_z,2,FALSE)&\"10:$\"&VLOOKUP($M$3,tab_z,3,FALSE)&9+NB_Personnel*28),BD!$Q$2)*BD!$R$2","v":0},{"$f":"COUNTIF(INDIRECT(\"'Planning'!$\"&VLOOKUP($N$3,tab_z,2,FALSE)&\"10:$\"&VLOOKUP($N$3,tab_z,3,FALSE)&9+NB_Personnel*28),BD!$Q$2)*BD!$R$2","v":0},0]
[null,"Catégorie 5.2",{"$f":"COUNTIF(INDIRECT(\"'Planning'!$\"&VLOOKUP($C$3,tab_z,2,FALSE)&\"10:$\"&VLOOKUP($C$3,tab_z,3,FALSE)&9+NB_Personnel*28),BD!$Q$3)*BD!$R$3","v":0},{"$f":"COUNTIF(INDIRECT(\"'Planning'!$\"&VLOOKUP($D$3,tab_z,2,FALSE)&\"10:$\"&VLOOKUP($D$3,tab_z,3,FALSE)&9+NB_Personnel*28),BD!$Q$3)*BD!$R$3","v":0},{"$f":"COUNTIF(INDIRECT(\"'Planning'!$\"&VLOOKUP($E$3,tab_z,2,FALSE)&\"10:$\"&VLOOKUP($E$3,tab_z,3,FALSE)&9+NB_Personnel*28),BD!$Q$3)*BD!$R$3","v":0},{"$f":"COUNTIF(INDIRECT(\"'Planning'!$\"&VLOOKUP($F$3,tab_z,2,FALSE)&\"10:$\"&VLOOKUP($F$3,tab_z,3,FALSE)&9+NB_Personnel*28),BD!$Q$3)*BD!$R$3","v":0},{"$f":"COUNTIF(INDIRECT(\"'Planning'!$\"&VLOOKUP($G$3,tab_z,2,FALSE)&\"10:$\"&VLOOKUP($G$3,tab_z,3,FALSE)&9+NB_Personnel*28),BD!$Q$3)*BD!$R$3","v":0},{"$f":"COUNTIF(INDIRECT(\"'Planning'!$\"&VLOOKUP($H$3,tab_z,2,FALSE)&\"10:$\"&VLOOKUP($H$3,tab_z,3,FALSE)&9+NB_Personnel*28),BD!$Q$3)*BD!$R$3","v":0},{"$f":"COUNTIF(INDIRECT(\"'Planning'!$\"&VLOOKUP($I$3,tab_z,2,FALSE)&\"10:$\"&VLOOKUP($I$3,tab_z,3,FALSE)&9+NB_Personnel*28),BD!$Q$3)*BD!$R$3","v":0},{"$f":"COUNTIF(INDIRECT(\"'Planning'!$\"&VLOOKUP($J$3,tab_z,2,FALSE)&\"10:$\"&VLOOKUP($J$3,tab_z,3,FALSE)&9+NB_Personnel*28),BD!$Q$3)*BD!$R$3","v":0},{"$f":"COUNTIF(INDIRECT(\"'Planning'!$\"&VLOOKUP($K$3,tab_z,2,FALSE)&\"10:$\"&VLOOKUP($K$3,tab_z,3,FALSE)&9+NB_Personnel*28),BD!$Q$3)*BD!$R$3","v":0},{"$f":"COUNTIF(INDIRECT(\"'Planning'!$\"&VLOOKUP($L$3,tab_z,2,FALSE)&\"10:$\"&VLOOKUP($L$3,tab_z,3,FALSE)&9+NB_Personnel*28),BD!$Q$3)*BD!$R$3","v":0},{"$f":"COUNTIF(INDIRECT(\"'Planning'!$\"&VLOOKUP($M$3,tab_z,2,FALSE)&\"10:$\"&VLOOKUP($M$3,tab_z,3,FALSE)&9+NB_Personnel*28),BD!$Q$3)*BD!$R$3","v":0},{"$f":"COUNTIF(INDIRECT(\"'Planning'!$\"&VLOOKUP($N$3,tab_z,2,FALSE)&\"10:$\"&VLOOKUP($N$3,tab_z,3,FALSE)&9+NB_Personnel*28),BD!$Q$3)*BD!$R$3","v":0},0]
[null,"Catégorie 5.3",{"$f":"COUNTIF(INDIRECT(\"'Planning'!$\"&VLOOKUP($C$3,tab_z,2,FALSE)&\"10:$\"&VLOOKUP($C$3,tab_z,3,FALSE)&9+NB_Personnel*28),BD!$Q$4)*BD!$R$4","v":0},{"$f":"COUNTIF(INDIRECT(\"'Planning'!$\"&VLOOKUP($D$3,tab_z,2,FALSE)&\"10:$\"&VLOOKUP($D$3,tab_z,3,FALSE)&9+NB_Personnel*28),BD!$Q$4)*BD!$R$4","v":0},{"$f":"COUNTIF(INDIRECT(\"'Planning'!$\"&VLOOKUP($E$3,tab_z,2,FALSE)&\"10:$\"&VLOOKUP($E$3,tab_z,3,FALSE)&9+NB_Personnel*28),BD!$Q$4)*BD!$R$4","v":0},{"$f":"COUNTIF(INDIRECT(\"'Planning'!$\"&VLOOKUP($F$3,tab_z,2,FALSE)&\"10:$\"&VLOOKUP($F$3,tab_z,3,FALSE)&9+NB_Personnel*28),BD!$Q$4)*BD!$R$4","v":0},{"$f":"COUNTIF(INDIRECT(\"'Planning'!$\"&VLOOKUP($G$3,tab_z,2,FALSE)&\"10:$\"&VLOOKUP($G$3,tab_z,3,FALSE)&9+NB_Personnel*28),BD!$Q$4)*BD!$R$4","v":0},{"$f":"COUNTIF(INDIRECT(\"'Planning'!$\"&VLOOKUP($H$3,tab_z,2,FALSE)&\"10:$\"&VLOOKUP($H$3,tab_z,3,FALSE)&9+NB_Personnel*28),BD!$Q$4)*BD!$R$4","v":0},{"$f":"COUNTIF(INDIRECT(\"'Planning'!$\"&VLOOKUP($I$3,tab_z,2,FALSE)&\"10:$\"&VLOOKUP($I$3,tab_z,3,FALSE)&9+NB_Personnel*28),BD!$Q$4)*BD!$R$4","v":0},{"$f":"COUNTIF(INDIRECT(\"'Planning'!$\"&VLOOKUP($J$3,tab_z,2,FALSE)&\"10:$\"&VLOOKUP($J$3,tab_z,3,FALSE)&9+NB_Personnel*28),BD!$Q$4)*BD!$R$4","v":0},{"$f":"COUNTIF(INDIRECT(\"'Planning'!$\"&VLOOKUP($K$3,tab_z,2,FALSE)&\"10:$\"&VLOOKUP($K$3,tab_z,3,FALSE)&9+NB_Personnel*28),BD!$Q$4)*BD!$R$4","v":0},{"$f":"COUNTIF(INDIRECT(\"'Planning'!$\"&VLOOKUP($L$3,tab_z,2,FALSE)&\"10:$\"&VLOOKUP($L$3,tab_z,3,FALSE)&9+NB_Personnel*28),BD!$Q$4)*BD!$R$4","v":0},{"$f":"COUNTIF(INDIRECT(\"'Planning'!$\"&VLOOKUP($M$3,tab_z,2,FALSE)&\"10:$\"&VLOOKUP($M$3,tab_z,3,FALSE)&9+NB_Personnel*28),BD!$Q$4)*BD!$R$4","v":0},{"$f":"COUNTIF(INDIRECT(\"'Planning'!$\"&VLOOKUP($N$3,tab_z,2,FALSE)&\"10:$\"&VLOOKUP($N$3,tab_z,3,FALSE)&9+NB_Personnel*28),BD!$Q$4)*BD!$R$4","v":0},0]
[null,"Catégorie 5.4",{"$f":"COUNTIF(INDIRECT(\"'Planning'!$\"&VLOOKUP($C$3,tab_z,2,FALSE)&\"10:$\"&VLOOKUP($C$3,tab_z,3,FALSE)&9+NB_Personnel*28),BD!$Q$5)*BD!$R$5","v":0},{"$f":"COUNTIF(INDIRECT(\"'Planning'!$\"&VLOOKUP($D$3,tab_z,2,FALSE)&\"10:$\"&VLOOKUP($D$3,tab_z,3,FALSE)&9+NB_Personnel*28),BD!$Q$5)*BD!$R$5","v":0},{"$f":"COUNTIF(INDIRECT(\"'Planning'!$\"&VLOOKUP($E$3,tab_z,2,FALSE)&\"10:$\"&VLOOKUP($E$3,tab_z,3,FALSE)&9+NB_Personnel*28),BD!$Q$5)*BD!$R$5","v":0},{"$f":"COUNTIF(INDIRECT(\"'Planning'!$\"&VLOOKUP($F$3,tab_z,2,FALSE)&\"10:$\"&VLOOKUP($F$3,tab_z,3,FALSE)&9+NB_Personnel*28),BD!$Q$5)*BD!$R$5","v":0},{"$f":"COUNTIF(INDIRECT(\"'Planning'!$\"&VLOOKUP($G$3,tab_z,2,FALSE)&\"10:$\"&VLOOKUP($G$3,tab_z,3,FALSE)&9+NB_Personnel*28),BD!$Q$5)*BD!$R$5","v":0},{"$f":"COUNTIF(INDIRECT(\"'Planning'!$\"&VLOOKUP($H$3,tab_z,2,FALSE)&\"10:$\"&VLOOKUP($H$3,tab_z,3,FALSE)&9+NB_Personnel*28),BD!$Q$5)*BD!$R$5","v":0},{"$f":"COUNTIF(INDIRECT(\"'Planning'!$\"&VLOOKUP($I$3,tab_z,2,FALSE)&\"10:$\"&VLOOKUP($I$3,tab_z,3,FALSE)&9+NB_Personnel*28),BD!$Q$5)*BD!$R$5","v":0},{"$f":"COUNTIF(INDIRECT(\"'Planning'!$\"&VLOOKUP($J$3,tab_z,2,FALSE)&\"10:$\"&VLOOKUP($J$3,tab_z,3,FALSE)&9+NB_Personnel*28),BD!$Q$5)*BD!$R$5","v":0},{"$f":"COUNTIF(INDIRECT(\"'Planning'!$\"&VLOOKUP($K$3,tab_z,2,FALSE)&\"10:$\"&VLOOKUP($K$3,tab_z,3,FALSE)&9+NB_Personnel*28),BD!$Q$5)*BD!$R$5","v":0},{"$f":"COUNTIF(INDIRECT(\"'Planning'!$\"&VLOOKUP($L$3,tab_z,2,FALSE)&\"10:$\"&VLOOKUP($L$3,tab_z,3,FALSE)&9+NB_Personnel*28),BD!$Q$5)*BD!$R$5","v":0},{"$f":"COUNTIF(INDIRECT(\"'Planning'!$\"&VLOOKUP($M$3,tab_z,2,FALSE)&\"10:$\"&VLOOKUP($M$3,tab_z,3,FALSE)&9+NB_Personnel*28),BD!$Q$5)*BD!$R$5","v":0},{"$f":"COUNTIF(INDIRECT(\"'Planning'!$\"&VLOOKUP($N$3,tab_z,2,FALSE)&\"10:$\"&VLOOKUP($N$3,tab_z,3,FALSE)&9+NB_Personnel*28),BD!$Q$5)*BD!$R$5","v":0},0]
["Rubrique 6","Catégorie 6.1",{"$f":"COUNTIF(INDIRECT(\"'Planning'!$\"&VLOOKUP($C$3,tab_z,2,FALSE)&\"10:$\"&VLOOKUP($C$3,tab_z,3,FALSE)&9+NB_Personnel*28),BD!$T$2)*BD!$U$2","v":0},{"$f":"COUNTIF(INDIRECT(\"'Planning'!$\"&VLOOKUP($D$3,tab_z,2,FALSE)&\"10:$\"&VLOOKUP($D$3,tab_z,3,FALSE)&9+NB_Personnel*28),BD!$T$2)*BD!$U$2","v":0},{"$f":"COUNTIF(INDIRECT(\"'Planning'!$\"&VLOOKUP($E$3,tab_z,2,FALSE)&\"10:$\"&VLOOKUP($E$3,tab_z,3,FALSE)&9+NB_Personnel*28),BD!$T$2)*BD!$U$2","v":0},{"$f":"COUNTIF(INDIRECT(\"'Planning'!$\"&VLOOKUP($F$3,tab_z,2,FALSE)&\"10:$\"&VLOOKUP($F$3,tab_z,3,FALSE)&9+NB_Personnel*28),BD!$T$2)*BD!$U$2","v":0},{"$f":"COUNTIF(INDIRECT(\"'Planning'!$\"&VLOOKUP($G$3,tab_z,2,FALSE)&\"10:$\"&VLOOKUP($G$3,tab_z,3,FALSE)&9+NB_Personnel*28),BD!$T$2)*BD!$U$2","v":0},{"$f":"COUNTIF(INDIRECT(\"'Planning'!$\"&VLOOKUP($H$3,tab_z,2,FALSE)&\"10:$\"&VLOOKUP($H$3,tab_z,3,FALSE)&9+NB_Personnel*28),BD!$T$2)*BD!$U$2","v":0},{"$f":"COUNTIF(INDIRECT(\"'Planning'!$\"&VLOOKUP($I$3,tab_z,2,FALSE)&\"10:$\"&VLOOKUP($I$3,tab_z,3,FALSE)&9+NB_Personnel*28),BD!$T$2)*BD!$U$2","v":0},{"$f":"COUNTIF(INDIRECT(\"'Planning'!$\"&VLOOKUP($J$3,tab_z,2,FALSE)&\"10:$\"&VLOOKUP($J$3,tab_z,3,FALSE)&9+NB_Personnel*28),BD!$T$2)*BD!$U$2","v":0},{"$f":"COUNTIF(INDIRECT(\"'Planning'!$\"&VLOOKUP($K$3,tab_z,2,FALSE)&\"10:$\"&VLOOKUP($K$3,tab_z,3,FALSE)&9+NB_Personnel*28),BD!$T$2)*BD!$U$2","v":0},{"$f":"COUNTIF(INDIRECT(\"'Planning'!$\"&VLOOKUP($L$3,tab_z,2,FALSE)&\"10:$\"&VLOOKUP($L$3,tab_z,3,FALSE)&9+NB_Personnel*28),BD!$T$2)*BD!$U$2","v":0},{"$f":"COUNTIF(INDIRECT(\"'Planning'!$\"&VLOOKUP($M$3,tab_z,2,FALSE)&\"10:$\"&VLOOKUP($M$3,tab_z,3,FALSE)&9+NB_Personnel*28),BD!$T$2)*BD!$U$2","v":0},{"$f":"COUNTIF(INDIRECT(\"'Planning'!$\"&VLOOKUP($N$3,tab_z,2,FALSE)&\"10:$\"&VLOOKUP($N$3,tab_z,3,FALSE)&9+NB_Personnel*28),BD!$T$2)*BD!$U$2","v":0},0]
[null,"Catégorie 6.2",{"$f":"COUNTIF(INDIRECT(\"'Planning'!$\"&VLOOKUP($C$3,tab_z,2,FALSE)&\"10:$\"&VLOOKUP($C$3,tab_z,3,FALSE)&9+NB_Personnel*28),BD!$T$3)*BD!$U$3","v":0},{"$f":"COUNTIF(INDIRECT(\"'Planning'!$\"&VLOOKUP($D$3,tab_z,2,FALSE)&\"10:$\"&VLOOKUP($D$3,tab_z,3,FALSE)&9+NB_Personnel*28),BD!$T$3)*BD!$U$3","v":0},{"$f":"COUNTIF(INDIRECT(\"'Planning'!$\"&VLOOKUP($E$3,tab_z,2,FALSE)&\"10:$\"&VLOOKUP($E$3,tab_z,3,FALSE)&9+NB_Personnel*28),BD!$T$3)*BD!$U$3","v":0},{"$f":"COUNTIF(INDIRECT(\"'Planning'!$\"&VLOOKUP($F$3,tab_z,2,FALSE)&\"10:$\"&VLOOKUP($F$3,tab_z,3,FALSE)&9+NB_Personnel*28),BD!$T$3)*BD!$U$3","v":0},{"$f":"COUNTIF(INDIRECT(\"'Planning'!$\"&VLOOKUP($G$3,tab_z,2,FALSE)&\"10:$\"&VLOOKUP($G$3,tab_z,3,FALSE)&9+NB_Personnel*28),BD!$T$3)*BD!$U$3","v":0},{"$f":"COUNTIF(INDIRECT(\"'Planning'!$\"&VLOOKUP($H$3,tab_z,2,FALSE)&\"10:$\"&VLOOKUP($H$3,tab_z,3,FALSE)&9+NB_Personnel*28),BD!$T$3)*BD!$U$3","v":0},{"$f":"COUNTIF(INDIRECT(\"'Planning'!$\"&VLOOKUP($I$3,tab_z,2,FALSE)&\"10:$\"&VLOOKUP($I$3,tab_z,3,FALSE)&9+NB_Personnel*28),BD!$T$3)*BD!$U$3","v":0},{"$f":"COUNTIF(INDIRECT(\"'Planning'!$\"&VLOOKUP($J$3,tab_z,2,FALSE)&\"10:$\"&VLOOKUP($J$3,tab_z,3,FALSE)&9+NB_Personnel*28),BD!$T$3)*BD!$U$3","v":0},{"$f":"COUNTIF(INDIRECT(\"'Planning'!$\"&VLOOKUP($K$3,tab_z,2,FALSE)&\"10:$\"&VLOOKUP($K$3,tab_z,3,FALSE)&9+NB_Personnel*28),BD!$T$3)*BD!$U$3","v":0},{"$f":"COUNTIF(INDIRECT(\"'Planning'!$\"&VLOOKUP($L$3,tab_z,2,FALSE)&\"10:$\"&VLOOKUP($L$3,tab_z,3,FALSE)&9+NB_Personnel*28),BD!$T$3)*BD!$U$3","v":0},{"$f":"COUNTIF(INDIRECT(\"'Planning'!$\"&VLOOKUP($M$3,tab_z,2,FALSE)&\"10:$\"&VLOOKUP($M$3,tab_z,3,FALSE)&9+NB_Personnel*28),BD!$T$3)*BD!$U$3","v":0},{"$f":"COUNTIF(INDIRECT(\"'Planning'!$\"&VLOOKUP($N$3,tab_z,2,FALSE)&\"10:$\"&VLOOKUP($N$3,tab_z,3,FALSE)&9+NB_Personnel*28),BD!$T$3)*BD!$U$3","v":0},0]
[null,"Catégorie 6.3",{"$f":"COUNTIF(INDIRECT(\"'Planning'!$\"&VLOOKUP($C$3,tab_z,2,FALSE)&\"10:$\"&VLOOKUP($C$3,tab_z,3,FALSE)&9+NB_Personnel*28),BD!$T$4)*BD!$U$4","v":0},{"$f":"COUNTIF(INDIRECT(\"'Planning'!$\"&VLOOKUP($D$3,tab_z,2,FALSE)&\"10:$\"&VLOOKUP($D$3,tab_z,3,FALSE)&9+NB_Personnel*28),BD!$T$4)*BD!$U$4","v":0},{"$f":"COUNTIF(INDIRECT(\"'Planning'!$\"&VLOOKUP($E$3,tab_z,2,FALSE)&\"10:$\"&VLOOKUP($E$3,tab_z,3,FALSE)&9+NB_Personnel*28),BD!$T$4)*BD!$U$4","v":0},{"$f":"COUNTIF(INDIRECT(\"'Planning'!$\"&VLOOKUP($F$3,tab_z,2,FALSE)&\"10:$\"&VLOOKUP($F$3,tab_z,3,FALSE)&9+NB_Personnel*28),BD!$T$4)*BD!$U$4","v":0},{"$f":"COUNTIF(INDIRECT(\"'Planning'!$\"&VLOOKUP($G$3,tab_z,2,FALSE)&\"10:$\"&VLOOKUP($G$3,tab_z,3,FALSE)&9+NB_Personnel*28),BD!$T$4)*BD!$U$4","v":0},{"$f":"COUNTIF(INDIRECT(\"'Planning'!$\"&VLOOKUP($H$3,tab_z,2,FALSE)&\"10:$\"&VLOOKUP($H$3,tab_z,3,FALSE)&9+NB_Personnel*28),BD!$T$4)*BD!$U$4","v":0},{"$f":"COUNTIF(INDIRECT(\"'Planning'!$\"&VLOOKUP($I$3,tab_z,2,FALSE)&\"10:$\"&VLOOKUP($I$3,tab_z,3,FALSE)&9+NB_Personnel*28),BD!$T$4)*BD!$U$4","v":0},{"$f":"COUNTIF(INDIRECT(\"'Planning'!$\"&VLOOKUP($J$3,tab_z,2,FALSE)&\"10:$\"&VLOOKUP($J$3,tab_z,3,FALSE)&9+NB_Personnel*28),BD!$T$4)*BD!$U$4","v":0},{"$f":"COUNTIF(INDIRECT(\"'Planning'!$\"&VLOOKUP($K$3,tab_z,2,FALSE)&\"10:$\"&VLOOKUP($K$3,tab_z,3,FALSE)&9+NB_Personnel*28),BD!$T$4)*BD!$U$4","v":0},{"$f":"COUNTIF(INDIRECT(\"'Planning'!$\"&VLOOKUP($L$3,tab_z,2,FALSE)&\"10:$\"&VLOOKUP($L$3,tab_z,3,FALSE)&9+NB_Personnel*28),BD!$T$4)*BD!$U$4","v":0},{"$f":"COUNTIF(INDIRECT(\"'Planning'!$\"&VLOOKUP($M$3,tab_z,2,FALSE)&\"10:$\"&VLOOKUP($M$3,tab_z,3,FALSE)&9+NB_Personnel*28),BD!$T$4)*BD!$U$4","v":0},{"$f":"COUNTIF(INDIRECT(\"'Planning'!$\"&VLOOKUP($N$3,tab_z,2,FALSE)&\"10:$\"&VLOOKUP($N$3,tab_z,3,FALSE)&9+NB_Personnel*28),BD!$T$4)*BD!$U$4","v":0},0]
[null,"Catégorie 6.4",{"$f":"COUNTIF(INDIRECT(\"'Planning'!$\"&VLOOKUP($C$3,tab_z,2,FALSE)&\"10:$\"&VLOOKUP($C$3,tab_z,3,FALSE)&9+NB_Personnel*28),BD!$T$5)*BD!$U$5","v":0},{"$f":"COUNTIF(INDIRECT(\"'Planning'!$\"&VLOOKUP($D$3,tab_z,2,FALSE)&\"10:$\"&VLOOKUP($D$3,tab_z,3,FALSE)&9+NB_Personnel*28),BD!$T$5)*BD!$U$5","v":0},{"$f":"COUNTIF(INDIRECT(\"'Planning'!$\"&VLOOKUP($E$3,tab_z,2,FALSE)&\"10:$\"&VLOOKUP($E$3,tab_z,3,FALSE)&9+NB_Personnel*28),BD!$T$5)*BD!$U$5","v":0},{"$f":"COUNTIF(INDIRECT(\"'Planning'!$\"&VLOOKUP($F$3,tab_z,2,FALSE)&\"10:$\"&VLOOKUP($F$3,tab_z,3,FALSE)&9+NB_Personnel*28),BD!$T$5)*BD!$U$5","v":0},{"$f":"COUNTIF(INDIRECT(\"'Planning'!$\"&VLOOKUP($G$3,tab_z,2,FALSE)&\"10:$\"&VLOOKUP($G$3,tab_z,3,FALSE)&9+NB_Personnel*28),BD!$T$5)*BD!$U$5","v":0},{"$f":"COUNTIF(INDIRECT(\"'Planning'!$\"&VLOOKUP($H$3,tab_z,2,FALSE)&\"10:$\"&VLOOKUP($H$3,tab_z,3,FALSE)&9+NB_Personnel*28),BD!$T$5)*BD!$U$5","v":0},{"$f":"COUNTIF(INDIRECT(\"'Planning'!$\"&VLOOKUP($I$3,tab_z,2,FALSE)&\"10:$\"&VLOOKUP($I$3,tab_z,3,FALSE)&9+NB_Personnel*28),BD!$T$5)*BD!$U$5","v":0},{"$f":"COUNTIF(INDIRECT(\"'Planning'!$\"&VLOOKUP($J$3,tab_z,2,FALSE)&\"10:$\"&VLOOKUP($J$3,tab_z,3,FALSE)&9+NB_Personnel*28),BD!$T$5)*BD!$U$5","v":0},{"$f":"COUNTIF(INDIRECT(\"'Planning'!$\"&VLOOKUP($K$3,tab_z,2,FALSE)&\"10:$\"&VLOOKUP($K$3,tab_z,3,FALSE)&9+NB_Personnel*28),BD!$T$5)*BD!$U$5","v":0},{"$f":"COUNTIF(INDIRECT(\"'Planning'!$\"&VLOOKUP($L$3,tab_z,2,FALSE)&\"10:$\"&VLOOKUP($L$3,tab_z,3,FALSE)&9+NB_Personnel*28),BD!$T$5)*BD!$U$5","v":0},{"$f":"COUNTIF(INDIRECT(\"'Planning'!$\"&VLOOKUP($M$3,tab_z,2,FALSE)&\"10:$\"&VLOOKUP($M$3,tab_z,3,FALSE)&9+NB_Personnel*28),BD!$T$5)*BD!$U$5","v":0},{"$f":"COUNTIF(INDIRECT(\"'Planning'!$\"&VLOOKUP($N$3,tab_z,2,FALSE)&\"10:$\"&VLOOKUP($N$3,tab_z,3,FALSE)&9+NB_Personnel*28),BD!$T$5)*BD!$U$5","v":0},0]
["Rubrique 7","Catégorie 7.1",{"$f":"COUNTIF(INDIRECT(\"'Planning'!$\"&VLOOKUP($C$3,tab_z,2,FALSE)&\"10:$\"&VLOOKUP($C$3,tab_z,3,FALSE)&9+NB_Personnel*28),BD!$W$2)*BD!$X$2","v":0},{"$f":"COUNTIF(INDIRECT(\"'Planning'!$\"&VLOOKUP($D$3,tab_z,2,FALSE)&\"10:$\"&VLOOKUP($D$3,tab_z,3,FALSE)&9+NB_Personnel*28),BD!$W$2)*BD!$X$2","v":0},{"$f":"COUNTIF(INDIRECT(\"'Planning'!$\"&VLOOKUP($E$3,tab_z,2,FALSE)&\"10:$\"&VLOOKUP($E$3,tab_z,3,FALSE)&9+NB_Personnel*28),BD!$W$2)*BD!$X$2","v":0},{"$f":"COUNTIF(INDIRECT(\"'Planning'!$\"&VLOOKUP($F$3,tab_z,2,FALSE)&\"10:$\"&VLOOKUP($F$3,tab_z,3,FALSE)&9+NB_Personnel*28),BD!$W$2)*BD!$X$2","v":0},{"$f":"COUNTIF(INDIRECT(\"'Planning'!$\"&VLOOKUP($G$3,tab_z,2,FALSE)&\"10:$\"&VLOOKUP($G$3,tab_z,3,FALSE)&9+NB_Personnel*28),BD!$W$2)*BD!$X$2","v":0},{"$f":"COUNTIF(INDIRECT(\"'Planning'!$\"&VLOOKUP($H$3,tab_z,2,FALSE)&\"10:$\"&VLOOKUP($H$3,tab_z,3,FALSE)&9+NB_Personnel*28),BD!$W$2)*BD!$X$2","v":0},{"$f":"COUNTIF(INDIRECT(\"'Planning'!$\"&VLOOKUP($I$3,tab_z,2,FALSE)&\"10:$\"&VLOOKUP($I$3,tab_z,3,FALSE)&9+NB_Personnel*28),BD!$W$2)*BD!$X$2","v":0},{"$f":"COUNTIF(INDIRECT(\"'Planning'!$\"&VLOOKUP($J$3,tab_z,2,FALSE)&\"10:$\"&VLOOKUP($J$3,tab_z,3,FALSE)&9+NB_Personnel*28),BD!$W$2)*BD!$X$2","v":0},{"$f":"COUNTIF(INDIRECT(\"'Planning'!$\"&VLOOKUP($K$3,tab_z,2,FALSE)&\"10:$\"&VLOOKUP($K$3,tab_z,3,FALSE)&9+NB_Personnel*28),BD!$W$2)*BD!$X$2","v":0},{"$f":"COUNTIF(INDIRECT(\"'Planning'!$\"&VLOOKUP($L$3,tab_z,2,FALSE)&\"10:$\"&VLOOKUP($L$3,tab_z,3,FALSE)&9+NB_Personnel*28),BD!$W$2)*BD!$X$2","v":0},{"$f":"COUNTIF(INDIRECT(\"'Planning'!$\"&VLOOKUP($M$3,tab_z,2,FALSE)&\"10:$\"&VLOOKUP($M$3,tab_z,3,FALSE)&9+NB_Personnel*28),BD!$W$2)*BD!$X$2","v":0},{"$f":"COUNTIF(INDIRECT(\"'Planning'!$\"&VLOOKUP($N$3,tab_z,2,FALSE)&\"10:$\"&VLOOKUP($N$3,tab_z,3,FALSE)&9+NB_Personnel*28),BD!$W$2)*BD!$X$2","v":0},0]
[null,"Catégorie 7.2",{"$f":"COUNTIF(INDIRECT(\"'Planning'!$\"&VLOOKUP($C$3,tab_z,2,FALSE)&\"10:$\"&VLOOKUP($C$3,tab_z,3,FALSE)&9+NB_Personnel*28),BD!$W$3)*BD!$X$3","v":0},{"$f":"COUNTIF(INDIRECT(\"'Planning'!$\"&VLOOKUP($D$3,tab_z,2,FALSE)&\"10:$\"&VLOOKUP($D$3,tab_z,3,FALSE)&9+NB_Personnel*28),BD!$W$3)*BD!$X$3","v":0},{"$f":"COUNTIF(INDIRECT(\"'Planning'!$\"&VLOOKUP($E$3,tab_z,2,FALSE)&\"10:$\"&VLOOKUP($E$3,tab_z,3,FALSE)&9+NB_Personnel*28),BD!$W$3)*BD!$X$3","v":0},{"$f":"COUNTIF(INDIRECT(\"'Planning'!$\"&VLOOKUP($F$3,tab_z,2,FALSE)&\"10:$\"&VLOOKUP($F$3,tab_z,3,FALSE)&9+NB_Personnel*28),BD!$W$3)*BD!$X$3","v":0},{"$f":"COUNTIF(INDIRECT(\"'Planning'!$\"&VLOOKUP($G$3,tab_z,2,FALSE)&\"10:$\"&VLOOKUP($G$3,tab_z,3,FALSE)&9+NB_Personnel*28),BD!$W$3)*BD!$X$3","v":0},{"$f":"COUNTIF(INDIRECT(\"'Planning'!$\"&VLOOKUP($H$3,tab_z,2,FALSE)&\"10:$\"&VLOOKUP($H$3,tab_z,3,FALSE)&9+NB_Personnel*28),BD!$W$3)*BD!$X$3","v":0},{"$f":"COUNTIF(INDIRECT(\"'Planning'!$\"&VLOOKUP($I$3,tab_z,2,FALSE)&\"10:$\"&VLOOKUP($I$3,tab_z,3,FALSE)&9+NB_Personnel*28),BD!$W$3)*BD!$X$3","v":0},{"$f":"COUNTIF(INDIRECT(\"'Planning'!$\"&VLOOKUP($J$3,tab_z,2,FALSE)&\"10:$\"&VLOOKUP($J$3,tab_z,3,FALSE)&9+NB_Personnel*28),BD!$W$3)*BD!$X$3","v":0},{"$f":"COUNTIF(INDIRECT(\"'Planning'!$\"&VLOOKUP($K$3,tab_z,2,FALSE)&\"10:$\"&VLOOKUP($K$3,tab_z,3,FALSE)&9+NB_Personnel*28),BD!$W$3)*BD!$X$3","v":0},{"$f":"COUNTIF(INDIRECT(\"'Planning'!$\"&VLOOKUP($L$3,tab_z,2,FALSE)&\"10:$\"&VLOOKUP($L$3,tab_z,3,FALSE)&9+NB_Personnel*28),BD!$W$3)*BD!$X$3","v":0},{"$f":"COUNTIF(INDIRECT(\"'Planning'!$\"&VLOOKUP($M$3,tab_z,2,FALSE)&\"10:$\"&VLOOKUP($M$3,tab_z,3,FALSE)&9+NB_Personnel*28),BD!$W$3)*BD!$X$3","v":0},{"$f":"COUNTIF(INDIRECT(\"'Planning'!$\"&VLOOKUP($N$3,tab_z,2,FALSE)&\"10:$\"&VLOOKUP($N$3,tab_z,3,FALSE)&9+NB_Personnel*28),BD!$W$3)*BD!$X$3","v":0},0]
[null,"Catégorie 7.3",{"$f":"COUNTIF(INDIRECT(\"'Planning'!$\"&VLOOKUP($C$3,tab_z,2,FALSE)&\"10:$\"&VLOOKUP($C$3,tab_z,3,FALSE)&9+NB_Personnel*28),BD!$W$4)*BD!$X$4","v":0},{"$f":"COUNTIF(INDIRECT(\"'Planning'!$\"&VLOOKUP($D$3,tab_z,2,FALSE)&\"10:$\"&VLOOKUP($D$3,tab_z,3,FALSE)&9+NB_Personnel*28),BD!$W$4)*BD!$X$4","v":0},{"$f":"COUNTIF(INDIRECT(\"'Planning'!$\"&VLOOKUP($E$3,tab_z,2,FALSE)&\"10:$\"&VLOOKUP($E$3,tab_z,3,FALSE)&9+NB_Personnel*28),BD!$W$4)*BD!$X$4","v":0},{"$f":"COUNTIF(INDIRECT(\"'Planning'!$\"&VLOOKUP($F$3,tab_z,2,FALSE)&\"10:$\"&VLOOKUP($F$3,tab_z,3,FALSE)&9+NB_Personnel*28),BD!$W$4)*BD!$X$4","v":0},{"$f":"COUNTIF(INDIRECT(\"'Planning'!$\"&VLOOKUP($G$3,tab_z,2,FALSE)&\"10:$\"&VLOOKUP($G$3,tab_z,3,FALSE)&9+NB_Personnel*28),BD!$W$4)*BD!$X$4","v":0},{"$f":"COUNTIF(INDIRECT(\"'Planning'!$\"&VLOOKUP($H$3,tab_z,2,FALSE)&\"10:$\"&VLOOKUP($H$3,tab_z,3,FALSE)&9+NB_Personnel*28),BD!$W$4)*BD!$X$4","v":0},{"$f":"COUNTIF(INDIRECT(\"'Planning'!$\"&VLOOKUP($I$3,tab_z,2,FALSE)&\"10:$\"&VLOOKUP($I$3,tab_z,3,FALSE)&9+NB_Personnel*28),BD!$W$4)*BD!$X$4","v":0},{"$f":"COUNTIF(INDIRECT(\"'Planning'!$\"&VLOOKUP($J$3,tab_z,2,FALSE)&\"10:$\"&VLOOKUP($J$3,tab_z,3,FALSE)&9+NB_Personnel*28),BD!$W$4)*BD!$X$4","v":0},{"$f":"COUNTIF(INDIRECT(\"'Planning'!$\"&VLOOKUP($K$3,tab_z,2,FALSE)&\"10:$\"&VLOOKUP($K$3,tab_z,3,FALSE)&9+NB_Personnel*28),BD!$W$4)*BD!$X$4","v":0},{"$f":"COUNTIF(INDIRECT(\"'Planning'!$\"&VLOOKUP($L$3,tab_z,2,FALSE)&\"10:$\"&VLOOKUP($L$3,tab_z,3,FALSE)&9+NB_Personnel*28),BD!$W$4)*BD!$X$4","v":0},{"$f":"COUNTIF(INDIRECT(\"'Planning'!$\"&VLOOKUP($M$3,tab_z,2,FALSE)&\"10:$\"&VLOOKUP($M$3,tab_z,3,FALSE)&9+NB_Personnel*28),BD!$W$4)*BD!$X$4","v":0},{"$f":"COUNTIF(INDIRECT(\"'Planning'!$\"&VLOOKUP($N$3,tab_z,2,FALSE)&\"10:$\"&VLOOKUP($N$3,tab_z,3,FALSE)&9+NB_Personnel*28),BD!$W$4)*BD!$X$4","v":0},0]
[null,"Catégorie 7.4",{"$f":"COUNTIF(INDIRECT(\"'Planning'!$\"&VLOOKUP($C$3,tab_z,2,FALSE)&\"10:$\"&VLOOKUP($C$3,tab_z,3,FALSE)&9+NB_Personnel*28),BD!$W$5)*BD!$X$5","v":0},{"$f":"COUNTIF(INDIRECT(\"'Planning'!$\"&VLOOKUP($D$3,tab_z,2,FALSE)&\"10:$\"&VLOOKUP($D$3,tab_z,3,FALSE)&9+NB_Personnel*28),BD!$W$5)*BD!$X$5","v":0},{"$f":"COUNTIF(INDIRECT(\"'Planning'!$\"&VLOOKUP($E$3,tab_z,2,FALSE)&\"10:$\"&VLOOKUP($E$3,tab_z,3,FALSE)&9+NB_Personnel*28),BD!$W$5)*BD!$X$5","v":0},{"$f":"COUNTIF(INDIRECT(\"'Planning'!$\"&VLOOKUP($F$3,tab_z,2,FALSE)&\"10:$\"&VLOOKUP($F$3,tab_z,3,FALSE)&9+NB_Personnel*28),BD!$W$5)*BD!$X$5","v":0},{"$f":"COUNTIF(INDIRECT(\"'Planning'!$\"&VLOOKUP($G$3,tab_z,2,FALSE)&\"10:$\"&VLOOKUP($G$3,tab_z,3,FALSE)&9+NB_Personnel*28),BD!$W$5)*BD!$X$5","v":0},{"$f":"COUNTIF(INDIRECT(\"'Planning'!$\"&VLOOKUP($H$3,tab_z,2,FALSE)&\"10:$\"&VLOOKUP($H$3,tab_z,3,FALSE)&9+NB_Personnel*28),BD!$W$5)*BD!$X$5","v":0},{"$f":"COUNTIF(INDIRECT(\"'Planning'!$\"&VLOOKUP($I$3,tab_z,2,FALSE)&\"10:$\"&VLOOKUP($I$3,tab_z,3,FALSE)&9+NB_Personnel*28),BD!$W$5)*BD!$X$5","v":0},{"$f":"COUNTIF(INDIRECT(\"'Planning'!$\"&VLOOKUP($J$3,tab_z,2,FALSE)&\"10:$\"&VLOOKUP($J$3,tab_z,3,FALSE)&9+NB_Personnel*28),BD!$W$5)*BD!$X$5","v":0},{"$f":"COUNTIF(INDIRECT(\"'Planning'!$\"&VLOOKUP($K$3,tab_z,2,FALSE)&\"10:$\"&VLOOKUP($K$3,tab_z,3,FALSE)&9+NB_Personnel*28),BD!$W$5)*BD!$X$5","v":0},{"$f":"COUNTIF(INDIRECT(\"'Planning'!$\"&VLOOKUP($L$3,tab_z,2,FALSE)&\"10:$\"&VLOOKUP($L$3,tab_z,3,FALSE)&9+NB_Personnel*28),BD!$W$5)*BD!$X$5","v":0},{"$f":"COUNTIF(INDIRECT(\"'Planning'!$\"&VLOOKUP($M$3,tab_z,2,FALSE)&\"10:$\"&VLOOKUP($M$3,tab_z,3,FALSE)&9+NB_Personnel*28),BD!$W$5)*BD!$X$5","v":0},{"$f":"COUNTIF(INDIRECT(\"'Planning'!$\"&VLOOKUP($N$3,tab_z,2,FALSE)&\"10:$\"&VLOOKUP($N$3,tab_z,3,FALSE)&9+NB_Personnel*28),BD!$W$5)*BD!$X$5","v":0},0]
[null,"Catégorie 7.5",{"$f":"COUNTIF(INDIRECT(\"'Planning'!$\"&VLOOKUP($C$3,tab_z,2,FALSE)&\"10:$\"&VLOOKUP($C$3,tab_z,3,FALSE)&9+NB_Personnel*28),BD!$W$6)*BD!$X$6","v":0},{"$f":"COUNTIF(INDIRECT(\"'Planning'!$\"&VLOOKUP($D$3,tab_z,2,FALSE)&\"10:$\"&VLOOKUP($D$3,tab_z,3,FALSE)&9+NB_Personnel*28),BD!$W$6)*BD!$X$6","v":0},{"$f":"COUNTIF(INDIRECT(\"'Planning'!$\"&VLOOKUP($E$3,tab_z,2,FALSE)&\"10:$\"&VLOOKUP($E$3,tab_z,3,FALSE)&9+NB_Personnel*28),BD!$W$6)*BD!$X$6","v":0},{"$f":"COUNTIF(INDIRECT(\"'Planning'!$\"&VLOOKUP($F$3,tab_z,2,FALSE)&\"10:$\"&VLOOKUP($F$3,tab_z,3,FALSE)&9+NB_Personnel*28),BD!$W$6)*BD!$X$6","v":0},{"$f":"COUNTIF(INDIRECT(\"'Planning'!$\"&VLOOKUP($G$3,tab_z,2,FALSE)&\"10:$\"&VLOOKUP($G$3,tab_z,3,FALSE)&9+NB_Personnel*28),BD!$W$6)*BD!$X$6","v":0},{"$f":"COUNTIF(INDIRECT(\"'Planning'!$\"&VLOOKUP($H$3,tab_z,2,FALSE)&\"10:$\"&VLOOKUP($H$3,tab_z,3,FALSE)&9+NB_Personnel*28),BD!$W$6)*BD!$X$6","v":0},{"$f":"COUNTIF(INDIRECT(\"'Planning'!$\"&VLOOKUP($I$3,tab_z,2,FALSE)&\"10:$\"&VLOOKUP($I$3,tab_z,3,FALSE)&9+NB_Personnel*28),BD!$W$6)*BD!$X$6","v":0},{"$f":"COUNTIF(INDIRECT(\"'Planning'!$\"&VLOOKUP($J$3,tab_z,2,FALSE)&\"10:$\"&VLOOKUP($J$3,tab_z,3,FALSE)&9+NB_Personnel*28),BD!$W$6)*BD!$X$6","v":0},{"$f":"COUNTIF(INDIRECT(\"'Planning'!$\"&VLOOKUP($K$3,tab_z,2,FALSE)&\"10:$\"&VLOOKUP($K$3,tab_z,3,FALSE)&9+NB_Personnel*28),BD!$W$6)*BD!$X$6","v":0},{"$f":"COUNTIF(INDIRECT(\"'Planning'!$\"&VLOOKUP($L$3,tab_z,2,FALSE)&\"10:$\"&VLOOKUP($L$3,tab_z,3,FALSE)&9+NB_Personnel*28),BD!$W$6)*BD!$X$6","v":0},{"$f":"COUNTIF(INDIRECT(\"'Planning'!$\"&VLOOKUP($M$3,tab_z,2,FALSE)&\"10:$\"&VLOOKUP($M$3,tab_z,3,FALSE)&9+NB_Personnel*28),BD!$W$6)*BD!$X$6","v":0},{"$f":"COUNTIF(INDIRECT(\"'Planning'!$\"&VLOOKUP($N$3,tab_z,2,FALSE)&\"10:$\"&VLOOKUP($N$3,tab_z,3,FALSE)&9+NB_Personnel*28),BD!$W$6)*BD!$X$6","v":0},0]
["Rubrique 8","Catégorie 8.1",{"$f":"COUNTIF(INDIRECT(\"'Planning'!$\"&VLOOKUP($C$3,tab_z,2,FALSE)&\"10:$\"&VLOOKUP($C$3,tab_z,3,FALSE)&9+NB_Personnel*28),BD!$Z$2)*BD!$AA$2","v":0},{"$f":"COUNTIF(INDIRECT(\"'Planning'!$\"&VLOOKUP($D$3,tab_z,2,FALSE)&\"10:$\"&VLOOKUP($D$3,tab_z,3,FALSE)&9+NB_Personnel*28),BD!$Z$2)*BD!$AA$2","v":0},{"$f":"COUNTIF(INDIRECT(\"'Planning'!$\"&VLOOKUP($E$3,tab_z,2,FALSE)&\"10:$\"&VLOOKUP($E$3,tab_z,3,FALSE)&9+NB_Personnel*28),BD!$Z$2)*BD!$AA$2","v":0},{"$f":"COUNTIF(INDIRECT(\"'Planning'!$\"&VLOOKUP($F$3,tab_z,2,FALSE)&\"10:$\"&VLOOKUP($F$3,tab_z,3,FALSE)&9+NB_Personnel*28),BD!$Z$2)*BD!$AA$2","v":0},{"$f":"COUNTIF(INDIRECT(\"'Planning'!$\"&VLOOKUP($G$3,tab_z,2,FALSE)&\"10:$\"&VLOOKUP($G$3,tab_z,3,FALSE)&9+NB_Personnel*28),BD!$Z$2)*BD!$AA$2","v":0},{"$f":"COUNTIF(INDIRECT(\"'Planning'!$\"&VLOOKUP($H$3,tab_z,2,FALSE)&\"10:$\"&VLOOKUP($H$3,tab_z,3,FALSE)&9+NB_Personnel*28),BD!$Z$2)*BD!$AA$2","v":0},{"$f":"COUNTIF(INDIRECT(\"'Planning'!$\"&VLOOKUP($I$3,tab_z,2,FALSE)&\"10:$\"&VLOOKUP($I$3,tab_z,3,FALSE)&9+NB_Personnel*28),BD!$Z$2)*BD!$AA$2","v":0},{"$f":"COUNTIF(INDIRECT(\"'Planning'!$\"&VLOOKUP($J$3,tab_z,2,FALSE)&\"10:$\"&VLOOKUP($J$3,tab_z,3,FALSE)&9+NB_Personnel*28),BD!$Z$2)*BD!$AA$2","v":0},{"$f":"COUNTIF(INDIRECT(\"'Planning'!$\"&VLOOKUP($K$3,tab_z,2,FALSE)&\"10:$\"&VLOOKUP($K$3,tab_z,3,FALSE)&9+NB_Personnel*28),BD!$Z$2)*BD!$AA$2","v":0},{"$f":"COUNTIF(INDIRECT(\"'Planning'!$\"&VLOOKUP($L$3,tab_z,2,FALSE)&\"10:$\"&VLOOKUP($L$3,tab_z,3,FALSE)&9+NB_Personnel*28),BD!$Z$2)*BD!$AA$2","v":0},{"$f":"COUNTIF(INDIRECT(\"'Planning'!$\"&VLOOKUP($M$3,tab_z,2,FALSE)&\"10:$\"&VLOOKUP($M$3,tab_z,3,FALSE)&9+NB_Personnel*28),BD!$Z$2)*BD!$AA$2","v":0},{"$f":"COUNTIF(INDIRECT(\"'Planning'!$\"&VLOOKUP($N$3,tab_z,2,FALSE)&\"10:$\"&VLOOKUP($N$3,tab_z,3,FALSE)&9+NB_Personnel*28),BD!$Z$2)*BD!$AA$2","v":0},0]
["Total mensuel toutes catégories",null,{"$f":"SUM(C$4:C$59)","v":0},0,0,0,0,0,0,0,0,0,0,0,{"$f":"IF(SUM(O$4:O$59)=SUM($C60:$N60),SUM($C60:$N60),\"Erreur !\")","v":0}]

{"sheet":"Récap_Pôles","index":3,"n_rows":33,"n_cols":33,"rows_kept":33,"cut":false,"hidden":false,"merged":[[1,2,1,8]]}
[null,null,{"$f":"INDIRECT(\"'\"&N_feuille_Planning&\"'!L1C\"&$A$2+(COLUMN()-3),FALSE)","v":0},1,1,1,1,1,0,0,1,1,1,1,1,0,0,1,1,1,1,1,0,0,1,1,1,1,1,0,0,1,1]
[4,{"$f":"IFERROR(VLOOKUP(C2,Tab_Catégories,2,FALSE),\"\")","v":"C1.1"},"Catégorie 1.1"]
[null,"Mois",{"$f":"PROPER(TEXT(INDIRECT(\"'\"&N_feuille_Planning&\"'!L\"&Lig_Ref&\"C\"&$A$2+(COLUMN()-3),FALSE),\"MMM\"))","v":"Janv"},"Janv","Janv","Janv","Janv","Janv","Janv","Janv","Janv","Janv","Janv","Janv","Janv","Janv","Janv","Janv","Janv","Janv","Janv","Janv","Janv","Janv","Janv","Janv","Janv","Janv","Janv","Janv","Janv","Janv","Janv"]
[null,"Jour",{"$f":"PROPER(TEXT(INDIRECT(\"'\"&N_feuille_Planning&\"'!L\"&Lig_Ref&\"C\"&$A$2+(COLUMN()-3),FALSE),\"JJJ\"))","v":"Dim"},"Lun","Mar","Mer","Jeu","Ven","Sam","Dim","Lun","Mar","Mer","Jeu","Ven","Sam","Dim","Lun","Mar","Mer","Jeu","Ven","Sam","Dim","Lun","Mar","Mer","Jeu","Ven","Sam","Dim","Lun","Mar"]
[null,"Date du jour",{"$f":"PROPER(TEXT(INDIRECT(\"'\"&N_feuille_Planning&\"'!L\"&Lig_Ref&\"C\"&$A$2+(COLUMN()-3),FALSE),\"JJ\"))","v":"01"},"02","03","04","05","06","07","08","09","10","11","12","13","14","15","16","17","18","19","20","21","22","23","24","25","26","27","28","29","30","31"]
[null,"08h00 / 08h30",{"$f":"IF($B$2<>\"\",COUNTIFS(INDIRECT(\"'\"&N_feuille_Planning&\"'!L\"&Lig_Ref+1&\"C3:L\"&Ligne_max&\"C3\",FALSE),$B6,INDIRECT(\"'\"&N_feuille_Planning&\"'!L\"&Lig_Ref+1&\"C\"&$A$2+(COLUMN()-3)&\":L\"&Ligne_max&\"C\"&$A$2+(COLUMN()-3),FALSE),OFFSET(C6,-(ROW()-2),-(COLUMN()-2)))&\"/\"&COUNTIFS(INDIRECT(\"'\"&N_feuille_Planning&\"'!L\"&Lig_Ref+1&\"C3:L\"&Ligne_max&\"C3\",FALSE),$B6,INDIRECT(\"'\"&N_feuille_Planning&\"'!L\"&Lig_Ref+1&\"C\"&$A$2+(COLUMN()-3)&\":L\"&Ligne_max&\"C\"&$A$2+(COLUMN()-3),FALSE),\"><\"),\"\")","v":"0/0"},"0/0","0/0","0/0","0/0","0/0","0/0","0/0","0/0","0/0",{"$f":"IF($B$2<>\"\",COUNTIFS(INDIRECT(\"'\"&N_feuille_Planning&\"'!L\"&Lig_Ref+1&\"C3:L\"&Ligne_max&\"C3\",FALSE),$B6,INDIRECT(\"'\"&N_feuille_Planning&\"'!L\"&Lig_Ref+1&\"C\"&$A$2+(COLUMN()-3)&\":L\"&Ligne_max&\"C\"&$A$2+(COLUMN()-3),FALSE),OFFSET(M6,-(ROW()-2),-(COLUMN()-2)))&\"/\"&COUNTIFS(INDIRECT(\"'\"&N_feuille_Planning&\"'!L\"&Lig_Ref+1&\"C3:L\"&Ligne_max&\"C3\",FALSE),$B6,INDIRECT(\"'\"&N_feuille_Planning&\"'!L\"&Lig_Ref+1&\"C\"&$A$2+(COLUMN()-3)&\":L\"&Ligne_max&\"C\"&$A$2+(COLUMN()-3),FALSE),\"><\"),\"\")","v":"0/0"},"0/0","0/0","0/0","0/0","0/0","0/0","0/0","0/0","0/0",{"$f":"IF($B$2<>\"\",COUNTIFS(INDIRECT(\"'\"&N_feuille_Planning&\"'!L\"&Lig_Ref+1&\"C3:L\"&Ligne_max&\"C3\",FALSE),$B6,INDIRECT(\"'\"&N_feuille_Planning&\"'!L\"&Lig_Ref+1&\"C\"&$A$2+(COLUMN()-3)&\":L\"&Ligne_max&\"C\"&$A$2+(COLUMN()-3),FALSE),OFFSET(W6,-(ROW()-2),-(COLUMN()-2)))&\"/\"&COUNTIFS(INDIRECT(\"'\"&N_feuille_Planning&\"'!L\"&Lig_Ref+1&\"C3:L\"&Ligne_max&\"C3\",FALSE),$B6,INDIRECT(\"'\"&N_feuille_Planning&\"'!L\"&Lig_Ref+1&\"C\"&$A$2+(COLUMN()-3)&\":L\"&Ligne_max&\"C\"&$A$2+(COLUMN()-3),FALSE),\"><\"),\"\")","v":"0/0"},"0/0","0/0","0/0","0/0","0/0","0/0","0/0","0/0","0/0","0/0"]
[null,"08h30 / 09h00","0/0","0/0","0/0","0/0","0/0","0/0","0/0","0/0","0/0","0/0","0/0","0/0","0/0","0/0","0/0","0/0","0/0","0/0","0/0","0/0","0/0","0/0","0/0","0/0","0/0","0/0","0/0","0/0","0/0","0/0","0/0"]
[null,"09h00 / 09h30","0/0","0/0","0/0","0/0","0/0","0/0","0/0","0/0","0/0","0/0","0/0","0/0","0/0","0/0","0/0","0/0","0/0","0/0","0/0","0/0","0/0","0/0","0/0","0/0","0/0","0/0","0/0","0/0","0/0","0/0","0/0"]
[null,"09h30 / 10h00","0/0","0/0","0/0","0/0","0/0","0/0","0/0","0/0","0/0","0/0","0/0","0/0","0/0","0/0","0/0","0/0","0/0","0/0","0/0","0/0","0/0","0/0","0/0","0/0","0/0","0/0","0/0","0/0","0/0","0/0","0/0"]
[null,"10h00 / 10h30","0/0","0/0","0/0","0/0","0/0","0/0","0/0","0/0","0/0","0/0","0/0","0/0","0/0","0/0","0/0","0/0","0/0","0/0","0/0","0/0","0/0","0/0","0/0","0/0","0/0","0/0","0/0","0/0","0/0","0/0","0/0"]
[null,"10h30 / 11h00","0/0","0/0","0/0","0/0","0/0","0/0","0/0","0/0","0/0","0/0","0/0","0/0","0/0","0/0","0/0","0/0","0/0","0/0","0/0","0/0","0/0","0/0","0/0","0/0","0/0","0/0","0/0","0/0","0/0","0/0","0/0"]
[null,"11h00 / 11h30","0/0","0/0","0/0","0/0","0/0","0/0","0/0","0/0","0/0","0/0","0/0","0/0","0/0","0/0","0/0","0/0","0/0","0/0","0/0","0/0","0/0","0/0","0/0","0/0","0/0","0/0","0/0","0/0","0/0","0/0","0/0"]
[null,"11h30 / 12h00","0/0","0/0","0/0","0/0","0/0","0/0","0/0","0/0","0/0","0/0","0/0","0/0","0/0","0/0","0/0","0/0","0/0","0/0","0/0","0/0","0/0","0/0","0/0","0/0","0/0","0/0","0/0","0/0","0/0","0/0","0/0"]
[null,"12h00 / 12h30","0/0","0/0","0/0","0/0","0/0","0/0","0/0","0/0","0/0","0/0","0/0","0/0","0/0","0/0","0/0","0/0","0/0","0/0","0/0","0/0","0/0","0/0","0/0","0/0","0/0","0/0","0/0","0/0","0/0","0/0","0/0"]
[null,"12h30 / 13h00","0/0","0/0","0/0","0/0","0/0","0/0","0/0","0/0","0/0","0/0","0/0","0/0","0/0","0/0","0/0","0/0","0/0","0/0","0/0","0/0","0/0","0/0","0/0","0/0","0/0","0/0","0/0","0/0","0/0","0/0","0/0"]
[null,"13h00 / 13h30","0/0","0/0","0/0","0/0","0/0","0/0","0/0","0/0","0/0","0/0","0/0","0/0","0/0","0/0","0/0","0/0","0/0","0/0","0/0","0/0","0/0","0/0","0/0","0/0","0/0","0/0","0/0","0/0","0/0","0/0","0/0"]
[null,"13h30 / 14h00","0/0","0/0","0/0","0/0","0/0","0/0","0/0","0/0","0/0","0/0","0/0","0/0","0/0","0/0","0/0","0/0","0/0","0/0","0/0","0/0","0/0","0/0","0/0","0/0","0/0","0/0","0/0","0/0","0/0","0/0","0/0"]
[null,"Nb Présents avant midi",{"$f":"NB_Personnel-SUM(IF(INDIRECT(N_feuille_Planning&\"!\"&ADDRESS(Lig_Ref+1,2)&\":\"&ADDRESS(Ligne_max,2))=Position_journalière,IF(COUNTIF(Position_abs_avm,INDIRECT(N_feuille_Planning&\"!\"&ADDRESS(Lig_Ref+1,$A$2)&\":\"&ADDRESS(Ligne_max,$A$2))),1)))","v":2},{"$f":"NB_Personnel-SUM(IF(INDIRECT(N_feuille_Planning&\"!\"&ADDRESS(Lig_Ref+1,2)&\":\"&ADDRESS(Ligne_max,2))=Position_journalière,IF(COUNTIF(Position_abs_avm,INDIRECT(N_feuille_Planning&\"!\"&ADDRESS(Lig_Ref+1,$A$2+1)&\":\"&ADDRESS(Ligne_max,$A$2+1))),1)))","v":2},{"$f":"NB_Personnel-SUM(IF(INDIRECT(N_feuille_Planning&\"!\"&ADDRESS(Lig_Ref+1,2)&\":\"&ADDRESS(Ligne_max,2))=Position_journalière,IF(COUNTIF(Position_abs_avm,INDIRECT(N_feuille_Planning&\"!\"&ADDRESS(Lig_Ref+1,$A$2+2)&\":\"&ADDRESS(Ligne_max,$A$2+2))),1)))","v":2},{"$f":"NB_Personnel-SUM(IF(INDIRECT(N_feuille_Planning&\"!\"&ADDRESS(Lig_Ref+1,2)&\":\"&ADDRESS(Ligne_max,2))=Position_journalière,IF(COUNTIF(Position_abs_avm,INDIRECT(N_feuille_Planning&\"!\"&ADDRESS(Lig_Ref+1,$A$2+3)&\":\"&ADDRESS(Ligne_max,$A$2+3))),1)))","v":2},{"$f":"NB_Personnel-SUM(IF(INDIRECT(N_feuille_Planning&\"!\"&ADDRESS(Lig_Ref+1,2)&\":\"&ADDRESS(Ligne_max,2))=Position_journalière,IF(COUNTIF(Position_abs_avm,INDIRECT(N_feuille_Planning&\"!\"&ADDRESS(Lig_Ref+1,$A$2+4)&\":\"&ADDRESS(Ligne_max,$A$2+4))),1)))","v":2},{"$f":"NB_Personnel-SUM(IF(INDIRECT(N_feuille_Planning&\"!\"&ADDRESS(Lig_Ref+1,2)&\":\"&ADDRESS(Ligne_max,2))=Position_journalière,IF(COUNTIF(Position_abs_avm,INDIRECT(N_feuille_Planning&\"!\"&ADDRESS(Lig_Ref+1,$A$2+5)&\":\"&ADDRESS(Ligne_max,$A$2+5))),1)))","v":2},{"$f":"NB_Personnel-SUM(IF(INDIRECT(N_feuille_Planning&\"!\"&ADDRESS(Lig_Ref+1,2)&\":\"&ADDRESS(Ligne_max,2))=Position_journalière,IF(COUNTIF(Position_abs_avm,INDIRECT(N_feuille_Planning&\"!\"&ADDRESS(Lig_Ref+1,$A$2+6)&\":\"&ADDRESS(Ligne_max,$A$2+6))),1)))","v":2},{"$f":"NB_Personnel-SUM(IF(INDIRECT(N_feuille_Planning&\"!\"&ADDRESS(Lig_Ref+1,2)&\":\"&ADDRESS(Ligne_max,2))=Position_journalière,IF(COUNTIF(Position_abs_avm,INDIRECT(N_feuille_Planning&\"!\"&ADDRESS(Lig_Ref+1,$A$2+7)&\":\"&ADDRESS(Ligne_max,$A$2+7))),1)))","v":2},{"$f":"NB_Personnel-SUM(IF(INDIRECT(N_feuille_Planning&\"!\"&ADDRESS(Lig_Ref+1,2)&\":\"&ADDRESS(Ligne_max,2))=Position_journalière,IF(COUNTIF(Position_abs_avm,INDIRECT(N_feuille_Planning&\"!\"&ADDRESS(Lig_Ref+1,$A$2+8)&\":\"&ADDRESS(Ligne_max,$A$2+8))),1)))","v":2},{"$f":"NB_Personnel-SUM(IF(INDIRECT(N_feuille_Planning&\"!\"&ADDRESS(Lig_Ref+1,2)&\":\"&ADDRESS(Ligne_max,2))=Position_journalière,IF(COUNTIF(Position_abs_avm,INDIRECT(N_feuille_Planning&\"!\"&ADDRESS(Lig_Ref+1,$A$2+9)&\":\"&ADDRESS(Ligne_max,$A$2+9))),1)))","v":2},{"$f":"NB_Personnel-SUM(IF(INDIRECT(N_feuille_Planning&\"!\"&ADDRESS(Lig_Ref+1,2)&\":\"&ADDRESS(Ligne_max,2))=Position_journalière,IF(COUNTIF(Position_abs_avm,INDIRECT(N_feuille_Planning&\"!\"&ADDRESS(Lig_Ref+1,$A$2+10)&\":\"&ADDRESS(Ligne_max,$A$2+10))),1)))","v":2},{"$f":"NB_Personnel-SUM(IF(INDIRECT(N_feuille_Planning&\"!\"&ADDRESS(Lig_Ref+1,2)&\":\"&ADDRESS(Ligne_max,2))=Position_journalière,IF(COUNTIF(Position_abs_avm,INDIRECT(N_feuille_Planning&\"!\"&ADDRESS(Lig_Ref+1,$A$2+11)&\":\"&ADDRESS(Ligne_max,$A$2+11))),1)))","v":2},{"$f":"NB_Personnel-SUM(IF(INDIRECT(N_feuille_Planning&\"!\"&ADDRESS(Lig_Ref+1,2)&\":\"&ADDRESS(Ligne_max,2))=Position_journalière,IF(COUNTIF(Position_abs_avm,INDIRECT(N_feuille_Planning&\"!\"&ADDRESS(Lig_Ref+1,$A$2+12)&\":\"&ADDRESS(Ligne_max,$A$2+12))),1)))","v":2},{"$f":"NB_Personnel-SUM(IF(INDIRECT(N_feuille_Planning&\"!\"&ADDRESS(Lig_Ref+1,2)&\":\"&ADDRESS(Ligne_max,2))=Position_journalière,IF(COUNTIF(Position_abs_avm,INDIRECT(N_feuille_Planning&\"!\"&ADDRESS(Lig_Ref+1,$A$2+13)&\":\"&ADDRESS(Ligne_max,$A$2+13))),1)))","v":2},{"$f":"NB_Personnel-SUM(IF(INDIRECT(N_feuille_Planning&\"!\"&ADDRESS(Lig_Ref+1,2)&\":\"&ADDRESS(Ligne_max,2))=Position_journalière,IF(COUNTIF(Position_abs_avm,INDIRECT(N_feuille_Planning&\"!\"&ADDRESS(Lig_Ref+1,$A$2+14)&\":\"&ADDRESS(Ligne_max,$A$2+14))),1)))","v":2},{"$f":"NB_Personnel-SUM(IF(INDIRECT(N_feuille_Planning&\"!\"&ADDRESS(Lig_Ref+1,2)&\":\"&ADDRESS(Ligne_max,2))=Position_journalière,IF(COUNTIF(Position_abs_avm,INDIRECT(N_feuille_Planning&\"!\"&ADDRESS(Lig_Ref+1,$A$2+15)&\":\"&ADDRESS(Ligne_max,$A$2+15))),1)))","v":2},{"$f":"NB_Personnel-SUM(IF(INDIRECT(N_feuille_Planning&\"!\"&ADDRESS(Lig_Ref+1,2)&\":\"&ADDRESS(Ligne_max,2))=Position_journalière,IF(COUNTIF(Position_abs_avm,INDIRECT(N_feuille_Planning&\"!\"&ADDRESS(Lig_Ref+1,$A$2+16)&\":\"&ADDRESS(Ligne_max,$A$2+16))),1)))","v":2},{"$f":"NB_Personnel-SUM(IF(INDIRECT(N_feuille_Planning&\"!\"&ADDRESS(Lig_Ref+1,2)&\":\"&ADDRESS(Ligne_max,2))=Position_journalière,IF(COUNTIF(Position_abs_avm,INDIRECT(N_feuille_Planning&\"!\"&ADDRESS(Lig_Ref+1,$A$2+17)&\":\"&ADDRESS(Ligne_max,$A$2+17))),1)))","v":2},{"$f":"NB_Personnel-SUM(IF(INDIRECT(N_feuille_Planning&\"!\"&ADDRESS(Lig_Ref+1,2)&\":\"&ADDRESS(Ligne_max,2))=Position_journalière,IF(COUNTIF(Position_abs_avm,INDIRECT(N_feuille_Planning&\"!\"&ADDRESS(Lig_Ref+1,$A$2+18)&\":\"&ADDRESS(Ligne_max,$A$2+18))),1)))","v":2},{"$f":"NB_Personnel-SUM(IF(INDIRECT(N_feuille_Planning&\"!\"&ADDRESS(Lig_Ref+1,2)&\":\"&ADDRESS(Ligne_max,2))=Position_journalière,IF(COUNTIF(Position_abs_avm,INDIRECT(N_feuille_Planning&\"!\"&ADDRESS(Lig_Ref+1,$A$2+19)&\":\"&ADDRESS(Ligne_max,$A$2+19))),1)))","v":2},{"$f":"NB_Personnel-SUM(IF(INDIRECT(N_feuille_Planning&\"!\"&ADDRESS(Lig_Ref+1,2)&\":\"&ADDRESS(Ligne_max,2))=Position_journalière,IF(COUNTIF(Position_abs_avm,INDIRECT(N_feuille_Planning&\"!\"&ADDRESS(Lig_Ref+1,$A$2+20)&\":\"&ADDRESS(Ligne_max,$A$2+20))),1)))","v":2},{"$f":"NB_Personnel-SUM(IF(INDIRECT(N_feuille_Planning&\"!\"&ADDRESS(Lig_Ref+1,2)&\":\"&ADDRESS(Ligne_max,2))=Position_journalière,IF(COUNTIF(Position_abs_avm,INDIRECT(N_feuille_Planning&\"!\"&ADDRESS(Lig_Ref+1,$A$2+21)&\":\"&ADDRESS(Ligne_max,$A$2+21))),1)))","v":2},{"$f":"NB_Personnel-SUM(IF(INDIRECT(N_feuille_Planning&\"!\"&ADDRESS(Lig_Ref+1,2)&\":\"&ADDRESS(Ligne_max,2))=Position_journalière,IF(COUNTIF(Position_abs_avm,INDIRECT(N_feuille_Planning&\"!\"&ADDRESS(Lig_Ref+1,$A$2+22)&\":\"&ADDRESS(Ligne_max,$A$2+22))),1)))","v":2},{"$f":"NB_Personnel-SUM(IF(INDIRECT(N_feuille_Planning&\"!\"&ADDRESS(Lig_Ref+1,2)&\":\"&ADDRESS(Ligne_max,2))=Position_journalière,IF(COUNTIF(Position_abs_avm,INDIRECT(N_feuille_Planning&\"!\"&ADDRESS(Lig_Ref+1,$A$2+23)&\":\"&ADDRESS(Ligne_max,$A$2+23))),1)))","v":2},{"$f":"NB_Personnel-SUM(IF(INDIRECT(N_feuille_Planning&\"!\"&ADDRESS(Lig_Ref+1,2)&\":\"&ADDRESS(Ligne_max,2))=Position_journalière,IF(COUNTIF(Position_abs_avm,INDIRECT(N_feuille_Planning&\"!\"&ADDRESS(Lig_Ref+1,$A$2+24)&\":\"&ADDRESS(Ligne_max,$A$2+24))),1)))","v":2},{"$f":"NB_Personnel-SUM(IF(INDIRECT(N_feuille_Planning&\"!\"&ADDRESS(Lig_Ref+1,2)&\":\"&ADDRESS(Ligne_max,2))=Position_journalière,IF(COUNTIF(Position_abs_avm,INDIRECT(N_feuille_Planning&\"!\"&ADDRESS(Lig_Ref+1,$A$2+25)&\":\"&ADDRESS(Ligne_max,$A$2+25))),1)))","v":2},{"$f":"NB_Personnel-SUM(IF(INDIRECT(N_feuille_Planning&\"!\"&ADDRESS(Lig_Ref+1,2)&\":\"&ADDRESS(Ligne_max,2))=Position_journalière,IF(COUNTIF(Position_abs_avm,INDIRECT(N_feuille_Planning&\"!\"&ADDRESS(Lig_Ref+1,$A$2+26)&\":\"&ADDRESS(Ligne_max,$A$2+26))),1)))","v":2},{"$f":"NB_Personnel-SUM(IF(INDIRECT(N_feuille_Planning&\"!\"&ADDRESS(Lig_Ref+1,2)&\":\"&ADDRESS(Ligne_max,2))=Position_journalière,IF(COUNTIF(Position_abs_avm,INDIRECT(N_feuille_Planning&\"!\"&ADDRESS(Lig_Ref+1,$A$2+27)&\":\"&ADDRESS(Ligne_max,$A$2+27))),1)))","v":2},{"$f":"NB_Personnel-SUM(IF(INDIRECT(N_feuille_Planning&\"!\"&ADDRESS(Lig_Ref+1,2)&\":\"&ADDRESS(Ligne_max,2))=Position_journalière,IF(COUNTIF(Position_abs_avm,INDIRECT(N_feuille_Planning&\"!\"&ADDRESS(Lig_Ref+1,$A$2+28)&\":\"&ADDRESS(Ligne_max,$A$2+28))),1)))","v":2},{"$f":"NB_Personnel-SUM(IF(INDIRECT(N_feuille_Planning&\"!\"&ADDRESS(Lig_Ref+1,2)&\":\"&ADDRESS(Ligne_max,2))=Position_journalière,IF(COUNTIF(Position_abs_avm,INDIRECT(N_feuille_Planning&\"!\"&ADDRESS(Lig_Ref+1,$A$2+29)&\":\"&ADDRESS(Ligne_max,$A$2+29))),1)))","v":2},{"$f":"NB_Personnel-SUM(IF(INDIRECT(N_feuille_Planning&\"!\"&ADDRESS(Lig_Ref+1,2)&\":\"&ADDRESS(Ligne_max,2))=Position_journalière,IF(COUNTIF(Position_abs_avm,INDIRECT(N_feuille_Planning&\"!\"&ADDRESS(Lig_Ref+1,$A$2+30)&\":\"&ADDRESS(Ligne_max,$A$2+30))),1)))","v":2}]
[null,"14h00 / 14h30",{"$f":"IF($B$2<>\"\",COUNTIFS(INDIRECT(\"'\"&N_feuille_Planning&\"'!L\"&Lig_Ref+1&\"C3:L\"&Ligne_max&\"C3\",FALSE),$B19,INDIRECT(\"'\"&N_feuille_Planning&\"'!L\"&Lig_Ref+1&\"C\"&$A$2+(COLUMN()-3)&\":L\"&Ligne_max&\"C\"&$A$2+(COLUMN()-3),FALSE),OFFSET(C19,-(ROW()-2),-(COLUMN()-2)))&\"/\"&COUNTIFS(INDIRECT(\"'\"&N_feuille_Planning&\"'!L\"&Lig_Ref+1&\"C3:L\"&Ligne_max&\"C3\",FALSE),$B19,INDIRECT(\"'\"&N_feuille_Planning&\"'!L\"&Lig_Ref+1&\"C\"&$A$2+(COLUMN()-3)&\":L\"&Ligne_max&\"C\"&$A$2+(COLUMN()-3),FALSE),\"><\"),\"\")","v":"0/0"},"0/0","0/0","0/0","0/0","0/0","0/0","0/0","0/0","0/0",{"$f":"IF($B$2<>\"\",COUNTIFS(INDIRECT(\"'\"&N_feuille_Planning&\"'!L\"&Lig_Ref+1&\"C3:L\"&Ligne_max&\"C3\",FALSE),$B19,INDIRECT(\"'\"&N_feuille_Planning&\"'!L\"&Lig_Ref+1&\"C\"&$A$2+(COLUMN()-3)&\":L\"&Ligne_max&\"C\"&$A$2+(COLUMN()-3),FALSE),OFFSET(M19,-(ROW()-2),-(COLUMN()-2)))&\"/\"&COUNTIFS(INDIRECT(\"'\"&N_feuille_Planning&\"'!L\"&Lig_Ref+1&\"C3:L\"&Ligne_max&\"C3\",FALSE),$B19,INDIRECT(\"'\"&N_feuille_Planning&\"'!L\"&Lig_Ref+1&\"C\"&$A$2+(COLUMN()-3)&\":L\"&Ligne_max&\"C\"&$A$2+(COLUMN()-3),FALSE),\"><\"),\"\")","v":"0/0"},"0/0","0/0","0/0","0/0","0/0","0/0","0/0","0/0","0/0",{"$f":"IF($B$2<>\"\",COUNTIFS(INDIRECT(\"'\"&N_feuille_Planning&\"'!L\"&Lig_Ref+1&\"C3:L\"&Ligne_max&\"C3\",FALSE),$B19,INDIRECT(\"'\"&N_feuille_Planning&\"'!L\"&Lig_Ref+1&\"C\"&$A$2+(COLUMN()-3)&\":L\"&Ligne_max&\"C\"&$A$2+(COLUMN()-3),FALSE),OFFSET(W19,-(ROW()-2),-(COLUMN()-2)))&\"/\"&COUNTIFS(INDIRECT(\"'\"&N_feuille_Planning&\"'!L\"&Lig_Ref+1&\"C3:L\"&Ligne_max&\"C3\",FALSE),$B19,INDIRECT(\"'\"&N_feuille_Planning&\"'!L\"&Lig_Ref+1&\"C\"&$A$2+(COLUMN()-3)&\":L\"&Ligne_max&\"C\"&$A$2+(COLUMN()-3),FALSE),\"><\"),\"\")","v":"0/0"},"0/0","0/0","0/0","0/0","0/0","0/0","0/0","0/0","0/0","0/0"]
[null,"14h30 / 15h00","0/0","0/0","0/0","0/0","0/0","0/0","0/0","0/0","0/0","0/0","0/0","0/0","0/0","0/0","0/0","0/0","0/0","0/0","0/0","0/0","0/0","0/0","0/0","0/0","0/0","0/0","0/0","0/0","0/0","0/0","0/0"]
[null,"15h00 / 15h30","0/0","0/0","0/0","0/0","0/0","0/0","0/0","0/0","0/0","0/0","0/0","0/0","0/0","0/0","0/0","0/0","0/0","0/0","0/0","0/0","0/0","0/0","0/0","0/0","0/0","0/0","0/0","0/0","0/0","0/0","0/0"]
[null,"15h30 / 16h00","0/0","0/0","0/0","0/0","0/0","0/0","0/0","0/0","0/0","0/0","0/0","0/0","0/0","0/0","0/0","0/0","0/0","0/0","0/0","0/0","0/0","0/0","0/0","0/0","0/0","0/0","0/0","0/0","0/0","0/0","0/0"]
[null,"16h00 / 16h30","0/0","0/0","0/0","0/0","0/0","0/0","0/0","0/0","0/0","0/0","0/0","0/0","0/0","0/0","0/0","0/0","0/0","0/0","0/0","0/0","0/0","0/0","0/0","0/0","0/0","0/0","0/0","0/0","0/0","0/0","0/0"]
[null,"16h30 / 17h00","0/0","0/0","0/0","0/0","0/0","0/0","0/0","0/0","0/0","0/0","0/0","0/0","0/0","0/0","0/0","0/0","0/0","0/0","0/0","0/0","0/0","0/0","0/0","0/0","0/0","0/0","0/0","0/0","0/0","0/0","0/0"]
[null,"17h00 / 17h30","0/0","0/0","0/0","0/0","0/0","0/0","0/0","0/0","0/0","0/0","0/0","0/0","0/0","0/0","0/0","0/0","0/0","0/0","0/0","0/0","0/0","0/0","0/0","0/0","0/0","0/0","0/0","0/0","0/0","0/0","0/0"]
[null,"17h30 / 18h00","0/0","0/0","0/0","0/0","0/0","0/0","0/0","0/0","0/0","0/0","0/0","0/0","0/0","0/0","0/0","0/0","0/0","0/0","0/0","0/0","0/0","0/0","0/0","0/0","0/0","0/0","0/0","0/0","0/0","0/0","0/0"]
[null,"18h00 / 18h30","0/0","0/0","0/0","0/0","0/0","0/0","0/0","0/0","0/0","0/0","0/0","0/0","0/0","0/0","0/0","0/0","0/0","0/0","0/0","0/0","0/0","0/0","0/0","0/0","0/0","0/0","0/0","0/0","0/0","0/0","0/0"]
[null,"18h30 / 19h00","0/0","0/0","0/0","0/0","0/0","0/0","0/0","0/0","0/0","0/0","0/0","0/0","0/0","0/0","0/0","0/0","0/0","0/0","0/0","0/0","0/0","0/0","0/0","0/0","0/0","0/0","0/0","0/0","0/0","0/0","0/0"]
[null,"19h00 / 19h30","0/0","0/0","0/0","0/0","0/0","0/0","0/0","0/0","0/0","0/0","0/0","0/0","0/0","0/0","0/0","0/0","0/0","0/0","0/0","0/0","0/0","0/0","0/0","0/0","0/0","0/0","0/0","0/0","0/0","0/0","0/0"]
[null,"19h30 / 20h00","0/0","0/0","0/0","0/0","0/0","0/0","0/0","0/0","0/0","0/0","0/0","0/0","0/0","0/0","0/0","0/0","0/0","0/0","0/0","0/0","0/0","0/0","0/0","0/0","0/0","0/0","0/0","0/0","0/0","0/0","0/0"]
[null,"Nb Présents après midi",{"$f":"NB_Personnel-SUM(IF(INDIRECT(N_feuille_Planning&\"!\"&ADDRESS(Lig_Ref+1,2)&\":\"&ADDRESS(Ligne_max,2))=Position_journalière,IF(COUNTIF(Position_abs_apm,INDIRECT(N_feuille_Planning&\"!\"&ADDRESS(Lig_Ref+1,$A$2)&\":\"&ADDRESS(Ligne_max,$A$2))),1)))","v":2},{"$f":"NB_Personnel-SUM(IF(INDIRECT(N_feuille_Planning&\"!\"&ADDRESS(Lig_Ref+1,2)&\":\"&ADDRESS(Ligne_max,2))=Position_journalière,IF(COUNTIF(Position_abs_apm,INDIRECT(N_feuille_Planning&\"!\"&ADDRESS(Lig_Ref+1,$A$2+1)&\":\"&ADDRESS(Ligne_max,$A$2+1))),1)))","v":2},{"$f":"NB_Personnel-SUM(IF(INDIRECT(N_feuille_Planning&\"!\"&ADDRESS(Lig_Ref+1,2)&\":\"&ADDRESS(Ligne_max,2))=Position_journalière,IF(COUNTIF(Position_abs_apm,INDIRECT(N_feuille_Planning&\"!\"&ADDRESS(Lig_Ref+1,$A$2+2)&\":\"&ADDRESS(Ligne_max,$A$2+2))),1)))","v":2},{"$f":"NB_Personnel-SUM(IF(INDIRECT(N_feuille_Planning&\"!\"&ADDRESS(Lig_Ref+1,2)&\":\"&ADDRESS(Ligne_max,2))=Position_journalière,IF(COUNTIF(Position_abs_apm,INDIRECT(N_feuille_Planning&\"!\"&ADDRESS(Lig_Ref+1,$A$2+3)&\":\"&ADDRESS(Ligne_max,$A$2+3))),1)))","v":2},{"$f":"NB_Personnel-SUM(IF(INDIRECT(N_feuille_Planning&\"!\"&ADDRESS(Lig_Ref+1,2)&\":\"&ADDRESS(Ligne_max,2))=Position_journalière,IF(COUNTIF(Position_abs_apm,INDIRECT(N_feuille_Planning&\"!\"&ADDRESS(Lig_Ref+1,$A$2+4)&\":\"&ADDRESS(Ligne_max,$A$2+4))),1)))","v":2},{"$f":"NB_Personnel-SUM(IF(INDIRECT(N_feuille_Planning&\"!\"&ADDRESS(Lig_Ref+1,2)&\":\"&ADDRESS(Ligne_max,2))=Position_journalière,IF(COUNTIF(Position_abs_apm,INDIRECT(N_feuille_Planning&\"!\"&ADDRESS(Lig_Ref+1,$A$2+5)&\":\"&ADDRESS(Ligne_max,$A$2+5))),1)))","v":2},{"$f":"NB_Personnel-SUM(IF(INDIRECT(N_feuille_Planning&\"!\"&ADDRESS(Lig_Ref+1,2)&\":\"&ADDRESS(Ligne_max,2))=Position_journalière,IF(COUNTIF(Position_abs_apm,INDIRECT(N_feuille_Planning&\"!\"&ADDRESS(Lig_Ref+1,$A$2+6)&\":\"&ADDRESS(Ligne_max,$A$2+6))),1)))","v":2},{"$f":"NB_Personnel-SUM(IF(INDIRECT(N_feuille_Planning&\"!\"&ADDRESS(Lig_Ref+1,2)&\":\"&ADDRESS(Ligne_max,2))=Position_journalière,IF(COUNTIF(Position_abs_apm,INDIRECT(N_feuille_Planning&\"!\"&ADDRESS(Lig_Ref+1,$A$2+7)&\":\"&ADDRESS(Ligne_max,$A$2+7))),1)))","v":2},{"$f":"NB_Personnel-SUM(IF(INDIRECT(N_feuille_Planning&\"!\"&ADDRESS(Lig_Ref+1,2)&\":\"&ADDRESS(Ligne_max,2))=Position_journalière,IF(COUNTIF(Position_abs_apm,INDIRECT(N_feuille_Planning&\"!\"&ADDRESS(Lig_Ref+1,$A$2+8)&\":\"&ADDRESS(Ligne_max,$A$2+8))),1)))","v":2},{"$f":"NB_Personnel-SUM(IF(INDIRECT(N_feuille_Planning&\"!\"&ADDRESS(Lig_Ref+1,2)&\":\"&ADDRESS(Ligne_max,2))=Position_journalière,IF(COUNTIF(Position_abs_apm,INDIRECT(N_feuille_Planning&\"!\"&ADDRESS(Lig_Ref+1,$A$2+9)&\":\"&ADDRESS(Ligne_max,$A$2+9))),1)))","v":2},{"$f":"NB_Personnel-SUM(IF(INDIRECT(N_feuille_Planning&\"!\"&ADDRESS(Lig_Ref+1,2)&\":\"&ADDRESS(Ligne_max,2))=Position_journalière,IF(COUNTIF(Position_abs_apm,INDIRECT(N_feuille_Planning&\"!\"&ADDRESS(Lig_Ref+1,$A$2+10)&\":\"&ADDRESS(Ligne_max,$A$2+10))),1)))","v":2},{"$f":"NB_Personnel-SUM(IF(INDIRECT(N_feuille_Planning&\"!\"&ADDRESS(Lig_Ref+1,2)&\":\"&ADDRESS(Ligne_max,2))=Position_journalière,IF(COUNTIF(Position_abs_apm,INDIRECT(N_feuille_Planning&\"!\"&ADDRESS(Lig_Ref+1,$A$2+11)&\":\"&ADDRESS(Ligne_max,$A$2+11))),1)))","v":2},{"$f":"NB_Personnel-SUM(IF(INDIRECT(N_feuille_Planning&\"!\"&ADDRESS(Lig_Ref+1,2)&\":\"&ADDRESS(Ligne_max,2))=Position_journalière,IF(COUNTIF(Position_abs_apm,INDIRECT(N_feuille_Planning&\"!\"&ADDRESS(Lig_Ref+1,$A$2+12)&\":\"&ADDRESS(Ligne_max,$A$2+12))),1)))","v":2},{"$f":"NB_Personnel-SUM(IF(INDIRECT(N_feuille_Planning&\"!\"&ADDRESS(Lig_Ref+1,2)&\":\"&ADDRESS(Ligne_max,2))=Position_journalière,IF(COUNTIF(Position_abs_apm,INDIRECT(N_feuille_Planning&\"!\"&ADDRESS(Lig_Ref+1,$A$2+13)&\":\"&ADDRESS(Ligne_max,$A$2+13))),1)))","v":2},{"$f":"NB_Personnel-SUM(IF(INDIRECT(N_feuille_Planning&\"!\"&ADDRESS(Lig_Ref+1,2)&\":\"&ADDRESS(Ligne_max,2))=Position_journalière,IF(COUNTIF(Position_abs_apm,INDIRECT(N_feuille_Planning&\"!\"&ADDRESS(Lig_Ref+1,$A$2+14)&\":\"&ADDRESS(Ligne_max,$A$2+14))),1)))","v":2},{"$f":"NB_Personnel-SUM(IF(INDIRECT(N_feuille_Planning&\"!\"&ADDRESS(Lig_Ref+1,2)&\":\"&ADDRESS(Ligne_max,2))=Position_journalière,IF(COUNTIF(Position_abs_apm,INDIRECT(N_feuille_Planning&\"!\"&ADDRESS(Lig_Ref+1,$A$2+15)&\":\"&ADDRESS(Ligne_max,$A$2+15))),1)))","v":2},{"$f":"NB_Personnel-SUM(IF(INDIRECT(N_feuille_Planning&\"!\"&ADDRESS(Lig_Ref+1,2)&\":\"&ADDRESS(Ligne_max,2))=Position_journalière,IF(COUNTIF(Position_abs_apm,INDIRECT(N_feuille_Planning&\"!\"&ADDRESS(Lig_Ref+1,$A$2+16)&\":\"&ADDRESS(Ligne_max,$A$2+16))),1)))","v":2},{"$f":"NB_Personnel-SUM(IF(INDIRECT(N_feuille_Planning&\"!\"&ADDRESS(Lig_Ref+1,2)&\":\"&ADDRESS(Ligne_max,2))=Position_journalière,IF(COUNTIF(Position_abs_apm,INDIRECT(N_feuille_Planning&\"!\"&ADDRESS(Lig_Ref+1,$A$2+17)&\":\"&ADDRESS(Ligne_max,$A$2+17))),1)))","v":2},{"$f":"NB_Personnel-SUM(IF(INDIRECT(N_feuille_Planning&\"!\"&ADDRESS(Lig_Ref+1,2)&\":\"&ADDRESS(Ligne_max,2))=Position_journalière,IF(COUNTIF(Position_abs_apm,INDIRECT(N_feuille_Planning&\"!\"&ADDRESS(Lig_Ref+1,$A$2+18)&\":\"&ADDRESS(Ligne_max,$A$2+18))),1)))","v":2},{"$f":"NB_Personnel-SUM(IF(INDIRECT(N_feuille_Planning&\"!\"&ADDRESS(Lig_Ref+1,2)&\":\"&ADDRESS(Ligne_max,2))=Position_journalière,IF(COUNTIF(Position_abs_apm,INDIRECT(N_feuille_Planning&\"!\"&ADDRESS(Lig_Ref+1,$A$2+19)&\":\"&ADDRESS(Ligne_max,$A$2+19))),1)))","v":2},{"$f":"NB_Personnel-SUM(IF(INDIRECT(N_feuille_Planning&\"!\"&ADDRESS(Lig_Ref+1,2)&\":\"&ADDRESS(Ligne_max,2))=Position_journalière,IF(COUNTIF(Position_abs_apm,INDIRECT(N_feuille_Planning&\"!\"&ADDRESS(Lig_Ref+1,$A$2+20)&\":\"&ADDRESS(Ligne_max,$A$2+20))),1)))","v":2},{"$f":"NB_Personnel-SUM(IF(INDIRECT(N_feuille_Planning&\"!\"&ADDRESS(Lig_Ref+1,2)&\":\"&ADDRESS(Ligne_max,2))=Position_journalière,IF(COUNTIF(Position_abs_apm,INDIRECT(N_feuille_Planning&\"!\"&ADDRESS(Lig_Ref+1,$A$2+21)&\":\"&ADDRESS(Ligne_max,$A$2+21))),1)))","v":2},{"$f":"NB_Personnel-SUM(IF(INDIRECT(N_feuille_Planning&\"!\"&ADDRESS(Lig_Ref+1,2)&\":\"&ADDRESS(Ligne_max,2))=Position_journalière,IF(COUNTIF(Position_abs_apm,INDIRECT(N_feuille_Planning&\"!\"&ADDRESS(Lig_Ref+1,$A$2+22)&\":\"&ADDRESS(Ligne_max,$A$2+22))),1)))","v":2},{"$f":"NB_Personnel-SUM(IF(INDIRECT(N_feuille_Planning&\"!\"&ADDRESS(Lig_Ref+1,2)&\":\"&ADDRESS(Ligne_max,2))=Position_journalière,IF(COUNTIF(Position_abs_apm,INDIRECT(N_feuille_Planning&\"!\"&ADDRESS(Lig_Ref+1,$A$2+23)&\":\"&ADDRESS(Ligne_max,$A$2+23))),1)))","v":2},{"$f":"NB_Personnel-SUM(IF(INDIRECT(N_feuille_Planning&\"!\"&ADDRESS(Lig_Ref+1,2)&\":\"&ADDRESS(Ligne_max,2))=Position_journalière,IF(COUNTIF(Position_abs_apm,INDIRECT(N_feuille_Planning&\"!\"&ADDRESS(Lig_Ref+1,$A$2+24)&\":\"&ADDRESS(Ligne_max,$A$2+24))),1)))","v":2},{"$f":"NB_Personnel-SUM(IF(INDIRECT(N_feuille_Planning&\"!\"&ADDRESS(Lig_Ref+1,2)&\":\"&ADDRESS(Ligne_max,2))=Position_journalière,IF(COUNTIF(Position_abs_apm,INDIRECT(N_feuille_Planning&\"!\"&ADDRESS(Lig_Ref+1,$A$2+25)&\":\"&ADDRESS(Ligne_max,$A$2+25))),1)))","v":2},{"$f":"NB_Personnel-SUM(IF(INDIRECT(N_feuille_Planning&\"!\"&ADDRESS(Lig_Ref+1,2)&\":\"&ADDRESS(Ligne_max,2))=Position_journalière,IF(COUNTIF(Position_abs_apm,INDIRECT(N_feuille_Planning&\"!\"&ADDRESS(Lig_Ref+1,$A$2+26)&\":\"&ADDRESS(Ligne_max,$A$2+26))),1)))","v":2},{"$f":"NB_Personnel-SUM(IF(INDIRECT(N_feuille_Planning&\"!\"&ADDRESS(Lig_Ref+1,2)&\":\"&ADDRESS(Ligne_max,2))=Position_journalière,IF(COUNTIF(Position_abs_apm,INDIRECT(N_feuille_Planning&\"!\"&ADDRESS(Lig_Ref+1,$A$2+27)&\":\"&ADDRESS(Ligne_max,$A$2+27))),1)))","v":2},{"$f":"NB_Personnel-SUM(IF(INDIRECT(N_feuille_Planning&\"!\"&ADDRESS(Lig_Ref+1,2)&\":\"&ADDRESS(Ligne_max,2))=Position_journalière,IF(COUNTIF(Position_abs_apm,INDIRECT(N_feuille_Planning&\"!\"&ADDRESS(Lig_Ref+1,$A$2+28)&\":\"&ADDRESS(Ligne_max,$A$2+28))),1)))","v":2},{"$f":"NB_Personnel-SUM(IF(INDIRECT(N_feuille_Planning&\"!\"&ADDRESS(Lig_Ref+1,2)&\":\"&ADDRESS(Ligne_max,2))=Position_journalière,IF(COUNTIF(Position_abs_apm,INDIRECT(N_feuille_Planning&\"!\"&ADDRESS(Lig_Ref+1,$A$2+29)&\":\"&ADDRESS(Ligne_max,$A$2+29))),1)))","v":2},{"$f":"NB_Personnel-SUM(IF(INDIRECT(N_feuille_Planning&\"!\"&ADDRESS(Lig_Ref+1,2)&\":\"&ADDRESS(Ligne_max,2))=Position_journalière,IF(COUNTIF(Position_abs_apm,INDIRECT(N_feuille_Planning&\"!\"&ADDRESS(Lig_Ref+1,$A$2+30)&\":\"&ADDRESS(Ligne_max,$A$2+30))),1)))","v":2}]
[]
[null,"Jours affichés",{"$f":"INDIRECT(\"'\"&N_feuille_Planning&\"'!L\"&Lig_Ref&\"C\"&$A$2+(RIGHT(INT(((COLUMN()-3)/9)*10),1)*1),FALSE)","v":42736},42737,42738,42739,42740,42741,42742,42743,42744,42736,42737,42738,42739,42740,42741,42742,42743,42744,42736,42737,42738,42739,42740,42741,42742,42743,42744,42736,42737,42738,42739]

{"sheet":"Système","index":4,"n_rows":99,"n_cols":51,"rows_kept":99,"cut":false,"hidden":false,"merged":[[0,4,0,5],[0,26,0,38],[0,22,0,24]]}
["Choix de la période","Début","Fin",null,"Calcul du premier lundi du premier mois du planning pour l'agenda",null,null,"Gestion des jours chômés",null,"Indiquez l'année du suivi",2017,{"$f":"IF(AND(Lundi=TRUE,Mardi=TRUE,Mercredi=TRUE,Jeudi=TRUE,Vendredi=TRUE,Samedi=TRUE,Dimanche=TRUE),\"Il doit y avoir une erreur !\",\"Indiquez les jours chômés\")","v":"Indiquez les jours chômés"},"Année du jour férié","Dates","Jour Fériés","Chômé ?",null,null,"Découpage des trimestres","Automatique\n(3 mois)","Manuel",null,"Définition des variables pour la recopie des feuilles Agenda - Valeurs automatiques !",null,null,null,"Calcul des coordonnées des positions journalières pour le remplissage des feuilles récap annuel individuel",null,null,null,null,null,null,null,null,null,null,null,null,null,"Personnel","Report","Ouvert","Filtres pour la feuille de récap individuel",null,"Liste des Catégories toutes rubriques comprise","Code Associé","Liste des positions du personnel absent avant midi","Code associé","Liste des positions du personnel absent après midi","Code associé"]
["Année entière","D",{"$f":"IF(Mois_deb_planning<=2,IF(DAY(DATE(AN,2,29))=29,MID(ADDRESS(ROW(fin),COLUMN(fin)),2,2),MID(ADDRESS(ROW(fin),COLUMN(fin)-1),2,2)),IF(DAY(DATE(AN+1,2,29))=29,MID(ADDRESS(ROW(fin),COLUMN(fin)),2,2),MID(ADDRESS(ROW(fin),COLUMN(fin)-1),2,2)))","v":"ND"},null,{"$f":"WEEKDAY(F2)","v":1},{"$f":"DATE(AN,Mois_deb_planning,1)","v":"2017-01-01"},null,false,null,"Indiquez le premier mois du planning","Janvier",null,{"$f":"IF(MONTH(1&Premier_mois)<>1,AN+1,AN)","v":2017},{"$f":"IF(P2,DATE(M2,1,1),\"\")","v":"2017-01-01"},{"$f":"\"Jour de l'an \"&M2","v":"Jour de l'an 2017"},true,null,null,"Début premier trimestre",{"$f":"IF(U2=\"\",Premier_mois,\"\")","v":"Janvier"},null,null,"N° de ligne du premier créneau horaire de l'Agenda",null,7,null,{"$f":"debut","v":"2017-01-01"},{"$f":"DATE(AN,MONTH(debut)+1,1)","v":"2017-02-01"},{"$f":"DATE(AN,MONTH(debut)+2,1)","v":"2017-03-01"},{"$f":"DATE(AN,MONTH(debut)+3,1)","v":"2017-04-01"},{"$f":"DATE(AN,MONTH(debut)+4,1)","v":"2017-05-01"},{"$f":"DATE(AN,MONTH(debut)+5,1)","v":"2017-06-01"},{"$f":"DATE(AN,MONTH(debut)+6,1)","v":"2017-07-01"},{"$f":"DATE(AN,MONTH(debut)+7,1)","v":"2017-08-01"},{"$f":"DATE(AN,MONTH(debut)+8,1)","v":"2017-09-01"},{"$f":"DATE(AN,MONTH(debut)+9,1)","v":"2017-10-01"},{"$f":"DATE(AN,MONTH(debut)+10,1)","v":"2017-11-01"},{"$f":"DATE(AN,MONTH(debut)+11,1)","v":"2017-12-01"},"2017-01-02",null,"Personnel 01",0,25,{"$f":"A2","v":"Année entière"},null,"Catégorie 1.1","C1.1","Congés Payés","CP","Congés Payés","CP"]
[{"$f":"Premier_mois","v":"Janvier"},"D",{"$f":"MID(ADDRESS(ROW(debut),COLUMN(debut)+DAY(EOMONTH(DATE(AN,Mois_deb_planning,1),0))-1),2,2)","v":"AH"},null,{"$f":"WEEKDAY(F3)","v":2},{"$f":"F2+1","v":"2017-01-02"},null,false,null,"Indiquez le nom de votre service","LRD.com Production ©",null,{"$f":"IF(MONTH(DATE(AN,3,29.56+0.979*MOD(204-11*MOD(AN,19),30)-WEEKDAY(DATE(AN,3,28.56+0.979*MOD(204-11*MOD(AN,19),30))))+1)<MONTH(1&Premier_mois),AN+1,AN)","v":2017},{"$f":"IF(P3,DATE(M3,3,29.56+0.979*MOD(204-11*MOD(M3,19),30)-WEEKDAY(DATE(M3,3,28.56+0.979*MOD(204-11*MOD(M3,19),30))))+1,\"\")","v":"2017-04-17"},"Lundi de pâques",true,null,null,"Fin premier trimestre",{"$f":"IF(U3=\"\",INDEX(Mois_Année,MATCH(IF(T2=\"\",U2,T2),Mois_Année,0)+2,1),\"\")","v":"Mars"},null,null,"Nombre de ligne au dessus de ce premier créneau",null,{"$f":"1+(Ligne_position+Ligne_HSUP_MTN)","v":3},null,{"$f":"AA2+1","v":"2017-01-02"},"2017-02-02","2017-03-02","2017-04-02","2017-05-02","2017-06-02","2017-07-02","2017-08-02","2017-09-02","2017-10-02","2017-11-02","2017-12-02",{"$f":"ADDRESS(SUMPRODUCT((Plage_année=AM2)*(ROW(Plage_année))),SUMPRODUCT((Plage_année=AM2)*(COLUMN(Plage_année))))","v":"$AA$3"},null,"Personnel 02",0,25,{"$f":"A3","v":"Janvier"},null,"Catégorie 1.2","C1.2","Demi Congés Payés Matin","CPM","Demi Congés Payés Après Midi","CPA"]
[{"$f":"INDEX(Mois_Année,MATCH(A3,Mois_Année,0)+1,1)","v":"Février"},{"$f":"MID(ADDRESS(ROW(debut),COLUMN(debut)+DAY(EOMONTH(DATE(AN,Mois_deb_planning,1),0))),2,2)","v":"AI"},{"$f":"MID(ADDRESS(ROW(debut),COLUMN(INDIRECT(C3&\"1\"))+1+DAY(EOMONTH(DATE(AN,Mois_deb_planning+1,1),0))-1),2,2)","v":"BJ"},null,3,"2017-01-03",null,false,null,"Indiquez le texte de la  ligne : position journalière","Absences",null,{"$f":"IF(MONTH(1&Premier_mois)>5,AN+1,AN)","v":2017},{"$f":"IF(P4,DATE(M4,5,1),\"\")","v":"2017-05-01"},"Fête du travail",true,null,null,"Début deuxième trimestre",{"$f":"IF(U4=\"\",INDEX(Mois_Année,MATCH(IF(T3=\"\",U3,T3),Mois_Année,0)+1,1),\"\")","v":"Avril"},null,null,"Pas des créneaux horaire en multiple de 30 minutes",null,2,null,"2017-01-03","2017-02-03","2017-03-03","2017-04-03","2017-05-03","2017-06-03","2017-07-03","2017-08-03","2017-09-03","2017-10-03","2017-11-03","2017-12-03",{"$f":"(COLUMN(INDIRECT(AM3))-(COLUMN(ref_plage_année)-1))*5","v":5},null,"",0,25,"Février",null,"Catégorie 1.3","C1.3","RTT","RTT","RTT","RTT"]
[{"$f":"INDEX(Mois_Année,MATCH(A4,Mois_Année,0)+1,1)","v":"Mars"},{"$f":"MID(ADDRESS(ROW(debut),COLUMN(INDIRECT(C3&\"1\"))+1+DAY(EOMONTH(DATE(AN,Mois_deb_planning+1,1),0))),2,2)","v":"BK"},{"$f":"MID(ADDRESS(ROW(debut),COLUMN(INDIRECT(C4&\"1\"))+1+DAY(EOMONTH(DATE(AN,Mois_deb_planning+2,1),0))-1),2,2)","v":"CO"},null,4,"2017-01-04",null,false,null,"Indiquez le texte de la  ligne : avant journée","HHO du matin",null,{"$f":"IF(MONTH(DATE(AN,3,29.56+0.979*MOD(204-11*MOD(AN,19),30)-WEEKDAY(DATE(AN,3,28.56+0.979*MOD(204-11*MOD(AN,19),30))))+1+38)<MONTH(1&Premier_mois),AN+1,AN)","v":2017},{"$f":"IF(P5,DATE(M5,3,29.56+0.979*MOD(204-11*MOD(M5,19),30)-WEEKDAY(DATE(M5,3,28.56+0.979*MOD(204-11*MOD(M5,19),30))))+1+38,\"\")","v":"2017-05-25"},"Jeudi de l'ascension",true,null,null,"Fin deuxième trimestre",{"$f":"IF(U5=\"\",INDEX(Mois_Année,MATCH(IF(T4=\"\",U4,T4),Mois_Année,0)+2,1),\"\")","v":"Juin"},null,null,"Durée de la coupure méridienne multiple de 30 minutes",null,0,null,"2017-01-04","2017-02-04","2017-03-04","2017-04-04","2017-05-04","2017-06-04","2017-07-04","2017-08-04","2017-09-04","2017-10-04","2017-11-04","2017-12-04",{"$f":"ROW(INDIRECT(AM3))-(ROW(ref_plage_année)-1)+2","v":4},null,"",0,25,"Mars",null,"Catégorie 1.4","C1.4","RTT Matin","RTTM","RTT Midi","RTTA"]
["Avril",{"$f":"MID(ADDRESS(ROW(debut),COLUMN(INDIRECT(C4&\"1\"))+1+DAY(EOMONTH(DATE(AN,Mois_deb_planning+2,1),0))),2,2)","v":"CP"},{"$f":"MID(ADDRESS(ROW(debut),COLUMN(INDIRECT(C5&\"1\"))+1+DAY(EOMONTH(DATE(AN,Mois_deb_planning+3,1),0))-1),2,2)","v":"DS"},null,5,"2017-01-05",null,false,null,"Indiquez le texte de la  ligne : période d'activité journée du matin","HOMA",null,{"$f":"IF(MONTH(1&Premier_mois)>5,AN+1,AN)","v":2017},{"$f":"IF(P6,DATE(M6,5,8),\"\")","v":"2017-05-08"},"Victoire 1945",true,null,null,"Début troisième trimestre",{"$f":"IF(U6=\"\",INDEX(Mois_Année,MATCH(IF(T5=\"\",U5,T5),Mois_Année,0)+1,1),\"\")","v":"Juillet"},null,null,"Ligne de présence du personnel",null,true,null,"2017-01-05","2017-02-05","2017-03-05","2017-04-05","2017-05-05","2017-06-05","2017-07-05","2017-08-05","2017-09-05","2017-10-05","2017-11-05","2017-12-05",null,null,"",0,25,"Avril",null,"Catégorie 1.5","C1.5","Garde Enfant Malade","GEM","Garde Enfant Malade","GEM"]
["Mai",{"$f":"MID(ADDRESS(ROW(debut),COLUMN(INDIRECT(C5&\"1\"))+1+DAY(EOMONTH(DATE(AN,Mois_deb_planning+3,1),0))),2,2)","v":"DT"},{"$f":"MID(ADDRESS(ROW(debut),COLUMN(INDIRECT(C6&\"1\"))+1+DAY(EOMONTH(DATE(AN,Mois_deb_planning+4,1),0))-1),2,2)","v":"EX"},null,6,"2017-01-06",null,true,null,"Indiquez le texte de la  ligne : période d'activité journée de l'après midi","HOMI",null,{"$f":"IF(MONTH(DATE(AN,3,29.56+0.979*MOD(204-11*MOD(AN,19),30)-WEEKDAY(DATE(AN,3,28.56+0.979*MOD(204-11*MOD(AN,19),30))))+1+49)<MONTH(1&Premier_mois),AN+1,AN)","v":2017},{"$f":"IF(P7,DATE(M7,3,29.56+0.979*MOD(204-11*MOD(M7,19),30)-WEEKDAY(DATE(M7,3,28.56+0.979*MOD(204-11*MOD(M7,19),30))))+1+49,\"\")","v":"2017-06-05"},"Lundi de Pentecôte",true,null,null,"Fin troisième trimestre",{"$f":"IF(U7=\"\",INDEX(Mois_Année,MATCH(IF(T6=\"\",U6,T6),Mois_Année,0)+2,1),\"\")","v":"Septembre"},null,null,"Ligne des heures supplémentaires du matin",null,true,null,"2017-01-06","2017-02-06","2017-03-06","2017-04-06","2017-05-06","2017-06-06","2017-07-06","2017-08-06","2017-09-06","2017-10-06","2017-11-06","2017-12-06",null,null,"",0,25,"Mai",null,"Catégorie 1.6","C1.6","Maladie / Arrêt de Travail","MAT","Maladie / Arrêt de Travail","MAT"]
["Juin",{"$f":"MID(ADDRESS(ROW(debut),COLUMN(INDIRECT(C6&\"1\"))+1+DAY(EOMONTH(DATE(AN,Mois_deb_planning+4,1),0))),2,2)","v":"EY"},{"$f":"MID(ADDRESS(ROW(debut),COLUMN(INDIRECT(C7&\"1\"))+1+DAY(EOMONTH(DATE(AN,Mois_deb_planning+5,1),0))-1),2,2)","v":"GB"},null,7,"2017-01-07",null,true,null,"Indiquez le texte de la ligne : après journée","HHO du soir",null,{"$f":"IF(MONTH(1&Premier_mois)>7,AN+1,AN)","v":2017},{"$f":"IF(P8,DATE(M8,7,14),\"\")","v":"2017-07-14"},"Fête nationale",true,null,null,"Début quatrième trimestre",{"$f":"IF(U8=\"\",INDEX(Mois_Année,MATCH(IF(T7=\"\",U7,T7),Mois_Année,0)+1,1),\"\")","v":"Octobre"},null,null,"Ligne des heures supplémentaires du soir",null,true,null,"2017-01-07","2017-02-07","2017-03-07","2017-04-07","2017-05-07","2017-06-07","2017-07-07","2017-08-07","2017-09-07","2017-10-07","2017-11-07","2017-12-07",null,null,"",0,25,"Juin",null,"Catégorie 1.7","C1.7","Mission","MIS","Mission","MIS"]
["Juillet",{"$f":"MID(ADDRESS(ROW(debut),COLUMN(INDIRECT(C7&\"1\"))+1+DAY(EOMONTH(DATE(AN,Mois_deb_planning+5,1),0))),2,2)","v":"GC"},{"$f":"MID(ADDRESS(ROW(debut),COLUMN(INDIRECT(C8&\"1\"))+1+DAY(EOMONTH(DATE(AN,Mois_deb_planning+6,1),0))-1),2,2)","v":"HG"},null,null,null,null,"Nombre max de personnel",null,"Couleur des heures non répertoriées du Planning et mise en forme","test",null,{"$f":"IF(MONTH(1&Premier_mois)>8,AN+1,AN)","v":2017},{"$f":"IF(P9,DATE(M9,8,15),\"\")","v":"2017-08-15"},"L'Assomption",true,null,null,"Fin quatrième trimestre",{"$f":"IF(U9=\"\",INDEX(Mois_Année,MATCH(IF(T8=\"\",U8,T8),Mois_Année,0)+2,1),\"\")","v":"Décembre"},null,null,"Nombre de ligne par personnel",null,28,null,"2017-01-08","2017-02-08","2017-03-08","2017-04-08","2017-05-08","2017-06-08","2017-07-08","2017-08-08","2017-09-08","2017-10-08","2017-11-08","2017-12-08",null,null,"",0,25,"Juillet",null,"Catégorie 1.8","C1.8","Détachement","DET","Détachement","DET"]
["Août",{"$f":"MID(ADDRESS(ROW(debut),COLUMN(INDIRECT(C8&\"1\"))+1+DAY(EOMONTH(DATE(AN,Mois_deb_planning+6,1),0))),2,2)","v":"HH"},{"$f":"MID(ADDRESS(ROW(debut),COLUMN(INDIRECT(C9&\"1\"))+1+DAY(EOMONTH(DATE(AN,Mois_deb_planning+7,1),0))-1),2,2)","v":"IL"},null,null,null,null,{"$f":"COUNTA('Récap Individuel'!A:A)-2","v":8},null,"Couleur des jours chômés du Planning",null,null,{"$f":"IF(MONTH(1&Premier_mois)>11,AN+1,AN)","v":2017},{"$f":"IF(P10,DATE(M10,11,1),\"\")","v":"2017-11-01"},"La Toussaint",true,null,null,"Début premier semestre",{"$f":"IF(U10=\"\",Premier_mois,\"\")","v":"Janvier"},null,null,"Nombre de ligne d'activité du matin",null,12,null,"2017-01-09","2017-02-09","2017-03-09","2017-04-09","2017-05-09","2017-06-09","2017-07-09","2017-08-09","2017-09-09","2017-10-09","2017-11-09","2017-12-09",null,null,null,null,null,"Août",null,"Catégorie 1.9","C1.9","Congrés","CGR","Congrés","CGR"]
["Septembre",{"$f":"MID(ADDRESS(ROW(debut),COLUMN(INDIRECT(C9&\"1\"))+1+DAY(EOMONTH(DATE(AN,Mois_deb_planning+7,1),0))),2,2)","v":"IM"},{"$f":"MID(ADDRESS(ROW(debut),COLUMN(INDIRECT(C10&\"1\"))+1+DAY(EOMONTH(DATE(AN,Mois_deb_planning+8,1),0))-1),2,2)","v":"JP"},null,null,null,null,"Dernière ligne du tableau planning",null,"Couleur du jour actuel du Planning",null,null,{"$f":"IF(MONTH(1&Premier_mois)>11,AN+1,AN)","v":2017},{"$f":"IF(P11,DATE(M11,11,11),\"\")","v":"2017-11-11"},{"$f":"\"Armistice \"&M11","v":"Armistice 2017"},true,null,null,"Fin premier semestre",{"$f":"IF(U11=\"\",INDEX(Mois_Année,MATCH(IF(T10=\"\",U10,T10),Mois_Année,0)+5,1),\"\")","v":"Juin"},null,null,"Y a t il activité ?",null,true,null,"2017-01-10","2017-02-10","2017-03-10","2017-04-10","2017-05-10","2017-06-10","2017-07-10","2017-08-10","2017-09-10","2017-10-10","2017-11-10","2017-12-10",null,null,null,0,25,"Septembre",null,"Catégorie 1.10","C1.10"]
["Octobre",{"$f":"MID(ADDRESS(ROW(debut),COLUMN(INDIRECT(C10&\"1\"))+1+DAY(EOMONTH(DATE(AN,Mois_deb_planning+8,1),0))),2,2)","v":"JQ"},{"$f":"MID(ADDRESS(ROW(debut),COLUMN(INDIRECT(C11&\"1\"))+1+DAY(EOMONTH(DATE(AN,Mois_deb_planning+9,1),0))-1),2,2)","v":"KU"},null,null,null,null,{"$f":"MAX(IFERROR(MATCH(9^9,Planning!A:A,1),0),IFERROR(MATCH(\"zzz\",Planning!A:A,1),0))+(nb_ligne_personnel-1)","v":65},null,"Couleur des jours chômés de l'Agenda",null,null,null,{"$f":"IF(P12,DATE(AN,12,25),\"\")","v":"2017-12-25"},"Noël",true,null,null,"Début deuxième semestre",{"$f":"IF(U12=\"\",INDEX(Mois_Année,MATCH(IF(T11=\"\",U11,T11),Mois_Année,0)+1,1),\"\")","v":"Juillet"},null,null,null,null,null,null,"2017-01-11","2017-02-11","2017-03-11","2017-04-11","2017-05-11","2017-06-11","2017-07-11","2017-08-11","2017-09-11","2017-10-11","2017-11-11","2017-12-11",null,null,null,0,25,"Octobre",null,"Catégorie 1.11","C1.11"]
["Novembre",{"$f":"MID(ADDRESS(ROW(debut),COLUMN(INDIRECT(C11&\"1\"))+1+DAY(EOMONTH(DATE(AN,Mois_deb_planning+9,1),0))),2,2)","v":"KV"},{"$f":"MID(ADDRESS(ROW(debut),COLUMN(INDIRECT(C12&\"1\"))+1+DAY(EOMONTH(DATE(AN,Mois_deb_planning+10,1),0))-1),2,2)","v":"LY"},null,null,null,null,"Année print",null,"Couleur du jour actuel de l'Agenda",null,null,null,{"$f":"IF(P13,DATE(M2+1,1,1),\"\")","v":"2018-01-01"},{"$f":"\"Jour de l'an \"&M2+1","v":"Jour de l'an 2018"},true,null,null,"Fin deuxième semestre",{"$f":"IF(U13=\"\",INDEX(Mois_Année,MATCH(IF(T12=\"\",U12,T12),Mois_Année,0)+5,1),\"\")","v":"Décembre"},null,null,null,null,null,null,"2017-01-12","2017-02-12","2017-03-12","2017-04-12","2017-05-12","2017-06-12","2017-07-12","2017-08-12","2017-09-12","2017-10-12","2017-11-12","2017-12-12",null,null,null,0,25,"Novembre",null,"Catégorie 1.12","C1.12"]
["Décembre",{"$f":"MID(ADDRESS(ROW(debut),COLUMN(INDIRECT(C12&\"1\"))+1+DAY(EOMONTH(DATE(AN,Mois_deb_planning+10,1),0))),2,2)","v":"LZ"},{"$f":"f_an","v":"ND"},null,null,null,null,2017,null,"Couleur des totaux mensuels et annuels des feuilles Récap",null,null,null,{"$f":"IF(P14,DATE(M3+1,3,29.56+0.979*MOD(204-11*MOD(M3+1,19),30)-WEEKDAY(DATE(M3+1,3,28.56+0.979*MOD(204-11*MOD(M3+1,19),30))))+1,\"\")","v":"2018-04-02"},"Lundi de pâques",true,null,null,null,null,null,null,null,null,null,null,"2017-01-13","2017-02-13","2017-03-13","2017-04-13","2017-05-13","2017-06-13","2017-07-13","2017-08-13","2017-09-13","2017-10-13","2017-11-13","2017-12-13",null,null,null,0,25,"Décembre",null,"Catégorie 1.13","C1.13"]
["Premier trimestre",{"$f":"VLOOKUP(D_1,M_A_D_F,2,FALSE)","v":"D"},{"$f":"VLOOKUP(F_1,M_A_D_F,3,FALSE)","v":"CO"},null,null,null,null,"NB_personnel",null,"Couleur des mois impaires (Janvier, Mars, Mai, Juillet, Septembre, Novembre)",null,null,null,{"$f":"IF(P15,DATE(M4+1,5,1),\"\")","v":"2018-05-01"},"Fête du travail",true,null,null,null,null,null,null,null,null,null,null,"2017-01-14","2017-02-14","2017-03-14","2017-04-14","2017-05-14","2017-06-14","2017-07-14","2017-08-14","2017-09-14","2017-10-14","2017-11-14","2017-12-14",null,null,null,0,25,"Premier trimestre",null,"Catégorie 1.14","C1.14"]
["Deuxième trimestre",{"$f":"VLOOKUP(D_2,M_A_D_F,2,FALSE)","v":"CP"},{"$f":"VLOOKUP(F_2,M_A_D_F,3,FALSE)","v":"GB"},null,null,null,null,{"$f":"COUNTA(Planning!A:A)-2","v":2},null,"Couleur des mois paires (Février, Avril, Juin, Août, Octobre, Décembre))",null,null,null,{"$f":"IF(P16,DATE(M5+1,3,29.56+0.979*MOD(204-11*MOD(M5+1,19),30)-WEEKDAY(DATE(M5+1,3,28.56+0.979*MOD(204-11*MOD(M5+1,19),30))))+1+38,\"\")","v":"2018-05-10"},"Jeudi de l'ascension",true,null,null,null,null,null,null,null,null,null,null,"2017-01-15","2017-02-15","2017-03-15","2017-04-15","2017-05-15","2017-06-15","2017-07-15","2017-08-15","2017-09-15","2017-10-15","2017-11-15","2017-12-15",null,null,null,0,25,"Deuxième trimestre",null,"Catégorie 1.15","C1.15"]
["Troisième trimestre",{"$f":"VLOOKUP(D_3,M_A_D_F,2,FALSE)","v":"GC"},{"$f":"VLOOKUP(F_3,M_A_D_F,3,FALSE)","v":"JP"},null,null,null,null,"Scroll",null,"Caller le jour actuel des feuilles Agenda à chaque sélection",false,null,null,{"$f":"IF(P17,DATE(M6+1,5,8),\"\")","v":"2018-05-08"},"Victoire 1945",true,null,null,null,null,null,null,null,null,null,null,"2017-01-16","2017-02-16","2017-03-16","2017-04-16","2017-05-16","2017-06-16","2017-07-16","2017-08-16","2017-09-16","2017-10-16","2017-11-16","2017-12-16",null,null,null,0,25,"Troisième trimestre",null,"Catégorie 2.1","C2.1"]
["Quatrième trimestre",{"$f":"VLOOKUP(D_4,M_A_D_F,2,FALSE)","v":"JQ"},{"$f":"VLOOKUP(F_4,M_A_D_F,3,FALSE)","v":"ND"},null,null,null,null,{"$f":"DATE(AN,MONTH(TODAY()),DAY(TODAY()))-DATE(AN,1,1)","v":195},null,"Nom et couleur de la feuille \"Planning\"","Planning",null,null,{"$f":"IF(P18,DATE(M7+1,3,29.56+0.979*MOD(204-11*MOD(M7+1,19),30)-WEEKDAY(DATE(M7+18,3,28.56+0.979*MOD(204-11*MOD(M7+1,19),30))))+1+49,\"\")","v":"2018-05-21"},"Lundi de Pentecôte",true,null,null,null,null,null,null,null,null,null,null,"2017-01-17","2017-02-17","2017-03-17","2017-04-17","2017-05-17","2017-06-17","2017-07-17","2017-08-17","2017-09-17","2017-10-17","2017-11-17","2017-12-17",null,null,null,0,25,"Quatrième trimestre",null,"Catégorie 2.2","C2.2"]
["Premier semestre",{"$f":"VLOOKUP(DS_1,M_A_D_F,2,FALSE)","v":"D"},{"$f":"VLOOKUP(FS_1,M_A_D_F,3,FALSE)","v":"GB"},null,null,null,null,"Effacement",null,"Nom et couleur de la feuille \"Récap Individuel\"","Récap Individuel",null,null,{"$f":"IF(P19,DATE(M8+1,7,14),\"\")","v":"2018-07-14"},"Fête nationale",true,null,null,null,null,null,null,null,null,null,null,{"$f":"AA18+1","v":"2017-01-18"},"2017-02-18","2017-03-18","2017-04-18","2017-05-18","2017-06-18","2017-07-18","2017-08-18","2017-09-18","2017-10-18","2017-11-18","2017-12-18",null,null,null,0,25,{"$f":"A19","v":"Premier semestre"},null,"Catégorie 2.3","C2.3"]
["Deuxième semestre",{"$f":"VLOOKUP(DS_2,M_A_D_F,2,FALSE)","v":"GC"},{"$f":"VLOOKUP(FS_2,M_A_D_F,3,FALSE)","v":"ND"},"N° sem",null,null,null,null,null,"Nom de la feuille \"Récap Global Activité Horaire\"","Récap Global Horaire Activité",null,null,{"$f":"IF(P20,DATE(M9+1,8,15),\"\")","v":"2018-08-15"},"L'Assomption",true,null,null,null,null,null,null,null,null,null,null,"2017-01-19","2017-02-19","2017-03-19","2017-04-19","2017-05-19","2017-06-19","2017-07-19","2017-08-19","2017-09-19","2017-10-19","2017-11-19","2017-12-19",null,null,null,0,25,"Deuxième semestre",null,"Catégorie 2.4","C2.4"]
[{"$f":"\"Semaine \"&TEXT(D21,\"00\")&\" de \"&IF($D21>$D22,AN-1,AN)","v":"Semaine 52 de 2016"},{"$f":"IFERROR(MID(ADDRESS(1,MATCH($D21,Planning!$D$3:$NE$3,0)+3),2,IF(MATCH($D21,Planning!$D$3:$NE$3,0)+3>26,2,1)),\"\")","v":"D"},{"$f":"IFERROR(MID(ADDRESS(1,MATCH(IF(D21+1>Max_Semaine,1,D21+1),Planning!$D$3:$NE$3,0)+2),2,IF(MATCH(IF(D21+1>Max_Semaine,1,D21+1),Planning!$D$3:$NE$3,0)+3>26,2,1)),\"\")","v":"D"},{"$f":"INT(MOD(INT((Planning!$D$9-2)/7)+0.6,52+5/28))+1","v":52},null,null,null,"Effacement Agenda",null,"Nom et couleur de la feuille \"BD\"","BD",null,null,{"$f":"IF(P21,DATE(M10+1,11,1),\"\")","v":"2018-11-01"},"La Toussaint",true,null,null,null,null,null,null,null,null,null,null,"2017-01-20","2017-02-20","2017-03-20","2017-04-20","2017-05-20","2017-06-20","2017-07-20","2017-08-20","2017-09-20","2017-10-20","2017-11-20","2017-12-20",null,null,null,0,25,"Semaine 52 de 2016",null,"Catégorie 2.5","C2.5"]
[{"$f":"\"Semaine \"&TEXT(D22,\"00\")&\" de \"&IF(D22<$D$21,RIGHT(A$21,4)+1,AN)","v":"Semaine 01 de 2017"},{"$f":"IFERROR(MID(ADDRESS(1,MATCH($D22,Planning!$D$3:$NE$3,0)+3),2,IF(MATCH($D22,Planning!$D$3:$NE$3,0)+3>26,2,1)),\"\")","v":"E"},{"$f":"IFERROR(MID(ADDRESS(1,MATCH(IF(D22+1>Max_Semaine,1,D22+1),Planning!$D$3:$NE$3,0)+2),2,IF(MATCH(IF(D22+1>Max_Semaine,1,D22+1),Planning!$D$3:$NE$3,0)+3>26,2,1)),\"\")","v":"K"},{"$f":"IF(D21+1>Max_Semaine,1,D21+1)","v":1},null,null,null,null,null,"Nom de la feuille \"Système\"","Système",null,null,{"$f":"IF(P22,DATE(M11+1,11,11),\"\")","v":"2018-11-11"},{"$f":"\"Armistice \"&M11+1","v":"Armistice 2018"},true,null,null,null,null,null,null,null,null,null,null,"2017-01-21","2017-02-21","2017-03-21","2017-04-21","2017-05-21","2017-06-21","2017-07-21","2017-08-21","2017-09-21","2017-10-21","2017-11-21","2017-12-21",null,null,null,0,25,"Semaine 01 de 2017",null,"Catégorie 2.1","C2.1"]
["Semaine 02 de 2017",{"$f":"IFERROR(MID(ADDRESS(1,MATCH($D23,Planning!$D$3:$NE$3,0)+3),2,IF(MATCH($D23,Planning!$D$3:$NE$3,0)+3>26,2,1)),\"\")","v":"L"},{"$f":"IFERROR(MID(ADDRESS(1,MATCH(IF(D23+1>Max_Semaine,1,D23+1),Planning!$D$3:$NE$3,0)+2),2,IF(MATCH(IF(D23+1>Max_Semaine,1,D23+1),Planning!$D$3:$NE$3,0)+3>26,2,1)),\"\")","v":"R"},2,null,null,null,"Numéro de semaine du jour actuel fonction de l'année de suivi",null,"Gérer le nombre de ligne du scroll vertical automatiquement",false,null,null,{"$f":"IF(P23,DATE(AN+1,12,25),\"\")","v":"2018-12-25"},"Noël",true,null,null,null,null,null,null,null,null,null,null,"2017-01-22","2017-02-22","2017-03-22","2017-04-22","2017-05-22","2017-06-22","2017-07-22","2017-08-22","2017-09-22","2017-10-22","2017-11-22","2017-12-22",null,null,null,0,25,"Semaine 02 de 2017",null,"Catégorie 2.2","C2.2"]
["Semaine 03 de 2017",{"$f":"IFERROR(MID(ADDRESS(1,MATCH($D24,Planning!$D$3:$NE$3,0)+3),2,IF(MATCH($D24,Planning!$D$3:$NE$3,0)+3>26,2,1)),\"\")","v":"S"},{"$f":"IFERROR(MID(ADDRESS(1,MATCH(IF(D24+1>Max_Semaine,1,D24+1),Planning!$D$3:$NE$3,0)+2),2,IF(MATCH(IF(D24+1>Max_Semaine,1,D24+1),Planning!$D$3:$NE$3,0)+3>26,2,1)),\"\")","v":"Y"},3,null,null,null,{"$f":"INT(MOD(INT((DATE(AN,MONTH(TODAY()),DAY(TODAY()))-2)/7)+0.6,52+5/28))+1","v":28},null,"La feuille \"A lire\" peut être supprimée...",null,null,null,null,null,null,null,null,null,null,null,null,null,null,null,null,"2017-01-23","2017-02-23","2017-03-23","2017-04-23","2017-05-23","2017-06-23","2017-07-23","2017-08-23","2017-09-23","2017-10-23","2017-11-23","2017-12-23",null,null,null,0,25,"Semaine 03 de 2017",null,"Catégorie 2.3","C2.3"]
["Semaine 04 de 2017",{"$f":"IFERROR(MID(ADDRESS(1,MATCH($D25,Planning!$D$3:$NE$3,0)+3),2,IF(MATCH($D25,Planning!$D$3:$NE$3,0)+3>26,2,1)),\"\")","v":"Z"},{"$f":"IFERROR(MID(ADDRESS(1,MATCH(IF(D25+1>Max_Semaine,1,D25+1),Planning!$D$3:$NE$3,0)+2),2,IF(MATCH(IF(D25+1>Max_Semaine,1,D25+1),Planning!$D$3:$NE$3,0)+3>26,2,1)),\"\")","v":"AF"},4,null,null,null,"Opération en mémoire",null,null,null,null,null,null,null,null,null,null,null,null,null,null,null,null,null,null,"2017-01-24","2017-02-24","2017-03-24","2017-04-24","2017-05-24","2017-06-24","2017-07-24","2017-08-24","2017-09-24","2017-10-24","2017-11-24","2017-12-24",null,null,null,0,25,"Semaine 04 de 2017",null,"Catégorie 2.4","C2.4"]
["Semaine 05 de 2017",{"$f":"IFERROR(MID(ADDRESS(1,MATCH($D26,Planning!$D$3:$NE$3,0)+3),2,IF(MATCH($D26,Planning!$D$3:$NE$3,0)+3>26,2,1)),\"\")","v":"AG"},{"$f":"IFERROR(MID(ADDRESS(1,MATCH(IF(D26+1>Max_Semaine,1,D26+1),Planning!$D$3:$NE$3,0)+2),2,IF(MATCH(IF(D26+1>Max_Semaine,1,D26+1),Planning!$D$3:$NE$3,0)+3>26,2,1)),\"\")","v":"AM"},5,null,null,null,null,null,null,null,null,null,null,null,null,null,null,null,null,null,null,null,null,null,null,"2017-01-25","2017-02-25","2017-03-25","2017-04-25","2017-05-25","2017-06-25","2017-07-25","2017-08-25","2017-09-25","2017-10-25","2017-11-25","2017-12-25",null,null,null,0,25,"Semaine 05 de 2017",null,"Catégorie 2.5","C2.5"]
["Semaine 06 de 2017",{"$f":"IFERROR(MID(ADDRESS(1,MATCH($D27,Planning!$D$3:$NE$3,0)+3),2,IF(MATCH($D27,Planning!$D$3:$NE$3,0)+3>26,2,1)),\"\")","v":"AN"},{"$f":"IFERROR(MID(ADDRESS(1,MATCH(IF(D27+1>Max_Semaine,1,D27+1),Planning!$D$3:$NE$3,0)+2),2,IF(MATCH(IF(D27+1>Max_Semaine,1,D27+1),Planning!$D$3:$NE$3,0)+3>26,2,1)),\"\")","v":"AT"},6,null,null,null,"Effacement",null,null,null,null,null,null,null,null,null,null,null,null,null,null,null,null,null,null,"2017-01-26","2017-02-26","2017-03-26","2017-04-26","2017-05-26","2017-06-26","2017-07-26","2017-08-26","2017-09-26","2017-10-26","2017-11-26","2017-12-26",null,null,null,0,25,"Semaine 06 de 2017",null,"Catégorie 3.1","C3.1"]
["Semaine 07 de 2017",{"$f":"IFERROR(MID(ADDRESS(1,MATCH($D28,Planning!$D$3:$NE$3,0)+3),2,IF(MATCH($D28,Planning!$D$3:$NE$3,0)+3>26,2,1)),\"\")","v":"AU"},{"$f":"IFERROR(MID(ADDRESS(1,MATCH(IF(D28+1>Max_Semaine,1,D28+1),Planning!$D$3:$NE$3,0)+2),2,IF(MATCH(IF(D28+1>Max_Semaine,1,D28+1),Planning!$D$3:$NE$3,0)+3>26,2,1)),\"\")","v":"BA"},7,null,null,null,null,null,null,null,null,null,null,null,null,null,null,null,null,null,null,null,null,null,null,"2017-01-27","2017-02-27","2017-03-27","2017-04-27","2017-05-27","2017-06-27","2017-07-27","2017-08-27","2017-09-27","2017-10-27","2017-11-27","2017-12-27",null,null,null,0,25,"Semaine 07 de 2017",null,"Catégorie 3.2","C3.2"]
["Semaine 08 de 2017",{"$f":"IFERROR(MID(ADDRESS(1,MATCH($D29,Planning!$D$3:$NE$3,0)+3),2,IF(MATCH($D29,Planning!$D$3:$NE$3,0)+3>26,2,1)),\"\")","v":"BB"},{"$f":"IFERROR(MID(ADDRESS(1,MATCH(IF(D29+1>Max_Semaine,1,D29+1),Planning!$D$3:$NE$3,0)+2),2,IF(MATCH(IF(D29+1>Max_Semaine,1,D29+1),Planning!$D$3:$NE$3,0)+3>26,2,1)),\"\")","v":"BH"},8,null,null,null,"Ligne de référence planning",null,null,null,null,null,null,null,null,null,null,null,null,null,null,null,null,null,null,"2017-01-28","2017-02-28","2017-03-28","2017-04-28","2017-05-28","2017-06-28","2017-07-28","2017-08-28","2017-09-28","2017-10-28","2017-11-28","2017-12-28",null,null,null,0,25,"Semaine 08 de 2017",null,"Catégorie 3.3","C3.3"]
["Semaine 09 de 2017",{"$f":"IFERROR(MID(ADDRESS(1,MATCH($D30,Planning!$D$3:$NE$3,0)+3),2,IF(MATCH($D30,Planning!$D$3:$NE$3,0)+3>26,2,1)),\"\")","v":"BI"},{"$f":"IFERROR(MID(ADDRESS(1,MATCH(IF(D30+1>Max_Semaine,1,D30+1),Planning!$D$3:$NE$3,0)+2),2,IF(MATCH(IF(D30+1>Max_Semaine,1,D30+1),Planning!$D$3:$NE$3,0)+3>26,2,1)),\"\")","v":"BO"},9,null,null,null,{"$f":"ROW(debut)","v":9},null,null,null,null,null,null,null,null,null,null,null,null,null,null,null,null,null,null,{"$f":"IF(AA29=EOMONTH(AA$5,0),0,AA29+1)","v":"2017-01-29"},"00:00:00","2017-03-29","2017-04-29","2017-05-29","2017-06-29","2017-07-29","2017-08-29","2017-09-29","2017-10-29","2017-11-29","2017-12-29",null,null,null,0,25,"Semaine 09 de 2017",null,"Catégorie 3.4","C3.4"]
["Semaine 10 de 2017",{"$f":"IFERROR(MID(ADDRESS(1,MATCH($D31,Planning!$D$3:$NE$3,0)+3),2,IF(MATCH($D31,Planning!$D$3:$NE$3,0)+3>26,2,1)),\"\")","v":"BP"},{"$f":"IFERROR(MID(ADDRESS(1,MATCH(IF(D31+1>Max_Semaine,1,D31+1),Planning!$D$3:$NE$3,0)+2),2,IF(MATCH(IF(D31+1>Max_Semaine,1,D31+1),Planning!$D$3:$NE$3,0)+3>26,2,1)),\"\")","v":"BV"},10,null,null,null,"Colonne de référence planning",null,null,null,null,null,null,null,null,null,null,null,null,null,null,null,null,null,null,{"$f":"IFERROR(IF(AA30=EOMONTH(AA$5,0),0,AA30+1),0)","v":"2017-01-30"},"1900-01-01","2017-03-30","2017-04-30","2017-05-30","2017-06-30","2017-07-30","2017-08-30","2017-09-30","2017-10-30","2017-11-30","2017-12-30",null,null,null,0,25,"Semaine 10 de 2017",null,"Catégorie 3.5","C3.5"]
["Semaine 11 de 2017",{"$f":"IFERROR(MID(ADDRESS(1,MATCH($D32,Planning!$D$3:$NE$3,0)+3),2,IF(MATCH($D32,Planning!$D$3:$NE$3,0)+3>26,2,1)),\"\")","v":"BW"},{"$f":"IFERROR(MID(ADDRESS(1,MATCH(IF(D32+1>Max_Semaine,1,D32+1),Planning!$D$3:$NE$3,0)+2),2,IF(MATCH(IF(D32+1>Max_Semaine,1,D32+1),Planning!$D$3:$NE$3,0)+3>26,2,1)),\"\")","v":"CC"},11,null,null,null,{"$f":"COLUMN(debut)-1","v":3},null,null,null,null,null,null,null,null,null,null,null,null,null,null,null,null,null,null,"2017-01-31","1900-01-02","2017-03-31","00:00:00","2017-05-31","00:00:00","2017-07-31","2017-08-31","00:00:00","2017-10-31","00:00:00","2017-12-31",null,null,null,0,25,"Semaine 11 de 2017",null,"Catégorie 3.6","C3.6"]
["Semaine 12 de 2017",{"$f":"IFERROR(MID(ADDRESS(1,MATCH($D33,Planning!$D$3:$NE$3,0)+3),2,IF(MATCH($D33,Planning!$D$3:$NE$3,0)+3>26,2,1)),\"\")","v":"CD"},{"$f":"IFERROR(MID(ADDRESS(1,MATCH(IF(D33+1>Max_Semaine,1,D33+1),Planning!$D$3:$NE$3,0)+2),2,IF(MATCH(IF(D33+1>Max_Semaine,1,D33+1),Planning!$D$3:$NE$3,0)+3>26,2,1)),\"\")","v":"CJ"},12,null,null,null,"Colonne Fin du tableau Planning",null,null,null,null,null,null,null,null,null,null,null,null,null,null,null,null,null,null,null,null,null,null,null,null,null,null,null,null,null,null,null,null,null,0,25,"Semaine 12 de 2017",null,"Catégorie 3.1","C3.1"]
["Semaine 13 de 2017",{"$f":"IFERROR(MID(ADDRESS(1,MATCH($D34,Planning!$D$3:$NE$3,0)+3),2,IF(MATCH($D34,Planning!$D$3:$NE$3,0)+3>26,2,1)),\"\")","v":"CK"},{"$f":"IFERROR(MID(ADDRESS(1,MATCH(IF(D34+1>Max_Semaine,1,D34+1),Planning!$D$3:$NE$3,0)+2),2,IF(MATCH(IF(D34+1>Max_Semaine,1,D34+1),Planning!$D$3:$NE$3,0)+3>26,2,1)),\"\")","v":"CQ"},13,null,null,null,{"$f":"MID(ADDRESS(ROW(fin),COLUMN(fin)+31),2,2)","v":"OJ"},null,null,null,null,null,null,null,null,null,null,null,null,null,null,null,null,null,null,null,null,null,null,null,null,null,null,null,null,null,null,null,null,null,0,25,"Semaine 13 de 2017",null,"Catégorie 3.2","C3.2"]
["Semaine 14 de 2017",{"$f":"IFERROR(MID(ADDRESS(1,MATCH($D35,Planning!$D$3:$NE$3,0)+3),2,IF(MATCH($D35,Planning!$D$3:$NE$3,0)+3>26,2,1)),\"\")","v":"CR"},{"$f":"IFERROR(MID(ADDRESS(1,MATCH(IF(D35+1>Max_Semaine,1,D35+1),Planning!$D$3:$NE$3,0)+2),2,IF(MATCH(IF(D35+1>Max_Semaine,1,D35+1),Planning!$D$3:$NE$3,0)+3>26,2,1)),\"\")","v":"CX"},14,null,null,null,"Numéro du premier mois du Planning",null,null,null,null,null,null,null,null,null,null,null,null,null,null,null,null,null,null,null,null,null,null,null,null,null,null,null,null,null,null,null,null,null,0,25,"Semaine 14 de 2017",null,"Catégorie 3.3","C3.3"]
["Semaine 15 de 2017",{"$f":"IFERROR(MID(ADDRESS(1,MATCH($D36,Planning!$D$3:$NE$3,0)+3),2,IF(MATCH($D36,Planning!$D$3:$NE$3,0)+3>26,2,1)),\"\")","v":"CY"},{"$f":"IFERROR(MID(ADDRESS(1,MATCH(IF(D36+1>Max_Semaine,1,D36+1),Planning!$D$3:$NE$3,0)+2),2,IF(MATCH(IF(D36+1>Max_Semaine,1,D36+1),Planning!$D$3:$NE$3,0)+3>26,2,1)),\"\")","v":"DE"},15,null,null,null,{"$f":"MATCH(Premier_mois,Mois_Année,0)","v":1},null,null,null,null,null,null,null,null,null,null,null,null,null,null,null,null,null,null,null,null,null,null,null,null,null,null,null,null,null,null,null,null,null,0,25,"Semaine 15 de 2017",null,"Catégorie 3.4","C3.4"]
["Semaine 16 de 2017",{"$f":"IFERROR(MID(ADDRESS(1,MATCH($D37,Planning!$D$3:$NE$3,0)+3),2,IF(MATCH($D37,Planning!$D$3:$NE$3,0)+3>26,2,1)),\"\")","v":"DF"},{"$f":"IFERROR(MID(ADDRESS(1,MATCH(IF(D37+1>Max_Semaine,1,D37+1),Planning!$D$3:$NE$3,0)+2),2,IF(MATCH(IF(D37+1>Max_Semaine,1,D37+1),Planning!$D$3:$NE$3,0)+3>26,2,1)),\"\")","v":"DL"},16,null,null,null,"Valeur du scroll molette souris d'Excel et autre à l'ouverture du fichier",null,null,null,null,null,null,null,null,null,null,null,null,null,null,null,null,null,null,null,null,null,null,null,null,null,null,null,null,null,null,null,null,null,0,25,"Semaine 16 de 2017",null,"Catégorie 3.5","C3.5"]
["Semaine 17 de 2017",{"$f":"IFERROR(MID(ADDRESS(1,MATCH($D38,Planning!$D$3:$NE$3,0)+3),2,IF(MATCH($D38,Planning!$D$3:$NE$3,0)+3>26,2,1)),\"\")","v":"DM"},{"$f":"IFERROR(MID(ADDRESS(1,MATCH(IF(D38+1>Max_Semaine,1,D38+1),Planning!$D$3:$NE$3,0)+2),2,IF(MATCH(IF(D38+1>Max_Semaine,1,D38+1),Planning!$D$3:$NE$3,0)+3>26,2,1)),\"\")","v":"DS"},17,null,null,null,3,null,null,null,null,null,null,null,null,null,null,null,null,null,null,null,null,null,null,null,null,null,null,null,null,null,null,null,null,null,null,null,null,null,0,25,"Semaine 17 de 2017",null,"Catégorie 3.6","C3.6"]
["Semaine 18 de 2017",{"$f":"IFERROR(MID(ADDRESS(1,MATCH($D39,Planning!$D$3:$NE$3,0)+3),2,IF(MATCH($D39,Planning!$D$3:$NE$3,0)+3>26,2,1)),\"\")","v":"DT"},{"$f":"IFERROR(MID(ADDRESS(1,MATCH(IF(D39+1>Max_Semaine,1,D39+1),Planning!$D$3:$NE$3,0)+2),2,IF(MATCH(IF(D39+1>Max_Semaine,1,D39+1),Planning!$D$3:$NE$3,0)+3>26,2,1)),\"\")","v":"DZ"},18,null,null,null,"Couleur des cellules vides de capacité de l'application en personnel",null,null,null,null,null,null,null,null,null,null,null,null,null,null,null,null,null,null,null,null,null,null,null,null,null,null,null,null,null,null,null,null,null,0,25,"Semaine 18 de 2017",null,"Catégorie 4.1","C4.1"]
["Semaine 19 de 2017",{"$f":"IFERROR(MID(ADDRESS(1,MATCH($D40,Planning!$D$3:$NE$3,0)+3),2,IF(MATCH($D40,Planning!$D$3:$NE$3,0)+3>26,2,1)),\"\")","v":"EA"},{"$f":"IFERROR(MID(ADDRESS(1,MATCH(IF(D40+1>Max_Semaine,1,D40+1),Planning!$D$3:$NE$3,0)+2),2,IF(MATCH(IF(D40+1>Max_Semaine,1,D40+1),Planning!$D$3:$NE$3,0)+3>26,2,1)),\"\")","v":"EG"},19,null,null,null,null,null,null,null,null,null,null,null,null,null,null,null,null,null,null,null,null,null,null,null,null,null,null,null,null,null,null,null,null,null,null,null,null,null,0,25,"Semaine 19 de 2017",null,"Catégorie 4.2","C4.2"]
["Semaine 20 de 2017",{"$f":"IFERROR(MID(ADDRESS(1,MATCH($D41,Planning!$D$3:$NE$3,0)+3),2,IF(MATCH($D41,Planning!$D$3:$NE$3,0)+3>26,2,1)),\"\")","v":"EH"},{"$f":"IFERROR(MID(ADDRESS(1,MATCH(IF(D41+1>Max_Semaine,1,D41+1),Planning!$D$3:$NE$3,0)+2),2,IF(MATCH(IF(D41+1>Max_Semaine,1,D41+1),Planning!$D$3:$NE$3,0)+3>26,2,1)),\"\")","v":"EN"},20,null,null,null,"Nombre de ligne maximal imprimable",null,null,null,null,null,null,null,null,null,null,null,null,null,null,null,null,null,null,null,null,null,null,null,null,null,null,null,null,null,null,null,null,null,0,25,"Semaine 20 de 2017",null,"Catégorie 4.3","C4.3"]
["Semaine 21 de 2017",{"$f":"IFERROR(MID(ADDRESS(1,MATCH($D42,Planning!$D$3:$NE$3,0)+3),2,IF(MATCH($D42,Planning!$D$3:$NE$3,0)+3>26,2,1)),\"\")","v":"EO"},{"$f":"IFERROR(MID(ADDRESS(1,MATCH(IF(D42+1>Max_Semaine,1,D42+1),Planning!$D$3:$NE$3,0)+2),2,IF(MATCH(IF(D42+1>Max_Semaine,1,D42+1),Planning!$D$3:$NE$3,0)+3>26,2,1)),\"\")","v":"EU"},21,null,null,null,57,null,null,null,null,null,null,null,null,null,null,null,null,null,null,null,null,null,null,null,null,null,null,null,null,null,null,null,null,null,null,null,null,null,0,25,"Semaine 21 de 2017",null,"Catégorie 4.4","C4.4"]
["Semaine 22 de 2017",{"$f":"IFERROR(MID(ADDRESS(1,MATCH($D43,Planning!$D$3:$NE$3,0)+3),2,IF(MATCH($D43,Planning!$D$3:$NE$3,0)+3>26,2,1)),\"\")","v":"EV"},{"$f":"IFERROR(MID(ADDRESS(1,MATCH(IF(D43+1>Max_Semaine,1,D43+1),Planning!$D$3:$NE$3,0)+2),2,IF(MATCH(IF(D43+1>Max_Semaine,1,D43+1),Planning!$D$3:$NE$3,0)+3>26,2,1)),\"\")","v":"FB"},22,null,null,null,"Recherche compatibilité code position avec l'activité",null,null,null,null,null,null,null,null,null,null,null,null,null,null,null,null,null,null,null,null,null,null,null,null,null,null,null,null,null,null,null,null,null,0,25,"Semaine 22 de 2017",null,"Catégorie 5.1","C5.1"]
["Semaine 23 de 2017",{"$f":"IFERROR(MID(ADDRESS(1,MATCH($D44,Planning!$D$3:$NE$3,0)+3),2,IF(MATCH($D44,Planning!$D$3:$NE$3,0)+3>26,2,1)),\"\")","v":"FC"},{"$f":"IFERROR(MID(ADDRESS(1,MATCH(IF(D44+1>Max_Semaine,1,D44+1),Planning!$D$3:$NE$3,0)+2),2,IF(MATCH(IF(D44+1>Max_Semaine,1,D44+1),Planning!$D$3:$NE$3,0)+3>26,2,1)),\"\")","v":"FI"},23,null,null,null,null,null,null,null,null,null,null,null,null,null,null,null,null,null,null,null,null,null,null,null,null,null,null,null,null,null,null,null,null,null,null,null,null,null,0,25,"Semaine 23 de 2017",null,"Catégorie 5.2","C5.2"]
["Semaine 24 de 2017",{"$f":"IFERROR(MID(ADDRESS(1,MATCH($D45,Planning!$D$3:$NE$3,0)+3),2,IF(MATCH($D45,Planning!$D$3:$NE$3,0)+3>26,2,1)),\"\")","v":"FJ"},{"$f":"IFERROR(MID(ADDRESS(1,MATCH(IF(D45+1>Max_Semaine,1,D45+1),Planning!$D$3:$NE$3,0)+2),2,IF(MATCH(IF(D45+1>Max_Semaine,1,D45+1),Planning!$D$3:$NE$3,0)+3>26,2,1)),\"\")","v":"FP"},24,null,null,null,{"$f":"IFERROR(VLOOKUP(position_code,code_position,2,FALSE),\"\")","v":""},null,null,null,null,null,null,null,null,null,null,null,null,null,null,null,null,null,null,null,null,null,null,null,null,null,null,null,null,null,null,null,null,null,0,25,"Semaine 24 de 2017",null,"Catégorie 5.3","C5.3"]
["Semaine 25 de 2017",{"$f":"IFERROR(MID(ADDRESS(1,MATCH($D46,Planning!$D$3:$NE$3,0)+3),2,IF(MATCH($D46,Planning!$D$3:$NE$3,0)+3>26,2,1)),\"\")","v":"FQ"},{"$f":"IFERROR(MID(ADDRESS(1,MATCH(IF(D46+1>Max_Semaine,1,D46+1),Planning!$D$3:$NE$3,0)+2),2,IF(MATCH(IF(D46+1>Max_Semaine,1,D46+1),Planning!$D$3:$NE$3,0)+3>26,2,1)),\"\")","v":"FW"},25,null,null,null,"Première utilisation",null,null,null,null,null,null,null,null,null,null,null,null,null,null,null,null,null,null,null,null,null,null,null,null,null,null,null,null,null,null,null,null,null,0,25,"Semaine 25 de 2017",null,"Catégorie 5.4","C5.4"]
["Semaine 26 de 2017",{"$f":"IFERROR(MID(ADDRESS(1,MATCH($D47,Planning!$D$3:$NE$3,0)+3),2,IF(MATCH($D47,Planning!$D$3:$NE$3,0)+3>26,2,1)),\"\")","v":"FX"},{"$f":"IFERROR(MID(ADDRESS(1,MATCH(IF(D47+1>Max_Semaine,1,D47+1),Planning!$D$3:$NE$3,0)+2),2,IF(MATCH(IF(D47+1>Max_Semaine,1,D47+1),Planning!$D$3:$NE$3,0)+3>26,2,1)),\"\")","v":"GD"},26,null,null,null,"NON",null,null,null,null,null,null,null,null,null,null,null,null,null,null,null,null,null,null,null,null,null,null,null,null,null,null,null,null,null,null,null,null,null,0,25,"Semaine 26 de 2017",null,"Catégorie 6.1","C6.1"]
["Semaine 27 de 2017",{"$f":"IFERROR(MID(ADDRESS(1,MATCH($D48,Planning!$D$3:$NE$3,0)+3),2,IF(MATCH($D48,Planning!$D$3:$NE$3,0)+3>26,2,1)),\"\")","v":"GE"},{"$f":"IFERROR(MID(ADDRESS(1,MATCH(IF(D48+1>Max_Semaine,1,D48+1),Planning!$D$3:$NE$3,0)+2),2,IF(MATCH(IF(D48+1>Max_Semaine,1,D48+1),Planning!$D$3:$NE$3,0)+3>26,2,1)),\"\")","v":"GK"},27,null,null,null,null,null,null,null,null,null,null,null,null,null,null,null,null,null,null,null,null,null,null,null,null,null,null,null,null,null,null,null,null,null,null,null,null,null,0,25,"Semaine 27 de 2017",null,"Catégorie 6.2","C6.2"]
["Semaine 28 de 2017",{"$f":"IFERROR(MID(ADDRESS(1,MATCH($D49,Planning!$D$3:$NE$3,0)+3),2,IF(MATCH($D49,Planning!$D$3:$NE$3,0)+3>26,2,1)),\"\")","v":"GL"},{"$f":"IFERROR(MID(ADDRESS(1,MATCH(IF(D49+1>Max_Semaine,1,D49+1),Planning!$D$3:$NE$3,0)+2),2,IF(MATCH(IF(D49+1>Max_Semaine,1,D49+1),Planning!$D$3:$NE$3,0)+3>26,2,1)),\"\")","v":"GR"},28,null,null,null,null,null,null,null,"Evidemment vous pouvez aller plus loin mais il n'y a que 365 jours dans une année ! =>",null,null,null,null,null,null,null,null,null,null,null,null,null,null,null,null,null,null,null,null,null,null,null,null,null,null,null,null,null,0,25,"Semaine 28 de 2017",null,"Catégorie 6.3","C6.3"]
["Semaine 29 de 2017",{"$f":"IFERROR(MID(ADDRESS(1,MATCH($D50,Planning!$D$3:$NE$3,0)+3),2,IF(MATCH($D50,Planning!$D$3:$NE$3,0)+3>26,2,1)),\"\")","v":"GS"},{"$f":"IFERROR(MID(ADDRESS(1,MATCH(IF(D50+1>Max_Semaine,1,D50+1),Planning!$D$3:$NE$3,0)+2),2,IF(MATCH(IF(D50+1>Max_Semaine,1,D50+1),Planning!$D$3:$NE$3,0)+3>26,2,1)),\"\")","v":"GY"},29,null,null,null,null,null,null,null,null,null,null,null,null,null,null,null,null,null,null,null,null,null,null,null,null,null,null,null,null,null,null,null,null,null,null,null,null,null,0,25,"Semaine 29 de 2017",null,"Catégorie 6.4","C6.4"]
["Semaine 30 de 2017",{"$f":"IFERROR(MID(ADDRESS(1,MATCH($D51,Planning!$D$3:$NE$3,0)+3),2,IF(MATCH($D51,Planning!$D$3:$NE$3,0)+3>26,2,1)),\"\")","v":"GZ"},{"$f":"IFERROR(MID(ADDRESS(1,MATCH(IF(D51+1>Max_Semaine,1,D51+1),Planning!$D$3:$NE$3,0)+2),2,IF(MATCH(IF(D51+1>Max_Semaine,1,D51+1),Planning!$D$3:$NE$3,0)+3>26,2,1)),\"\")","v":"HF"},30,null,null,null,null,null,null,null,null,null,null,null,null,null,null,null,null,null,null,null,null,null,null,null,null,null,null,null,null,null,null,null,null,null,null,null,null,null,0,25,"Semaine 30 de 2017",null,"Catégorie 7.1","C7.1"]
["Semaine 31 de 2017",{"$f":"IFERROR(MID(ADDRESS(1,MATCH($D52,Planning!$D$3:$NE$3,0)+3),2,IF(MATCH($D52,Planning!$D$3:$NE$3,0)+3>26,2,1)),\"\")","v":"HG"},{"$f":"IFERROR(MID(ADDRESS(1,MATCH(IF(D52+1>Max_Semaine,1,D52+1),Planning!$D$3:$NE$3,0)+2),2,IF(MATCH(IF(D52+1>Max_Semaine,1,D52+1),Planning!$D$3:$NE$3,0)+3>26,2,1)),\"\")","v":"HM"},31,null,null,null,null,null,null,null,null,null,null,null,null,null,null,null,null,null,null,null,null,null,null,null,null,null,null,null,null,null,null,null,null,null,null,null,null,null,0,25,"Semaine 31 de 2017",null,"Catégorie 7.2","C7.2"]
["Semaine 32 de 2017",{"$f":"IFERROR(MID(ADDRESS(1,MATCH($D53,Planning!$D$3:$NE$3,0)+3),2,IF(MATCH($D53,Planning!$D$3:$NE$3,0)+3>26,2,1)),\"\")","v":"HN"},{"$f":"IFERROR(MID(ADDRESS(1,MATCH(IF(D53+1>Max_Semaine,1,D53+1),Planning!$D$3:$NE$3,0)+2),2,IF(MATCH(IF(D53+1>Max_Semaine,1,D53+1),Planning!$D$3:$NE$3,0)+3>26,2,1)),\"\")","v":"HT"},32,null,null,null,null,null,null,null,null,null,null,null,null,null,null,null,null,null,null,null,null,null,null,null,null,null,null,null,null,null,null,null,null,null,null,null,null,null,0,25,"Semaine 32 de 2017",null,"Catégorie 7.3","C7.3"]
[{"$f":"\"Semaine \"&TEXT(D54,\"00\")&\" de \"&IF(D54<$D$21,RIGHT(A$21,4)+1,AN)","v":"Semaine 33 de 2017"},{"$f":"IFERROR(MID(ADDRESS(1,MATCH($D54,Planning!$D$3:$NE$3,0)+3),2,IF(MATCH($D54,Planning!$D$3:$NE$3,0)+3>26,2,1)),\"\")","v":"HU"},{"$f":"IFERROR(MID(ADDRESS(1,MATCH(IF(D54+1>Max_Semaine,1,D54+1),Planning!$D$3:$NE$3,0)+2),2,IF(MATCH(IF(D54+1>Max_Semaine,1,D54+1),Planning!$D$3:$NE$3,0)+3>26,2,1)),\"\")","v":"IA"},33,null,null,null,null,null,null,null,null,null,null,null,null,null,null,null,null,null,null,null,null,null,null,null,null,null,null,null,null,null,null,null,null,null,null,null,null,null,0,25,"Semaine 33 de 2017",null,"Catégorie 7.4","C7.4"]
["Semaine 34 de 2017",{"$f":"IFERROR(MID(ADDRESS(1,MATCH($D55,Planning!$D$3:$NE$3,0)+3),2,IF(MATCH($D55,Planning!$D$3:$NE$3,0)+3>26,2,1)),\"\")","v":"IB"},{"$f":"IFERROR(MID(ADDRESS(1,MATCH(IF(D55+1>Max_Semaine,1,D55+1),Planning!$D$3:$NE$3,0)+2),2,IF(MATCH(IF(D55+1>Max_Semaine,1,D55+1),Planning!$D$3:$NE$3,0)+3>26,2,1)),\"\")","v":"IH"},34,null,null,null,null,null,null,null,null,null,null,null,null,null,null,null,null,null,null,null,null,null,null,null,null,null,null,null,null,null,null,null,null,null,null,null,null,null,0,25,"Semaine 34 de 2017",null,"Catégorie 7.5","C7.5"]
["Semaine 35 de 2017",{"$f":"IFERROR(MID(ADDRESS(1,MATCH($D56,Planning!$D$3:$NE$3,0)+3),2,IF(MATCH($D56,Planning!$D$3:$NE$3,0)+3>26,2,1)),\"\")","v":"II"},{"$f":"IFERROR(MID(ADDRESS(1,MATCH(IF(D56+1>Max_Semaine,1,D56+1),Planning!$D$3:$NE$3,0)+2),2,IF(MATCH(IF(D56+1>Max_Semaine,1,D56+1),Planning!$D$3:$NE$3,0)+3>26,2,1)),\"\")","v":"IO"},35,null,null,null,null,null,null,null,null,null,null,null,null,null,null,null,null,null,null,null,null,null,null,null,null,null,null,null,null,null,null,null,null,null,null,null,null,null,0,25,"Semaine 35 de 2017",null,"Catégorie 8.1","C8.1"]
["Semaine 36 de 2017",{"$f":"IFERROR(MID(ADDRESS(1,MATCH($D57,Planning!$D$3:$NE$3,0)+3),2,IF(MATCH($D57,Planning!$D$3:$NE$3,0)+3>26,2,1)),\"\")","v":"IP"},{"$f":"IFERROR(MID(ADDRESS(1,MATCH(IF(D57+1>Max_Semaine,1,D57+1),Planning!$D$3:$NE$3,0)+2),2,IF(MATCH(IF(D57+1>Max_Semaine,1,D57+1),Planning!$D$3:$NE$3,0)+3>26,2,1)),\"\")","v":"IV"},36,null,null,null,null,null,null,null,null,null,null,null,null,null,null,null,null,null,null,null,null,null,null,null,null,null,null,null,null,null,null,null,null,null,null,null,null,null,0,25,"Semaine 36 de 2017"]
["Semaine 37 de 2017",{"$f":"IFERROR(MID(ADDRESS(1,MATCH($D58,Planning!$D$3:$NE$3,0)+3),2,IF(MATCH($D58,Planning!$D$3:$NE$3,0)+3>26,2,1)),\"\")","v":"IW"},{"$f":"IFERROR(MID(ADDRESS(1,MATCH(IF(D58+1>Max_Semaine,1,D58+1),Planning!$D$3:$NE$3,0)+2),2,IF(MATCH(IF(D58+1>Max_Semaine,1,D58+1),Planning!$D$3:$NE$3,0)+3>26,2,1)),\"\")","v":"JC"},37,null,null,null,null,null,null,null,null,null,null,null,null,null,null,null,null,null,null,null,null,null,null,null,null,null,null,null,null,null,null,null,null,null,null,null,null,null,0,25,"Semaine 37 de 2017"]
["Semaine 38 de 2017",{"$f":"IFERROR(MID(ADDRESS(1,MATCH($D59,Planning!$D$3:$NE$3,0)+3),2,IF(MATCH($D59,Planning!$D$3:$NE$3,0)+3>26,2,1)),\"\")","v":"JD"},{"$f":"IFERROR(MID(ADDRESS(1,MATCH(IF(D59+1>Max_Semaine,1,D59+1),Planning!$D$3:$NE$3,0)+2),2,IF(MATCH(IF(D59+1>Max_Semaine,1,D59+1),Planning!$D$3:$NE$3,0)+3>26,2,1)),\"\")","v":"JJ"},38,null,null,null,null,null,null,null,null,null,null,null,null,null,null,null,null,null,null,null,null,null,null,null,null,null,null,null,null,null,null,null,null,null,null,null,null,null,0,25,"Semaine 38 de 2017"]
["Semaine 39 de 2017",{"$f":"IFERROR(MID(ADDRESS(1,MATCH($D60,Planning!$D$3:$NE$3,0)+3),2,IF(MATCH($D60,Planning!$D$3:$NE$3,0)+3>26,2,1)),\"\")","v":"JK"},{"$f":"IFERROR(MID(ADDRESS(1,MATCH(IF(D60+1>Max_Semaine,1,D60+1),Planning!$D$3:$NE$3,0)+2),2,IF(MATCH(IF(D60+1>Max_Semaine,1,D60+1),Planning!$D$3:$NE$3,0)+3>26,2,1)),\"\")","v":"JQ"},39,null,null,null,null,null,null,null,null,null,null,null,null,null,null,null,null,null,null,null,null,null,null,null,null,null,null,null,null,null,null,null,null,null,null,null,null,null,0,25,"Semaine 39 de 2017"]
["Semaine 40 de 2017",{"$f":"IFERROR(MID(ADDRESS(1,MATCH($D61,Planning!$D$3:$NE$3,0)+3),2,IF(MATCH($D61,Planning!$D$3:$NE$3,0)+3>26,2,1)),\"\")","v":"JR"},{"$f":"IFERROR(MID(ADDRESS(1,MATCH(IF(D61+1>Max_Semaine,1,D61+1),Planning!$D$3:$NE$3,0)+2),2,IF(MATCH(IF(D61+1>Max_Semaine,1,D61+1),Planning!$D$3:$NE$3,0)+3>26,2,1)),\"\")","v":"JX"},40,null,null,null,null,null,null,null,null,null,null,null,null,null,null,null,null,null,null,null,null,null,null,null,null,null,null,null,null,null,null,null,null,null,null,null,null,null,0,25,"Semaine 40 de 2017"]
["Semaine 41 de 2017",{"$f":"IFERROR(MID(ADDRESS(1,MATCH($D62,Planning!$D$3:$NE$3,0)+3),2,IF(MATCH($D62,Planning!$D$3:$NE$3,0)+3>26,2,1)),\"\")","v":"JY"},{"$f":"IFERROR(MID(ADDRESS(1,MATCH(IF(D62+1>Max_Semaine,1,D62+1),Planning!$D$3:$NE$3,0)+2),2,IF(MATCH(IF(D62+1>Max_Semaine,1,D62+1),Planning!$D$3:$NE$3,0)+3>26,2,1)),\"\")","v":"KE"},41,null,null,null,null,null,null,null,null,null,null,null,null,null,null,null,null,null,null,null,null,null,null,null,null,null,null,null,null,null,null,null,null,null,null,null,null,null,0,25,"Semaine 41 de 2017"]
["Semaine 42 de 2017",{"$f":"IFERROR(MID(ADDRESS(1,MATCH($D63,Planning!$D$3:$NE$3,0)+3),2,IF(MATCH($D63,Planning!$D$3:$NE$3,0)+3>26,2,1)),\"\")","v":"KF"},{"$f":"IFERROR(MID(ADDRESS(1,MATCH(IF(D63+1>Max_Semaine,1,D63+1),Planning!$D$3:$NE$3,0)+2),2,IF(MATCH(IF(D63+1>Max_Semaine,1,D63+1),Planning!$D$3:$NE$3,0)+3>26,2,1)),\"\")","v":"KL"},42,null,null,null,null,null,null,null,null,null,null,null,null,null,null,null,null,null,null,null,null,null,null,null,null,null,null,null,null,null,null,null,null,null,null,null,null,null,0,25,"Semaine 42 de 2017"]
["Semaine 43 de 2017",{"$f":"IFERROR(MID(ADDRESS(1,MATCH($D64,Planning!$D$3:$NE$3,0)+3),2,IF(MATCH($D64,Planning!$D$3:$NE$3,0)+3>26,2,1)),\"\")","v":"KM"},{"$f":"IFERROR(MID(ADDRESS(1,MATCH(IF(D64+1>Max_Semaine,1,D64+1),Planning!$D$3:$NE$3,0)+2),2,IF(MATCH(IF(D64+1>Max_Semaine,1,D64+1),Planning!$D$3:$NE$3,0)+3>26,2,1)),\"\")","v":"KS"},43,null,null,null,null,null,null,null,null,null,null,null,null,null,null,null,null,null,null,null,null,null,null,null,null,null,null,null,null,null,null,null,null,null,null,null,null,null,0,25,"Semaine 43 de 2017"]
["Semaine 44 de 2017",{"$f":"IFERROR(MID(ADDRESS(1,MATCH($D65,Planning!$D$3:$NE$3,0)+3),2,IF(MATCH($D65,Planning!$D$3:$NE$3,0)+3>26,2,1)),\"\")","v":"KT"},{"$f":"IFERROR(MID(ADDRESS(1,MATCH(IF(D65+1>Max_Semaine,1,D65+1),Planning!$D$3:$NE$3,0)+2),2,IF(MATCH(IF(D65+1>Max_Semaine,1,D65+1),Planning!$D$3:$NE$3,0)+3>26,2,1)),\"\")","v":"KZ"},44,null,null,null,null,null,null,null,null,null,null,null,null,null,null,null,null,null,null,null,null,null,null,null,null,null,null,null,null,null,null,null,null,null,null,null,null,null,0,25,"Semaine 44 de 2017"]
["Semaine 45 de 2017",{"$f":"IFERROR(MID(ADDRESS(1,MATCH($D66,Planning!$D$3:$NE$3,0)+3),2,IF(MATCH($D66,Planning!$D$3:$NE$3,0)+3>26,2,1)),\"\")","v":"LA"},{"$f":"IFERROR(MID(ADDRESS(1,MATCH(IF(D66+1>Max_Semaine,1,D66+1),Planning!$D$3:$NE$3,0)+2),2,IF(MATCH(IF(D66+1>Max_Semaine,1,D66+1),Planning!$D$3:$NE$3,0)+3>26,2,1)),\"\")","v":"LG"},45,null,null,null,null,null,null,null,null,null,null,null,null,null,null,null,null,null,null,null,null,null,null,null,null,null,null,null,null,null,null,null,null,null,null,null,null,null,0,25,"Semaine 45 de 2017"]
["Semaine 46 de 2017",{"$f":"IFERROR(MID(ADDRESS(1,MATCH($D67,Planning!$D$3:$NE$3,0)+3),2,IF(MATCH($D67,Planning!$D$3:$NE$3,0)+3>26,2,1)),\"\")","v":"LH"},{"$f":"IFERROR(MID(ADDRESS(1,MATCH(IF(D67+1>Max_Semaine,1,D67+1),Planning!$D$3:$NE$3,0)+2),2,IF(MATCH(IF(D67+1>Max_Semaine,1,D67+1),Planning!$D$3:$NE$3,0)+3>26,2,1)),\"\")","v":"LN"},46,null,null,null,null,null,null,null,null,null,null,null,null,null,null,null,null,null,null,null,null,null,null,null,null,null,null,null,null,null,null,null,null,null,null,null,null,null,0,25,{"$f":"A67","v":"Semaine 46 de 2017"}]
["Semaine 47 de 2017",{"$f":"IFERROR(MID(ADDRESS(1,MATCH($D68,Planning!$D$3:$NE$3,0)+3),2,IF(MATCH($D68,Planning!$D$3:$NE$3,0)+3>26,2,1)),\"\")","v":"LO"},{"$f":"IFERROR(MID(ADDRESS(1,MATCH(IF(D68+1>Max_Semaine,1,D68+1),Planning!$D$3:$NE$3,0)+2),2,IF(MATCH(IF(D68+1>Max_Semaine,1,D68+1),Planning!$D$3:$NE$3,0)+3>26,2,1)),\"\")","v":"LU"},47,null,null,null,null,null,null,null,null,null,null,null,null,null,null,null,null,null,null,null,null,null,null,null,null,null,null,null,null,null,null,null,null,null,null,null,null,null,0,25,"Semaine 47 de 2017"]
["Semaine 48 de 2017",{"$f":"IFERROR(MID(ADDRESS(1,MATCH($D69,Planning!$D$3:$NE$3,0)+3),2,IF(MATCH($D69,Planning!$D$3:$NE$3,0)+3>26,2,1)),\"\")","v":"LV"},{"$f":"IFERROR(MID(ADDRESS(1,MATCH(IF(D69+1>Max_Semaine,1,D69+1),Planning!$D$3:$NE$3,0)+2),2,IF(MATCH(IF(D69+1>Max_Semaine,1,D69+1),Planning!$D$3:$NE$3,0)+3>26,2,1)),\"\")","v":"MB"},48,null,null,null,null,null,null,null,null,null,null,null,null,null,null,null,null,null,null,null,null,null,null,null,null,null,null,null,null,null,null,null,null,null,null,null,null,null,0,25,"Semaine 48 de 2017"]
["Semaine 49 de 2017",{"$f":"IFERROR(MID(ADDRESS(1,MATCH($D70,Planning!$D$3:$NE$3,0)+3),2,IF(MATCH($D70,Planning!$D$3:$NE$3,0)+3>26,2,1)),\"\")","v":"MC"},{"$f":"IFERROR(MID(ADDRESS(1,MATCH(IF(D70+1>Max_Semaine,1,D70+1),Planning!$D$3:$NE$3,0)+2),2,IF(MATCH(IF(D70+1>Max_Semaine,1,D70+1),Planning!$D$3:$NE$3,0)+3>26,2,1)),\"\")","v":"MI"},49,null,null,null,null,null,null,null,null,null,null,null,null,null,null,null,null,null,null,null,null,null,null,null,null,null,null,null,null,null,null,null,null,null,null,null,null,null,0,25,"Semaine 49 de 2017"]
["Semaine 50 de 2017",{"$f":"IFERROR(MID(ADDRESS(1,MATCH($D71,Planning!$D$3:$NE$3,0)+3),2,IF(MATCH($D71,Planning!$D$3:$NE$3,0)+3>26,2,1)),\"\")","v":"MJ"},{"$f":"IFERROR(MID(ADDRESS(1,MATCH(IF(D71+1>Max_Semaine,1,D71+1),Planning!$D$3:$NE$3,0)+2),2,IF(MATCH(IF(D71+1>Max_Semaine,1,D71+1),Planning!$D$3:$NE$3,0)+3>26,2,1)),\"\")","v":"MP"},50,null,null,null,null,null,null,null,null,null,null,null,null,null,null,null,null,null,null,null,null,null,null,null,null,null,null,null,null,null,null,null,null,null,null,null,null,null,0,25,"Semaine 50 de 2017"]
["Semaine 51 de 2017",{"$f":"IFERROR(MID(ADDRESS(1,MATCH($D72,Planning!$D$3:$NE$3,0)+3),2,IF(MATCH($D72,Planning!$D$3:$NE$3,0)+3>26,2,1)),\"\")","v":"MQ"},{"$f":"IFERROR(MID(ADDRESS(1,MATCH(IF(D72+1>Max_Semaine,1,D72+1),Planning!$AA$3:$NE$3,0)+2+23),2,IF(MATCH(IF(D72+1>Max_Semaine,1,D72+1),Planning!$AA$3:$NE$3,0)+3+23>26,2,1)),\"\")","v":"MW"},{"$f":"IF(D71+1>Max_Semaine,1,D71+1)","v":51},null,null,null,null,null,null,null,null,null,null,null,null,null,null,null,null,null,null,null,null,null,null,null,null,null,null,null,null,null,null,null,null,null,null,null,null,null,0,25,"Semaine 51 de 2017"]
[{"$f":"\"Semaine \"&TEXT(D73,\"00\")&\" de \"&IF(D73=$D$21,RIGHT(A$21,4)+1,AN)","v":"Semaine 52 de 2017"},{"$f":"IFERROR(MID(ADDRESS(1,MATCH($D73,Planning!$AA$3:$NE$3,0)+3+23),2,IF(MATCH($D73,Planning!$AA$3:$NE$3,0)+3+23>26,2,1)),\"\")","v":"MX"},{"$f":"IF(Mois_deb_planning<=2,IF(DAY(DATE(AN,2,29))=29,MID(ADDRESS(ROW(fin),COLUMN(fin)),2,2),MID(ADDRESS(ROW(fin),COLUMN(fin)-1),2,2)),IF(DAY(DATE(AN+1,2,29))=29,MID(ADDRESS(ROW(fin),COLUMN(fin)),2,2),MID(ADDRESS(ROW(fin),COLUMN(fin)-1),2,2)))","v":"ND"},52,null,null,null,null,null,null,null,null,null,null,null,null,null,null,null,null,null,null,null,null,null,null,null,null,null,null,null,null,null,null,null,null,null,null,null,null,null,0,25,"Semaine 52 de 2017"]
[]
["Liste de choix du mois",null,"Trimestres"]
["Janvier",null,{"$f":"IF(OFFSET(découpe_trimestres,ROW()-75,1,,)=\"\",OFFSET(découpe_trimestres,ROW()-75,2,,),OFFSET(découpe_trimestres,ROW()-75,1,,))","v":"Janvier"}]
["Février",null,"Mars"]
["Mars",null,"Avril"]
["Avril",null,"Juin"]
["Mai",null,"Juillet"]
["Juin",null,"Septembre"]
["Juillet",null,"Octobre"]
["Août",null,"Décembre"]
["Septembre",null,"Janvier"]
["Octobre",null,"Juin"]
["Novembre",null,"Juillet"]
["Décembre",null,"Décembre"]
["Janvier",null,"Sem Max"]
["Février",null,{"$f":"MAX(Planning!$D$3:$NE$3)","v":52}]
["Mars"]
["Avril"]
["Mai"]
["Juin"]
["Juillet"]
["Août"]
["Septembre"]
["Octobre"]
["Novembre"]
["Décembre"]

{"sheet":"BD","index":5,"n_rows":20,"n_cols":27,"rows_kept":20,"cut":false,"hidden":false,"merged":[]}
["Absences","Code","pas d'heure : ce sont des périodes mais une possibilité d'activité ou non","Rubrique 1","Code","Heure","Rubrique 2","Code","Heure","Rubrique 3","Code","Heure","Rubrique 4","Code","Heure","Rubrique 5","Code","Heure","Rubrique 6","Code","Heure","Rubrique 7","Code","Heure","Rubrique 8","Code","Heure"]
["Congés Payés","CP","NON","Catégorie 1.1","C1.1",1,"Catégorie 2.1","C2.1",1,"Catégorie 3.1","C3.1",1,"Catégorie 4.1","C4.1",1,"Catégorie 5.1","C5.1",1,"Catégorie 6.1","C6.1",1,"Catégorie 7.1","C7.1",1,"Catégorie 8.1","C8.1",1]
["Demi Congés Payés Matin","CPM","OUIPM","Catégorie 1.2","C1.2",1,"Catégorie 2.2","C2.2",1,"Catégorie 3.2","C3.2",1,"Catégorie 4.2","C4.2",1,"Catégorie 5.2","C5.2",1,"Catégorie 6.2","C6.2",0.5,"Catégorie 7.2","C7.2",1]
["Demi Congés Payés Après Midi","CPA","OUIAM","Catégorie 1.3","C1.3",1,null,"vide",null,"Catégorie 3.3","C3.3",0.5,"Catégorie 4.3","C4.3",1,"Catégorie 5.3","C5.3",1,"Catégorie 6.3","C6.3",0.5,"Catégorie 7.3","C7.3",1]
["RTT","RTT","NON",null,"vide",null,"Catégorie 2.3","C2.3",2,"Catégorie 3.4","C3.4",2,"Catégorie 4.4","C4.4",1,"Catégorie 5.4","C5.4",1,"Catégorie 6.4","C6.4",0.5,"Catégorie 7.4","C7.4",1]
["RTT Matin","RTTM","OUIPM","Catégorie 1.4","C1.4",1,"Catégorie 2.4","C2.4",1,"Catégorie 3.5","C3.5",2.5,null,null,null,null,null,null,null,null,null,"Catégorie 7.5","C7.5",1]
["RTT Midi","RTTA","OUIAM","Catégorie 1.5","C1.5",2,null,"vide",null,"Catégorie 3.6","C3.6",1]
["Garde Enfant Malade","GEM","NON","Catégorie 1.6","C1.6",2,"Catégorie 2.5","C2.5",0.5,"Catégorie 3.1","C3.1",1]
["Maladie / Arrêt de Travail","MAT","NON","Catégorie 1.7","C1.7",2,"Catégorie 2.1","C2.1",1,"Catégorie 3.2","C3.2",1]
["Formation","FOR","OUI",null,"vide",null,"Catégorie 2.2","C2.2",1,"Catégorie 3.3","C3.3",0.5]
["Stage","STA","OUI","Catégorie 1.8","C1.8",1.5,null,"vide",null,"Catégorie 3.4","C3.4",2]
["Mission","MIS","NON","Catégorie 1.9","C1.9",2.5,"Catégorie 2.3","C2.3",2,"Catégorie 3.5","C3.5",2.5]
["Détachement","DET","NON","Catégorie 1.10","C1.10",2,"Catégorie 2.4","C2.4",1,"Catégorie 3.6","C3.6",1]
["Congrés","CGR","NON",null,"vide",null,null,"vide"]
[null,null,null,"Catégorie 1.11","C1.11",2,"Catégorie 2.5","C2.5",0.5]
[null,null,null,"Catégorie 1.12","C1.12",2]
[null,null,null,"Catégorie 1.13","C1.13",1]
[null,null,null,null,"vide"]
[null,null,null,"Catégorie 1.14","C1.14",0.5]
[null,null,null,"Catégorie 1.15","C1.15",1]

{"sheet":"A lire","index":6,"n_rows":242,"n_cols":20,"rows_kept":242,"cut":false,"hidden":false,"merged":[[240,0,240,30],[241,0,241,30],[165,1,165,2],[165,12,165,13],[166,1,166,2],[166,12,166,13],[167,1,167,2],[167,12,167,13],[172,1,172,30],[235,0,235,30],[238,0,238,30],[239,0,239,30],[181,1,181,25],[162,1,162,2],[162,12,162,13],[163,1,163,2],[163,12,163,13],[164,1,164,2],[164,12,164,13],[159,1,159,2],[159,12,159,13],[160,1,160,2],[160,12,160,13],[161,1,161,2],[161,12,161,13],[142,1,142,2],[143,1,143,2],[157,1,157,2],[157,12,157,13],[158,1,158,2],[158,12,158,13],[104,12,104,14],[85,1,85,26],[88,1,88,26],[141,1,141,2],[116,1,116,2],[117,1,117,2],[118,1,118,2],[119,1,119,2],[120,1,120,2],[2,0,2,30],[4,0,4,30],[30,1,30,29],[65,0,65,4],[54,0,54,4],[55,0,55,4],[62,0,62,4],[63,0,63,4],[64,0,64,4],[42,0,42,30],[53,0,53,4],[51,0,51,4],[52,0,52,4],[56,0,56,4],[57,0,57,4],[58,0,58,4],[71,0,71,4],[72,0,72,4],[73,0,73,4],[59,0,59,4],[60,0,60,4],[61,0,61,4],[66,0,66,4],[67,0,67,4],[68,0,68,4],[69,0,69,4],[70,0,70,4]]}
[10,null,"Feuille \"Planning\"          Feuille \"Système\"            Feuille \"BD\"                  Feuille \"Récap Individuel\"          Feuille \"Récap Global Activité Horaire\"          Feuille \"Agenda\"          Feuille \"Annuelle\"          Feuille Pôle activité        Fonctionnement            En Haut"]
[]
["Application Planning Activité Horaire Scrollmonth (APAcHeS)\nVersion Ultimate"]
[]
["L'application est fournie telquelle, il n'y a aucune protection au niveau des feuilles ni au niveau des codes VBA. Vous avez toutes fois le droit et la possibilité d'effectuer les modifications qui vous semblent nécessaires pour l'adaptation à votre projet. Il est entièrement libre de droits. Merci par avance de me signaler des éventuelles erreurs, mais depuis le temps que je le teste (et j'ai une inspectrice de qualité, merci Carole), beaucoup de Bug sont résolus. N'hésitez pas à aller sur le Forum afin de laisser vos commentaires, constructifs ou destructifs, vos suggestions, vos problèmes quant au fonctionnement et autre.\nLe lien pour le forum est en bas de cette page, merci. Ci-dessus des boutons radios pour naviguer aisément sur cette feuille \"A lire\".\nLouReeD"]
[]
["Feuille \"Planning\""]
["C'est la feuille principale de l'application. C'est sur cette feuille que vous allez indiquez l'activité du personnel ou sa position. C'est aussi sur cette feuille que vous allez gérer l'ajout, la modification ou la suppression d'un personnel."]
[]
["Description de la partie principale, le planning :"]
[null,"une colonne pour le nom des personnels."]
[null,"une série de deux colonnes pour indiquer la fonction de chaque ligne du planning :"]
[null,null,"première ligne (par défaut : absence) : elle indique la position du personnel (Congés payé, maladie, stage etc). Cette position n'est pas comptée en heure mais en jour (stage du lundi au vendredi = 5 = 5 jours)"]
[null,null,"deuxième ligne (par défaut : HHO) : elle indique les heures effectuées par le personnel Hors Heures Ouvrables (HHO) le matin, ce ne sont que des heures, pas de choix possible d'activité."]
[null,null,"troisième ligne et + (par défaut il y a 24 lignes pour chaque heure de travail sans coupure méridienne) : C'est sur ces lignes que vous allez indiquer l'activité du personnel."]
[null,null,"Dernière ligne  (par défaut : HHO) : elle indique les heures effectuées par le personnel Hors Heures Ouvrables (HHO) le soir, ce ne sont que des heures, pas de choix possible d'activité."]
[null,null,"Une ligne en plus de toutes celles là est ajoutée en première place afin de créer une séparation visuelle entre chaque personnel. Sur cette ligne aucune position, ni activité ne peut être mise."]
[null,"toutes une série de colonne pour chaque jour de l'année allant du 1er jour du premier mois de l'année du suivi jusqu'au dernier jour du 12 ième mois du planning."]
[null,null,"Un mois supplémentaire a été ajouter afin de créer un \"tuilage\" sur l'année suivante."]
[null,"une ligne pour afficher le nom des mois. Visuellement elle est découpée automatiquement. Prend en compte les années bisextiles."]
[null,"une ligne pour afficher le numéro des semaines. Visuellement elle est découpée automatiquement."]
[null,"une série de 4 lignes \"Agenda\" : elles vous permetsnt au regard des semaines ou jour de l'année, d'indiquer des périodes particulières ou journée remarquable (vacances colaires, pont, visite etc)"]
[null,"Une ligne pour afficher le nom du jour automatiquement."]
[null,"Une ligne pour afficher le numéro du jour automatiquement."]
[]
["Sur la partie gauche supérieur une série de boutons :"]
[null,"Plein écran : pour basculer sur l'affichage plein écran d'Excel - Petit écran : permet de revenir sur l'affichage standard d'Excel."]
[null,"Vu planning : pour basculer sur l'affichage planning qui ne conserve à l'écran que les positions journalières des personnels - Vu activité : permet de revenir sur l'affichage activité qui affiche également les positions journalières."]
[null,"Saisie activité : permet d'afficher le Userform de choix des activités ou des positions journalières. Il vous faudra remplir la feuille \"BD\" pour adapter les données à vos besoins."]
[null,"Correction : permet de passer en mode de saisie \"effacement\", c'est grâce à ce bouton que vous effacerez les données éronnées - Correction finie : permet de sortir du mode de correction."]
[null,"Ajouter : lance la macro d'ajout de personnel. Si vous voulez contrôler la position du nouveau personnel deux solutions s'offre à vous : la première consiste à sélectionner le  personnel se trouvant en-dessous de la position voulue, la deuxième consiste à faire un ajout sans sélectionner de position, ensuite d'actionner les boutons [Monter] ou [Descendre] pour le positionner où vous voulez. Il n'est pas possible d'ajouter un personnel audessus du premier, vous devrez donc faire la deuxième méthode :"]
[null,null,"Vous ajouter un personnel en première position ? Il faut sélectionner le deuxième personnel, cliquer sur le boutton [Ajouter], puis cliquer sur le boutton [vers le haut] afin que cet ajout soit en première place."]
[null,"Supprimer : permet de supprimer un personnel. Il faut sélectionner une ligne planning du personnel que vous désirez supprimer et de lancer la macro. Ensuite suivez les instructions. Pas de retour en arrière possible !"]
[null,"Monter - Decendre : permet de classer vers le haut ou le bas le personnel sélectionné. Cela vous permet de mettre une hiérarchie dans votre service."]
[null,"Modifier : permet de modifier le personnel sélectionné. Les modifications possibles sont : modification de son nom, initialisation de son suivi planning, ajout suppression de sa feuille Agenda, ajout suppression de sa feuille Annuelle."]
[null,"Aujourd'hui : permet de \"caller\" le scroll horizontal du planning sur le jour actuel."]
[null,"Récap Indiv. : c'est un bouton pour vous rendre directement sur la feuille \"Récap Individuel\"."]
[null,"Récap Global : c'est un bouton pour vous rendre directement sur la feuille \"Récap Global Activité Horaire\"."]
[]
["Il vous est possible d'inserrer des colonnes à gauche du planning, et des lignes au dessus du planning sans toutes fois toucher à la ligne 1 du tableau Excel (première ligne à inserrer : entre la ligne 1 et 2, pas avant la 1)."]
["Avant de pouvoir utiliser cette feuille et afin de lui donner l'aspect visuel que vous voulez il vous faut renseigner la feuille \"Système\"."]
[]
["Avant toutes choses il vous faut \"paramètrer\" votre suivi au niveau des feuilles \"Système\" et \"BD\""]
[]
["Feuille \"Système\" :"]
[null,"C'est la feuille qui va vous servire pour paramètrer le planning à vos besoins. Ci-dessous le fonctionnement des différentes parties de cette feuille."]
[]
[null,"Les cellules de couleurs orange",null,null,null,"ne sont pas à modifier elles sont automatiques (et c'est vrai pour toutes les cellules de la feuille \"Système\")."]
[]
[null,"Dans la colonne J :"]
[]
["Indiquez l'année du suivi",null,null,null,null,"Année de suivi : les weekend et les jours fériés se mettent à jour automatiquement"]
["Indiquez le premier mois du planning",null,null,null,null,"Ici il vous suffit de sélectionner le premier mois de votre planning. Le reste sera mis à jour automatiquement."]
["Indiquez le nom de votre service",null,null,null,null,"Nom du servie, atelier, entreprise du suivi"]
["Indiquez le texte de la  ligne : position journalière",null,null,null,null,"Indiquez le texte qui sera affiché sur le planning"]
["Indiquez le texte de la  ligne : avant journée",null,null,null,null,"Indiquez le texte qui sera affiché sur le planning"]
["Indiquez le texte de la  ligne : période d'activité journée du matin",null,null,null,null,"Indiquez le texte qui sera affiché sur le planning"]
["Indiquez le texte de la  ligne : période d'activité journée de l'après midi",null,null,null,null,"Indiquez le texte qui sera affiché sur le planning"]
["Indiquez le texte de la ligne : après journée",null,null,null,null,"Indiquez le texte qui sera affiché sur le planning"]
["Couleur des heures non répertoriées du Planning et mise en forme",null,null,null,null,"Ici il vous suffit de modifier la couleur de remplissage de la cellule afin qu'elle soit reprise sur le planning. Vous pouvez également modifier le Gras, l'Italic et le Souligné de la cellule."]
["Couleur des jours chômés du Planning",null,null,null,null,"Ici il vous suffit de modifier la couleur de remplissage de la cellule afin qu'elle soit reprise sur le planning."]
["Couleur du jour actuel du Planning",null,null,null,null,"Ici il vous suffit de modifier la couleur de remplissage de la cellule afin qu'elle soit reprise sur le planning."]
["Couleur des jours chômés de l'Agenda",null,null,null,null,"Ici il vous suffit de modifier la couleur de remplissage de la cellule afin qu'elle soit reprise sur l'Agenda."]
["Couleur du jour actuel de l'Agenda",null,null,null,null,"Ici il vous suffit de modifier la couleur de remplissage de la cellule afin qu'elle soit reprise sur l'Agenda."]
["Couleur des totaux mensuels et annuels des feuilles Récap",null,null,null,null,"Ici il vous suffit de modifier la couleur de remplissage de la cellule afin qu'elle soit reprise sur les tableaux."]
["Couleur des mois impaires (Janvier, Mars, Mai, Juillet, Septembre, Novembre)",null,null,null,null,"Ici il vous suffit de modifier la couleur de remplissage de l'intitulé des mois impaires."]
["Couleur des mois paires (Février, Avril, Juin, Août, Octobre, Décembre))",null,null,null,null,"Ici il vous suffit de modifier la couleur de remplissage de l'intitulé des mois paires."]
["Caller le jour actuel des feuilles Agenda à chaque sélection",null,null,null,null,"Ici il vous suffit de cocher ou décocher en fonction de ce que vous voulez."]
["Nom et couleur de la feuille \"Planning\"",null,null,null,null,"Ici il vous suffit de modifier le nom de la feuille Planning et la couleur de l'onglet correspondant."]
["Nom et couleur de la feuille \"Récap Individuel\"",null,null,null,null,"Ici il vous suffit de modifier le nom de la feuille Récap Individuel et la couleur de l'onglet correspondant."]
["Nom de la feuille \"Récap Global Activité Horaire\"",null,null,null,null,"Ici il vous suffit de modifier le nom de la feuille Récap Global Horaire Activité et la couleur de l'onglet correspondant."]
["Nom et couleur de la feuille \"BD\"",null,null,null,null,"Ici il vous suffit de modifier le nom de la feuille BD et la couleur de l'onglet correspondant."]
["Nom de la feuille \"Système\"",null,null,null,null,"Ici il vous suffit de modifier le nom de la feuille Système et la couleur de l'onglet correspondant."]
["Gérer le nombre de ligne du scroll vertical automatiquement",null,null,null,null,"Ici il vous suffit de cocher ou décocher en fonction de ce que vous voulez."]
[]
[null,"Il est bien évident qu'il faut passer par ces cellules pour modifier le nom des feuilles afin que les macros puissent prendre en compte cette modification."]
[]
[null,"Dans la colonne L :"]
[null,"Indiquez pour chaque jour de la semaine s'il est chômé (coché) ou travaillé (décoché). Le planning se mettra à jour automatiquement."]
[]
[null,"Dans la colonne O :"]
[null,"Indiquez pour chaque jour férié de l'année s'il est chômé (coché) ou travaillé (décoché). Le planning se mettra à jour automatiquement. En plus des jours fériés \"automatiques\" (sur fond orange), il vous est possible de rajouter des jours supplémentaires"]
[null,"à partir de la ligne N°24. Il vous faudra alors indiquer la date en colonne N et ce à quoi cela correspond en colonne O. Ils seront pris en compte automatiquement."]
[]
[null,"Dans les colonnes S T U :"]
[null,"Ces colonnes vous permettent de définir les différentes périodes sélectionnables sur la feuille \"Récap Individuel\". On part du principe qu'un trimestre vaut trois mois mais dans l'exemple de scolaire le premier trimestre fait 4 mois !\nIl vous est donc possible de paramétrer ces périodes manuellement en colonne U, pour cela il vous suffit de définir le mois de début et de fin de chaque période."]
[]
[null,"A partir de la colonne W :"]
[null,"Une série de colonne masquées qui comprennent un tableau de valeur pour le fonctionnement des macros de la feuille Structure, un tableau de recherche de position de date pour remplir les feuilles \"Annuelle\" des personnels, et un tableau de mise en mémoire de données des personnels avant modification des personnels de la feuille Planning, afin de les restituer au bon endroit après les modifications."]
[]
["Un bouton [Planning] vous permet de retourner simplement sur la feuille \"Planning\"."]
[]
["Sur cette feuille, les colonnes allant de A à I sont masquées, elle contiennent des valeurs automatiques, nécessaire au fonctionnement des macros."]
["Merci de ne pas les modifier.",null,null,null,"Sauf si vous vous lancez dans de \"profondes\" modifiacions pour adapter l'application à votre projet."]
[]
[null,"Dans les colonnes A B et C :"]
[null,"Ce sont les références automatiques des colonnes de début et fin de mois de l'année de suivi afin de découper le planning en mois entier pour l'impression."]
[null,"Elles servent aussi dans les formules sur la feuille \"Récap individuel\" qui permet de faire des filtres mensuel, trimestriel, semestriel ou annuel."]
[]
[null,"Dans les colonnes E et F :"]
[null,"Ce tableau sert à connaitre le premier lundi de l'année du suivi pour l'affichage par semaine des feuilles Agenda."]
[null,"Il sert aussi au calcul pour le scroll horizontal de ces feuilles afin de caller le lundi de la semaine en cours."]
[]
[null,"Dans la colonne H :"]
[null,"Toute une série de valeur utiles pour les macros ou l'affichage du planning. Chaque intitulé est suffisemment clair, une seulle chose à faire :",null,null,null,null,null,null,null,null,null,null,"RIEN MODIFIER ICI !"]
[]
["Feuille \"BD\" :"]
[null,"C'est sur cette feuille que vous allez renseigner les différentes rubriques ainsi que leur différentes catégories avec leur code graphique et leur durée en heure et centième d'heure."]
[]
[null,"Dans les colonnes A B C :"]
[null,null,"Dans les trois première colonnes de la feuille \"BD\" vous devez indiquer autant de position journalière différente que vous voulez. La différence avec l'activité horaire, c'est qu'il n'y a pas de calcul horaire"]
[null,null,null,"pour ces positions, par contre il faut indiquer si la position est compatible avec de l'activité horaire ou pas. Si elle est compatible il faut préciser si c'est sur la journée, le matin ou l'après-midi !!!!"]
[null,null,null,"Les différents codes sont expliqués sur la feuille en commentaire de la cellule d'entête de colonne C. Quoi qu'il arrive, il ne faut pas supprimer cette colonne (ni les autres d'ailleurs !!!)."]
[null,null,"Il y a tout de même sur la feuille \"Récap Individuel\", un cumul en jour de ces différentes positions journalières (permet de voir qu'un personnel a été, en 2014, 17 jours en stage, 5 jours en maladie...)"]
[]
[null,null,null,"colonne A","colonne B","C"]
[null,"ligne 1",null,"Position","Code","X"]
[null,"ligne 2",null,"Congés","CGS","NON"]
[null,"ligne 3",null,"Congés le matin","CPAM","OUIPM"]
[null,"ligne 4",null,"Congés l'après midi","CPPM","OUIAM"]
[null,"ligne 5",null,"Stage","STG","OUI"]
[null,null,"Colonne A \" Position\" : intitulé long de la position."]
[null,null,"Colonne B \"Code\" : c'est la représentation visuelle que prendra la cellule. Tous les formats, textures, style de police couleur de police sont possibles !"]
[null,null,"Colonne X : ici la colonne permet d'indiquer si la position est compatible avec de l'activité."]
[null,null,null,"NON : pas de compatibilité, on ne pourra pas mettre cette position s'il y a de l'activité et inversement, on ne pourra pas mettre d'activité s'il y a cette position."]
[null,null,null,"OUI : alors c'est compatible sur toute la journée"]
[null,null,null,"OUIPM : alors on poura mettre de l'activité sur cette position mais seulement l'après-midi, et inversement, s'il y a que de l'activité l'après-midi d'inscrit on pourra inscrire cette position."]
[null,null,null,"OUIAM : c'est comme ci-dessus à la différence que c'est pour l'activité du matin."]
[null,null,null,"L'activité du matin et de l'après-midi sont dissociées par la valeur NB_LGN_MTN qui se trouve sur la feuille système où vous indiquez le nombre de ligne du matin. Cette valeur est en colonne Y (par défaut 12)"]
[]
[null,null,null,"Il vous est possible de changer la police, le style de police, l'alignement de police, la couleur de fond, l'ajout de bordure oblique, ou un motif de remplissage, varier les bordures ainsi que leur couleur."]
[null,null,null,"Dans la limite de compatibilité des formats les uns avec les autres évidemment."]
[null,null,null,"Quelques exemples des possibilités :",null,"TBE","TBE","TBE","tbe","a","d","cde","cde","dce","a","dans la réalité les cellules font 40 pixels de large"]
["Remarque importante : tous les codes doivent être alphanumérique (pas de chiffre seul), et doivent être UNIQUES sur l'ensemble de la feuille. Les heures \"sup\" HHO sont inscrites directement en chiffre dans les cellules."]
[null,"Il faut absolument une representation alphanumérique de votre code graphique afin que l'activité puisse être comptabilisée !"]
["Remarque importante 2 : il y a trois ligne à ne pas \"modifier\", ce sont celles qui servent à calculer les jours de congés payés restant pour l'année. Les valeurs des cellules peuvent être modifiées"]
[null,"mais quoi qu'il arrive leur emplacement doit rester le leur. Les cellule nommées correspondantes sont CP, CP_2_M et CP_2_A"]
[]
[null,"Dans les colonnes D E F et suivantes :"]
[null,null,null,null,null,null,null,"Pas de colonne vide entre deux zones de trois colonnes !"]
[null,null,null,"colonne D","colonne E","F","colonne G","colonne H","I"]
[null,"ligne 1",null,"Rubrique 1","Code","Heures","Rubrique 2","Code","Heures"]
[null,"ligne 2",null,"Catégorie 1","C1.1",1,"Catégorie 2.1","C2.1",0.5]
[null,"ligne 3",null,{"$f":"D143","v":"Catégorie 1"},"C1.2",1.5,"Catégorie 2.2","C2.2",2]
[]
[null,null,"Colonne D, cellule Rubrique : à la place de rubrique indiquez le nom de celle-ci. C'est ce nom qui apparaitra dans la liste déroulante du userform."]
[null,null,"Colonne D à partire de la ligne 2 : c'est à partir d'ici que vous indiquez les diférentes catégories correspondantes à la rubrique indiquée en cellule D1."]
[null,null,"Colonne E : c'est la représentation visuelle que prendra la cellule de la catégorie de la rubrique concernée. Ce code couleur sera répercuté lors des saisies d'activités."]
[null,null,"Colonne F : c'est ici que vous indiquez le \"forfait\" horaire de la catégorie de la rubrique concernée."]
["Remarque importante : tous les codes doivent être alphanumérique (pas de chiffre seul), et doivent être uniques. Les heures \"sup\" HHO sont inscrites directement en chiffre dans les cellules."]
[null,null,null,"Il vous est possible de changer la police, le style de police, l'alignement de police, la couleur de fond, l'ajout de bordure oblique, ou un motif de remplissage, varier les bordures ainsi que leur couleur."]
[null,null,null,"Dans la limite de compatibilité des formats les uns avec les autres évidemment."]
[null,null,null,"Quelques exemples des possibilités :",null,"TBE","TBE","TBE","tbe","a","d","cde","cde","dce","a","dans la réalité les cellules font 40 pixel de large"]
[]
[null,null,"La seule contrainte est que la colonne \"Code\" ne pocède pas de cellule vide ! C'est la colonne qui permet de créer les liste déroulantes, alors s'il y a une cellule vide, la liste ne sera pas entière."]
[]
[null,null,null,"colonne D","colonne E","F",null,null,null,null,null,null,null,null,"colonne D","colonne E","F"]
[null,"ligne 1",null,"Rubrique","Code","Heures",null,"visue liste","bon !",null,null,null,"ligne 1",null,"Rubrique","Code","Heures",null,"visue liste","Pas bon !!!"]
[null,"ligne 2",null,"Catégorie 1","C1.1",1,null,"Catégorie 1",null,null,null,null,"ligne 2",null,"Catégorie 1","C1.1",1,null,"Catégorie 1"]
[null,"ligne 3",null,"Catégorie 2","C1.2",1,null,"Catégorie 2",null,null,null,null,"ligne 3",null,"Catégorie 2","C1.2",1,null,"Catégorie 2"]
[null,"ligne 4",null,"Catégorie 3","C1.3",1,null,"Catégorie 3",null,null,null,null,"ligne 4",null,"Catégorie 3","C1.3",1,null,"Catégorie 3"]
[null,"ligne 5",null,"Catégorie 4","C1.4",1,null,"Catégorie 4",null,null,null,null,"ligne 5",null,"Catégorie 4","C1.4",1,null,"Catégorie 4"]
[null,"ligne 6",null,null,"vide",null,null,null,null,null,null,null,"ligne 6"]
[null,"ligne 7",null,"Catégorie 5","C1.5",1,null,"Catégorie 5",null,null,null,null,"ligne 7",null,"Catégorie 5","C1.5",1]
[null,"ligne 8",null,"Catégorie 6","C1.6",1,null,"Catégorie 6",null,null,null,null,"ligne 8",null,"Catégorie 6","C1.6",1]
[null,"ligne 9",null,null,"vide",null,null,null,null,null,null,null,"ligne 9"]
[null,"ligne 10",null,"Catégorie 7","C1.7",1,null,"Catégorie 7",null,null,null,null,"ligne 10",null,"Catégorie 7","C1.7",1]
[null,"ligne 11",null,"Catégorie 8","C1.8",1,null,"Catégorie 8",null,null,null,null,"ligne 11",null,"Catégorie 8","C1.8",1]
[]
[null,null,"Une fois le premier groupe de trois colonnes rempli, pour changer de rubrique il suffit de remplir trois autres colonnes sur la droite."]
[null,null,"Il ne doit pas y avoir de colonnes vides pour séparer ces groupes de trois colonnes, merci."]
[]
[null,"A savoir : toutes modifications de la feuille \"BD\" devront être \"validées\" par le lancement de la macro d'initialisation qui se trouve sur la feuille \"BD\" ou la feuille \"Récap Individuel\" ou la feuille \"Récap Global Activité Horaire\".\nCette macro reconfigure les tableaux en fonction de la feuille \"BD\"."]
[null,"Les couleurs des cellules du nom des rubriques et des catégories de la feuille \"BD\" sont reprises dans les deux tableaux."]
[null,"Le fait de laisser des lignes vides, permet dans la liste déroulante de créer des blancs qui vous permet de concevoir des groupes de catégorie dans chaque rubrique au niveau du Userform de saise d'activité."]
[null,"Ces blanc n'apparaissent pas dans les tableaux des feuilles \"Récap Individuel\" et \"Récap Global Activité Horaire\"."]
[]
["Feuille \"Récap Individuel\" :"]
[null,"Cette feuille permet d'avoir un récap individuel, sur toutes les catégories horaires et sur les diverses positions journalières."]
[null,"Ce récap peut être fait sur : l'année entière, un semestre, un trimestre, un mois ou une semaine. Pour cela rien de plus simple, dans la cellule A1, sélectionnez le type de récap voulu."]
[null,null,"Le fait de faire ces différents filtre à pour conséquence d'effacer la valeur du nombre de jour de congés restant à prendre durant l'année considérée. C'est normal car ces valeurs lors des filtres ne veulent plus rien dire."]
[null,"C'est ici que le fichier est limité en personnels, il suffit de cliquer sur le boutton adéquate pour accroitre la capacité de suivi de l'application en nombre de personnel suivi.\nSuite à cette acroissement, pour ajouter un personnel il faut lancer la macro par le bouton [Ajouter] de la feuille \"Planning\"."]
[]
["Feuille \"Récap Global Activité Horaire\" :"]
[null,"Cette feuille permet d'avoir un récap global par mois et par année de toutes les catégories d'activitées horaire de tout le personnel."]
[null,"Sur cette feuille il n'y a pas de récap global des positions journalières, seule \"les heures\" sont suivies."]
[null,"La cellule en bas à droite du tableau est une cellule de test : s'il y a une erreur, elle affiche erreur. En fait elle vérifie la somme des heures total par catégories par rapport à la somme des heures totals mensuelle."]
[]
["Feuille \"Agenda\" :"]
[null,"Cette feuille n'est ni plus ni moins qu'un agenda. Chaque page représente une semaine, découpée en journées, elles-mêmes découpées en tranches horaire."]
[null,"Deux \"petits\" boutons sont présent pour naviguer d'une semaine à l'autre. Tout comme la feuille planning, un scroll est programmé pour afficher le lundi de la semaine en cours."]
[null,"Un bouton [planning] vous permet de retourner sur la feuille \"Planning\"."]
[null,"Un bouton [jour] vous permet de vous caller sur la semaine en cours."]
[null,"Pour y accéder directement à partir du planning rien de plus simple : il vous faut appuyer simultanément sur [CTRL]  et cliquer gauche sur le nom du personnel."]
[null,"L'application vous donne la possibilité de créer une feuille Agenda par personnel. Toute modification de la feuille \"Planning\" du personnel concerné est répercutée sur sa feuille \"Agenda\". L'inverse n'est pas prévu."]
[]
["Feuille \"Annuelle\" :"]
[null,"Cette feuille n'est ni plus ni moins qu'un calendrier. Il reprend les différentes positions journalières du personnel considéré. Il est mis à jour en fonction des modifications sur la position du personnel sur le planning de la feuille Planning."]
[null,"Pour y accéder directement à partir du planning rien de plus simple : il vous faut appuyer simultanément sur [CTRL] et [Tabulation horizontale] et cliquer gauche sur le nom du personnel."]
[null,"Un bouton [planning] vous permet de retourner sur la feuille \"Planning\"."]
[null,"L'application vous donne la possibilité de créer une feuille Annuelle par personnel."]
[]
["Feuille \"Récap_Pôles\" :"]
[null,"Cette feuille n'est que consultative."]
[null,"Elle vous permet de faire \"le point\" sur le nombre de personnel positionné sur une tâche précise par créneaux horaire. Un ascenseur horizontal vous permet de naviguer sur l'ensemble de l'année."]
[null,"La catégorie testée est sélectionnable parmis toutes celles référencées sur la feuille \"BD\"."]
[null,"Le tableau vous indique le nombre de personnel présent pour chaque demi journée du planning."]
[null,null,"Exemple : combien de personne sont sur le poste \"caisse\" de 08h00 à 09h00 le 03/03/2016 ? Il suffit de sélectionner \"Caisse\" dans le menu déroulant du tableau, de scroller afin de faire apparaitre le 03/03/2016 et au regard des lignes 08h00, 08h30"]
[null,null,null,"le tableau vous indique le nombre de personnel désigné sur cette tâche. Attention ! C'est juste une information numérique, il n'y a pas les noms. Si il n'y a qu'une personne sur 2, alors il y aura des 1 d'affiher, et en nombre de personnel"]
[null,null,null,"présent il y aura un 2. Si vous mettez une position particulière à cette date sur le deuxième personnel alors en nombre de personnel présent il y aura un 1. Au premier coup d'oeil vous vouyez que vous ne pouvez plus désigner de personnel sur ce poste."]
[null,null,null,"La gestion du nombre de personnel présent se fait par demi journée afin de prendre en compte les absence du matin et/ou de l'après midi."]
[]
["Fonctionnement :"]
[null,"En position Activité (toutes les lignes apparentes) :"]
[null,null,"Cliquez sur le bouton [Saisie activité], le userform s'affiche."]
[null,null,"Sélectionnez la position journalière ou une activité grâce aux deux listes déroulantes."]
[null,null,null,"Sélectionnez par un clic gauche de souris la cellule que vous voulez remplir, et hop c'est fait."]
[null,null,null,"Ce système accepte la sélection multiple verticale et/ou horizontale."]
[null,null,null,"Lors d'une sélection multiple ou simple, l'activité ne se recopie pas sur les jours chômés ! La seule activité acceptée sur les jours chômés est \"l'heure sup\","]
[null,null,null,"c'est à dire qu'il faut entrer une durée en heure directement sur les cellules."]
[null,null,null,"Cette valeur sera repérée (par défaut) par une cellule sur fond jaune et une écriture en gras. La couleur automatique de la cellule est modifiable sur la feuille \"Système\"."]
[null,null,null,"Une erreur ? Une fois le userform fermé, sélectionnez la gomme et cliquez sur l'erreur."]
[null,null,null,"La gomme fonctionne en sélection unique ou multiple, en horizontal, en vertical ou les deux. Depuis le 04/05/2016, la gomme n'efface plus les données se trouvant sur la zone méridienne des feuilles Agenda du personnel."]
[null,null,null,"Pourquoi ?","Parce que ces données ne sont pas \"entrées\" par l'intermédiaire de la feuille planning, en effet les macros \"engenbent\" cette zone, donc s'il y a des informations d'inscrites c'est qu'elles l'ont été \"en dur\","]
[null,null,null,null,"donc volontairement, donc par \"principe\" la macro ne les efface pas !"]
[]
[null,"Remarque importante : les positions journalières ne peuvent être copiées que sur la ligne correspondante du personnel, si ce n'est pas le cas alors il y a déplacement de cette saisie sur la bonne ligne (permet d'être moins précis sur un zoom négatif par exemple)."]
[null,"Remarque importante 2 : les activités horaires ne sont copiables que sur les lignes Heures Ouvrables du personnel et hors des jours chômés, si ce n'est pas le cas alors il n'y a pas de copie."]
[null,null,"Si la sélection va en dehors des limites de ces lignes, il y aura copie de l'activité uniquement sur les cellules élligibles à l'action."]
[null,"Remarque importante 3 : les positions particulières de congés payés (jour entier ou demie journée) ne sont pas copiées sur les jours chômés."]
[]
[null,"Si le personnel pocède une feuille Agenda, alors il est facile d'y accéder : appuyez sur la touche [ctrl] du clavier et cliquez sur son nom. Sans la touche [ctrl] le lien ne marchera pas."]
[null,"Pour l'ajout, la modification ou la suppresion, il n'est pas utile de sélectionner la cellule nom du personnel, une ligne planning de son suivi suiffit."]
[]
[]
["Quand le userform est fermé, il est possible de faire ce que l'on veut avec les cellules...fusion couleur centrage... mais avec parcimonie..."]
[]
[]
["Pour des renseignement, des critiques, des remarques, des suggestions, une seule adresse :"]
["LouReeD - Excel-Pratique - APAcHeS_Ultimate.xlsm"]
["Forum de l'application APAcHeS_Ultimate.xlsm"]
["Plus de 28 000 téléchargements  depuis le 02/11/2014 !!! Merci à tous !"]

{"sheet":"Structure","index":7,"n_rows":61,"n_cols":57,"rows_kept":61,"cut":false,"hidden":false,"merged":[[30,1,30,2],[31,1,32,2],[36,1,47,1],[48,1,59,1],[0,1,0,2],[1,1,1,2],[2,1,2,2],[3,1,3,2],[4,1,15,1],[30,4,30,24],[33,1,33,2],[34,1,34,2],[35,1,35,2],[20,4,20,7],[16,1,27,1],[18,4,18,7],[19,4,19,7],[29,0,29,24],[4,0,27,0],[28,1,28,2],[13,4,13,7],[14,4,14,7],[33,0,60,0],[60,1,60,2],[30,0,32,0],[0,26,3,27],[4,26,15,26],[15,40,23,40],[0,32,3,32],[0,34,3,35],[4,34,15,34],[16,34,27,34],[16,26,27,26],[16,50,27,50],[0,50,3,51],[4,50,15,50],[0,42,3,43],[4,42,15,42],[16,42,27,42],[9,4,9,7],[0,53,3,54],[4,53,5,53],[4,54,5,54],[4,45,5,45],[4,46,5,46],[0,45,3,46],[1,8,2,8],[1,9,2,9],[1,10,2,10],[0,37,3,38],[4,37,5,37],[4,38,5,38],[4,29,5,29],[4,30,5,30],[0,29,3,30],[17,4,17,7],[15,4,16,7],[12,4,12,7],[11,4,11,7],[10,4,10,7]]}
["Rôle de la ligne (des lignes)","Découpage de la journée\nCoché = affiché\nDécoché = supprimé",null,{"$f":"IF(COUNTIF(D5:D28,TRUE)>0,TRUE,FALSE)","v":true},null,null,null,null,"Comment remplir les créneaux horaires des feuilles Agenda ?",null,null,null,null,null,null,null,null,null,null,null,null,null,null,null,null,null,"Par défaut les créneaux horaires de la feuille Structure sont ceci :",null,null,"Les créneaux horaires des feuilles Agenda sont ceci :",null,null,"Chaque ligne horaire de la feuille Agenda correspond à 2 créneaux horaires de 30 minutes par défaut",null,"Donc si vous gardez les lignes par défaut du planning, avec un pas de 1, les heures Agenda seront celle à droite :",null,null,"Les créneaux horaires des feuilles Agenda seront ainsi dans ce cas, c'est à dire rien à changer.",null,null,null,null,"Mais vous pouvez très bien avoir d'autre créneaux horaire !\nLe cas ci-dessous est le même mais il y a un pas de 2 pour les créneaux",null,null,"Les créneaux horaires des feuilles Agenda seront ainsi dans ce cas, c'est à dire rien à changer.",null,null,null,null,"Autre possibilité : créer une feuille Agenda avec des créneaux horaires de taille différente :",null,null,"Transcription de ceci sur la feuille agenda, la feuille est modifiée pour s'adapter à votre demande, avec un pas de 2 vous avez le cumul des heures"]
["Ligne séparatrice de personnel, ne peut être enlevée.","toujours présente",null,{"$f":"COUNTIF(D5:D28,TRUE)","v":24},null,null,null,null,"Heure","Min","X"]
["Indiquer l'intitulé de la ligne de présence","Positions",null,true]
["Indiquer l'intitulé des heures Hors Heures Ouvrables du matin","HeuresSup du Matin",null,true,null,null,null,null,8,0,"x"]
["Indiquer le début et la fin de la tranche horaire.\nPour une correspondance avec les feuilles Agenda, la plus courte période est de 30 minutes.\nPar exemple 08h00 / 08h30.\nLes tranches horaires doivent être toutes de la même durée.\nIci en exemple avec une tranche horaire d'une demi heure et sans coupure méridienne, vous avez la possibilité de gérer une journée allant de 08h00 à 17h00.\nSi vous voulez une emplitude plus grande, alors il faudra faire des tranches horaire d'une heure ce qui vous permettra de faire des journées allant de 06h00 à 24h00 sans coupure méridienne.\nMais avec une coupure méridienne l'amplitude de la journée peut être plus grande !\n\nIndiquer également le nom des heures du matin et celui des heures de l'après midi. A savoir qu'il y en a que deux à donner ! Une pour les heures du matin (ici c'est HOMA = Heure Ouvrable MAtin et HOMI = Heure Ouvrable MIdi).","Matin","08h00 / 08h30",true,null,null,null,null,8,30,null,null,null,null,null,null,null,null,null,null,null,null,null,null,null,null,"HOMA","08h00 / 08h30",null,"Heure","Min",null,null,null,"HOMA","08h00 / 08h30",null,"Heure","Min",null,null,null,"HOMA","08h00 / 08h30",null,"Heure","Min",null,null,null,"HOMA","non sélectionnée",null,"Heure","Min"]
[null,null,"08h30 / 09h00",true,null,null,null,null,9,0,null,null,null,null,null,null,null,null,null,null,null,null,null,null,null,null,null,"08h30 / 09h00",null,null,null,null,"00h00 / 00h30",null,null,"08h30 / 09h00",null,null,null,null,null,null,null,"08h30 / 09h00",null,null,null,null,"Ici chaque ligne de la feuille Agenda correspond à un créneau horaire du planning",null,null,"non sélectionnée"]
[null,null,"09h00 / 09h30",true,null,null,null,null,9,30,null,null,null,null,null,null,null,null,null,null,null,null,null,null,null,null,null,"09h00 / 09h30",null,0,0,null,"00h30 / 01h00",null,null,"09h00 / 09h30",null,0,0,null,null,null,null,"09h00 / 09h30",null,8,0,null,"En plus avec un pas de 2 il y a une ligne par créneau pour renseigner la durée de l'activité",null,null,"non sélectionnée",null,3,0]
[null,null,"09h30 / 10h00",true,null,null,null,null,10,0,null,null,null,null,null,null,null,null,null,null,null,null,null,null,null,null,null,"09h30 / 10h00",null,1,0,null,null,null,null,"09h30 / 10h00",null,1,0,null,null,null,null,"09h30 / 10h00",null,8,30,null,null,null,null,"non sélectionnée",null,4,0]
[null,null,"10h00 / 10h30",true,null,null,null,null,10,30,null,null,null,null,null,null,null,null,null,null,null,null,null,null,null,null,null,"10h00 / 10h30",null,2,0,null,null,null,null,"10h00 / 10h30",null,2,0,null,null,null,null,"10h00 / 10h30",null,9,0,null,null,null,null,"07h00 / 07h20",null,5,0]
[null,null,"10h30 / 11h00",true,"N° première ligne Agenda",null,null,null,11,0,null,null,null,null,null,null,null,null,null,null,null,null,null,null,null,null,null,"10h30 / 11h00",null,3,0,null,null,null,null,"10h30 / 11h00",null,3,0,null,null,null,null,"10h30 / 11h00",null,9,30,null,null,null,null,"07h20 / 07h50",null,6,0,null,"Ici un créneau de 20 minutes de 07h00 à 07h20"]
[null,null,"11h00 / 11h30",true,{"$f":"IFERROR(5+(MATCH(\"x\",K4:K28,0)*2),\"\")","v":7},null,null,null,11,30,null,null,null,null,null,null,null,null,null,null,null,null,null,null,null,null,null,"11h00 / 11h30",null,4,0,null,null,null,null,"11h00 / 11h30",null,4,0,null,null,null,null,"11h00 / 11h30",null,10,0,null,"L'avantage de ce système c'est que toutes les lignes de la feuille Agenda",null,null,"07h50 / 08h00",null,7,0,null,"avec un pas de 2 = indication du temps de travail de l'activité sur ce créneau"]
[null,null,"11h30 / 12h00",true,"Pas créneau horaire",null,null,null,12,0,null,null,null,null,null,null,null,null,null,null,null,null,null,null,null,null,null,"11h30 / 12h00",null,5,0,null,null,null,null,"11h30 / 12h00",null,5,0,null,null,null,null,"11h30 / 12h00",null,10,30,null,"sont utilisées, et cela permet d'avoir un cumul de temps d'activité sur la journée.",null,null,"08h00 / 09h45",null,7,20]
[null,null,"12h00 / 12h30",true,2,null,null,null,12,30,null,null,null,null,null,null,null,null,null,null,null,null,null,null,null,null,null,"12h00 / 12h30",null,6,0,null,null,null,null,"12h00 / 12h30",null,6,0,null,null,null,null,"12h00 / 12h30",null,11,0,null,null,null,null,"09h45 / 10h00",null,7,50]
[null,null,"12h30 / 13h00",true,"Durée de la coupure",null,null,null,13,0,null,null,null,null,null,null,null,null,null,null,null,null,null,null,null,null,null,"12h30 / 13h00",null,7,0,null,null,null,null,"12h30 / 13h00",null,7,0,null,"08h00 / 08h30",null,null,"12h30 / 13h00",null,11,30,null,null,null,null,"10h00 / 11h45",null,8,0]
[null,null,"13h00 / 13h30",true,4,null,null,null,13,30,null,null,null,null,null,null,null,null,null,null,null,null,null,null,null,null,null,"13h00 / 13h30",null,8,0,null,null,null,null,"13h00 / 13h30",null,8,0,null,"08h30 / 09h00",null,null,"13h00 / 13h30",null,12,0,null,null,null,null,"11h45 / 12h00",null,9,45,null,"Ici un créneau de 01h45 de 10h00 à 11h45"]
[null,null,"13h30 / 14h00",true,"Repère visuel de la\ncoupure méridienne",null,null,null,14,0,null,null,null,null,null,null,null,null,null,null,null,null,null,null,null,null,null,"13h30 / 14h00",null,9,0,null,null,null,null,"13h30 / 14h00",null,9,0,null,"Dans ce cas pas de cumul de temps de travail car toutes les lignes sont utilisées en créneaux haoraire",null,null,"13h30 / 14h00",null,12,30,null,null,null,null,"12h00 / 13h00",null,10,0,null,"avec un pas de 2 =  indication du temps de travail de l'activité sur ce créneau"]
[null,"Après midi","14h00 / 14h30",true,null,null,null,null,14,30,null,null,null,null,null,null,null,null,null,null,null,null,null,null,null,null,"HOMI","14h00 / 14h30",null,10,0,null,null,null,"HOMI","14h00 / 14h30",null,10,0,null,null,null,"HOMI","14h00 / 14h30",null,13,0,null,null,null,"HOMI","13h00 / 13h20",null,11,45]
[null,null,"14h30 / 15h00",true,"Nbr de lignes total",null,null,null,15,0,null,null,null,null,null,null,null,null,null,null,null,null,null,null,null,null,null,"14h30 / 15h00",null,11,0,null,null,null,null,"14h30 / 15h00",null,11,0,null,null,null,null,"14h30 / 15h00",null,13,30,null,null,null,null,"13h20 / 15h05",null,12,0]
[null,null,"15h00 / 15h30",true,{"$f":"COUNTIF(D3:D29,TRUE)+1","v":28},null,null,null,15,30,null,null,null,null,null,null,null,null,null,null,null,null,null,null,null,null,null,"15h00 / 15h30",null,12,0,null,null,null,null,"15h00 / 15h30",null,12,0,null,null,null,null,"15h00 / 15h30",null,14,0,null,null,null,null,"15h05 / 15h20",null,13,0]
[null,null,"15h30 / 16h00",true,"Nbr de lignes Matin",null,null,null,16,0,null,null,null,null,null,null,null,null,null,null,null,null,null,null,null,null,null,"15h30 / 16h00",null,13,0,null,null,null,null,"15h30 / 16h00",null,13,0,null,null,null,null,"15h30 / 16h00",null,14,30,null,null,null,null,"15h20 / 17h05",null,13,20]
[null,null,"16h00 / 16h30",true,{"$f":"COUNTIF(D5:D16,TRUE)","v":12},null,null,null,16,30,null,null,null,null,null,null,null,null,null,null,null,null,null,null,null,null,null,"16h00 / 16h30",null,14,0,null,null,null,null,"16h00 / 16h30",null,14,0,null,null,null,null,"16h00 / 16h30",null,15,0,null,null,null,null,"17h05 / 17h30",null,15,5]
[null,null,"16h30 / 17h00",true,null,null,null,null,17,0,null,null,null,null,null,null,null,null,null,null,null,null,null,null,null,null,null,"16h30 / 17h00",null,15,0,null,null,null,null,"16h30 / 17h00",null,15,0,null,null,null,null,"16h30 / 17h00",null,15,30,null,null,null,null,"17h30 / 18h00",null,15,20]
[null,null,"17h00 / 17h30",true,null,null,null,null,17,30,null,null,null,null,null,null,null,null,null,null,null,null,null,null,null,null,null,"17h00 / 17h30",null,16,0,null,null,null,null,"17h00 / 17h30",null,16,0,null,null,null,null,"17h00 / 17h30",null,16,0,null,null,null,null,"18h00 / 18h30",null,17,5]
[null,null,"17h30 / 18h00",true,null,null,null,null,18,0,null,null,null,null,null,null,null,null,null,null,null,null,null,null,null,null,null,"17h30 / 18h00",null,17,0,null,null,null,null,"17h30 / 18h00",null,17,0,null,null,null,null,"17h30 / 18h00",null,16,30,null,null,null,null,"non sélectionnée",null,17,30]
[null,null,"18h00 / 18h30",true,null,null,null,null,18,30,null,null,null,null,null,null,null,null,null,null,null,null,null,null,null,null,null,"18h00 / 18h30",null,18,0,null,null,null,null,"18h00 / 18h30",null,18,0,null,null,null,null,"18h00 / 18h30",null,17,0,null,null,null,null,"non sélectionnée",null,18,0]
[null,null,"18h30 / 19h00",true,null,null,null,null,19,0,null,null,null,null,null,null,null,null,null,null,null,null,null,null,null,null,null,"18h30 / 19h00",null,19,0,null,null,null,null,"18h30 / 19h00",null,19,0,null,null,null,null,"18h30 / 19h00",null,17,30,null,null,null,null,"non sélectionnée",null,18,30]
[null,null,"19h00 / 19h30",true,null,null,null,null,19,30,null,null,null,null,null,null,null,null,null,null,null,null,null,null,null,null,null,"19h00 / 19h30",null,20,0,null,null,null,null,"19h00 / 19h30",null,20,0,null,null,null,null,"19h00 / 19h30",null,18,0,null,null,null,null,"non sélectionnée",null,19,0,null,"Les horaires indiqués sur les zones roses sont purement estétiques pour la feuille Agenda dans ce cas"]
[null,null,"19h30 / 20h00",true,null,null,null,null,20,0,null,null,null,null,null,null,null,null,null,null,null,null,null,null,null,null,null,"19h30 / 20h00",null,21,0,null,null,null,null,"19h30 / 20h00",null,21,0,null,null,null,null,"19h30 / 20h00",null,18,30,null,null,null,null,"non sélectionnée",null,20,0]
["Indiquer l'intitulé des heures Hors Heures Ouvrables du soir","Heures Sup du Soir",null,true,null,null,null,null,null,null,null,null,null,null,null,null,null,null,null,null,null,null,null,null,null,null,null,null,null,22,0,null,null,null,null,null,null,22,0,null,null,null,null,null,null,19,0,null,null,null,null,null,null,21,0]
["Ci dessous la visualisation du résultat sur la feuille Planning",null,null,null,null,null,null,null,null,null,null,null,null,null,null,null,null,null,null,null,null,null,null,null,null,null,null,null,null,23,0,null,null,null,null,null,null,23,0,null,null,null,null,null,null,19,30,null,null,null,null,null,null,22,0]
["Personnels","Mois",null,null,"Janvier",null,null,null,null,null,null,null,null,null,null,null,null,null,null,null,null,null,null,null,null,null,null,null,null,24,0,null,null,null,null,null,null,24,0,null,null,null,null,null,null,20,0,null,null,null,null,null,null,23,0]
[null,"Découpage de la journée",null,null,"2015-01-01",{"$f":"E32+1","v":"2015-01-02"},{"$f":"F32+1","v":"2015-01-03"},"2015-01-04","2015-01-05","2015-01-06","2015-01-07","2015-01-08","2015-01-09","2015-01-10","2015-01-11","2015-01-12","2015-01-13","2015-01-14","2015-01-15","2015-01-16","2015-01-17","2015-01-18",{"$f":"V32+1","v":"2015-01-19"},"2015-01-20","2015-01-21"]
[null,null,null,null,"2015-01-01",{"$f":"E33+1","v":"2015-01-02"},"2015-01-03","2015-01-04","2015-01-05","2015-01-06","2015-01-07","2015-01-08","2015-01-09","2015-01-10","2015-01-11","2015-01-12","2015-01-13","2015-01-14","2015-01-15","2015-01-16","2015-01-17","2015-01-18","2015-01-19","2015-01-20","2015-01-21",null,null,null,null,null,null,null,null,null,null,"Les lignes en roses ne servent à rien dans ce cas sur la feuille Agenda"]
["Personnel 01"]
[null,{"$f":"B3","v":"Positions"}]
[null,{"$f":"B4","v":"HeuresSup du Matin"}]
[null,"Matin",{"$f":"C5","v":"08h00 / 08h30"}]
[null,null,{"$f":"C6","v":"08h30 / 09h00"}]
[null,null,"09h00 / 09h30"]
[null,null,"09h30 / 10h00"]
[null,null,"10h00 / 10h30"]
[null,null,"10h30 / 11h00"]
[null,null,"11h00 / 11h30"]
[null,null,"11h30 / 12h00"]
[null,null,"12h00 / 12h30"]
[null,null,"12h30 / 13h00"]
[null,null,"13h00 / 13h30"]
[null,null,"13h30 / 14h00"]
[null,"Après midi","14h00 / 14h30"]
[null,null,"14h30 / 15h00"]
[null,null,"15h00 / 15h30"]
[null,null,"15h30 / 16h00"]
[null,null,"16h00 / 16h30"]
[null,null,"16h30 / 17h00"]
[null,null,"17h00 / 17h30"]
[null,null,"17h30 / 18h00"]
[null,null,"18h00 / 18h30"]
[null,null,"18h30 / 19h00"]
[null,null,"19h00 / 19h30"]
[null,null,"19h30 / 20h00"]
[null,{"$f":"B29","v":"Heures Sup du Soir"}]

{"sheet":"Agenda_Vierge","index":8,"n_rows":57,"n_cols":388,"rows_kept":57,"cut":false,"hidden":true,"merged":[[53,0,54,0],[4,0,4,2],[55,0,55,2],[56,0,57,2],[43,0,44,0],[45,0,46,0],[47,0,48,0],[49,0,50,0],[51,0,52,0],[33,0,34,0],[35,0,36,0],[37,0,38,0],[39,0,40,0],[41,0,42,0],[23,0,24,0],[25,0,26,0],[27,0,28,0],[29,0,30,0],[31,0,32,0],[13,0,14,0],[15,0,16,0],[17,0,18,0],[19,0,20,0],[21,0,22,0],[5,1,6,1],[5,0,6,0],[7,0,8,0],[9,0,10,0],[11,0,12,0],[41,1,42,1],[17,1,18,1],[19,1,20,1],[47,1,48,1],[29,1,30,1],[7,1,8,1],[9,1,10,1],[11,1,12,1],[13,1,14,1],[15,1,16,1],[31,1,32,1],[33,1,34,1],[35,1,36,1],[37,1,38,1],[39,1,40,1],[71,1,72,1],[73,1,74,1],[43,1,44,1],[45,1,46,1],[65,1,66,1],[67,1,68,1],[69,1,70,1],[51,1,52,1],[49,1,50,1],[53,1,54,1],[1,381,1,387],[21,1,22,1],[23,1,24,1],[25,1,26,1],[27,1,28,1],[1,339,1,345],[1,346,1,352],[1,353,1,359],[1,360,1,366],[1,367,1,373],[1,374,1,380],[1,297,1,303],[1,304,1,310],[1,311,1,317],[1,318,1,324],[1,325,1,331],[1,332,1,338],[1,255,1,261],[1,262,1,268],[1,269,1,275],[1,276,1,282],[1,283,1,289],[1,290,1,296],[1,248,1,254],[1,234,1,240],[1,241,1,247],[1,164,1,170],[1,87,1,93],[1,94,1,100],[1,101,1,107],[1,108,1,114],[1,115,1,121],[1,122,1,128],[1,129,1,135],[1,136,1,142],[1,143,1,149],[1,150,1,156],[1,157,1,163],[1,171,1,177],[1,178,1,184],[1,185,1,191],[1,192,1,198],[1,199,1,205],[1,206,1,212],[1,213,1,219],[1,220,1,226],[1,227,1,233],[1,80,1,86],[1,3,1,9],[1,10,1,16],[1,17,1,23],[1,24,1,30],[1,31,1,37],[1,38,1,44],[1,45,1,51],[1,52,1,58],[1,59,1,65],[1,66,1,72],[1,73,1,79]]}
[null,null,null,{"$f":"IF(OR(AND(WEEKDAY(D$4)=1,Dimanche),AND(WEEKDAY(D$4)=2,Lundi),AND(WEEKDAY(D$4)=3,Mardi),AND(WEEKDAY(D$4)=4,Mercredi),AND(WEEKDAY(D$4)=5,Jeudi),AND(WEEKDAY(D$4)=6,Vendredi),AND(WEEKDAY(D$4)=7,Samedi),D$4=férié),0,1)","v":1},{"$f":"IF(OR(AND(WEEKDAY(E$4)=1,Dimanche),AND(WEEKDAY(E$4)=2,Lundi),AND(WEEKDAY(E$4)=3,Mardi),AND(WEEKDAY(E$4)=4,Mercredi),AND(WEEKDAY(E$4)=5,Jeudi),AND(WEEKDAY(E$4)=6,Vendredi),AND(WEEKDAY(E$4)=7,Samedi),E$4=férié),0,1)","v":1},{"$f":"IF(OR(AND(WEEKDAY(F$4)=1,Dimanche),AND(WEEKDAY(F$4)=2,Lundi),AND(WEEKDAY(F$4)=3,Mardi),AND(WEEKDAY(F$4)=4,Mercredi),AND(WEEKDAY(F$4)=5,Jeudi),AND(WEEKDAY(F$4)=6,Vendredi),AND(WEEKDAY(F$4)=7,Samedi),F$4=férié),0,1)","v":1},{"$f":"IF(OR(AND(WEEKDAY(G$4)=1,Dimanche),AND(WEEKDAY(G$4)=2,Lundi),AND(WEEKDAY(G$4)=3,Mardi),AND(WEEKDAY(G$4)=4,Mercredi),AND(WEEKDAY(G$4)=5,Jeudi),AND(WEEKDAY(G$4)=6,Vendredi),AND(WEEKDAY(G$4)=7,Samedi),G$4=férié),0,1)","v":1},{"$f":"IF(OR(AND(WEEKDAY(H$4)=1,Dimanche),AND(WEEKDAY(H$4)=2,Lundi),AND(WEEKDAY(H$4)=3,Mardi),AND(WEEKDAY(H$4)=4,Mercredi),AND(WEEKDAY(H$4)=5,Jeudi),AND(WEEKDAY(H$4)=6,Vendredi),AND(WEEKDAY(H$4)=7,Samedi),H$4=férié),0,1)","v":1},{"$f":"IF(OR(AND(WEEKDAY(I$4)=1,Dimanche),AND(WEEKDAY(I$4)=2,Lundi),AND(WEEKDAY(I$4)=3,Mardi),AND(WEEKDAY(I$4)=4,Mercredi),AND(WEEKDAY(I$4)=5,Jeudi),AND(WEEKDAY(I$4)=6,Vendredi),AND(WEEKDAY(I$4)=7,Samedi),I$4=férié),0,1)","v":0},{"$f":"IF(OR(AND(WEEKDAY(J$4)=1,Dimanche),AND(WEEKDAY(J$4)=2,Lundi),AND(WEEKDAY(J$4)=3,Mardi),AND(WEEKDAY(J$4)=4,Mercredi),AND(WEEKDAY(J$4)=5,Jeudi),AND(WEEKDAY(J$4)=6,Vendredi),AND(WEEKDAY(J$4)=7,Samedi),J$4=férié),0,1)","v":0},{"$f":"IF(OR(AND(WEEKDAY(K$4)=1,Dimanche),AND(WEEKDAY(K$4)=2,Lundi),AND(WEEKDAY(K$4)=3,Mardi),AND(WEEKDAY(K$4)=4,Mercredi),AND(WEEKDAY(K$4)=5,Jeudi),AND(WEEKDAY(K$4)=6,Vendredi),AND(WEEKDAY(K$4)=7,Samedi),K$4=férié),0,1)","v":1},{"$f":"IF(OR(AND(WEEKDAY(L$4)=1,Dimanche),AND(WEEKDAY(L$4)=2,Lundi),AND(WEEKDAY(L$4)=3,Mardi),AND(WEEKDAY(L$4)=4,Mercredi),AND(WEEKDAY(L$4)=5,Jeudi),AND(WEEKDAY(L$4)=6,Vendredi),AND(WEEKDAY(L$4)=7,Samedi),L$4=férié),0,1)","v":1},{"$f":"IF(OR(AND(WEEKDAY(M$4)=1,Dimanche),AND(WEEKDAY(M$4)=2,Lundi),AND(WEEKDAY(M$4)=3,Mardi),AND(WEEKDAY(M$4)=4,Mercredi),AND(WEEKDAY(M$4)=5,Jeudi),AND(WEEKDAY(M$4)=6,Vendredi),AND(WEEKDAY(M$4)=7,Samedi),M$4=férié),0,1)","v":1},{"$f":"IF(OR(AND(WEEKDAY(N$4)=1,Dimanche),AND(WEEKDAY(N$4)=2,Lundi),AND(WEEKDAY(N$4)=3,Mardi),AND(WEEKDAY(N$4)=4,Mercredi),AND(WEEKDAY(N$4)=5,Jeudi),AND(WEEKDAY(N$4)=6,Vendredi),AND(WEEKDAY(N$4)=7,Samedi),N$4=férié),0,1)","v":1},{"$f":"IF(OR(AND(WEEKDAY(O$4)=1,Dimanche),AND(WEEKDAY(O$4)=2,Lundi),AND(WEEKDAY(O$4)=3,Mardi),AND(WEEKDAY(O$4)=4,Mercredi),AND(WEEKDAY(O$4)=5,Jeudi),AND(WEEKDAY(O$4)=6,Vendredi),AND(WEEKDAY(O$4)=7,Samedi),O$4=férié),0,1)","v":1},{"$f":"IF(OR(AND(WEEKDAY(P$4)=1,Dimanche),AND(WEEKDAY(P$4)=2,Lundi),AND(WEEKDAY(P$4)=3,Mardi),AND(WEEKDAY(P$4)=4,Mercredi),AND(WEEKDAY(P$4)=5,Jeudi),AND(WEEKDAY(P$4)=6,Vendredi),AND(WEEKDAY(P$4)=7,Samedi),P$4=férié),0,1)","v":0},{"$f":"IF(OR(AND(WEEKDAY(Q$4)=1,Dimanche),AND(WEEKDAY(Q$4)=2,Lundi),AND(WEEKDAY(Q$4)=3,Mardi),AND(WEEKDAY(Q$4)=4,Mercredi),AND(WEEKDAY(Q$4)=5,Jeudi),AND(WEEKDAY(Q$4)=6,Vendredi),AND(WEEKDAY(Q$4)=7,Samedi),Q$4=férié),0,1)","v":0},{"$f":"IF(OR(AND(WEEKDAY(R$4)=1,Dimanche),AND(WEEKDAY(R$4)=2,Lundi),AND(WEEKDAY(R$4)=3,Mardi),AND(WEEKDAY(R$4)=4,Mercredi),AND(WEEKDAY(R$4)=5,Jeudi),AND(WEEKDAY(R$4)=6,Vendredi),AND(WEEKDAY(R$4)=7,Samedi),R$4=férié),0,1)","v":1},{"$f":"IF(OR(AND(WEEKDAY(S$4)=1,Dimanche),AND(WEEKDAY(S$4)=2,Lundi),AND(WEEKDAY(S$4)=3,Mardi),AND(WEEKDAY(S$4)=4,Mercredi),AND(WEEKDAY(S$4)=5,Jeudi),AND(WEEKDAY(S$4)=6,Vendredi),AND(WEEKDAY(S$4)=7,Samedi),S$4=férié),0,1)","v":1},{"$f":"IF(OR(AND(WEEKDAY(T$4)=1,Dimanche),AND(WEEKDAY(T$4)=2,Lundi),AND(WEEKDAY(T$4)=3,Mardi),AND(WEEKDAY(T$4)=4,Mercredi),AND(WEEKDAY(T$4)=5,Jeudi),AND(WEEKDAY(T$4)=6,Vendredi),AND(WEEKDAY(T$4)=7,Samedi),T$4=férié),0,1)","v":1},{"$f":"IF(OR(AND(WEEKDAY(U$4)=1,Dimanche),AND(WEEKDAY(U$4)=2,Lundi),AND(WEEKDAY(U$4)=3,Mardi),AND(WEEKDAY(U$4)=4,Mercredi),AND(WEEKDAY(U$4)=5,Jeudi),AND(WEEKDAY(U$4)=6,Vendredi),AND(WEEKDAY(U$4)=7,Samedi),U$4=férié),0,1)","v":1},{"$f":"IF(OR(AND(WEEKDAY(V$4)=1,Dimanche),AND(WEEKDAY(V$4)=2,Lundi),AND(WEEKDAY(V$4)=3,Mardi),AND(WEEKDAY(V$4)=4,Mercredi),AND(WEEKDAY(V$4)=5,Jeudi),AND(WEEKDAY(V$4)=6,Vendredi),AND(WEEKDAY(V$4)=7,Samedi),V$4=férié),0,1)","v":1},{"$f":"IF(OR(AND(WEEKDAY(W$4)=1,Dimanche),AND(WEEKDAY(W$4)=2,Lundi),AND(WEEKDAY(W$4)=3,Mardi),AND(WEEKDAY(W$4)=4,Mercredi),AND(WEEKDAY(W$4)=5,Jeudi),AND(WEEKDAY(W$4)=6,Vendredi),AND(WEEKDAY(W$4)=7,Samedi),W$4=férié),0,1)","v":0},{"$f":"IF(OR(AND(WEEKDAY(X$4)=1,Dimanche),AND(WEEKDAY(X$4)=2,Lundi),AND(WEEKDAY(X$4)=3,Mardi),AND(WEEKDAY(X$4)=4,Mercredi),AND(WEEKDAY(X$4)=5,Jeudi),AND(WEEKDAY(X$4)=6,Vendredi),AND(WEEKDAY(X$4)=7,Samedi),X$4=férié),0,1)","v":0},{"$f":"IF(OR(AND(WEEKDAY(Y$4)=1,Dimanche),AND(WEEKDAY(Y$4)=2,Lundi),AND(WEEKDAY(Y$4)=3,Mardi),AND(WEEKDAY(Y$4)=4,Mercredi),AND(WEEKDAY(Y$4)=5,Jeudi),AND(WEEKDAY(Y$4)=6,Vendredi),AND(WEEKDAY(Y$4)=7,Samedi),Y$4=férié),0,1)","v":1},{"$f":"IF(OR(AND(WEEKDAY(Z$4)=1,Dimanche),AND(WEEKDAY(Z$4)=2,Lundi),AND(WEEKDAY(Z$4)=3,Mardi),AND(WEEKDAY(Z$4)=4,Mercredi),AND(WEEKDAY(Z$4)=5,Jeudi),AND(WEEKDAY(Z$4)=6,Vendredi),AND(WEEKDAY(Z$4)=7,Samedi),Z$4=férié),0,1)","v":1},{"$f":"IF(OR(AND(WEEKDAY(AA$4)=1,Dimanche),AND(WEEKDAY(AA$4)=2,Lundi),AND(WEEKDAY(AA$4)=3,Mardi),AND(WEEKDAY(AA$4)=4,Mercredi),AND(WEEKDAY(AA$4)=5,Jeudi),AND(WEEKDAY(AA$4)=6,Vendredi),AND(WEEKDAY(AA$4)=7,Samedi),AA$4=férié),0,1)","v":1},{"$f":"IF(OR(AND(WEEKDAY(AB$4)=1,Dimanche),AND(WEEKDAY(AB$4)=2,Lundi),AND(WEEKDAY(AB$4)=3,Mardi),AND(WEEKDAY(AB$4)=4,Mercredi),AND(WEEKDAY(AB$4)=5,Jeudi),AND(WEEKDAY(AB$4)=6,Vendredi),AND(WEEKDAY(AB$4)=7,Samedi),AB$4=férié),0,1)","v":1},{"$f":"IF(OR(AND(WEEKDAY(AC$4)=1,Dimanche),AND(WEEKDAY(AC$4)=2,Lundi),AND(WEEKDAY(AC$4)=3,Mardi),AND(WEEKDAY(AC$4)=4,Mercredi),AND(WEEKDAY(AC$4)=5,Jeudi),AND(WEEKDAY(AC$4)=6,Vendredi),AND(WEEKDAY(AC$4)=7,Samedi),AC$4=férié),0,1)","v":1},{"$f":"IF(OR(AND(WEEKDAY(AD$4)=1,Dimanche),AND(WEEKDAY(AD$4)=2,Lundi),AND(WEEKDAY(AD$4)=3,Mardi),AND(WEEKDAY(AD$4)=4,Mercredi),AND(WEEKDAY(AD$4)=5,Jeudi),AND(WEEKDAY(AD$4)=6,Vendredi),AND(WEEKDAY(AD$4)=7,Samedi),AD$4=férié),0,1)","v":0},{"$f":"IF(OR(AND(WEEKDAY(AE$4)=1,Dimanche),AND(WEEKDAY(AE$4)=2,Lundi),AND(WEEKDAY(AE$4)=3,Mardi),AND(WEEKDAY(AE$4)=4,Mercredi),AND(WEEKDAY(AE$4)=5,Jeudi),AND(WEEKDAY(AE$4)=6,Vendredi),AND(WEEKDAY(AE$4)=7,Samedi),AE$4=férié),0,1)","v":0},{"$f":"IF(OR(AND(WEEKDAY(AF$4)=1,Dimanche),AND(WEEKDAY(AF$4)=2,Lundi),AND(WEEKDAY(AF$4)=3,Mardi),AND(WEEKDAY(AF$4)=4,Mercredi),AND(WEEKDAY(AF$4)=5,Jeudi),AND(WEEKDAY(AF$4)=6,Vendredi),AND(WEEKDAY(AF$4)=7,Samedi),AF$4=férié),0,1)","v":1},{"$f":"IF(OR(AND(WEEKDAY(AG$4)=1,Dimanche),AND(WEEKDAY(AG$4)=2,Lundi),AND(WEEKDAY(AG$4)=3,Mardi),AND(WEEKDAY(AG$4)=4,Mercredi),AND(WEEKDAY(AG$4)=5,Jeudi),AND(WEEKDAY(AG$4)=6,Vendredi),AND(WEEKDAY(AG$4)=7,Samedi),AG$4=férié),0,1)","v":1},{"$f":"IF(OR(AND(WEEKDAY(AH$4)=1,Dimanche),AND(WEEKDAY(AH$4)=2,Lundi),AND(WEEKDAY(AH$4)=3,Mardi),AND(WEEKDAY(AH$4)=4,Mercredi),AND(WEEKDAY(AH$4)=5,Jeudi),AND(WEEKDAY(AH$4)=6,Vendredi),AND(WEEKDAY(AH$4)=7,Samedi),AH$4=férié),0,1)","v":1},{"$f":"IF(OR(AND(WEEKDAY(AI$4)=1,Dimanche),AND(WEEKDAY(AI$4)=2,Lundi),AND(WEEKDAY(AI$4)=3,Mardi),AND(WEEKDAY(AI$4)=4,Mercredi),AND(WEEKDAY(AI$4)=5,Jeudi),AND(WEEKDAY(AI$4)=6,Vendredi),AND(WEEKDAY(AI$4)=7,Samedi),AI$4=férié),0,1)","v":1},{"$f":"IF(OR(AND(WEEKDAY(AJ$4)=1,Dimanche),AND(WEEKDAY(AJ$4)=2,Lundi),AND(WEEKDAY(AJ$4)=3,Mardi),AND(WEEKDAY(AJ$4)=4,Mercredi),AND(WEEKDAY(AJ$4)=5,Jeudi),AND(WEEKDAY(AJ$4)=6,Vendredi),AND(WEEKDAY(AJ$4)=7,Samedi),AJ$4=férié),0,1)","v":1},{"$f":"IF(OR(AND(WEEKDAY(AK$4)=1,Dimanche),AND(WEEKDAY(AK$4)=2,Lundi),AND(WEEKDAY(AK$4)=3,Mardi),AND(WEEKDAY(AK$4)=4,Mercredi),AND(WEEKDAY(AK$4)=5,Jeudi),AND(WEEKDAY(AK$4)=6,Vendredi),AND(WEEKDAY(AK$4)=7,Samedi),AK$4=férié),0,1)","v":0},{"$f":"IF(OR(AND(WEEKDAY(AL$4)=1,Dimanche),AND(WEEKDAY(AL$4)=2,Lundi),AND(WEEKDAY(AL$4)=3,Mardi),AND(WEEKDAY(AL$4)=4,Mercredi),AND(WEEKDAY(AL$4)=5,Jeudi),AND(WEEKDAY(AL$4)=6,Vendredi),AND(WEEKDAY(AL$4)=7,Samedi),AL$4=férié),0,1)","v":0},{"$f":"IF(OR(AND(WEEKDAY(AM$4)=1,Dimanche),AND(WEEKDAY(AM$4)=2,Lundi),AND(WEEKDAY(AM$4)=3,Mardi),AND(WEEKDAY(AM$4)=4,Mercredi),AND(WEEKDAY(AM$4)=5,Jeudi),AND(WEEKDAY(AM$4)=6,Vendredi),AND(WEEKDAY(AM$4)=7,Samedi),AM$4=férié),0,1)","v":1},{"$f":"IF(OR(AND(WEEKDAY(AN$4)=1,Dimanche),AND(WEEKDAY(AN$4)=2,Lundi),AND(WEEKDAY(AN$4)=3,Mardi),AND(WEEKDAY(AN$4)=4,Mercredi),AND(WEEKDAY(AN$4)=5,Jeudi),AND(WEEKDAY(AN$4)=6,Vendredi),AND(WEEKDAY(AN$4)=7,Samedi),AN$4=férié),0,1)","v":1},{"$f":"IF(OR(AND(WEEKDAY(AO$4)=1,Dimanche),AND(WEEKDAY(AO$4)=2,Lundi),AND(WEEKDAY(AO$4)=3,Mardi),AND(WEEKDAY(AO$4)=4,Mercredi),AND(WEEKDAY(AO$4)=5,Jeudi),AND(WEEKDAY(AO$4)=6,Vendredi),AND(WEEKDAY(AO$4)=7,Samedi),AO$4=férié),0,1)","v":1},{"$f":"IF(OR(AND(WEEKDAY(AP$4)=1,Dimanche),AND(WEEKDAY(AP$4)=2,Lundi),AND(WEEKDAY(AP$4)=3,Mardi),AND(WEEKDAY(AP$4)=4,Mercredi),AND(WEEKDAY(AP$4)=5,Jeudi),AND(WEEKDAY(AP$4)=6,Vendredi),AND(WEEKDAY(AP$4)=7,Samedi),AP$4=férié),0,1)","v":1},{"$f":"IF(OR(AND(WEEKDAY(AQ$4)=1,Dimanche),AND(WEEKDAY(AQ$4)=2,Lundi),AND(WEEKDAY(AQ$4)=3,Mardi),AND(WEEKDAY(AQ$4)=4,Mercredi),AND(WEEKDAY(AQ$4)=5,Jeudi),AND(WEEKDAY(AQ$4)=6,Vendredi),AND(WEEKDAY(AQ$4)=7,Samedi),AQ$4=férié),0,1)","v":1},{"$f":"IF(OR(AND(WEEKDAY(AR$4)=1,Dimanche),AND(WEEKDAY(AR$4)=2,Lundi),AND(WEEKDAY(AR$4)=3,Mardi),AND(WEEKDAY(AR$4)=4,Mercredi),AND(WEEKDAY(AR$4)=5,Jeudi),AND(WEEKDAY(AR$4)=6,Vendredi),AND(WEEKDAY(AR$4)=7,Samedi),AR$4=férié),0,1)","v":0},{"$f":"IF(OR(AND(WEEKDAY(AS$4)=1,Dimanche),AND(WEEKDAY(AS$4)=2,Lundi),AND(WEEKDAY(AS$4)=3,Mardi),AND(WEEKDAY(AS$4)=4,Mercredi),AND(WEEKDAY(AS$4)=5,Jeudi),AND(WEEKDAY(AS$4)=6,Vendredi),AND(WEEKDAY(AS$4)=7,Samedi),AS$4=férié),0,1)","v":0},{"$f":"IF(OR(AND(WEEKDAY(AT$4)=1,Dimanche),AND(WEEKDAY(AT$4)=2,Lundi),AND(WEEKDAY(AT$4)=3,Mardi),AND(WEEKDAY(AT$4)=4,Mercredi),AND(WEEKDAY(AT$4)=5,Jeudi),AND(WEEKDAY(AT$4)=6,Vendredi),AND(WEEKDAY(AT$4)=7,Samedi),AT$4=férié),0,1)","v":1},{"$f":"IF(OR(AND(WEEKDAY(AU$4)=1,Dimanche),AND(WEEKDAY(AU$4)=2,Lundi),AND(WEEKDAY(AU$4)=3,Mardi),AND(WEEKDAY(AU$4)=4,Mercredi),AND(WEEKDAY(AU$4)=5,Jeudi),AND(WEEKDAY(AU$4)=6,Vendredi),AND(WEEKDAY(AU$4)=7,Samedi),AU$4=férié),0,1)","v":1},{"$f":"IF(OR(AND(WEEKDAY(AV$4)=1,Dimanche),AND(WEEKDAY(AV$4)=2,Lundi),AND(WEEKDAY(AV$4)=3,Mardi),AND(WEEKDAY(AV$4)=4,Mercredi),AND(WEEKDAY(AV$4)=5,Jeudi),AND(WEEKDAY(AV$4)=6,Vendredi),AND(WEEKDAY(AV$4)=7,Samedi),AV$4=férié),0,1)","v":1},{"$f":"IF(OR(AND(WEEKDAY(AW$4)=1,Dimanche),AND(WEEKDAY(AW$4)=2,Lundi),AND(WEEKDAY(AW$4)=3,Mardi),AND(WEEKDAY(AW$4)=4,Mercredi),AND(WEEKDAY(AW$4)=5,Jeudi),AND(WEEKDAY(AW$4)=6,Vendredi),AND(WEEKDAY(AW$4)=7,Samedi),AW$4=férié),0,1)","v":1},{"$f":"IF(OR(AND(WEEKDAY(AX$4)=1,Dimanche),AND(WEEKDAY(AX$4)=2,Lundi),AND(WEEKDAY(AX$4)=3,Mardi),AND(WEEKDAY(AX$4)=4,Mercredi),AND(WEEKDAY(AX$4)=5,Jeudi),AND(WEEKDAY(AX$4)=6,Vendredi),AND(WEEKDAY(AX$4)=7,Samedi),AX$4=férié),0,1)","v":1},{"$f":"IF(OR(AND(WEEKDAY(AY$4)=1,Dimanche),AND(WEEKDAY(AY$4)=2,Lundi),AND(WEEKDAY(AY$4)=3,Mardi),AND(WEEKDAY(AY$4)=4,Mercredi),AND(WEEKDAY(AY$4)=5,Jeudi),AND(WEEKDAY(AY$4)=6,Vendredi),AND(WEEKDAY(AY$4)=7,Samedi),AY$4=férié),0,1)","v":0},{"$f":"IF(OR(AND(WEEKDAY(AZ$4)=1,Dimanche),AND(WEEKDAY(AZ$4)=2,Lundi),AND(WEEKDAY(AZ$4)=3,Mardi),AND(WEEKDAY(AZ$4)=4,Mercredi),AND(WEEKDAY(AZ$4)=5,Jeudi),AND(WEEKDAY(AZ$4)=6,Vendredi),AND(WEEKDAY(AZ$4)=7,Samedi),AZ$4=férié),0,1)","v":0},{"$f":"IF(OR(AND(WEEKDAY(BA$4)=1,Dimanche),AND(WEEKDAY(BA$4)=2,Lundi),AND(WEEKDAY(BA$4)=3,Mardi),AND(WEEKDAY(BA$4)=4,Mercredi),AND(WEEKDAY(BA$4)=5,Jeudi),AND(WEEKDAY(BA$4)=6,Vendredi),AND(WEEKDAY(BA$4)=7,Samedi),BA$4=férié),0,1)","v":1},{"$f":"IF(OR(AND(WEEKDAY(BB$4)=1,Dimanche),AND(WEEKDAY(BB$4)=2,Lundi),AND(WEEKDAY(BB$4)=3,Mardi),AND(WEEKDAY(BB$4)=4,Mercredi),AND(WEEKDAY(BB$4)=5,Jeudi),AND(WEEKDAY(BB$4)=6,Vendredi),AND(WEEKDAY(BB$4)=7,Samedi),BB$4=férié),0,1)","v":1},{"$f":"IF(OR(AND(WEEKDAY(BC$4)=1,Dimanche),AND(WEEKDAY(BC$4)=2,Lundi),AND(WEEKDAY(BC$4)=3,Mardi),AND(WEEKDAY(BC$4)=4,Mercredi),AND(WEEKDAY(BC$4)=5,Jeudi),AND(WEEKDAY(BC$4)=6,Vendredi),AND(WEEKDAY(BC$4)=7,Samedi),BC$4=férié),0,1)","v":1},{"$f":"IF(OR(AND(WEEKDAY(BD$4)=1,Dimanche),AND(WEEKDAY(BD$4)=2,Lundi),AND(WEEKDAY(BD$4)=3,Mardi),AND(WEEKDAY(BD$4)=4,Mercredi),AND(WEEKDAY(BD$4)=5,Jeudi),AND(WEEKDAY(BD$4)=6,Vendredi),AND(WEEKDAY(BD$4)=7,Samedi),BD$4=férié),0,1)","v":1},{"$f":"IF(OR(AND(WEEKDAY(BE$4)=1,Dimanche),AND(WEEKDAY(BE$4)=2,Lundi),AND(WEEKDAY(BE$4)=3,Mardi),AND(WEEKDAY(BE$4)=4,Mercredi),AND(WEEKDAY(BE$4)=5,Jeudi),AND(WEEKDAY(BE$4)=6,Vendredi),AND(WEEKDAY(BE$4)=7,Samedi),BE$4=férié),0,1)","v":1},{"$f":"IF(OR(AND(WEEKDAY(BF$4)=1,Dimanche),AND(WEEKDAY(BF$4)=2,Lundi),AND(WEEKDAY(BF$4)=3,Mardi),AND(WEEKDAY(BF$4)=4,Mercredi),AND(WEEKDAY(BF$4)=5,Jeudi),AND(WEEKDAY(BF$4)=6,Vendredi),AND(WEEKDAY(BF$4)=7,Samedi),BF$4=férié),0,1)","v":0},{"$f":"IF(OR(AND(WEEKDAY(BG$4)=1,Dimanche),AND(WEEKDAY(BG$4)=2,Lundi),AND(WEEKDAY(BG$4)=3,Mardi),AND(WEEKDAY(BG$4)=4,Mercredi),AND(WEEKDAY(BG$4)=5,Jeudi),AND(WEEKDAY(BG$4)=6,Vendredi),AND(WEEKDAY(BG$4)=7,Samedi),BG$4=férié),0,1)","v":0},{"$f":"IF(OR(AND(WEEKDAY(BH$4)=1,Dimanche),AND(WEEKDAY(BH$4)=2,Lundi),AND(WEEKDAY(BH$4)=3,Mardi),AND(WEEKDAY(BH$4)=4,Mercredi),AND(WEEKDAY(BH$4)=5,Jeudi),AND(WEEKDAY(BH$4)=6,Vendredi),AND(WEEKDAY(BH$4)=7,Samedi),BH$4=férié),0,1)","v":1},{"$f":"IF(OR(AND(WEEKDAY(BI$4)=1,Dimanche),AND(WEEKDAY(BI$4)=2,Lundi),AND(WEEKDAY(BI$4)=3,Mardi),AND(WEEKDAY(BI$4)=4,Mercredi),AND(WEEKDAY(BI$4)=5,Jeudi),AND(WEEKDAY(BI$4)=6,Vendredi),AND(WEEKDAY(BI$4)=7,Samedi),BI$4=férié),0,1)","v":1},{"$f":"IF(OR(AND(WEEKDAY(BJ$4)=1,Dimanche),AND(WEEKDAY(BJ$4)=2,Lundi),AND(WEEKDAY(BJ$4)=3,Mardi),AND(WEEKDAY(BJ$4)=4,Mercredi),AND(WEEKDAY(BJ$4)=5,Jeudi),AND(WEEKDAY(BJ$4)=6,Vendredi),AND(WEEKDAY(BJ$4)=7,Samedi),BJ$4=férié),0,1)","v":1},{"$f":"IF(OR(AND(WEEKDAY(BK$4)=1,Dimanche),AND(WEEKDAY(BK$4)=2,Lundi),AND(WEEKDAY(BK$4)=3,Mardi),AND(WEEKDAY(BK$4)=4,Mercredi),AND(WEEKDAY(BK$4)=5,Jeudi),AND(WEEKDAY(BK$4)=6,Vendredi),AND(WEEKDAY(BK$4)=7,Samedi),BK$4=férié),0,1)","v":1},{"$f":"IF(OR(AND(WEEKDAY(BL$4)=1,Dimanche),AND(WEEKDAY(BL$4)=2,Lundi),AND(WEEKDAY(BL$4)=3,Mardi),AND(WEEKDAY(BL$4)=4,Mercredi),AND(WEEKDAY(BL$4)=5,Jeudi),AND(WEEKDAY(BL$4)=6,Vendredi),AND(WEEKDAY(BL$4)=7,Samedi),BL$4=férié),0,1)","v":1},{"$f":"IF(OR(AND(WEEKDAY(BM$4)=1,Dimanche),AND(WEEKDAY(BM$4)=2,Lundi),AND(WEEKDAY(BM$4)=3,Mardi),AND(WEEKDAY(BM$4)=4,Mercredi),AND(WEEKDAY(BM$4)=5,Jeudi),AND(WEEKDAY(BM$4)=6,Vendredi),AND(WEEKDAY(BM$4)=7,Samedi),BM$4=férié),0,1)","v":0},{"$f":"IF(OR(AND(WEEKDAY(BN$4)=1,Dimanche),AND(WEEKDAY(BN$4)=2,Lundi),AND(WEEKDAY(BN$4)=3,Mardi),AND(WEEKDAY(BN$4)=4,Mercredi),AND(WEEKDAY(BN$4)=5,Jeudi),AND(WEEKDAY(BN$4)=6,Vendredi),AND(WEEKDAY(BN$4)=7,Samedi),BN$4=férié),0,1)","v":0},{"$f":"IF(OR(AND(WEEKDAY(BO$4)=1,Dimanche),AND(WEEKDAY(BO$4)=2,Lundi),AND(WEEKDAY(BO$4)=3,Mardi),AND(WEEKDAY(BO$4)=4,Mercredi),AND(WEEKDAY(BO$4)=5,Jeudi),AND(WEEKDAY(BO$4)=6,Vendredi),AND(WEEKDAY(BO$4)=7,Samedi),BO$4=férié),0,1)","v":1},{"$f":"IF(OR(AND(WEEKDAY(BP$4)=1,Dimanche),AND(WEEKDAY(BP$4)=2,Lundi),AND(WEEKDAY(BP$4)=3,Mardi),AND(WEEKDAY(BP$4)=4,Mercredi),AND(WEEKDAY(BP$4)=5,Jeudi),AND(WEEKDAY(BP$4)=6,Vendredi),AND(WEEKDAY(BP$4)=7,Samedi),BP$4=férié),0,1)","v":1},{"$f":"IF(OR(AND(WEEKDAY(BQ$4)=1,Dimanche),AND(WEEKDAY(BQ$4)=2,Lundi),AND(WEEKDAY(BQ$4)=3,Mardi),AND(WEEKDAY(BQ$4)=4,Mercredi),AND(WEEKDAY(BQ$4)=5,Jeudi),AND(WEEKDAY(BQ$4)=6,Vendredi),AND(WEEKDAY(BQ$4)=7,Samedi),BQ$4=férié),0,1)","v":1},{"$f":"IF(OR(AND(WEEKDAY(BR$4)=1,Dimanche),AND(WEEKDAY(BR$4)=2,Lundi),AND(WEEKDAY(BR$4)=3,Mardi),AND(WEEKDAY(BR$4)=4,Mercredi),AND(WEEKDAY(BR$4)=5,Jeudi),AND(WEEKDAY(BR$4)=6,Vendredi),AND(WEEKDAY(BR$4)=7,Samedi),BR$4=férié),0,1)","v":1},{"$f":"IF(OR(AND(WEEKDAY(BS$4)=1,Dimanche),AND(WEEKDAY(BS$4)=2,Lundi),AND(WEEKDAY(BS$4)=3,Mardi),AND(WEEKDAY(BS$4)=4,Mercredi),AND(WEEKDAY(BS$4)=5,Jeudi),AND(WEEKDAY(BS$4)=6,Vendredi),AND(WEEKDAY(BS$4)=7,Samedi),BS$4=férié),0,1)","v":1},{"$f":"IF(OR(AND(WEEKDAY(BT$4)=1,Dimanche),AND(WEEKDAY(BT$4)=2,Lundi),AND(WEEKDAY(BT$4)=3,Mardi),AND(WEEKDAY(BT$4)=4,Mercredi),AND(WEEKDAY(BT$4)=5,Jeudi),AND(WEEKDAY(BT$4)=6,Vendredi),AND(WEEKDAY(BT$4)=7,Samedi),BT$4=férié),0,1)","v":0},{"$f":"IF(OR(AND(WEEKDAY(BU$4)=1,Dimanche),AND(WEEKDAY(BU$4)=2,Lundi),AND(WEEKDAY(BU$4)=3,Mardi),AND(WEEKDAY(BU$4)=4,Mercredi),AND(WEEKDAY(BU$4)=5,Jeudi),AND(WEEKDAY(BU$4)=6,Vendredi),AND(WEEKDAY(BU$4)=7,Samedi),BU$4=férié),0,1)","v":0},{"$f":"IF(OR(AND(WEEKDAY(BV$4)=1,Dimanche),AND(WEEKDAY(BV$4)=2,Lundi),AND(WEEKDAY(BV$4)=3,Mardi),AND(WEEKDAY(BV$4)=4,Mercredi),AND(WEEKDAY(BV$4)=5,Jeudi),AND(WEEKDAY(BV$4)=6,Vendredi),AND(WEEKDAY(BV$4)=7,Samedi),BV$4=férié),0,1)","v":1},{"$f":"IF(OR(AND(WEEKDAY(BW$4)=1,Dimanche),AND(WEEKDAY(BW$4)=2,Lundi),AND(WEEKDAY(BW$4)=3,Mardi),AND(WEEKDAY(BW$4)=4,Mercredi),AND(WEEKDAY(BW$4)=5,Jeudi),AND(WEEKDAY(BW$4)=6,Vendredi),AND(WEEKDAY(BW$4)=7,Samedi),BW$4=férié),0,1)","v":1},{"$f":"IF(OR(AND(WEEKDAY(BX$4)=1,Dimanche),AND(WEEKDAY(BX$4)=2,Lundi),AND(WEEKDAY(BX$4)=3,Mardi),AND(WEEKDAY(BX$4)=4,Mercredi),AND(WEEKDAY(BX$4)=5,Jeudi),AND(WEEKDAY(BX$4)=6,Vendredi),AND(WEEKDAY(BX$4)=7,Samedi),BX$4=férié),0,1)","v":1},{"$f":"IF(OR(AND(WEEKDAY(BY$4)=1,Dimanche),AND(WEEKDAY(BY$4)=2,Lundi),AND(WEEKDAY(BY$4)=3,Mardi),AND(WEEKDAY(BY$4)=4,Mercredi),AND(WEEKDAY(BY$4)=5,Jeudi),AND(WEEKDAY(BY$4)=6,Vendredi),AND(WEEKDAY(BY$4)=7,Samedi),BY$4=férié),0,1)","v":1},{"$f":"IF(OR(AND(WEEKDAY(BZ$4)=1,Dimanche),AND(WEEKDAY(BZ$4)=2,Lundi),AND(WEEKDAY(BZ$4)=3,Mardi),AND(WEEKDAY(BZ$4)=4,Mercredi),AND(WEEKDAY(BZ$4)=5,Jeudi),AND(WEEKDAY(BZ$4)=6,Vendredi),AND(WEEKDAY(BZ$4)=7,Samedi),BZ$4=férié),0,1)","v":1},{"$f":"IF(OR(AND(WEEKDAY(CA$4)=1,Dimanche),AND(WEEKDAY(CA$4)=2,Lundi),AND(WEEKDAY(CA$4)=3,Mardi),AND(WEEKDAY(CA$4)=4,Mercredi),AND(WEEKDAY(CA$4)=5,Jeudi),AND(WEEKDAY(CA$4)=6,Vendredi),AND(WEEKDAY(CA$4)=7,Samedi),CA$4=férié),0,1)","v":0},{"$f":"IF(OR(AND(WEEKDAY(CB$4)=1,Dimanche),AND(WEEKDAY(CB$4)=2,Lundi),AND(WEEKDAY(CB$4)=3,Mardi),AND(WEEKDAY(CB$4)=4,Mercredi),AND(WEEKDAY(CB$4)=5,Jeudi),AND(WEEKDAY(CB$4)=6,Vendredi),AND(WEEKDAY(CB$4)=7,Samedi),CB$4=férié),0,1)","v":0},{"$f":"IF(OR(AND(WEEKDAY(CC$4)=1,Dimanche),AND(WEEKDAY(CC$4)=2,Lundi),AND(WEEKDAY(CC$4)=3,Mardi),AND(WEEKDAY(CC$4)=4,Mercredi),AND(WEEKDAY(CC$4)=5,Jeudi),AND(WEEKDAY(CC$4)=6,Vendredi),AND(WEEKDAY(CC$4)=7,Samedi),CC$4=férié),0,1)","v":1},{"$f":"IF(OR(AND(WEEKDAY(CD$4)=1,Dimanche),AND(WEEKDAY(CD$4)=2,Lundi),AND(WEEKDAY(CD$4)=3,Mardi),AND(WEEKDAY(CD$4)=4,Mercredi),AND(WEEKDAY(CD$4)=5,Jeudi),AND(WEEKDAY(CD$4)=6,Vendredi),AND(WEEKDAY(CD$4)=7,Samedi),CD$4=férié),0,1)","v":1},{"$f":"IF(OR(AND(WEEKDAY(CE$4)=1,Dimanche),AND(WEEKDAY(CE$4)=2,Lundi),AND(WEEKDAY(CE$4)=3,Mardi),AND(WEEKDAY(CE$4)=4,Mercredi),AND(WEEKDAY(CE$4)=5,Jeudi),AND(WEEKDAY(CE$4)=6,Vendredi),AND(WEEKDAY(CE$4)=7,Samedi),CE$4=férié),0,1)","v":1},{"$f":"IF(OR(AND(WEEKDAY(CF$4)=1,Dimanche),AND(WEEKDAY(CF$4)=2,Lundi),AND(WEEKDAY(CF$4)=3,Mardi),AND(WEEKDAY(CF$4)=4,Mercredi),AND(WEEKDAY(CF$4)=5,Jeudi),AND(WEEKDAY(CF$4)=6,Vendredi),AND(WEEKDAY(CF$4)=7,Samedi),CF$4=férié),0,1)","v":1},{"$f":"IF(OR(AND(WEEKDAY(CG$4)=1,Dimanche),AND(WEEKDAY(CG$4)=2,Lundi),AND(WEEKDAY(CG$4)=3,Mardi),AND(WEEKDAY(CG$4)=4,Mercredi),AND(WEEKDAY(CG$4)=5,Jeudi),AND(WEEKDAY(CG$4)=6,Vendredi),AND(WEEKDAY(CG$4)=7,Samedi),CG$4=férié),0,1)","v":1},{"$f":"IF(OR(AND(WEEKDAY(CH$4)=1,Dimanche),AND(WEEKDAY(CH$4)=2,Lundi),AND(WEEKDAY(CH$4)=3,Mardi),AND(WEEKDAY(CH$4)=4,Mercredi),AND(WEEKDAY(CH$4)=5,Jeudi),AND(WEEKDAY(CH$4)=6,Vendredi),AND(WEEKDAY(CH$4)=7,Samedi),CH$4=férié),0,1)","v":0},{"$f":"IF(OR(AND(WEEKDAY(CI$4)=1,Dimanche),AND(WEEKDAY(CI$4)=2,Lundi),AND(WEEKDAY(CI$4)=3,Mardi),AND(WEEKDAY(CI$4)=4,Mercredi),AND(WEEKDAY(CI$4)=5,Jeudi),AND(WEEKDAY(CI$4)=6,Vendredi),AND(WEEKDAY(CI$4)=7,Samedi),CI$4=férié),0,1)","v":0},{"$f":"IF(OR(AND(WEEKDAY(CJ$4)=1,Dimanche),AND(WEEKDAY(CJ$4)=2,Lundi),AND(WEEKDAY(CJ$4)=3,Mardi),AND(WEEKDAY(CJ$4)=4,Mercredi),AND(WEEKDAY(CJ$4)=5,Jeudi),AND(WEEKDAY(CJ$4)=6,Vendredi),AND(WEEKDAY(CJ$4)=7,Samedi),CJ$4=férié),0,1)","v":1},{"$f":"IF(OR(AND(WEEKDAY(CK$4)=1,Dimanche),AND(WEEKDAY(CK$4)=2,Lundi),AND(WEEKDAY(CK$4)=3,Mardi),AND(WEEKDAY(CK$4)=4,Mercredi),AND(WEEKDAY(CK$4)=5,Jeudi),AND(WEEKDAY(CK$4)=6,Vendredi),AND(WEEKDAY(CK$4)=7,Samedi),CK$4=férié),0,1)","v":1},{"$f":"IF(OR(AND(WEEKDAY(CL$4)=1,Dimanche),AND(WEEKDAY(CL$4)=2,Lundi),AND(WEEKDAY(CL$4)=3,Mardi),AND(WEEKDAY(CL$4)=4,Mercredi),AND(WEEKDAY(CL$4)=5,Jeudi),AND(WEEKDAY(CL$4)=6,Vendredi),AND(WEEKDAY(CL$4)=7,Samedi),CL$4=férié),0,1)","v":1},{"$f":"IF(OR(AND(WEEKDAY(CM$4)=1,Dimanche),AND(WEEKDAY(CM$4)=2,Lundi),AND(WEEKDAY(CM$4)=3,Mardi),AND(WEEKDAY(CM$4)=4,Mercredi),AND(WEEKDAY(CM$4)=5,Jeudi),AND(WEEKDAY(CM$4)=6,Vendredi),AND(WEEKDAY(CM$4)=7,Samedi),CM$4=férié),0,1)","v":1},{"$f":"IF(OR(AND(WEEKDAY(CN$4)=1,Dimanche),AND(WEEKDAY(CN$4)=2,Lundi),AND(WEEKDAY(CN$4)=3,Mardi),AND(WEEKDAY(CN$4)=4,Mercredi),AND(WEEKDAY(CN$4)=5,Jeudi),AND(WEEKDAY(CN$4)=6,Vendredi),AND(WEEKDAY(CN$4)=7,Samedi),CN$4=férié),0,1)","v":1},{"$f":"IF(OR(AND(WEEKDAY(CO$4)=1,Dimanche),AND(WEEKDAY(CO$4)=2,Lundi),AND(WEEKDAY(CO$4)=3,Mardi),AND(WEEKDAY(CO$4)=4,Mercredi),AND(WEEKDAY(CO$4)=5,Jeudi),AND(WEEKDAY(CO$4)=6,Vendredi),AND(WEEKDAY(CO$4)=7,Samedi),CO$4=férié),0,1)","v":0},{"$f":"IF(OR(AND(WEEKDAY(CP$4)=1,Dimanche),AND(WEEKDAY(CP$4)=2,Lundi),AND(WEEKDAY(CP$4)=3,Mardi),AND(WEEKDAY(CP$4)=4,Mercredi),AND(WEEKDAY(CP$4)=5,Jeudi),AND(WEEKDAY(CP$4)=6,Vendredi),AND(WEEKDAY(CP$4)=7,Samedi),CP$4=férié),0,1)","v":0},{"$f":"IF(OR(AND(WEEKDAY(CQ$4)=1,Dimanche),AND(WEEKDAY(CQ$4)=2,Lundi),AND(WEEKDAY(CQ$4)=3,Mardi),AND(WEEKDAY(CQ$4)=4,Mercredi),AND(WEEKDAY(CQ$4)=5,Jeudi),AND(WEEKDAY(CQ$4)=6,Vendredi),AND(WEEKDAY(CQ$4)=7,Samedi),CQ$4=férié),0,1)","v":1},{"$f":"IF(OR(AND(WEEKDAY(CR$4)=1,Dimanche),AND(WEEKDAY(CR$4)=2,Lundi),AND(WEEKDAY(CR$4)=3,Mardi),AND(WEEKDAY(CR$4)=4,Mercredi),AND(WEEKDAY(CR$4)=5,Jeudi),AND(WEEKDAY(CR$4)=6,Vendredi),AND(WEEKDAY(CR$4)=7,Samedi),CR$4=férié),0,1)","v":1},{"$f":"IF(OR(AND(WEEKDAY(CS$4)=1,Dimanche),AND(WEEKDAY(CS$4)=2,Lundi),AND(WEEKDAY(CS$4)=3,Mardi),AND(WEEKDAY(CS$4)=4,Mercredi),AND(WEEKDAY(CS$4)=5,Jeudi),AND(WEEKDAY(CS$4)=6,Vendredi),AND(WEEKDAY(CS$4)=7,Samedi),CS$4=férié),0,1)","v":1},{"$f":"IF(OR(AND(WEEKDAY(CT$4)=1,Dimanche),AND(WEEKDAY(CT$4)=2,Lundi),AND(WEEKDAY(CT$4)=3,Mardi),AND(WEEKDAY(CT$4)=4,Mercredi),AND(WEEKDAY(CT$4)=5,Jeudi),AND(WEEKDAY(CT$4)=6,Vendredi),AND(WEEKDAY(CT$4)=7,Samedi),CT$4=férié),0,1)","v":1},{"$f":"IF(OR(AND(WEEKDAY(CU$4)=1,Dimanche),AND(WEEKDAY(CU$4)=2,Lundi),AND(WEEKDAY(CU$4)=3,Mardi),AND(WEEKDAY(CU$4)=4,Mercredi),AND(WEEKDAY(CU$4)=5,Jeudi),AND(WEEKDAY(CU$4)=6,Vendredi),AND(WEEKDAY(CU$4)=7,Samedi),CU$4=férié),0,1)","v":1},{"$f":"IF(OR(AND(WEEKDAY(CV$4)=1,Dimanche),AND(WEEKDAY(CV$4)=2,Lundi),AND(WEEKDAY(CV$4)=3,Mardi),AND(WEEKDAY(CV$4)=4,Mercredi),AND(WEEKDAY(CV$4)=5,Jeudi),AND(WEEKDAY(CV$4)=6,Vendredi),AND(WEEKDAY(CV$4)=7,Samedi),CV$4=férié),0,1)","v":0},{"$f":"IF(OR(AND(WEEKDAY(CW$4)=1,Dimanche),AND(WEEKDAY(CW$4)=2,Lundi),AND(WEEKDAY(CW$4)=3,Mardi),AND(WEEKDAY(CW$4)=4,Mercredi),AND(WEEKDAY(CW$4)=5,Jeudi),AND(WEEKDAY(CW$4)=6,Vendredi),AND(WEEKDAY(CW$4)=7,Samedi),CW$4=férié),0,1)","v":0},{"$f":"IF(OR(AND(WEEKDAY(CX$4)=1,Dimanche),AND(WEEKDAY(CX$4)=2,Lundi),AND(WEEKDAY(CX$4)=3,Mardi),AND(WEEKDAY(CX$4)=4,Mercredi),AND(WEEKDAY(CX$4)=5,Jeudi),AND(WEEKDAY(CX$4)=6,Vendredi),AND(WEEKDAY(CX$4)=7,Samedi),CX$4=férié),0,1)","v":1},{"$f":"IF(OR(AND(WEEKDAY(CY$4)=1,Dimanche),AND(WEEKDAY(CY$4)=2,Lundi),AND(WEEKDAY(CY$4)=3,Mardi),AND(WEEKDAY(CY$4)=4,Mercredi),AND(WEEKDAY(CY$4)=5,Jeudi),AND(WEEKDAY(CY$4)=6,Vendredi),AND(WEEKDAY(CY$4)=7,Samedi),CY$4=férié),0,1)","v":1},{"$f":"IF(OR(AND(WEEKDAY(CZ$4)=1,Dimanche),AND(WEEKDAY(CZ$4)=2,Lundi),AND(WEEKDAY(CZ$4)=3,Mardi),AND(WEEKDAY(CZ$4)=4,Mercredi),AND(WEEKDAY(CZ$4)=5,Jeudi),AND(WEEKDAY(CZ$4)=6,Vendredi),AND(WEEKDAY(CZ$4)=7,Samedi),CZ$4=férié),0,1)","v":1},{"$f":"IF(OR(AND(WEEKDAY(DA$4)=1,Dimanche),AND(WEEKDAY(DA$4)=2,Lundi),AND(WEEKDAY(DA$4)=3,Mardi),AND(WEEKDAY(DA$4)=4,Mercredi),AND(WEEKDAY(DA$4)=5,Jeudi),AND(WEEKDAY(DA$4)=6,Vendredi),AND(WEEKDAY(DA$4)=7,Samedi),DA$4=férié),0,1)","v":1},{"$f":"IF(OR(AND(WEEKDAY(DB$4)=1,Dimanche),AND(WEEKDAY(DB$4)=2,Lundi),AND(WEEKDAY(DB$4)=3,Mardi),AND(WEEKDAY(DB$4)=4,Mercredi),AND(WEEKDAY(DB$4)=5,Jeudi),AND(WEEKDAY(DB$4)=6,Vendredi),AND(WEEKDAY(DB$4)=7,Samedi),DB$4=férié),0,1)","v":1},{"$f":"IF(OR(AND(WEEKDAY(DC$4)=1,Dimanche),AND(WEEKDAY(DC$4)=2,Lundi),AND(WEEKDAY(DC$4)=3,Mardi),AND(WEEKDAY(DC$4)=4,Mercredi),AND(WEEKDAY(DC$4)=5,Jeudi),AND(WEEKDAY(DC$4)=6,Vendredi),AND(WEEKDAY(DC$4)=7,Samedi),DC$4=férié),0,1)","v":0},{"$f":"IF(OR(AND(WEEKDAY(DD$4)=1,Dimanche),AND(WEEKDAY(DD$4)=2,Lundi),AND(WEEKDAY(DD$4)=3,Mardi),AND(WEEKDAY(DD$4)=4,Mercredi),AND(WEEKDAY(DD$4)=5,Jeudi),AND(WEEKDAY(DD$4)=6,Vendredi),AND(WEEKDAY(DD$4)=7,Samedi),DD$4=férié),0,1)","v":0},{"$f":"IF(OR(AND(WEEKDAY(DE$4)=1,Dimanche),AND(WEEKDAY(DE$4)=2,Lundi),AND(WEEKDAY(DE$4)=3,Mardi),AND(WEEKDAY(DE$4)=4,Mercredi),AND(WEEKDAY(DE$4)=5,Jeudi),AND(WEEKDAY(DE$4)=6,Vendredi),AND(WEEKDAY(DE$4)=7,Samedi),DE$4=férié),0,1)","v":1},{"$f":"IF(OR(AND(WEEKDAY(DF$4)=1,Dimanche),AND(WEEKDAY(DF$4)=2,Lundi),AND(WEEKDAY(DF$4)=3,Mardi),AND(WEEKDAY(DF$4)=4,Mercredi),AND(WEEKDAY(DF$4)=5,Jeudi),AND(WEEKDAY(DF$4)=6,Vendredi),AND(WEEKDAY(DF$4)=7,Samedi),DF$4=férié),0,1)","v":1},{"$f":"IF(OR(AND(WEEKDAY(DG$4)=1,Dimanche),AND(WEEKDAY(DG$4)=2,Lundi),AND(WEEKDAY(DG$4)=3,Mardi),AND(WEEKDAY(DG$4)=4,Mercredi),AND(WEEKDAY(DG$4)=5,Jeudi),AND(WEEKDAY(DG$4)=6,Vendredi),AND(WEEKDAY(DG$4)=7,Samedi),DG$4=férié),0,1)","v":1},{"$f":"IF(OR(AND(WEEKDAY(DH$4)=1,Dimanche),AND(WEEKDAY(DH$4)=2,Lundi),AND(WEEKDAY(DH$4)=3,Mardi),AND(WEEKDAY(DH$4)=4,Mercredi),AND(WEEKDAY(DH$4)=5,Jeudi),AND(WEEKDAY(DH$4)=6,Vendredi),AND(WEEKDAY(DH$4)=7,Samedi),DH$4=férié),0,1)","v":1},{"$f":"IF(OR(AND(WEEKDAY(DI$4)=1,Dimanche),AND(WEEKDAY(DI$4)=2,Lundi),AND(WEEKDAY(DI$4)=3,Mardi),AND(WEEKDAY(DI$4)=4,Mercredi),AND(WEEKDAY(DI$4)=5,Jeudi),AND(WEEKDAY(DI$4)=6,Vendredi),AND(WEEKDAY(DI$4)=7,Samedi),DI$4=férié),0,1)","v":1},{"$f":"IF(OR(AND(WEEKDAY(DJ$4)=1,Dimanche),AND(WEEKDAY(DJ$4)=2,Lundi),AND(WEEKDAY(DJ$4)=3,Mardi),AND(WEEKDAY(DJ$4)=4,Mercredi),AND(WEEKDAY(DJ$4)=5,Jeudi),AND(WEEKDAY(DJ$4)=6,Vendredi),AND(WEEKDAY(DJ$4)=7,Samedi),DJ$4=férié),0,1)","v":0},{"$f":"IF(OR(AND(WEEKDAY(DK$4)=1,Dimanche),AND(WEEKDAY(DK$4)=2,Lundi),AND(WEEKDAY(DK$4)=3,Mardi),AND(WEEKDAY(DK$4)=4,Mercredi),AND(WEEKDAY(DK$4)=5,Jeudi),AND(WEEKDAY(DK$4)=6,Vendredi),AND(WEEKDAY(DK$4)=7,Samedi),DK$4=férié),0,1)","v":0},{"$f":"IF(OR(AND(WEEKDAY(DL$4)=1,Dimanche),AND(WEEKDAY(DL$4)=2,Lundi),AND(WEEKDAY(DL$4)=3,Mardi),AND(WEEKDAY(DL$4)=4,Mercredi),AND(WEEKDAY(DL$4)=5,Jeudi),AND(WEEKDAY(DL$4)=6,Vendredi),AND(WEEKDAY(DL$4)=7,Samedi),DL$4=férié),0,1)","v":0},{"$f":"IF(OR(AND(WEEKDAY(DM$4)=1,Dimanche),AND(WEEKDAY(DM$4)=2,Lundi),AND(WEEKDAY(DM$4)=3,Mardi),AND(WEEKDAY(DM$4)=4,Mercredi),AND(WEEKDAY(DM$4)=5,Jeudi),AND(WEEKDAY(DM$4)=6,Vendredi),AND(WEEKDAY(DM$4)=7,Samedi),DM$4=férié),0,1)","v":1},{"$f":"IF(OR(AND(WEEKDAY(DN$4)=1,Dimanche),AND(WEEKDAY(DN$4)=2,Lundi),AND(WEEKDAY(DN$4)=3,Mardi),AND(WEEKDAY(DN$4)=4,Mercredi),AND(WEEKDAY(DN$4)=5,Jeudi),AND(WEEKDAY(DN$4)=6,Vendredi),AND(WEEKDAY(DN$4)=7,Samedi),DN$4=férié),0,1)","v":1},{"$f":"IF(OR(AND(WEEKDAY(DO$4)=1,Dimanche),AND(WEEKDAY(DO$4)=2,Lundi),AND(WEEKDAY(DO$4)=3,Mardi),AND(WEEKDAY(DO$4)=4,Mercredi),AND(WEEKDAY(DO$4)=5,Jeudi),AND(WEEKDAY(DO$4)=6,Vendredi),AND(WEEKDAY(DO$4)=7,Samedi),DO$4=férié),0,1)","v":1},{"$f":"IF(OR(AND(WEEKDAY(DP$4)=1,Dimanche),AND(WEEKDAY(DP$4)=2,Lundi),AND(WEEKDAY(DP$4)=3,Mardi),AND(WEEKDAY(DP$4)=4,Mercredi),AND(WEEKDAY(DP$4)=5,Jeudi),AND(WEEKDAY(DP$4)=6,Vendredi),AND(WEEKDAY(DP$4)=7,Samedi),DP$4=férié),0,1)","v":1},{"$f":"IF(OR(AND(WEEKDAY(DQ$4)=1,Dimanche),AND(WEEKDAY(DQ$4)=2,Lundi),AND(WEEKDAY(DQ$4)=3,Mardi),AND(WEEKDAY(DQ$4)=4,Mercredi),AND(WEEKDAY(DQ$4)=5,Jeudi),AND(WEEKDAY(DQ$4)=6,Vendredi),AND(WEEKDAY(DQ$4)=7,Samedi),DQ$4=férié),0,1)","v":0},{"$f":"IF(OR(AND(WEEKDAY(DR$4)=1,Dimanche),AND(WEEKDAY(DR$4)=2,Lundi),AND(WEEKDAY(DR$4)=3,Mardi),AND(WEEKDAY(DR$4)=4,Mercredi),AND(WEEKDAY(DR$4)=5,Jeudi),AND(WEEKDAY(DR$4)=6,Vendredi),AND(WEEKDAY(DR$4)=7,Samedi),DR$4=férié),0,1)","v":0},{"$f":"IF(OR(AND(WEEKDAY(DS$4)=1,Dimanche),AND(WEEKDAY(DS$4)=2,Lundi),AND(WEEKDAY(DS$4)=3,Mardi),AND(WEEKDAY(DS$4)=4,Mercredi),AND(WEEKDAY(DS$4)=5,Jeudi),AND(WEEKDAY(DS$4)=6,Vendredi),AND(WEEKDAY(DS$4)=7,Samedi),DS$4=férié),0,1)","v":1},{"$f":"IF(OR(AND(WEEKDAY(DT$4)=1,Dimanche),AND(WEEKDAY(DT$4)=2,Lundi),AND(WEEKDAY(DT$4)=3,Mardi),AND(WEEKDAY(DT$4)=4,Mercredi),AND(WEEKDAY(DT$4)=5,Jeudi),AND(WEEKDAY(DT$4)=6,Vendredi),AND(WEEKDAY(DT$4)=7,Samedi),DT$4=férié),0,1)","v":1},{"$f":"IF(OR(AND(WEEKDAY(DU$4)=1,Dimanche),AND(WEEKDAY(DU$4)=2,Lundi),AND(WEEKDAY(DU$4)=3,Mardi),AND(WEEKDAY(DU$4)=4,Mercredi),AND(WEEKDAY(DU$4)=5,Jeudi),AND(WEEKDAY(DU$4)=6,Vendredi),AND(WEEKDAY(DU$4)=7,Samedi),DU$4=férié),0,1)","v":1},{"$f":"IF(OR(AND(WEEKDAY(DV$4)=1,Dimanche),AND(WEEKDAY(DV$4)=2,Lundi),AND(WEEKDAY(DV$4)=3,Mardi),AND(WEEKDAY(DV$4)=4,Mercredi),AND(WEEKDAY(DV$4)=5,Jeudi),AND(WEEKDAY(DV$4)=6,Vendredi),AND(WEEKDAY(DV$4)=7,Samedi),DV$4=férié),0,1)","v":1},{"$f":"IF(OR(AND(WEEKDAY(DW$4)=1,Dimanche),AND(WEEKDAY(DW$4)=2,Lundi),AND(WEEKDAY(DW$4)=3,Mardi),AND(WEEKDAY(DW$4)=4,Mercredi),AND(WEEKDAY(DW$4)=5,Jeudi),AND(WEEKDAY(DW$4)=6,Vendredi),AND(WEEKDAY(DW$4)=7,Samedi),DW$4=férié),0,1)","v":1},{"$f":"IF(OR(AND(WEEKDAY(DX$4)=1,Dimanche),AND(WEEKDAY(DX$4)=2,Lundi),AND(WEEKDAY(DX$4)=3,Mardi),AND(WEEKDAY(DX$4)=4,Mercredi),AND(WEEKDAY(DX$4)=5,Jeudi),AND(WEEKDAY(DX$4)=6,Vendredi),AND(WEEKDAY(DX$4)=7,Samedi),DX$4=férié),0,1)","v":0},{"$f":"IF(OR(AND(WEEKDAY(DY$4)=1,Dimanche),AND(WEEKDAY(DY$4)=2,Lundi),AND(WEEKDAY(DY$4)=3,Mardi),AND(WEEKDAY(DY$4)=4,Mercredi),AND(WEEKDAY(DY$4)=5,Jeudi),AND(WEEKDAY(DY$4)=6,Vendredi),AND(WEEKDAY(DY$4)=7,Samedi),DY$4=férié),0,1)","v":0},{"$f":"IF(OR(AND(WEEKDAY(DZ$4)=1,Dimanche),AND(WEEKDAY(DZ$4)=2,Lundi),AND(WEEKDAY(DZ$4)=3,Mardi),AND(WEEKDAY(DZ$4)=4,Mercredi),AND(WEEKDAY(DZ$4)=5,Jeudi),AND(WEEKDAY(DZ$4)=6,Vendredi),AND(WEEKDAY(DZ$4)=7,Samedi),DZ$4=férié),0,1)","v":0},{"$f":"IF(OR(AND(WEEKDAY(EA$4)=1,Dimanche),AND(WEEKDAY(EA$4)=2,Lundi),AND(WEEKDAY(EA$4)=3,Mardi),AND(WEEKDAY(EA$4)=4,Mercredi),AND(WEEKDAY(EA$4)=5,Jeudi),AND(WEEKDAY(EA$4)=6,Vendredi),AND(WEEKDAY(EA$4)=7,Samedi),EA$4=férié),0,1)","v":1},{"$f":"IF(OR(AND(WEEKDAY(EB$4)=1,Dimanche),AND(WEEKDAY(EB$4)=2,Lundi),AND(WEEKDAY(EB$4)=3,Mardi),AND(WEEKDAY(EB$4)=4,Mercredi),AND(WEEKDAY(EB$4)=5,Jeudi),AND(WEEKDAY(EB$4)=6,Vendredi),AND(WEEKDAY(EB$4)=7,Samedi),EB$4=férié),0,1)","v":1},{"$f":"IF(OR(AND(WEEKDAY(EC$4)=1,Dimanche),AND(WEEKDAY(EC$4)=2,Lundi),AND(WEEKDAY(EC$4)=3,Mardi),AND(WEEKDAY(EC$4)=4,Mercredi),AND(WEEKDAY(EC$4)=5,Jeudi),AND(WEEKDAY(EC$4)=6,Vendredi),AND(WEEKDAY(EC$4)=7,Samedi),EC$4=férié),0,1)","v":1},{"$f":"IF(OR(AND(WEEKDAY(ED$4)=1,Dimanche),AND(WEEKDAY(ED$4)=2,Lundi),AND(WEEKDAY(ED$4)=3,Mardi),AND(WEEKDAY(ED$4)=4,Mercredi),AND(WEEKDAY(ED$4)=5,Jeudi),AND(WEEKDAY(ED$4)=6,Vendredi),AND(WEEKDAY(ED$4)=7,Samedi),ED$4=férié),0,1)","v":1},{"$f":"IF(OR(AND(WEEKDAY(EE$4)=1,Dimanche),AND(WEEKDAY(EE$4)=2,Lundi),AND(WEEKDAY(EE$4)=3,Mardi),AND(WEEKDAY(EE$4)=4,Mercredi),AND(WEEKDAY(EE$4)=5,Jeudi),AND(WEEKDAY(EE$4)=6,Vendredi),AND(WEEKDAY(EE$4)=7,Samedi),EE$4=férié),0,1)","v":0},{"$f":"IF(OR(AND(WEEKDAY(EF$4)=1,Dimanche),AND(WEEKDAY(EF$4)=2,Lundi),AND(WEEKDAY(EF$4)=3,Mardi),AND(WEEKDAY(EF$4)=4,Mercredi),AND(WEEKDAY(EF$4)=5,Jeudi),AND(WEEKDAY(EF$4)=6,Vendredi),AND(WEEKDAY(EF$4)=7,Samedi),EF$4=férié),0,1)","v":0},{"$f":"IF(OR(AND(WEEKDAY(EG$4)=1,Dimanche),AND(WEEKDAY(EG$4)=2,Lundi),AND(WEEKDAY(EG$4)=3,Mardi),AND(WEEKDAY(EG$4)=4,Mercredi),AND(WEEKDAY(EG$4)=5,Jeudi),AND(WEEKDAY(EG$4)=6,Vendredi),AND(WEEKDAY(EG$4)=7,Samedi),EG$4=férié),0,1)","v":0},{"$f":"IF(OR(AND(WEEKDAY(EH$4)=1,Dimanche),AND(WEEKDAY(EH$4)=2,Lundi),AND(WEEKDAY(EH$4)=3,Mardi),AND(WEEKDAY(EH$4)=4,Mercredi),AND(WEEKDAY(EH$4)=5,Jeudi),AND(WEEKDAY(EH$4)=6,Vendredi),AND(WEEKDAY(EH$4)=7,Samedi),EH$4=férié),0,1)","v":1},{"$f":"IF(OR(AND(WEEKDAY(EI$4)=1,Dimanche),AND(WEEKDAY(EI$4)=2,Lundi),AND(WEEKDAY(EI$4)=3,Mardi),AND(WEEKDAY(EI$4)=4,Mercredi),AND(WEEKDAY(EI$4)=5,Jeudi),AND(WEEKDAY(EI$4)=6,Vendredi),AND(WEEKDAY(EI$4)=7,Samedi),EI$4=férié),0,1)","v":1},{"$f":"IF(OR(AND(WEEKDAY(EJ$4)=1,Dimanche),AND(WEEKDAY(EJ$4)=2,Lundi),AND(WEEKDAY(EJ$4)=3,Mardi),AND(WEEKDAY(EJ$4)=4,Mercredi),AND(WEEKDAY(EJ$4)=5,Jeudi),AND(WEEKDAY(EJ$4)=6,Vendredi),AND(WEEKDAY(EJ$4)=7,Samedi),EJ$4=férié),0,1)","v":1},{"$f":"IF(OR(AND(WEEKDAY(EK$4)=1,Dimanche),AND(WEEKDAY(EK$4)=2,Lundi),AND(WEEKDAY(EK$4)=3,Mardi),AND(WEEKDAY(EK$4)=4,Mercredi),AND(WEEKDAY(EK$4)=5,Jeudi),AND(WEEKDAY(EK$4)=6,Vendredi),AND(WEEKDAY(EK$4)=7,Samedi),EK$4=férié),0,1)","v":1},{"$f":"IF(OR(AND(WEEKDAY(EL$4)=1,Dimanche),AND(WEEKDAY(EL$4)=2,Lundi),AND(WEEKDAY(EL$4)=3,Mardi),AND(WEEKDAY(EL$4)=4,Mercredi),AND(WEEKDAY(EL$4)=5,Jeudi),AND(WEEKDAY(EL$4)=6,Vendredi),AND(WEEKDAY(EL$4)=7,Samedi),EL$4=férié),0,1)","v":0},{"$f":"IF(OR(AND(WEEKDAY(EM$4)=1,Dimanche),AND(WEEKDAY(EM$4)=2,Lundi),AND(WEEKDAY(EM$4)=3,Mardi),AND(WEEKDAY(EM$4)=4,Mercredi),AND(WEEKDAY(EM$4)=5,Jeudi),AND(WEEKDAY(EM$4)=6,Vendredi),AND(WEEKDAY(EM$4)=7,Samedi),EM$4=férié),0,1)","v":0},{"$f":"IF(OR(AND(WEEKDAY(EN$4)=1,Dimanche),AND(WEEKDAY(EN$4)=2,Lundi),AND(WEEKDAY(EN$4)=3,Mardi),AND(WEEKDAY(EN$4)=4,Mercredi),AND(WEEKDAY(EN$4)=5,Jeudi),AND(WEEKDAY(EN$4)=6,Vendredi),AND(WEEKDAY(EN$4)=7,Samedi),EN$4=férié),0,1)","v":1},{"$f":"IF(OR(AND(WEEKDAY(EO$4)=1,Dimanche),AND(WEEKDAY(EO$4)=2,Lundi),AND(WEEKDAY(EO$4)=3,Mardi),AND(WEEKDAY(EO$4)=4,Mercredi),AND(WEEKDAY(EO$4)=5,Jeudi),AND(WEEKDAY(EO$4)=6,Vendredi),AND(WEEKDAY(EO$4)=7,Samedi),EO$4=férié),0,1)","v":1},{"$f":"IF(OR(AND(WEEKDAY(EP$4)=1,Dimanche),AND(WEEKDAY(EP$4)=2,Lundi),AND(WEEKDAY(EP$4)=3,Mardi),AND(WEEKDAY(EP$4)=4,Mercredi),AND(WEEKDAY(EP$4)=5,Jeudi),AND(WEEKDAY(EP$4)=6,Vendredi),AND(WEEKDAY(EP$4)=7,Samedi),EP$4=férié),0,1)","v":1},{"$f":"IF(OR(AND(WEEKDAY(EQ$4)=1,Dimanche),AND(WEEKDAY(EQ$4)=2,Lundi),AND(WEEKDAY(EQ$4)=3,Mardi),AND(WEEKDAY(EQ$4)=4,Mercredi),AND(WEEKDAY(EQ$4)=5,Jeudi),AND(WEEKDAY(EQ$4)=6,Vendredi),AND(WEEKDAY(EQ$4)=7,Samedi),EQ$4=férié),0,1)","v":1},{"$f":"IF(OR(AND(WEEKDAY(ER$4)=1,Dimanche),AND(WEEKDAY(ER$4)=2,Lundi),AND(WEEKDAY(ER$4)=3,Mardi),AND(WEEKDAY(ER$4)=4,Mercredi),AND(WEEKDAY(ER$4)=5,Jeudi),AND(WEEKDAY(ER$4)=6,Vendredi),AND(WEEKDAY(ER$4)=7,Samedi),ER$4=férié),0,1)","v":1},{"$f":"IF(OR(AND(WEEKDAY(ES$4)=1,Dimanche),AND(WEEKDAY(ES$4)=2,Lundi),AND(WEEKDAY(ES$4)=3,Mardi),AND(WEEKDAY(ES$4)=4,Mercredi),AND(WEEKDAY(ES$4)=5,Jeudi),AND(WEEKDAY(ES$4)=6,Vendredi),AND(WEEKDAY(ES$4)=7,Samedi),ES$4=férié),0,1)","v":0},{"$f":"IF(OR(AND(WEEKDAY(ET$4)=1,Dimanche),AND(WEEKDAY(ET$4)=2,Lundi),AND(WEEKDAY(ET$4)=3,Mardi),AND(WEEKDAY(ET$4)=4,Mercredi),AND(WEEKDAY(ET$4)=5,Jeudi),AND(WEEKDAY(ET$4)=6,Vendredi),AND(WEEKDAY(ET$4)=7,Samedi),ET$4=férié),0,1)","v":0},{"$f":"IF(OR(AND(WEEKDAY(EU$4)=1,Dimanche),AND(WEEKDAY(EU$4)=2,Lundi),AND(WEEKDAY(EU$4)=3,Mardi),AND(WEEKDAY(EU$4)=4,Mercredi),AND(WEEKDAY(EU$4)=5,Jeudi),AND(WEEKDAY(EU$4)=6,Vendredi),AND(WEEKDAY(EU$4)=7,Samedi),EU$4=férié),0,1)","v":1},{"$f":"IF(OR(AND(WEEKDAY(EV$4)=1,Dimanche),AND(WEEKDAY(EV$4)=2,Lundi),AND(WEEKDAY(EV$4)=3,Mardi),AND(WEEKDAY(EV$4)=4,Mercredi),AND(WEEKDAY(EV$4)=5,Jeudi),AND(WEEKDAY(EV$4)=6,Vendredi),AND(WEEKDAY(EV$4)=7,Samedi),EV$4=férié),0,1)","v":1},{"$f":"IF(OR(AND(WEEKDAY(EW$4)=1,Dimanche),AND(WEEKDAY(EW$4)=2,Lundi),AND(WEEKDAY(EW$4)=3,Mardi),AND(WEEKDAY(EW$4)=4,Mercredi),AND(WEEKDAY(EW$4)=5,Jeudi),AND(WEEKDAY(EW$4)=6,Vendredi),AND(WEEKDAY(EW$4)=7,Samedi),EW$4=férié),0,1)","v":1},{"$f":"IF(OR(AND(WEEKDAY(EX$4)=1,Dimanche),AND(WEEKDAY(EX$4)=2,Lundi),AND(WEEKDAY(EX$4)=3,Mardi),AND(WEEKDAY(EX$4)=4,Mercredi),AND(WEEKDAY(EX$4)=5,Jeudi),AND(WEEKDAY(EX$4)=6,Vendredi),AND(WEEKDAY(EX$4)=7,Samedi),EX$4=férié),0,1)","v":0},{"$f":"IF(OR(AND(WEEKDAY(EY$4)=1,Dimanche),AND(WEEKDAY(EY$4)=2,Lundi),AND(WEEKDAY(EY$4)=3,Mardi),AND(WEEKDAY(EY$4)=4,Mercredi),AND(WEEKDAY(EY$4)=5,Jeudi),AND(WEEKDAY(EY$4)=6,Vendredi),AND(WEEKDAY(EY$4)=7,Samedi),EY$4=férié),0,1)","v":1},{"$f":"IF(OR(AND(WEEKDAY(EZ$4)=1,Dimanche),AND(WEEKDAY(EZ$4)=2,Lundi),AND(WEEKDAY(EZ$4)=3,Mardi),AND(WEEKDAY(EZ$4)=4,Mercredi),AND(WEEKDAY(EZ$4)=5,Jeudi),AND(WEEKDAY(EZ$4)=6,Vendredi),AND(WEEKDAY(EZ$4)=7,Samedi),EZ$4=férié),0,1)","v":0},{"$f":"IF(OR(AND(WEEKDAY(FA$4)=1,Dimanche),AND(WEEKDAY(FA$4)=2,Lundi),AND(WEEKDAY(FA$4)=3,Mardi),AND(WEEKDAY(FA$4)=4,Mercredi),AND(WEEKDAY(FA$4)=5,Jeudi),AND(WEEKDAY(FA$4)=6,Vendredi),AND(WEEKDAY(FA$4)=7,Samedi),FA$4=férié),0,1)","v":0},{"$f":"IF(OR(AND(WEEKDAY(FB$4)=1,Dimanche),AND(WEEKDAY(FB$4)=2,Lundi),AND(WEEKDAY(FB$4)=3,Mardi),AND(WEEKDAY(FB$4)=4,Mercredi),AND(WEEKDAY(FB$4)=5,Jeudi),AND(WEEKDAY(FB$4)=6,Vendredi),AND(WEEKDAY(FB$4)=7,Samedi),FB$4=férié),0,1)","v":1},{"$f":"IF(OR(AND(WEEKDAY(FC$4)=1,Dimanche),AND(WEEKDAY(FC$4)=2,Lundi),AND(WEEKDAY(FC$4)=3,Mardi),AND(WEEKDAY(FC$4)=4,Mercredi),AND(WEEKDAY(FC$4)=5,Jeudi),AND(WEEKDAY(FC$4)=6,Vendredi),AND(WEEKDAY(FC$4)=7,Samedi),FC$4=férié),0,1)","v":1},{"$f":"IF(OR(AND(WEEKDAY(FD$4)=1,Dimanche),AND(WEEKDAY(FD$4)=2,Lundi),AND(WEEKDAY(FD$4)=3,Mardi),AND(WEEKDAY(FD$4)=4,Mercredi),AND(WEEKDAY(FD$4)=5,Jeudi),AND(WEEKDAY(FD$4)=6,Vendredi),AND(WEEKDAY(FD$4)=7,Samedi),FD$4=férié),0,1)","v":1},{"$f":"IF(OR(AND(WEEKDAY(FE$4)=1,Dimanche),AND(WEEKDAY(FE$4)=2,Lundi),AND(WEEKDAY(FE$4)=3,Mardi),AND(WEEKDAY(FE$4)=4,Mercredi),AND(WEEKDAY(FE$4)=5,Jeudi),AND(WEEKDAY(FE$4)=6,Vendredi),AND(WEEKDAY(FE$4)=7,Samedi),FE$4=férié),0,1)","v":1},{"$f":"IF(OR(AND(WEEKDAY(FF$4)=1,Dimanche),AND(WEEKDAY(FF$4)=2,Lundi),AND(WEEKDAY(FF$4)=3,Mardi),AND(WEEKDAY(FF$4)=4,Mercredi),AND(WEEKDAY(FF$4)=5,Jeudi),AND(WEEKDAY(FF$4)=6,Vendredi),AND(WEEKDAY(FF$4)=7,Samedi),FF$4=férié),0,1)","v":1},{"$f":"IF(OR(AND(WEEKDAY(FG$4)=1,Dimanche),AND(WEEKDAY(FG$4)=2,Lundi),AND(WEEKDAY(FG$4)=3,Mardi),AND(WEEKDAY(FG$4)=4,Mercredi),AND(WEEKDAY(FG$4)=5,Jeudi),AND(WEEKDAY(FG$4)=6,Vendredi),AND(WEEKDAY(FG$4)=7,Samedi),FG$4=férié),0,1)","v":0},{"$f":"IF(OR(AND(WEEKDAY(FH$4)=1,Dimanche),AND(WEEKDAY(FH$4)=2,Lundi),AND(WEEKDAY(FH$4)=3,Mardi),AND(WEEKDAY(FH$4)=4,Mercredi),AND(WEEKDAY(FH$4)=5,Jeudi),AND(WEEKDAY(FH$4)=6,Vendredi),AND(WEEKDAY(FH$4)=7,Samedi),FH$4=férié),0,1)","v":0},{"$f":"IF(OR(AND(WEEKDAY(FI$4)=1,Dimanche),AND(WEEKDAY(FI$4)=2,Lundi),AND(WEEKDAY(FI$4)=3,Mardi),AND(WEEKDAY(FI$4)=4,Mercredi),AND(WEEKDAY(FI$4)=5,Jeudi),AND(WEEKDAY(FI$4)=6,Vendredi),AND(WEEKDAY(FI$4)=7,Samedi),FI$4=férié),0,1)","v":0},{"$f":"IF(OR(AND(WEEKDAY(FJ$4)=1,Dimanche),AND(WEEKDAY(FJ$4)=2,Lundi),AND(WEEKDAY(FJ$4)=3,Mardi),AND(WEEKDAY(FJ$4)=4,Mercredi),AND(WEEKDAY(FJ$4)=5,Jeudi),AND(WEEKDAY(FJ$4)=6,Vendredi),AND(WEEKDAY(FJ$4)=7,Samedi),FJ$4=férié),0,1)","v":1},{"$f":"IF(OR(AND(WEEKDAY(FK$4)=1,Dimanche),AND(WEEKDAY(FK$4)=2,Lundi),AND(WEEKDAY(FK$4)=3,Mardi),AND(WEEKDAY(FK$4)=4,Mercredi),AND(WEEKDAY(FK$4)=5,Jeudi),AND(WEEKDAY(FK$4)=6,Vendredi),AND(WEEKDAY(FK$4)=7,Samedi),FK$4=férié),0,1)","v":1},{"$f":"IF(OR(AND(WEEKDAY(FL$4)=1,Dimanche),AND(WEEKDAY(FL$4)=2,Lundi),AND(WEEKDAY(FL$4)=3,Mardi),AND(WEEKDAY(FL$4)=4,Mercredi),AND(WEEKDAY(FL$4)=5,Jeudi),AND(WEEKDAY(FL$4)=6,Vendredi),AND(WEEKDAY(FL$4)=7,Samedi),FL$4=férié),0,1)","v":1},{"$f":"IF(OR(AND(WEEKDAY(FM$4)=1,Dimanche),AND(WEEKDAY(FM$4)=2,Lundi),AND(WEEKDAY(FM$4)=3,Mardi),AND(WEEKDAY(FM$4)=4,Mercredi),AND(WEEKDAY(FM$4)=5,Jeudi),AND(WEEKDAY(FM$4)=6,Vendredi),AND(WEEKDAY(FM$4)=7,Samedi),FM$4=férié),0,1)","v":1},{"$f":"IF(OR(AND(WEEKDAY(FN$4)=1,Dimanche),AND(WEEKDAY(FN$4)=2,Lundi),AND(WEEKDAY(FN$4)=3,Mardi),AND(WEEKDAY(FN$4)=4,Mercredi),AND(WEEKDAY(FN$4)=5,Jeudi),AND(WEEKDAY(FN$4)=6,Vendredi),AND(WEEKDAY(FN$4)=7,Samedi),FN$4=férié),0,1)","v":0},{"$f":"IF(OR(AND(WEEKDAY(FO$4)=1,Dimanche),AND(WEEKDAY(FO$4)=2,Lundi),AND(WEEKDAY(FO$4)=3,Mardi),AND(WEEKDAY(FO$4)=4,Mercredi),AND(WEEKDAY(FO$4)=5,Jeudi),AND(WEEKDAY(FO$4)=6,Vendredi),AND(WEEKDAY(FO$4)=7,Samedi),FO$4=férié),0,1)","v":0},{"$f":"IF(OR(AND(WEEKDAY(FP$4)=1,Dimanche),AND(WEEKDAY(FP$4)=2,Lundi),AND(WEEKDAY(FP$4)=3,Mardi),AND(WEEKDAY(FP$4)=4,Mercredi),AND(WEEKDAY(FP$4)=5,Jeudi),AND(WEEKDAY(FP$4)=6,Vendredi),AND(WEEKDAY(FP$4)=7,Samedi),FP$4=férié),0,1)","v":1},{"$f":"IF(OR(AND(WEEKDAY(FQ$4)=1,Dimanche),AND(WEEKDAY(FQ$4)=2,Lundi),AND(WEEKDAY(FQ$4)=3,Mardi),AND(WEEKDAY(FQ$4)=4,Mercredi),AND(WEEKDAY(FQ$4)=5,Jeudi),AND(WEEKDAY(FQ$4)=6,Vendredi),AND(WEEKDAY(FQ$4)=7,Samedi),FQ$4=férié),0,1)","v":1},{"$f":"IF(OR(AND(WEEKDAY(FR$4)=1,Dimanche),AND(WEEKDAY(FR$4)=2,Lundi),AND(WEEKDAY(FR$4)=3,Mardi),AND(WEEKDAY(FR$4)=4,Mercredi),AND(WEEKDAY(FR$4)=5,Jeudi),AND(WEEKDAY(FR$4)=6,Vendredi),AND(WEEKDAY(FR$4)=7,Samedi),FR$4=férié),0,1)","v":1},{"$f":"IF(OR(AND(WEEKDAY(FS$4)=1,Dimanche),AND(WEEKDAY(FS$4)=2,Lundi),AND(WEEKDAY(FS$4)=3,Mardi),AND(WEEKDAY(FS$4)=4,Mercredi),AND(WEEKDAY(FS$4)=5,Jeudi),AND(WEEKDAY(FS$4)=6,Vendredi),AND(WEEKDAY(FS$4)=7,Samedi),FS$4=férié),0,1)","v":1},{"$f":"IF(OR(AND(WEEKDAY(FT$4)=1,Dimanche),AND(WEEKDAY(FT$4)=2,Lundi),AND(WEEKDAY(FT$4)=3,Mardi),AND(WEEKDAY(FT$4)=4,Mercredi),AND(WEEKDAY(FT$4)=5,Jeudi),AND(WEEKDAY(FT$4)=6,Vendredi),AND(WEEKDAY(FT$4)=7,Samedi),FT$4=férié),0,1)","v":1},{"$f":"IF(OR(AND(WEEKDAY(FU$4)=1,Dimanche),AND(WEEKDAY(FU$4)=2,Lundi),AND(WEEKDAY(FU$4)=3,Mardi),AND(WEEKDAY(FU$4)=4,Mercredi),AND(WEEKDAY(FU$4)=5,Jeudi),AND(WEEKDAY(FU$4)=6,Vendredi),AND(WEEKDAY(FU$4)=7,Samedi),FU$4=férié),0,1)","v":0},{"$f":"IF(OR(AND(WEEKDAY(FV$4)=1,Dimanche),AND(WEEKDAY(FV$4)=2,Lundi),AND(WEEKDAY(FV$4)=3,Mardi),AND(WEEKDAY(FV$4)=4,Mercredi),AND(WEEKDAY(FV$4)=5,Jeudi),AND(WEEKDAY(FV$4)=6,Vendredi),AND(WEEKDAY(FV$4)=7,Samedi),FV$4=férié),0,1)","v":0},{"$f":"IF(OR(AND(WEEKDAY(FW$4)=1,Dimanche),AND(WEEKDAY(FW$4)=2,Lundi),AND(WEEKDAY(FW$4)=3,Mardi),AND(WEEKDAY(FW$4)=4,Mercredi),AND(WEEKDAY(FW$4)=5,Jeudi),AND(WEEKDAY(FW$4)=6,Vendredi),AND(WEEKDAY(FW$4)=7,Samedi),FW$4=férié),0,1)","v":1},{"$f":"IF(OR(AND(WEEKDAY(FX$4)=1,Dimanche),AND(WEEKDAY(FX$4)=2,Lundi),AND(WEEKDAY(FX$4)=3,Mardi),AND(WEEKDAY(FX$4)=4,Mercredi),AND(WEEKDAY(FX$4)=5,Jeudi),AND(WEEKDAY(FX$4)=6,Vendredi),AND(WEEKDAY(FX$4)=7,Samedi),FX$4=férié),0,1)","v":1},{"$f":"IF(OR(AND(WEEKDAY(FY$4)=1,Dimanche),AND(WEEKDAY(FY$4)=2,Lundi),AND(WEEKDAY(FY$4)=3,Mardi),AND(WEEKDAY(FY$4)=4,Mercredi),AND(WEEKDAY(FY$4)=5,Jeudi),AND(WEEKDAY(FY$4)=6,Vendredi),AND(WEEKDAY(FY$4)=7,Samedi),FY$4=férié),0,1)","v":1},{"$f":"IF(OR(AND(WEEKDAY(FZ$4)=1,Dimanche),AND(WEEKDAY(FZ$4)=2,Lundi),AND(WEEKDAY(FZ$4)=3,Mardi),AND(WEEKDAY(FZ$4)=4,Mercredi),AND(WEEKDAY(FZ$4)=5,Jeudi),AND(WEEKDAY(FZ$4)=6,Vendredi),AND(WEEKDAY(FZ$4)=7,Samedi),FZ$4=férié),0,1)","v":1},{"$f":"IF(OR(AND(WEEKDAY(GA$4)=1,Dimanche),AND(WEEKDAY(GA$4)=2,Lundi),AND(WEEKDAY(GA$4)=3,Mardi),AND(WEEKDAY(GA$4)=4,Mercredi),AND(WEEKDAY(GA$4)=5,Jeudi),AND(WEEKDAY(GA$4)=6,Vendredi),AND(WEEKDAY(GA$4)=7,Samedi),GA$4=férié),0,1)","v":1},{"$f":"IF(OR(AND(WEEKDAY(GB$4)=1,Dimanche),AND(WEEKDAY(GB$4)=2,Lundi),AND(WEEKDAY(GB$4)=3,Mardi),AND(WEEKDAY(GB$4)=4,Mercredi),AND(WEEKDAY(GB$4)=5,Jeudi),AND(WEEKDAY(GB$4)=6,Vendredi),AND(WEEKDAY(GB$4)=7,Samedi),GB$4=férié),0,1)","v":0},{"$f":"IF(OR(AND(WEEKDAY(GC$4)=1,Dimanche),AND(WEEKDAY(GC$4)=2,Lundi),AND(WEEKDAY(GC$4)=3,Mardi),AND(WEEKDAY(GC$4)=4,Mercredi),AND(WEEKDAY(GC$4)=5,Jeudi),AND(WEEKDAY(GC$4)=6,Vendredi),AND(WEEKDAY(GC$4)=7,Samedi),GC$4=férié),0,1)","v":0},{"$f":"IF(OR(AND(WEEKDAY(GD$4)=1,Dimanche),AND(WEEKDAY(GD$4)=2,Lundi),AND(WEEKDAY(GD$4)=3,Mardi),AND(WEEKDAY(GD$4)=4,Mercredi),AND(WEEKDAY(GD$4)=5,Jeudi),AND(WEEKDAY(GD$4)=6,Vendredi),AND(WEEKDAY(GD$4)=7,Samedi),GD$4=férié),0,1)","v":1},{"$f":"IF(OR(AND(WEEKDAY(GE$4)=1,Dimanche),AND(WEEKDAY(GE$4)=2,Lundi),AND(WEEKDAY(GE$4)=3,Mardi),AND(WEEKDAY(GE$4)=4,Mercredi),AND(WEEKDAY(GE$4)=5,Jeudi),AND(WEEKDAY(GE$4)=6,Vendredi),AND(WEEKDAY(GE$4)=7,Samedi),GE$4=férié),0,1)","v":1},{"$f":"IF(OR(AND(WEEKDAY(GF$4)=1,Dimanche),AND(WEEKDAY(GF$4)=2,Lundi),AND(WEEKDAY(GF$4)=3,Mardi),AND(WEEKDAY(GF$4)=4,Mercredi),AND(WEEKDAY(GF$4)=5,Jeudi),AND(WEEKDAY(GF$4)=6,Vendredi),AND(WEEKDAY(GF$4)=7,Samedi),GF$4=férié),0,1)","v":1},{"$f":"IF(OR(AND(WEEKDAY(GG$4)=1,Dimanche),AND(WEEKDAY(GG$4)=2,Lundi),AND(WEEKDAY(GG$4)=3,Mardi),AND(WEEKDAY(GG$4)=4,Mercredi),AND(WEEKDAY(GG$4)=5,Jeudi),AND(WEEKDAY(GG$4)=6,Vendredi),AND(WEEKDAY(GG$4)=7,Samedi),GG$4=férié),0,1)","v":1},{"$f":"IF(OR(AND(WEEKDAY(GH$4)=1,Dimanche),AND(WEEKDAY(GH$4)=2,Lundi),AND(WEEKDAY(GH$4)=3,Mardi),AND(WEEKDAY(GH$4)=4,Mercredi),AND(WEEKDAY(GH$4)=5,Jeudi),AND(WEEKDAY(GH$4)=6,Vendredi),AND(WEEKDAY(GH$4)=7,Samedi),GH$4=férié),0,1)","v":1},{"$f":"IF(OR(AND(WEEKDAY(GI$4)=1,Dimanche),AND(WEEKDAY(GI$4)=2,Lundi),AND(WEEKDAY(GI$4)=3,Mardi),AND(WEEKDAY(GI$4)=4,Mercredi),AND(WEEKDAY(GI$4)=5,Jeudi),AND(WEEKDAY(GI$4)=6,Vendredi),AND(WEEKDAY(GI$4)=7,Samedi),GI$4=férié),0,1)","v":0},{"$f":"IF(OR(AND(WEEKDAY(GJ$4)=1,Dimanche),AND(WEEKDAY(GJ$4)=2,Lundi),AND(WEEKDAY(GJ$4)=3,Mardi),AND(WEEKDAY(GJ$4)=4,Mercredi),AND(WEEKDAY(GJ$4)=5,Jeudi),AND(WEEKDAY(GJ$4)=6,Vendredi),AND(WEEKDAY(GJ$4)=7,Samedi),GJ$4=férié),0,1)","v":0},{"$f":"IF(OR(AND(WEEKDAY(GK$4)=1,Dimanche),AND(WEEKDAY(GK$4)=2,Lundi),AND(WEEKDAY(GK$4)=3,Mardi),AND(WEEKDAY(GK$4)=4,Mercredi),AND(WEEKDAY(GK$4)=5,Jeudi),AND(WEEKDAY(GK$4)=6,Vendredi),AND(WEEKDAY(GK$4)=7,Samedi),GK$4=férié),0,1)","v":1},{"$f":"IF(OR(AND(WEEKDAY(GL$4)=1,Dimanche),AND(WEEKDAY(GL$4)=2,Lundi),AND(WEEKDAY(GL$4)=3,Mardi),AND(WEEKDAY(GL$4)=4,Mercredi),AND(WEEKDAY(GL$4)=5,Jeudi),AND(WEEKDAY(GL$4)=6,Vendredi),AND(WEEKDAY(GL$4)=7,Samedi),GL$4=férié),0,1)","v":1},{"$f":"IF(OR(AND(WEEKDAY(GM$4)=1,Dimanche),AND(WEEKDAY(GM$4)=2,Lundi),AND(WEEKDAY(GM$4)=3,Mardi),AND(WEEKDAY(GM$4)=4,Mercredi),AND(WEEKDAY(GM$4)=5,Jeudi),AND(WEEKDAY(GM$4)=6,Vendredi),AND(WEEKDAY(GM$4)=7,Samedi),GM$4=férié),0,1)","v":1},{"$f":"IF(OR(AND(WEEKDAY(GN$4)=1,Dimanche),AND(WEEKDAY(GN$4)=2,Lundi),AND(WEEKDAY(GN$4)=3,Mardi),AND(WEEKDAY(GN$4)=4,Mercredi),AND(WEEKDAY(GN$4)=5,Jeudi),AND(WEEKDAY(GN$4)=6,Vendredi),AND(WEEKDAY(GN$4)=7,Samedi),GN$4=férié),0,1)","v":1},{"$f":"IF(OR(AND(WEEKDAY(GO$4)=1,Dimanche),AND(WEEKDAY(GO$4)=2,Lundi),AND(WEEKDAY(GO$4)=3,Mardi),AND(WEEKDAY(GO$4)=4,Mercredi),AND(WEEKDAY(GO$4)=5,Jeudi),AND(WEEKDAY(GO$4)=6,Vendredi),AND(WEEKDAY(GO$4)=7,Samedi),GO$4=férié),0,1)","v":1},{"$f":"IF(OR(AND(WEEKDAY(GP$4)=1,Dimanche),AND(WEEKDAY(GP$4)=2,Lundi),AND(WEEKDAY(GP$4)=3,Mardi),AND(WEEKDAY(GP$4)=4,Mercredi),AND(WEEKDAY(GP$4)=5,Jeudi),AND(WEEKDAY(GP$4)=6,Vendredi),AND(WEEKDAY(GP$4)=7,Samedi),GP$4=férié),0,1)","v":0},{"$f":"IF(OR(AND(WEEKDAY(GQ$4)=1,Dimanche),AND(WEEKDAY(GQ$4)=2,Lundi),AND(WEEKDAY(GQ$4)=3,Mardi),AND(WEEKDAY(GQ$4)=4,Mercredi),AND(WEEKDAY(GQ$4)=5,Jeudi),AND(WEEKDAY(GQ$4)=6,Vendredi),AND(WEEKDAY(GQ$4)=7,Samedi),GQ$4=férié),0,1)","v":0},{"$f":"IF(OR(AND(WEEKDAY(GR$4)=1,Dimanche),AND(WEEKDAY(GR$4)=2,Lundi),AND(WEEKDAY(GR$4)=3,Mardi),AND(WEEKDAY(GR$4)=4,Mercredi),AND(WEEKDAY(GR$4)=5,Jeudi),AND(WEEKDAY(GR$4)=6,Vendredi),AND(WEEKDAY(GR$4)=7,Samedi),GR$4=férié),0,1)","v":1},{"$f":"IF(OR(AND(WEEKDAY(GS$4)=1,Dimanche),AND(WEEKDAY(GS$4)=2,Lundi),AND(WEEKDAY(GS$4)=3,Mardi),AND(WEEKDAY(GS$4)=4,Mercredi),AND(WEEKDAY(GS$4)=5,Jeudi),AND(WEEKDAY(GS$4)=6,Vendredi),AND(WEEKDAY(GS$4)=7,Samedi),GS$4=férié),0,1)","v":1},{"$f":"IF(OR(AND(WEEKDAY(GT$4)=1,Dimanche),AND(WEEKDAY(GT$4)=2,Lundi),AND(WEEKDAY(GT$4)=3,Mardi),AND(WEEKDAY(GT$4)=4,Mercredi),AND(WEEKDAY(GT$4)=5,Jeudi),AND(WEEKDAY(GT$4)=6,Vendredi),AND(WEEKDAY(GT$4)=7,Samedi),GT$4=férié),0,1)","v":1},{"$f":"IF(OR(AND(WEEKDAY(GU$4)=1,Dimanche),AND(WEEKDAY(GU$4)=2,Lundi),AND(WEEKDAY(GU$4)=3,Mardi),AND(WEEKDAY(GU$4)=4,Mercredi),AND(WEEKDAY(GU$4)=5,Jeudi),AND(WEEKDAY(GU$4)=6,Vendredi),AND(WEEKDAY(GU$4)=7,Samedi),GU$4=férié),0,1)","v":1},{"$f":"IF(OR(AND(WEEKDAY(GV$4)=1,Dimanche),AND(WEEKDAY(GV$4)=2,Lundi),AND(WEEKDAY(GV$4)=3,Mardi),AND(WEEKDAY(GV$4)=4,Mercredi),AND(WEEKDAY(GV$4)=5,Jeudi),AND(WEEKDAY(GV$4)=6,Vendredi),AND(WEEKDAY(GV$4)=7,Samedi),GV$4=férié),0,1)","v":0},{"$f":"IF(OR(AND(WEEKDAY(GW$4)=1,Dimanche),AND(WEEKDAY(GW$4)=2,Lundi),AND(WEEKDAY(GW$4)=3,Mardi),AND(WEEKDAY(GW$4)=4,Mercredi),AND(WEEKDAY(GW$4)=5,Jeudi),AND(WEEKDAY(GW$4)=6,Vendredi),AND(WEEKDAY(GW$4)=7,Samedi),GW$4=férié),0,1)","v":0},{"$f":"IF(OR(AND(WEEKDAY(GX$4)=1,Dimanche),AND(WEEKDAY(GX$4)=2,Lundi),AND(WEEKDAY(GX$4)=3,Mardi),AND(WEEKDAY(GX$4)=4,Mercredi),AND(WEEKDAY(GX$4)=5,Jeudi),AND(WEEKDAY(GX$4)=6,Vendredi),AND(WEEKDAY(GX$4)=7,Samedi),GX$4=férié),0,1)","v":0},{"$f":"IF(OR(AND(WEEKDAY(GY$4)=1,Dimanche),AND(WEEKDAY(GY$4)=2,Lundi),AND(WEEKDAY(GY$4)=3,Mardi),AND(WEEKDAY(GY$4)=4,Mercredi),AND(WEEKDAY(GY$4)=5,Jeudi),AND(WEEKDAY(GY$4)=6,Vendredi),AND(WEEKDAY(GY$4)=7,Samedi),GY$4=férié),0,1)","v":1},{"$f":"IF(OR(AND(WEEKDAY(GZ$4)=1,Dimanche),AND(WEEKDAY(GZ$4)=2,Lundi),AND(WEEKDAY(GZ$4)=3,Mardi),AND(WEEKDAY(GZ$4)=4,Mercredi),AND(WEEKDAY(GZ$4)=5,Jeudi),AND(WEEKDAY(GZ$4)=6,Vendredi),AND(WEEKDAY(GZ$4)=7,Samedi),GZ$4=férié),0,1)","v":1},{"$f":"IF(OR(AND(WEEKDAY(HA$4)=1,Dimanche),AND(WEEKDAY(HA$4)=2,Lundi),AND(WEEKDAY(HA$4)=3,Mardi),AND(WEEKDAY(HA$4)=4,Mercredi),AND(WEEKDAY(HA$4)=5,Jeudi),AND(WEEKDAY(HA$4)=6,Vendredi),AND(WEEKDAY(HA$4)=7,Samedi),HA$4=férié),0,1)","v":1},{"$f":"IF(OR(AND(WEEKDAY(HB$4)=1,Dimanche),AND(WEEKDAY(HB$4)=2,Lundi),AND(WEEKDAY(HB$4)=3,Mardi),AND(WEEKDAY(HB$4)=4,Mercredi),AND(WEEKDAY(HB$4)=5,Jeudi),AND(WEEKDAY(HB$4)=6,Vendredi),AND(WEEKDAY(HB$4)=7,Samedi),HB$4=férié),0,1)","v":1},{"$f":"IF(OR(AND(WEEKDAY(HC$4)=1,Dimanche),AND(WEEKDAY(HC$4)=2,Lundi),AND(WEEKDAY(HC$4)=3,Mardi),AND(WEEKDAY(HC$4)=4,Mercredi),AND(WEEKDAY(HC$4)=5,Jeudi),AND(WEEKDAY(HC$4)=6,Vendredi),AND(WEEKDAY(HC$4)=7,Samedi),HC$4=férié),0,1)","v":1},{"$f":"IF(OR(AND(WEEKDAY(HD$4)=1,Dimanche),AND(WEEKDAY(HD$4)=2,Lundi),AND(WEEKDAY(HD$4)=3,Mardi),AND(WEEKDAY(HD$4)=4,Mercredi),AND(WEEKDAY(HD$4)=5,Jeudi),AND(WEEKDAY(HD$4)=6,Vendredi),AND(WEEKDAY(HD$4)=7,Samedi),HD$4=férié),0,1)","v":0},{"$f":"IF(OR(AND(WEEKDAY(HE$4)=1,Dimanche),AND(WEEKDAY(HE$4)=2,Lundi),AND(WEEKDAY(HE$4)=3,Mardi),AND(WEEKDAY(HE$4)=4,Mercredi),AND(WEEKDAY(HE$4)=5,Jeudi),AND(WEEKDAY(HE$4)=6,Vendredi),AND(WEEKDAY(HE$4)=7,Samedi),HE$4=férié),0,1)","v":0},{"$f":"IF(OR(AND(WEEKDAY(HF$4)=1,Dimanche),AND(WEEKDAY(HF$4)=2,Lundi),AND(WEEKDAY(HF$4)=3,Mardi),AND(WEEKDAY(HF$4)=4,Mercredi),AND(WEEKDAY(HF$4)=5,Jeudi),AND(WEEKDAY(HF$4)=6,Vendredi),AND(WEEKDAY(HF$4)=7,Samedi),HF$4=férié),0,1)","v":1},{"$f":"IF(OR(AND(WEEKDAY(HG$4)=1,Dimanche),AND(WEEKDAY(HG$4)=2,Lundi),AND(WEEKDAY(HG$4)=3,Mardi),AND(WEEKDAY(HG$4)=4,Mercredi),AND(WEEKDAY(HG$4)=5,Jeudi),AND(WEEKDAY(HG$4)=6,Vendredi),AND(WEEKDAY(HG$4)=7,Samedi),HG$4=férié),0,1)","v":1},{"$f":"IF(OR(AND(WEEKDAY(HH$4)=1,Dimanche),AND(WEEKDAY(HH$4)=2,Lundi),AND(WEEKDAY(HH$4)=3,Mardi),AND(WEEKDAY(HH$4)=4,Mercredi),AND(WEEKDAY(HH$4)=5,Jeudi),AND(WEEKDAY(HH$4)=6,Vendredi),AND(WEEKDAY(HH$4)=7,Samedi),HH$4=férié),0,1)","v":1},{"$f":"IF(OR(AND(WEEKDAY(HI$4)=1,Dimanche),AND(WEEKDAY(HI$4)=2,Lundi),AND(WEEKDAY(HI$4)=3,Mardi),AND(WEEKDAY(HI$4)=4,Mercredi),AND(WEEKDAY(HI$4)=5,Jeudi),AND(WEEKDAY(HI$4)=6,Vendredi),AND(WEEKDAY(HI$4)=7,Samedi),HI$4=férié),0,1)","v":1},{"$f":"IF(OR(AND(WEEKDAY(HJ$4)=1,Dimanche),AND(WEEKDAY(HJ$4)=2,Lundi),AND(WEEKDAY(HJ$4)=3,Mardi),AND(WEEKDAY(HJ$4)=4,Mercredi),AND(WEEKDAY(HJ$4)=5,Jeudi),AND(WEEKDAY(HJ$4)=6,Vendredi),AND(WEEKDAY(HJ$4)=7,Samedi),HJ$4=férié),0,1)","v":1},{"$f":"IF(OR(AND(WEEKDAY(HK$4)=1,Dimanche),AND(WEEKDAY(HK$4)=2,Lundi),AND(WEEKDAY(HK$4)=3,Mardi),AND(WEEKDAY(HK$4)=4,Mercredi),AND(WEEKDAY(HK$4)=5,Jeudi),AND(WEEKDAY(HK$4)=6,Vendredi),AND(WEEKDAY(HK$4)=7,Samedi),HK$4=férié),0,1)","v":0},{"$f":"IF(OR(AND(WEEKDAY(HL$4)=1,Dimanche),AND(WEEKDAY(HL$4)=2,Lundi),AND(WEEKDAY(HL$4)=3,Mardi),AND(WEEKDAY(HL$4)=4,Mercredi),AND(WEEKDAY(HL$4)=5,Jeudi),AND(WEEKDAY(HL$4)=6,Vendredi),AND(WEEKDAY(HL$4)=7,Samedi),HL$4=férié),0,1)","v":0},{"$f":"IF(OR(AND(WEEKDAY(HM$4)=1,Dimanche),AND(WEEKDAY(HM$4)=2,Lundi),AND(WEEKDAY(HM$4)=3,Mardi),AND(WEEKDAY(HM$4)=4,Mercredi),AND(WEEKDAY(HM$4)=5,Jeudi),AND(WEEKDAY(HM$4)=6,Vendredi),AND(WEEKDAY(HM$4)=7,Samedi),HM$4=férié),0,1)","v":1},{"$f":"IF(OR(AND(WEEKDAY(HN$4)=1,Dimanche),AND(WEEKDAY(HN$4)=2,Lundi),AND(WEEKDAY(HN$4)=3,Mardi),AND(WEEKDAY(HN$4)=4,Mercredi),AND(WEEKDAY(HN$4)=5,Jeudi),AND(WEEKDAY(HN$4)=6,Vendredi),AND(WEEKDAY(HN$4)=7,Samedi),HN$4=férié),0,1)","v":1},{"$f":"IF(OR(AND(WEEKDAY(HO$4)=1,Dimanche),AND(WEEKDAY(HO$4)=2,Lundi),AND(WEEKDAY(HO$4)=3,Mardi),AND(WEEKDAY(HO$4)=4,Mercredi),AND(WEEKDAY(HO$4)=5,Jeudi),AND(WEEKDAY(HO$4)=6,Vendredi),AND(WEEKDAY(HO$4)=7,Samedi),HO$4=férié),0,1)","v":1},{"$f":"IF(OR(AND(WEEKDAY(HP$4)=1,Dimanche),AND(WEEKDAY(HP$4)=2,Lundi),AND(WEEKDAY(HP$4)=3,Mardi),AND(WEEKDAY(HP$4)=4,Mercredi),AND(WEEKDAY(HP$4)=5,Jeudi),AND(WEEKDAY(HP$4)=6,Vendredi),AND(WEEKDAY(HP$4)=7,Samedi),HP$4=férié),0,1)","v":1},{"$f":"IF(OR(AND(WEEKDAY(HQ$4)=1,Dimanche),AND(WEEKDAY(HQ$4)=2,Lundi),AND(WEEKDAY(HQ$4)=3,Mardi),AND(WEEKDAY(HQ$4)=4,Mercredi),AND(WEEKDAY(HQ$4)=5,Jeudi),AND(WEEKDAY(HQ$4)=6,Vendredi),AND(WEEKDAY(HQ$4)=7,Samedi),HQ$4=férié),0,1)","v":1},{"$f":"IF(OR(AND(WEEKDAY(HR$4)=1,Dimanche),AND(WEEKDAY(HR$4)=2,Lundi),AND(WEEKDAY(HR$4)=3,Mardi),AND(WEEKDAY(HR$4)=4,Mercredi),AND(WEEKDAY(HR$4)=5,Jeudi),AND(WEEKDAY(HR$4)=6,Vendredi),AND(WEEKDAY(HR$4)=7,Samedi),HR$4=férié),0,1)","v":0},{"$f":"IF(OR(AND(WEEKDAY(HS$4)=1,Dimanche),AND(WEEKDAY(HS$4)=2,Lundi),AND(WEEKDAY(HS$4)=3,Mardi),AND(WEEKDAY(HS$4)=4,Mercredi),AND(WEEKDAY(HS$4)=5,Jeudi),AND(WEEKDAY(HS$4)=6,Vendredi),AND(WEEKDAY(HS$4)=7,Samedi),HS$4=férié),0,1)","v":0},{"$f":"IF(OR(AND(WEEKDAY(HT$4)=1,Dimanche),AND(WEEKDAY(HT$4)=2,Lundi),AND(WEEKDAY(HT$4)=3,Mardi),AND(WEEKDAY(HT$4)=4,Mercredi),AND(WEEKDAY(HT$4)=5,Jeudi),AND(WEEKDAY(HT$4)=6,Vendredi),AND(WEEKDAY(HT$4)=7,Samedi),HT$4=férié),0,1)","v":1},{"$f":"IF(OR(AND(WEEKDAY(HU$4)=1,Dimanche),AND(WEEKDAY(HU$4)=2,Lundi),AND(WEEKDAY(HU$4)=3,Mardi),AND(WEEKDAY(HU$4)=4,Mercredi),AND(WEEKDAY(HU$4)=5,Jeudi),AND(WEEKDAY(HU$4)=6,Vendredi),AND(WEEKDAY(HU$4)=7,Samedi),HU$4=férié),0,1)","v":1},{"$f":"IF(OR(AND(WEEKDAY(HV$4)=1,Dimanche),AND(WEEKDAY(HV$4)=2,Lundi),AND(WEEKDAY(HV$4)=3,Mardi),AND(WEEKDAY(HV$4)=4,Mercredi),AND(WEEKDAY(HV$4)=5,Jeudi),AND(WEEKDAY(HV$4)=6,Vendredi),AND(WEEKDAY(HV$4)=7,Samedi),HV$4=férié),0,1)","v":1},{"$f":"IF(OR(AND(WEEKDAY(HW$4)=1,Dimanche),AND(WEEKDAY(HW$4)=2,Lundi),AND(WEEKDAY(HW$4)=3,Mardi),AND(WEEKDAY(HW$4)=4,Mercredi),AND(WEEKDAY(HW$4)=5,Jeudi),AND(WEEKDAY(HW$4)=6,Vendredi),AND(WEEKDAY(HW$4)=7,Samedi),HW$4=férié),0,1)","v":1},{"$f":"IF(OR(AND(WEEKDAY(HX$4)=1,Dimanche),AND(WEEKDAY(HX$4)=2,Lundi),AND(WEEKDAY(HX$4)=3,Mardi),AND(WEEKDAY(HX$4)=4,Mercredi),AND(WEEKDAY(HX$4)=5,Jeudi),AND(WEEKDAY(HX$4)=6,Vendredi),AND(WEEKDAY(HX$4)=7,Samedi),HX$4=férié),0,1)","v":1},{"$f":"IF(OR(AND(WEEKDAY(HY$4)=1,Dimanche),AND(WEEKDAY(HY$4)=2,Lundi),AND(WEEKDAY(HY$4)=3,Mardi),AND(WEEKDAY(HY$4)=4,Mercredi),AND(WEEKDAY(HY$4)=5,Jeudi),AND(WEEKDAY(HY$4)=6,Vendredi),AND(WEEKDAY(HY$4)=7,Samedi),HY$4=férié),0,1)","v":0},{"$f":"IF(OR(AND(WEEKDAY(HZ$4)=1,Dimanche),AND(WEEKDAY(HZ$4)=2,Lundi),AND(WEEKDAY(HZ$4)=3,Mardi),AND(WEEKDAY(HZ$4)=4,Mercredi),AND(WEEKDAY(HZ$4)=5,Jeudi),AND(WEEKDAY(HZ$4)=6,Vendredi),AND(WEEKDAY(HZ$4)=7,Samedi),HZ$4=férié),0,1)","v":0},{"$f":"IF(OR(AND(WEEKDAY(IA$4)=1,Dimanche),AND(WEEKDAY(IA$4)=2,Lundi),AND(WEEKDAY(IA$4)=3,Mardi),AND(WEEKDAY(IA$4)=4,Mercredi),AND(WEEKDAY(IA$4)=5,Jeudi),AND(WEEKDAY(IA$4)=6,Vendredi),AND(WEEKDAY(IA$4)=7,Samedi),IA$4=férié),0,1)","v":1},{"$f":"IF(OR(AND(WEEKDAY(IB$4)=1,Dimanche),AND(WEEKDAY(IB$4)=2,Lundi),AND(WEEKDAY(IB$4)=3,Mardi),AND(WEEKDAY(IB$4)=4,Mercredi),AND(WEEKDAY(IB$4)=5,Jeudi),AND(WEEKDAY(IB$4)=6,Vendredi),AND(WEEKDAY(IB$4)=7,Samedi),IB$4=férié),0,1)","v":0},{"$f":"IF(OR(AND(WEEKDAY(IC$4)=1,Dimanche),AND(WEEKDAY(IC$4)=2,Lundi),AND(WEEKDAY(IC$4)=3,Mardi),AND(WEEKDAY(IC$4)=4,Mercredi),AND(WEEKDAY(IC$4)=5,Jeudi),AND(WEEKDAY(IC$4)=6,Vendredi),AND(WEEKDAY(IC$4)=7,Samedi),IC$4=férié),0,1)","v":1},{"$f":"IF(OR(AND(WEEKDAY(ID$4)=1,Dimanche),AND(WEEKDAY(ID$4)=2,Lundi),AND(WEEKDAY(ID$4)=3,Mardi),AND(WEEKDAY(ID$4)=4,Mercredi),AND(WEEKDAY(ID$4)=5,Jeudi),AND(WEEKDAY(ID$4)=6,Vendredi),AND(WEEKDAY(ID$4)=7,Samedi),ID$4=férié),0,1)","v":1},{"$f":"IF(OR(AND(WEEKDAY(IE$4)=1,Dimanche),AND(WEEKDAY(IE$4)=2,Lundi),AND(WEEKDAY(IE$4)=3,Mardi),AND(WEEKDAY(IE$4)=4,Mercredi),AND(WEEKDAY(IE$4)=5,Jeudi),AND(WEEKDAY(IE$4)=6,Vendredi),AND(WEEKDAY(IE$4)=7,Samedi),IE$4=férié),0,1)","v":1},{"$f":"IF(OR(AND(WEEKDAY(IF$4)=1,Dimanche),AND(WEEKDAY(IF$4)=2,Lundi),AND(WEEKDAY(IF$4)=3,Mardi),AND(WEEKDAY(IF$4)=4,Mercredi),AND(WEEKDAY(IF$4)=5,Jeudi),AND(WEEKDAY(IF$4)=6,Vendredi),AND(WEEKDAY(IF$4)=7,Samedi),IF$4=férié),0,1)","v":0},{"$f":"IF(OR(AND(WEEKDAY(IG$4)=1,Dimanche),AND(WEEKDAY(IG$4)=2,Lundi),AND(WEEKDAY(IG$4)=3,Mardi),AND(WEEKDAY(IG$4)=4,Mercredi),AND(WEEKDAY(IG$4)=5,Jeudi),AND(WEEKDAY(IG$4)=6,Vendredi),AND(WEEKDAY(IG$4)=7,Samedi),IG$4=férié),0,1)","v":0},{"$f":"IF(OR(AND(WEEKDAY(IH$4)=1,Dimanche),AND(WEEKDAY(IH$4)=2,Lundi),AND(WEEKDAY(IH$4)=3,Mardi),AND(WEEKDAY(IH$4)=4,Mercredi),AND(WEEKDAY(IH$4)=5,Jeudi),AND(WEEKDAY(IH$4)=6,Vendredi),AND(WEEKDAY(IH$4)=7,Samedi),IH$4=férié),0,1)","v":1},{"$f":"IF(OR(AND(WEEKDAY(II$4)=1,Dimanche),AND(WEEKDAY(II$4)=2,Lundi),AND(WEEKDAY(II$4)=3,Mardi),AND(WEEKDAY(II$4)=4,Mercredi),AND(WEEKDAY(II$4)=5,Jeudi),AND(WEEKDAY(II$4)=6,Vendredi),AND(WEEKDAY(II$4)=7,Samedi),II$4=férié),0,1)","v":1},{"$f":"IF(OR(AND(WEEKDAY(IJ$4)=1,Dimanche),AND(WEEKDAY(IJ$4)=2,Lundi),AND(WEEKDAY(IJ$4)=3,Mardi),AND(WEEKDAY(IJ$4)=4,Mercredi),AND(WEEKDAY(IJ$4)=5,Jeudi),AND(WEEKDAY(IJ$4)=6,Vendredi),AND(WEEKDAY(IJ$4)=7,Samedi),IJ$4=férié),0,1)","v":1},{"$f":"IF(OR(AND(WEEKDAY(IK$4)=1,Dimanche),AND(WEEKDAY(IK$4)=2,Lundi),AND(WEEKDAY(IK$4)=3,Mardi),AND(WEEKDAY(IK$4)=4,Mercredi),AND(WEEKDAY(IK$4)=5,Jeudi),AND(WEEKDAY(IK$4)=6,Vendredi),AND(WEEKDAY(IK$4)=7,Samedi),IK$4=férié),0,1)","v":1},{"$f":"IF(OR(AND(WEEKDAY(IL$4)=1,Dimanche),AND(WEEKDAY(IL$4)=2,Lundi),AND(WEEKDAY(IL$4)=3,Mardi),AND(WEEKDAY(IL$4)=4,Mercredi),AND(WEEKDAY(IL$4)=5,Jeudi),AND(WEEKDAY(IL$4)=6,Vendredi),AND(WEEKDAY(IL$4)=7,Samedi),IL$4=férié),0,1)","v":1},{"$f":"IF(OR(AND(WEEKDAY(IM$4)=1,Dimanche),AND(WEEKDAY(IM$4)=2,Lundi),AND(WEEKDAY(IM$4)=3,Mardi),AND(WEEKDAY(IM$4)=4,Mercredi),AND(WEEKDAY(IM$4)=5,Jeudi),AND(WEEKDAY(IM$4)=6,Vendredi),AND(WEEKDAY(IM$4)=7,Samedi),IM$4=férié),0,1)","v":0},{"$f":"IF(OR(AND(WEEKDAY(IN$4)=1,Dimanche),AND(WEEKDAY(IN$4)=2,Lundi),AND(WEEKDAY(IN$4)=3,Mardi),AND(WEEKDAY(IN$4)=4,Mercredi),AND(WEEKDAY(IN$4)=5,Jeudi),AND(WEEKDAY(IN$4)=6,Vendredi),AND(WEEKDAY(IN$4)=7,Samedi),IN$4=férié),0,1)","v":0},{"$f":"IF(OR(AND(WEEKDAY(IO$4)=1,Dimanche),AND(WEEKDAY(IO$4)=2,Lundi),AND(WEEKDAY(IO$4)=3,Mardi),AND(WEEKDAY(IO$4)=4,Mercredi),AND(WEEKDAY(IO$4)=5,Jeudi),AND(WEEKDAY(IO$4)=6,Vendredi),AND(WEEKDAY(IO$4)=7,Samedi),IO$4=férié),0,1)","v":1},{"$f":"IF(OR(AND(WEEKDAY(IP$4)=1,Dimanche),AND(WEEKDAY(IP$4)=2,Lundi),AND(WEEKDAY(IP$4)=3,Mardi),AND(WEEKDAY(IP$4)=4,Mercredi),AND(WEEKDAY(IP$4)=5,Jeudi),AND(WEEKDAY(IP$4)=6,Vendredi),AND(WEEKDAY(IP$4)=7,Samedi),IP$4=férié),0,1)","v":1},{"$f":"IF(OR(AND(WEEKDAY(IQ$4)=1,Dimanche),AND(WEEKDAY(IQ$4)=2,Lundi),AND(WEEKDAY(IQ$4)=3,Mardi),AND(WEEKDAY(IQ$4)=4,Mercredi),AND(WEEKDAY(IQ$4)=5,Jeudi),AND(WEEKDAY(IQ$4)=6,Vendredi),AND(WEEKDAY(IQ$4)=7,Samedi),IQ$4=férié),0,1)","v":1},{"$f":"IF(OR(AND(WEEKDAY(IR$4)=1,Dimanche),AND(WEEKDAY(IR$4)=2,Lundi),AND(WEEKDAY(IR$4)=3,Mardi),AND(WEEKDAY(IR$4)=4,Mercredi),AND(WEEKDAY(IR$4)=5,Jeudi),AND(WEEKDAY(IR$4)=6,Vendredi),AND(WEEKDAY(IR$4)=7,Samedi),IR$4=férié),0,1)","v":1},{"$f":"IF(OR(AND(WEEKDAY(IS$4)=1,Dimanche),AND(WEEKDAY(IS$4)=2,Lundi),AND(WEEKDAY(IS$4)=3,Mardi),AND(WEEKDAY(IS$4)=4,Mercredi),AND(WEEKDAY(IS$4)=5,Jeudi),AND(WEEKDAY(IS$4)=6,Vendredi),AND(WEEKDAY(IS$4)=7,Samedi),IS$4=férié),0,1)","v":1},{"$f":"IF(OR(AND(WEEKDAY(IT$4)=1,Dimanche),AND(WEEKDAY(IT$4)=2,Lundi),AND(WEEKDAY(IT$4)=3,Mardi),AND(WEEKDAY(IT$4)=4,Mercredi),AND(WEEKDAY(IT$4)=5,Jeudi),AND(WEEKDAY(IT$4)=6,Vendredi),AND(WEEKDAY(IT$4)=7,Samedi),IT$4=férié),0,1)","v":0},{"$f":"IF(OR(AND(WEEKDAY(IU$4)=1,Dimanche),AND(WEEKDAY(IU$4)=2,Lundi),AND(WEEKDAY(IU$4)=3,Mardi),AND(WEEKDAY(IU$4)=4,Mercredi),AND(WEEKDAY(IU$4)=5,Jeudi),AND(WEEKDAY(IU$4)=6,Vendredi),AND(WEEKDAY(IU$4)=7,Samedi),IU$4=férié),0,1)","v":0},{"$f":"IF(OR(AND(WEEKDAY(IV$4)=1,Dimanche),AND(WEEKDAY(IV$4)=2,Lundi),AND(WEEKDAY(IV$4)=3,Mardi),AND(WEEKDAY(IV$4)=4,Mercredi),AND(WEEKDAY(IV$4)=5,Jeudi),AND(WEEKDAY(IV$4)=6,Vendredi),AND(WEEKDAY(IV$4)=7,Samedi),IV$4=férié),0,1)","v":1},{"$f":"IF(OR(AND(WEEKDAY(IW$4)=1,Dimanche),AND(WEEKDAY(IW$4)=2,Lundi),AND(WEEKDAY(IW$4)=3,Mardi),AND(WEEKDAY(IW$4)=4,Mercredi),AND(WEEKDAY(IW$4)=5,Jeudi),AND(WEEKDAY(IW$4)=6,Vendredi),AND(WEEKDAY(IW$4)=7,Samedi),IW$4=férié),0,1)","v":1},{"$f":"IF(OR(AND(WEEKDAY(IX$4)=1,Dimanche),AND(WEEKDAY(IX$4)=2,Lundi),AND(WEEKDAY(IX$4)=3,Mardi),AND(WEEKDAY(IX$4)=4,Mercredi),AND(WEEKDAY(IX$4)=5,Jeudi),AND(WEEKDAY(IX$4)=6,Vendredi),AND(WEEKDAY(IX$4)=7,Samedi),IX$4=férié),0,1)","v":1},{"$f":"IF(OR(AND(WEEKDAY(IY$4)=1,Dimanche),AND(WEEKDAY(IY$4)=2,Lundi),AND(WEEKDAY(IY$4)=3,Mardi),AND(WEEKDAY(IY$4)=4,Mercredi),AND(WEEKDAY(IY$4)=5,Jeudi),AND(WEEKDAY(IY$4)=6,Vendredi),AND(WEEKDAY(IY$4)=7,Samedi),IY$4=férié),0,1)","v":1},{"$f":"IF(OR(AND(WEEKDAY(IZ$4)=1,Dimanche),AND(WEEKDAY(IZ$4)=2,Lundi),AND(WEEKDAY(IZ$4)=3,Mardi),AND(WEEKDAY(IZ$4)=4,Mercredi),AND(WEEKDAY(IZ$4)=5,Jeudi),AND(WEEKDAY(IZ$4)=6,Vendredi),AND(WEEKDAY(IZ$4)=7,Samedi),IZ$4=férié),0,1)","v":1},{"$f":"IF(OR(AND(WEEKDAY(JA$4)=1,Dimanche),AND(WEEKDAY(JA$4)=2,Lundi),AND(WEEKDAY(JA$4)=3,Mardi),AND(WEEKDAY(JA$4)=4,Mercredi),AND(WEEKDAY(JA$4)=5,Jeudi),AND(WEEKDAY(JA$4)=6,Vendredi),AND(WEEKDAY(JA$4)=7,Samedi),JA$4=férié),0,1)","v":0},{"$f":"IF(OR(AND(WEEKDAY(JB$4)=1,Dimanche),AND(WEEKDAY(JB$4)=2,Lundi),AND(WEEKDAY(JB$4)=3,Mardi),AND(WEEKDAY(JB$4)=4,Mercredi),AND(WEEKDAY(JB$4)=5,Jeudi),AND(WEEKDAY(JB$4)=6,Vendredi),AND(WEEKDAY(JB$4)=7,Samedi),JB$4=férié),0,1)","v":0},{"$f":"IF(OR(AND(WEEKDAY(JC$4)=1,Dimanche),AND(WEEKDAY(JC$4)=2,Lundi),AND(WEEKDAY(JC$4)=3,Mardi),AND(WEEKDAY(JC$4)=4,Mercredi),AND(WEEKDAY(JC$4)=5,Jeudi),AND(WEEKDAY(JC$4)=6,Vendredi),AND(WEEKDAY(JC$4)=7,Samedi),JC$4=férié),0,1)","v":1},{"$f":"IF(OR(AND(WEEKDAY(JD$4)=1,Dimanche),AND(WEEKDAY(JD$4)=2,Lundi),AND(WEEKDAY(JD$4)=3,Mardi),AND(WEEKDAY(JD$4)=4,Mercredi),AND(WEEKDAY(JD$4)=5,Jeudi),AND(WEEKDAY(JD$4)=6,Vendredi),AND(WEEKDAY(JD$4)=7,Samedi),JD$4=férié),0,1)","v":1},{"$f":"IF(OR(AND(WEEKDAY(JE$4)=1,Dimanche),AND(WEEKDAY(JE$4)=2,Lundi),AND(WEEKDAY(JE$4)=3,Mardi),AND(WEEKDAY(JE$4)=4,Mercredi),AND(WEEKDAY(JE$4)=5,Jeudi),AND(WEEKDAY(JE$4)=6,Vendredi),AND(WEEKDAY(JE$4)=7,Samedi),JE$4=férié),0,1)","v":1},{"$f":"IF(OR(AND(WEEKDAY(JF$4)=1,Dimanche),AND(WEEKDAY(JF$4)=2,Lundi),AND(WEEKDAY(JF$4)=3,Mardi),AND(WEEKDAY(JF$4)=4,Mercredi),AND(WEEKDAY(JF$4)=5,Jeudi),AND(WEEKDAY(JF$4)=6,Vendredi),AND(WEEKDAY(JF$4)=7,Samedi),JF$4=férié),0,1)","v":1},{"$f":"IF(OR(AND(WEEKDAY(JG$4)=1,Dimanche),AND(WEEKDAY(JG$4)=2,Lundi),AND(WEEKDAY(JG$4)=3,Mardi),AND(WEEKDAY(JG$4)=4,Mercredi),AND(WEEKDAY(JG$4)=5,Jeudi),AND(WEEKDAY(JG$4)=6,Vendredi),AND(WEEKDAY(JG$4)=7,Samedi),JG$4=férié),0,1)","v":1},{"$f":"IF(OR(AND(WEEKDAY(JH$4)=1,Dimanche),AND(WEEKDAY(JH$4)=2,Lundi),AND(WEEKDAY(JH$4)=3,Mardi),AND(WEEKDAY(JH$4)=4,Mercredi),AND(WEEKDAY(JH$4)=5,Jeudi),AND(WEEKDAY(JH$4)=6,Vendredi),AND(WEEKDAY(JH$4)=7,Samedi),JH$4=férié),0,1)","v":0},{"$f":"IF(OR(AND(WEEKDAY(JI$4)=1,Dimanche),AND(WEEKDAY(JI$4)=2,Lundi),AND(WEEKDAY(JI$4)=3,Mardi),AND(WEEKDAY(JI$4)=4,Mercredi),AND(WEEKDAY(JI$4)=5,Jeudi),AND(WEEKDAY(JI$4)=6,Vendredi),AND(WEEKDAY(JI$4)=7,Samedi),JI$4=férié),0,1)","v":0},{"$f":"IF(OR(AND(WEEKDAY(JJ$4)=1,Dimanche),AND(WEEKDAY(JJ$4)=2,Lundi),AND(WEEKDAY(JJ$4)=3,Mardi),AND(WEEKDAY(JJ$4)=4,Mercredi),AND(WEEKDAY(JJ$4)=5,Jeudi),AND(WEEKDAY(JJ$4)=6,Vendredi),AND(WEEKDAY(JJ$4)=7,Samedi),JJ$4=férié),0,1)","v":1},{"$f":"IF(OR(AND(WEEKDAY(JK$4)=1,Dimanche),AND(WEEKDAY(JK$4)=2,Lundi),AND(WEEKDAY(JK$4)=3,Mardi),AND(WEEKDAY(JK$4)=4,Mercredi),AND(WEEKDAY(JK$4)=5,Jeudi),AND(WEEKDAY(JK$4)=6,Vendredi),AND(WEEKDAY(JK$4)=7,Samedi),JK$4=férié),0,1)","v":1},{"$f":"IF(OR(AND(WEEKDAY(JL$4)=1,Dimanche),AND(WEEKDAY(JL$4)=2,Lundi),AND(WEEKDAY(JL$4)=3,Mardi),AND(WEEKDAY(JL$4)=4,Mercredi),AND(WEEKDAY(JL$4)=5,Jeudi),AND(WEEKDAY(JL$4)=6,Vendredi),AND(WEEKDAY(JL$4)=7,Samedi),JL$4=férié),0,1)","v":1},{"$f":"IF(OR(AND(WEEKDAY(JM$4)=1,Dimanche),AND(WEEKDAY(JM$4)=2,Lundi),AND(WEEKDAY(JM$4)=3,Mardi),AND(WEEKDAY(JM$4)=4,Mercredi),AND(WEEKDAY(JM$4)=5,Jeudi),AND(WEEKDAY(JM$4)=6,Vendredi),AND(WEEKDAY(JM$4)=7,Samedi),JM$4=férié),0,1)","v":1},{"$f":"IF(OR(AND(WEEKDAY(JN$4)=1,Dimanche),AND(WEEKDAY(JN$4)=2,Lundi),AND(WEEKDAY(JN$4)=3,Mardi),AND(WEEKDAY(JN$4)=4,Mercredi),AND(WEEKDAY(JN$4)=5,Jeudi),AND(WEEKDAY(JN$4)=6,Vendredi),AND(WEEKDAY(JN$4)=7,Samedi),JN$4=férié),0,1)","v":1},{"$f":"IF(OR(AND(WEEKDAY(JO$4)=1,Dimanche),AND(WEEKDAY(JO$4)=2,Lundi),AND(WEEKDAY(JO$4)=3,Mardi),AND(WEEKDAY(JO$4)=4,Mercredi),AND(WEEKDAY(JO$4)=5,Jeudi),AND(WEEKDAY(JO$4)=6,Vendredi),AND(WEEKDAY(JO$4)=7,Samedi),JO$4=férié),0,1)","v":0},{"$f":"IF(OR(AND(WEEKDAY(JP$4)=1,Dimanche),AND(WEEKDAY(JP$4)=2,Lundi),AND(WEEKDAY(JP$4)=3,Mardi),AND(WEEKDAY(JP$4)=4,Mercredi),AND(WEEKDAY(JP$4)=5,Jeudi),AND(WEEKDAY(JP$4)=6,Vendredi),AND(WEEKDAY(JP$4)=7,Samedi),JP$4=férié),0,1)","v":0},{"$f":"IF(OR(AND(WEEKDAY(JQ$4)=1,Dimanche),AND(WEEKDAY(JQ$4)=2,Lundi),AND(WEEKDAY(JQ$4)=3,Mardi),AND(WEEKDAY(JQ$4)=4,Mercredi),AND(WEEKDAY(JQ$4)=5,Jeudi),AND(WEEKDAY(JQ$4)=6,Vendredi),AND(WEEKDAY(JQ$4)=7,Samedi),JQ$4=férié),0,1)","v":1},{"$f":"IF(OR(AND(WEEKDAY(JR$4)=1,Dimanche),AND(WEEKDAY(JR$4)=2,Lundi),AND(WEEKDAY(JR$4)=3,Mardi),AND(WEEKDAY(JR$4)=4,Mercredi),AND(WEEKDAY(JR$4)=5,Jeudi),AND(WEEKDAY(JR$4)=6,Vendredi),AND(WEEKDAY(JR$4)=7,Samedi),JR$4=férié),0,1)","v":1},{"$f":"IF(OR(AND(WEEKDAY(JS$4)=1,Dimanche),AND(WEEKDAY(JS$4)=2,Lundi),AND(WEEKDAY(JS$4)=3,Mardi),AND(WEEKDAY(JS$4)=4,Mercredi),AND(WEEKDAY(JS$4)=5,Jeudi),AND(WEEKDAY(JS$4)=6,Vendredi),AND(WEEKDAY(JS$4)=7,Samedi),JS$4=férié),0,1)","v":1},{"$f":"IF(OR(AND(WEEKDAY(JT$4)=1,Dimanche),AND(WEEKDAY(JT$4)=2,Lundi),AND(WEEKDAY(JT$4)=3,Mardi),AND(WEEKDAY(JT$4)=4,Mercredi),AND(WEEKDAY(JT$4)=5,Jeudi),AND(WEEKDAY(JT$4)=6,Vendredi),AND(WEEKDAY(JT$4)=7,Samedi),JT$4=férié),0,1)","v":1},{"$f":"IF(OR(AND(WEEKDAY(JU$4)=1,Dimanche),AND(WEEKDAY(JU$4)=2,Lundi),AND(WEEKDAY(JU$4)=3,Mardi),AND(WEEKDAY(JU$4)=4,Mercredi),AND(WEEKDAY(JU$4)=5,Jeudi),AND(WEEKDAY(JU$4)=6,Vendredi),AND(WEEKDAY(JU$4)=7,Samedi),JU$4=férié),0,1)","v":1},{"$f":"IF(OR(AND(WEEKDAY(JV$4)=1,Dimanche),AND(WEEKDAY(JV$4)=2,Lundi),AND(WEEKDAY(JV$4)=3,Mardi),AND(WEEKDAY(JV$4)=4,Mercredi),AND(WEEKDAY(JV$4)=5,Jeudi),AND(WEEKDAY(JV$4)=6,Vendredi),AND(WEEKDAY(JV$4)=7,Samedi),JV$4=férié),0,1)","v":0},{"$f":"IF(OR(AND(WEEKDAY(JW$4)=1,Dimanche),AND(WEEKDAY(JW$4)=2,Lundi),AND(WEEKDAY(JW$4)=3,Mardi),AND(WEEKDAY(JW$4)=4,Mercredi),AND(WEEKDAY(JW$4)=5,Jeudi),AND(WEEKDAY(JW$4)=6,Vendredi),AND(WEEKDAY(JW$4)=7,Samedi),JW$4=férié),0,1)","v":0},{"$f":"IF(OR(AND(WEEKDAY(JX$4)=1,Dimanche),AND(WEEKDAY(JX$4)=2,Lundi),AND(WEEKDAY(JX$4)=3,Mardi),AND(WEEKDAY(JX$4)=4,Mercredi),AND(WEEKDAY(JX$4)=5,Jeudi),AND(WEEKDAY(JX$4)=6,Vendredi),AND(WEEKDAY(JX$4)=7,Samedi),JX$4=férié),0,1)","v":1},{"$f":"IF(OR(AND(WEEKDAY(JY$4)=1,Dimanche),AND(WEEKDAY(JY$4)=2,Lundi),AND(WEEKDAY(JY$4)=3,Mardi),AND(WEEKDAY(JY$4)=4,Mercredi),AND(WEEKDAY(JY$4)=5,Jeudi),AND(WEEKDAY(JY$4)=6,Vendredi),AND(WEEKDAY(JY$4)=7,Samedi),JY$4=férié),0,1)","v":1},{"$f":"IF(OR(AND(WEEKDAY(JZ$4)=1,Dimanche),AND(WEEKDAY(JZ$4)=2,Lundi),AND(WEEKDAY(JZ$4)=3,Mardi),AND(WEEKDAY(JZ$4)=4,Mercredi),AND(WEEKDAY(JZ$4)=5,Jeudi),AND(WEEKDAY(JZ$4)=6,Vendredi),AND(WEEKDAY(JZ$4)=7,Samedi),JZ$4=férié),0,1)","v":1},{"$f":"IF(OR(AND(WEEKDAY(KA$4)=1,Dimanche),AND(WEEKDAY(KA$4)=2,Lundi),AND(WEEKDAY(KA$4)=3,Mardi),AND(WEEKDAY(KA$4)=4,Mercredi),AND(WEEKDAY(KA$4)=5,Jeudi),AND(WEEKDAY(KA$4)=6,Vendredi),AND(WEEKDAY(KA$4)=7,Samedi),KA$4=férié),0,1)","v":1},{"$f":"IF(OR(AND(WEEKDAY(KB$4)=1,Dimanche),AND(WEEKDAY(KB$4)=2,Lundi),AND(WEEKDAY(KB$4)=3,Mardi),AND(WEEKDAY(KB$4)=4,Mercredi),AND(WEEKDAY(KB$4)=5,Jeudi),AND(WEEKDAY(KB$4)=6,Vendredi),AND(WEEKDAY(KB$4)=7,Samedi),KB$4=férié),0,1)","v":1},{"$f":"IF(OR(AND(WEEKDAY(KC$4)=1,Dimanche),AND(WEEKDAY(KC$4)=2,Lundi),AND(WEEKDAY(KC$4)=3,Mardi),AND(WEEKDAY(KC$4)=4,Mercredi),AND(WEEKDAY(KC$4)=5,Jeudi),AND(WEEKDAY(KC$4)=6,Vendredi),AND(WEEKDAY(KC$4)=7,Samedi),KC$4=férié),0,1)","v":0},{"$f":"IF(OR(AND(WEEKDAY(KD$4)=1,Dimanche),AND(WEEKDAY(KD$4)=2,Lundi),AND(WEEKDAY(KD$4)=3,Mardi),AND(WEEKDAY(KD$4)=4,Mercredi),AND(WEEKDAY(KD$4)=5,Jeudi),AND(WEEKDAY(KD$4)=6,Vendredi),AND(WEEKDAY(KD$4)=7,Samedi),KD$4=férié),0,1)","v":0},{"$f":"IF(OR(AND(WEEKDAY(KE$4)=1,Dimanche),AND(WEEKDAY(KE$4)=2,Lundi),AND(WEEKDAY(KE$4)=3,Mardi),AND(WEEKDAY(KE$4)=4,Mercredi),AND(WEEKDAY(KE$4)=5,Jeudi),AND(WEEKDAY(KE$4)=6,Vendredi),AND(WEEKDAY(KE$4)=7,Samedi),KE$4=férié),0,1)","v":1},{"$f":"IF(OR(AND(WEEKDAY(KF$4)=1,Dimanche),AND(WEEKDAY(KF$4)=2,Lundi),AND(WEEKDAY(KF$4)=3,Mardi),AND(WEEKDAY(KF$4)=4,Mercredi),AND(WEEKDAY(KF$4)=5,Jeudi),AND(WEEKDAY(KF$4)=6,Vendredi),AND(WEEKDAY(KF$4)=7,Samedi),KF$4=férié),0,1)","v":1},{"$f":"IF(OR(AND(WEEKDAY(KG$4)=1,Dimanche),AND(WEEKDAY(KG$4)=2,Lundi),AND(WEEKDAY(KG$4)=3,Mardi),AND(WEEKDAY(KG$4)=4,Mercredi),AND(WEEKDAY(KG$4)=5,Jeudi),AND(WEEKDAY(KG$4)=6,Vendredi),AND(WEEKDAY(KG$4)=7,Samedi),KG$4=férié),0,1)","v":1},{"$f":"IF(OR(AND(WEEKDAY(KH$4)=1,Dimanche),AND(WEEKDAY(KH$4)=2,Lundi),AND(WEEKDAY(KH$4)=3,Mardi),AND(WEEKDAY(KH$4)=4,Mercredi),AND(WEEKDAY(KH$4)=5,Jeudi),AND(WEEKDAY(KH$4)=6,Vendredi),AND(WEEKDAY(KH$4)=7,Samedi),KH$4=férié),0,1)","v":1},{"$f":"IF(OR(AND(WEEKDAY(KI$4)=1,Dimanche),AND(WEEKDAY(KI$4)=2,Lundi),AND(WEEKDAY(KI$4)=3,Mardi),AND(WEEKDAY(KI$4)=4,Mercredi),AND(WEEKDAY(KI$4)=5,Jeudi),AND(WEEKDAY(KI$4)=6,Vendredi),AND(WEEKDAY(KI$4)=7,Samedi),KI$4=férié),0,1)","v":1},{"$f":"IF(OR(AND(WEEKDAY(KJ$4)=1,Dimanche),AND(WEEKDAY(KJ$4)=2,Lundi),AND(WEEKDAY(KJ$4)=3,Mardi),AND(WEEKDAY(KJ$4)=4,Mercredi),AND(WEEKDAY(KJ$4)=5,Jeudi),AND(WEEKDAY(KJ$4)=6,Vendredi),AND(WEEKDAY(KJ$4)=7,Samedi),KJ$4=férié),0,1)","v":0},{"$f":"IF(OR(AND(WEEKDAY(KK$4)=1,Dimanche),AND(WEEKDAY(KK$4)=2,Lundi),AND(WEEKDAY(KK$4)=3,Mardi),AND(WEEKDAY(KK$4)=4,Mercredi),AND(WEEKDAY(KK$4)=5,Jeudi),AND(WEEKDAY(KK$4)=6,Vendredi),AND(WEEKDAY(KK$4)=7,Samedi),KK$4=férié),0,1)","v":0},{"$f":"IF(OR(AND(WEEKDAY(KL$4)=1,Dimanche),AND(WEEKDAY(KL$4)=2,Lundi),AND(WEEKDAY(KL$4)=3,Mardi),AND(WEEKDAY(KL$4)=4,Mercredi),AND(WEEKDAY(KL$4)=5,Jeudi),AND(WEEKDAY(KL$4)=6,Vendredi),AND(WEEKDAY(KL$4)=7,Samedi),KL$4=férié),0,1)","v":1},{"$f":"IF(OR(AND(WEEKDAY(KM$4)=1,Dimanche),AND(WEEKDAY(KM$4)=2,Lundi),AND(WEEKDAY(KM$4)=3,Mardi),AND(WEEKDAY(KM$4)=4,Mercredi),AND(WEEKDAY(KM$4)=5,Jeudi),AND(WEEKDAY(KM$4)=6,Vendredi),AND(WEEKDAY(KM$4)=7,Samedi),KM$4=férié),0,1)","v":1},{"$f":"IF(OR(AND(WEEKDAY(KN$4)=1,Dimanche),AND(WEEKDAY(KN$4)=2,Lundi),AND(WEEKDAY(KN$4)=3,Mardi),AND(WEEKDAY(KN$4)=4,Mercredi),AND(WEEKDAY(KN$4)=5,Jeudi),AND(WEEKDAY(KN$4)=6,Vendredi),AND(WEEKDAY(KN$4)=7,Samedi),KN$4=férié),0,1)","v":1},{"$f":"IF(OR(AND(WEEKDAY(KO$4)=1,Dimanche),AND(WEEKDAY(KO$4)=2,Lundi),AND(WEEKDAY(KO$4)=3,Mardi),AND(WEEKDAY(KO$4)=4,Mercredi),AND(WEEKDAY(KO$4)=5,Jeudi),AND(WEEKDAY(KO$4)=6,Vendredi),AND(WEEKDAY(KO$4)=7,Samedi),KO$4=férié),0,1)","v":1},{"$f":"IF(OR(AND(WEEKDAY(KP$4)=1,Dimanche),AND(WEEKDAY(KP$4)=2,Lundi),AND(WEEKDAY(KP$4)=3,Mardi),AND(WEEKDAY(KP$4)=4,Mercredi),AND(WEEKDAY(KP$4)=5,Jeudi),AND(WEEKDAY(KP$4)=6,Vendredi),AND(WEEKDAY(KP$4)=7,Samedi),KP$4=férié),0,1)","v":1},{"$f":"IF(OR(AND(WEEKDAY(KQ$4)=1,Dimanche),AND(WEEKDAY(KQ$4)=2,Lundi),AND(WEEKDAY(KQ$4)=3,Mardi),AND(WEEKDAY(KQ$4)=4,Mercredi),AND(WEEKDAY(KQ$4)=5,Jeudi),AND(WEEKDAY(KQ$4)=6,Vendredi),AND(WEEKDAY(KQ$4)=7,Samedi),KQ$4=férié),0,1)","v":0},{"$f":"IF(OR(AND(WEEKDAY(KR$4)=1,Dimanche),AND(WEEKDAY(KR$4)=2,Lundi),AND(WEEKDAY(KR$4)=3,Mardi),AND(WEEKDAY(KR$4)=4,Mercredi),AND(WEEKDAY(KR$4)=5,Jeudi),AND(WEEKDAY(KR$4)=6,Vendredi),AND(WEEKDAY(KR$4)=7,Samedi),KR$4=férié),0,1)","v":0},{"$f":"IF(OR(AND(WEEKDAY(KS$4)=1,Dimanche),AND(WEEKDAY(KS$4)=2,Lundi),AND(WEEKDAY(KS$4)=3,Mardi),AND(WEEKDAY(KS$4)=4,Mercredi),AND(WEEKDAY(KS$4)=5,Jeudi),AND(WEEKDAY(KS$4)=6,Vendredi),AND(WEEKDAY(KS$4)=7,Samedi),KS$4=férié),0,1)","v":1},{"$f":"IF(OR(AND(WEEKDAY(KT$4)=1,Dimanche),AND(WEEKDAY(KT$4)=2,Lundi),AND(WEEKDAY(KT$4)=3,Mardi),AND(WEEKDAY(KT$4)=4,Mercredi),AND(WEEKDAY(KT$4)=5,Jeudi),AND(WEEKDAY(KT$4)=6,Vendredi),AND(WEEKDAY(KT$4)=7,Samedi),KT$4=férié),0,1)","v":1},{"$f":"IF(OR(AND(WEEKDAY(KU$4)=1,Dimanche),AND(WEEKDAY(KU$4)=2,Lundi),AND(WEEKDAY(KU$4)=3,Mardi),AND(WEEKDAY(KU$4)=4,Mercredi),AND(WEEKDAY(KU$4)=5,Jeudi),AND(WEEKDAY(KU$4)=6,Vendredi),AND(WEEKDAY(KU$4)=7,Samedi),KU$4=férié),0,1)","v":1},{"$f":"IF(OR(AND(WEEKDAY(KV$4)=1,Dimanche),AND(WEEKDAY(KV$4)=2,Lundi),AND(WEEKDAY(KV$4)=3,Mardi),AND(WEEKDAY(KV$4)=4,Mercredi),AND(WEEKDAY(KV$4)=5,Jeudi),AND(WEEKDAY(KV$4)=6,Vendredi),AND(WEEKDAY(KV$4)=7,Samedi),KV$4=férié),0,1)","v":1},{"$f":"IF(OR(AND(WEEKDAY(KW$4)=1,Dimanche),AND(WEEKDAY(KW$4)=2,Lundi),AND(WEEKDAY(KW$4)=3,Mardi),AND(WEEKDAY(KW$4)=4,Mercredi),AND(WEEKDAY(KW$4)=5,Jeudi),AND(WEEKDAY(KW$4)=6,Vendredi),AND(WEEKDAY(KW$4)=7,Samedi),KW$4=férié),0,1)","v":1},{"$f":"IF(OR(AND(WEEKDAY(KX$4)=1,Dimanche),AND(WEEKDAY(KX$4)=2,Lundi),AND(WEEKDAY(KX$4)=3,Mardi),AND(WEEKDAY(KX$4)=4,Mercredi),AND(WEEKDAY(KX$4)=5,Jeudi),AND(WEEKDAY(KX$4)=6,Vendredi),AND(WEEKDAY(KX$4)=7,Samedi),KX$4=férié),0,1)","v":0},{"$f":"IF(OR(AND(WEEKDAY(KY$4)=1,Dimanche),AND(WEEKDAY(KY$4)=2,Lundi),AND(WEEKDAY(KY$4)=3,Mardi),AND(WEEKDAY(KY$4)=4,Mercredi),AND(WEEKDAY(KY$4)=5,Jeudi),AND(WEEKDAY(KY$4)=6,Vendredi),AND(WEEKDAY(KY$4)=7,Samedi),KY$4=férié),0,1)","v":0},{"$f":"IF(OR(AND(WEEKDAY(KZ$4)=1,Dimanche),AND(WEEKDAY(KZ$4)=2,Lundi),AND(WEEKDAY(KZ$4)=3,Mardi),AND(WEEKDAY(KZ$4)=4,Mercredi),AND(WEEKDAY(KZ$4)=5,Jeudi),AND(WEEKDAY(KZ$4)=6,Vendredi),AND(WEEKDAY(KZ$4)=7,Samedi),KZ$4=férié),0,1)","v":1},{"$f":"IF(OR(AND(WEEKDAY(LA$4)=1,Dimanche),AND(WEEKDAY(LA$4)=2,Lundi),AND(WEEKDAY(LA$4)=3,Mardi),AND(WEEKDAY(LA$4)=4,Mercredi),AND(WEEKDAY(LA$4)=5,Jeudi),AND(WEEKDAY(LA$4)=6,Vendredi),AND(WEEKDAY(LA$4)=7,Samedi),LA$4=férié),0,1)","v":1},{"$f":"IF(OR(AND(WEEKDAY(LB$4)=1,Dimanche),AND(WEEKDAY(LB$4)=2,Lundi),AND(WEEKDAY(LB$4)=3,Mardi),AND(WEEKDAY(LB$4)=4,Mercredi),AND(WEEKDAY(LB$4)=5,Jeudi),AND(WEEKDAY(LB$4)=6,Vendredi),AND(WEEKDAY(LB$4)=7,Samedi),LB$4=férié),0,1)","v":0},{"$f":"IF(OR(AND(WEEKDAY(LC$4)=1,Dimanche),AND(WEEKDAY(LC$4)=2,Lundi),AND(WEEKDAY(LC$4)=3,Mardi),AND(WEEKDAY(LC$4)=4,Mercredi),AND(WEEKDAY(LC$4)=5,Jeudi),AND(WEEKDAY(LC$4)=6,Vendredi),AND(WEEKDAY(LC$4)=7,Samedi),LC$4=férié),0,1)","v":1},{"$f":"IF(OR(AND(WEEKDAY(LD$4)=1,Dimanche),AND(WEEKDAY(LD$4)=2,Lundi),AND(WEEKDAY(LD$4)=3,Mardi),AND(WEEKDAY(LD$4)=4,Mercredi),AND(WEEKDAY(LD$4)=5,Jeudi),AND(WEEKDAY(LD$4)=6,Vendredi),AND(WEEKDAY(LD$4)=7,Samedi),LD$4=férié),0,1)","v":1},{"$f":"IF(OR(AND(WEEKDAY(LE$4)=1,Dimanche),AND(WEEKDAY(LE$4)=2,Lundi),AND(WEEKDAY(LE$4)=3,Mardi),AND(WEEKDAY(LE$4)=4,Mercredi),AND(WEEKDAY(LE$4)=5,Jeudi),AND(WEEKDAY(LE$4)=6,Vendredi),AND(WEEKDAY(LE$4)=7,Samedi),LE$4=férié),0,1)","v":0},{"$f":"IF(OR(AND(WEEKDAY(LF$4)=1,Dimanche),AND(WEEKDAY(LF$4)=2,Lundi),AND(WEEKDAY(LF$4)=3,Mardi),AND(WEEKDAY(LF$4)=4,Mercredi),AND(WEEKDAY(LF$4)=5,Jeudi),AND(WEEKDAY(LF$4)=6,Vendredi),AND(WEEKDAY(LF$4)=7,Samedi),LF$4=férié),0,1)","v":0},{"$f":"IF(OR(AND(WEEKDAY(LG$4)=1,Dimanche),AND(WEEKDAY(LG$4)=2,Lundi),AND(WEEKDAY(LG$4)=3,Mardi),AND(WEEKDAY(LG$4)=4,Mercredi),AND(WEEKDAY(LG$4)=5,Jeudi),AND(WEEKDAY(LG$4)=6,Vendredi),AND(WEEKDAY(LG$4)=7,Samedi),LG$4=férié),0,1)","v":1},{"$f":"IF(OR(AND(WEEKDAY(LH$4)=1,Dimanche),AND(WEEKDAY(LH$4)=2,Lundi),AND(WEEKDAY(LH$4)=3,Mardi),AND(WEEKDAY(LH$4)=4,Mercredi),AND(WEEKDAY(LH$4)=5,Jeudi),AND(WEEKDAY(LH$4)=6,Vendredi),AND(WEEKDAY(LH$4)=7,Samedi),LH$4=férié),0,1)","v":1},{"$f":"IF(OR(AND(WEEKDAY(LI$4)=1,Dimanche),AND(WEEKDAY(LI$4)=2,Lundi),AND(WEEKDAY(LI$4)=3,Mardi),AND(WEEKDAY(LI$4)=4,Mercredi),AND(WEEKDAY(LI$4)=5,Jeudi),AND(WEEKDAY(LI$4)=6,Vendredi),AND(WEEKDAY(LI$4)=7,Samedi),LI$4=férié),0,1)","v":1},{"$f":"IF(OR(AND(WEEKDAY(LJ$4)=1,Dimanche),AND(WEEKDAY(LJ$4)=2,Lundi),AND(WEEKDAY(LJ$4)=3,Mardi),AND(WEEKDAY(LJ$4)=4,Mercredi),AND(WEEKDAY(LJ$4)=5,Jeudi),AND(WEEKDAY(LJ$4)=6,Vendredi),AND(WEEKDAY(LJ$4)=7,Samedi),LJ$4=férié),0,1)","v":1},{"$f":"IF(OR(AND(WEEKDAY(LK$4)=1,Dimanche),AND(WEEKDAY(LK$4)=2,Lundi),AND(WEEKDAY(LK$4)=3,Mardi),AND(WEEKDAY(LK$4)=4,Mercredi),AND(WEEKDAY(LK$4)=5,Jeudi),AND(WEEKDAY(LK$4)=6,Vendredi),AND(WEEKDAY(LK$4)=7,Samedi),LK$4=férié),0,1)","v":1},{"$f":"IF(OR(AND(WEEKDAY(LL$4)=1,Dimanche),AND(WEEKDAY(LL$4)=2,Lundi),AND(WEEKDAY(LL$4)=3,Mardi),AND(WEEKDAY(LL$4)=4,Mercredi),AND(WEEKDAY(LL$4)=5,Jeudi),AND(WEEKDAY(LL$4)=6,Vendredi),AND(WEEKDAY(LL$4)=7,Samedi),LL$4=férié),0,1)","v":0},{"$f":"IF(OR(AND(WEEKDAY(LM$4)=1,Dimanche),AND(WEEKDAY(LM$4)=2,Lundi),AND(WEEKDAY(LM$4)=3,Mardi),AND(WEEKDAY(LM$4)=4,Mercredi),AND(WEEKDAY(LM$4)=5,Jeudi),AND(WEEKDAY(LM$4)=6,Vendredi),AND(WEEKDAY(LM$4)=7,Samedi),LM$4=férié),0,1)","v":0},{"$f":"IF(OR(AND(WEEKDAY(LN$4)=1,Dimanche),AND(WEEKDAY(LN$4)=2,Lundi),AND(WEEKDAY(LN$4)=3,Mardi),AND(WEEKDAY(LN$4)=4,Mercredi),AND(WEEKDAY(LN$4)=5,Jeudi),AND(WEEKDAY(LN$4)=6,Vendredi),AND(WEEKDAY(LN$4)=7,Samedi),LN$4=férié),0,1)","v":1},{"$f":"IF(OR(AND(WEEKDAY(LO$4)=1,Dimanche),AND(WEEKDAY(LO$4)=2,Lundi),AND(WEEKDAY(LO$4)=3,Mardi),AND(WEEKDAY(LO$4)=4,Mercredi),AND(WEEKDAY(LO$4)=5,Jeudi),AND(WEEKDAY(LO$4)=6,Vendredi),AND(WEEKDAY(LO$4)=7,Samedi),LO$4=férié),0,1)","v":1},{"$f":"IF(OR(AND(WEEKDAY(LP$4)=1,Dimanche),AND(WEEKDAY(LP$4)=2,Lundi),AND(WEEKDAY(LP$4)=3,Mardi),AND(WEEKDAY(LP$4)=4,Mercredi),AND(WEEKDAY(LP$4)=5,Jeudi),AND(WEEKDAY(LP$4)=6,Vendredi),AND(WEEKDAY(LP$4)=7,Samedi),LP$4=férié),0,1)","v":1},{"$f":"IF(OR(AND(WEEKDAY(LQ$4)=1,Dimanche),AND(WEEKDAY(LQ$4)=2,Lundi),AND(WEEKDAY(LQ$4)=3,Mardi),AND(WEEKDAY(LQ$4)=4,Mercredi),AND(WEEKDAY(LQ$4)=5,Jeudi),AND(WEEKDAY(LQ$4)=6,Vendredi),AND(WEEKDAY(LQ$4)=7,Samedi),LQ$4=férié),0,1)","v":1},{"$f":"IF(OR(AND(WEEKDAY(LR$4)=1,Dimanche),AND(WEEKDAY(LR$4)=2,Lundi),AND(WEEKDAY(LR$4)=3,Mardi),AND(WEEKDAY(LR$4)=4,Mercredi),AND(WEEKDAY(LR$4)=5,Jeudi),AND(WEEKDAY(LR$4)=6,Vendredi),AND(WEEKDAY(LR$4)=7,Samedi),LR$4=férié),0,1)","v":1},{"$f":"IF(OR(AND(WEEKDAY(LS$4)=1,Dimanche),AND(WEEKDAY(LS$4)=2,Lundi),AND(WEEKDAY(LS$4)=3,Mardi),AND(WEEKDAY(LS$4)=4,Mercredi),AND(WEEKDAY(LS$4)=5,Jeudi),AND(WEEKDAY(LS$4)=6,Vendredi),AND(WEEKDAY(LS$4)=7,Samedi),LS$4=férié),0,1)","v":0},{"$f":"IF(OR(AND(WEEKDAY(LT$4)=1,Dimanche),AND(WEEKDAY(LT$4)=2,Lundi),AND(WEEKDAY(LT$4)=3,Mardi),AND(WEEKDAY(LT$4)=4,Mercredi),AND(WEEKDAY(LT$4)=5,Jeudi),AND(WEEKDAY(LT$4)=6,Vendredi),AND(WEEKDAY(LT$4)=7,Samedi),LT$4=férié),0,1)","v":0},{"$f":"IF(OR(AND(WEEKDAY(LU$4)=1,Dimanche),AND(WEEKDAY(LU$4)=2,Lundi),AND(WEEKDAY(LU$4)=3,Mardi),AND(WEEKDAY(LU$4)=4,Mercredi),AND(WEEKDAY(LU$4)=5,Jeudi),AND(WEEKDAY(LU$4)=6,Vendredi),AND(WEEKDAY(LU$4)=7,Samedi),LU$4=férié),0,1)","v":1},{"$f":"IF(OR(AND(WEEKDAY(LV$4)=1,Dimanche),AND(WEEKDAY(LV$4)=2,Lundi),AND(WEEKDAY(LV$4)=3,Mardi),AND(WEEKDAY(LV$4)=4,Mercredi),AND(WEEKDAY(LV$4)=5,Jeudi),AND(WEEKDAY(LV$4)=6,Vendredi),AND(WEEKDAY(LV$4)=7,Samedi),LV$4=férié),0,1)","v":1},{"$f":"IF(OR(AND(WEEKDAY(LW$4)=1,Dimanche),AND(WEEKDAY(LW$4)=2,Lundi),AND(WEEKDAY(LW$4)=3,Mardi),AND(WEEKDAY(LW$4)=4,Mercredi),AND(WEEKDAY(LW$4)=5,Jeudi),AND(WEEKDAY(LW$4)=6,Vendredi),AND(WEEKDAY(LW$4)=7,Samedi),LW$4=férié),0,1)","v":1},{"$f":"IF(OR(AND(WEEKDAY(LX$4)=1,Dimanche),AND(WEEKDAY(LX$4)=2,Lundi),AND(WEEKDAY(LX$4)=3,Mardi),AND(WEEKDAY(LX$4)=4,Mercredi),AND(WEEKDAY(LX$4)=5,Jeudi),AND(WEEKDAY(LX$4)=6,Vendredi),AND(WEEKDAY(LX$4)=7,Samedi),LX$4=férié),0,1)","v":1},{"$f":"IF(OR(AND(WEEKDAY(LY$4)=1,Dimanche),AND(WEEKDAY(LY$4)=2,Lundi),AND(WEEKDAY(LY$4)=3,Mardi),AND(WEEKDAY(LY$4)=4,Mercredi),AND(WEEKDAY(LY$4)=5,Jeudi),AND(WEEKDAY(LY$4)=6,Vendredi),AND(WEEKDAY(LY$4)=7,Samedi),LY$4=férié),0,1)","v":1},{"$f":"IF(OR(AND(WEEKDAY(LZ$4)=1,Dimanche),AND(WEEKDAY(LZ$4)=2,Lundi),AND(WEEKDAY(LZ$4)=3,Mardi),AND(WEEKDAY(LZ$4)=4,Mercredi),AND(WEEKDAY(LZ$4)=5,Jeudi),AND(WEEKDAY(LZ$4)=6,Vendredi),AND(WEEKDAY(LZ$4)=7,Samedi),LZ$4=férié),0,1)","v":0},{"$f":"IF(OR(AND(WEEKDAY(MA$4)=1,Dimanche),AND(WEEKDAY(MA$4)=2,Lundi),AND(WEEKDAY(MA$4)=3,Mardi),AND(WEEKDAY(MA$4)=4,Mercredi),AND(WEEKDAY(MA$4)=5,Jeudi),AND(WEEKDAY(MA$4)=6,Vendredi),AND(WEEKDAY(MA$4)=7,Samedi),MA$4=férié),0,1)","v":0},{"$f":"IF(OR(AND(WEEKDAY(MB$4)=1,Dimanche),AND(WEEKDAY(MB$4)=2,Lundi),AND(WEEKDAY(MB$4)=3,Mardi),AND(WEEKDAY(MB$4)=4,Mercredi),AND(WEEKDAY(MB$4)=5,Jeudi),AND(WEEKDAY(MB$4)=6,Vendredi),AND(WEEKDAY(MB$4)=7,Samedi),MB$4=férié),0,1)","v":1},{"$f":"IF(OR(AND(WEEKDAY(MC$4)=1,Dimanche),AND(WEEKDAY(MC$4)=2,Lundi),AND(WEEKDAY(MC$4)=3,Mardi),AND(WEEKDAY(MC$4)=4,Mercredi),AND(WEEKDAY(MC$4)=5,Jeudi),AND(WEEKDAY(MC$4)=6,Vendredi),AND(WEEKDAY(MC$4)=7,Samedi),MC$4=férié),0,1)","v":1},{"$f":"IF(OR(AND(WEEKDAY(MD$4)=1,Dimanche),AND(WEEKDAY(MD$4)=2,Lundi),AND(WEEKDAY(MD$4)=3,Mardi),AND(WEEKDAY(MD$4)=4,Mercredi),AND(WEEKDAY(MD$4)=5,Jeudi),AND(WEEKDAY(MD$4)=6,Vendredi),AND(WEEKDAY(MD$4)=7,Samedi),MD$4=férié),0,1)","v":1},{"$f":"IF(OR(AND(WEEKDAY(ME$4)=1,Dimanche),AND(WEEKDAY(ME$4)=2,Lundi),AND(WEEKDAY(ME$4)=3,Mardi),AND(WEEKDAY(ME$4)=4,Mercredi),AND(WEEKDAY(ME$4)=5,Jeudi),AND(WEEKDAY(ME$4)=6,Vendredi),AND(WEEKDAY(ME$4)=7,Samedi),ME$4=férié),0,1)","v":1},{"$f":"IF(OR(AND(WEEKDAY(MF$4)=1,Dimanche),AND(WEEKDAY(MF$4)=2,Lundi),AND(WEEKDAY(MF$4)=3,Mardi),AND(WEEKDAY(MF$4)=4,Mercredi),AND(WEEKDAY(MF$4)=5,Jeudi),AND(WEEKDAY(MF$4)=6,Vendredi),AND(WEEKDAY(MF$4)=7,Samedi),MF$4=férié),0,1)","v":1},{"$f":"IF(OR(AND(WEEKDAY(MG$4)=1,Dimanche),AND(WEEKDAY(MG$4)=2,Lundi),AND(WEEKDAY(MG$4)=3,Mardi),AND(WEEKDAY(MG$4)=4,Mercredi),AND(WEEKDAY(MG$4)=5,Jeudi),AND(WEEKDAY(MG$4)=6,Vendredi),AND(WEEKDAY(MG$4)=7,Samedi),MG$4=férié),0,1)","v":0},{"$f":"IF(OR(AND(WEEKDAY(MH$4)=1,Dimanche),AND(WEEKDAY(MH$4)=2,Lundi),AND(WEEKDAY(MH$4)=3,Mardi),AND(WEEKDAY(MH$4)=4,Mercredi),AND(WEEKDAY(MH$4)=5,Jeudi),AND(WEEKDAY(MH$4)=6,Vendredi),AND(WEEKDAY(MH$4)=7,Samedi),MH$4=férié),0,1)","v":0},{"$f":"IF(OR(AND(WEEKDAY(MI$4)=1,Dimanche),AND(WEEKDAY(MI$4)=2,Lundi),AND(WEEKDAY(MI$4)=3,Mardi),AND(WEEKDAY(MI$4)=4,Mercredi),AND(WEEKDAY(MI$4)=5,Jeudi),AND(WEEKDAY(MI$4)=6,Vendredi),AND(WEEKDAY(MI$4)=7,Samedi),MI$4=férié),0,1)","v":1},{"$f":"IF(OR(AND(WEEKDAY(MJ$4)=1,Dimanche),AND(WEEKDAY(MJ$4)=2,Lundi),AND(WEEKDAY(MJ$4)=3,Mardi),AND(WEEKDAY(MJ$4)=4,Mercredi),AND(WEEKDAY(MJ$4)=5,Jeudi),AND(WEEKDAY(MJ$4)=6,Vendredi),AND(WEEKDAY(MJ$4)=7,Samedi),MJ$4=férié),0,1)","v":1},{"$f":"IF(OR(AND(WEEKDAY(MK$4)=1,Dimanche),AND(WEEKDAY(MK$4)=2,Lundi),AND(WEEKDAY(MK$4)=3,Mardi),AND(WEEKDAY(MK$4)=4,Mercredi),AND(WEEKDAY(MK$4)=5,Jeudi),AND(WEEKDAY(MK$4)=6,Vendredi),AND(WEEKDAY(MK$4)=7,Samedi),MK$4=férié),0,1)","v":1},{"$f":"IF(OR(AND(WEEKDAY(ML$4)=1,Dimanche),AND(WEEKDAY(ML$4)=2,Lundi),AND(WEEKDAY(ML$4)=3,Mardi),AND(WEEKDAY(ML$4)=4,Mercredi),AND(WEEKDAY(ML$4)=5,Jeudi),AND(WEEKDAY(ML$4)=6,Vendredi),AND(WEEKDAY(ML$4)=7,Samedi),ML$4=férié),0,1)","v":1},{"$f":"IF(OR(AND(WEEKDAY(MM$4)=1,Dimanche),AND(WEEKDAY(MM$4)=2,Lundi),AND(WEEKDAY(MM$4)=3,Mardi),AND(WEEKDAY(MM$4)=4,Mercredi),AND(WEEKDAY(MM$4)=5,Jeudi),AND(WEEKDAY(MM$4)=6,Vendredi),AND(WEEKDAY(MM$4)=7,Samedi),MM$4=férié),0,1)","v":1},{"$f":"IF(OR(AND(WEEKDAY(MN$4)=1,Dimanche),AND(WEEKDAY(MN$4)=2,Lundi),AND(WEEKDAY(MN$4)=3,Mardi),AND(WEEKDAY(MN$4)=4,Mercredi),AND(WEEKDAY(MN$4)=5,Jeudi),AND(WEEKDAY(MN$4)=6,Vendredi),AND(WEEKDAY(MN$4)=7,Samedi),MN$4=férié),0,1)","v":0},{"$f":"IF(OR(AND(WEEKDAY(MO$4)=1,Dimanche),AND(WEEKDAY(MO$4)=2,Lundi),AND(WEEKDAY(MO$4)=3,Mardi),AND(WEEKDAY(MO$4)=4,Mercredi),AND(WEEKDAY(MO$4)=5,Jeudi),AND(WEEKDAY(MO$4)=6,Vendredi),AND(WEEKDAY(MO$4)=7,Samedi),MO$4=férié),0,1)","v":0},{"$f":"IF(OR(AND(WEEKDAY(MP$4)=1,Dimanche),AND(WEEKDAY(MP$4)=2,Lundi),AND(WEEKDAY(MP$4)=3,Mardi),AND(WEEKDAY(MP$4)=4,Mercredi),AND(WEEKDAY(MP$4)=5,Jeudi),AND(WEEKDAY(MP$4)=6,Vendredi),AND(WEEKDAY(MP$4)=7,Samedi),MP$4=férié),0,1)","v":1},{"$f":"IF(OR(AND(WEEKDAY(MQ$4)=1,Dimanche),AND(WEEKDAY(MQ$4)=2,Lundi),AND(WEEKDAY(MQ$4)=3,Mardi),AND(WEEKDAY(MQ$4)=4,Mercredi),AND(WEEKDAY(MQ$4)=5,Jeudi),AND(WEEKDAY(MQ$4)=6,Vendredi),AND(WEEKDAY(MQ$4)=7,Samedi),MQ$4=férié),0,1)","v":1},{"$f":"IF(OR(AND(WEEKDAY(MR$4)=1,Dimanche),AND(WEEKDAY(MR$4)=2,Lundi),AND(WEEKDAY(MR$4)=3,Mardi),AND(WEEKDAY(MR$4)=4,Mercredi),AND(WEEKDAY(MR$4)=5,Jeudi),AND(WEEKDAY(MR$4)=6,Vendredi),AND(WEEKDAY(MR$4)=7,Samedi),MR$4=férié),0,1)","v":1},{"$f":"IF(OR(AND(WEEKDAY(MS$4)=1,Dimanche),AND(WEEKDAY(MS$4)=2,Lundi),AND(WEEKDAY(MS$4)=3,Mardi),AND(WEEKDAY(MS$4)=4,Mercredi),AND(WEEKDAY(MS$4)=5,Jeudi),AND(WEEKDAY(MS$4)=6,Vendredi),AND(WEEKDAY(MS$4)=7,Samedi),MS$4=férié),0,1)","v":1},{"$f":"IF(OR(AND(WEEKDAY(MT$4)=1,Dimanche),AND(WEEKDAY(MT$4)=2,Lundi),AND(WEEKDAY(MT$4)=3,Mardi),AND(WEEKDAY(MT$4)=4,Mercredi),AND(WEEKDAY(MT$4)=5,Jeudi),AND(WEEKDAY(MT$4)=6,Vendredi),AND(WEEKDAY(MT$4)=7,Samedi),MT$4=férié),0,1)","v":1},{"$f":"IF(OR(AND(WEEKDAY(MU$4)=1,Dimanche),AND(WEEKDAY(MU$4)=2,Lundi),AND(WEEKDAY(MU$4)=3,Mardi),AND(WEEKDAY(MU$4)=4,Mercredi),AND(WEEKDAY(MU$4)=5,Jeudi),AND(WEEKDAY(MU$4)=6,Vendredi),AND(WEEKDAY(MU$4)=7,Samedi),MU$4=férié),0,1)","v":0},{"$f":"IF(OR(AND(WEEKDAY(MV$4)=1,Dimanche),AND(WEEKDAY(MV$4)=2,Lundi),AND(WEEKDAY(MV$4)=3,Mardi),AND(WEEKDAY(MV$4)=4,Mercredi),AND(WEEKDAY(MV$4)=5,Jeudi),AND(WEEKDAY(MV$4)=6,Vendredi),AND(WEEKDAY(MV$4)=7,Samedi),MV$4=férié),0,1)","v":0},{"$f":"IF(OR(AND(WEEKDAY(MW$4)=1,Dimanche),AND(WEEKDAY(MW$4)=2,Lundi),AND(WEEKDAY(MW$4)=3,Mardi),AND(WEEKDAY(MW$4)=4,Mercredi),AND(WEEKDAY(MW$4)=5,Jeudi),AND(WEEKDAY(MW$4)=6,Vendredi),AND(WEEKDAY(MW$4)=7,Samedi),MW$4=férié),0,1)","v":1},{"$f":"IF(OR(AND(WEEKDAY(MX$4)=1,Dimanche),AND(WEEKDAY(MX$4)=2,Lundi),AND(WEEKDAY(MX$4)=3,Mardi),AND(WEEKDAY(MX$4)=4,Mercredi),AND(WEEKDAY(MX$4)=5,Jeudi),AND(WEEKDAY(MX$4)=6,Vendredi),AND(WEEKDAY(MX$4)=7,Samedi),MX$4=férié),0,1)","v":1},{"$f":"IF(OR(AND(WEEKDAY(MY$4)=1,Dimanche),AND(WEEKDAY(MY$4)=2,Lundi),AND(WEEKDAY(MY$4)=3,Mardi),AND(WEEKDAY(MY$4)=4,Mercredi),AND(WEEKDAY(MY$4)=5,Jeudi),AND(WEEKDAY(MY$4)=6,Vendredi),AND(WEEKDAY(MY$4)=7,Samedi),MY$4=férié),0,1)","v":1},{"$f":"IF(OR(AND(WEEKDAY(MZ$4)=1,Dimanche),AND(WEEKDAY(MZ$4)=2,Lundi),AND(WEEKDAY(MZ$4)=3,Mardi),AND(WEEKDAY(MZ$4)=4,Mercredi),AND(WEEKDAY(MZ$4)=5,Jeudi),AND(WEEKDAY(MZ$4)=6,Vendredi),AND(WEEKDAY(MZ$4)=7,Samedi),MZ$4=férié),0,1)","v":1},{"$f":"IF(OR(AND(WEEKDAY(NA$4)=1,Dimanche),AND(WEEKDAY(NA$4)=2,Lundi),AND(WEEKDAY(NA$4)=3,Mardi),AND(WEEKDAY(NA$4)=4,Mercredi),AND(WEEKDAY(NA$4)=5,Jeudi),AND(WEEKDAY(NA$4)=6,Vendredi),AND(WEEKDAY(NA$4)=7,Samedi),NA$4=férié),0,1)","v":1},{"$f":"IF(OR(AND(WEEKDAY(NB$4)=1,Dimanche),AND(WEEKDAY(NB$4)=2,Lundi),AND(WEEKDAY(NB$4)=3,Mardi),AND(WEEKDAY(NB$4)=4,Mercredi),AND(WEEKDAY(NB$4)=5,Jeudi),AND(WEEKDAY(NB$4)=6,Vendredi),AND(WEEKDAY(NB$4)=7,Samedi),NB$4=férié),0,1)","v":0},{"$f":"IF(OR(AND(WEEKDAY(NC$4)=1,Dimanche),AND(WEEKDAY(NC$4)=2,Lundi),AND(WEEKDAY(NC$4)=3,Mardi),AND(WEEKDAY(NC$4)=4,Mercredi),AND(WEEKDAY(NC$4)=5,Jeudi),AND(WEEKDAY(NC$4)=6,Vendredi),AND(WEEKDAY(NC$4)=7,Samedi),NC$4=férié),0,1)","v":0},{"$f":"IF(OR(AND(WEEKDAY(ND$4)=1,Dimanche),AND(WEEKDAY(ND$4)=2,Lundi),AND(WEEKDAY(ND$4)=3,Mardi),AND(WEEKDAY(ND$4)=4,Mercredi),AND(WEEKDAY(ND$4)=5,Jeudi),AND(WEEKDAY(ND$4)=6,Vendredi),AND(WEEKDAY(ND$4)=7,Samedi),ND$4=férié),0,1)","v":0},{"$f":"IF(OR(AND(WEEKDAY(NE$4)=1,Dimanche),AND(WEEKDAY(NE$4)=2,Lundi),AND(WEEKDAY(NE$4)=3,Mardi),AND(WEEKDAY(NE$4)=4,Mercredi),AND(WEEKDAY(NE$4)=5,Jeudi),AND(WEEKDAY(NE$4)=6,Vendredi),AND(WEEKDAY(NE$4)=7,Samedi),NE$4=férié),0,1)","v":1},{"$f":"IF(OR(AND(WEEKDAY(NF$4)=1,Dimanche),AND(WEEKDAY(NF$4)=2,Lundi),AND(WEEKDAY(NF$4)=3,Mardi),AND(WEEKDAY(NF$4)=4,Mercredi),AND(WEEKDAY(NF$4)=5,Jeudi),AND(WEEKDAY(NF$4)=6,Vendredi),AND(WEEKDAY(NF$4)=7,Samedi),NF$4=férié),0,1)","v":1},{"$f":"IF(OR(AND(WEEKDAY(NG$4)=1,Dimanche),AND(WEEKDAY(NG$4)=2,Lundi),AND(WEEKDAY(NG$4)=3,Mardi),AND(WEEKDAY(NG$4)=4,Mercredi),AND(WEEKDAY(NG$4)=5,Jeudi),AND(WEEKDAY(NG$4)=6,Vendredi),AND(WEEKDAY(NG$4)=7,Samedi),NG$4=férié),0,1)","v":1},{"$f":"IF(OR(AND(WEEKDAY(NH$4)=1,Dimanche),AND(WEEKDAY(NH$4)=2,Lundi),AND(WEEKDAY(NH$4)=3,Mardi),AND(WEEKDAY(NH$4)=4,Mercredi),AND(WEEKDAY(NH$4)=5,Jeudi),AND(WEEKDAY(NH$4)=6,Vendredi),AND(WEEKDAY(NH$4)=7,Samedi),NH$4=férié),0,1)","v":1},{"$f":"IF(OR(AND(WEEKDAY(NI$4)=1,Dimanche),AND(WEEKDAY(NI$4)=2,Lundi),AND(WEEKDAY(NI$4)=3,Mardi),AND(WEEKDAY(NI$4)=4,Mercredi),AND(WEEKDAY(NI$4)=5,Jeudi),AND(WEEKDAY(NI$4)=6,Vendredi),AND(WEEKDAY(NI$4)=7,Samedi),NI$4=férié),0,1)","v":0},{"$f":"IF(OR(AND(WEEKDAY(NJ$4)=1,Dimanche),AND(WEEKDAY(NJ$4)=2,Lundi),AND(WEEKDAY(NJ$4)=3,Mardi),AND(WEEKDAY(NJ$4)=4,Mercredi),AND(WEEKDAY(NJ$4)=5,Jeudi),AND(WEEKDAY(NJ$4)=6,Vendredi),AND(WEEKDAY(NJ$4)=7,Samedi),NJ$4=férié),0,1)","v":0},{"$f":"IF(OR(AND(WEEKDAY(NK$4)=1,Dimanche),AND(WEEKDAY(NK$4)=2,Lundi),AND(WEEKDAY(NK$4)=3,Mardi),AND(WEEKDAY(NK$4)=4,Mercredi),AND(WEEKDAY(NK$4)=5,Jeudi),AND(WEEKDAY(NK$4)=6,Vendredi),AND(WEEKDAY(NK$4)=7,Samedi),NK$4=férié),0,1)","v":0},{"$f":"IF(OR(AND(WEEKDAY(NL$4)=1,Dimanche),AND(WEEKDAY(NL$4)=2,Lundi),AND(WEEKDAY(NL$4)=3,Mardi),AND(WEEKDAY(NL$4)=4,Mercredi),AND(WEEKDAY(NL$4)=5,Jeudi),AND(WEEKDAY(NL$4)=6,Vendredi),AND(WEEKDAY(NL$4)=7,Samedi),NL$4=férié),0,1)","v":1},{"$f":"IF(OR(AND(WEEKDAY(NM$4)=1,Dimanche),AND(WEEKDAY(NM$4)=2,Lundi),AND(WEEKDAY(NM$4)=3,Mardi),AND(WEEKDAY(NM$4)=4,Mercredi),AND(WEEKDAY(NM$4)=5,Jeudi),AND(WEEKDAY(NM$4)=6,Vendredi),AND(WEEKDAY(NM$4)=7,Samedi),NM$4=férié),0,1)","v":1},{"$f":"IF(OR(AND(WEEKDAY(NN$4)=1,Dimanche),AND(WEEKDAY(NN$4)=2,Lundi),AND(WEEKDAY(NN$4)=3,Mardi),AND(WEEKDAY(NN$4)=4,Mercredi),AND(WEEKDAY(NN$4)=5,Jeudi),AND(WEEKDAY(NN$4)=6,Vendredi),AND(WEEKDAY(NN$4)=7,Samedi),NN$4=férié),0,1)","v":1},{"$f":"IF(OR(AND(WEEKDAY(NO$4)=1,Dimanche),AND(WEEKDAY(NO$4)=2,Lundi),AND(WEEKDAY(NO$4)=3,Mardi),AND(WEEKDAY(NO$4)=4,Mercredi),AND(WEEKDAY(NO$4)=5,Jeudi),AND(WEEKDAY(NO$4)=6,Vendredi),AND(WEEKDAY(NO$4)=7,Samedi),NO$4=férié),0,1)","v":1},{"$f":"IF(OR(AND(WEEKDAY(NP$4)=1,Dimanche),AND(WEEKDAY(NP$4)=2,Lundi),AND(WEEKDAY(NP$4)=3,Mardi),AND(WEEKDAY(NP$4)=4,Mercredi),AND(WEEKDAY(NP$4)=5,Jeudi),AND(WEEKDAY(NP$4)=6,Vendredi),AND(WEEKDAY(NP$4)=7,Samedi),NP$4=férié),0,1)","v":0},{"$f":"IF(OR(AND(WEEKDAY(NQ$4)=1,Dimanche),AND(WEEKDAY(NQ$4)=2,Lundi),AND(WEEKDAY(NQ$4)=3,Mardi),AND(WEEKDAY(NQ$4)=4,Mercredi),AND(WEEKDAY(NQ$4)=5,Jeudi),AND(WEEKDAY(NQ$4)=6,Vendredi),AND(WEEKDAY(NQ$4)=7,Samedi),NQ$4=férié),0,1)","v":0},{"$f":"IF(OR(AND(WEEKDAY(NR$4)=1,Dimanche),AND(WEEKDAY(NR$4)=2,Lundi),AND(WEEKDAY(NR$4)=3,Mardi),AND(WEEKDAY(NR$4)=4,Mercredi),AND(WEEKDAY(NR$4)=5,Jeudi),AND(WEEKDAY(NR$4)=6,Vendredi),AND(WEEKDAY(NR$4)=7,Samedi),NR$4=férié),0,1)","v":1},{"$f":"IF(OR(AND(WEEKDAY(NS$4)=1,Dimanche),AND(WEEKDAY(NS$4)=2,Lundi),AND(WEEKDAY(NS$4)=3,Mardi),AND(WEEKDAY(NS$4)=4,Mercredi),AND(WEEKDAY(NS$4)=5,Jeudi),AND(WEEKDAY(NS$4)=6,Vendredi),AND(WEEKDAY(NS$4)=7,Samedi),NS$4=férié),0,1)","v":1},{"$f":"IF(OR(AND(WEEKDAY(NT$4)=1,Dimanche),AND(WEEKDAY(NT$4)=2,Lundi),AND(WEEKDAY(NT$4)=3,Mardi),AND(WEEKDAY(NT$4)=4,Mercredi),AND(WEEKDAY(NT$4)=5,Jeudi),AND(WEEKDAY(NT$4)=6,Vendredi),AND(WEEKDAY(NT$4)=7,Samedi),NT$4=férié),0,1)","v":1},{"$f":"IF(OR(AND(WEEKDAY(NU$4)=1,Dimanche),AND(WEEKDAY(NU$4)=2,Lundi),AND(WEEKDAY(NU$4)=3,Mardi),AND(WEEKDAY(NU$4)=4,Mercredi),AND(WEEKDAY(NU$4)=5,Jeudi),AND(WEEKDAY(NU$4)=6,Vendredi),AND(WEEKDAY(NU$4)=7,Samedi),NU$4=férié),0,1)","v":1},{"$f":"IF(OR(AND(WEEKDAY(NV$4)=1,Dimanche),AND(WEEKDAY(NV$4)=2,Lundi),AND(WEEKDAY(NV$4)=3,Mardi),AND(WEEKDAY(NV$4)=4,Mercredi),AND(WEEKDAY(NV$4)=5,Jeudi),AND(WEEKDAY(NV$4)=6,Vendredi),AND(WEEKDAY(NV$4)=7,Samedi),NV$4=férié),0,1)","v":1},{"$f":"IF(OR(AND(WEEKDAY(NW$4)=1,Dimanche),AND(WEEKDAY(NW$4)=2,Lundi),AND(WEEKDAY(NW$4)=3,Mardi),AND(WEEKDAY(NW$4)=4,Mercredi),AND(WEEKDAY(NW$4)=5,Jeudi),AND(WEEKDAY(NW$4)=6,Vendredi),AND(WEEKDAY(NW$4)=7,Samedi),NW$4=férié),0,1)","v":0},{"$f":"IF(OR(AND(WEEKDAY(NX$4)=1,Dimanche),AND(WEEKDAY(NX$4)=2,Lundi),AND(WEEKDAY(NX$4)=3,Mardi),AND(WEEKDAY(NX$4)=4,Mercredi),AND(WEEKDAY(NX$4)=5,Jeudi),AND(WEEKDAY(NX$4)=6,Vendredi),AND(WEEKDAY(NX$4)=7,Samedi),NX$4=férié),0,1)","v":0}]
[null,null,null,{"$f":"\"Semaine \"&TEXT(INT(MOD(INT((D4-2)/7)+0.6,52+5/28))+1,\"00\")","v":"Semaine 52"},null,null,null,null,null,null,{"$f":"\"Semaine \"&TEXT(INT(MOD(INT((K4-2)/7)+0.6,52+5/28))+1,\"00\")","v":"Semaine 01"},null,null,null,null,null,null,{"$f":"\"Semaine \"&TEXT(INT(MOD(INT((R4-2)/7)+0.6,52+5/28))+1,\"00\")","v":"Semaine 02"},null,null,null,null,null,null,{"$f":"\"Semaine \"&TEXT(INT(MOD(INT((Y4-2)/7)+0.6,52+5/28))+1,\"00\")","v":"Semaine 03"},null,null,null,null,null,null,{"$f":"\"Semaine \"&TEXT(INT(MOD(INT((AF4-2)/7)+0.6,52+5/28))+1,\"00\")","v":"Semaine 04"},null,null,null,null,null,null,{"$f":"\"Semaine \"&TEXT(INT(MOD(INT((AM4-2)/7)+0.6,52+5/28))+1,\"00\")","v":"Semaine 05"},null,null,null,null,null,null,{"$f":"\"Semaine \"&TEXT(INT(MOD(INT((AT4-2)/7)+0.6,52+5/28))+1,\"00\")","v":"Semaine 06"},null,null,null,null,null,null,{"$f":"\"Semaine \"&TEXT(INT(MOD(INT((BA4-2)/7)+0.6,52+5/28))+1,\"00\")","v":"Semaine 07"},null,null,null,null,null,null,{"$f":"\"Semaine \"&TEXT(INT(MOD(INT((BH4-2)/7)+0.6,52+5/28))+1,\"00\")","v":"Semaine 08"},null,null,null,null,null,null,{"$f":"\"Semaine \"&TEXT(INT(MOD(INT((BO4-2)/7)+0.6,52+5/28))+1,\"00\")","v":"Semaine 09"},null,null,null,null,null,null,{"$f":"\"Semaine \"&TEXT(INT(MOD(INT((BV4-2)/7)+0.6,52+5/28))+1,\"00\")","v":"Semaine 10"},null,null,null,null,null,null,{"$f":"\"Semaine \"&TEXT(INT(MOD(INT((CC4-2)/7)+0.6,52+5/28))+1,\"00\")","v":"Semaine 11"},null,null,null,null,null,null,{"$f":"\"Semaine \"&TEXT(INT(MOD(INT((CJ4-2)/7)+0.6,52+5/28))+1,\"00\")","v":"Semaine 12"},null,null,null,null,null,null,{"$f":"\"Semaine \"&TEXT(INT(MOD(INT((CQ4-2)/7)+0.6,52+5/28))+1,\"00\")","v":"Semaine 13"},null,null,null,null,null,null,{"$f":"\"Semaine \"&TEXT(INT(MOD(INT((CX4-2)/7)+0.6,52+5/28))+1,\"00\")","v":"Semaine 14"},null,null,null,null,null,null,{"$f":"\"Semaine \"&TEXT(INT(MOD(INT((DE4-2)/7)+0.6,52+5/28))+1,\"00\")","v":"Semaine 15"},null,null,null,null,null,null,{"$f":"\"Semaine \"&TEXT(INT(MOD(INT((DL4-2)/7)+0.6,52+5/28))+1,\"00\")","v":"Semaine 16"},null,null,null,null,null,null,{"$f":"\"Semaine \"&TEXT(INT(MOD(INT((DS4-2)/7)+0.6,52+5/28))+1,\"00\")","v":"Semaine 17"},null,null,null,null,null,null,{"$f":"\"Semaine \"&TEXT(INT(MOD(INT((DZ4-2)/7)+0.6,52+5/28))+1,\"00\")","v":"Semaine 18"},null,null,null,null,null,null,{"$f":"\"Semaine \"&TEXT(INT(MOD(INT((EG4-2)/7)+0.6,52+5/28))+1,\"00\")","v":"Semaine 19"},null,null,null,null,null,null,{"$f":"\"Semaine \"&TEXT(INT(MOD(INT((EN4-2)/7)+0.6,52+5/28))+1,\"00\")","v":"Semaine 20"},null,null,null,null,null,null,{"$f":"\"Semaine \"&TEXT(INT(MOD(INT((EU4-2)/7)+0.6,52+5/28))+1,\"00\")","v":"Semaine 21"},null,null,null,null,null,null,{"$f":"\"Semaine \"&TEXT(INT(MOD(INT((FB4-2)/7)+0.6,52+5/28))+1,\"00\")","v":"Semaine 22"},null,null,null,null,null,null,{"$f":"\"Semaine \"&TEXT(INT(MOD(INT((FI4-2)/7)+0.6,52+5/28))+1,\"00\")","v":"Semaine 23"},null,null,null,null,null,null,{"$f":"\"Semaine \"&TEXT(INT(MOD(INT((FP4-2)/7)+0.6,52+5/28))+1,\"00\")","v":"Semaine 24"},null,null,null,null,null,null,{"$f":"\"Semaine \"&TEXT(INT(MOD(INT((FW4-2)/7)+0.6,52+5/28))+1,\"00\")","v":"Semaine 25"},null,null,null,null,null,null,{"$f":"\"Semaine \"&TEXT(INT(MOD(INT((GD4-2)/7)+0.6,52+5/28))+1,\"00\")","v":"Semaine 26"},null,null,null,null,null,null,{"$f":"\"Semaine \"&TEXT(INT(MOD(INT((GK4-2)/7)+0.6,52+5/28))+1,\"00\")","v":"Semaine 27"},null,null,null,null,null,null,{"$f":"\"Semaine \"&TEXT(INT(MOD(INT((GR4-2)/7)+0.6,52+5/28))+1,\"00\")","v":"Semaine 28"},null,null,null,null,null,null,{"$f":"\"Semaine \"&TEXT(INT(MOD(INT((GY4-2)/7)+0.6,52+5/28))+1,\"00\")","v":"Semaine 29"},null,null,null,null,null,null,{"$f":"\"Semaine \"&TEXT(INT(MOD(INT((HF4-2)/7)+0.6,52+5/28))+1,\"00\")","v":"Semaine 30"},null,null,null,null,null,null,{"$f":"\"Semaine \"&TEXT(INT(MOD(INT((HM4-2)/7)+0.6,52+5/28))+1,\"00\")","v":"Semaine 31"},null,null,null,null,null,null,{"$f":"\"Semaine \"&TEXT(INT(MOD(INT((HT4-2)/7)+0.6,52+5/28))+1,\"00\")","v":"Semaine 32"},null,null,null,null,null,null,{"$f":"\"Semaine \"&TEXT(INT(MOD(INT((IA4-2)/7)+0.6,52+5/28))+1,\"00\")","v":"Semaine 33"},null,null,null,null,null,null,{"$f":"\"Semaine \"&TEXT(INT(MOD(INT((IH4-2)/7)+0.6,52+5/28))+1,\"00\")","v":"Semaine 34"},null,null,null,null,null,null,{"$f":"\"Semaine \"&TEXT(INT(MOD(INT((IO4-2)/7)+0.6,52+5/28))+1,\"00\")","v":"Semaine 35"},null,null,null,null,null,null,{"$f":"\"Semaine \"&TEXT(INT(MOD(INT((IV4-2)/7)+0.6,52+5/28))+1,\"00\")","v":"Semaine 36"},null,null,null,null,null,null,{"$f":"\"Semaine \"&TEXT(INT(MOD(INT((JC4-2)/7)+0.6,52+5/28))+1,\"00\")","v":"Semaine 37"},null,null,null,null,null,null,{"$f":"\"Semaine \"&TEXT(INT(MOD(INT((JJ4-2)/7)+0.6,52+5/28))+1,\"00\")","v":"Semaine 38"},null,null,null,null,null,null,{"$f":"\"Semaine \"&TEXT(INT(MOD(INT((JQ4-2)/7)+0.6,52+5/28))+1,\"00\")","v":"Semaine 39"},null,null,null,null,null,null,{"$f":"\"Semaine \"&TEXT(INT(MOD(INT((JX4-2)/7)+0.6,52+5/28))+1,\"00\")","v":"Semaine 40"},null,null,null,null,null,null,{"$f":"\"Semaine \"&TEXT(INT(MOD(INT((KE4-2)/7)+0.6,52+5/28))+1,\"00\")","v":"Semaine 41"},null,null,null,null,null,null,{"$f":"\"Semaine \"&TEXT(INT(MOD(INT((KL4-2)/7)+0.6,52+5/28))+1,\"00\")","v":"Semaine 42"},null,null,null,null,null,null,{"$f":"\"Semaine \"&TEXT(INT(MOD(INT((KS4-2)/7)+0.6,52+5/28))+1,\"00\")","v":"Semaine 43"},null,null,null,null,null,null,{"$f":"\"Semaine \"&TEXT(INT(MOD(INT((KZ4-2)/7)+0.6,52+5/28))+1,\"00\")","v":"Semaine 44"},null,null,null,null,null,null,{"$f":"\"Semaine \"&TEXT(INT(MOD(INT((LG4-2)/7)+0.6,52+5/28))+1,\"00\")","v":"Semaine 45"},null,null,null,null,null,null,{"$f":"\"Semaine \"&TEXT(INT(MOD(INT((LN4-2)/7)+0.6,52+5/28))+1,\"00\")","v":"Semaine 46"},null,null,null,null,null,null,{"$f":"\"Semaine \"&TEXT(INT(MOD(INT((LU4-2)/7)+0.6,52+5/28))+1,\"00\")","v":"Semaine 47"},null,null,null,null,null,null,{"$f":"\"Semaine \"&TEXT(INT(MOD(INT((MB4-2)/7)+0.6,52+5/28))+1,\"00\")","v":"Semaine 48"},null,null,null,null,null,null,{"$f":"\"Semaine \"&TEXT(INT(MOD(INT((MI4-2)/7)+0.6,52+5/28))+1,\"00\")","v":"Semaine 49"},null,null,null,null,null,null,{"$f":"\"Semaine \"&TEXT(INT(MOD(INT((MP4-2)/7)+0.6,52+5/28))+1,\"00\")","v":"Semaine 50"},null,null,null,null,null,null,{"$f":"\"Semaine \"&TEXT(INT(MOD(INT((MW4-2)/7)+0.6,52+5/28))+1,\"00\")","v":"Semaine 51"},null,null,null,null,null,null,{"$f":"\"Semaine \"&TEXT(INT(MOD(INT((ND4-2)/7)+0.6,52+5/28))+1,\"00\")","v":"Semaine 52"},null,null,null,null,null,null,{"$f":"\"Semaine \"&TEXT(INT(MOD(INT((NK4-2)/7)+0.6,52+5/28))+1,\"00\")","v":"Semaine 01"},null,null,null,null,null,null,{"$f":"\"Semaine \"&TEXT(INT(MOD(INT((NR4-2)/7)+0.6,52+5/28))+1,\"00\")","v":"Semaine 02"}]
[null,null,null,"Lundi","Mardi","Mercredi","Jeudi","Vendredi","Samedi","Dimanche","Lundi","Mardi","Mercredi","Jeudi","Vendredi","Samedi","Dimanche","Lundi","Mardi","Mercredi","Jeudi","Vendredi","Samedi","Dimanche","Lundi","Mardi","Mercredi","Jeudi","Vendredi","Samedi","Dimanche","Lundi","Mardi","Mercredi","Jeudi","Vendredi","Samedi","Dimanche","Lundi","Mardi","Mercredi","Jeudi","Vendredi","Samedi","Dimanche","Lundi","Mardi","Mercredi","Jeudi","Vendredi","Samedi","Dimanche","Lundi","Mardi","Mercredi","Jeudi","Vendredi","Samedi","Dimanche","Lundi","Mardi","Mercredi","Jeudi","Vendredi","Samedi","Dimanche","Lundi","Mardi","Mercredi","Jeudi","Vendredi","Samedi","Dimanche","Lundi","Mardi","Mercredi","Jeudi","Vendredi","Samedi","Dimanche","Lundi","Mardi","Mercredi","Jeudi","Vendredi","Samedi","Dimanche","Lundi","Mardi","Mercredi","Jeudi","Vendredi","Samedi","Dimanche","Lundi","Mardi","Mercredi","Jeudi","Vendredi","Samedi","Dimanche","Lundi","Mardi","Mercredi","Jeudi","Vendredi","Samedi","Dimanche","Lundi","Mardi","Mercredi","Jeudi","Vendredi","Samedi","Dimanche","Lundi","Mardi","Mercredi","Jeudi","Vendredi","Samedi","Dimanche","Lundi","Mardi","Mercredi","Jeudi","Vendredi","Samedi","Dimanche","Lundi","Mardi","Mercredi","Jeudi","Vendredi","Samedi","Dimanche","Lundi","Mardi","Mercredi","Jeudi","Vendredi","Samedi","Dimanche","Lundi","Mardi","Mercredi","Jeudi","Vendredi","Samedi","Dimanche","Lundi","Mardi","Mercredi","Jeudi","Vendredi","Samedi","Dimanche","Lundi","Mardi","Mercredi","Jeudi","Vendredi","Samedi","Dimanche","Lundi","Mardi","Mercredi","Jeudi","Vendredi","Samedi","Dimanche","Lundi","Mardi","Mercredi","Jeudi","Vendredi","Samedi","Dimanche","Lundi","Mardi","Mercredi","Jeudi","Vendredi","Samedi","Dimanche","Lundi","Mardi","Mercredi","Jeudi","Vendredi","Samedi","Dimanche","Lundi","Mardi","Mercredi","Jeudi","Vendredi","Samedi","Dimanche","Lundi","Mardi","Mercredi","Jeudi","Vendredi","Samedi","Dimanche","Lundi","Mardi","Mercredi","Jeudi","Vendredi","Samedi","Dimanche","Lundi","Mardi","Mercredi","Jeudi","Vendredi","Samedi","Dimanche","Lundi","Mardi","Mercredi","Jeudi","Vendredi","Samedi","Dimanche","Lundi","Mardi","Mercredi","Jeudi","Vendredi","Samedi","Dimanche","Lundi","Mardi","Mercredi","Jeudi","Vendredi","Samedi","Dimanche","Lundi","Mardi","Mercredi","Jeudi","Vendredi","Samedi","Dimanche","Lundi","Mardi","Mercredi","Jeudi","Vendredi","Samedi","Dimanche","Lundi","Mardi","Mercredi","Jeudi","Vendredi","Samedi","Dimanche","Lundi","Mardi","Mercredi","Jeudi","Vendredi","Samedi","Dimanche","Lundi","Mardi","Mercredi","Jeudi","Vendredi","Samedi","Dimanche","Lundi","Mardi","Mercredi","Jeudi","Vendredi","Samedi","Dimanche","Lundi","Mardi","Mercredi","Jeudi","Vendredi","Samedi","Dimanche","Lundi","Mardi","Mercredi","Jeudi","Vendredi","Samedi","Dimanche","Lundi","Mardi","Mercredi","Jeudi","Vendredi","Samedi","Dimanche","Lundi","Mardi","Mercredi","Jeudi","Vendredi","Samedi","Dimanche","Lundi","Mardi","Mercredi","Jeudi","Vendredi","Samedi","Dimanche","Lundi","Mardi","Mercredi","Jeudi","Vendredi","Samedi","Dimanche","Lundi","Mardi","Mercredi","Jeudi","Vendredi","Samedi","Dimanche","Lundi","Mardi","Mercredi","Jeudi","Vendredi","Samedi","Dimanche","Lundi","Mardi","Mercredi","Jeudi","Vendredi","Samedi","Dimanche","Lundi","Mardi","Mercredi","Jeudi","Vendredi","Samedi","Dimanche","Lundi","Mardi","Mercredi","Jeudi","Vendredi","Samedi","Dimanche","Lundi","Mardi","Mercredi","Jeudi","Vendredi","Samedi","Dimanche","Lundi","Mardi","Mercredi","Jeudi","Vendredi","Samedi","Dimanche","Lundi","Mardi","Mercredi","Jeudi","Vendredi","Samedi","Dimanche","Lundi","Mardi","Mercredi","Jeudi","Vendredi","Samedi","Dimanche"]
[null,null,null,{"$f":"E4-1","v":"2016-12-26"},"2016-12-27","2016-12-28","2016-12-29","2016-12-30","2016-12-31",{"$f":"K4-1","v":"2017-01-01"},{"$f":"VLOOKUP(2,Premier_lundi,2,FALSE)","v":"2017-01-02"},{"$f":"K4+1","v":"2017-01-03"},"2017-01-04","2017-01-05","2017-01-06","2017-01-07","2017-01-08","2017-01-09","2017-01-10","2017-01-11","2017-01-12","2017-01-13","2017-01-14","2017-01-15","2017-01-16","2017-01-17","2017-01-18","2017-01-19","2017-01-20","2017-01-21","2017-01-22","2017-01-23","2017-01-24","2017-01-25","2017-01-26","2017-01-27","2017-01-28","2017-01-29","2017-01-30","2017-01-31","2017-02-01","2017-02-02","2017-02-03","2017-02-04","2017-02-05","2017-02-06","2017-02-07","2017-02-08","2017-02-09","2017-02-10","2017-02-11","2017-02-12","2017-02-13","2017-02-14","2017-02-15","2017-02-16","2017-02-17","2017-02-18","2017-02-19","2017-02-20","2017-02-21","2017-02-22","2017-02-23","2017-02-24","2017-02-25","2017-02-26","2017-02-27","2017-02-28",{"$f":"BP4+1","v":"2017-03-01"},"2017-03-02","2017-03-03","2017-03-04","2017-03-05","2017-03-06","2017-03-07","2017-03-08","2017-03-09","2017-03-10","2017-03-11","2017-03-12","2017-03-13","2017-03-14","2017-03-15","2017-03-16","2017-03-17","2017-03-18","2017-03-19","2017-03-20","2017-03-21","2017-03-22","2017-03-23","2017-03-24","2017-03-25","2017-03-26","2017-03-27","2017-03-28","2017-03-29","2017-03-30","2017-03-31","2017-04-01","2017-04-02","2017-04-03","2017-04-04","2017-04-05","2017-04-06","2017-04-07","2017-04-08","2017-04-09","2017-04-10","2017-04-11","2017-04-12","2017-04-13","2017-04-14","2017-04-15","2017-04-16","2017-04-17","2017-04-18","2017-04-19","2017-04-20","2017-04-21","2017-04-22","2017-04-23","2017-04-24","2017-04-25","2017-04-26","2017-04-27","2017-04-28","2017-04-29","2017-04-30","2017-05-01","2017-05-02","2017-05-03",{"$f":"EB4+1","v":"2017-05-04"},"2017-05-05","2017-05-06","2017-05-07","2017-05-08","2017-05-09","2017-05-10","2017-05-11","2017-05-12","2017-05-13","2017-05-14","2017-05-15","2017-05-16","2017-05-17","2017-05-18","2017-05-19","2017-05-20","2017-05-21","2017-05-22","2017-05-23","2017-05-24","2017-05-25","2017-05-26","2017-05-27","2017-05-28","2017-05-29","2017-05-30","2017-05-31","2017-06-01","2017-06-02","2017-06-03","2017-06-04","2017-06-05","2017-06-06","2017-06-07","2017-06-08","2017-06-09","2017-06-10","2017-06-11","2017-06-12","2017-06-13","2017-06-14","2017-06-15","2017-06-16","2017-06-17","2017-06-18","2017-06-19","2017-06-20","2017-06-21","2017-06-22","2017-06-23","2017-06-24","2017-06-25","2017-06-26","2017-06-27","2017-06-28","2017-06-29","2017-06-30","2017-07-01","2017-07-02","2017-07-03","2017-07-04","2017-07-05","2017-07-06",{"$f":"GN4+1","v":"2017-07-07"},"2017-07-08","2017-07-09","2017-07-10","2017-07-11","2017-07-12","2017-07-13","2017-07-14","2017-07-15","2017-07-16","2017-07-17","2017-07-18","2017-07-19","2017-07-20","2017-07-21","2017-07-22","2017-07-23","2017-07-24","2017-07-25","2017-07-26","2017-07-27","2017-07-28","2017-07-29","2017-07-30","2017-07-31","2017-08-01","2017-08-02","2017-08-03","2017-08-04","2017-08-05","2017-08-06","2017-08-07","2017-08-08","2017-08-09","2017-08-10","2017-08-11","2017-08-12","2017-08-13","2017-08-14","2017-08-15","2017-08-16","2017-08-17","2017-08-18","2017-08-19","2017-08-20","2017-08-21","2017-08-22","2017-08-23","2017-08-24","2017-08-25","2017-08-26","2017-08-27","2017-08-28","2017-08-29","2017-08-30","2017-08-31","2017-09-01","2017-09-02","2017-09-03","2017-09-04","2017-09-05","2017-09-06","2017-09-07","2017-09-08",{"$f":"IZ4+1","v":"2017-09-09"},"2017-09-10","2017-09-11","2017-09-12","2017-09-13","2017-09-14","2017-09-15","2017-09-16","2017-09-17","2017-09-18","2017-09-19","2017-09-20","2017-09-21","2017-09-22","2017-09-23","2017-09-24","2017-09-25","2017-09-26","2017-09-27","2017-09-28","2017-09-29","2017-09-30","2017-10-01","2017-10-02","2017-10-03","2017-10-04","2017-10-05","2017-10-06","2017-10-07","2017-10-08","2017-10-09","2017-10-10","2017-10-11","2017-10-12","2017-10-13","2017-10-14","2017-10-15","2017-10-16","2017-10-17","2017-10-18","2017-10-19","2017-10-20","2017-10-21","2017-10-22","2017-10-23","2017-10-24","2017-10-25","2017-10-26","2017-10-27","2017-10-28","2017-10-29","2017-10-30","2017-10-31","2017-11-01","2017-11-02","2017-11-03","2017-11-04","2017-11-05","2017-11-06","2017-11-07","2017-11-08","2017-11-09","2017-11-10","2017-11-11",{"$f":"LL4+1","v":"2017-11-12"},"2017-11-13","2017-11-14","2017-11-15","2017-11-16","2017-11-17","2017-11-18","2017-11-19","2017-11-20","2017-11-21","2017-11-22","2017-11-23","2017-11-24","2017-11-25","2017-11-26","2017-11-27","2017-11-28","2017-11-29","2017-11-30","2017-12-01","2017-12-02","2017-12-03","2017-12-04","2017-12-05","2017-12-06","2017-12-07","2017-12-08","2017-12-09","2017-12-10","2017-12-11","2017-12-12","2017-12-13","2017-12-14","2017-12-15","2017-12-16","2017-12-17","2017-12-18","2017-12-19","2017-12-20","2017-12-21","2017-12-22","2017-12-23","2017-12-24","2017-12-25","2017-12-26","2017-12-27","2017-12-28","2017-12-29","2017-12-30","2017-12-31","2018-01-01","2018-01-02","2018-01-03","2018-01-04","2018-01-05","2018-01-06","2018-01-07","2018-01-08","2018-01-09","2018-01-10","2018-01-11","2018-01-12","2018-01-13","2018-01-14"]
["POSITIONS"]
["8","00"]
[]
[8,30]
[]
["9","00"]
[]
[9,30]
[]
["10","00"]
[]
[10,30]
[]
["11","00"]
[]
[11,30]
[]
["12","00"]
[]
[12,30]
[]
["13","00"]
[]
[13,30]
[]
["14","00"]
[]
[14,30]
[]
["15","00"]
[]
[15,30]
[]
["16","00"]
[]
[16,30]
[]
["17","00"]
[]
[17,30]
[]
["18","00"]
[]
[18,30]
[]
["19","00"]
[]
[19,30]
[]
["20","00"]
[]
["Total heures",null,null,{"$f":"IF(SUM(D7:D54)=0,\"\",SUM(D7:D54))","v":""},{"$f":"IF(SUM(E7:E54)=0,\"\",SUM(E7:E54))","v":""},"","","","","","","","","","","","","","","","","","","","","","","","","","","","","","","","","","","","","","","","","","","","","","","","","","","","","","","","","","","","","","","",{"$f":"IF(SUM(BQ7:BQ54)=0,\"\",SUM(BQ7:BQ54))","v":""},"","","","","","","","","","","","","","","","","","","","","","","","","","","","","","","","","","","","","","","","","","","","","","","","","","","","","","","","","","","","","","","",{"$f":"IF(SUM(EC7:EC54)=0,\"\",SUM(EC7:EC54))","v":""},"","","","","","","","","","","","","","","","","","","","","","","","","","","","","","","","","","","","","","","","","","","","","","","","","","","","","","","","","","","","","","","",{"$f":"IF(SUM(GO7:GO54)=0,\"\",SUM(GO7:GO54))","v":""},"","","","","","","","","","","","","","","","","","","","","","","","","","","","","","","","","","","","","","","","","","","","","","","","","","","","","","","","","","","","","","","",{"$f":"IF(SUM(JA7:JA54)=0,\"\",SUM(JA7:JA54))","v":""},"","","","","","","","","","","","","","","","","","","","","","","","","","","","","","","","","","","","","","","","","","","","","","","","","","","","","","","","","","","","","","","",{"$f":"IF(SUM(LM7:LM54)=0,\"\",SUM(LM7:LM54))","v":""},"","","","","","","","","","","","","","","","","","","","","","","","","","","","","","","","","","","","","","","","","","","","","","","","","","","","","","","","","","","","","","",""]
[null,null,null,"Notes :","Notes :","Notes :","Notes :","Notes :","Notes :","Notes :","Notes :","Notes :","Notes :","Notes :","Notes :","Notes :","Notes :","Notes :","Notes :","Notes :","Notes :","Notes :","Notes :","Notes :","Notes :","Notes :","Notes :","Notes :","Notes :","Notes :","Notes :","Notes :","Notes :","Notes :","Notes :","Notes :","Notes :","Notes :","Notes :","Notes :","Notes :","Notes :","Notes :","Notes :","Notes :","Notes :","Notes :","Notes :","Notes :","Notes :","Notes :","Notes :","Notes :","Notes :","Notes :","Notes :","Notes :","Notes :","Notes :","Notes :","Notes :","Notes :","Notes :","Notes :","Notes :","Notes :","Notes :","Notes :","Notes :","Notes :","Notes :","Notes :","Notes :","Notes :","Notes :","Notes :","Notes :","Notes :","Notes :","Notes :","Notes :","Notes :","Notes :","Notes :","Notes :","Notes :","Notes :","Notes :","Notes :","Notes :","Notes :","Notes :","Notes :","Notes :","Notes :","Notes :","Notes :","Notes :","Notes :","Notes :","Notes :","Notes :","Notes :","Notes :","Notes :","Notes :","Notes :","Notes :","Notes :","Notes :","Notes :","Notes :","Notes :","Notes :","Notes :","Notes :","Notes :","Notes :","Notes :","Notes :","Notes :","Notes :","Notes :","Notes :","Notes :","Notes :","Notes :","Notes :","Notes :","Notes :","Notes :","Notes :","Notes :","Notes :","Notes :","Notes :","Notes :","Notes :","Notes :","Notes :","Notes :","Notes :","Notes :","Notes :","Notes :","Notes :","Notes :","Notes :","Notes :","Notes :","Notes :","Notes :","Notes :","Notes :","Notes :","Notes :","Notes :","Notes :","Notes :","Notes :","Notes :","Notes :","Notes :","Notes :","Notes :","Notes :","Notes :","Notes :","Notes :","Notes :","Notes :","Notes :","Notes :","Notes :","Notes :","Notes :","Notes :","Notes :","Notes :","Notes :","Notes :","Notes :","Notes :","Notes :","Notes :","Notes :","Notes :","Notes :","Notes :","Notes :","Notes :","Notes :","Notes :","Notes :","Notes :","Notes :","Notes :","Notes :","Notes :","Notes :","Notes :","Notes :","Notes :","Notes :","Notes :","Notes :","Notes :","Notes :","Notes :","Notes :","Notes :","Notes :","Notes :","Notes :","Notes :","Notes :","Notes :","Notes :","Notes :","Notes :","Notes :","Notes :","Notes :","Notes :","Notes :","Notes :","Notes :","Notes :","Notes :","Notes :","Notes :","Notes :","Notes :","Notes :","Notes :","Notes :","Notes :","Notes :","Notes :","Notes :","Notes :","Notes :","Notes :","Notes :","Notes :","Notes :","Notes :","Notes :","Notes :","Notes :","Notes :","Notes :","Notes :","Notes :","Notes :","Notes :","Notes :","Notes :","Notes :","Notes :","Notes :","Notes :","Notes :","Notes :","Notes :","Notes :","Notes :","Notes :","Notes :","Notes :","Notes :","Notes :","Notes :","Notes :","Notes :","Notes :","Notes :","Notes :","Notes :","Notes :","Notes :","Notes :","Notes :","Notes :","Notes :","Notes :","Notes :","Notes :","Notes :","Notes :","Notes :","Notes :","Notes :","Notes :","Notes :","Notes :","Notes :","Notes :","Notes :","Notes :","Notes :","Notes :","Notes :","Notes :","Notes :","Notes :","Notes :","Notes :","Notes :","Notes :","Notes :","Notes :","Notes :","Notes :","Notes :","Notes :","Notes :","Notes :","Notes :","Notes :","Notes :","Notes :","Notes :","Notes :","Notes :","Notes :","Notes :","Notes :","Notes :","Notes :","Notes :","Notes :","Notes :","Notes :","Notes :","Notes :","Notes :","Notes :","Notes :","Notes :","Notes :","Notes :","Notes :","Notes :","Notes :","Notes :","Notes :","Notes :","Notes :","Notes :","Notes :","Notes :","Notes :","Notes :","Notes :","Notes :","Notes :","Notes :","Notes :","Notes :","Notes :","Notes :","Notes :","Notes :","Notes :","Notes :","Notes :","Notes :","Notes :","Notes :","Notes :","Notes :","Notes :","Notes :","Notes :","Notes :","Notes :","Notes :","Notes :","Notes :","Notes :","Notes :","Notes :","Notes :","Notes :","Notes :","Notes :","Notes :"]

{"sheet":"Personnel 01","index":9,"n_rows":57,"n_cols":388,"rows_kept":57,"cut":false,"hidden":false,"merged":[[1,3,1,9],[1,10,1,16],[1,17,1,23],[1,24,1,30],[1,31,1,37],[1,38,1,44],[1,87,1,93],[1,94,1,100],[1,101,1,107],[1,108,1,114],[1,115,1,121],[1,122,1,128],[1,45,1,51],[1,52,1,58],[1,59,1,65],[1,66,1,72],[1,73,1,79],[1,80,1,86],[1,171,1,177],[1,178,1,184],[1,185,1,191],[1,192,1,198],[1,199,1,205],[1,206,1,212],[1,129,1,135],[1,136,1,142],[1,143,1,149],[1,150,1,156],[1,157,1,163],[1,164,1,170],[1,255,1,261],[1,262,1,268],[1,269,1,275],[1,276,1,282],[1,283,1,289],[1,290,1,296],[1,213,1,219],[1,220,1,226],[1,227,1,233],[1,234,1,240],[1,241,1,247],[1,248,1,254],[9,0,10,0],[9,1,10,1],[11,0,12,0],[11,1,12,1],[13,0,14,0],[13,1,14,1],[1,381,1,387],[4,0,4,2],[5,0,6,0],[5,1,6,1],[7,0,8,0],[7,1,8,1],[1,339,1,345],[1,346,1,352],[1,353,1,359],[1,360,1,366],[1,367,1,373],[1,374,1,380],[1,297,1,303],[1,304,1,310],[1,311,1,317],[1,318,1,324],[1,325,1,331],[1,332,1,338],[21,0,22,0],[21,1,22,1],[23,0,24,0],[23,1,24,1],[25,0,26,0],[25,1,26,1],[15,0,16,0],[15,1,16,1],[17,0,18,0],[17,1,18,1],[19,0,20,0],[19,1,20,1],[33,0,34,0],[33,1,34,1],[35,0,36,0],[35,1,36,1],[37,0,38,0],[37,1,38,1],[27,0,28,0],[27,1,28,1],[29,0,30,0],[29,1,30,1],[31,0,32,0],[31,1,32,1],[45,0,46,0],[45,1,46,1],[47,0,48,0],[47,1,48,1],[49,0,50,0],[49,1,50,1],[39,0,40,0],[39,1,40,1],[41,0,42,0],[41,1,42,1],[43,0,44,0],[43,1,44,1],[65,1,66,1],[67,1,68,1],[69,1,70,1],[71,1,72,1],[73,1,74,1],[51,0,52,0],[51,1,52,1],[53,0,54,0],[53,1,54,1],[55,0,55,2],[56,0,57,2]]}
[null,null,null,{"$f":"IF(OR(AND(WEEKDAY(D$4)=1,Dimanche),AND(WEEKDAY(D$4)=2,Lundi),AND(WEEKDAY(D$4)=3,Mardi),AND(WEEKDAY(D$4)=4,Mercredi),AND(WEEKDAY(D$4)=5,Jeudi),AND(WEEKDAY(D$4)=6,Vendredi),AND(WEEKDAY(D$4)=7,Samedi),D$4=férié),0,1)","v":1},{"$f":"IF(OR(AND(WEEKDAY(E$4)=1,Dimanche),AND(WEEKDAY(E$4)=2,Lundi),AND(WEEKDAY(E$4)=3,Mardi),AND(WEEKDAY(E$4)=4,Mercredi),AND(WEEKDAY(E$4)=5,Jeudi),AND(WEEKDAY(E$4)=6,Vendredi),AND(WEEKDAY(E$4)=7,Samedi),E$4=férié),0,1)","v":1},{"$f":"IF(OR(AND(WEEKDAY(F$4)=1,Dimanche),AND(WEEKDAY(F$4)=2,Lundi),AND(WEEKDAY(F$4)=3,Mardi),AND(WEEKDAY(F$4)=4,Mercredi),AND(WEEKDAY(F$4)=5,Jeudi),AND(WEEKDAY(F$4)=6,Vendredi),AND(WEEKDAY(F$4)=7,Samedi),F$4=férié),0,1)","v":1},{"$f":"IF(OR(AND(WEEKDAY(G$4)=1,Dimanche),AND(WEEKDAY(G$4)=2,Lundi),AND(WEEKDAY(G$4)=3,Mardi),AND(WEEKDAY(G$4)=4,Mercredi),AND(WEEKDAY(G$4)=5,Jeudi),AND(WEEKDAY(G$4)=6,Vendredi),AND(WEEKDAY(G$4)=7,Samedi),G$4=férié),0,1)","v":1},{"$f":"IF(OR(AND(WEEKDAY(H$4)=1,Dimanche),AND(WEEKDAY(H$4)=2,Lundi),AND(WEEKDAY(H$4)=3,Mardi),AND(WEEKDAY(H$4)=4,Mercredi),AND(WEEKDAY(H$4)=5,Jeudi),AND(WEEKDAY(H$4)=6,Vendredi),AND(WEEKDAY(H$4)=7,Samedi),H$4=férié),0,1)","v":1},{"$f":"IF(OR(AND(WEEKDAY(I$4)=1,Dimanche),AND(WEEKDAY(I$4)=2,Lundi),AND(WEEKDAY(I$4)=3,Mardi),AND(WEEKDAY(I$4)=4,Mercredi),AND(WEEKDAY(I$4)=5,Jeudi),AND(WEEKDAY(I$4)=6,Vendredi),AND(WEEKDAY(I$4)=7,Samedi),I$4=férié),0,1)","v":0},{"$f":"IF(OR(AND(WEEKDAY(J$4)=1,Dimanche),AND(WEEKDAY(J$4)=2,Lundi),AND(WEEKDAY(J$4)=3,Mardi),AND(WEEKDAY(J$4)=4,Mercredi),AND(WEEKDAY(J$4)=5,Jeudi),AND(WEEKDAY(J$4)=6,Vendredi),AND(WEEKDAY(J$4)=7,Samedi),J$4=férié),0,1)","v":0},{"$f":"IF(OR(AND(WEEKDAY(K$4)=1,Dimanche),AND(WEEKDAY(K$4)=2,Lundi),AND(WEEKDAY(K$4)=3,Mardi),AND(WEEKDAY(K$4)=4,Mercredi),AND(WEEKDAY(K$4)=5,Jeudi),AND(WEEKDAY(K$4)=6,Vendredi),AND(WEEKDAY(K$4)=7,Samedi),K$4=férié),0,1)","v":1},{"$f":"IF(OR(AND(WEEKDAY(L$4)=1,Dimanche),AND(WEEKDAY(L$4)=2,Lundi),AND(WEEKDAY(L$4)=3,Mardi),AND(WEEKDAY(L$4)=4,Mercredi),AND(WEEKDAY(L$4)=5,Jeudi),AND(WEEKDAY(L$4)=6,Vendredi),AND(WEEKDAY(L$4)=7,Samedi),L$4=férié),0,1)","v":1},{"$f":"IF(OR(AND(WEEKDAY(M$4)=1,Dimanche),AND(WEEKDAY(M$4)=2,Lundi),AND(WEEKDAY(M$4)=3,Mardi),AND(WEEKDAY(M$4)=4,Mercredi),AND(WEEKDAY(M$4)=5,Jeudi),AND(WEEKDAY(M$4)=6,Vendredi),AND(WEEKDAY(M$4)=7,Samedi),M$4=férié),0,1)","v":1},{"$f":"IF(OR(AND(WEEKDAY(N$4)=1,Dimanche),AND(WEEKDAY(N$4)=2,Lundi),AND(WEEKDAY(N$4)=3,Mardi),AND(WEEKDAY(N$4)=4,Mercredi),AND(WEEKDAY(N$4)=5,Jeudi),AND(WEEKDAY(N$4)=6,Vendredi),AND(WEEKDAY(N$4)=7,Samedi),N$4=férié),0,1)","v":1},{"$f":"IF(OR(AND(WEEKDAY(O$4)=1,Dimanche),AND(WEEKDAY(O$4)=2,Lundi),AND(WEEKDAY(O$4)=3,Mardi),AND(WEEKDAY(O$4)=4,Mercredi),AND(WEEKDAY(O$4)=5,Jeudi),AND(WEEKDAY(O$4)=6,Vendredi),AND(WEEKDAY(O$4)=7,Samedi),O$4=férié),0,1)","v":1},{"$f":"IF(OR(AND(WEEKDAY(P$4)=1,Dimanche),AND(WEEKDAY(P$4)=2,Lundi),AND(WEEKDAY(P$4)=3,Mardi),AND(WEEKDAY(P$4)=4,Mercredi),AND(WEEKDAY(P$4)=5,Jeudi),AND(WEEKDAY(P$4)=6,Vendredi),AND(WEEKDAY(P$4)=7,Samedi),P$4=férié),0,1)","v":0},{"$f":"IF(OR(AND(WEEKDAY(Q$4)=1,Dimanche),AND(WEEKDAY(Q$4)=2,Lundi),AND(WEEKDAY(Q$4)=3,Mardi),AND(WEEKDAY(Q$4)=4,Mercredi),AND(WEEKDAY(Q$4)=5,Jeudi),AND(WEEKDAY(Q$4)=6,Vendredi),AND(WEEKDAY(Q$4)=7,Samedi),Q$4=férié),0,1)","v":0},{"$f":"IF(OR(AND(WEEKDAY(R$4)=1,Dimanche),AND(WEEKDAY(R$4)=2,Lundi),AND(WEEKDAY(R$4)=3,Mardi),AND(WEEKDAY(R$4)=4,Mercredi),AND(WEEKDAY(R$4)=5,Jeudi),AND(WEEKDAY(R$4)=6,Vendredi),AND(WEEKDAY(R$4)=7,Samedi),R$4=férié),0,1)","v":1},{"$f":"IF(OR(AND(WEEKDAY(S$4)=1,Dimanche),AND(WEEKDAY(S$4)=2,Lundi),AND(WEEKDAY(S$4)=3,Mardi),AND(WEEKDAY(S$4)=4,Mercredi),AND(WEEKDAY(S$4)=5,Jeudi),AND(WEEKDAY(S$4)=6,Vendredi),AND(WEEKDAY(S$4)=7,Samedi),S$4=férié),0,1)","v":1},{"$f":"IF(OR(AND(WEEKDAY(T$4)=1,Dimanche),AND(WEEKDAY(T$4)=2,Lundi),AND(WEEKDAY(T$4)=3,Mardi),AND(WEEKDAY(T$4)=4,Mercredi),AND(WEEKDAY(T$4)=5,Jeudi),AND(WEEKDAY(T$4)=6,Vendredi),AND(WEEKDAY(T$4)=7,Samedi),T$4=férié),0,1)","v":1},{"$f":"IF(OR(AND(WEEKDAY(U$4)=1,Dimanche),AND(WEEKDAY(U$4)=2,Lundi),AND(WEEKDAY(U$4)=3,Mardi),AND(WEEKDAY(U$4)=4,Mercredi),AND(WEEKDAY(U$4)=5,Jeudi),AND(WEEKDAY(U$4)=6,Vendredi),AND(WEEKDAY(U$4)=7,Samedi),U$4=férié),0,1)","v":1},{"$f":"IF(OR(AND(WEEKDAY(V$4)=1,Dimanche),AND(WEEKDAY(V$4)=2,Lundi),AND(WEEKDAY(V$4)=3,Mardi),AND(WEEKDAY(V$4)=4,Mercredi),AND(WEEKDAY(V$4)=5,Jeudi),AND(WEEKDAY(V$4)=6,Vendredi),AND(WEEKDAY(V$4)=7,Samedi),V$4=férié),0,1)","v":1},{"$f":"IF(OR(AND(WEEKDAY(W$4)=1,Dimanche),AND(WEEKDAY(W$4)=2,Lundi),AND(WEEKDAY(W$4)=3,Mardi),AND(WEEKDAY(W$4)=4,Mercredi),AND(WEEKDAY(W$4)=5,Jeudi),AND(WEEKDAY(W$4)=6,Vendredi),AND(WEEKDAY(W$4)=7,Samedi),W$4=férié),0,1)","v":0},{"$f":"IF(OR(AND(WEEKDAY(X$4)=1,Dimanche),AND(WEEKDAY(X$4)=2,Lundi),AND(WEEKDAY(X$4)=3,Mardi),AND(WEEKDAY(X$4)=4,Mercredi),AND(WEEKDAY(X$4)=5,Jeudi),AND(WEEKDAY(X$4)=6,Vendredi),AND(WEEKDAY(X$4)=7,Samedi),X$4=férié),0,1)","v":0},{"$f":"IF(OR(AND(WEEKDAY(Y$4)=1,Dimanche),AND(WEEKDAY(Y$4)=2,Lundi),AND(WEEKDAY(Y$4)=3,Mardi),AND(WEEKDAY(Y$4)=4,Mercredi),AND(WEEKDAY(Y$4)=5,Jeudi),AND(WEEKDAY(Y$4)=6,Vendredi),AND(WEEKDAY(Y$4)=7,Samedi),Y$4=férié),0,1)","v":1},{"$f":"IF(OR(AND(WEEKDAY(Z$4)=1,Dimanche),AND(WEEKDAY(Z$4)=2,Lundi),AND(WEEKDAY(Z$4)=3,Mardi),AND(WEEKDAY(Z$4)=4,Mercredi),AND(WEEKDAY(Z$4)=5,Jeudi),AND(WEEKDAY(Z$4)=6,Vendredi),AND(WEEKDAY(Z$4)=7,Samedi),Z$4=férié),0,1)","v":1},{"$f":"IF(OR(AND(WEEKDAY(AA$4)=1,Dimanche),AND(WEEKDAY(AA$4)=2,Lundi),AND(WEEKDAY(AA$4)=3,Mardi),AND(WEEKDAY(AA$4)=4,Mercredi),AND(WEEKDAY(AA$4)=5,Jeudi),AND(WEEKDAY(AA$4)=6,Vendredi),AND(WEEKDAY(AA$4)=7,Samedi),AA$4=férié),0,1)","v":1},{"$f":"IF(OR(AND(WEEKDAY(AB$4)=1,Dimanche),AND(WEEKDAY(AB$4)=2,Lundi),AND(WEEKDAY(AB$4)=3,Mardi),AND(WEEKDAY(AB$4)=4,Mercredi),AND(WEEKDAY(AB$4)=5,Jeudi),AND(WEEKDAY(AB$4)=6,Vendredi),AND(WEEKDAY(AB$4)=7,Samedi),AB$4=férié),0,1)","v":1},{"$f":"IF(OR(AND(WEEKDAY(AC$4)=1,Dimanche),AND(WEEKDAY(AC$4)=2,Lundi),AND(WEEKDAY(AC$4)=3,Mardi),AND(WEEKDAY(AC$4)=4,Mercredi),AND(WEEKDAY(AC$4)=5,Jeudi),AND(WEEKDAY(AC$4)=6,Vendredi),AND(WEEKDAY(AC$4)=7,Samedi),AC$4=férié),0,1)","v":1},{"$f":"IF(OR(AND(WEEKDAY(AD$4)=1,Dimanche),AND(WEEKDAY(AD$4)=2,Lundi),AND(WEEKDAY(AD$4)=3,Mardi),AND(WEEKDAY(AD$4)=4,Mercredi),AND(WEEKDAY(AD$4)=5,Jeudi),AND(WEEKDAY(AD$4)=6,Vendredi),AND(WEEKDAY(AD$4)=7,Samedi),AD$4=férié),0,1)","v":0},{"$f":"IF(OR(AND(WEEKDAY(AE$4)=1,Dimanche),AND(WEEKDAY(AE$4)=2,Lundi),AND(WEEKDAY(AE$4)=3,Mardi),AND(WEEKDAY(AE$4)=4,Mercredi),AND(WEEKDAY(AE$4)=5,Jeudi),AND(WEEKDAY(AE$4)=6,Vendredi),AND(WEEKDAY(AE$4)=7,Samedi),AE$4=férié),0,1)","v":0},{"$f":"IF(OR(AND(WEEKDAY(AF$4)=1,Dimanche),AND(WEEKDAY(AF$4)=2,Lundi),AND(WEEKDAY(AF$4)=3,Mardi),AND(WEEKDAY(AF$4)=4,Mercredi),AND(WEEKDAY(AF$4)=5,Jeudi),AND(WEEKDAY(AF$4)=6,Vendredi),AND(WEEKDAY(AF$4)=7,Samedi),AF$4=férié),0,1)","v":1},{"$f":"IF(OR(AND(WEEKDAY(AG$4)=1,Dimanche),AND(WEEKDAY(AG$4)=2,Lundi),AND(WEEKDAY(AG$4)=3,Mardi),AND(WEEKDAY(AG$4)=4,Mercredi),AND(WEEKDAY(AG$4)=5,Jeudi),AND(WEEKDAY(AG$4)=6,Vendredi),AND(WEEKDAY(AG$4)=7,Samedi),AG$4=férié),0,1)","v":1},{"$f":"IF(OR(AND(WEEKDAY(AH$4)=1,Dimanche),AND(WEEKDAY(AH$4)=2,Lundi),AND(WEEKDAY(AH$4)=3,Mardi),AND(WEEKDAY(AH$4)=4,Mercredi),AND(WEEKDAY(AH$4)=5,Jeudi),AND(WEEKDAY(AH$4)=6,Vendredi),AND(WEEKDAY(AH$4)=7,Samedi),AH$4=férié),0,1)","v":1},{"$f":"IF(OR(AND(WEEKDAY(AI$4)=1,Dimanche),AND(WEEKDAY(AI$4)=2,Lundi),AND(WEEKDAY(AI$4)=3,Mardi),AND(WEEKDAY(AI$4)=4,Mercredi),AND(WEEKDAY(AI$4)=5,Jeudi),AND(WEEKDAY(AI$4)=6,Vendredi),AND(WEEKDAY(AI$4)=7,Samedi),AI$4=férié),0,1)","v":1},{"$f":"IF(OR(AND(WEEKDAY(AJ$4)=1,Dimanche),AND(WEEKDAY(AJ$4)=2,Lundi),AND(WEEKDAY(AJ$4)=3,Mardi),AND(WEEKDAY(AJ$4)=4,Mercredi),AND(WEEKDAY(AJ$4)=5,Jeudi),AND(WEEKDAY(AJ$4)=6,Vendredi),AND(WEEKDAY(AJ$4)=7,Samedi),AJ$4=férié),0,1)","v":1},{"$f":"IF(OR(AND(WEEKDAY(AK$4)=1,Dimanche),AND(WEEKDAY(AK$4)=2,Lundi),AND(WEEKDAY(AK$4)=3,Mardi),AND(WEEKDAY(AK$4)=4,Mercredi),AND(WEEKDAY(AK$4)=5,Jeudi),AND(WEEKDAY(AK$4)=6,Vendredi),AND(WEEKDAY(AK$4)=7,Samedi),AK$4=férié),0,1)","v":0},{"$f":"IF(OR(AND(WEEKDAY(AL$4)=1,Dimanche),AND(WEEKDAY(AL$4)=2,Lundi),AND(WEEKDAY(AL$4)=3,Mardi),AND(WEEKDAY(AL$4)=4,Mercredi),AND(WEEKDAY(AL$4)=5,Jeudi),AND(WEEKDAY(AL$4)=6,Vendredi),AND(WEEKDAY(AL$4)=7,Samedi),AL$4=férié),0,1)","v":0},{"$f":"IF(OR(AND(WEEKDAY(AM$4)=1,Dimanche),AND(WEEKDAY(AM$4)=2,Lundi),AND(WEEKDAY(AM$4)=3,Mardi),AND(WEEKDAY(AM$4)=4,Mercredi),AND(WEEKDAY(AM$4)=5,Jeudi),AND(WEEKDAY(AM$4)=6,Vendredi),AND(WEEKDAY(AM$4)=7,Samedi),AM$4=férié),0,1)","v":1},{"$f":"IF(OR(AND(WEEKDAY(AN$4)=1,Dimanche),AND(WEEKDAY(AN$4)=2,Lundi),AND(WEEKDAY(AN$4)=3,Mardi),AND(WEEKDAY(AN$4)=4,Mercredi),AND(WEEKDAY(AN$4)=5,Jeudi),AND(WEEKDAY(AN$4)=6,Vendredi),AND(WEEKDAY(AN$4)=7,Samedi),AN$4=férié),0,1)","v":1},{"$f":"IF(OR(AND(WEEKDAY(AO$4)=1,Dimanche),AND(WEEKDAY(AO$4)=2,Lundi),AND(WEEKDAY(AO$4)=3,Mardi),AND(WEEKDAY(AO$4)=4,Mercredi),AND(WEEKDAY(AO$4)=5,Jeudi),AND(WEEKDAY(AO$4)=6,Vendredi),AND(WEEKDAY(AO$4)=7,Samedi),AO$4=férié),0,1)","v":1},{"$f":"IF(OR(AND(WEEKDAY(AP$4)=1,Dimanche),AND(WEEKDAY(AP$4)=2,Lundi),AND(WEEKDAY(AP$4)=3,Mardi),AND(WEEKDAY(AP$4)=4,Mercredi),AND(WEEKDAY(AP$4)=5,Jeudi),AND(WEEKDAY(AP$4)=6,Vendredi),AND(WEEKDAY(AP$4)=7,Samedi),AP$4=férié),0,1)","v":1},{"$f":"IF(OR(AND(WEEKDAY(AQ$4)=1,Dimanche),AND(WEEKDAY(AQ$4)=2,Lundi),AND(WEEKDAY(AQ$4)=3,Mardi),AND(WEEKDAY(AQ$4)=4,Mercredi),AND(WEEKDAY(AQ$4)=5,Jeudi),AND(WEEKDAY(AQ$4)=6,Vendredi),AND(WEEKDAY(AQ$4)=7,Samedi),AQ$4=férié),0,1)","v":1},{"$f":"IF(OR(AND(WEEKDAY(AR$4)=1,Dimanche),AND(WEEKDAY(AR$4)=2,Lundi),AND(WEEKDAY(AR$4)=3,Mardi),AND(WEEKDAY(AR$4)=4,Mercredi),AND(WEEKDAY(AR$4)=5,Jeudi),AND(WEEKDAY(AR$4)=6,Vendredi),AND(WEEKDAY(AR$4)=7,Samedi),AR$4=férié),0,1)","v":0},{"$f":"IF(OR(AND(WEEKDAY(AS$4)=1,Dimanche),AND(WEEKDAY(AS$4)=2,Lundi),AND(WEEKDAY(AS$4)=3,Mardi),AND(WEEKDAY(AS$4)=4,Mercredi),AND(WEEKDAY(AS$4)=5,Jeudi),AND(WEEKDAY(AS$4)=6,Vendredi),AND(WEEKDAY(AS$4)=7,Samedi),AS$4=férié),0,1)","v":0},{"$f":"IF(OR(AND(WEEKDAY(AT$4)=1,Dimanche),AND(WEEKDAY(AT$4)=2,Lundi),AND(WEEKDAY(AT$4)=3,Mardi),AND(WEEKDAY(AT$4)=4,Mercredi),AND(WEEKDAY(AT$4)=5,Jeudi),AND(WEEKDAY(AT$4)=6,Vendredi),AND(WEEKDAY(AT$4)=7,Samedi),AT$4=férié),0,1)","v":1},{"$f":"IF(OR(AND(WEEKDAY(AU$4)=1,Dimanche),AND(WEEKDAY(AU$4)=2,Lundi),AND(WEEKDAY(AU$4)=3,Mardi),AND(WEEKDAY(AU$4)=4,Mercredi),AND(WEEKDAY(AU$4)=5,Jeudi),AND(WEEKDAY(AU$4)=6,Vendredi),AND(WEEKDAY(AU$4)=7,Samedi),AU$4=férié),0,1)","v":1},{"$f":"IF(OR(AND(WEEKDAY(AV$4)=1,Dimanche),AND(WEEKDAY(AV$4)=2,Lundi),AND(WEEKDAY(AV$4)=3,Mardi),AND(WEEKDAY(AV$4)=4,Mercredi),AND(WEEKDAY(AV$4)=5,Jeudi),AND(WEEKDAY(AV$4)=6,Vendredi),AND(WEEKDAY(AV$4)=7,Samedi),AV$4=férié),0,1)","v":1},{"$f":"IF(OR(AND(WEEKDAY(AW$4)=1,Dimanche),AND(WEEKDAY(AW$4)=2,Lundi),AND(WEEKDAY(AW$4)=3,Mardi),AND(WEEKDAY(AW$4)=4,Mercredi),AND(WEEKDAY(AW$4)=5,Jeudi),AND(WEEKDAY(AW$4)=6,Vendredi),AND(WEEKDAY(AW$4)=7,Samedi),AW$4=férié),0,1)","v":1},{"$f":"IF(OR(AND(WEEKDAY(AX$4)=1,Dimanche),AND(WEEKDAY(AX$4)=2,Lundi),AND(WEEKDAY(AX$4)=3,Mardi),AND(WEEKDAY(AX$4)=4,Mercredi),AND(WEEKDAY(AX$4)=5,Jeudi),AND(WEEKDAY(AX$4)=6,Vendredi),AND(WEEKDAY(AX$4)=7,Samedi),AX$4=férié),0,1)","v":1},{"$f":"IF(OR(AND(WEEKDAY(AY$4)=1,Dimanche),AND(WEEKDAY(AY$4)=2,Lundi),AND(WEEKDAY(AY$4)=3,Mardi),AND(WEEKDAY(AY$4)=4,Mercredi),AND(WEEKDAY(AY$4)=5,Jeudi),AND(WEEKDAY(AY$4)=6,Vendredi),AND(WEEKDAY(AY$4)=7,Samedi),AY$4=férié),0,1)","v":0},{"$f":"IF(OR(AND(WEEKDAY(AZ$4)=1,Dimanche),AND(WEEKDAY(AZ$4)=2,Lundi),AND(WEEKDAY(AZ$4)=3,Mardi),AND(WEEKDAY(AZ$4)=4,Mercredi),AND(WEEKDAY(AZ$4)=5,Jeudi),AND(WEEKDAY(AZ$4)=6,Vendredi),AND(WEEKDAY(AZ$4)=7,Samedi),AZ$4=férié),0,1)","v":0},{"$f":"IF(OR(AND(WEEKDAY(BA$4)=1,Dimanche),AND(WEEKDAY(BA$4)=2,Lundi),AND(WEEKDAY(BA$4)=3,Mardi),AND(WEEKDAY(BA$4)=4,Mercredi),AND(WEEKDAY(BA$4)=5,Jeudi),AND(WEEKDAY(BA$4)=6,Vendredi),AND(WEEKDAY(BA$4)=7,Samedi),BA$4=férié),0,1)","v":1},{"$f":"IF(OR(AND(WEEKDAY(BB$4)=1,Dimanche),AND(WEEKDAY(BB$4)=2,Lundi),AND(WEEKDAY(BB$4)=3,Mardi),AND(WEEKDAY(BB$4)=4,Mercredi),AND(WEEKDAY(BB$4)=5,Jeudi),AND(WEEKDAY(BB$4)=6,Vendredi),AND(WEEKDAY(BB$4)=7,Samedi),BB$4=férié),0,1)","v":1},{"$f":"IF(OR(AND(WEEKDAY(BC$4)=1,Dimanche),AND(WEEKDAY(BC$4)=2,Lundi),AND(WEEKDAY(BC$4)=3,Mardi),AND(WEEKDAY(BC$4)=4,Mercredi),AND(WEEKDAY(BC$4)=5,Jeudi),AND(WEEKDAY(BC$4)=6,Vendredi),AND(WEEKDAY(BC$4)=7,Samedi),BC$4=férié),0,1)","v":1},{"$f":"IF(OR(AND(WEEKDAY(BD$4)=1,Dimanche),AND(WEEKDAY(BD$4)=2,Lundi),AND(WEEKDAY(BD$4)=3,Mardi),AND(WEEKDAY(BD$4)=4,Mercredi),AND(WEEKDAY(BD$4)=5,Jeudi),AND(WEEKDAY(BD$4)=6,Vendredi),AND(WEEKDAY(BD$4)=7,Samedi),BD$4=férié),0,1)","v":1},{"$f":"IF(OR(AND(WEEKDAY(BE$4)=1,Dimanche),AND(WEEKDAY(BE$4)=2,Lundi),AND(WEEKDAY(BE$4)=3,Mardi),AND(WEEKDAY(BE$4)=4,Mercredi),AND(WEEKDAY(BE$4)=5,Jeudi),AND(WEEKDAY(BE$4)=6,Vendredi),AND(WEEKDAY(BE$4)=7,Samedi),BE$4=férié),0,1)","v":1},{"$f":"IF(OR(AND(WEEKDAY(BF$4)=1,Dimanche),AND(WEEKDAY(BF$4)=2,Lundi),AND(WEEKDAY(BF$4)=3,Mardi),AND(WEEKDAY(BF$4)=4,Mercredi),AND(WEEKDAY(BF$4)=5,Jeudi),AND(WEEKDAY(BF$4)=6,Vendredi),AND(WEEKDAY(BF$4)=7,Samedi),BF$4=férié),0,1)","v":0},{"$f":"IF(OR(AND(WEEKDAY(BG$4)=1,Dimanche),AND(WEEKDAY(BG$4)=2,Lundi),AND(WEEKDAY(BG$4)=3,Mardi),AND(WEEKDAY(BG$4)=4,Mercredi),AND(WEEKDAY(BG$4)=5,Jeudi),AND(WEEKDAY(BG$4)=6,Vendredi),AND(WEEKDAY(BG$4)=7,Samedi),BG$4=férié),0,1)","v":0},{"$f":"IF(OR(AND(WEEKDAY(BH$4)=1,Dimanche),AND(WEEKDAY(BH$4)=2,Lundi),AND(WEEKDAY(BH$4)=3,Mardi),AND(WEEKDAY(BH$4)=4,Mercredi),AND(WEEKDAY(BH$4)=5,Jeudi),AND(WEEKDAY(BH$4)=6,Vendredi),AND(WEEKDAY(BH$4)=7,Samedi),BH$4=férié),0,1)","v":1},{"$f":"IF(OR(AND(WEEKDAY(BI$4)=1,Dimanche),AND(WEEKDAY(BI$4)=2,Lundi),AND(WEEKDAY(BI$4)=3,Mardi),AND(WEEKDAY(BI$4)=4,Mercredi),AND(WEEKDAY(BI$4)=5,Jeudi),AND(WEEKDAY(BI$4)=6,Vendredi),AND(WEEKDAY(BI$4)=7,Samedi),BI$4=férié),0,1)","v":1},{"$f":"IF(OR(AND(WEEKDAY(BJ$4)=1,Dimanche),AND(WEEKDAY(BJ$4)=2,Lundi),AND(WEEKDAY(BJ$4)=3,Mardi),AND(WEEKDAY(BJ$4)=4,Mercredi),AND(WEEKDAY(BJ$4)=5,Jeudi),AND(WEEKDAY(BJ$4)=6,Vendredi),AND(WEEKDAY(BJ$4)=7,Samedi),BJ$4=férié),0,1)","v":1},{"$f":"IF(OR(AND(WEEKDAY(BK$4)=1,Dimanche),AND(WEEKDAY(BK$4)=2,Lundi),AND(WEEKDAY(BK$4)=3,Mardi),AND(WEEKDAY(BK$4)=4,Mercredi),AND(WEEKDAY(BK$4)=5,Jeudi),AND(WEEKDAY(BK$4)=6,Vendredi),AND(WEEKDAY(BK$4)=7,Samedi),BK$4=férié),0,1)","v":1},{"$f":"IF(OR(AND(WEEKDAY(BL$4)=1,Dimanche),AND(WEEKDAY(BL$4)=2,Lundi),AND(WEEKDAY(BL$4)=3,Mardi),AND(WEEKDAY(BL$4)=4,Mercredi),AND(WEEKDAY(BL$4)=5,Jeudi),AND(WEEKDAY(BL$4)=6,Vendredi),AND(WEEKDAY(BL$4)=7,Samedi),BL$4=férié),0,1)","v":1},{"$f":"IF(OR(AND(WEEKDAY(BM$4)=1,Dimanche),AND(WEEKDAY(BM$4)=2,Lundi),AND(WEEKDAY(BM$4)=3,Mardi),AND(WEEKDAY(BM$4)=4,Mercredi),AND(WEEKDAY(BM$4)=5,Jeudi),AND(WEEKDAY(BM$4)=6,Vendredi),AND(WEEKDAY(BM$4)=7,Samedi),BM$4=férié),0,1)","v":0},{"$f":"IF(OR(AND(WEEKDAY(BN$4)=1,Dimanche),AND(WEEKDAY(BN$4)=2,Lundi),AND(WEEKDAY(BN$4)=3,Mardi),AND(WEEKDAY(BN$4)=4,Mercredi),AND(WEEKDAY(BN$4)=5,Jeudi),AND(WEEKDAY(BN$4)=6,Vendredi),AND(WEEKDAY(BN$4)=7,Samedi),BN$4=férié),0,1)","v":0},{"$f":"IF(OR(AND(WEEKDAY(BO$4)=1,Dimanche),AND(WEEKDAY(BO$4)=2,Lundi),AND(WEEKDAY(BO$4)=3,Mardi),AND(WEEKDAY(BO$4)=4,Mercredi),AND(WEEKDAY(BO$4)=5,Jeudi),AND(WEEKDAY(BO$4)=6,Vendredi),AND(WEEKDAY(BO$4)=7,Samedi),BO$4=férié),0,1)","v":1},{"$f":"IF(OR(AND(WEEKDAY(BP$4)=1,Dimanche),AND(WEEKDAY(BP$4)=2,Lundi),AND(WEEKDAY(BP$4)=3,Mardi),AND(WEEKDAY(BP$4)=4,Mercredi),AND(WEEKDAY(BP$4)=5,Jeudi),AND(WEEKDAY(BP$4)=6,Vendredi),AND(WEEKDAY(BP$4)=7,Samedi),BP$4=férié),0,1)","v":1},{"$f":"IF(OR(AND(WEEKDAY(BQ$4)=1,Dimanche),AND(WEEKDAY(BQ$4)=2,Lundi),AND(WEEKDAY(BQ$4)=3,Mardi),AND(WEEKDAY(BQ$4)=4,Mercredi),AND(WEEKDAY(BQ$4)=5,Jeudi),AND(WEEKDAY(BQ$4)=6,Vendredi),AND(WEEKDAY(BQ$4)=7,Samedi),BQ$4=férié),0,1)","v":1},{"$f":"IF(OR(AND(WEEKDAY(BR$4)=1,Dimanche),AND(WEEKDAY(BR$4)=2,Lundi),AND(WEEKDAY(BR$4)=3,Mardi),AND(WEEKDAY(BR$4)=4,Mercredi),AND(WEEKDAY(BR$4)=5,Jeudi),AND(WEEKDAY(BR$4)=6,Vendredi),AND(WEEKDAY(BR$4)=7,Samedi),BR$4=férié),0,1)","v":1},{"$f":"IF(OR(AND(WEEKDAY(BS$4)=1,Dimanche),AND(WEEKDAY(BS$4)=2,Lundi),AND(WEEKDAY(BS$4)=3,Mardi),AND(WEEKDAY(BS$4)=4,Mercredi),AND(WEEKDAY(BS$4)=5,Jeudi),AND(WEEKDAY(BS$4)=6,Vendredi),AND(WEEKDAY(BS$4)=7,Samedi),BS$4=férié),0,1)","v":1},{"$f":"IF(OR(AND(WEEKDAY(BT$4)=1,Dimanche),AND(WEEKDAY(BT$4)=2,Lundi),AND(WEEKDAY(BT$4)=3,Mardi),AND(WEEKDAY(BT$4)=4,Mercredi),AND(WEEKDAY(BT$4)=5,Jeudi),AND(WEEKDAY(BT$4)=6,Vendredi),AND(WEEKDAY(BT$4)=7,Samedi),BT$4=férié),0,1)","v":0},{"$f":"IF(OR(AND(WEEKDAY(BU$4)=1,Dimanche),AND(WEEKDAY(BU$4)=2,Lundi),AND(WEEKDAY(BU$4)=3,Mardi),AND(WEEKDAY(BU$4)=4,Mercredi),AND(WEEKDAY(BU$4)=5,Jeudi),AND(WEEKDAY(BU$4)=6,Vendredi),AND(WEEKDAY(BU$4)=7,Samedi),BU$4=férié),0,1)","v":0},{"$f":"IF(OR(AND(WEEKDAY(BV$4)=1,Dimanche),AND(WEEKDAY(BV$4)=2,Lundi),AND(WEEKDAY(BV$4)=3,Mardi),AND(WEEKDAY(BV$4)=4,Mercredi),AND(WEEKDAY(BV$4)=5,Jeudi),AND(WEEKDAY(BV$4)=6,Vendredi),AND(WEEKDAY(BV$4)=7,Samedi),BV$4=férié),0,1)","v":1},{"$f":"IF(OR(AND(WEEKDAY(BW$4)=1,Dimanche),AND(WEEKDAY(BW$4)=2,Lundi),AND(WEEKDAY(BW$4)=3,Mardi),AND(WEEKDAY(BW$4)=4,Mercredi),AND(WEEKDAY(BW$4)=5,Jeudi),AND(WEEKDAY(BW$4)=6,Vendredi),AND(WEEKDAY(BW$4)=7,Samedi),BW$4=férié),0,1)","v":1},{"$f":"IF(OR(AND(WEEKDAY(BX$4)=1,Dimanche),AND(WEEKDAY(BX$4)=2,Lundi),AND(WEEKDAY(BX$4)=3,Mardi),AND(WEEKDAY(BX$4)=4,Mercredi),AND(WEEKDAY(BX$4)=5,Jeudi),AND(WEEKDAY(BX$4)=6,Vendredi),AND(WEEKDAY(BX$4)=7,Samedi),BX$4=férié),0,1)","v":1},{"$f":"IF(OR(AND(WEEKDAY(BY$4)=1,Dimanche),AND(WEEKDAY(BY$4)=2,Lundi),AND(WEEKDAY(BY$4)=3,Mardi),AND(WEEKDAY(BY$4)=4,Mercredi),AND(WEEKDAY(BY$4)=5,Jeudi),AND(WEEKDAY(BY$4)=6,Vendredi),AND(WEEKDAY(BY$4)=7,Samedi),BY$4=férié),0,1)","v":1},{"$f":"IF(OR(AND(WEEKDAY(BZ$4)=1,Dimanche),AND(WEEKDAY(BZ$4)=2,Lundi),AND(WEEKDAY(BZ$4)=3,Mardi),AND(WEEKDAY(BZ$4)=4,Mercredi),AND(WEEKDAY(BZ$4)=5,Jeudi),AND(WEEKDAY(BZ$4)=6,Vendredi),AND(WEEKDAY(BZ$4)=7,Samedi),BZ$4=férié),0,1)","v":1},{"$f":"IF(OR(AND(WEEKDAY(CA$4)=1,Dimanche),AND(WEEKDAY(CA$4)=2,Lundi),AND(WEEKDAY(CA$4)=3,Mardi),AND(WEEKDAY(CA$4)=4,Mercredi),AND(WEEKDAY(CA$4)=5,Jeudi),AND(WEEKDAY(CA$4)=6,Vendredi),AND(WEEKDAY(CA$4)=7,Samedi),CA$4=férié),0,1)","v":0},{"$f":"IF(OR(AND(WEEKDAY(CB$4)=1,Dimanche),AND(WEEKDAY(CB$4)=2,Lundi),AND(WEEKDAY(CB$4)=3,Mardi),AND(WEEKDAY(CB$4)=4,Mercredi),AND(WEEKDAY(CB$4)=5,Jeudi),AND(WEEKDAY(CB$4)=6,Vendredi),AND(WEEKDAY(CB$4)=7,Samedi),CB$4=férié),0,1)","v":0},{"$f":"IF(OR(AND(WEEKDAY(CC$4)=1,Dimanche),AND(WEEKDAY(CC$4)=2,Lundi),AND(WEEKDAY(CC$4)=3,Mardi),AND(WEEKDAY(CC$4)=4,Mercredi),AND(WEEKDAY(CC$4)=5,Jeudi),AND(WEEKDAY(CC$4)=6,Vendredi),AND(WEEKDAY(CC$4)=7,Samedi),CC$4=férié),0,1)","v":1},{"$f":"IF(OR(AND(WEEKDAY(CD$4)=1,Dimanche),AND(WEEKDAY(CD$4)=2,Lundi),AND(WEEKDAY(CD$4)=3,Mardi),AND(WEEKDAY(CD$4)=4,Mercredi),AND(WEEKDAY(CD$4)=5,Jeudi),AND(WEEKDAY(CD$4)=6,Vendredi),AND(WEEKDAY(CD$4)=7,Samedi),CD$4=férié),0,1)","v":1},{"$f":"IF(OR(AND(WEEKDAY(CE$4)=1,Dimanche),AND(WEEKDAY(CE$4)=2,Lundi),AND(WEEKDAY(CE$4)=3,Mardi),AND(WEEKDAY(CE$4)=4,Mercredi),AND(WEEKDAY(CE$4)=5,Jeudi),AND(WEEKDAY(CE$4)=6,Vendredi),AND(WEEKDAY(CE$4)=7,Samedi),CE$4=férié),0,1)","v":1},{"$f":"IF(OR(AND(WEEKDAY(CF$4)=1,Dimanche),AND(WEEKDAY(CF$4)=2,Lundi),AND(WEEKDAY(CF$4)=3,Mardi),AND(WEEKDAY(CF$4)=4,Mercredi),AND(WEEKDAY(CF$4)=5,Jeudi),AND(WEEKDAY(CF$4)=6,Vendredi),AND(WEEKDAY(CF$4)=7,Samedi),CF$4=férié),0,1)","v":1},{"$f":"IF(OR(AND(WEEKDAY(CG$4)=1,Dimanche),AND(WEEKDAY(CG$4)=2,Lundi),AND(WEEKDAY(CG$4)=3,Mardi),AND(WEEKDAY(CG$4)=4,Mercredi),AND(WEEKDAY(CG$4)=5,Jeudi),AND(WEEKDAY(CG$4)=6,Vendredi),AND(WEEKDAY(CG$4)=7,Samedi),CG$4=férié),0,1)","v":1},{"$f":"IF(OR(AND(WEEKDAY(CH$4)=1,Dimanche),AND(WEEKDAY(CH$4)=2,Lundi),AND(WEEKDAY(CH$4)=3,Mardi),AND(WEEKDAY(CH$4)=4,Mercredi),AND(WEEKDAY(CH$4)=5,Jeudi),AND(WEEKDAY(CH$4)=6,Vendredi),AND(WEEKDAY(CH$4)=7,Samedi),CH$4=férié),0,1)","v":0},{"$f":"IF(OR(AND(WEEKDAY(CI$4)=1,Dimanche),AND(WEEKDAY(CI$4)=2,Lundi),AND(WEEKDAY(CI$4)=3,Mardi),AND(WEEKDAY(CI$4)=4,Mercredi),AND(WEEKDAY(CI$4)=5,Jeudi),AND(WEEKDAY(CI$4)=6,Vendredi),AND(WEEKDAY(CI$4)=7,Samedi),CI$4=férié),0,1)","v":0},{"$f":"IF(OR(AND(WEEKDAY(CJ$4)=1,Dimanche),AND(WEEKDAY(CJ$4)=2,Lundi),AND(WEEKDAY(CJ$4)=3,Mardi),AND(WEEKDAY(CJ$4)=4,Mercredi),AND(WEEKDAY(CJ$4)=5,Jeudi),AND(WEEKDAY(CJ$4)=6,Vendredi),AND(WEEKDAY(CJ$4)=7,Samedi),CJ$4=férié),0,1)","v":1},{"$f":"IF(OR(AND(WEEKDAY(CK$4)=1,Dimanche),AND(WEEKDAY(CK$4)=2,Lundi),AND(WEEKDAY(CK$4)=3,Mardi),AND(WEEKDAY(CK$4)=4,Mercredi),AND(WEEKDAY(CK$4)=5,Jeudi),AND(WEEKDAY(CK$4)=6,Vendredi),AND(WEEKDAY(CK$4)=7,Samedi),CK$4=férié),0,1)","v":1},{"$f":"IF(OR(AND(WEEKDAY(CL$4)=1,Dimanche),AND(WEEKDAY(CL$4)=2,Lundi),AND(WEEKDAY(CL$4)=3,Mardi),AND(WEEKDAY(CL$4)=4,Mercredi),AND(WEEKDAY(CL$4)=5,Jeudi),AND(WEEKDAY(CL$4)=6,Vendredi),AND(WEEKDAY(CL$4)=7,Samedi),CL$4=férié),0,1)","v":1},{"$f":"IF(OR(AND(WEEKDAY(CM$4)=1,Dimanche),AND(WEEKDAY(CM$4)=2,Lundi),AND(WEEKDAY(CM$4)=3,Mardi),AND(WEEKDAY(CM$4)=4,Mercredi),AND(WEEKDAY(CM$4)=5,Jeudi),AND(WEEKDAY(CM$4)=6,Vendredi),AND(WEEKDAY(CM$4)=7,Samedi),CM$4=férié),0,1)","v":1},{"$f":"IF(OR(AND(WEEKDAY(CN$4)=1,Dimanche),AND(WEEKDAY(CN$4)=2,Lundi),AND(WEEKDAY(CN$4)=3,Mardi),AND(WEEKDAY(CN$4)=4,Mercredi),AND(WEEKDAY(CN$4)=5,Jeudi),AND(WEEKDAY(CN$4)=6,Vendredi),AND(WEEKDAY(CN$4)=7,Samedi),CN$4=férié),0,1)","v":1},{"$f":"IF(OR(AND(WEEKDAY(CO$4)=1,Dimanche),AND(WEEKDAY(CO$4)=2,Lundi),AND(WEEKDAY(CO$4)=3,Mardi),AND(WEEKDAY(CO$4)=4,Mercredi),AND(WEEKDAY(CO$4)=5,Jeudi),AND(WEEKDAY(CO$4)=6,Vendredi),AND(WEEKDAY(CO$4)=7,Samedi),CO$4=férié),0,1)","v":0},{"$f":"IF(OR(AND(WEEKDAY(CP$4)=1,Dimanche),AND(WEEKDAY(CP$4)=2,Lundi),AND(WEEKDAY(CP$4)=3,Mardi),AND(WEEKDAY(CP$4)=4,Mercredi),AND(WEEKDAY(CP$4)=5,Jeudi),AND(WEEKDAY(CP$4)=6,Vendredi),AND(WEEKDAY(CP$4)=7,Samedi),CP$4=férié),0,1)","v":0},{"$f":"IF(OR(AND(WEEKDAY(CQ$4)=1,Dimanche),AND(WEEKDAY(CQ$4)=2,Lundi),AND(WEEKDAY(CQ$4)=3,Mardi),AND(WEEKDAY(CQ$4)=4,Mercredi),AND(WEEKDAY(CQ$4)=5,Jeudi),AND(WEEKDAY(CQ$4)=6,Vendredi),AND(WEEKDAY(CQ$4)=7,Samedi),CQ$4=férié),0,1)","v":1},{"$f":"IF(OR(AND(WEEKDAY(CR$4)=1,Dimanche),AND(WEEKDAY(CR$4)=2,Lundi),AND(WEEKDAY(CR$4)=3,Mardi),AND(WEEKDAY(CR$4)=4,Mercredi),AND(WEEKDAY(CR$4)=5,Jeudi),AND(WEEKDAY(CR$4)=6,Vendredi),AND(WEEKDAY(CR$4)=7,Samedi),CR$4=férié),0,1)","v":1},{"$f":"IF(OR(AND(WEEKDAY(CS$4)=1,Dimanche),AND(WEEKDAY(CS$4)=2,Lundi),AND(WEEKDAY(CS$4)=3,Mardi),AND(WEEKDAY(CS$4)=4,Mercredi),AND(WEEKDAY(CS$4)=5,Jeudi),AND(WEEKDAY(CS$4)=6,Vendredi),AND(WEEKDAY(CS$4)=7,Samedi),CS$4=férié),0,1)","v":1},{"$f":"IF(OR(AND(WEEKDAY(CT$4)=1,Dimanche),AND(WEEKDAY(CT$4)=2,Lundi),AND(WEEKDAY(CT$4)=3,Mardi),AND(WEEKDAY(CT$4)=4,Mercredi),AND(WEEKDAY(CT$4)=5,Jeudi),AND(WEEKDAY(CT$4)=6,Vendredi),AND(WEEKDAY(CT$4)=7,Samedi),CT$4=férié),0,1)","v":1},{"$f":"IF(OR(AND(WEEKDAY(CU$4)=1,Dimanche),AND(WEEKDAY(CU$4)=2,Lundi),AND(WEEKDAY(CU$4)=3,Mardi),AND(WEEKDAY(CU$4)=4,Mercredi),AND(WEEKDAY(CU$4)=5,Jeudi),AND(WEEKDAY(CU$4)=6,Vendredi),AND(WEEKDAY(CU$4)=7,Samedi),CU$4=férié),0,1)","v":1},{"$f":"IF(OR(AND(WEEKDAY(CV$4)=1,Dimanche),AND(WEEKDAY(CV$4)=2,Lundi),AND(WEEKDAY(CV$4)=3,Mardi),AND(WEEKDAY(CV$4)=4,Mercredi),AND(WEEKDAY(CV$4)=5,Jeudi),AND(WEEKDAY(CV$4)=6,Vendredi),AND(WEEKDAY(CV$4)=7,Samedi),CV$4=férié),0,1)","v":0},{"$f":"IF(OR(AND(WEEKDAY(CW$4)=1,Dimanche),AND(WEEKDAY(CW$4)=2,Lundi),AND(WEEKDAY(CW$4)=3,Mardi),AND(WEEKDAY(CW$4)=4,Mercredi),AND(WEEKDAY(CW$4)=5,Jeudi),AND(WEEKDAY(CW$4)=6,Vendredi),AND(WEEKDAY(CW$4)=7,Samedi),CW$4=férié),0,1)","v":0},{"$f":"IF(OR(AND(WEEKDAY(CX$4)=1,Dimanche),AND(WEEKDAY(CX$4)=2,Lundi),AND(WEEKDAY(CX$4)=3,Mardi),AND(WEEKDAY(CX$4)=4,Mercredi),AND(WEEKDAY(CX$4)=5,Jeudi),AND(WEEKDAY(CX$4)=6,Vendredi),AND(WEEKDAY(CX$4)=7,Samedi),CX$4=férié),0,1)","v":1},{"$f":"IF(OR(AND(WEEKDAY(CY$4)=1,Dimanche),AND(WEEKDAY(CY$4)=2,Lundi),AND(WEEKDAY(CY$4)=3,Mardi),AND(WEEKDAY(CY$4)=4,Mercredi),AND(WEEKDAY(CY$4)=5,Jeudi),AND(WEEKDAY(CY$4)=6,Vendredi),AND(WEEKDAY(CY$4)=7,Samedi),CY$4=férié),0,1)","v":1},{"$f":"IF(OR(AND(WEEKDAY(CZ$4)=1,Dimanche),AND(WEEKDAY(CZ$4)=2,Lundi),AND(WEEKDAY(CZ$4)=3,Mardi),AND(WEEKDAY(CZ$4)=4,Mercredi),AND(WEEKDAY(CZ$4)=5,Jeudi),AND(WEEKDAY(CZ$4)=6,Vendredi),AND(WEEKDAY(CZ$4)=7,Samedi),CZ$4=férié),0,1)","v":1},{"$f":"IF(OR(AND(WEEKDAY(DA$4)=1,Dimanche),AND(WEEKDAY(DA$4)=2,Lundi),AND(WEEKDAY(DA$4)=3,Mardi),AND(WEEKDAY(DA$4)=4,Mercredi),AND(WEEKDAY(DA$4)=5,Jeudi),AND(WEEKDAY(DA$4)=6,Vendredi),AND(WEEKDAY(DA$4)=7,Samedi),DA$4=férié),0,1)","v":1},{"$f":"IF(OR(AND(WEEKDAY(DB$4)=1,Dimanche),AND(WEEKDAY(DB$4)=2,Lundi),AND(WEEKDAY(DB$4)=3,Mardi),AND(WEEKDAY(DB$4)=4,Mercredi),AND(WEEKDAY(DB$4)=5,Jeudi),AND(WEEKDAY(DB$4)=6,Vendredi),AND(WEEKDAY(DB$4)=7,Samedi),DB$4=férié),0,1)","v":1},{"$f":"IF(OR(AND(WEEKDAY(DC$4)=1,Dimanche),AND(WEEKDAY(DC$4)=2,Lundi),AND(WEEKDAY(DC$4)=3,Mardi),AND(WEEKDAY(DC$4)=4,Mercredi),AND(WEEKDAY(DC$4)=5,Jeudi),AND(WEEKDAY(DC$4)=6,Vendredi),AND(WEEKDAY(DC$4)=7,Samedi),DC$4=férié),0,1)","v":0},{"$f":"IF(OR(AND(WEEKDAY(DD$4)=1,Dimanche),AND(WEEKDAY(DD$4)=2,Lundi),AND(WEEKDAY(DD$4)=3,Mardi),AND(WEEKDAY(DD$4)=4,Mercredi),AND(WEEKDAY(DD$4)=5,Jeudi),AND(WEEKDAY(DD$4)=6,Vendredi),AND(WEEKDAY(DD$4)=7,Samedi),DD$4=férié),0,1)","v":0},{"$f":"IF(OR(AND(WEEKDAY(DE$4)=1,Dimanche),AND(WEEKDAY(DE$4)=2,Lundi),AND(WEEKDAY(DE$4)=3,Mardi),AND(WEEKDAY(DE$4)=4,Mercredi),AND(WEEKDAY(DE$4)=5,Jeudi),AND(WEEKDAY(DE$4)=6,Vendredi),AND(WEEKDAY(DE$4)=7,Samedi),DE$4=férié),0,1)","v":1},{"$f":"IF(OR(AND(WEEKDAY(DF$4)=1,Dimanche),AND(WEEKDAY(DF$4)=2,Lundi),AND(WEEKDAY(DF$4)=3,Mardi),AND(WEEKDAY(DF$4)=4,Mercredi),AND(WEEKDAY(DF$4)=5,Jeudi),AND(WEEKDAY(DF$4)=6,Vendredi),AND(WEEKDAY(DF$4)=7,Samedi),DF$4=férié),0,1)","v":1},{"$f":"IF(OR(AND(WEEKDAY(DG$4)=1,Dimanche),AND(WEEKDAY(DG$4)=2,Lundi),AND(WEEKDAY(DG$4)=3,Mardi),AND(WEEKDAY(DG$4)=4,Mercredi),AND(WEEKDAY(DG$4)=5,Jeudi),AND(WEEKDAY(DG$4)=6,Vendredi),AND(WEEKDAY(DG$4)=7,Samedi),DG$4=férié),0,1)","v":1},{"$f":"IF(OR(AND(WEEKDAY(DH$4)=1,Dimanche),AND(WEEKDAY(DH$4)=2,Lundi),AND(WEEKDAY(DH$4)=3,Mardi),AND(WEEKDAY(DH$4)=4,Mercredi),AND(WEEKDAY(DH$4)=5,Jeudi),AND(WEEKDAY(DH$4)=6,Vendredi),AND(WEEKDAY(DH$4)=7,Samedi),DH$4=férié),0,1)","v":1},{"$f":"IF(OR(AND(WEEKDAY(DI$4)=1,Dimanche),AND(WEEKDAY(DI$4)=2,Lundi),AND(WEEKDAY(DI$4)=3,Mardi),AND(WEEKDAY(DI$4)=4,Mercredi),AND(WEEKDAY(DI$4)=5,Jeudi),AND(WEEKDAY(DI$4)=6,Vendredi),AND(WEEKDAY(DI$4)=7,Samedi),DI$4=férié),0,1)","v":1},{"$f":"IF(OR(AND(WEEKDAY(DJ$4)=1,Dimanche),AND(WEEKDAY(DJ$4)=2,Lundi),AND(WEEKDAY(DJ$4)=3,Mardi),AND(WEEKDAY(DJ$4)=4,Mercredi),AND(WEEKDAY(DJ$4)=5,Jeudi),AND(WEEKDAY(DJ$4)=6,Vendredi),AND(WEEKDAY(DJ$4)=7,Samedi),DJ$4=férié),0,1)","v":0},{"$f":"IF(OR(AND(WEEKDAY(DK$4)=1,Dimanche),AND(WEEKDAY(DK$4)=2,Lundi),AND(WEEKDAY(DK$4)=3,Mardi),AND(WEEKDAY(DK$4)=4,Mercredi),AND(WEEKDAY(DK$4)=5,Jeudi),AND(WEEKDAY(DK$4)=6,Vendredi),AND(WEEKDAY(DK$4)=7,Samedi),DK$4=férié),0,1)","v":0},{"$f":"IF(OR(AND(WEEKDAY(DL$4)=1,Dimanche),AND(WEEKDAY(DL$4)=2,Lundi),AND(WEEKDAY(DL$4)=3,Mardi),AND(WEEKDAY(DL$4)=4,Mercredi),AND(WEEKDAY(DL$4)=5,Jeudi),AND(WEEKDAY(DL$4)=6,Vendredi),AND(WEEKDAY(DL$4)=7,Samedi),DL$4=férié),0,1)","v":0},{"$f":"IF(OR(AND(WEEKDAY(DM$4)=1,Dimanche),AND(WEEKDAY(DM$4)=2,Lundi),AND(WEEKDAY(DM$4)=3,Mardi),AND(WEEKDAY(DM$4)=4,Mercredi),AND(WEEKDAY(DM$4)=5,Jeudi),AND(WEEKDAY(DM$4)=6,Vendredi),AND(WEEKDAY(DM$4)=7,Samedi),DM$4=férié),0,1)","v":1},{"$f":"IF(OR(AND(WEEKDAY(DN$4)=1,Dimanche),AND(WEEKDAY(DN$4)=2,Lundi),AND(WEEKDAY(DN$4)=3,Mardi),AND(WEEKDAY(DN$4)=4,Mercredi),AND(WEEKDAY(DN$4)=5,Jeudi),AND(WEEKDAY(DN$4)=6,Vendredi),AND(WEEKDAY(DN$4)=7,Samedi),DN$4=férié),0,1)","v":1},{"$f":"IF(OR(AND(WEEKDAY(DO$4)=1,Dimanche),AND(WEEKDAY(DO$4)=2,Lundi),AND(WEEKDAY(DO$4)=3,Mardi),AND(WEEKDAY(DO$4)=4,Mercredi),AND(WEEKDAY(DO$4)=5,Jeudi),AND(WEEKDAY(DO$4)=6,Vendredi),AND(WEEKDAY(DO$4)=7,Samedi),DO$4=férié),0,1)","v":1},{"$f":"IF(OR(AND(WEEKDAY(DP$4)=1,Dimanche),AND(WEEKDAY(DP$4)=2,Lundi),AND(WEEKDAY(DP$4)=3,Mardi),AND(WEEKDAY(DP$4)=4,Mercredi),AND(WEEKDAY(DP$4)=5,Jeudi),AND(WEEKDAY(DP$4)=6,Vendredi),AND(WEEKDAY(DP$4)=7,Samedi),DP$4=férié),0,1)","v":1},{"$f":"IF(OR(AND(WEEKDAY(DQ$4)=1,Dimanche),AND(WEEKDAY(DQ$4)=2,Lundi),AND(WEEKDAY(DQ$4)=3,Mardi),AND(WEEKDAY(DQ$4)=4,Mercredi),AND(WEEKDAY(DQ$4)=5,Jeudi),AND(WEEKDAY(DQ$4)=6,Vendredi),AND(WEEKDAY(DQ$4)=7,Samedi),DQ$4=férié),0,1)","v":0},{"$f":"IF(OR(AND(WEEKDAY(DR$4)=1,Dimanche),AND(WEEKDAY(DR$4)=2,Lundi),AND(WEEKDAY(DR$4)=3,Mardi),AND(WEEKDAY(DR$4)=4,Mercredi),AND(WEEKDAY(DR$4)=5,Jeudi),AND(WEEKDAY(DR$4)=6,Vendredi),AND(WEEKDAY(DR$4)=7,Samedi),DR$4=férié),0,1)","v":0},{"$f":"IF(OR(AND(WEEKDAY(DS$4)=1,Dimanche),AND(WEEKDAY(DS$4)=2,Lundi),AND(WEEKDAY(DS$4)=3,Mardi),AND(WEEKDAY(DS$4)=4,Mercredi),AND(WEEKDAY(DS$4)=5,Jeudi),AND(WEEKDAY(DS$4)=6,Vendredi),AND(WEEKDAY(DS$4)=7,Samedi),DS$4=férié),0,1)","v":1},{"$f":"IF(OR(AND(WEEKDAY(DT$4)=1,Dimanche),AND(WEEKDAY(DT$4)=2,Lundi),AND(WEEKDAY(DT$4)=3,Mardi),AND(WEEKDAY(DT$4)=4,Mercredi),AND(WEEKDAY(DT$4)=5,Jeudi),AND(WEEKDAY(DT$4)=6,Vendredi),AND(WEEKDAY(DT$4)=7,Samedi),DT$4=férié),0,1)","v":1},{"$f":"IF(OR(AND(WEEKDAY(DU$4)=1,Dimanche),AND(WEEKDAY(DU$4)=2,Lundi),AND(WEEKDAY(DU$4)=3,Mardi),AND(WEEKDAY(DU$4)=4,Mercredi),AND(WEEKDAY(DU$4)=5,Jeudi),AND(WEEKDAY(DU$4)=6,Vendredi),AND(WEEKDAY(DU$4)=7,Samedi),DU$4=férié),0,1)","v":1},{"$f":"IF(OR(AND(WEEKDAY(DV$4)=1,Dimanche),AND(WEEKDAY(DV$4)=2,Lundi),AND(WEEKDAY(DV$4)=3,Mardi),AND(WEEKDAY(DV$4)=4,Mercredi),AND(WEEKDAY(DV$4)=5,Jeudi),AND(WEEKDAY(DV$4)=6,Vendredi),AND(WEEKDAY(DV$4)=7,Samedi),DV$4=férié),0,1)","v":1},{"$f":"IF(OR(AND(WEEKDAY(DW$4)=1,Dimanche),AND(WEEKDAY(DW$4)=2,Lundi),AND(WEEKDAY(DW$4)=3,Mardi),AND(WEEKDAY(DW$4)=4,Mercredi),AND(WEEKDAY(DW$4)=5,Jeudi),AND(WEEKDAY(DW$4)=6,Vendredi),AND(WEEKDAY(DW$4)=7,Samedi),DW$4=férié),0,1)","v":1},{"$f":"IF(OR(AND(WEEKDAY(DX$4)=1,Dimanche),AND(WEEKDAY(DX$4)=2,Lundi),AND(WEEKDAY(DX$4)=3,Mardi),AND(WEEKDAY(DX$4)=4,Mercredi),AND(WEEKDAY(DX$4)=5,Jeudi),AND(WEEKDAY(DX$4)=6,Vendredi),AND(WEEKDAY(DX$4)=7,Samedi),DX$4=férié),0,1)","v":0},{"$f":"IF(OR(AND(WEEKDAY(DY$4)=1,Dimanche),AND(WEEKDAY(DY$4)=2,Lundi),AND(WEEKDAY(DY$4)=3,Mardi),AND(WEEKDAY(DY$4)=4,Mercredi),AND(WEEKDAY(DY$4)=5,Jeudi),AND(WEEKDAY(DY$4)=6,Vendredi),AND(WEEKDAY(DY$4)=7,Samedi),DY$4=férié),0,1)","v":0},{"$f":"IF(OR(AND(WEEKDAY(DZ$4)=1,Dimanche),AND(WEEKDAY(DZ$4)=2,Lundi),AND(WEEKDAY(DZ$4)=3,Mardi),AND(WEEKDAY(DZ$4)=4,Mercredi),AND(WEEKDAY(DZ$4)=5,Jeudi),AND(WEEKDAY(DZ$4)=6,Vendredi),AND(WEEKDAY(DZ$4)=7,Samedi),DZ$4=férié),0,1)","v":0},{"$f":"IF(OR(AND(WEEKDAY(EA$4)=1,Dimanche),AND(WEEKDAY(EA$4)=2,Lundi),AND(WEEKDAY(EA$4)=3,Mardi),AND(WEEKDAY(EA$4)=4,Mercredi),AND(WEEKDAY(EA$4)=5,Jeudi),AND(WEEKDAY(EA$4)=6,Vendredi),AND(WEEKDAY(EA$4)=7,Samedi),EA$4=férié),0,1)","v":1},{"$f":"IF(OR(AND(WEEKDAY(EB$4)=1,Dimanche),AND(WEEKDAY(EB$4)=2,Lundi),AND(WEEKDAY(EB$4)=3,Mardi),AND(WEEKDAY(EB$4)=4,Mercredi),AND(WEEKDAY(EB$4)=5,Jeudi),AND(WEEKDAY(EB$4)=6,Vendredi),AND(WEEKDAY(EB$4)=7,Samedi),EB$4=férié),0,1)","v":1},{"$f":"IF(OR(AND(WEEKDAY(EC$4)=1,Dimanche),AND(WEEKDAY(EC$4)=2,Lundi),AND(WEEKDAY(EC$4)=3,Mardi),AND(WEEKDAY(EC$4)=4,Mercredi),AND(WEEKDAY(EC$4)=5,Jeudi),AND(WEEKDAY(EC$4)=6,Vendredi),AND(WEEKDAY(EC$4)=7,Samedi),EC$4=férié),0,1)","v":1},{"$f":"IF(OR(AND(WEEKDAY(ED$4)=1,Dimanche),AND(WEEKDAY(ED$4)=2,Lundi),AND(WEEKDAY(ED$4)=3,Mardi),AND(WEEKDAY(ED$4)=4,Mercredi),AND(WEEKDAY(ED$4)=5,Jeudi),AND(WEEKDAY(ED$4)=6,Vendredi),AND(WEEKDAY(ED$4)=7,Samedi),ED$4=férié),0,1)","v":1},{"$f":"IF(OR(AND(WEEKDAY(EE$4)=1,Dimanche),AND(WEEKDAY(EE$4)=2,Lundi),AND(WEEKDAY(EE$4)=3,Mardi),AND(WEEKDAY(EE$4)=4,Mercredi),AND(WEEKDAY(EE$4)=5,Jeudi),AND(WEEKDAY(EE$4)=6,Vendredi),AND(WEEKDAY(EE$4)=7,Samedi),EE$4=férié),0,1)","v":0},{"$f":"IF(OR(AND(WEEKDAY(EF$4)=1,Dimanche),AND(WEEKDAY(EF$4)=2,Lundi),AND(WEEKDAY(EF$4)=3,Mardi),AND(WEEKDAY(EF$4)=4,Mercredi),AND(WEEKDAY(EF$4)=5,Jeudi),AND(WEEKDAY(EF$4)=6,Vendredi),AND(WEEKDAY(EF$4)=7,Samedi),EF$4=férié),0,1)","v":0},{"$f":"IF(OR(AND(WEEKDAY(EG$4)=1,Dimanche),AND(WEEKDAY(EG$4)=2,Lundi),AND(WEEKDAY(EG$4)=3,Mardi),AND(WEEKDAY(EG$4)=4,Mercredi),AND(WEEKDAY(EG$4)=5,Jeudi),AND(WEEKDAY(EG$4)=6,Vendredi),AND(WEEKDAY(EG$4)=7,Samedi),EG$4=férié),0,1)","v":0},{"$f":"IF(OR(AND(WEEKDAY(EH$4)=1,Dimanche),AND(WEEKDAY(EH$4)=2,Lundi),AND(WEEKDAY(EH$4)=3,Mardi),AND(WEEKDAY(EH$4)=4,Mercredi),AND(WEEKDAY(EH$4)=5,Jeudi),AND(WEEKDAY(EH$4)=6,Vendredi),AND(WEEKDAY(EH$4)=7,Samedi),EH$4=férié),0,1)","v":1},{"$f":"IF(OR(AND(WEEKDAY(EI$4)=1,Dimanche),AND(WEEKDAY(EI$4)=2,Lundi),AND(WEEKDAY(EI$4)=3,Mardi),AND(WEEKDAY(EI$4)=4,Mercredi),AND(WEEKDAY(EI$4)=5,Jeudi),AND(WEEKDAY(EI$4)=6,Vendredi),AND(WEEKDAY(EI$4)=7,Samedi),EI$4=férié),0,1)","v":1},{"$f":"IF(OR(AND(WEEKDAY(EJ$4)=1,Dimanche),AND(WEEKDAY(EJ$4)=2,Lundi),AND(WEEKDAY(EJ$4)=3,Mardi),AND(WEEKDAY(EJ$4)=4,Mercredi),AND(WEEKDAY(EJ$4)=5,Jeudi),AND(WEEKDAY(EJ$4)=6,Vendredi),AND(WEEKDAY(EJ$4)=7,Samedi),EJ$4=férié),0,1)","v":1},{"$f":"IF(OR(AND(WEEKDAY(EK$4)=1,Dimanche),AND(WEEKDAY(EK$4)=2,Lundi),AND(WEEKDAY(EK$4)=3,Mardi),AND(WEEKDAY(EK$4)=4,Mercredi),AND(WEEKDAY(EK$4)=5,Jeudi),AND(WEEKDAY(EK$4)=6,Vendredi),AND(WEEKDAY(EK$4)=7,Samedi),EK$4=férié),0,1)","v":1},{"$f":"IF(OR(AND(WEEKDAY(EL$4)=1,Dimanche),AND(WEEKDAY(EL$4)=2,Lundi),AND(WEEKDAY(EL$4)=3,Mardi),AND(WEEKDAY(EL$4)=4,Mercredi),AND(WEEKDAY(EL$4)=5,Jeudi),AND(WEEKDAY(EL$4)=6,Vendredi),AND(WEEKDAY(EL$4)=7,Samedi),EL$4=férié),0,1)","v":0},{"$f":"IF(OR(AND(WEEKDAY(EM$4)=1,Dimanche),AND(WEEKDAY(EM$4)=2,Lundi),AND(WEEKDAY(EM$4)=3,Mardi),AND(WEEKDAY(EM$4)=4,Mercredi),AND(WEEKDAY(EM$4)=5,Jeudi),AND(WEEKDAY(EM$4)=6,Vendredi),AND(WEEKDAY(EM$4)=7,Samedi),EM$4=férié),0,1)","v":0},{"$f":"IF(OR(AND(WEEKDAY(EN$4)=1,Dimanche),AND(WEEKDAY(EN$4)=2,Lundi),AND(WEEKDAY(EN$4)=3,Mardi),AND(WEEKDAY(EN$4)=4,Mercredi),AND(WEEKDAY(EN$4)=5,Jeudi),AND(WEEKDAY(EN$4)=6,Vendredi),AND(WEEKDAY(EN$4)=7,Samedi),EN$4=férié),0,1)","v":1},{"$f":"IF(OR(AND(WEEKDAY(EO$4)=1,Dimanche),AND(WEEKDAY(EO$4)=2,Lundi),AND(WEEKDAY(EO$4)=3,Mardi),AND(WEEKDAY(EO$4)=4,Mercredi),AND(WEEKDAY(EO$4)=5,Jeudi),AND(WEEKDAY(EO$4)=6,Vendredi),AND(WEEKDAY(EO$4)=7,Samedi),EO$4=férié),0,1)","v":1},{"$f":"IF(OR(AND(WEEKDAY(EP$4)=1,Dimanche),AND(WEEKDAY(EP$4)=2,Lundi),AND(WEEKDAY(EP$4)=3,Mardi),AND(WEEKDAY(EP$4)=4,Mercredi),AND(WEEKDAY(EP$4)=5,Jeudi),AND(WEEKDAY(EP$4)=6,Vendredi),AND(WEEKDAY(EP$4)=7,Samedi),EP$4=férié),0,1)","v":1},{"$f":"IF(OR(AND(WEEKDAY(EQ$4)=1,Dimanche),AND(WEEKDAY(EQ$4)=2,Lundi),AND(WEEKDAY(EQ$4)=3,Mardi),AND(WEEKDAY(EQ$4)=4,Mercredi),AND(WEEKDAY(EQ$4)=5,Jeudi),AND(WEEKDAY(EQ$4)=6,Vendredi),AND(WEEKDAY(EQ$4)=7,Samedi),EQ$4=férié),0,1)","v":1},{"$f":"IF(OR(AND(WEEKDAY(ER$4)=1,Dimanche),AND(WEEKDAY(ER$4)=2,Lundi),AND(WEEKDAY(ER$4)=3,Mardi),AND(WEEKDAY(ER$4)=4,Mercredi),AND(WEEKDAY(ER$4)=5,Jeudi),AND(WEEKDAY(ER$4)=6,Vendredi),AND(WEEKDAY(ER$4)=7,Samedi),ER$4=férié),0,1)","v":1},{"$f":"IF(OR(AND(WEEKDAY(ES$4)=1,Dimanche),AND(WEEKDAY(ES$4)=2,Lundi),AND(WEEKDAY(ES$4)=3,Mardi),AND(WEEKDAY(ES$4)=4,Mercredi),AND(WEEKDAY(ES$4)=5,Jeudi),AND(WEEKDAY(ES$4)=6,Vendredi),AND(WEEKDAY(ES$4)=7,Samedi),ES$4=férié),0,1)","v":0},{"$f":"IF(OR(AND(WEEKDAY(ET$4)=1,Dimanche),AND(WEEKDAY(ET$4)=2,Lundi),AND(WEEKDAY(ET$4)=3,Mardi),AND(WEEKDAY(ET$4)=4,Mercredi),AND(WEEKDAY(ET$4)=5,Jeudi),AND(WEEKDAY(ET$4)=6,Vendredi),AND(WEEKDAY(ET$4)=7,Samedi),ET$4=férié),0,1)","v":0},{"$f":"IF(OR(AND(WEEKDAY(EU$4)=1,Dimanche),AND(WEEKDAY(EU$4)=2,Lundi),AND(WEEKDAY(EU$4)=3,Mardi),AND(WEEKDAY(EU$4)=4,Mercredi),AND(WEEKDAY(EU$4)=5,Jeudi),AND(WEEKDAY(EU$4)=6,Vendredi),AND(WEEKDAY(EU$4)=7,Samedi),EU$4=férié),0,1)","v":1},{"$f":"IF(OR(AND(WEEKDAY(EV$4)=1,Dimanche),AND(WEEKDAY(EV$4)=2,Lundi),AND(WEEKDAY(EV$4)=3,Mardi),AND(WEEKDAY(EV$4)=4,Mercredi),AND(WEEKDAY(EV$4)=5,Jeudi),AND(WEEKDAY(EV$4)=6,Vendredi),AND(WEEKDAY(EV$4)=7,Samedi),EV$4=férié),0,1)","v":1},{"$f":"IF(OR(AND(WEEKDAY(EW$4)=1,Dimanche),AND(WEEKDAY(EW$4)=2,Lundi),AND(WEEKDAY(EW$4)=3,Mardi),AND(WEEKDAY(EW$4)=4,Mercredi),AND(WEEKDAY(EW$4)=5,Jeudi),AND(WEEKDAY(EW$4)=6,Vendredi),AND(WEEKDAY(EW$4)=7,Samedi),EW$4=férié),0,1)","v":1},{"$f":"IF(OR(AND(WEEKDAY(EX$4)=1,Dimanche),AND(WEEKDAY(EX$4)=2,Lundi),AND(WEEKDAY(EX$4)=3,Mardi),AND(WEEKDAY(EX$4)=4,Mercredi),AND(WEEKDAY(EX$4)=5,Jeudi),AND(WEEKDAY(EX$4)=6,Vendredi),AND(WEEKDAY(EX$4)=7,Samedi),EX$4=férié),0,1)","v":0},{"$f":"IF(OR(AND(WEEKDAY(EY$4)=1,Dimanche),AND(WEEKDAY(EY$4)=2,Lundi),AND(WEEKDAY(EY$4)=3,Mardi),AND(WEEKDAY(EY$4)=4,Mercredi),AND(WEEKDAY(EY$4)=5,Jeudi),AND(WEEKDAY(EY$4)=6,Vendredi),AND(WEEKDAY(EY$4)=7,Samedi),EY$4=férié),0,1)","v":1},{"$f":"IF(OR(AND(WEEKDAY(EZ$4)=1,Dimanche),AND(WEEKDAY(EZ$4)=2,Lundi),AND(WEEKDAY(EZ$4)=3,Mardi),AND(WEEKDAY(EZ$4)=4,Mercredi),AND(WEEKDAY(EZ$4)=5,Jeudi),AND(WEEKDAY(EZ$4)=6,Vendredi),AND(WEEKDAY(EZ$4)=7,Samedi),EZ$4=férié),0,1)","v":0},{"$f":"IF(OR(AND(WEEKDAY(FA$4)=1,Dimanche),AND(WEEKDAY(FA$4)=2,Lundi),AND(WEEKDAY(FA$4)=3,Mardi),AND(WEEKDAY(FA$4)=4,Mercredi),AND(WEEKDAY(FA$4)=5,Jeudi),AND(WEEKDAY(FA$4)=6,Vendredi),AND(WEEKDAY(FA$4)=7,Samedi),FA$4=férié),0,1)","v":0},{"$f":"IF(OR(AND(WEEKDAY(FB$4)=1,Dimanche),AND(WEEKDAY(FB$4)=2,Lundi),AND(WEEKDAY(FB$4)=3,Mardi),AND(WEEKDAY(FB$4)=4,Mercredi),AND(WEEKDAY(FB$4)=5,Jeudi),AND(WEEKDAY(FB$4)=6,Vendredi),AND(WEEKDAY(FB$4)=7,Samedi),FB$4=férié),0,1)","v":1},{"$f":"IF(OR(AND(WEEKDAY(FC$4)=1,Dimanche),AND(WEEKDAY(FC$4)=2,Lundi),AND(WEEKDAY(FC$4)=3,Mardi),AND(WEEKDAY(FC$4)=4,Mercredi),AND(WEEKDAY(FC$4)=5,Jeudi),AND(WEEKDAY(FC$4)=6,Vendredi),AND(WEEKDAY(FC$4)=7,Samedi),FC$4=férié),0,1)","v":1},{"$f":"IF(OR(AND(WEEKDAY(FD$4)=1,Dimanche),AND(WEEKDAY(FD$4)=2,Lundi),AND(WEEKDAY(FD$4)=3,Mardi),AND(WEEKDAY(FD$4)=4,Mercredi),AND(WEEKDAY(FD$4)=5,Jeudi),AND(WEEKDAY(FD$4)=6,Vendredi),AND(WEEKDAY(FD$4)=7,Samedi),FD$4=férié),0,1)","v":1},{"$f":"IF(OR(AND(WEEKDAY(FE$4)=1,Dimanche),AND(WEEKDAY(FE$4)=2,Lundi),AND(WEEKDAY(FE$4)=3,Mardi),AND(WEEKDAY(FE$4)=4,Mercredi),AND(WEEKDAY(FE$4)=5,Jeudi),AND(WEEKDAY(FE$4)=6,Vendredi),AND(WEEKDAY(FE$4)=7,Samedi),FE$4=férié),0,1)","v":1},{"$f":"IF(OR(AND(WEEKDAY(FF$4)=1,Dimanche),AND(WEEKDAY(FF$4)=2,Lundi),AND(WEEKDAY(FF$4)=3,Mardi),AND(WEEKDAY(FF$4)=4,Mercredi),AND(WEEKDAY(FF$4)=5,Jeudi),AND(WEEKDAY(FF$4)=6,Vendredi),AND(WEEKDAY(FF$4)=7,Samedi),FF$4=férié),0,1)","v":1},{"$f":"IF(OR(AND(WEEKDAY(FG$4)=1,Dimanche),AND(WEEKDAY(FG$4)=2,Lundi),AND(WEEKDAY(FG$4)=3,Mardi),AND(WEEKDAY(FG$4)=4,Mercredi),AND(WEEKDAY(FG$4)=5,Jeudi),AND(WEEKDAY(FG$4)=6,Vendredi),AND(WEEKDAY(FG$4)=7,Samedi),FG$4=férié),0,1)","v":0},{"$f":"IF(OR(AND(WEEKDAY(FH$4)=1,Dimanche),AND(WEEKDAY(FH$4)=2,Lundi),AND(WEEKDAY(FH$4)=3,Mardi),AND(WEEKDAY(FH$4)=4,Mercredi),AND(WEEKDAY(FH$4)=5,Jeudi),AND(WEEKDAY(FH$4)=6,Vendredi),AND(WEEKDAY(FH$4)=7,Samedi),FH$4=férié),0,1)","v":0},{"$f":"IF(OR(AND(WEEKDAY(FI$4)=1,Dimanche),AND(WEEKDAY(FI$4)=2,Lundi),AND(WEEKDAY(FI$4)=3,Mardi),AND(WEEKDAY(FI$4)=4,Mercredi),AND(WEEKDAY(FI$4)=5,Jeudi),AND(WEEKDAY(FI$4)=6,Vendredi),AND(WEEKDAY(FI$4)=7,Samedi),FI$4=férié),0,1)","v":0},{"$f":"IF(OR(AND(WEEKDAY(FJ$4)=1,Dimanche),AND(WEEKDAY(FJ$4)=2,Lundi),AND(WEEKDAY(FJ$4)=3,Mardi),AND(WEEKDAY(FJ$4)=4,Mercredi),AND(WEEKDAY(FJ$4)=5,Jeudi),AND(WEEKDAY(FJ$4)=6,Vendredi),AND(WEEKDAY(FJ$4)=7,Samedi),FJ$4=férié),0,1)","v":1},{"$f":"IF(OR(AND(WEEKDAY(FK$4)=1,Dimanche),AND(WEEKDAY(FK$4)=2,Lundi),AND(WEEKDAY(FK$4)=3,Mardi),AND(WEEKDAY(FK$4)=4,Mercredi),AND(WEEKDAY(FK$4)=5,Jeudi),AND(WEEKDAY(FK$4)=6,Vendredi),AND(WEEKDAY(FK$4)=7,Samedi),FK$4=férié),0,1)","v":1},{"$f":"IF(OR(AND(WEEKDAY(FL$4)=1,Dimanche),AND(WEEKDAY(FL$4)=2,Lundi),AND(WEEKDAY(FL$4)=3,Mardi),AND(WEEKDAY(FL$4)=4,Mercredi),AND(WEEKDAY(FL$4)=5,Jeudi),AND(WEEKDAY(FL$4)=6,Vendredi),AND(WEEKDAY(FL$4)=7,Samedi),FL$4=férié),0,1)","v":1},{"$f":"IF(OR(AND(WEEKDAY(FM$4)=1,Dimanche),AND(WEEKDAY(FM$4)=2,Lundi),AND(WEEKDAY(FM$4)=3,Mardi),AND(WEEKDAY(FM$4)=4,Mercredi),AND(WEEKDAY(FM$4)=5,Jeudi),AND(WEEKDAY(FM$4)=6,Vendredi),AND(WEEKDAY(FM$4)=7,Samedi),FM$4=férié),0,1)","v":1},{"$f":"IF(OR(AND(WEEKDAY(FN$4)=1,Dimanche),AND(WEEKDAY(FN$4)=2,Lundi),AND(WEEKDAY(FN$4)=3,Mardi),AND(WEEKDAY(FN$4)=4,Mercredi),AND(WEEKDAY(FN$4)=5,Jeudi),AND(WEEKDAY(FN$4)=6,Vendredi),AND(WEEKDAY(FN$4)=7,Samedi),FN$4=férié),0,1)","v":0},{"$f":"IF(OR(AND(WEEKDAY(FO$4)=1,Dimanche),AND(WEEKDAY(FO$4)=2,Lundi),AND(WEEKDAY(FO$4)=3,Mardi),AND(WEEKDAY(FO$4)=4,Mercredi),AND(WEEKDAY(FO$4)=5,Jeudi),AND(WEEKDAY(FO$4)=6,Vendredi),AND(WEEKDAY(FO$4)=7,Samedi),FO$4=férié),0,1)","v":0},{"$f":"IF(OR(AND(WEEKDAY(FP$4)=1,Dimanche),AND(WEEKDAY(FP$4)=2,Lundi),AND(WEEKDAY(FP$4)=3,Mardi),AND(WEEKDAY(FP$4)=4,Mercredi),AND(WEEKDAY(FP$4)=5,Jeudi),AND(WEEKDAY(FP$4)=6,Vendredi),AND(WEEKDAY(FP$4)=7,Samedi),FP$4=férié),0,1)","v":1},{"$f":"IF(OR(AND(WEEKDAY(FQ$4)=1,Dimanche),AND(WEEKDAY(FQ$4)=2,Lundi),AND(WEEKDAY(FQ$4)=3,Mardi),AND(WEEKDAY(FQ$4)=4,Mercredi),AND(WEEKDAY(FQ$4)=5,Jeudi),AND(WEEKDAY(FQ$4)=6,Vendredi),AND(WEEKDAY(FQ$4)=7,Samedi),FQ$4=férié),0,1)","v":1},{"$f":"IF(OR(AND(WEEKDAY(FR$4)=1,Dimanche),AND(WEEKDAY(FR$4)=2,Lundi),AND(WEEKDAY(FR$4)=3,Mardi),AND(WEEKDAY(FR$4)=4,Mercredi),AND(WEEKDAY(FR$4)=5,Jeudi),AND(WEEKDAY(FR$4)=6,Vendredi),AND(WEEKDAY(FR$4)=7,Samedi),FR$4=férié),0,1)","v":1},{"$f":"IF(OR(AND(WEEKDAY(FS$4)=1,Dimanche),AND(WEEKDAY(FS$4)=2,Lundi),AND(WEEKDAY(FS$4)=3,Mardi),AND(WEEKDAY(FS$4)=4,Mercredi),AND(WEEKDAY(FS$4)=5,Jeudi),AND(WEEKDAY(FS$4)=6,Vendredi),AND(WEEKDAY(FS$4)=7,Samedi),FS$4=férié),0,1)","v":1},{"$f":"IF(OR(AND(WEEKDAY(FT$4)=1,Dimanche),AND(WEEKDAY(FT$4)=2,Lundi),AND(WEEKDAY(FT$4)=3,Mardi),AND(WEEKDAY(FT$4)=4,Mercredi),AND(WEEKDAY(FT$4)=5,Jeudi),AND(WEEKDAY(FT$4)=6,Vendredi),AND(WEEKDAY(FT$4)=7,Samedi),FT$4=férié),0,1)","v":1},{"$f":"IF(OR(AND(WEEKDAY(FU$4)=1,Dimanche),AND(WEEKDAY(FU$4)=2,Lundi),AND(WEEKDAY(FU$4)=3,Mardi),AND(WEEKDAY(FU$4)=4,Mercredi),AND(WEEKDAY(FU$4)=5,Jeudi),AND(WEEKDAY(FU$4)=6,Vendredi),AND(WEEKDAY(FU$4)=7,Samedi),FU$4=férié),0,1)","v":0},{"$f":"IF(OR(AND(WEEKDAY(FV$4)=1,Dimanche),AND(WEEKDAY(FV$4)=2,Lundi),AND(WEEKDAY(FV$4)=3,Mardi),AND(WEEKDAY(FV$4)=4,Mercredi),AND(WEEKDAY(FV$4)=5,Jeudi),AND(WEEKDAY(FV$4)=6,Vendredi),AND(WEEKDAY(FV$4)=7,Samedi),FV$4=férié),0,1)","v":0},{"$f":"IF(OR(AND(WEEKDAY(FW$4)=1,Dimanche),AND(WEEKDAY(FW$4)=2,Lundi),AND(WEEKDAY(FW$4)=3,Mardi),AND(WEEKDAY(FW$4)=4,Mercredi),AND(WEEKDAY(FW$4)=5,Jeudi),AND(WEEKDAY(FW$4)=6,Vendredi),AND(WEEKDAY(FW$4)=7,Samedi),FW$4=férié),0,1)","v":1},{"$f":"IF(OR(AND(WEEKDAY(FX$4)=1,Dimanche),AND(WEEKDAY(FX$4)=2,Lundi),AND(WEEKDAY(FX$4)=3,Mardi),AND(WEEKDAY(FX$4)=4,Mercredi),AND(WEEKDAY(FX$4)=5,Jeudi),AND(WEEKDAY(FX$4)=6,Vendredi),AND(WEEKDAY(FX$4)=7,Samedi),FX$4=férié),0,1)","v":1},{"$f":"IF(OR(AND(WEEKDAY(FY$4)=1,Dimanche),AND(WEEKDAY(FY$4)=2,Lundi),AND(WEEKDAY(FY$4)=3,Mardi),AND(WEEKDAY(FY$4)=4,Mercredi),AND(WEEKDAY(FY$4)=5,Jeudi),AND(WEEKDAY(FY$4)=6,Vendredi),AND(WEEKDAY(FY$4)=7,Samedi),FY$4=férié),0,1)","v":1},{"$f":"IF(OR(AND(WEEKDAY(FZ$4)=1,Dimanche),AND(WEEKDAY(FZ$4)=2,Lundi),AND(WEEKDAY(FZ$4)=3,Mardi),AND(WEEKDAY(FZ$4)=4,Mercredi),AND(WEEKDAY(FZ$4)=5,Jeudi),AND(WEEKDAY(FZ$4)=6,Vendredi),AND(WEEKDAY(FZ$4)=7,Samedi),FZ$4=férié),0,1)","v":1},{"$f":"IF(OR(AND(WEEKDAY(GA$4)=1,Dimanche),AND(WEEKDAY(GA$4)=2,Lundi),AND(WEEKDAY(GA$4)=3,Mardi),AND(WEEKDAY(GA$4)=4,Mercredi),AND(WEEKDAY(GA$4)=5,Jeudi),AND(WEEKDAY(GA$4)=6,Vendredi),AND(WEEKDAY(GA$4)=7,Samedi),GA$4=férié),0,1)","v":1},{"$f":"IF(OR(AND(WEEKDAY(GB$4)=1,Dimanche),AND(WEEKDAY(GB$4)=2,Lundi),AND(WEEKDAY(GB$4)=3,Mardi),AND(WEEKDAY(GB$4)=4,Mercredi),AND(WEEKDAY(GB$4)=5,Jeudi),AND(WEEKDAY(GB$4)=6,Vendredi),AND(WEEKDAY(GB$4)=7,Samedi),GB$4=férié),0,1)","v":0},{"$f":"IF(OR(AND(WEEKDAY(GC$4)=1,Dimanche),AND(WEEKDAY(GC$4)=2,Lundi),AND(WEEKDAY(GC$4)=3,Mardi),AND(WEEKDAY(GC$4)=4,Mercredi),AND(WEEKDAY(GC$4)=5,Jeudi),AND(WEEKDAY(GC$4)=6,Vendredi),AND(WEEKDAY(GC$4)=7,Samedi),GC$4=férié),0,1)","v":0},{"$f":"IF(OR(AND(WEEKDAY(GD$4)=1,Dimanche),AND(WEEKDAY(GD$4)=2,Lundi),AND(WEEKDAY(GD$4)=3,Mardi),AND(WEEKDAY(GD$4)=4,Mercredi),AND(WEEKDAY(GD$4)=5,Jeudi),AND(WEEKDAY(GD$4)=6,Vendredi),AND(WEEKDAY(GD$4)=7,Samedi),GD$4=férié),0,1)","v":1},{"$f":"IF(OR(AND(WEEKDAY(GE$4)=1,Dimanche),AND(WEEKDAY(GE$4)=2,Lundi),AND(WEEKDAY(GE$4)=3,Mardi),AND(WEEKDAY(GE$4)=4,Mercredi),AND(WEEKDAY(GE$4)=5,Jeudi),AND(WEEKDAY(GE$4)=6,Vendredi),AND(WEEKDAY(GE$4)=7,Samedi),GE$4=férié),0,1)","v":1},{"$f":"IF(OR(AND(WEEKDAY(GF$4)=1,Dimanche),AND(WEEKDAY(GF$4)=2,Lundi),AND(WEEKDAY(GF$4)=3,Mardi),AND(WEEKDAY(GF$4)=4,Mercredi),AND(WEEKDAY(GF$4)=5,Jeudi),AND(WEEKDAY(GF$4)=6,Vendredi),AND(WEEKDAY(GF$4)=7,Samedi),GF$4=férié),0,1)","v":1},{"$f":"IF(OR(AND(WEEKDAY(GG$4)=1,Dimanche),AND(WEEKDAY(GG$4)=2,Lundi),AND(WEEKDAY(GG$4)=3,Mardi),AND(WEEKDAY(GG$4)=4,Mercredi),AND(WEEKDAY(GG$4)=5,Jeudi),AND(WEEKDAY(GG$4)=6,Vendredi),AND(WEEKDAY(GG$4)=7,Samedi),GG$4=férié),0,1)","v":1},{"$f":"IF(OR(AND(WEEKDAY(GH$4)=1,Dimanche),AND(WEEKDAY(GH$4)=2,Lundi),AND(WEEKDAY(GH$4)=3,Mardi),AND(WEEKDAY(GH$4)=4,Mercredi),AND(WEEKDAY(GH$4)=5,Jeudi),AND(WEEKDAY(GH$4)=6,Vendredi),AND(WEEKDAY(GH$4)=7,Samedi),GH$4=férié),0,1)","v":1},{"$f":"IF(OR(AND(WEEKDAY(GI$4)=1,Dimanche),AND(WEEKDAY(GI$4)=2,Lundi),AND(WEEKDAY(GI$4)=3,Mardi),AND(WEEKDAY(GI$4)=4,Mercredi),AND(WEEKDAY(GI$4)=5,Jeudi),AND(WEEKDAY(GI$4)=6,Vendredi),AND(WEEKDAY(GI$4)=7,Samedi),GI$4=férié),0,1)","v":0},{"$f":"IF(OR(AND(WEEKDAY(GJ$4)=1,Dimanche),AND(WEEKDAY(GJ$4)=2,Lundi),AND(WEEKDAY(GJ$4)=3,Mardi),AND(WEEKDAY(GJ$4)=4,Mercredi),AND(WEEKDAY(GJ$4)=5,Jeudi),AND(WEEKDAY(GJ$4)=6,Vendredi),AND(WEEKDAY(GJ$4)=7,Samedi),GJ$4=férié),0,1)","v":0},{"$f":"IF(OR(AND(WEEKDAY(GK$4)=1,Dimanche),AND(WEEKDAY(GK$4)=2,Lundi),AND(WEEKDAY(GK$4)=3,Mardi),AND(WEEKDAY(GK$4)=4,Mercredi),AND(WEEKDAY(GK$4)=5,Jeudi),AND(WEEKDAY(GK$4)=6,Vendredi),AND(WEEKDAY(GK$4)=7,Samedi),GK$4=férié),0,1)","v":1},{"$f":"IF(OR(AND(WEEKDAY(GL$4)=1,Dimanche),AND(WEEKDAY(GL$4)=2,Lundi),AND(WEEKDAY(GL$4)=3,Mardi),AND(WEEKDAY(GL$4)=4,Mercredi),AND(WEEKDAY(GL$4)=5,Jeudi),AND(WEEKDAY(GL$4)=6,Vendredi),AND(WEEKDAY(GL$4)=7,Samedi),GL$4=férié),0,1)","v":1},{"$f":"IF(OR(AND(WEEKDAY(GM$4)=1,Dimanche),AND(WEEKDAY(GM$4)=2,Lundi),AND(WEEKDAY(GM$4)=3,Mardi),AND(WEEKDAY(GM$4)=4,Mercredi),AND(WEEKDAY(GM$4)=5,Jeudi),AND(WEEKDAY(GM$4)=6,Vendredi),AND(WEEKDAY(GM$4)=7,Samedi),GM$4=férié),0,1)","v":1},{"$f":"IF(OR(AND(WEEKDAY(GN$4)=1,Dimanche),AND(WEEKDAY(GN$4)=2,Lundi),AND(WEEKDAY(GN$4)=3,Mardi),AND(WEEKDAY(GN$4)=4,Mercredi),AND(WEEKDAY(GN$4)=5,Jeudi),AND(WEEKDAY(GN$4)=6,Vendredi),AND(WEEKDAY(GN$4)=7,Samedi),GN$4=férié),0,1)","v":1},{"$f":"IF(OR(AND(WEEKDAY(GO$4)=1,Dimanche),AND(WEEKDAY(GO$4)=2,Lundi),AND(WEEKDAY(GO$4)=3,Mardi),AND(WEEKDAY(GO$4)=4,Mercredi),AND(WEEKDAY(GO$4)=5,Jeudi),AND(WEEKDAY(GO$4)=6,Vendredi),AND(WEEKDAY(GO$4)=7,Samedi),GO$4=férié),0,1)","v":1},{"$f":"IF(OR(AND(WEEKDAY(GP$4)=1,Dimanche),AND(WEEKDAY(GP$4)=2,Lundi),AND(WEEKDAY(GP$4)=3,Mardi),AND(WEEKDAY(GP$4)=4,Mercredi),AND(WEEKDAY(GP$4)=5,Jeudi),AND(WEEKDAY(GP$4)=6,Vendredi),AND(WEEKDAY(GP$4)=7,Samedi),GP$4=férié),0,1)","v":0},{"$f":"IF(OR(AND(WEEKDAY(GQ$4)=1,Dimanche),AND(WEEKDAY(GQ$4)=2,Lundi),AND(WEEKDAY(GQ$4)=3,Mardi),AND(WEEKDAY(GQ$4)=4,Mercredi),AND(WEEKDAY(GQ$4)=5,Jeudi),AND(WEEKDAY(GQ$4)=6,Vendredi),AND(WEEKDAY(GQ$4)=7,Samedi),GQ$4=férié),0,1)","v":0},{"$f":"IF(OR(AND(WEEKDAY(GR$4)=1,Dimanche),AND(WEEKDAY(GR$4)=2,Lundi),AND(WEEKDAY(GR$4)=3,Mardi),AND(WEEKDAY(GR$4)=4,Mercredi),AND(WEEKDAY(GR$4)=5,Jeudi),AND(WEEKDAY(GR$4)=6,Vendredi),AND(WEEKDAY(GR$4)=7,Samedi),GR$4=férié),0,1)","v":1},{"$f":"IF(OR(AND(WEEKDAY(GS$4)=1,Dimanche),AND(WEEKDAY(GS$4)=2,Lundi),AND(WEEKDAY(GS$4)=3,Mardi),AND(WEEKDAY(GS$4)=4,Mercredi),AND(WEEKDAY(GS$4)=5,Jeudi),AND(WEEKDAY(GS$4)=6,Vendredi),AND(WEEKDAY(GS$4)=7,Samedi),GS$4=férié),0,1)","v":1},{"$f":"IF(OR(AND(WEEKDAY(GT$4)=1,Dimanche),AND(WEEKDAY(GT$4)=2,Lundi),AND(WEEKDAY(GT$4)=3,Mardi),AND(WEEKDAY(GT$4)=4,Mercredi),AND(WEEKDAY(GT$4)=5,Jeudi),AND(WEEKDAY(GT$4)=6,Vendredi),AND(WEEKDAY(GT$4)=7,Samedi),GT$4=férié),0,1)","v":1},{"$f":"IF(OR(AND(WEEKDAY(GU$4)=1,Dimanche),AND(WEEKDAY(GU$4)=2,Lundi),AND(WEEKDAY(GU$4)=3,Mardi),AND(WEEKDAY(GU$4)=4,Mercredi),AND(WEEKDAY(GU$4)=5,Jeudi),AND(WEEKDAY(GU$4)=6,Vendredi),AND(WEEKDAY(GU$4)=7,Samedi),GU$4=férié),0,1)","v":1},{"$f":"IF(OR(AND(WEEKDAY(GV$4)=1,Dimanche),AND(WEEKDAY(GV$4)=2,Lundi),AND(WEEKDAY(GV$4)=3,Mardi),AND(WEEKDAY(GV$4)=4,Mercredi),AND(WEEKDAY(GV$4)=5,Jeudi),AND(WEEKDAY(GV$4)=6,Vendredi),AND(WEEKDAY(GV$4)=7,Samedi),GV$4=férié),0,1)","v":0},{"$f":"IF(OR(AND(WEEKDAY(GW$4)=1,Dimanche),AND(WEEKDAY(GW$4)=2,Lundi),AND(WEEKDAY(GW$4)=3,Mardi),AND(WEEKDAY(GW$4)=4,Mercredi),AND(WEEKDAY(GW$4)=5,Jeudi),AND(WEEKDAY(GW$4)=6,Vendredi),AND(WEEKDAY(GW$4)=7,Samedi),GW$4=férié),0,1)","v":0},{"$f":"IF(OR(AND(WEEKDAY(GX$4)=1,Dimanche),AND(WEEKDAY(GX$4)=2,Lundi),AND(WEEKDAY(GX$4)=3,Mardi),AND(WEEKDAY(GX$4)=4,Mercredi),AND(WEEKDAY(GX$4)=5,Jeudi),AND(WEEKDAY(GX$4)=6,Vendredi),AND(WEEKDAY(GX$4)=7,Samedi),GX$4=férié),0,1)","v":0},{"$f":"IF(OR(AND(WEEKDAY(GY$4)=1,Dimanche),AND(WEEKDAY(GY$4)=2,Lundi),AND(WEEKDAY(GY$4)=3,Mardi),AND(WEEKDAY(GY$4)=4,Mercredi),AND(WEEKDAY(GY$4)=5,Jeudi),AND(WEEKDAY(GY$4)=6,Vendredi),AND(WEEKDAY(GY$4)=7,Samedi),GY$4=férié),0,1)","v":1},{"$f":"IF(OR(AND(WEEKDAY(GZ$4)=1,Dimanche),AND(WEEKDAY(GZ$4)=2,Lundi),AND(WEEKDAY(GZ$4)=3,Mardi),AND(WEEKDAY(GZ$4)=4,Mercredi),AND(WEEKDAY(GZ$4)=5,Jeudi),AND(WEEKDAY(GZ$4)=6,Vendredi),AND(WEEKDAY(GZ$4)=7,Samedi),GZ$4=férié),0,1)","v":1},{"$f":"IF(OR(AND(WEEKDAY(HA$4)=1,Dimanche),AND(WEEKDAY(HA$4)=2,Lundi),AND(WEEKDAY(HA$4)=3,Mardi),AND(WEEKDAY(HA$4)=4,Mercredi),AND(WEEKDAY(HA$4)=5,Jeudi),AND(WEEKDAY(HA$4)=6,Vendredi),AND(WEEKDAY(HA$4)=7,Samedi),HA$4=férié),0,1)","v":1},{"$f":"IF(OR(AND(WEEKDAY(HB$4)=1,Dimanche),AND(WEEKDAY(HB$4)=2,Lundi),AND(WEEKDAY(HB$4)=3,Mardi),AND(WEEKDAY(HB$4)=4,Mercredi),AND(WEEKDAY(HB$4)=5,Jeudi),AND(WEEKDAY(HB$4)=6,Vendredi),AND(WEEKDAY(HB$4)=7,Samedi),HB$4=férié),0,1)","v":1},{"$f":"IF(OR(AND(WEEKDAY(HC$4)=1,Dimanche),AND(WEEKDAY(HC$4)=2,Lundi),AND(WEEKDAY(HC$4)=3,Mardi),AND(WEEKDAY(HC$4)=4,Mercredi),AND(WEEKDAY(HC$4)=5,Jeudi),AND(WEEKDAY(HC$4)=6,Vendredi),AND(WEEKDAY(HC$4)=7,Samedi),HC$4=férié),0,1)","v":1},{"$f":"IF(OR(AND(WEEKDAY(HD$4)=1,Dimanche),AND(WEEKDAY(HD$4)=2,Lundi),AND(WEEKDAY(HD$4)=3,Mardi),AND(WEEKDAY(HD$4)=4,Mercredi),AND(WEEKDAY(HD$4)=5,Jeudi),AND(WEEKDAY(HD$4)=6,Vendredi),AND(WEEKDAY(HD$4)=7,Samedi),HD$4=férié),0,1)","v":0},{"$f":"IF(OR(AND(WEEKDAY(HE$4)=1,Dimanche),AND(WEEKDAY(HE$4)=2,Lundi),AND(WEEKDAY(HE$4)=3,Mardi),AND(WEEKDAY(HE$4)=4,Mercredi),AND(WEEKDAY(HE$4)=5,Jeudi),AND(WEEKDAY(HE$4)=6,Vendredi),AND(WEEKDAY(HE$4)=7,Samedi),HE$4=férié),0,1)","v":0},{"$f":"IF(OR(AND(WEEKDAY(HF$4)=1,Dimanche),AND(WEEKDAY(HF$4)=2,Lundi),AND(WEEKDAY(HF$4)=3,Mardi),AND(WEEKDAY(HF$4)=4,Mercredi),AND(WEEKDAY(HF$4)=5,Jeudi),AND(WEEKDAY(HF$4)=6,Vendredi),AND(WEEKDAY(HF$4)=7,Samedi),HF$4=férié),0,1)","v":1},{"$f":"IF(OR(AND(WEEKDAY(HG$4)=1,Dimanche),AND(WEEKDAY(HG$4)=2,Lundi),AND(WEEKDAY(HG$4)=3,Mardi),AND(WEEKDAY(HG$4)=4,Mercredi),AND(WEEKDAY(HG$4)=5,Jeudi),AND(WEEKDAY(HG$4)=6,Vendredi),AND(WEEKDAY(HG$4)=7,Samedi),HG$4=férié),0,1)","v":1},{"$f":"IF(OR(AND(WEEKDAY(HH$4)=1,Dimanche),AND(WEEKDAY(HH$4)=2,Lundi),AND(WEEKDAY(HH$4)=3,Mardi),AND(WEEKDAY(HH$4)=4,Mercredi),AND(WEEKDAY(HH$4)=5,Jeudi),AND(WEEKDAY(HH$4)=6,Vendredi),AND(WEEKDAY(HH$4)=7,Samedi),HH$4=férié),0,1)","v":1},{"$f":"IF(OR(AND(WEEKDAY(HI$4)=1,Dimanche),AND(WEEKDAY(HI$4)=2,Lundi),AND(WEEKDAY(HI$4)=3,Mardi),AND(WEEKDAY(HI$4)=4,Mercredi),AND(WEEKDAY(HI$4)=5,Jeudi),AND(WEEKDAY(HI$4)=6,Vendredi),AND(WEEKDAY(HI$4)=7,Samedi),HI$4=férié),0,1)","v":1},{"$f":"IF(OR(AND(WEEKDAY(HJ$4)=1,Dimanche),AND(WEEKDAY(HJ$4)=2,Lundi),AND(WEEKDAY(HJ$4)=3,Mardi),AND(WEEKDAY(HJ$4)=4,Mercredi),AND(WEEKDAY(HJ$4)=5,Jeudi),AND(WEEKDAY(HJ$4)=6,Vendredi),AND(WEEKDAY(HJ$4)=7,Samedi),HJ$4=férié),0,1)","v":1},{"$f":"IF(OR(AND(WEEKDAY(HK$4)=1,Dimanche),AND(WEEKDAY(HK$4)=2,Lundi),AND(WEEKDAY(HK$4)=3,Mardi),AND(WEEKDAY(HK$4)=4,Mercredi),AND(WEEKDAY(HK$4)=5,Jeudi),AND(WEEKDAY(HK$4)=6,Vendredi),AND(WEEKDAY(HK$4)=7,Samedi),HK$4=férié),0,1)","v":0},{"$f":"IF(OR(AND(WEEKDAY(HL$4)=1,Dimanche),AND(WEEKDAY(HL$4)=2,Lundi),AND(WEEKDAY(HL$4)=3,Mardi),AND(WEEKDAY(HL$4)=4,Mercredi),AND(WEEKDAY(HL$4)=5,Jeudi),AND(WEEKDAY(HL$4)=6,Vendredi),AND(WEEKDAY(HL$4)=7,Samedi),HL$4=férié),0,1)","v":0},{"$f":"IF(OR(AND(WEEKDAY(HM$4)=1,Dimanche),AND(WEEKDAY(HM$4)=2,Lundi),AND(WEEKDAY(HM$4)=3,Mardi),AND(WEEKDAY(HM$4)=4,Mercredi),AND(WEEKDAY(HM$4)=5,Jeudi),AND(WEEKDAY(HM$4)=6,Vendredi),AND(WEEKDAY(HM$4)=7,Samedi),HM$4=férié),0,1)","v":1},{"$f":"IF(OR(AND(WEEKDAY(HN$4)=1,Dimanche),AND(WEEKDAY(HN$4)=2,Lundi),AND(WEEKDAY(HN$4)=3,Mardi),AND(WEEKDAY(HN$4)=4,Mercredi),AND(WEEKDAY(HN$4)=5,Jeudi),AND(WEEKDAY(HN$4)=6,Vendredi),AND(WEEKDAY(HN$4)=7,Samedi),HN$4=férié),0,1)","v":1},{"$f":"IF(OR(AND(WEEKDAY(HO$4)=1,Dimanche),AND(WEEKDAY(HO$4)=2,Lundi),AND(WEEKDAY(HO$4)=3,Mardi),AND(WEEKDAY(HO$4)=4,Mercredi),AND(WEEKDAY(HO$4)=5,Jeudi),AND(WEEKDAY(HO$4)=6,Vendredi),AND(WEEKDAY(HO$4)=7,Samedi),HO$4=férié),0,1)","v":1},{"$f":"IF(OR(AND(WEEKDAY(HP$4)=1,Dimanche),AND(WEEKDAY(HP$4)=2,Lundi),AND(WEEKDAY(HP$4)=3,Mardi),AND(WEEKDAY(HP$4)=4,Mercredi),AND(WEEKDAY(HP$4)=5,Jeudi),AND(WEEKDAY(HP$4)=6,Vendredi),AND(WEEKDAY(HP$4)=7,Samedi),HP$4=férié),0,1)","v":1},{"$f":"IF(OR(AND(WEEKDAY(HQ$4)=1,Dimanche),AND(WEEKDAY(HQ$4)=2,Lundi),AND(WEEKDAY(HQ$4)=3,Mardi),AND(WEEKDAY(HQ$4)=4,Mercredi),AND(WEEKDAY(HQ$4)=5,Jeudi),AND(WEEKDAY(HQ$4)=6,Vendredi),AND(WEEKDAY(HQ$4)=7,Samedi),HQ$4=férié),0,1)","v":1},{"$f":"IF(OR(AND(WEEKDAY(HR$4)=1,Dimanche),AND(WEEKDAY(HR$4)=2,Lundi),AND(WEEKDAY(HR$4)=3,Mardi),AND(WEEKDAY(HR$4)=4,Mercredi),AND(WEEKDAY(HR$4)=5,Jeudi),AND(WEEKDAY(HR$4)=6,Vendredi),AND(WEEKDAY(HR$4)=7,Samedi),HR$4=férié),0,1)","v":0},{"$f":"IF(OR(AND(WEEKDAY(HS$4)=1,Dimanche),AND(WEEKDAY(HS$4)=2,Lundi),AND(WEEKDAY(HS$4)=3,Mardi),AND(WEEKDAY(HS$4)=4,Mercredi),AND(WEEKDAY(HS$4)=5,Jeudi),AND(WEEKDAY(HS$4)=6,Vendredi),AND(WEEKDAY(HS$4)=7,Samedi),HS$4=férié),0,1)","v":0},{"$f":"IF(OR(AND(WEEKDAY(HT$4)=1,Dimanche),AND(WEEKDAY(HT$4)=2,Lundi),AND(WEEKDAY(HT$4)=3,Mardi),AND(WEEKDAY(HT$4)=4,Mercredi),AND(WEEKDAY(HT$4)=5,Jeudi),AND(WEEKDAY(HT$4)=6,Vendredi),AND(WEEKDAY(HT$4)=7,Samedi),HT$4=férié),0,1)","v":1},{"$f":"IF(OR(AND(WEEKDAY(HU$4)=1,Dimanche),AND(WEEKDAY(HU$4)=2,Lundi),AND(WEEKDAY(HU$4)=3,Mardi),AND(WEEKDAY(HU$4)=4,Mercredi),AND(WEEKDAY(HU$4)=5,Jeudi),AND(WEEKDAY(HU$4)=6,Vendredi),AND(WEEKDAY(HU$4)=7,Samedi),HU$4=férié),0,1)","v":1},{"$f":"IF(OR(AND(WEEKDAY(HV$4)=1,Dimanche),AND(WEEKDAY(HV$4)=2,Lundi),AND(WEEKDAY(HV$4)=3,Mardi),AND(WEEKDAY(HV$4)=4,Mercredi),AND(WEEKDAY(HV$4)=5,Jeudi),AND(WEEKDAY(HV$4)=6,Vendredi),AND(WEEKDAY(HV$4)=7,Samedi),HV$4=férié),0,1)","v":1},{"$f":"IF(OR(AND(WEEKDAY(HW$4)=1,Dimanche),AND(WEEKDAY(HW$4)=2,Lundi),AND(WEEKDAY(HW$4)=3,Mardi),AND(WEEKDAY(HW$4)=4,Mercredi),AND(WEEKDAY(HW$4)=5,Jeudi),AND(WEEKDAY(HW$4)=6,Vendredi),AND(WEEKDAY(HW$4)=7,Samedi),HW$4=férié),0,1)","v":1},{"$f":"IF(OR(AND(WEEKDAY(HX$4)=1,Dimanche),AND(WEEKDAY(HX$4)=2,Lundi),AND(WEEKDAY(HX$4)=3,Mardi),AND(WEEKDAY(HX$4)=4,Mercredi),AND(WEEKDAY(HX$4)=5,Jeudi),AND(WEEKDAY(HX$4)=6,Vendredi),AND(WEEKDAY(HX$4)=7,Samedi),HX$4=férié),0,1)","v":1},{"$f":"IF(OR(AND(WEEKDAY(HY$4)=1,Dimanche),AND(WEEKDAY(HY$4)=2,Lundi),AND(WEEKDAY(HY$4)=3,Mardi),AND(WEEKDAY(HY$4)=4,Mercredi),AND(WEEKDAY(HY$4)=5,Jeudi),AND(WEEKDAY(HY$4)=6,Vendredi),AND(WEEKDAY(HY$4)=7,Samedi),HY$4=férié),0,1)","v":0},{"$f":"IF(OR(AND(WEEKDAY(HZ$4)=1,Dimanche),AND(WEEKDAY(HZ$4)=2,Lundi),AND(WEEKDAY(HZ$4)=3,Mardi),AND(WEEKDAY(HZ$4)=4,Mercredi),AND(WEEKDAY(HZ$4)=5,Jeudi),AND(WEEKDAY(HZ$4)=6,Vendredi),AND(WEEKDAY(HZ$4)=7,Samedi),HZ$4=férié),0,1)","v":0},{"$f":"IF(OR(AND(WEEKDAY(IA$4)=1,Dimanche),AND(WEEKDAY(IA$4)=2,Lundi),AND(WEEKDAY(IA$4)=3,Mardi),AND(WEEKDAY(IA$4)=4,Mercredi),AND(WEEKDAY(IA$4)=5,Jeudi),AND(WEEKDAY(IA$4)=6,Vendredi),AND(WEEKDAY(IA$4)=7,Samedi),IA$4=férié),0,1)","v":1},{"$f":"IF(OR(AND(WEEKDAY(IB$4)=1,Dimanche),AND(WEEKDAY(IB$4)=2,Lundi),AND(WEEKDAY(IB$4)=3,Mardi),AND(WEEKDAY(IB$4)=4,Mercredi),AND(WEEKDAY(IB$4)=5,Jeudi),AND(WEEKDAY(IB$4)=6,Vendredi),AND(WEEKDAY(IB$4)=7,Samedi),IB$4=férié),0,1)","v":0},{"$f":"IF(OR(AND(WEEKDAY(IC$4)=1,Dimanche),AND(WEEKDAY(IC$4)=2,Lundi),AND(WEEKDAY(IC$4)=3,Mardi),AND(WEEKDAY(IC$4)=4,Mercredi),AND(WEEKDAY(IC$4)=5,Jeudi),AND(WEEKDAY(IC$4)=6,Vendredi),AND(WEEKDAY(IC$4)=7,Samedi),IC$4=férié),0,1)","v":1},{"$f":"IF(OR(AND(WEEKDAY(ID$4)=1,Dimanche),AND(WEEKDAY(ID$4)=2,Lundi),AND(WEEKDAY(ID$4)=3,Mardi),AND(WEEKDAY(ID$4)=4,Mercredi),AND(WEEKDAY(ID$4)=5,Jeudi),AND(WEEKDAY(ID$4)=6,Vendredi),AND(WEEKDAY(ID$4)=7,Samedi),ID$4=férié),0,1)","v":1},{"$f":"IF(OR(AND(WEEKDAY(IE$4)=1,Dimanche),AND(WEEKDAY(IE$4)=2,Lundi),AND(WEEKDAY(IE$4)=3,Mardi),AND(WEEKDAY(IE$4)=4,Mercredi),AND(WEEKDAY(IE$4)=5,Jeudi),AND(WEEKDAY(IE$4)=6,Vendredi),AND(WEEKDAY(IE$4)=7,Samedi),IE$4=férié),0,1)","v":1},{"$f":"IF(OR(AND(WEEKDAY(IF$4)=1,Dimanche),AND(WEEKDAY(IF$4)=2,Lundi),AND(WEEKDAY(IF$4)=3,Mardi),AND(WEEKDAY(IF$4)=4,Mercredi),AND(WEEKDAY(IF$4)=5,Jeudi),AND(WEEKDAY(IF$4)=6,Vendredi),AND(WEEKDAY(IF$4)=7,Samedi),IF$4=férié),0,1)","v":0},{"$f":"IF(OR(AND(WEEKDAY(IG$4)=1,Dimanche),AND(WEEKDAY(IG$4)=2,Lundi),AND(WEEKDAY(IG$4)=3,Mardi),AND(WEEKDAY(IG$4)=4,Mercredi),AND(WEEKDAY(IG$4)=5,Jeudi),AND(WEEKDAY(IG$4)=6,Vendredi),AND(WEEKDAY(IG$4)=7,Samedi),IG$4=férié),0,1)","v":0},{"$f":"IF(OR(AND(WEEKDAY(IH$4)=1,Dimanche),AND(WEEKDAY(IH$4)=2,Lundi),AND(WEEKDAY(IH$4)=3,Mardi),AND(WEEKDAY(IH$4)=4,Mercredi),AND(WEEKDAY(IH$4)=5,Jeudi),AND(WEEKDAY(IH$4)=6,Vendredi),AND(WEEKDAY(IH$4)=7,Samedi),IH$4=férié),0,1)","v":1},{"$f":"IF(OR(AND(WEEKDAY(II$4)=1,Dimanche),AND(WEEKDAY(II$4)=2,Lundi),AND(WEEKDAY(II$4)=3,Mardi),AND(WEEKDAY(II$4)=4,Mercredi),AND(WEEKDAY(II$4)=5,Jeudi),AND(WEEKDAY(II$4)=6,Vendredi),AND(WEEKDAY(II$4)=7,Samedi),II$4=férié),0,1)","v":1},{"$f":"IF(OR(AND(WEEKDAY(IJ$4)=1,Dimanche),AND(WEEKDAY(IJ$4)=2,Lundi),AND(WEEKDAY(IJ$4)=3,Mardi),AND(WEEKDAY(IJ$4)=4,Mercredi),AND(WEEKDAY(IJ$4)=5,Jeudi),AND(WEEKDAY(IJ$4)=6,Vendredi),AND(WEEKDAY(IJ$4)=7,Samedi),IJ$4=férié),0,1)","v":1},{"$f":"IF(OR(AND(WEEKDAY(IK$4)=1,Dimanche),AND(WEEKDAY(IK$4)=2,Lundi),AND(WEEKDAY(IK$4)=3,Mardi),AND(WEEKDAY(IK$4)=4,Mercredi),AND(WEEKDAY(IK$4)=5,Jeudi),AND(WEEKDAY(IK$4)=6,Vendredi),AND(WEEKDAY(IK$4)=7,Samedi),IK$4=férié),0,1)","v":1},{"$f":"IF(OR(AND(WEEKDAY(IL$4)=1,Dimanche),AND(WEEKDAY(IL$4)=2,Lundi),AND(WEEKDAY(IL$4)=3,Mardi),AND(WEEKDAY(IL$4)=4,Mercredi),AND(WEEKDAY(IL$4)=5,Jeudi),AND(WEEKDAY(IL$4)=6,Vendredi),AND(WEEKDAY(IL$4)=7,Samedi),IL$4=férié),0,1)","v":1},{"$f":"IF(OR(AND(WEEKDAY(IM$4)=1,Dimanche),AND(WEEKDAY(IM$4)=2,Lundi),AND(WEEKDAY(IM$4)=3,Mardi),AND(WEEKDAY(IM$4)=4,Mercredi),AND(WEEKDAY(IM$4)=5,Jeudi),AND(WEEKDAY(IM$4)=6,Vendredi),AND(WEEKDAY(IM$4)=7,Samedi),IM$4=férié),0,1)","v":0},{"$f":"IF(OR(AND(WEEKDAY(IN$4)=1,Dimanche),AND(WEEKDAY(IN$4)=2,Lundi),AND(WEEKDAY(IN$4)=3,Mardi),AND(WEEKDAY(IN$4)=4,Mercredi),AND(WEEKDAY(IN$4)=5,Jeudi),AND(WEEKDAY(IN$4)=6,Vendredi),AND(WEEKDAY(IN$4)=7,Samedi),IN$4=férié),0,1)","v":0},{"$f":"IF(OR(AND(WEEKDAY(IO$4)=1,Dimanche),AND(WEEKDAY(IO$4)=2,Lundi),AND(WEEKDAY(IO$4)=3,Mardi),AND(WEEKDAY(IO$4)=4,Mercredi),AND(WEEKDAY(IO$4)=5,Jeudi),AND(WEEKDAY(IO$4)=6,Vendredi),AND(WEEKDAY(IO$4)=7,Samedi),IO$4=férié),0,1)","v":1},{"$f":"IF(OR(AND(WEEKDAY(IP$4)=1,Dimanche),AND(WEEKDAY(IP$4)=2,Lundi),AND(WEEKDAY(IP$4)=3,Mardi),AND(WEEKDAY(IP$4)=4,Mercredi),AND(WEEKDAY(IP$4)=5,Jeudi),AND(WEEKDAY(IP$4)=6,Vendredi),AND(WEEKDAY(IP$4)=7,Samedi),IP$4=férié),0,1)","v":1},{"$f":"IF(OR(AND(WEEKDAY(IQ$4)=1,Dimanche),AND(WEEKDAY(IQ$4)=2,Lundi),AND(WEEKDAY(IQ$4)=3,Mardi),AND(WEEKDAY(IQ$4)=4,Mercredi),AND(WEEKDAY(IQ$4)=5,Jeudi),AND(WEEKDAY(IQ$4)=6,Vendredi),AND(WEEKDAY(IQ$4)=7,Samedi),IQ$4=férié),0,1)","v":1},{"$f":"IF(OR(AND(WEEKDAY(IR$4)=1,Dimanche),AND(WEEKDAY(IR$4)=2,Lundi),AND(WEEKDAY(IR$4)=3,Mardi),AND(WEEKDAY(IR$4)=4,Mercredi),AND(WEEKDAY(IR$4)=5,Jeudi),AND(WEEKDAY(IR$4)=6,Vendredi),AND(WEEKDAY(IR$4)=7,Samedi),IR$4=férié),0,1)","v":1},{"$f":"IF(OR(AND(WEEKDAY(IS$4)=1,Dimanche),AND(WEEKDAY(IS$4)=2,Lundi),AND(WEEKDAY(IS$4)=3,Mardi),AND(WEEKDAY(IS$4)=4,Mercredi),AND(WEEKDAY(IS$4)=5,Jeudi),AND(WEEKDAY(IS$4)=6,Vendredi),AND(WEEKDAY(IS$4)=7,Samedi),IS$4=férié),0,1)","v":1},{"$f":"IF(OR(AND(WEEKDAY(IT$4)=1,Dimanche),AND(WEEKDAY(IT$4)=2,Lundi),AND(WEEKDAY(IT$4)=3,Mardi),AND(WEEKDAY(IT$4)=4,Mercredi),AND(WEEKDAY(IT$4)=5,Jeudi),AND(WEEKDAY(IT$4)=6,Vendredi),AND(WEEKDAY(IT$4)=7,Samedi),IT$4=férié),0,1)","v":0},{"$f":"IF(OR(AND(WEEKDAY(IU$4)=1,Dimanche),AND(WEEKDAY(IU$4)=2,Lundi),AND(WEEKDAY(IU$4)=3,Mardi),AND(WEEKDAY(IU$4)=4,Mercredi),AND(WEEKDAY(IU$4)=5,Jeudi),AND(WEEKDAY(IU$4)=6,Vendredi),AND(WEEKDAY(IU$4)=7,Samedi),IU$4=férié),0,1)","v":0},{"$f":"IF(OR(AND(WEEKDAY(IV$4)=1,Dimanche),AND(WEEKDAY(IV$4)=2,Lundi),AND(WEEKDAY(IV$4)=3,Mardi),AND(WEEKDAY(IV$4)=4,Mercredi),AND(WEEKDAY(IV$4)=5,Jeudi),AND(WEEKDAY(IV$4)=6,Vendredi),AND(WEEKDAY(IV$4)=7,Samedi),IV$4=férié),0,1)","v":1},{"$f":"IF(OR(AND(WEEKDAY(IW$4)=1,Dimanche),AND(WEEKDAY(IW$4)=2,Lundi),AND(WEEKDAY(IW$4)=3,Mardi),AND(WEEKDAY(IW$4)=4,Mercredi),AND(WEEKDAY(IW$4)=5,Jeudi),AND(WEEKDAY(IW$4)=6,Vendredi),AND(WEEKDAY(IW$4)=7,Samedi),IW$4=férié),0,1)","v":1},{"$f":"IF(OR(AND(WEEKDAY(IX$4)=1,Dimanche),AND(WEEKDAY(IX$4)=2,Lundi),AND(WEEKDAY(IX$4)=3,Mardi),AND(WEEKDAY(IX$4)=4,Mercredi),AND(WEEKDAY(IX$4)=5,Jeudi),AND(WEEKDAY(IX$4)=6,Vendredi),AND(WEEKDAY(IX$4)=7,Samedi),IX$4=férié),0,1)","v":1},{"$f":"IF(OR(AND(WEEKDAY(IY$4)=1,Dimanche),AND(WEEKDAY(IY$4)=2,Lundi),AND(WEEKDAY(IY$4)=3,Mardi),AND(WEEKDAY(IY$4)=4,Mercredi),AND(WEEKDAY(IY$4)=5,Jeudi),AND(WEEKDAY(IY$4)=6,Vendredi),AND(WEEKDAY(IY$4)=7,Samedi),IY$4=férié),0,1)","v":1},{"$f":"IF(OR(AND(WEEKDAY(IZ$4)=1,Dimanche),AND(WEEKDAY(IZ$4)=2,Lundi),AND(WEEKDAY(IZ$4)=3,Mardi),AND(WEEKDAY(IZ$4)=4,Mercredi),AND(WEEKDAY(IZ$4)=5,Jeudi),AND(WEEKDAY(IZ$4)=6,Vendredi),AND(WEEKDAY(IZ$4)=7,Samedi),IZ$4=férié),0,1)","v":1},{"$f":"IF(OR(AND(WEEKDAY(JA$4)=1,Dimanche),AND(WEEKDAY(JA$4)=2,Lundi),AND(WEEKDAY(JA$4)=3,Mardi),AND(WEEKDAY(JA$4)=4,Mercredi),AND(WEEKDAY(JA$4)=5,Jeudi),AND(WEEKDAY(JA$4)=6,Vendredi),AND(WEEKDAY(JA$4)=7,Samedi),JA$4=férié),0,1)","v":0},{"$f":"IF(OR(AND(WEEKDAY(JB$4)=1,Dimanche),AND(WEEKDAY(JB$4)=2,Lundi),AND(WEEKDAY(JB$4)=3,Mardi),AND(WEEKDAY(JB$4)=4,Mercredi),AND(WEEKDAY(JB$4)=5,Jeudi),AND(WEEKDAY(JB$4)=6,Vendredi),AND(WEEKDAY(JB$4)=7,Samedi),JB$4=férié),0,1)","v":0},{"$f":"IF(OR(AND(WEEKDAY(JC$4)=1,Dimanche),AND(WEEKDAY(JC$4)=2,Lundi),AND(WEEKDAY(JC$4)=3,Mardi),AND(WEEKDAY(JC$4)=4,Mercredi),AND(WEEKDAY(JC$4)=5,Jeudi),AND(WEEKDAY(JC$4)=6,Vendredi),AND(WEEKDAY(JC$4)=7,Samedi),JC$4=férié),0,1)","v":1},{"$f":"IF(OR(AND(WEEKDAY(JD$4)=1,Dimanche),AND(WEEKDAY(JD$4)=2,Lundi),AND(WEEKDAY(JD$4)=3,Mardi),AND(WEEKDAY(JD$4)=4,Mercredi),AND(WEEKDAY(JD$4)=5,Jeudi),AND(WEEKDAY(JD$4)=6,Vendredi),AND(WEEKDAY(JD$4)=7,Samedi),JD$4=férié),0,1)","v":1},{"$f":"IF(OR(AND(WEEKDAY(JE$4)=1,Dimanche),AND(WEEKDAY(JE$4)=2,Lundi),AND(WEEKDAY(JE$4)=3,Mardi),AND(WEEKDAY(JE$4)=4,Mercredi),AND(WEEKDAY(JE$4)=5,Jeudi),AND(WEEKDAY(JE$4)=6,Vendredi),AND(WEEKDAY(JE$4)=7,Samedi),JE$4=férié),0,1)","v":1},{"$f":"IF(OR(AND(WEEKDAY(JF$4)=1,Dimanche),AND(WEEKDAY(JF$4)=2,Lundi),AND(WEEKDAY(JF$4)=3,Mardi),AND(WEEKDAY(JF$4)=4,Mercredi),AND(WEEKDAY(JF$4)=5,Jeudi),AND(WEEKDAY(JF$4)=6,Vendredi),AND(WEEKDAY(JF$4)=7,Samedi),JF$4=férié),0,1)","v":1},{"$f":"IF(OR(AND(WEEKDAY(JG$4)=1,Dimanche),AND(WEEKDAY(JG$4)=2,Lundi),AND(WEEKDAY(JG$4)=3,Mardi),AND(WEEKDAY(JG$4)=4,Mercredi),AND(WEEKDAY(JG$4)=5,Jeudi),AND(WEEKDAY(JG$4)=6,Vendredi),AND(WEEKDAY(JG$4)=7,Samedi),JG$4=férié),0,1)","v":1},{"$f":"IF(OR(AND(WEEKDAY(JH$4)=1,Dimanche),AND(WEEKDAY(JH$4)=2,Lundi),AND(WEEKDAY(JH$4)=3,Mardi),AND(WEEKDAY(JH$4)=4,Mercredi),AND(WEEKDAY(JH$4)=5,Jeudi),AND(WEEKDAY(JH$4)=6,Vendredi),AND(WEEKDAY(JH$4)=7,Samedi),JH$4=férié),0,1)","v":0},{"$f":"IF(OR(AND(WEEKDAY(JI$4)=1,Dimanche),AND(WEEKDAY(JI$4)=2,Lundi),AND(WEEKDAY(JI$4)=3,Mardi),AND(WEEKDAY(JI$4)=4,Mercredi),AND(WEEKDAY(JI$4)=5,Jeudi),AND(WEEKDAY(JI$4)=6,Vendredi),AND(WEEKDAY(JI$4)=7,Samedi),JI$4=férié),0,1)","v":0},{"$f":"IF(OR(AND(WEEKDAY(JJ$4)=1,Dimanche),AND(WEEKDAY(JJ$4)=2,Lundi),AND(WEEKDAY(JJ$4)=3,Mardi),AND(WEEKDAY(JJ$4)=4,Mercredi),AND(WEEKDAY(JJ$4)=5,Jeudi),AND(WEEKDAY(JJ$4)=6,Vendredi),AND(WEEKDAY(JJ$4)=7,Samedi),JJ$4=férié),0,1)","v":1},{"$f":"IF(OR(AND(WEEKDAY(JK$4)=1,Dimanche),AND(WEEKDAY(JK$4)=2,Lundi),AND(WEEKDAY(JK$4)=3,Mardi),AND(WEEKDAY(JK$4)=4,Mercredi),AND(WEEKDAY(JK$4)=5,Jeudi),AND(WEEKDAY(JK$4)=6,Vendredi),AND(WEEKDAY(JK$4)=7,Samedi),JK$4=férié),0,1)","v":1},{"$f":"IF(OR(AND(WEEKDAY(JL$4)=1,Dimanche),AND(WEEKDAY(JL$4)=2,Lundi),AND(WEEKDAY(JL$4)=3,Mardi),AND(WEEKDAY(JL$4)=4,Mercredi),AND(WEEKDAY(JL$4)=5,Jeudi),AND(WEEKDAY(JL$4)=6,Vendredi),AND(WEEKDAY(JL$4)=7,Samedi),JL$4=férié),0,1)","v":1},{"$f":"IF(OR(AND(WEEKDAY(JM$4)=1,Dimanche),AND(WEEKDAY(JM$4)=2,Lundi),AND(WEEKDAY(JM$4)=3,Mardi),AND(WEEKDAY(JM$4)=4,Mercredi),AND(WEEKDAY(JM$4)=5,Jeudi),AND(WEEKDAY(JM$4)=6,Vendredi),AND(WEEKDAY(JM$4)=7,Samedi),JM$4=férié),0,1)","v":1},{"$f":"IF(OR(AND(WEEKDAY(JN$4)=1,Dimanche),AND(WEEKDAY(JN$4)=2,Lundi),AND(WEEKDAY(JN$4)=3,Mardi),AND(WEEKDAY(JN$4)=4,Mercredi),AND(WEEKDAY(JN$4)=5,Jeudi),AND(WEEKDAY(JN$4)=6,Vendredi),AND(WEEKDAY(JN$4)=7,Samedi),JN$4=férié),0,1)","v":1},{"$f":"IF(OR(AND(WEEKDAY(JO$4)=1,Dimanche),AND(WEEKDAY(JO$4)=2,Lundi),AND(WEEKDAY(JO$4)=3,Mardi),AND(WEEKDAY(JO$4)=4,Mercredi),AND(WEEKDAY(JO$4)=5,Jeudi),AND(WEEKDAY(JO$4)=6,Vendredi),AND(WEEKDAY(JO$4)=7,Samedi),JO$4=férié),0,1)","v":0},{"$f":"IF(OR(AND(WEEKDAY(JP$4)=1,Dimanche),AND(WEEKDAY(JP$4)=2,Lundi),AND(WEEKDAY(JP$4)=3,Mardi),AND(WEEKDAY(JP$4)=4,Mercredi),AND(WEEKDAY(JP$4)=5,Jeudi),AND(WEEKDAY(JP$4)=6,Vendredi),AND(WEEKDAY(JP$4)=7,Samedi),JP$4=férié),0,1)","v":0},{"$f":"IF(OR(AND(WEEKDAY(JQ$4)=1,Dimanche),AND(WEEKDAY(JQ$4)=2,Lundi),AND(WEEKDAY(JQ$4)=3,Mardi),AND(WEEKDAY(JQ$4)=4,Mercredi),AND(WEEKDAY(JQ$4)=5,Jeudi),AND(WEEKDAY(JQ$4)=6,Vendredi),AND(WEEKDAY(JQ$4)=7,Samedi),JQ$4=férié),0,1)","v":1},{"$f":"IF(OR(AND(WEEKDAY(JR$4)=1,Dimanche),AND(WEEKDAY(JR$4)=2,Lundi),AND(WEEKDAY(JR$4)=3,Mardi),AND(WEEKDAY(JR$4)=4,Mercredi),AND(WEEKDAY(JR$4)=5,Jeudi),AND(WEEKDAY(JR$4)=6,Vendredi),AND(WEEKDAY(JR$4)=7,Samedi),JR$4=férié),0,1)","v":1},{"$f":"IF(OR(AND(WEEKDAY(JS$4)=1,Dimanche),AND(WEEKDAY(JS$4)=2,Lundi),AND(WEEKDAY(JS$4)=3,Mardi),AND(WEEKDAY(JS$4)=4,Mercredi),AND(WEEKDAY(JS$4)=5,Jeudi),AND(WEEKDAY(JS$4)=6,Vendredi),AND(WEEKDAY(JS$4)=7,Samedi),JS$4=férié),0,1)","v":1},{"$f":"IF(OR(AND(WEEKDAY(JT$4)=1,Dimanche),AND(WEEKDAY(JT$4)=2,Lundi),AND(WEEKDAY(JT$4)=3,Mardi),AND(WEEKDAY(JT$4)=4,Mercredi),AND(WEEKDAY(JT$4)=5,Jeudi),AND(WEEKDAY(JT$4)=6,Vendredi),AND(WEEKDAY(JT$4)=7,Samedi),JT$4=férié),0,1)","v":1},{"$f":"IF(OR(AND(WEEKDAY(JU$4)=1,Dimanche),AND(WEEKDAY(JU$4)=2,Lundi),AND(WEEKDAY(JU$4)=3,Mardi),AND(WEEKDAY(JU$4)=4,Mercredi),AND(WEEKDAY(JU$4)=5,Jeudi),AND(WEEKDAY(JU$4)=6,Vendredi),AND(WEEKDAY(JU$4)=7,Samedi),JU$4=férié),0,1)","v":1},{"$f":"IF(OR(AND(WEEKDAY(JV$4)=1,Dimanche),AND(WEEKDAY(JV$4)=2,Lundi),AND(WEEKDAY(JV$4)=3,Mardi),AND(WEEKDAY(JV$4)=4,Mercredi),AND(WEEKDAY(JV$4)=5,Jeudi),AND(WEEKDAY(JV$4)=6,Vendredi),AND(WEEKDAY(JV$4)=7,Samedi),JV$4=férié),0,1)","v":0},{"$f":"IF(OR(AND(WEEKDAY(JW$4)=1,Dimanche),AND(WEEKDAY(JW$4)=2,Lundi),AND(WEEKDAY(JW$4)=3,Mardi),AND(WEEKDAY(JW$4)=4,Mercredi),AND(WEEKDAY(JW$4)=5,Jeudi),AND(WEEKDAY(JW$4)=6,Vendredi),AND(WEEKDAY(JW$4)=7,Samedi),JW$4=férié),0,1)","v":0},{"$f":"IF(OR(AND(WEEKDAY(JX$4)=1,Dimanche),AND(WEEKDAY(JX$4)=2,Lundi),AND(WEEKDAY(JX$4)=3,Mardi),AND(WEEKDAY(JX$4)=4,Mercredi),AND(WEEKDAY(JX$4)=5,Jeudi),AND(WEEKDAY(JX$4)=6,Vendredi),AND(WEEKDAY(JX$4)=7,Samedi),JX$4=férié),0,1)","v":1},{"$f":"IF(OR(AND(WEEKDAY(JY$4)=1,Dimanche),AND(WEEKDAY(JY$4)=2,Lundi),AND(WEEKDAY(JY$4)=3,Mardi),AND(WEEKDAY(JY$4)=4,Mercredi),AND(WEEKDAY(JY$4)=5,Jeudi),AND(WEEKDAY(JY$4)=6,Vendredi),AND(WEEKDAY(JY$4)=7,Samedi),JY$4=férié),0,1)","v":1},{"$f":"IF(OR(AND(WEEKDAY(JZ$4)=1,Dimanche),AND(WEEKDAY(JZ$4)=2,Lundi),AND(WEEKDAY(JZ$4)=3,Mardi),AND(WEEKDAY(JZ$4)=4,Mercredi),AND(WEEKDAY(JZ$4)=5,Jeudi),AND(WEEKDAY(JZ$4)=6,Vendredi),AND(WEEKDAY(JZ$4)=7,Samedi),JZ$4=férié),0,1)","v":1},{"$f":"IF(OR(AND(WEEKDAY(KA$4)=1,Dimanche),AND(WEEKDAY(KA$4)=2,Lundi),AND(WEEKDAY(KA$4)=3,Mardi),AND(WEEKDAY(KA$4)=4,Mercredi),AND(WEEKDAY(KA$4)=5,Jeudi),AND(WEEKDAY(KA$4)=6,Vendredi),AND(WEEKDAY(KA$4)=7,Samedi),KA$4=férié),0,1)","v":1},{"$f":"IF(OR(AND(WEEKDAY(KB$4)=1,Dimanche),AND(WEEKDAY(KB$4)=2,Lundi),AND(WEEKDAY(KB$4)=3,Mardi),AND(WEEKDAY(KB$4)=4,Mercredi),AND(WEEKDAY(KB$4)=5,Jeudi),AND(WEEKDAY(KB$4)=6,Vendredi),AND(WEEKDAY(KB$4)=7,Samedi),KB$4=férié),0,1)","v":1},{"$f":"IF(OR(AND(WEEKDAY(KC$4)=1,Dimanche),AND(WEEKDAY(KC$4)=2,Lundi),AND(WEEKDAY(KC$4)=3,Mardi),AND(WEEKDAY(KC$4)=4,Mercredi),AND(WEEKDAY(KC$4)=5,Jeudi),AND(WEEKDAY(KC$4)=6,Vendredi),AND(WEEKDAY(KC$4)=7,Samedi),KC$4=férié),0,1)","v":0},{"$f":"IF(OR(AND(WEEKDAY(KD$4)=1,Dimanche),AND(WEEKDAY(KD$4)=2,Lundi),AND(WEEKDAY(KD$4)=3,Mardi),AND(WEEKDAY(KD$4)=4,Mercredi),AND(WEEKDAY(KD$4)=5,Jeudi),AND(WEEKDAY(KD$4)=6,Vendredi),AND(WEEKDAY(KD$4)=7,Samedi),KD$4=férié),0,1)","v":0},{"$f":"IF(OR(AND(WEEKDAY(KE$4)=1,Dimanche),AND(WEEKDAY(KE$4)=2,Lundi),AND(WEEKDAY(KE$4)=3,Mardi),AND(WEEKDAY(KE$4)=4,Mercredi),AND(WEEKDAY(KE$4)=5,Jeudi),AND(WEEKDAY(KE$4)=6,Vendredi),AND(WEEKDAY(KE$4)=7,Samedi),KE$4=férié),0,1)","v":1},{"$f":"IF(OR(AND(WEEKDAY(KF$4)=1,Dimanche),AND(WEEKDAY(KF$4)=2,Lundi),AND(WEEKDAY(KF$4)=3,Mardi),AND(WEEKDAY(KF$4)=4,Mercredi),AND(WEEKDAY(KF$4)=5,Jeudi),AND(WEEKDAY(KF$4)=6,Vendredi),AND(WEEKDAY(KF$4)=7,Samedi),KF$4=férié),0,1)","v":1},{"$f":"IF(OR(AND(WEEKDAY(KG$4)=1,Dimanche),AND(WEEKDAY(KG$4)=2,Lundi),AND(WEEKDAY(KG$4)=3,Mardi),AND(WEEKDAY(KG$4)=4,Mercredi),AND(WEEKDAY(KG$4)=5,Jeudi),AND(WEEKDAY(KG$4)=6,Vendredi),AND(WEEKDAY(KG$4)=7,Samedi),KG$4=férié),0,1)","v":1},{"$f":"IF(OR(AND(WEEKDAY(KH$4)=1,Dimanche),AND(WEEKDAY(KH$4)=2,Lundi),AND(WEEKDAY(KH$4)=3,Mardi),AND(WEEKDAY(KH$4)=4,Mercredi),AND(WEEKDAY(KH$4)=5,Jeudi),AND(WEEKDAY(KH$4)=6,Vendredi),AND(WEEKDAY(KH$4)=7,Samedi),KH$4=férié),0,1)","v":1},{"$f":"IF(OR(AND(WEEKDAY(KI$4)=1,Dimanche),AND(WEEKDAY(KI$4)=2,Lundi),AND(WEEKDAY(KI$4)=3,Mardi),AND(WEEKDAY(KI$4)=4,Mercredi),AND(WEEKDAY(KI$4)=5,Jeudi),AND(WEEKDAY(KI$4)=6,Vendredi),AND(WEEKDAY(KI$4)=7,Samedi),KI$4=férié),0,1)","v":1},{"$f":"IF(OR(AND(WEEKDAY(KJ$4)=1,Dimanche),AND(WEEKDAY(KJ$4)=2,Lundi),AND(WEEKDAY(KJ$4)=3,Mardi),AND(WEEKDAY(KJ$4)=4,Mercredi),AND(WEEKDAY(KJ$4)=5,Jeudi),AND(WEEKDAY(KJ$4)=6,Vendredi),AND(WEEKDAY(KJ$4)=7,Samedi),KJ$4=férié),0,1)","v":0},{"$f":"IF(OR(AND(WEEKDAY(KK$4)=1,Dimanche),AND(WEEKDAY(KK$4)=2,Lundi),AND(WEEKDAY(KK$4)=3,Mardi),AND(WEEKDAY(KK$4)=4,Mercredi),AND(WEEKDAY(KK$4)=5,Jeudi),AND(WEEKDAY(KK$4)=6,Vendredi),AND(WEEKDAY(KK$4)=7,Samedi),KK$4=férié),0,1)","v":0},{"$f":"IF(OR(AND(WEEKDAY(KL$4)=1,Dimanche),AND(WEEKDAY(KL$4)=2,Lundi),AND(WEEKDAY(KL$4)=3,Mardi),AND(WEEKDAY(KL$4)=4,Mercredi),AND(WEEKDAY(KL$4)=5,Jeudi),AND(WEEKDAY(KL$4)=6,Vendredi),AND(WEEKDAY(KL$4)=7,Samedi),KL$4=férié),0,1)","v":1},{"$f":"IF(OR(AND(WEEKDAY(KM$4)=1,Dimanche),AND(WEEKDAY(KM$4)=2,Lundi),AND(WEEKDAY(KM$4)=3,Mardi),AND(WEEKDAY(KM$4)=4,Mercredi),AND(WEEKDAY(KM$4)=5,Jeudi),AND(WEEKDAY(KM$4)=6,Vendredi),AND(WEEKDAY(KM$4)=7,Samedi),KM$4=férié),0,1)","v":1},{"$f":"IF(OR(AND(WEEKDAY(KN$4)=1,Dimanche),AND(WEEKDAY(KN$4)=2,Lundi),AND(WEEKDAY(KN$4)=3,Mardi),AND(WEEKDAY(KN$4)=4,Mercredi),AND(WEEKDAY(KN$4)=5,Jeudi),AND(WEEKDAY(KN$4)=6,Vendredi),AND(WEEKDAY(KN$4)=7,Samedi),KN$4=férié),0,1)","v":1},{"$f":"IF(OR(AND(WEEKDAY(KO$4)=1,Dimanche),AND(WEEKDAY(KO$4)=2,Lundi),AND(WEEKDAY(KO$4)=3,Mardi),AND(WEEKDAY(KO$4)=4,Mercredi),AND(WEEKDAY(KO$4)=5,Jeudi),AND(WEEKDAY(KO$4)=6,Vendredi),AND(WEEKDAY(KO$4)=7,Samedi),KO$4=férié),0,1)","v":1},{"$f":"IF(OR(AND(WEEKDAY(KP$4)=1,Dimanche),AND(WEEKDAY(KP$4)=2,Lundi),AND(WEEKDAY(KP$4)=3,Mardi),AND(WEEKDAY(KP$4)=4,Mercredi),AND(WEEKDAY(KP$4)=5,Jeudi),AND(WEEKDAY(KP$4)=6,Vendredi),AND(WEEKDAY(KP$4)=7,Samedi),KP$4=férié),0,1)","v":1},{"$f":"IF(OR(AND(WEEKDAY(KQ$4)=1,Dimanche),AND(WEEKDAY(KQ$4)=2,Lundi),AND(WEEKDAY(KQ$4)=3,Mardi),AND(WEEKDAY(KQ$4)=4,Mercredi),AND(WEEKDAY(KQ$4)=5,Jeudi),AND(WEEKDAY(KQ$4)=6,Vendredi),AND(WEEKDAY(KQ$4)=7,Samedi),KQ$4=férié),0,1)","v":0},{"$f":"IF(OR(AND(WEEKDAY(KR$4)=1,Dimanche),AND(WEEKDAY(KR$4)=2,Lundi),AND(WEEKDAY(KR$4)=3,Mardi),AND(WEEKDAY(KR$4)=4,Mercredi),AND(WEEKDAY(KR$4)=5,Jeudi),AND(WEEKDAY(KR$4)=6,Vendredi),AND(WEEKDAY(KR$4)=7,Samedi),KR$4=férié),0,1)","v":0},{"$f":"IF(OR(AND(WEEKDAY(KS$4)=1,Dimanche),AND(WEEKDAY(KS$4)=2,Lundi),AND(WEEKDAY(KS$4)=3,Mardi),AND(WEEKDAY(KS$4)=4,Mercredi),AND(WEEKDAY(KS$4)=5,Jeudi),AND(WEEKDAY(KS$4)=6,Vendredi),AND(WEEKDAY(KS$4)=7,Samedi),KS$4=férié),0,1)","v":1},{"$f":"IF(OR(AND(WEEKDAY(KT$4)=1,Dimanche),AND(WEEKDAY(KT$4)=2,Lundi),AND(WEEKDAY(KT$4)=3,Mardi),AND(WEEKDAY(KT$4)=4,Mercredi),AND(WEEKDAY(KT$4)=5,Jeudi),AND(WEEKDAY(KT$4)=6,Vendredi),AND(WEEKDAY(KT$4)=7,Samedi),KT$4=férié),0,1)","v":1},{"$f":"IF(OR(AND(WEEKDAY(KU$4)=1,Dimanche),AND(WEEKDAY(KU$4)=2,Lundi),AND(WEEKDAY(KU$4)=3,Mardi),AND(WEEKDAY(KU$4)=4,Mercredi),AND(WEEKDAY(KU$4)=5,Jeudi),AND(WEEKDAY(KU$4)=6,Vendredi),AND(WEEKDAY(KU$4)=7,Samedi),KU$4=férié),0,1)","v":1},{"$f":"IF(OR(AND(WEEKDAY(KV$4)=1,Dimanche),AND(WEEKDAY(KV$4)=2,Lundi),AND(WEEKDAY(KV$4)=3,Mardi),AND(WEEKDAY(KV$4)=4,Mercredi),AND(WEEKDAY(KV$4)=5,Jeudi),AND(WEEKDAY(KV$4)=6,Vendredi),AND(WEEKDAY(KV$4)=7,Samedi),KV$4=férié),0,1)","v":1},{"$f":"IF(OR(AND(WEEKDAY(KW$4)=1,Dimanche),AND(WEEKDAY(KW$4)=2,Lundi),AND(WEEKDAY(KW$4)=3,Mardi),AND(WEEKDAY(KW$4)=4,Mercredi),AND(WEEKDAY(KW$4)=5,Jeudi),AND(WEEKDAY(KW$4)=6,Vendredi),AND(WEEKDAY(KW$4)=7,Samedi),KW$4=férié),0,1)","v":1},{"$f":"IF(OR(AND(WEEKDAY(KX$4)=1,Dimanche),AND(WEEKDAY(KX$4)=2,Lundi),AND(WEEKDAY(KX$4)=3,Mardi),AND(WEEKDAY(KX$4)=4,Mercredi),AND(WEEKDAY(KX$4)=5,Jeudi),AND(WEEKDAY(KX$4)=6,Vendredi),AND(WEEKDAY(KX$4)=7,Samedi),KX$4=férié),0,1)","v":0},{"$f":"IF(OR(AND(WEEKDAY(KY$4)=1,Dimanche),AND(WEEKDAY(KY$4)=2,Lundi),AND(WEEKDAY(KY$4)=3,Mardi),AND(WEEKDAY(KY$4)=4,Mercredi),AND(WEEKDAY(KY$4)=5,Jeudi),AND(WEEKDAY(KY$4)=6,Vendredi),AND(WEEKDAY(KY$4)=7,Samedi),KY$4=férié),0,1)","v":0},{"$f":"IF(OR(AND(WEEKDAY(KZ$4)=1,Dimanche),AND(WEEKDAY(KZ$4)=2,Lundi),AND(WEEKDAY(KZ$4)=3,Mardi),AND(WEEKDAY(KZ$4)=4,Mercredi),AND(WEEKDAY(KZ$4)=5,Jeudi),AND(WEEKDAY(KZ$4)=6,Vendredi),AND(WEEKDAY(KZ$4)=7,Samedi),KZ$4=férié),0,1)","v":1},{"$f":"IF(OR(AND(WEEKDAY(LA$4)=1,Dimanche),AND(WEEKDAY(LA$4)=2,Lundi),AND(WEEKDAY(LA$4)=3,Mardi),AND(WEEKDAY(LA$4)=4,Mercredi),AND(WEEKDAY(LA$4)=5,Jeudi),AND(WEEKDAY(LA$4)=6,Vendredi),AND(WEEKDAY(LA$4)=7,Samedi),LA$4=férié),0,1)","v":1},{"$f":"IF(OR(AND(WEEKDAY(LB$4)=1,Dimanche),AND(WEEKDAY(LB$4)=2,Lundi),AND(WEEKDAY(LB$4)=3,Mardi),AND(WEEKDAY(LB$4)=4,Mercredi),AND(WEEKDAY(LB$4)=5,Jeudi),AND(WEEKDAY(LB$4)=6,Vendredi),AND(WEEKDAY(LB$4)=7,Samedi),LB$4=férié),0,1)","v":0},{"$f":"IF(OR(AND(WEEKDAY(LC$4)=1,Dimanche),AND(WEEKDAY(LC$4)=2,Lundi),AND(WEEKDAY(LC$4)=3,Mardi),AND(WEEKDAY(LC$4)=4,Mercredi),AND(WEEKDAY(LC$4)=5,Jeudi),AND(WEEKDAY(LC$4)=6,Vendredi),AND(WEEKDAY(LC$4)=7,Samedi),LC$4=férié),0,1)","v":1},{"$f":"IF(OR(AND(WEEKDAY(LD$4)=1,Dimanche),AND(WEEKDAY(LD$4)=2,Lundi),AND(WEEKDAY(LD$4)=3,Mardi),AND(WEEKDAY(LD$4)=4,Mercredi),AND(WEEKDAY(LD$4)=5,Jeudi),AND(WEEKDAY(LD$4)=6,Vendredi),AND(WEEKDAY(LD$4)=7,Samedi),LD$4=férié),0,1)","v":1},{"$f":"IF(OR(AND(WEEKDAY(LE$4)=1,Dimanche),AND(WEEKDAY(LE$4)=2,Lundi),AND(WEEKDAY(LE$4)=3,Mardi),AND(WEEKDAY(LE$4)=4,Mercredi),AND(WEEKDAY(LE$4)=5,Jeudi),AND(WEEKDAY(LE$4)=6,Vendredi),AND(WEEKDAY(LE$4)=7,Samedi),LE$4=férié),0,1)","v":0},{"$f":"IF(OR(AND(WEEKDAY(LF$4)=1,Dimanche),AND(WEEKDAY(LF$4)=2,Lundi),AND(WEEKDAY(LF$4)=3,Mardi),AND(WEEKDAY(LF$4)=4,Mercredi),AND(WEEKDAY(LF$4)=5,Jeudi),AND(WEEKDAY(LF$4)=6,Vendredi),AND(WEEKDAY(LF$4)=7,Samedi),LF$4=férié),0,1)","v":0},{"$f":"IF(OR(AND(WEEKDAY(LG$4)=1,Dimanche),AND(WEEKDAY(LG$4)=2,Lundi),AND(WEEKDAY(LG$4)=3,Mardi),AND(WEEKDAY(LG$4)=4,Mercredi),AND(WEEKDAY(LG$4)=5,Jeudi),AND(WEEKDAY(LG$4)=6,Vendredi),AND(WEEKDAY(LG$4)=7,Samedi),LG$4=férié),0,1)","v":1},{"$f":"IF(OR(AND(WEEKDAY(LH$4)=1,Dimanche),AND(WEEKDAY(LH$4)=2,Lundi),AND(WEEKDAY(LH$4)=3,Mardi),AND(WEEKDAY(LH$4)=4,Mercredi),AND(WEEKDAY(LH$4)=5,Jeudi),AND(WEEKDAY(LH$4)=6,Vendredi),AND(WEEKDAY(LH$4)=7,Samedi),LH$4=férié),0,1)","v":1},{"$f":"IF(OR(AND(WEEKDAY(LI$4)=1,Dimanche),AND(WEEKDAY(LI$4)=2,Lundi),AND(WEEKDAY(LI$4)=3,Mardi),AND(WEEKDAY(LI$4)=4,Mercredi),AND(WEEKDAY(LI$4)=5,Jeudi),AND(WEEKDAY(LI$4)=6,Vendredi),AND(WEEKDAY(LI$4)=7,Samedi),LI$4=férié),0,1)","v":1},{"$f":"IF(OR(AND(WEEKDAY(LJ$4)=1,Dimanche),AND(WEEKDAY(LJ$4)=2,Lundi),AND(WEEKDAY(LJ$4)=3,Mardi),AND(WEEKDAY(LJ$4)=4,Mercredi),AND(WEEKDAY(LJ$4)=5,Jeudi),AND(WEEKDAY(LJ$4)=6,Vendredi),AND(WEEKDAY(LJ$4)=7,Samedi),LJ$4=férié),0,1)","v":1},{"$f":"IF(OR(AND(WEEKDAY(LK$4)=1,Dimanche),AND(WEEKDAY(LK$4)=2,Lundi),AND(WEEKDAY(LK$4)=3,Mardi),AND(WEEKDAY(LK$4)=4,Mercredi),AND(WEEKDAY(LK$4)=5,Jeudi),AND(WEEKDAY(LK$4)=6,Vendredi),AND(WEEKDAY(LK$4)=7,Samedi),LK$4=férié),0,1)","v":1},{"$f":"IF(OR(AND(WEEKDAY(LL$4)=1,Dimanche),AND(WEEKDAY(LL$4)=2,Lundi),AND(WEEKDAY(LL$4)=3,Mardi),AND(WEEKDAY(LL$4)=4,Mercredi),AND(WEEKDAY(LL$4)=5,Jeudi),AND(WEEKDAY(LL$4)=6,Vendredi),AND(WEEKDAY(LL$4)=7,Samedi),LL$4=férié),0,1)","v":0},{"$f":"IF(OR(AND(WEEKDAY(LM$4)=1,Dimanche),AND(WEEKDAY(LM$4)=2,Lundi),AND(WEEKDAY(LM$4)=3,Mardi),AND(WEEKDAY(LM$4)=4,Mercredi),AND(WEEKDAY(LM$4)=5,Jeudi),AND(WEEKDAY(LM$4)=6,Vendredi),AND(WEEKDAY(LM$4)=7,Samedi),LM$4=férié),0,1)","v":0},{"$f":"IF(OR(AND(WEEKDAY(LN$4)=1,Dimanche),AND(WEEKDAY(LN$4)=2,Lundi),AND(WEEKDAY(LN$4)=3,Mardi),AND(WEEKDAY(LN$4)=4,Mercredi),AND(WEEKDAY(LN$4)=5,Jeudi),AND(WEEKDAY(LN$4)=6,Vendredi),AND(WEEKDAY(LN$4)=7,Samedi),LN$4=férié),0,1)","v":1},{"$f":"IF(OR(AND(WEEKDAY(LO$4)=1,Dimanche),AND(WEEKDAY(LO$4)=2,Lundi),AND(WEEKDAY(LO$4)=3,Mardi),AND(WEEKDAY(LO$4)=4,Mercredi),AND(WEEKDAY(LO$4)=5,Jeudi),AND(WEEKDAY(LO$4)=6,Vendredi),AND(WEEKDAY(LO$4)=7,Samedi),LO$4=férié),0,1)","v":1},{"$f":"IF(OR(AND(WEEKDAY(LP$4)=1,Dimanche),AND(WEEKDAY(LP$4)=2,Lundi),AND(WEEKDAY(LP$4)=3,Mardi),AND(WEEKDAY(LP$4)=4,Mercredi),AND(WEEKDAY(LP$4)=5,Jeudi),AND(WEEKDAY(LP$4)=6,Vendredi),AND(WEEKDAY(LP$4)=7,Samedi),LP$4=férié),0,1)","v":1},{"$f":"IF(OR(AND(WEEKDAY(LQ$4)=1,Dimanche),AND(WEEKDAY(LQ$4)=2,Lundi),AND(WEEKDAY(LQ$4)=3,Mardi),AND(WEEKDAY(LQ$4)=4,Mercredi),AND(WEEKDAY(LQ$4)=5,Jeudi),AND(WEEKDAY(LQ$4)=6,Vendredi),AND(WEEKDAY(LQ$4)=7,Samedi),LQ$4=férié),0,1)","v":1},{"$f":"IF(OR(AND(WEEKDAY(LR$4)=1,Dimanche),AND(WEEKDAY(LR$4)=2,Lundi),AND(WEEKDAY(LR$4)=3,Mardi),AND(WEEKDAY(LR$4)=4,Mercredi),AND(WEEKDAY(LR$4)=5,Jeudi),AND(WEEKDAY(LR$4)=6,Vendredi),AND(WEEKDAY(LR$4)=7,Samedi),LR$4=férié),0,1)","v":1},{"$f":"IF(OR(AND(WEEKDAY(LS$4)=1,Dimanche),AND(WEEKDAY(LS$4)=2,Lundi),AND(WEEKDAY(LS$4)=3,Mardi),AND(WEEKDAY(LS$4)=4,Mercredi),AND(WEEKDAY(LS$4)=5,Jeudi),AND(WEEKDAY(LS$4)=6,Vendredi),AND(WEEKDAY(LS$4)=7,Samedi),LS$4=férié),0,1)","v":0},{"$f":"IF(OR(AND(WEEKDAY(LT$4)=1,Dimanche),AND(WEEKDAY(LT$4)=2,Lundi),AND(WEEKDAY(LT$4)=3,Mardi),AND(WEEKDAY(LT$4)=4,Mercredi),AND(WEEKDAY(LT$4)=5,Jeudi),AND(WEEKDAY(LT$4)=6,Vendredi),AND(WEEKDAY(LT$4)=7,Samedi),LT$4=férié),0,1)","v":0},{"$f":"IF(OR(AND(WEEKDAY(LU$4)=1,Dimanche),AND(WEEKDAY(LU$4)=2,Lundi),AND(WEEKDAY(LU$4)=3,Mardi),AND(WEEKDAY(LU$4)=4,Mercredi),AND(WEEKDAY(LU$4)=5,Jeudi),AND(WEEKDAY(LU$4)=6,Vendredi),AND(WEEKDAY(LU$4)=7,Samedi),LU$4=férié),0,1)","v":1},{"$f":"IF(OR(AND(WEEKDAY(LV$4)=1,Dimanche),AND(WEEKDAY(LV$4)=2,Lundi),AND(WEEKDAY(LV$4)=3,Mardi),AND(WEEKDAY(LV$4)=4,Mercredi),AND(WEEKDAY(LV$4)=5,Jeudi),AND(WEEKDAY(LV$4)=6,Vendredi),AND(WEEKDAY(LV$4)=7,Samedi),LV$4=férié),0,1)","v":1},{"$f":"IF(OR(AND(WEEKDAY(LW$4)=1,Dimanche),AND(WEEKDAY(LW$4)=2,Lundi),AND(WEEKDAY(LW$4)=3,Mardi),AND(WEEKDAY(LW$4)=4,Mercredi),AND(WEEKDAY(LW$4)=5,Jeudi),AND(WEEKDAY(LW$4)=6,Vendredi),AND(WEEKDAY(LW$4)=7,Samedi),LW$4=férié),0,1)","v":1},{"$f":"IF(OR(AND(WEEKDAY(LX$4)=1,Dimanche),AND(WEEKDAY(LX$4)=2,Lundi),AND(WEEKDAY(LX$4)=3,Mardi),AND(WEEKDAY(LX$4)=4,Mercredi),AND(WEEKDAY(LX$4)=5,Jeudi),AND(WEEKDAY(LX$4)=6,Vendredi),AND(WEEKDAY(LX$4)=7,Samedi),LX$4=férié),0,1)","v":1},{"$f":"IF(OR(AND(WEEKDAY(LY$4)=1,Dimanche),AND(WEEKDAY(LY$4)=2,Lundi),AND(WEEKDAY(LY$4)=3,Mardi),AND(WEEKDAY(LY$4)=4,Mercredi),AND(WEEKDAY(LY$4)=5,Jeudi),AND(WEEKDAY(LY$4)=6,Vendredi),AND(WEEKDAY(LY$4)=7,Samedi),LY$4=férié),0,1)","v":1},{"$f":"IF(OR(AND(WEEKDAY(LZ$4)=1,Dimanche),AND(WEEKDAY(LZ$4)=2,Lundi),AND(WEEKDAY(LZ$4)=3,Mardi),AND(WEEKDAY(LZ$4)=4,Mercredi),AND(WEEKDAY(LZ$4)=5,Jeudi),AND(WEEKDAY(LZ$4)=6,Vendredi),AND(WEEKDAY(LZ$4)=7,Samedi),LZ$4=férié),0,1)","v":0},{"$f":"IF(OR(AND(WEEKDAY(MA$4)=1,Dimanche),AND(WEEKDAY(MA$4)=2,Lundi),AND(WEEKDAY(MA$4)=3,Mardi),AND(WEEKDAY(MA$4)=4,Mercredi),AND(WEEKDAY(MA$4)=5,Jeudi),AND(WEEKDAY(MA$4)=6,Vendredi),AND(WEEKDAY(MA$4)=7,Samedi),MA$4=férié),0,1)","v":0},{"$f":"IF(OR(AND(WEEKDAY(MB$4)=1,Dimanche),AND(WEEKDAY(MB$4)=2,Lundi),AND(WEEKDAY(MB$4)=3,Mardi),AND(WEEKDAY(MB$4)=4,Mercredi),AND(WEEKDAY(MB$4)=5,Jeudi),AND(WEEKDAY(MB$4)=6,Vendredi),AND(WEEKDAY(MB$4)=7,Samedi),MB$4=férié),0,1)","v":1},{"$f":"IF(OR(AND(WEEKDAY(MC$4)=1,Dimanche),AND(WEEKDAY(MC$4)=2,Lundi),AND(WEEKDAY(MC$4)=3,Mardi),AND(WEEKDAY(MC$4)=4,Mercredi),AND(WEEKDAY(MC$4)=5,Jeudi),AND(WEEKDAY(MC$4)=6,Vendredi),AND(WEEKDAY(MC$4)=7,Samedi),MC$4=férié),0,1)","v":1},{"$f":"IF(OR(AND(WEEKDAY(MD$4)=1,Dimanche),AND(WEEKDAY(MD$4)=2,Lundi),AND(WEEKDAY(MD$4)=3,Mardi),AND(WEEKDAY(MD$4)=4,Mercredi),AND(WEEKDAY(MD$4)=5,Jeudi),AND(WEEKDAY(MD$4)=6,Vendredi),AND(WEEKDAY(MD$4)=7,Samedi),MD$4=férié),0,1)","v":1},{"$f":"IF(OR(AND(WEEKDAY(ME$4)=1,Dimanche),AND(WEEKDAY(ME$4)=2,Lundi),AND(WEEKDAY(ME$4)=3,Mardi),AND(WEEKDAY(ME$4)=4,Mercredi),AND(WEEKDAY(ME$4)=5,Jeudi),AND(WEEKDAY(ME$4)=6,Vendredi),AND(WEEKDAY(ME$4)=7,Samedi),ME$4=férié),0,1)","v":1},{"$f":"IF(OR(AND(WEEKDAY(MF$4)=1,Dimanche),AND(WEEKDAY(MF$4)=2,Lundi),AND(WEEKDAY(MF$4)=3,Mardi),AND(WEEKDAY(MF$4)=4,Mercredi),AND(WEEKDAY(MF$4)=5,Jeudi),AND(WEEKDAY(MF$4)=6,Vendredi),AND(WEEKDAY(MF$4)=7,Samedi),MF$4=férié),0,1)","v":1},{"$f":"IF(OR(AND(WEEKDAY(MG$4)=1,Dimanche),AND(WEEKDAY(MG$4)=2,Lundi),AND(WEEKDAY(MG$4)=3,Mardi),AND(WEEKDAY(MG$4)=4,Mercredi),AND(WEEKDAY(MG$4)=5,Jeudi),AND(WEEKDAY(MG$4)=6,Vendredi),AND(WEEKDAY(MG$4)=7,Samedi),MG$4=férié),0,1)","v":0},{"$f":"IF(OR(AND(WEEKDAY(MH$4)=1,Dimanche),AND(WEEKDAY(MH$4)=2,Lundi),AND(WEEKDAY(MH$4)=3,Mardi),AND(WEEKDAY(MH$4)=4,Mercredi),AND(WEEKDAY(MH$4)=5,Jeudi),AND(WEEKDAY(MH$4)=6,Vendredi),AND(WEEKDAY(MH$4)=7,Samedi),MH$4=férié),0,1)","v":0},{"$f":"IF(OR(AND(WEEKDAY(MI$4)=1,Dimanche),AND(WEEKDAY(MI$4)=2,Lundi),AND(WEEKDAY(MI$4)=3,Mardi),AND(WEEKDAY(MI$4)=4,Mercredi),AND(WEEKDAY(MI$4)=5,Jeudi),AND(WEEKDAY(MI$4)=6,Vendredi),AND(WEEKDAY(MI$4)=7,Samedi),MI$4=férié),0,1)","v":1},{"$f":"IF(OR(AND(WEEKDAY(MJ$4)=1,Dimanche),AND(WEEKDAY(MJ$4)=2,Lundi),AND(WEEKDAY(MJ$4)=3,Mardi),AND(WEEKDAY(MJ$4)=4,Mercredi),AND(WEEKDAY(MJ$4)=5,Jeudi),AND(WEEKDAY(MJ$4)=6,Vendredi),AND(WEEKDAY(MJ$4)=7,Samedi),MJ$4=férié),0,1)","v":1},{"$f":"IF(OR(AND(WEEKDAY(MK$4)=1,Dimanche),AND(WEEKDAY(MK$4)=2,Lundi),AND(WEEKDAY(MK$4)=3,Mardi),AND(WEEKDAY(MK$4)=4,Mercredi),AND(WEEKDAY(MK$4)=5,Jeudi),AND(WEEKDAY(MK$4)=6,Vendredi),AND(WEEKDAY(MK$4)=7,Samedi),MK$4=férié),0,1)","v":1},{"$f":"IF(OR(AND(WEEKDAY(ML$4)=1,Dimanche),AND(WEEKDAY(ML$4)=2,Lundi),AND(WEEKDAY(ML$4)=3,Mardi),AND(WEEKDAY(ML$4)=4,Mercredi),AND(WEEKDAY(ML$4)=5,Jeudi),AND(WEEKDAY(ML$4)=6,Vendredi),AND(WEEKDAY(ML$4)=7,Samedi),ML$4=férié),0,1)","v":1},{"$f":"IF(OR(AND(WEEKDAY(MM$4)=1,Dimanche),AND(WEEKDAY(MM$4)=2,Lundi),AND(WEEKDAY(MM$4)=3,Mardi),AND(WEEKDAY(MM$4)=4,Mercredi),AND(WEEKDAY(MM$4)=5,Jeudi),AND(WEEKDAY(MM$4)=6,Vendredi),AND(WEEKDAY(MM$4)=7,Samedi),MM$4=férié),0,1)","v":1},{"$f":"IF(OR(AND(WEEKDAY(MN$4)=1,Dimanche),AND(WEEKDAY(MN$4)=2,Lundi),AND(WEEKDAY(MN$4)=3,Mardi),AND(WEEKDAY(MN$4)=4,Mercredi),AND(WEEKDAY(MN$4)=5,Jeudi),AND(WEEKDAY(MN$4)=6,Vendredi),AND(WEEKDAY(MN$4)=7,Samedi),MN$4=férié),0,1)","v":0},{"$f":"IF(OR(AND(WEEKDAY(MO$4)=1,Dimanche),AND(WEEKDAY(MO$4)=2,Lundi),AND(WEEKDAY(MO$4)=3,Mardi),AND(WEEKDAY(MO$4)=4,Mercredi),AND(WEEKDAY(MO$4)=5,Jeudi),AND(WEEKDAY(MO$4)=6,Vendredi),AND(WEEKDAY(MO$4)=7,Samedi),MO$4=férié),0,1)","v":0},{"$f":"IF(OR(AND(WEEKDAY(MP$4)=1,Dimanche),AND(WEEKDAY(MP$4)=2,Lundi),AND(WEEKDAY(MP$4)=3,Mardi),AND(WEEKDAY(MP$4)=4,Mercredi),AND(WEEKDAY(MP$4)=5,Jeudi),AND(WEEKDAY(MP$4)=6,Vendredi),AND(WEEKDAY(MP$4)=7,Samedi),MP$4=férié),0,1)","v":1},{"$f":"IF(OR(AND(WEEKDAY(MQ$4)=1,Dimanche),AND(WEEKDAY(MQ$4)=2,Lundi),AND(WEEKDAY(MQ$4)=3,Mardi),AND(WEEKDAY(MQ$4)=4,Mercredi),AND(WEEKDAY(MQ$4)=5,Jeudi),AND(WEEKDAY(MQ$4)=6,Vendredi),AND(WEEKDAY(MQ$4)=7,Samedi),MQ$4=férié),0,1)","v":1},{"$f":"IF(OR(AND(WEEKDAY(MR$4)=1,Dimanche),AND(WEEKDAY(MR$4)=2,Lundi),AND(WEEKDAY(MR$4)=3,Mardi),AND(WEEKDAY(MR$4)=4,Mercredi),AND(WEEKDAY(MR$4)=5,Jeudi),AND(WEEKDAY(MR$4)=6,Vendredi),AND(WEEKDAY(MR$4)=7,Samedi),MR$4=férié),0,1)","v":1},{"$f":"IF(OR(AND(WEEKDAY(MS$4)=1,Dimanche),AND(WEEKDAY(MS$4)=2,Lundi),AND(WEEKDAY(MS$4)=3,Mardi),AND(WEEKDAY(MS$4)=4,Mercredi),AND(WEEKDAY(MS$4)=5,Jeudi),AND(WEEKDAY(MS$4)=6,Vendredi),AND(WEEKDAY(MS$4)=7,Samedi),MS$4=férié),0,1)","v":1},{"$f":"IF(OR(AND(WEEKDAY(MT$4)=1,Dimanche),AND(WEEKDAY(MT$4)=2,Lundi),AND(WEEKDAY(MT$4)=3,Mardi),AND(WEEKDAY(MT$4)=4,Mercredi),AND(WEEKDAY(MT$4)=5,Jeudi),AND(WEEKDAY(MT$4)=6,Vendredi),AND(WEEKDAY(MT$4)=7,Samedi),MT$4=férié),0,1)","v":1},{"$f":"IF(OR(AND(WEEKDAY(MU$4)=1,Dimanche),AND(WEEKDAY(MU$4)=2,Lundi),AND(WEEKDAY(MU$4)=3,Mardi),AND(WEEKDAY(MU$4)=4,Mercredi),AND(WEEKDAY(MU$4)=5,Jeudi),AND(WEEKDAY(MU$4)=6,Vendredi),AND(WEEKDAY(MU$4)=7,Samedi),MU$4=férié),0,1)","v":0},{"$f":"IF(OR(AND(WEEKDAY(MV$4)=1,Dimanche),AND(WEEKDAY(MV$4)=2,Lundi),AND(WEEKDAY(MV$4)=3,Mardi),AND(WEEKDAY(MV$4)=4,Mercredi),AND(WEEKDAY(MV$4)=5,Jeudi),AND(WEEKDAY(MV$4)=6,Vendredi),AND(WEEKDAY(MV$4)=7,Samedi),MV$4=férié),0,1)","v":0},{"$f":"IF(OR(AND(WEEKDAY(MW$4)=1,Dimanche),AND(WEEKDAY(MW$4)=2,Lundi),AND(WEEKDAY(MW$4)=3,Mardi),AND(WEEKDAY(MW$4)=4,Mercredi),AND(WEEKDAY(MW$4)=5,Jeudi),AND(WEEKDAY(MW$4)=6,Vendredi),AND(WEEKDAY(MW$4)=7,Samedi),MW$4=férié),0,1)","v":1},{"$f":"IF(OR(AND(WEEKDAY(MX$4)=1,Dimanche),AND(WEEKDAY(MX$4)=2,Lundi),AND(WEEKDAY(MX$4)=3,Mardi),AND(WEEKDAY(MX$4)=4,Mercredi),AND(WEEKDAY(MX$4)=5,Jeudi),AND(WEEKDAY(MX$4)=6,Vendredi),AND(WEEKDAY(MX$4)=7,Samedi),MX$4=férié),0,1)","v":1},{"$f":"IF(OR(AND(WEEKDAY(MY$4)=1,Dimanche),AND(WEEKDAY(MY$4)=2,Lundi),AND(WEEKDAY(MY$4)=3,Mardi),AND(WEEKDAY(MY$4)=4,Mercredi),AND(WEEKDAY(MY$4)=5,Jeudi),AND(WEEKDAY(MY$4)=6,Vendredi),AND(WEEKDAY(MY$4)=7,Samedi),MY$4=férié),0,1)","v":1},{"$f":"IF(OR(AND(WEEKDAY(MZ$4)=1,Dimanche),AND(WEEKDAY(MZ$4)=2,Lundi),AND(WEEKDAY(MZ$4)=3,Mardi),AND(WEEKDAY(MZ$4)=4,Mercredi),AND(WEEKDAY(MZ$4)=5,Jeudi),AND(WEEKDAY(MZ$4)=6,Vendredi),AND(WEEKDAY(MZ$4)=7,Samedi),MZ$4=férié),0,1)","v":1},{"$f":"IF(OR(AND(WEEKDAY(NA$4)=1,Dimanche),AND(WEEKDAY(NA$4)=2,Lundi),AND(WEEKDAY(NA$4)=3,Mardi),AND(WEEKDAY(NA$4)=4,Mercredi),AND(WEEKDAY(NA$4)=5,Jeudi),AND(WEEKDAY(NA$4)=6,Vendredi),AND(WEEKDAY(NA$4)=7,Samedi),NA$4=férié),0,1)","v":1},{"$f":"IF(OR(AND(WEEKDAY(NB$4)=1,Dimanche),AND(WEEKDAY(NB$4)=2,Lundi),AND(WEEKDAY(NB$4)=3,Mardi),AND(WEEKDAY(NB$4)=4,Mercredi),AND(WEEKDAY(NB$4)=5,Jeudi),AND(WEEKDAY(NB$4)=6,Vendredi),AND(WEEKDAY(NB$4)=7,Samedi),NB$4=férié),0,1)","v":0},{"$f":"IF(OR(AND(WEEKDAY(NC$4)=1,Dimanche),AND(WEEKDAY(NC$4)=2,Lundi),AND(WEEKDAY(NC$4)=3,Mardi),AND(WEEKDAY(NC$4)=4,Mercredi),AND(WEEKDAY(NC$4)=5,Jeudi),AND(WEEKDAY(NC$4)=6,Vendredi),AND(WEEKDAY(NC$4)=7,Samedi),NC$4=férié),0,1)","v":0},{"$f":"IF(OR(AND(WEEKDAY(ND$4)=1,Dimanche),AND(WEEKDAY(ND$4)=2,Lundi),AND(WEEKDAY(ND$4)=3,Mardi),AND(WEEKDAY(ND$4)=4,Mercredi),AND(WEEKDAY(ND$4)=5,Jeudi),AND(WEEKDAY(ND$4)=6,Vendredi),AND(WEEKDAY(ND$4)=7,Samedi),ND$4=férié),0,1)","v":0},{"$f":"IF(OR(AND(WEEKDAY(NE$4)=1,Dimanche),AND(WEEKDAY(NE$4)=2,Lundi),AND(WEEKDAY(NE$4)=3,Mardi),AND(WEEKDAY(NE$4)=4,Mercredi),AND(WEEKDAY(NE$4)=5,Jeudi),AND(WEEKDAY(NE$4)=6,Vendredi),AND(WEEKDAY(NE$4)=7,Samedi),NE$4=férié),0,1)","v":1},{"$f":"IF(OR(AND(WEEKDAY(NF$4)=1,Dimanche),AND(WEEKDAY(NF$4)=2,Lundi),AND(WEEKDAY(NF$4)=3,Mardi),AND(WEEKDAY(NF$4)=4,Mercredi),AND(WEEKDAY(NF$4)=5,Jeudi),AND(WEEKDAY(NF$4)=6,Vendredi),AND(WEEKDAY(NF$4)=7,Samedi),NF$4=férié),0,1)","v":1},{"$f":"IF(OR(AND(WEEKDAY(NG$4)=1,Dimanche),AND(WEEKDAY(NG$4)=2,Lundi),AND(WEEKDAY(NG$4)=3,Mardi),AND(WEEKDAY(NG$4)=4,Mercredi),AND(WEEKDAY(NG$4)=5,Jeudi),AND(WEEKDAY(NG$4)=6,Vendredi),AND(WEEKDAY(NG$4)=7,Samedi),NG$4=férié),0,1)","v":1},{"$f":"IF(OR(AND(WEEKDAY(NH$4)=1,Dimanche),AND(WEEKDAY(NH$4)=2,Lundi),AND(WEEKDAY(NH$4)=3,Mardi),AND(WEEKDAY(NH$4)=4,Mercredi),AND(WEEKDAY(NH$4)=5,Jeudi),AND(WEEKDAY(NH$4)=6,Vendredi),AND(WEEKDAY(NH$4)=7,Samedi),NH$4=férié),0,1)","v":1},{"$f":"IF(OR(AND(WEEKDAY(NI$4)=1,Dimanche),AND(WEEKDAY(NI$4)=2,Lundi),AND(WEEKDAY(NI$4)=3,Mardi),AND(WEEKDAY(NI$4)=4,Mercredi),AND(WEEKDAY(NI$4)=5,Jeudi),AND(WEEKDAY(NI$4)=6,Vendredi),AND(WEEKDAY(NI$4)=7,Samedi),NI$4=férié),0,1)","v":0},{"$f":"IF(OR(AND(WEEKDAY(NJ$4)=1,Dimanche),AND(WEEKDAY(NJ$4)=2,Lundi),AND(WEEKDAY(NJ$4)=3,Mardi),AND(WEEKDAY(NJ$4)=4,Mercredi),AND(WEEKDAY(NJ$4)=5,Jeudi),AND(WEEKDAY(NJ$4)=6,Vendredi),AND(WEEKDAY(NJ$4)=7,Samedi),NJ$4=férié),0,1)","v":0},{"$f":"IF(OR(AND(WEEKDAY(NK$4)=1,Dimanche),AND(WEEKDAY(NK$4)=2,Lundi),AND(WEEKDAY(NK$4)=3,Mardi),AND(WEEKDAY(NK$4)=4,Mercredi),AND(WEEKDAY(NK$4)=5,Jeudi),AND(WEEKDAY(NK$4)=6,Vendredi),AND(WEEKDAY(NK$4)=7,Samedi),NK$4=férié),0,1)","v":0},{"$f":"IF(OR(AND(WEEKDAY(NL$4)=1,Dimanche),AND(WEEKDAY(NL$4)=2,Lundi),AND(WEEKDAY(NL$4)=3,Mardi),AND(WEEKDAY(NL$4)=4,Mercredi),AND(WEEKDAY(NL$4)=5,Jeudi),AND(WEEKDAY(NL$4)=6,Vendredi),AND(WEEKDAY(NL$4)=7,Samedi),NL$4=férié),0,1)","v":1},{"$f":"IF(OR(AND(WEEKDAY(NM$4)=1,Dimanche),AND(WEEKDAY(NM$4)=2,Lundi),AND(WEEKDAY(NM$4)=3,Mardi),AND(WEEKDAY(NM$4)=4,Mercredi),AND(WEEKDAY(NM$4)=5,Jeudi),AND(WEEKDAY(NM$4)=6,Vendredi),AND(WEEKDAY(NM$4)=7,Samedi),NM$4=férié),0,1)","v":1},{"$f":"IF(OR(AND(WEEKDAY(NN$4)=1,Dimanche),AND(WEEKDAY(NN$4)=2,Lundi),AND(WEEKDAY(NN$4)=3,Mardi),AND(WEEKDAY(NN$4)=4,Mercredi),AND(WEEKDAY(NN$4)=5,Jeudi),AND(WEEKDAY(NN$4)=6,Vendredi),AND(WEEKDAY(NN$4)=7,Samedi),NN$4=férié),0,1)","v":1},{"$f":"IF(OR(AND(WEEKDAY(NO$4)=1,Dimanche),AND(WEEKDAY(NO$4)=2,Lundi),AND(WEEKDAY(NO$4)=3,Mardi),AND(WEEKDAY(NO$4)=4,Mercredi),AND(WEEKDAY(NO$4)=5,Jeudi),AND(WEEKDAY(NO$4)=6,Vendredi),AND(WEEKDAY(NO$4)=7,Samedi),NO$4=férié),0,1)","v":1},{"$f":"IF(OR(AND(WEEKDAY(NP$4)=1,Dimanche),AND(WEEKDAY(NP$4)=2,Lundi),AND(WEEKDAY(NP$4)=3,Mardi),AND(WEEKDAY(NP$4)=4,Mercredi),AND(WEEKDAY(NP$4)=5,Jeudi),AND(WEEKDAY(NP$4)=6,Vendredi),AND(WEEKDAY(NP$4)=7,Samedi),NP$4=férié),0,1)","v":0},{"$f":"IF(OR(AND(WEEKDAY(NQ$4)=1,Dimanche),AND(WEEKDAY(NQ$4)=2,Lundi),AND(WEEKDAY(NQ$4)=3,Mardi),AND(WEEKDAY(NQ$4)=4,Mercredi),AND(WEEKDAY(NQ$4)=5,Jeudi),AND(WEEKDAY(NQ$4)=6,Vendredi),AND(WEEKDAY(NQ$4)=7,Samedi),NQ$4=férié),0,1)","v":0},{"$f":"IF(OR(AND(WEEKDAY(NR$4)=1,Dimanche),AND(WEEKDAY(NR$4)=2,Lundi),AND(WEEKDAY(NR$4)=3,Mardi),AND(WEEKDAY(NR$4)=4,Mercredi),AND(WEEKDAY(NR$4)=5,Jeudi),AND(WEEKDAY(NR$4)=6,Vendredi),AND(WEEKDAY(NR$4)=7,Samedi),NR$4=férié),0,1)","v":1},{"$f":"IF(OR(AND(WEEKDAY(NS$4)=1,Dimanche),AND(WEEKDAY(NS$4)=2,Lundi),AND(WEEKDAY(NS$4)=3,Mardi),AND(WEEKDAY(NS$4)=4,Mercredi),AND(WEEKDAY(NS$4)=5,Jeudi),AND(WEEKDAY(NS$4)=6,Vendredi),AND(WEEKDAY(NS$4)=7,Samedi),NS$4=férié),0,1)","v":1},{"$f":"IF(OR(AND(WEEKDAY(NT$4)=1,Dimanche),AND(WEEKDAY(NT$4)=2,Lundi),AND(WEEKDAY(NT$4)=3,Mardi),AND(WEEKDAY(NT$4)=4,Mercredi),AND(WEEKDAY(NT$4)=5,Jeudi),AND(WEEKDAY(NT$4)=6,Vendredi),AND(WEEKDAY(NT$4)=7,Samedi),NT$4=férié),0,1)","v":1},{"$f":"IF(OR(AND(WEEKDAY(NU$4)=1,Dimanche),AND(WEEKDAY(NU$4)=2,Lundi),AND(WEEKDAY(NU$4)=3,Mardi),AND(WEEKDAY(NU$4)=4,Mercredi),AND(WEEKDAY(NU$4)=5,Jeudi),AND(WEEKDAY(NU$4)=6,Vendredi),AND(WEEKDAY(NU$4)=7,Samedi),NU$4=férié),0,1)","v":1},{"$f":"IF(OR(AND(WEEKDAY(NV$4)=1,Dimanche),AND(WEEKDAY(NV$4)=2,Lundi),AND(WEEKDAY(NV$4)=3,Mardi),AND(WEEKDAY(NV$4)=4,Mercredi),AND(WEEKDAY(NV$4)=5,Jeudi),AND(WEEKDAY(NV$4)=6,Vendredi),AND(WEEKDAY(NV$4)=7,Samedi),NV$4=férié),0,1)","v":1},{"$f":"IF(OR(AND(WEEKDAY(NW$4)=1,Dimanche),AND(WEEKDAY(NW$4)=2,Lundi),AND(WEEKDAY(NW$4)=3,Mardi),AND(WEEKDAY(NW$4)=4,Mercredi),AND(WEEKDAY(NW$4)=5,Jeudi),AND(WEEKDAY(NW$4)=6,Vendredi),AND(WEEKDAY(NW$4)=7,Samedi),NW$4=férié),0,1)","v":0},{"$f":"IF(OR(AND(WEEKDAY(NX$4)=1,Dimanche),AND(WEEKDAY(NX$4)=2,Lundi),AND(WEEKDAY(NX$4)=3,Mardi),AND(WEEKDAY(NX$4)=4,Mercredi),AND(WEEKDAY(NX$4)=5,Jeudi),AND(WEEKDAY(NX$4)=6,Vendredi),AND(WEEKDAY(NX$4)=7,Samedi),NX$4=férié),0,1)","v":0}]
[null,null,null,{"$f":"\"Semaine \"&TEXT(INT(MOD(INT((D4-2)/7)+0.6,52+5/28))+1,\"00\")","v":"Semaine 52"},null,null,null,null,null,null,{"$f":"\"Semaine \"&TEXT(INT(MOD(INT((K4-2)/7)+0.6,52+5/28))+1,\"00\")","v":"Semaine 01"},null,null,null,null,null,null,{"$f":"\"Semaine \"&TEXT(INT(MOD(INT((R4-2)/7)+0.6,52+5/28))+1,\"00\")","v":"Semaine 02"},null,null,null,null,null,null,{"$f":"\"Semaine \"&TEXT(INT(MOD(INT((Y4-2)/7)+0.6,52+5/28))+1,\"00\")","v":"Semaine 03"},null,null,null,null,null,null,{"$f":"\"Semaine \"&TEXT(INT(MOD(INT((AF4-2)/7)+0.6,52+5/28))+1,\"00\")","v":"Semaine 04"},null,null,null,null,null,null,{"$f":"\"Semaine \"&TEXT(INT(MOD(INT((AM4-2)/7)+0.6,52+5/28))+1,\"00\")","v":"Semaine 05"},null,null,null,null,null,null,{"$f":"\"Semaine \"&TEXT(INT(MOD(INT((AT4-2)/7)+0.6,52+5/28))+1,\"00\")","v":"Semaine 06"},null,null,null,null,null,null,{"$f":"\"Semaine \"&TEXT(INT(MOD(INT((BA4-2)/7)+0.6,52+5/28))+1,\"00\")","v":"Semaine 07"},null,null,null,null,null,null,{"$f":"\"Semaine \"&TEXT(INT(MOD(INT((BH4-2)/7)+0.6,52+5/28))+1,\"00\")","v":"Semaine 08"},null,null,null,null,null,null,{"$f":"\"Semaine \"&TEXT(INT(MOD(INT((BO4-2)/7)+0.6,52+5/28))+1,\"00\")","v":"Semaine 09"},null,null,null,null,null,null,{"$f":"\"Semaine \"&TEXT(INT(MOD(INT((BV4-2)/7)+0.6,52+5/28))+1,\"00\")","v":"Semaine 10"},null,null,null,null,null,null,{"$f":"\"Semaine \"&TEXT(INT(MOD(INT((CC4-2)/7)+0.6,52+5/28))+1,\"00\")","v":"Semaine 11"},null,null,null,null,null,null,{"$f":"\"Semaine \"&TEXT(INT(MOD(INT((CJ4-2)/7)+0.6,52+5/28))+1,\"00\")","v":"Semaine 12"},null,null,null,null,null,null,{"$f":"\"Semaine \"&TEXT(INT(MOD(INT((CQ4-2)/7)+0.6,52+5/28))+1,\"00\")","v":"Semaine 13"},null,null,null,null,null,null,{"$f":"\"Semaine \"&TEXT(INT(MOD(INT((CX4-2)/7)+0.6,52+5/28))+1,\"00\")","v":"Semaine 14"},null,null,null,null,null,null,{"$f":"\"Semaine \"&TEXT(INT(MOD(INT((DE4-2)/7)+0.6,52+5/28))+1,\"00\")","v":"Semaine 15"},null,null,null,null,null,null,{"$f":"\"Semaine \"&TEXT(INT(MOD(INT((DL4-2)/7)+0.6,52+5/28))+1,\"00\")","v":"Semaine 16"},null,null,null,null,null,null,{"$f":"\"Semaine \"&TEXT(INT(MOD(INT((DS4-2)/7)+0.6,52+5/28))+1,\"00\")","v":"Semaine 17"},null,null,null,null,null,null,{"$f":"\"Semaine \"&TEXT(INT(MOD(INT((DZ4-2)/7)+0.6,52+5/28))+1,\"00\")","v":"Semaine 18"},null,null,null,null,null,null,{"$f":"\"Semaine \"&TEXT(INT(MOD(INT((EG4-2)/7)+0.6,52+5/28))+1,\"00\")","v":"Semaine 19"},null,null,null,null,null,null,{"$f":"\"Semaine \"&TEXT(INT(MOD(INT((EN4-2)/7)+0.6,52+5/28))+1,\"00\")","v":"Semaine 20"},null,null,null,null,null,null,{"$f":"\"Semaine \"&TEXT(INT(MOD(INT((EU4-2)/7)+0.6,52+5/28))+1,\"00\")","v":"Semaine 21"},null,null,null,null,null,null,{"$f":"\"Semaine \"&TEXT(INT(MOD(INT((FB4-2)/7)+0.6,52+5/28))+1,\"00\")","v":"Semaine 22"},null,null,null,null,null,null,{"$f":"\"Semaine \"&TEXT(INT(MOD(INT((FI4-2)/7)+0.6,52+5/28))+1,\"00\")","v":"Semaine 23"},null,null,null,null,null,null,{"$f":"\"Semaine \"&TEXT(INT(MOD(INT((FP4-2)/7)+0.6,52+5/28))+1,\"00\")","v":"Semaine 24"},null,null,null,null,null,null,{"$f":"\"Semaine \"&TEXT(INT(MOD(INT((FW4-2)/7)+0.6,52+5/28))+1,\"00\")","v":"Semaine 25"},null,null,null,null,null,null,{"$f":"\"Semaine \"&TEXT(INT(MOD(INT((GD4-2)/7)+0.6,52+5/28))+1,\"00\")","v":"Semaine 26"},null,null,null,null,null,null,{"$f":"\"Semaine \"&TEXT(INT(MOD(INT((GK4-2)/7)+0.6,52+5/28))+1,\"00\")","v":"Semaine 27"},null,null,null,null,null,null,{"$f":"\"Semaine \"&TEXT(INT(MOD(INT((GR4-2)/7)+0.6,52+5/28))+1,\"00\")","v":"Semaine 28"},null,null,null,null,null,null,{"$f":"\"Semaine \"&TEXT(INT(MOD(INT((GY4-2)/7)+0.6,52+5/28))+1,\"00\")","v":"Semaine 29"},null,null,null,null,null,null,{"$f":"\"Semaine \"&TEXT(INT(MOD(INT((HF4-2)/7)+0.6,52+5/28))+1,\"00\")","v":"Semaine 30"},null,null,null,null,null,null,{"$f":"\"Semaine \"&TEXT(INT(MOD(INT((HM4-2)/7)+0.6,52+5/28))+1,\"00\")","v":"Semaine 31"},null,null,null,null,null,null,{"$f":"\"Semaine \"&TEXT(INT(MOD(INT((HT4-2)/7)+0.6,52+5/28))+1,\"00\")","v":"Semaine 32"},null,null,null,null,null,null,{"$f":"\"Semaine \"&TEXT(INT(MOD(INT((IA4-2)/7)+0.6,52+5/28))+1,\"00\")","v":"Semaine 33"},null,null,null,null,null,null,{"$f":"\"Semaine \"&TEXT(INT(MOD(INT((IH4-2)/7)+0.6,52+5/28))+1,\"00\")","v":"Semaine 34"},null,null,null,null,null,null,{"$f":"\"Semaine \"&TEXT(INT(MOD(INT((IO4-2)/7)+0.6,52+5/28))+1,\"00\")","v":"Semaine 35"},null,null,null,null,null,null,{"$f":"\"Semaine \"&TEXT(INT(MOD(INT((IV4-2)/7)+0.6,52+5/28))+1,\"00\")","v":"Semaine 36"},null,null,null,null,null,null,{"$f":"\"Semaine \"&TEXT(INT(MOD(INT((JC4-2)/7)+0.6,52+5/28))+1,\"00\")","v":"Semaine 37"},null,null,null,null,null,null,{"$f":"\"Semaine \"&TEXT(INT(MOD(INT((JJ4-2)/7)+0.6,52+5/28))+1,\"00\")","v":"Semaine 38"},null,null,null,null,null,null,{"$f":"\"Semaine \"&TEXT(INT(MOD(INT((JQ4-2)/7)+0.6,52+5/28))+1,\"00\")","v":"Semaine 39"},null,null,null,null,null,null,{"$f":"\"Semaine \"&TEXT(INT(MOD(INT((JX4-2)/7)+0.6,52+5/28))+1,\"00\")","v":"Semaine 40"},null,null,null,null,null,null,{"$f":"\"Semaine \"&TEXT(INT(MOD(INT((KE4-2)/7)+0.6,52+5/28))+1,\"00\")","v":"Semaine 41"},null,null,null,null,null,null,{"$f":"\"Semaine \"&TEXT(INT(MOD(INT((KL4-2)/7)+0.6,52+5/28))+1,\"00\")","v":"Semaine 42"},null,null,null,null,null,null,{"$f":"\"Semaine \"&TEXT(INT(MOD(INT((KS4-2)/7)+0.6,52+5/28))+1,\"00\")","v":"Semaine 43"},null,null,null,null,null,null,{"$f":"\"Semaine \"&TEXT(INT(MOD(INT((KZ4-2)/7)+0.6,52+5/28))+1,\"00\")","v":"Semaine 44"},null,null,null,null,null,null,{"$f":"\"Semaine \"&TEXT(INT(MOD(INT((LG4-2)/7)+0.6,52+5/28))+1,\"00\")","v":"Semaine 45"},null,null,null,null,null,null,{"$f":"\"Semaine \"&TEXT(INT(MOD(INT((LN4-2)/7)+0.6,52+5/28))+1,\"00\")","v":"Semaine 46"},null,null,null,null,null,null,{"$f":"\"Semaine \"&TEXT(INT(MOD(INT((LU4-2)/7)+0.6,52+5/28))+1,\"00\")","v":"Semaine 47"},null,null,null,null,null,null,{"$f":"\"Semaine \"&TEXT(INT(MOD(INT((MB4-2)/7)+0.6,52+5/28))+1,\"00\")","v":"Semaine 48"},null,null,null,null,null,null,{"$f":"\"Semaine \"&TEXT(INT(MOD(INT((MI4-2)/7)+0.6,52+5/28))+1,\"00\")","v":"Semaine 49"},null,null,null,null,null,null,{"$f":"\"Semaine \"&TEXT(INT(MOD(INT((MP4-2)/7)+0.6,52+5/28))+1,\"00\")","v":"Semaine 50"},null,null,null,null,null,null,{"$f":"\"Semaine \"&TEXT(INT(MOD(INT((MW4-2)/7)+0.6,52+5/28))+1,\"00\")","v":"Semaine 51"},null,null,null,null,null,null,{"$f":"\"Semaine \"&TEXT(INT(MOD(INT((ND4-2)/7)+0.6,52+5/28))+1,\"00\")","v":"Semaine 52"},null,null,null,null,null,null,{"$f":"\"Semaine \"&TEXT(INT(MOD(INT((NK4-2)/7)+0.6,52+5/28))+1,\"00\")","v":"Semaine 01"},null,null,null,null,null,null,{"$f":"\"Semaine \"&TEXT(INT(MOD(INT((NR4-2)/7)+0.6,52+5/28))+1,\"00\")","v":"Semaine 02"}]
[null,null,null,"Lundi","Mardi","Mercredi","Jeudi","Vendredi","Samedi","Dimanche","Lundi","Mardi","Mercredi","Jeudi","Vendredi","Samedi","Dimanche","Lundi","Mardi","Mercredi","Jeudi","Vendredi","Samedi","Dimanche","Lundi","Mardi","Mercredi","Jeudi","Vendredi","Samedi","Dimanche","Lundi","Mardi","Mercredi","Jeudi","Vendredi","Samedi","Dimanche","Lundi","Mardi","Mercredi","Jeudi","Vendredi","Samedi","Dimanche","Lundi","Mardi","Mercredi","Jeudi","Vendredi","Samedi","Dimanche","Lundi","Mardi","Mercredi","Jeudi","Vendredi","Samedi","Dimanche","Lundi","Mardi","Mercredi","Jeudi","Vendredi","Samedi","Dimanche","Lundi","Mardi","Mercredi","Jeudi","Vendredi","Samedi","Dimanche","Lundi","Mardi","Mercredi","Jeudi","Vendredi","Samedi","Dimanche","Lundi","Mardi","Mercredi","Jeudi","Vendredi","Samedi","Dimanche","Lundi","Mardi","Mercredi","Jeudi","Vendredi","Samedi","Dimanche","Lundi","Mardi","Mercredi","Jeudi","Vendredi","Samedi","Dimanche","Lundi","Mardi","Mercredi","Jeudi","Vendredi","Samedi","Dimanche","Lundi","Mardi","Mercredi","Jeudi","Vendredi","Samedi","Dimanche","Lundi","Mardi","Mercredi","Jeudi","Vendredi","Samedi","Dimanche","Lundi","Mardi","Mercredi","Jeudi","Vendredi","Samedi","Dimanche","Lundi","Mardi","Mercredi","Jeudi","Vendredi","Samedi","Dimanche","Lundi","Mardi","Mercredi","Jeudi","Vendredi","Samedi","Dimanche","Lundi","Mardi","Mercredi","Jeudi","Vendredi","Samedi","Dimanche","Lundi","Mardi","Mercredi","Jeudi","Vendredi","Samedi","Dimanche","Lundi","Mardi","Mercredi","Jeudi","Vendredi","Samedi","Dimanche","Lundi","Mardi","Mercredi","Jeudi","Vendredi","Samedi","Dimanche","Lundi","Mardi","Mercredi","Jeudi","Vendredi","Samedi","Dimanche","Lundi","Mardi","Mercredi","Jeudi","Vendredi","Samedi","Dimanche","Lundi","Mardi","Mercredi","Jeudi","Vendredi","Samedi","Dimanche","Lundi","Mardi","Mercredi","Jeudi","Vendredi","Samedi","Dimanche","Lundi","Mardi","Mercredi","Jeudi","Vendredi","Samedi","Dimanche","Lundi","Mardi","Mercredi","Jeudi","Vendredi","Samedi","Dimanche","Lundi","Mardi","Mercredi","Jeudi","Vendredi","Samedi","Dimanche","Lundi","Mardi","Mercredi","Jeudi","Vendredi","Samedi","Dimanche","Lundi","Mardi","Mercredi","Jeudi","Vendredi","Samedi","Dimanche","Lundi","Mardi","Mercredi","Jeudi","Vendredi","Samedi","Dimanche","Lundi","Mardi","Mercredi","Jeudi","Vendredi","Samedi","Dimanche","Lundi","Mardi","Mercredi","Jeudi","Vendredi","Samedi","Dimanche","Lundi","Mardi","Mercredi","Jeudi","Vendredi","Samedi","Dimanche","Lundi","Mardi","Mercredi","Jeudi","Vendredi","Samedi","Dimanche","Lundi","Mardi","Mercredi","Jeudi","Vendredi","Samedi","Dimanche","Lundi","Mardi","Mercredi","Jeudi","Vendredi","Samedi","Dimanche","Lundi","Mardi","Mercredi","Jeudi","Vendredi","Samedi","Dimanche","Lundi","Mardi","Mercredi","Jeudi","Vendredi","Samedi","Dimanche","Lundi","Mardi","Mercredi","Jeudi","Vendredi","Samedi","Dimanche","Lundi","Mardi","Mercredi","Jeudi","Vendredi","Samedi","Dimanche","Lundi","Mardi","Mercredi","Jeudi","Vendredi","Samedi","Dimanche","Lundi","Mardi","Mercredi","Jeudi","Vendredi","Samedi","Dimanche","Lundi","Mardi","Mercredi","Jeudi","Vendredi","Samedi","Dimanche","Lundi","Mardi","Mercredi","Jeudi","Vendredi","Samedi","Dimanche","Lundi","Mardi","Mercredi","Jeudi","Vendredi","Samedi","Dimanche","Lundi","Mardi","Mercredi","Jeudi","Vendredi","Samedi","Dimanche","Lundi","Mardi","Mercredi","Jeudi","Vendredi","Samedi","Dimanche","Lundi","Mardi","Mercredi","Jeudi","Vendredi","Samedi","Dimanche","Lundi","Mardi","Mercredi","Jeudi","Vendredi","Samedi","Dimanche","Lundi","Mardi","Mercredi","Jeudi","Vendredi","Samedi","Dimanche","Lundi","Mardi","Mercredi","Jeudi","Vendredi","Samedi","Dimanche"]
[null,null,null,{"$f":"E4-1","v":"2016-12-26"},"2016-12-27","2016-12-28","2016-12-29","2016-12-30","2016-12-31",{"$f":"K4-1","v":"2017-01-01"},{"$f":"VLOOKUP(2,Premier_lundi,2,FALSE)","v":"2017-01-02"},{"$f":"K4+1","v":"2017-01-03"},"2017-01-04","2017-01-05","2017-01-06","2017-01-07","2017-01-08","2017-01-09","2017-01-10","2017-01-11","2017-01-12","2017-01-13","2017-01-14","2017-01-15","2017-01-16","2017-01-17","2017-01-18","2017-01-19","2017-01-20","2017-01-21","2017-01-22","2017-01-23","2017-01-24","2017-01-25","2017-01-26","2017-01-27","2017-01-28","2017-01-29","2017-01-30","2017-01-31","2017-02-01","2017-02-02","2017-02-03","2017-02-04","2017-02-05","2017-02-06","2017-02-07","2017-02-08","2017-02-09","2017-02-10","2017-02-11","2017-02-12","2017-02-13","2017-02-14","2017-02-15","2017-02-16","2017-02-17","2017-02-18","2017-02-19","2017-02-20","2017-02-21","2017-02-22","2017-02-23","2017-02-24","2017-02-25","2017-02-26","2017-02-27","2017-02-28","2017-03-01","2017-03-02","2017-03-03","2017-03-04","2017-03-05","2017-03-06","2017-03-07",{"$f":"BW4+1","v":"2017-03-08"},"2017-03-09","2017-03-10","2017-03-11","2017-03-12","2017-03-13","2017-03-14","2017-03-15","2017-03-16","2017-03-17","2017-03-18","2017-03-19","2017-03-20","2017-03-21","2017-03-22","2017-03-23","2017-03-24","2017-03-25","2017-03-26","2017-03-27","2017-03-28","2017-03-29","2017-03-30","2017-03-31","2017-04-01","2017-04-02","2017-04-03","2017-04-04","2017-04-05","2017-04-06","2017-04-07","2017-04-08","2017-04-09","2017-04-10","2017-04-11","2017-04-12","2017-04-13","2017-04-14","2017-04-15","2017-04-16","2017-04-17","2017-04-18","2017-04-19","2017-04-20","2017-04-21","2017-04-22","2017-04-23","2017-04-24","2017-04-25","2017-04-26","2017-04-27","2017-04-28","2017-04-29","2017-04-30","2017-05-01","2017-05-02","2017-05-03","2017-05-04","2017-05-05","2017-05-06","2017-05-07","2017-05-08","2017-05-09","2017-05-10",{"$f":"EI4+1","v":"2017-05-11"},"2017-05-12","2017-05-13","2017-05-14","2017-05-15","2017-05-16","2017-05-17","2017-05-18","2017-05-19","2017-05-20","2017-05-21","2017-05-22","2017-05-23","2017-05-24","2017-05-25","2017-05-26","2017-05-27","2017-05-28","2017-05-29","2017-05-30","2017-05-31","2017-06-01","2017-06-02","2017-06-03","2017-06-04","2017-06-05","2017-06-06","2017-06-07","2017-06-08","2017-06-09","2017-06-10","2017-06-11","2017-06-12","2017-06-13","2017-06-14","2017-06-15","2017-06-16","2017-06-17","2017-06-18","2017-06-19","2017-06-20","2017-06-21","2017-06-22","2017-06-23","2017-06-24","2017-06-25","2017-06-26","2017-06-27","2017-06-28","2017-06-29","2017-06-30","2017-07-01","2017-07-02","2017-07-03","2017-07-04","2017-07-05","2017-07-06","2017-07-07","2017-07-08","2017-07-09","2017-07-10","2017-07-11","2017-07-12","2017-07-13",{"$f":"GU4+1","v":"2017-07-14"},"2017-07-15","2017-07-16","2017-07-17","2017-07-18","2017-07-19","2017-07-20","2017-07-21","2017-07-22","2017-07-23","2017-07-24","2017-07-25","2017-07-26","2017-07-27","2017-07-28","2017-07-29","2017-07-30","2017-07-31","2017-08-01","2017-08-02","2017-08-03","2017-08-04","2017-08-05","2017-08-06","2017-08-07","2017-08-08","2017-08-09","2017-08-10","2017-08-11","2017-08-12","2017-08-13","2017-08-14","2017-08-15","2017-08-16","2017-08-17","2017-08-18","2017-08-19","2017-08-20","2017-08-21","2017-08-22","2017-08-23","2017-08-24","2017-08-25","2017-08-26","2017-08-27","2017-08-28","2017-08-29","2017-08-30","2017-08-31","2017-09-01","2017-09-02","2017-09-03","2017-09-04","2017-09-05","2017-09-06","2017-09-07","2017-09-08","2017-09-09","2017-09-10","2017-09-11","2017-09-12","2017-09-13","2017-09-14","2017-09-15",{"$f":"JG4+1","v":"2017-09-16"},"2017-09-17","2017-09-18","2017-09-19","2017-09-20","2017-09-21","2017-09-22","2017-09-23","2017-09-24","2017-09-25","2017-09-26","2017-09-27","2017-09-28","2017-09-29","2017-09-30","2017-10-01","2017-10-02","2017-10-03","2017-10-04","2017-10-05","2017-10-06","2017-10-07","2017-10-08","2017-10-09","2017-10-10","2017-10-11","2017-10-12","2017-10-13","2017-10-14","2017-10-15","2017-10-16","2017-10-17","2017-10-18","2017-10-19","2017-10-20","2017-10-21","2017-10-22","2017-10-23","2017-10-24","2017-10-25","2017-10-26","2017-10-27","2017-10-28","2017-10-29","2017-10-30","2017-10-31","2017-11-01","2017-11-02","2017-11-03","2017-11-04","2017-11-05","2017-11-06","2017-11-07","2017-11-08","2017-11-09","2017-11-10","2017-11-11","2017-11-12","2017-11-13","2017-11-14","2017-11-15","2017-11-16","2017-11-17","2017-11-18",{"$f":"LS4+1","v":"2017-11-19"},"2017-11-20","2017-11-21","2017-11-22","2017-11-23","2017-11-24","2017-11-25","2017-11-26","2017-11-27","2017-11-28","2017-11-29","2017-11-30","2017-12-01","2017-12-02","2017-12-03","2017-12-04","2017-12-05","2017-12-06","2017-12-07","2017-12-08","2017-12-09","2017-12-10","2017-12-11","2017-12-12","2017-12-13","2017-12-14","2017-12-15","2017-12-16","2017-12-17","2017-12-18","2017-12-19","2017-12-20","2017-12-21","2017-12-22","2017-12-23","2017-12-24","2017-12-25","2017-12-26","2017-12-27","2017-12-28","2017-12-29","2017-12-30","2017-12-31","2018-01-01","2018-01-02","2018-01-03","2018-01-04","2018-01-05","2018-01-06","2018-01-07","2018-01-08","2018-01-09","2018-01-10","2018-01-11","2018-01-12","2018-01-13","2018-01-14"]
["POSITIONS"]
["8","00"]
[]
[8,30]
[]
["9","00"]
[]
[9,30]
[]
["10","00"]
[]
[10,30]
[]
["11","00"]
[]
[11,30]
[]
["12","00"]
[]
[12,30]
[]
["13","00"]
[]
[13,30]
[]
["14","00"]
[]
[14,30]
[]
["15","00"]
[]
[15,30]
[]
["16","00"]
[]
[16,30]
[]
["17","00"]
[]
[17,30]
[]
["18","00"]
[]
[18,30]
[]
["19","00"]
[]
[19,30]
[]
["20","00"]
[]
["Total heures",null,null,{"$f":"IF(SUM(D7:D54)=0,\"\",SUM(D7:D54))","v":""},{"$f":"IF(SUM(E7:E54)=0,\"\",SUM(E7:E54))","v":""},"","","","","","","","","","","","","","","","","","","","","","","","","","","","","","","","","","","","","","","","","","","","","","","","","","","","","","","","","","","","","","","",{"$f":"IF(SUM(BQ7:BQ54)=0,\"\",SUM(BQ7:BQ54))","v":""},"","","","","","","","","","","","","","","","","","","","","","","","","","","","","","","","","","","","","","","","","","","","","","","","","","","","","","","","","","","","","","","",{"$f":"IF(SUM(EC7:EC54)=0,\"\",SUM(EC7:EC54))","v":""},"","","","","","","","","","","","","","","","","","","","","","","","","","","","","","","","","","","","","","","","","","","","","","","","","","","","","","","","","","","","","","","",{"$f":"IF(SUM(GO7:GO54)=0,\"\",SUM(GO7:GO54))","v":""},"","","","","","","","","","","","","","","","","","","","","","","","","","","","","","","","","","","","","","","","","","","","","","","","","","","","","","","","","","","","","","","",{"$f":"IF(SUM(JA7:JA54)=0,\"\",SUM(JA7:JA54))","v":""},"","","","","","","","","","","","","","","","","","","","","","","","","","","","","","","","","","","","","","","","","","","","","","","","","","","","","","","","","","","","","","","",{"$f":"IF(SUM(LM7:LM54)=0,\"\",SUM(LM7:LM54))","v":""},"","","","","","","","","","","","","","","","","","","","","","","","","","","","","","","","","","","","","","","","","","","","","","","","","","","","","","","","","","","","","","",""]
[null,null,null,"Notes :","Notes :","Notes :","Notes :","Notes :","Notes :","Notes :","Notes :","Notes :","Notes :","Notes :","Notes :","Notes :","Notes :","Notes :","Notes :","Notes :","Notes :","Notes :","Notes :","Notes :","Notes :","Notes :","Notes :","Notes :","Notes :","Notes :","Notes :","Notes :","Notes :","Notes :","Notes :","Notes :","Notes :","Notes :","Notes :","Notes :","Notes :","Notes :","Notes :","Notes :","Notes :","Notes :","Notes :","Notes :","Notes :","Notes :","Notes :","Notes :","Notes :","Notes :","Notes :","Notes :","Notes :","Notes :","Notes :","Notes :","Notes :","Notes :","Notes :","Notes :","Notes :","Notes :","Notes :","Notes :","Notes :","Notes :","Notes :","Notes :","Notes :","Notes :","Notes :","Notes :","Notes :","Notes :","Notes :","Notes :","Notes :","Notes :","Notes :","Notes :","Notes :","Notes :","Notes :","Notes :","Notes :","Notes :","Notes :","Notes :","Notes :","Notes :","Notes :","Notes :","Notes :","Notes :","Notes :","Notes :","Notes :","Notes :","Notes :","Notes :","Notes :","Notes :","Notes :","Notes :","Notes :","Notes :","Notes :","Notes :","Notes :","Notes :","Notes :","Notes :","Notes :","Notes :","Notes :","Notes :","Notes :","Notes :","Notes :","Notes :","Notes :","Notes :","Notes :","Notes :","Notes :","Notes :","Notes :","Notes :","Notes :","Notes :","Notes :","Notes :","Notes :","Notes :","Notes :","Notes :","Notes :","Notes :","Notes :","Notes :","Notes :","Notes :","Notes :","Notes :","Notes :","Notes :","Notes :","Notes :","Notes :","Notes :","Notes :","Notes :","Notes :","Notes :","Notes :","Notes :","Notes :","Notes :","Notes :","Notes :","Notes :","Notes :","Notes :","Notes :","Notes :","Notes :","Notes :","Notes :","Notes :","Notes :","Notes :","Notes :","Notes :","Notes :","Notes :","Notes :","Notes :","Notes :","Notes :","Notes :","Notes :","Notes :","Notes :","Notes :","Notes :","Notes :","Notes :","Notes :","Notes :","Notes :","Notes :","Notes :","Notes :","Notes :","Notes :","Notes :","Notes :","Notes :","Notes :","Notes :","Notes :","Notes :","Notes :","Notes :","Notes :","Notes :","Notes :","Notes :","Notes :","Notes :","Notes :","Notes :","Notes :","Notes :","Notes :","Notes :","Notes :","Notes :","Notes :","Notes :","Notes :","Notes :","Notes :","Notes :","Notes :","Notes :","Notes :","Notes :","Notes :","Notes :","Notes :","Notes :","Notes :","Notes :","Notes :","Notes :","Notes :","Notes :","Notes :","Notes :","Notes :","Notes :","Notes :","Notes :","Notes :","Notes :","Notes :","Notes :","Notes :","Notes :","Notes :","Notes :","Notes :","Notes :","Notes :","Notes :","Notes :","Notes :","Notes :","Notes :","Notes :","Notes :","Notes :","Notes :","Notes :","Notes :","Notes :","Notes :","Notes :","Notes :","Notes :","Notes :","Notes :","Notes :","Notes :","Notes :","Notes :","Notes :","Notes :","Notes :","Notes :","Notes :","Notes :","Notes :","Notes :","Notes :","Notes :","Notes :","Notes :","Notes :","Notes :","Notes :","Notes :","Notes :","Notes :","Notes :","Notes :","Notes :","Notes :","Notes :","Notes :","Notes :","Notes :","Notes :","Notes :","Notes :","Notes :","Notes :","Notes :","Notes :","Notes :","Notes :","Notes :","Notes :","Notes :","Notes :","Notes :","Notes :","Notes :","Notes :","Notes :","Notes :","Notes :","Notes :","Notes :","Notes :","Notes :","Notes :","Notes :","Notes :","Notes :","Notes :","Notes :","Notes :","Notes :","Notes :","Notes :","Notes :","Notes :","Notes :","Notes :","Notes :","Notes :","Notes :","Notes :","Notes :","Notes :","Notes :","Notes :","Notes :","Notes :","Notes :","Notes :","Notes :","Notes :","Notes :","Notes :","Notes :","Notes :","Notes :","Notes :","Notes :","Notes :","Notes :","Notes :","Notes :","Notes :","Notes :","Notes :","Notes :","Notes :","Notes :","Notes :","Notes :","Notes :","Notes :","Notes :","Notes :","Notes :","Notes :","Notes :","Notes :","Notes :","Notes :"]

{"sheet":"Annuel_Vierge","index":10,"n_rows":33,"n_cols":59,"rows_kept":33,"cut":false,"hidden":true,"merged":[[1,47,1,49],[1,52,1,54],[1,57,1,59],[0,3,0,59],[1,2,1,4],[1,7,1,9],[1,12,1,14],[1,17,1,19],[1,22,1,24],[1,27,1,29],[1,32,1,34],[1,37,1,39],[1,42,1,44]]}
[null,null,{"$f":"MID(CELL(\"nomfichier\",D1),FIND(\"]\",CELL(\"nomfichier\",D1))+1,100)","v":"Annuel_Vierge"},{"$f":"\"Feuille Annuelle Récapitulative de\n\"&MID(C1,1,LEN(C1)-3)&\" - pour l'année \"&YEAR(debut)&IF(YEAR(BG30)=YEAR(debut),\"\",\" / \"&YEAR(debut)+1)","v":"Feuille Annuelle Récapitulative de\nAnnuel_Vie - pour l'année 2017"}]
[null,null,{"$f":"UPPER(TEXT(DATE(AN,Mois_deb_planning,1),\"MMMM AAAA\"))","v":"JANVIER 2017"},null,null,null,null,{"$f":"UPPER(TEXT(DATE(AN,Mois_deb_planning+1,1),\"MMMM AAAA\"))","v":"FÉVRIER 2017"},null,null,null,null,{"$f":"UPPER(TEXT(DATE(AN,Mois_deb_planning+2,1),\"MMMM AAAA\"))","v":"MARS 2017"},null,null,null,null,{"$f":"UPPER(TEXT(DATE(AN,Mois_deb_planning+3,1),\"MMMM AAAA\"))","v":"AVRIL 2017"},null,null,null,null,{"$f":"UPPER(TEXT(DATE(AN,Mois_deb_planning+4,1),\"MMMM AAAA\"))","v":"MAI 2017"},null,null,null,null,{"$f":"UPPER(TEXT(DATE(AN,Mois_deb_planning+5,1),\"MMMM AAAA\"))","v":"JUIN 2017"},null,null,null,null,{"$f":"UPPER(TEXT(DATE(AN,Mois_deb_planning+6,1),\"MMMM AAAA\"))","v":"JUILLET 2017"},null,null,null,null,{"$f":"UPPER(TEXT(DATE(AN,Mois_deb_planning+7,1),\"MMMM AAAA\"))","v":"AOÛT 2017"},null,null,null,null,{"$f":"UPPER(TEXT(DATE(AN,Mois_deb_planning+8,1),\"MMMM AAAA\"))","v":"SEPTEMBRE 2017"},null,null,null,null,{"$f":"UPPER(TEXT(DATE(AN,Mois_deb_planning+9,1),\"MMMM AAAA\"))","v":"OCTOBRE 2017"},null,null,null,null,{"$f":"UPPER(TEXT(DATE(AN,Mois_deb_planning+10,1),\"MMMM AAAA\"))","v":"NOVEMBRE 2017"},null,null,null,null,{"$f":"UPPER(TEXT(DATE(AN,Mois_deb_planning+11,1),\"MMMM AAAA\"))","v":"DÉCEMBRE 2017"}]
[null,{"$f":"IF(OR(AND(WEEKDAY(D3)=1,Dimanche),AND(WEEKDAY(D3)=2,Lundi),AND(WEEKDAY(D3)=3,Mardi),AND(WEEKDAY(D3)=4,Mercredi),AND(WEEKDAY(D3)=5,Jeudi),AND(WEEKDAY(D3)=6,Vendredi),AND(WEEKDAY(D3)=7,Samedi),D3=férié),0,1)","v":0},{"$f":"UPPER(TEXT(D3,\"jjj\"))","v":"DIM"},{"$f":"debut","v":"2017-01-01"},null,null,{"$f":"IF(OR(AND(WEEKDAY(I3)=1,Dimanche),AND(WEEKDAY(I3)=2,Lundi),AND(WEEKDAY(I3)=3,Mardi),AND(WEEKDAY(I3)=4,Mercredi),AND(WEEKDAY(I3)=5,Jeudi),AND(WEEKDAY(I3)=6,Vendredi),AND(WEEKDAY(I3)=7,Samedi),I3=férié),0,1)","v":1},{"$f":"UPPER(TEXT(I3,\"jjj\"))","v":"MER"},{"$f":"DATE(AN,MONTH(debut)+1,1)","v":"2017-02-01"},null,null,{"$f":"IF(OR(AND(WEEKDAY(N3)=1,Dimanche),AND(WEEKDAY(N3)=2,Lundi),AND(WEEKDAY(N3)=3,Mardi),AND(WEEKDAY(N3)=4,Mercredi),AND(WEEKDAY(N3)=5,Jeudi),AND(WEEKDAY(N3)=6,Vendredi),AND(WEEKDAY(N3)=7,Samedi),N3=férié),0,1)","v":1},{"$f":"UPPER(TEXT(N3,\"jjj\"))","v":"MER"},{"$f":"DATE(AN,MONTH(debut)+2,1)","v":"2017-03-01"},null,null,{"$f":"IF(OR(AND(WEEKDAY(S3)=1,Dimanche),AND(WEEKDAY(S3)=2,Lundi),AND(WEEKDAY(S3)=3,Mardi),AND(WEEKDAY(S3)=4,Mercredi),AND(WEEKDAY(S3)=5,Jeudi),AND(WEEKDAY(S3)=6,Vendredi),AND(WEEKDAY(S3)=7,Samedi),S3=férié),0,1)","v":0},{"$f":"UPPER(TEXT(S3,\"jjj\"))","v":"SAM"},{"$f":"DATE(AN,MONTH(debut)+3,1)","v":"2017-04-01"},null,null,{"$f":"IF(OR(AND(WEEKDAY(X3)=1,Dimanche),AND(WEEKDAY(X3)=2,Lundi),AND(WEEKDAY(X3)=3,Mardi),AND(WEEKDAY(X3)=4,Mercredi),AND(WEEKDAY(X3)=5,Jeudi),AND(WEEKDAY(X3)=6,Vendredi),AND(WEEKDAY(X3)=7,Samedi),X3=férié),0,1)","v":0},{"$f":"UPPER(TEXT(X3,\"jjj\"))","v":"LUN"},{"$f":"DATE(AN,MONTH(debut)+4,1)","v":"2017-05-01"},null,null,{"$f":"IF(OR(AND(WEEKDAY(AC3)=1,Dimanche),AND(WEEKDAY(AC3)=2,Lundi),AND(WEEKDAY(AC3)=3,Mardi),AND(WEEKDAY(AC3)=4,Mercredi),AND(WEEKDAY(AC3)=5,Jeudi),AND(WEEKDAY(AC3)=6,Vendredi),AND(WEEKDAY(AC3)=7,Samedi),AC3=férié),0,1)","v":1},{"$f":"UPPER(TEXT(AC3,\"jjj\"))","v":"JEU"},{"$f":"DATE(AN,MONTH(debut)+5,1)","v":"2017-06-01"},null,null,{"$f":"IF(OR(AND(WEEKDAY(AH3)=1,Dimanche),AND(WEEKDAY(AH3)=2,Lundi),AND(WEEKDAY(AH3)=3,Mardi),AND(WEEKDAY(AH3)=4,Mercredi),AND(WEEKDAY(AH3)=5,Jeudi),AND(WEEKDAY(AH3)=6,Vendredi),AND(WEEKDAY(AH3)=7,Samedi),AH3=férié),0,1)","v":0},{"$f":"UPPER(TEXT(AH3,\"jjj\"))","v":"SAM"},{"$f":"DATE(AN,MONTH(debut)+6,1)","v":"2017-07-01"},null,null,{"$f":"IF(OR(AND(WEEKDAY(AM3)=1,Dimanche),AND(WEEKDAY(AM3)=2,Lundi),AND(WEEKDAY(AM3)=3,Mardi),AND(WEEKDAY(AM3)=4,Mercredi),AND(WEEKDAY(AM3)=5,Jeudi),AND(WEEKDAY(AM3)=6,Vendredi),AND(WEEKDAY(AM3)=7,Samedi),AM3=férié),0,1)","v":1},{"$f":"UPPER(TEXT(AM3,\"jjj\"))","v":"MAR"},{"$f":"DATE(AN,MONTH(debut)+7,1)","v":"2017-08-01"},null,null,{"$f":"IF(OR(AND(WEEKDAY(AR3)=1,Dimanche),AND(WEEKDAY(AR3)=2,Lundi),AND(WEEKDAY(AR3)=3,Mardi),AND(WEEKDAY(AR3)=4,Mercredi),AND(WEEKDAY(AR3)=5,Jeudi),AND(WEEKDAY(AR3)=6,Vendredi),AND(WEEKDAY(AR3)=7,Samedi),AR3=férié),0,1)","v":1},{"$f":"UPPER(TEXT(AR3,\"jjj\"))","v":"VEN"},{"$f":"DATE(AN,MONTH(debut)+8,1)","v":"2017-09-01"},null,null,{"$f":"IF(OR(AND(WEEKDAY(AW3)=1,Dimanche),AND(WEEKDAY(AW3)=2,Lundi),AND(WEEKDAY(AW3)=3,Mardi),AND(WEEKDAY(AW3)=4,Mercredi),AND(WEEKDAY(AW3)=5,Jeudi),AND(WEEKDAY(AW3)=6,Vendredi),AND(WEEKDAY(AW3)=7,Samedi),AW3=férié),0,1)","v":0},{"$f":"UPPER(TEXT(AW3,\"jjj\"))","v":"DIM"},{"$f":"DATE(AN,MONTH(debut)+9,1)","v":"2017-10-01"},null,null,{"$f":"IF(OR(AND(WEEKDAY(BB3)=1,Dimanche),AND(WEEKDAY(BB3)=2,Lundi),AND(WEEKDAY(BB3)=3,Mardi),AND(WEEKDAY(BB3)=4,Mercredi),AND(WEEKDAY(BB3)=5,Jeudi),AND(WEEKDAY(BB3)=6,Vendredi),AND(WEEKDAY(BB3)=7,Samedi),BB3=férié),0,1)","v":0},{"$f":"UPPER(TEXT(BB3,\"jjj\"))","v":"MER"},{"$f":"DATE(AN,MONTH(debut)+10,1)","v":"2017-11-01"},null,null,{"$f":"IF(OR(AND(WEEKDAY(BG3)=1,Dimanche),AND(WEEKDAY(BG3)=2,Lundi),AND(WEEKDAY(BG3)=3,Mardi),AND(WEEKDAY(BG3)=4,Mercredi),AND(WEEKDAY(BG3)=5,Jeudi),AND(WEEKDAY(BG3)=6,Vendredi),AND(WEEKDAY(BG3)=7,Samedi),BG3=férié),0,1)","v":1},{"$f":"UPPER(TEXT(BG3,\"jjj\"))","v":"VEN"},{"$f":"DATE(AN,MONTH(debut)+11,1)","v":"2017-12-01"}]
[null,{"$f":"IF(OR(AND(WEEKDAY(D4)=1,Dimanche),AND(WEEKDAY(D4)=2,Lundi),AND(WEEKDAY(D4)=3,Mardi),AND(WEEKDAY(D4)=4,Mercredi),AND(WEEKDAY(D4)=5,Jeudi),AND(WEEKDAY(D4)=6,Vendredi),AND(WEEKDAY(D4)=7,Samedi),D4=férié),0,1)","v":1},{"$f":"UPPER(TEXT(D4,\"jjj\"))","v":"LUN"},{"$f":"D3+1","v":"2017-01-02"},null,null,{"$f":"IF(OR(AND(WEEKDAY(I4)=1,Dimanche),AND(WEEKDAY(I4)=2,Lundi),AND(WEEKDAY(I4)=3,Mardi),AND(WEEKDAY(I4)=4,Mercredi),AND(WEEKDAY(I4)=5,Jeudi),AND(WEEKDAY(I4)=6,Vendredi),AND(WEEKDAY(I4)=7,Samedi),I4=férié),0,1)","v":1},{"$f":"UPPER(TEXT(I4,\"jjj\"))","v":"JEU"},{"$f":"I3+1","v":"2017-02-02"},null,null,{"$f":"IF(OR(AND(WEEKDAY(N4)=1,Dimanche),AND(WEEKDAY(N4)=2,Lundi),AND(WEEKDAY(N4)=3,Mardi),AND(WEEKDAY(N4)=4,Mercredi),AND(WEEKDAY(N4)=5,Jeudi),AND(WEEKDAY(N4)=6,Vendredi),AND(WEEKDAY(N4)=7,Samedi),N4=férié),0,1)","v":1},{"$f":"UPPER(TEXT(N4,\"jjj\"))","v":"JEU"},{"$f":"N3+1","v":"2017-03-02"},null,null,{"$f":"IF(OR(AND(WEEKDAY(S4)=1,Dimanche),AND(WEEKDAY(S4)=2,Lundi),AND(WEEKDAY(S4)=3,Mardi),AND(WEEKDAY(S4)=4,Mercredi),AND(WEEKDAY(S4)=5,Jeudi),AND(WEEKDAY(S4)=6,Vendredi),AND(WEEKDAY(S4)=7,Samedi),S4=férié),0,1)","v":0},{"$f":"UPPER(TEXT(S4,\"jjj\"))","v":"DIM"},{"$f":"S3+1","v":"2017-04-02"},null,null,{"$f":"IF(OR(AND(WEEKDAY(X4)=1,Dimanche),AND(WEEKDAY(X4)=2,Lundi),AND(WEEKDAY(X4)=3,Mardi),AND(WEEKDAY(X4)=4,Mercredi),AND(WEEKDAY(X4)=5,Jeudi),AND(WEEKDAY(X4)=6,Vendredi),AND(WEEKDAY(X4)=7,Samedi),X4=férié),0,1)","v":1},{"$f":"UPPER(TEXT(X4,\"jjj\"))","v":"MAR"},{"$f":"X3+1","v":"2017-05-02"},null,null,{"$f":"IF(OR(AND(WEEKDAY(AC4)=1,Dimanche),AND(WEEKDAY(AC4)=2,Lundi),AND(WEEKDAY(AC4)=3,Mardi),AND(WEEKDAY(AC4)=4,Mercredi),AND(WEEKDAY(AC4)=5,Jeudi),AND(WEEKDAY(AC4)=6,Vendredi),AND(WEEKDAY(AC4)=7,Samedi),AC4=férié),0,1)","v":1},{"$f":"UPPER(TEXT(AC4,\"jjj\"))","v":"VEN"},{"$f":"AC3+1","v":"2017-06-02"},null,null,{"$f":"IF(OR(AND(WEEKDAY(AH4)=1,Dimanche),AND(WEEKDAY(AH4)=2,Lundi),AND(WEEKDAY(AH4)=3,Mardi),AND(WEEKDAY(AH4)=4,Mercredi),AND(WEEKDAY(AH4)=5,Jeudi),AND(WEEKDAY(AH4)=6,Vendredi),AND(WEEKDAY(AH4)=7,Samedi),AH4=férié),0,1)","v":0},{"$f":"UPPER(TEXT(AH4,\"jjj\"))","v":"DIM"},{"$f":"AH3+1","v":"2017-07-02"},null,null,{"$f":"IF(OR(AND(WEEKDAY(AM4)=1,Dimanche),AND(WEEKDAY(AM4)=2,Lundi),AND(WEEKDAY(AM4)=3,Mardi),AND(WEEKDAY(AM4)=4,Mercredi),AND(WEEKDAY(AM4)=5,Jeudi),AND(WEEKDAY(AM4)=6,Vendredi),AND(WEEKDAY(AM4)=7,Samedi),AM4=férié),0,1)","v":1},{"$f":"UPPER(TEXT(AM4,\"jjj\"))","v":"MER"},{"$f":"AM3+1","v":"2017-08-02"},null,null,{"$f":"IF(OR(AND(WEEKDAY(AR4)=1,Dimanche),AND(WEEKDAY(AR4)=2,Lundi),AND(WEEKDAY(AR4)=3,Mardi),AND(WEEKDAY(AR4)=4,Mercredi),AND(WEEKDAY(AR4)=5,Jeudi),AND(WEEKDAY(AR4)=6,Vendredi),AND(WEEKDAY(AR4)=7,Samedi),AR4=férié),0,1)","v":0},{"$f":"UPPER(TEXT(AR4,\"jjj\"))","v":"SAM"},{"$f":"AR3+1","v":"2017-09-02"},null,null,{"$f":"IF(OR(AND(WEEKDAY(AW4)=1,Dimanche),AND(WEEKDAY(AW4)=2,Lundi),AND(WEEKDAY(AW4)=3,Mardi),AND(WEEKDAY(AW4)=4,Mercredi),AND(WEEKDAY(AW4)=5,Jeudi),AND(WEEKDAY(AW4)=6,Vendredi),AND(WEEKDAY(AW4)=7,Samedi),AW4=férié),0,1)","v":1},{"$f":"UPPER(TEXT(AW4,\"jjj\"))","v":"LUN"},{"$f":"AW3+1","v":"2017-10-02"},null,null,{"$f":"IF(OR(AND(WEEKDAY(BB4)=1,Dimanche),AND(WEEKDAY(BB4)=2,Lundi),AND(WEEKDAY(BB4)=3,Mardi),AND(WEEKDAY(BB4)=4,Mercredi),AND(WEEKDAY(BB4)=5,Jeudi),AND(WEEKDAY(BB4)=6,Vendredi),AND(WEEKDAY(BB4)=7,Samedi),BB4=férié),0,1)","v":1},{"$f":"UPPER(TEXT(BB4,\"jjj\"))","v":"JEU"},{"$f":"BB3+1","v":"2017-11-02"},null,null,{"$f":"IF(OR(AND(WEEKDAY(BG4)=1,Dimanche),AND(WEEKDAY(BG4)=2,Lundi),AND(WEEKDAY(BG4)=3,Mardi),AND(WEEKDAY(BG4)=4,Mercredi),AND(WEEKDAY(BG4)=5,Jeudi),AND(WEEKDAY(BG4)=6,Vendredi),AND(WEEKDAY(BG4)=7,Samedi),BG4=férié),0,1)","v":0},{"$f":"UPPER(TEXT(BG4,\"jjj\"))","v":"SAM"},{"$f":"BG3+1","v":"2017-12-02"}]
[null,{"$f":"IF(OR(AND(WEEKDAY(D5)=1,Dimanche),AND(WEEKDAY(D5)=2,Lundi),AND(WEEKDAY(D5)=3,Mardi),AND(WEEKDAY(D5)=4,Mercredi),AND(WEEKDAY(D5)=5,Jeudi),AND(WEEKDAY(D5)=6,Vendredi),AND(WEEKDAY(D5)=7,Samedi),D5=férié),0,1)","v":1},{"$f":"UPPER(TEXT(D5,\"jjj\"))","v":"MAR"},{"$f":"D4+1","v":"2017-01-03"},null,null,{"$f":"IF(OR(AND(WEEKDAY(I5)=1,Dimanche),AND(WEEKDAY(I5)=2,Lundi),AND(WEEKDAY(I5)=3,Mardi),AND(WEEKDAY(I5)=4,Mercredi),AND(WEEKDAY(I5)=5,Jeudi),AND(WEEKDAY(I5)=6,Vendredi),AND(WEEKDAY(I5)=7,Samedi),I5=férié),0,1)","v":1},{"$f":"UPPER(TEXT(I5,\"jjj\"))","v":"VEN"},{"$f":"I4+1","v":"2017-02-03"},null,null,{"$f":"IF(OR(AND(WEEKDAY(N5)=1,Dimanche),AND(WEEKDAY(N5)=2,Lundi),AND(WEEKDAY(N5)=3,Mardi),AND(WEEKDAY(N5)=4,Mercredi),AND(WEEKDAY(N5)=5,Jeudi),AND(WEEKDAY(N5)=6,Vendredi),AND(WEEKDAY(N5)=7,Samedi),N5=férié),0,1)","v":1},{"$f":"UPPER(TEXT(N5,\"jjj\"))","v":"VEN"},{"$f":"N4+1","v":"2017-03-03"},null,null,{"$f":"IF(OR(AND(WEEKDAY(S5)=1,Dimanche),AND(WEEKDAY(S5)=2,Lundi),AND(WEEKDAY(S5)=3,Mardi),AND(WEEKDAY(S5)=4,Mercredi),AND(WEEKDAY(S5)=5,Jeudi),AND(WEEKDAY(S5)=6,Vendredi),AND(WEEKDAY(S5)=7,Samedi),S5=férié),0,1)","v":1},{"$f":"UPPER(TEXT(S5,\"jjj\"))","v":"LUN"},{"$f":"S4+1","v":"2017-04-03"},null,null,{"$f":"IF(OR(AND(WEEKDAY(X5)=1,Dimanche),AND(WEEKDAY(X5)=2,Lundi),AND(WEEKDAY(X5)=3,Mardi),AND(WEEKDAY(X5)=4,Mercredi),AND(WEEKDAY(X5)=5,Jeudi),AND(WEEKDAY(X5)=6,Vendredi),AND(WEEKDAY(X5)=7,Samedi),X5=férié),0,1)","v":1},{"$f":"UPPER(TEXT(X5,\"jjj\"))","v":"MER"},{"$f":"X4+1","v":"2017-05-03"},null,null,{"$f":"IF(OR(AND(WEEKDAY(AC5)=1,Dimanche),AND(WEEKDAY(AC5)=2,Lundi),AND(WEEKDAY(AC5)=3,Mardi),AND(WEEKDAY(AC5)=4,Mercredi),AND(WEEKDAY(AC5)=5,Jeudi),AND(WEEKDAY(AC5)=6,Vendredi),AND(WEEKDAY(AC5)=7,Samedi),AC5=férié),0,1)","v":0},{"$f":"UPPER(TEXT(AC5,\"jjj\"))","v":"SAM"},{"$f":"AC4+1","v":"2017-06-03"},null,null,{"$f":"IF(OR(AND(WEEKDAY(AH5)=1,Dimanche),AND(WEEKDAY(AH5)=2,Lundi),AND(WEEKDAY(AH5)=3,Mardi),AND(WEEKDAY(AH5)=4,Mercredi),AND(WEEKDAY(AH5)=5,Jeudi),AND(WEEKDAY(AH5)=6,Vendredi),AND(WEEKDAY(AH5)=7,Samedi),AH5=férié),0,1)","v":1},{"$f":"UPPER(TEXT(AH5,\"jjj\"))","v":"LUN"},{"$f":"AH4+1","v":"2017-07-03"},null,null,{"$f":"IF(OR(AND(WEEKDAY(AM5)=1,Dimanche),AND(WEEKDAY(AM5)=2,Lundi),AND(WEEKDAY(AM5)=3,Mardi),AND(WEEKDAY(AM5)=4,Mercredi),AND(WEEKDAY(AM5)=5,Jeudi),AND(WEEKDAY(AM5)=6,Vendredi),AND(WEEKDAY(AM5)=7,Samedi),AM5=férié),0,1)","v":1},{"$f":"UPPER(TEXT(AM5,\"jjj\"))","v":"JEU"},{"$f":"AM4+1","v":"2017-08-03"},null,null,{"$f":"IF(OR(AND(WEEKDAY(AR5)=1,Dimanche),AND(WEEKDAY(AR5)=2,Lundi),AND(WEEKDAY(AR5)=3,Mardi),AND(WEEKDAY(AR5)=4,Mercredi),AND(WEEKDAY(AR5)=5,Jeudi),AND(WEEKDAY(AR5)=6,Vendredi),AND(WEEKDAY(AR5)=7,Samedi),AR5=férié),0,1)","v":0},{"$f":"UPPER(TEXT(AR5,\"jjj\"))","v":"DIM"},{"$f":"AR4+1","v":"2017-09-03"},null,null,{"$f":"IF(OR(AND(WEEKDAY(AW5)=1,Dimanche),AND(WEEKDAY(AW5)=2,Lundi),AND(WEEKDAY(AW5)=3,Mardi),AND(WEEKDAY(AW5)=4,Mercredi),AND(WEEKDAY(AW5)=5,Jeudi),AND(WEEKDAY(AW5)=6,Vendredi),AND(WEEKDAY(AW5)=7,Samedi),AW5=férié),0,1)","v":1},{"$f":"UPPER(TEXT(AW5,\"jjj\"))","v":"MAR"},{"$f":"AW4+1","v":"2017-10-03"},null,null,{"$f":"IF(OR(AND(WEEKDAY(BB5)=1,Dimanche),AND(WEEKDAY(BB5)=2,Lundi),AND(WEEKDAY(BB5)=3,Mardi),AND(WEEKDAY(BB5)=4,Mercredi),AND(WEEKDAY(BB5)=5,Jeudi),AND(WEEKDAY(BB5)=6,Vendredi),AND(WEEKDAY(BB5)=7,Samedi),BB5=férié),0,1)","v":1},{"$f":"UPPER(TEXT(BB5,\"jjj\"))","v":"VEN"},{"$f":"BB4+1","v":"2017-11-03"},null,null,{"$f":"IF(OR(AND(WEEKDAY(BG5)=1,Dimanche),AND(WEEKDAY(BG5)=2,Lundi),AND(WEEKDAY(BG5)=3,Mardi),AND(WEEKDAY(BG5)=4,Mercredi),AND(WEEKDAY(BG5)=5,Jeudi),AND(WEEKDAY(BG5)=6,Vendredi),AND(WEEKDAY(BG5)=7,Samedi),BG5=férié),0,1)","v":0},{"$f":"UPPER(TEXT(BG5,\"jjj\"))","v":"DIM"},{"$f":"BG4+1","v":"2017-12-03"}]
[null,{"$f":"IF(OR(AND(WEEKDAY(D6)=1,Dimanche),AND(WEEKDAY(D6)=2,Lundi),AND(WEEKDAY(D6)=3,Mardi),AND(WEEKDAY(D6)=4,Mercredi),AND(WEEKDAY(D6)=5,Jeudi),AND(WEEKDAY(D6)=6,Vendredi),AND(WEEKDAY(D6)=7,Samedi),D6=férié),0,1)","v":1},"MER","2017-01-04",null,null,{"$f":"IF(OR(AND(WEEKDAY(I6)=1,Dimanche),AND(WEEKDAY(I6)=2,Lundi),AND(WEEKDAY(I6)=3,Mardi),AND(WEEKDAY(I6)=4,Mercredi),AND(WEEKDAY(I6)=5,Jeudi),AND(WEEKDAY(I6)=6,Vendredi),AND(WEEKDAY(I6)=7,Samedi),I6=férié),0,1)","v":0},"SAM","2017-02-04",null,null,{"$f":"IF(OR(AND(WEEKDAY(N6)=1,Dimanche),AND(WEEKDAY(N6)=2,Lundi),AND(WEEKDAY(N6)=3,Mardi),AND(WEEKDAY(N6)=4,Mercredi),AND(WEEKDAY(N6)=5,Jeudi),AND(WEEKDAY(N6)=6,Vendredi),AND(WEEKDAY(N6)=7,Samedi),N6=férié),0,1)","v":0},"SAM","2017-03-04",null,null,{"$f":"IF(OR(AND(WEEKDAY(S6)=1,Dimanche),AND(WEEKDAY(S6)=2,Lundi),AND(WEEKDAY(S6)=3,Mardi),AND(WEEKDAY(S6)=4,Mercredi),AND(WEEKDAY(S6)=5,Jeudi),AND(WEEKDAY(S6)=6,Vendredi),AND(WEEKDAY(S6)=7,Samedi),S6=férié),0,1)","v":1},"MAR","2017-04-04",null,null,{"$f":"IF(OR(AND(WEEKDAY(X6)=1,Dimanche),AND(WEEKDAY(X6)=2,Lundi),AND(WEEKDAY(X6)=3,Mardi),AND(WEEKDAY(X6)=4,Mercredi),AND(WEEKDAY(X6)=5,Jeudi),AND(WEEKDAY(X6)=6,Vendredi),AND(WEEKDAY(X6)=7,Samedi),X6=férié),0,1)","v":1},"JEU","2017-05-04",null,null,{"$f":"IF(OR(AND(WEEKDAY(AC6)=1,Dimanche),AND(WEEKDAY(AC6)=2,Lundi),AND(WEEKDAY(AC6)=3,Mardi),AND(WEEKDAY(AC6)=4,Mercredi),AND(WEEKDAY(AC6)=5,Jeudi),AND(WEEKDAY(AC6)=6,Vendredi),AND(WEEKDAY(AC6)=7,Samedi),AC6=férié),0,1)","v":0},"DIM","2017-06-04",null,null,{"$f":"IF(OR(AND(WEEKDAY(AH6)=1,Dimanche),AND(WEEKDAY(AH6)=2,Lundi),AND(WEEKDAY(AH6)=3,Mardi),AND(WEEKDAY(AH6)=4,Mercredi),AND(WEEKDAY(AH6)=5,Jeudi),AND(WEEKDAY(AH6)=6,Vendredi),AND(WEEKDAY(AH6)=7,Samedi),AH6=férié),0,1)","v":1},"MAR","2017-07-04",null,null,{"$f":"IF(OR(AND(WEEKDAY(AM6)=1,Dimanche),AND(WEEKDAY(AM6)=2,Lundi),AND(WEEKDAY(AM6)=3,Mardi),AND(WEEKDAY(AM6)=4,Mercredi),AND(WEEKDAY(AM6)=5,Jeudi),AND(WEEKDAY(AM6)=6,Vendredi),AND(WEEKDAY(AM6)=7,Samedi),AM6=férié),0,1)","v":1},"VEN","2017-08-04",null,null,{"$f":"IF(OR(AND(WEEKDAY(AR6)=1,Dimanche),AND(WEEKDAY(AR6)=2,Lundi),AND(WEEKDAY(AR6)=3,Mardi),AND(WEEKDAY(AR6)=4,Mercredi),AND(WEEKDAY(AR6)=5,Jeudi),AND(WEEKDAY(AR6)=6,Vendredi),AND(WEEKDAY(AR6)=7,Samedi),AR6=férié),0,1)","v":1},"LUN","2017-09-04",null,null,{"$f":"IF(OR(AND(WEEKDAY(AW6)=1,Dimanche),AND(WEEKDAY(AW6)=2,Lundi),AND(WEEKDAY(AW6)=3,Mardi),AND(WEEKDAY(AW6)=4,Mercredi),AND(WEEKDAY(AW6)=5,Jeudi),AND(WEEKDAY(AW6)=6,Vendredi),AND(WEEKDAY(AW6)=7,Samedi),AW6=férié),0,1)","v":1},"MER","2017-10-04",null,null,{"$f":"IF(OR(AND(WEEKDAY(BB6)=1,Dimanche),AND(WEEKDAY(BB6)=2,Lundi),AND(WEEKDAY(BB6)=3,Mardi),AND(WEEKDAY(BB6)=4,Mercredi),AND(WEEKDAY(BB6)=5,Jeudi),AND(WEEKDAY(BB6)=6,Vendredi),AND(WEEKDAY(BB6)=7,Samedi),BB6=férié),0,1)","v":0},"SAM","2017-11-04",null,null,{"$f":"IF(OR(AND(WEEKDAY(BG6)=1,Dimanche),AND(WEEKDAY(BG6)=2,Lundi),AND(WEEKDAY(BG6)=3,Mardi),AND(WEEKDAY(BG6)=4,Mercredi),AND(WEEKDAY(BG6)=5,Jeudi),AND(WEEKDAY(BG6)=6,Vendredi),AND(WEEKDAY(BG6)=7,Samedi),BG6=férié),0,1)","v":1},"LUN","2017-12-04"]
[null,{"$f":"IF(OR(AND(WEEKDAY(D7)=1,Dimanche),AND(WEEKDAY(D7)=2,Lundi),AND(WEEKDAY(D7)=3,Mardi),AND(WEEKDAY(D7)=4,Mercredi),AND(WEEKDAY(D7)=5,Jeudi),AND(WEEKDAY(D7)=6,Vendredi),AND(WEEKDAY(D7)=7,Samedi),D7=férié),0,1)","v":1},"JEU","2017-01-05",null,null,{"$f":"IF(OR(AND(WEEKDAY(I7)=1,Dimanche),AND(WEEKDAY(I7)=2,Lundi),AND(WEEKDAY(I7)=3,Mardi),AND(WEEKDAY(I7)=4,Mercredi),AND(WEEKDAY(I7)=5,Jeudi),AND(WEEKDAY(I7)=6,Vendredi),AND(WEEKDAY(I7)=7,Samedi),I7=férié),0,1)","v":0},"DIM","2017-02-05",null,null,{"$f":"IF(OR(AND(WEEKDAY(N7)=1,Dimanche),AND(WEEKDAY(N7)=2,Lundi),AND(WEEKDAY(N7)=3,Mardi),AND(WEEKDAY(N7)=4,Mercredi),AND(WEEKDAY(N7)=5,Jeudi),AND(WEEKDAY(N7)=6,Vendredi),AND(WEEKDAY(N7)=7,Samedi),N7=férié),0,1)","v":0},"DIM","2017-03-05",null,null,{"$f":"IF(OR(AND(WEEKDAY(S7)=1,Dimanche),AND(WEEKDAY(S7)=2,Lundi),AND(WEEKDAY(S7)=3,Mardi),AND(WEEKDAY(S7)=4,Mercredi),AND(WEEKDAY(S7)=5,Jeudi),AND(WEEKDAY(S7)=6,Vendredi),AND(WEEKDAY(S7)=7,Samedi),S7=férié),0,1)","v":1},"MER","2017-04-05",null,null,{"$f":"IF(OR(AND(WEEKDAY(X7)=1,Dimanche),AND(WEEKDAY(X7)=2,Lundi),AND(WEEKDAY(X7)=3,Mardi),AND(WEEKDAY(X7)=4,Mercredi),AND(WEEKDAY(X7)=5,Jeudi),AND(WEEKDAY(X7)=6,Vendredi),AND(WEEKDAY(X7)=7,Samedi),X7=férié),0,1)","v":1},"VEN","2017-05-05",null,null,{"$f":"IF(OR(AND(WEEKDAY(AC7)=1,Dimanche),AND(WEEKDAY(AC7)=2,Lundi),AND(WEEKDAY(AC7)=3,Mardi),AND(WEEKDAY(AC7)=4,Mercredi),AND(WEEKDAY(AC7)=5,Jeudi),AND(WEEKDAY(AC7)=6,Vendredi),AND(WEEKDAY(AC7)=7,Samedi),AC7=férié),0,1)","v":0},"LUN","2017-06-05",null,null,{"$f":"IF(OR(AND(WEEKDAY(AH7)=1,Dimanche),AND(WEEKDAY(AH7)=2,Lundi),AND(WEEKDAY(AH7)=3,Mardi),AND(WEEKDAY(AH7)=4,Mercredi),AND(WEEKDAY(AH7)=5,Jeudi),AND(WEEKDAY(AH7)=6,Vendredi),AND(WEEKDAY(AH7)=7,Samedi),AH7=férié),0,1)","v":1},"MER","2017-07-05",null,null,{"$f":"IF(OR(AND(WEEKDAY(AM7)=1,Dimanche),AND(WEEKDAY(AM7)=2,Lundi),AND(WEEKDAY(AM7)=3,Mardi),AND(WEEKDAY(AM7)=4,Mercredi),AND(WEEKDAY(AM7)=5,Jeudi),AND(WEEKDAY(AM7)=6,Vendredi),AND(WEEKDAY(AM7)=7,Samedi),AM7=férié),0,1)","v":0},"SAM","2017-08-05",null,null,{"$f":"IF(OR(AND(WEEKDAY(AR7)=1,Dimanche),AND(WEEKDAY(AR7)=2,Lundi),AND(WEEKDAY(AR7)=3,Mardi),AND(WEEKDAY(AR7)=4,Mercredi),AND(WEEKDAY(AR7)=5,Jeudi),AND(WEEKDAY(AR7)=6,Vendredi),AND(WEEKDAY(AR7)=7,Samedi),AR7=férié),0,1)","v":1},"MAR","2017-09-05",null,null,{"$f":"IF(OR(AND(WEEKDAY(AW7)=1,Dimanche),AND(WEEKDAY(AW7)=2,Lundi),AND(WEEKDAY(AW7)=3,Mardi),AND(WEEKDAY(AW7)=4,Mercredi),AND(WEEKDAY(AW7)=5,Jeudi),AND(WEEKDAY(AW7)=6,Vendredi),AND(WEEKDAY(AW7)=7,Samedi),AW7=férié),0,1)","v":1},"JEU","2017-10-05",null,null,{"$f":"IF(OR(AND(WEEKDAY(BB7)=1,Dimanche),AND(WEEKDAY(BB7)=2,Lundi),AND(WEEKDAY(BB7)=3,Mardi),AND(WEEKDAY(BB7)=4,Mercredi),AND(WEEKDAY(BB7)=5,Jeudi),AND(WEEKDAY(BB7)=6,Vendredi),AND(WEEKDAY(BB7)=7,Samedi),BB7=férié),0,1)","v":0},"DIM","2017-11-05",null,null,{"$f":"IF(OR(AND(WEEKDAY(BG7)=1,Dimanche),AND(WEEKDAY(BG7)=2,Lundi),AND(WEEKDAY(BG7)=3,Mardi),AND(WEEKDAY(BG7)=4,Mercredi),AND(WEEKDAY(BG7)=5,Jeudi),AND(WEEKDAY(BG7)=6,Vendredi),AND(WEEKDAY(BG7)=7,Samedi),BG7=férié),0,1)","v":1},"MAR","2017-12-05"]
[null,{"$f":"IF(OR(AND(WEEKDAY(D8)=1,Dimanche),AND(WEEKDAY(D8)=2,Lundi),AND(WEEKDAY(D8)=3,Mardi),AND(WEEKDAY(D8)=4,Mercredi),AND(WEEKDAY(D8)=5,Jeudi),AND(WEEKDAY(D8)=6,Vendredi),AND(WEEKDAY(D8)=7,Samedi),D8=férié),0,1)","v":1},"VEN","2017-01-06",null,null,{"$f":"IF(OR(AND(WEEKDAY(I8)=1,Dimanche),AND(WEEKDAY(I8)=2,Lundi),AND(WEEKDAY(I8)=3,Mardi),AND(WEEKDAY(I8)=4,Mercredi),AND(WEEKDAY(I8)=5,Jeudi),AND(WEEKDAY(I8)=6,Vendredi),AND(WEEKDAY(I8)=7,Samedi),I8=férié),0,1)","v":1},"LUN","2017-02-06",null,null,{"$f":"IF(OR(AND(WEEKDAY(N8)=1,Dimanche),AND(WEEKDAY(N8)=2,Lundi),AND(WEEKDAY(N8)=3,Mardi),AND(WEEKDAY(N8)=4,Mercredi),AND(WEEKDAY(N8)=5,Jeudi),AND(WEEKDAY(N8)=6,Vendredi),AND(WEEKDAY(N8)=7,Samedi),N8=férié),0,1)","v":1},"LUN","2017-03-06",null,null,{"$f":"IF(OR(AND(WEEKDAY(S8)=1,Dimanche),AND(WEEKDAY(S8)=2,Lundi),AND(WEEKDAY(S8)=3,Mardi),AND(WEEKDAY(S8)=4,Mercredi),AND(WEEKDAY(S8)=5,Jeudi),AND(WEEKDAY(S8)=6,Vendredi),AND(WEEKDAY(S8)=7,Samedi),S8=férié),0,1)","v":1},"JEU","2017-04-06",null,null,{"$f":"IF(OR(AND(WEEKDAY(X8)=1,Dimanche),AND(WEEKDAY(X8)=2,Lundi),AND(WEEKDAY(X8)=3,Mardi),AND(WEEKDAY(X8)=4,Mercredi),AND(WEEKDAY(X8)=5,Jeudi),AND(WEEKDAY(X8)=6,Vendredi),AND(WEEKDAY(X8)=7,Samedi),X8=férié),0,1)","v":0},"SAM","2017-05-06",null,null,{"$f":"IF(OR(AND(WEEKDAY(AC8)=1,Dimanche),AND(WEEKDAY(AC8)=2,Lundi),AND(WEEKDAY(AC8)=3,Mardi),AND(WEEKDAY(AC8)=4,Mercredi),AND(WEEKDAY(AC8)=5,Jeudi),AND(WEEKDAY(AC8)=6,Vendredi),AND(WEEKDAY(AC8)=7,Samedi),AC8=férié),0,1)","v":1},"MAR","2017-06-06",null,null,{"$f":"IF(OR(AND(WEEKDAY(AH8)=1,Dimanche),AND(WEEKDAY(AH8)=2,Lundi),AND(WEEKDAY(AH8)=3,Mardi),AND(WEEKDAY(AH8)=4,Mercredi),AND(WEEKDAY(AH8)=5,Jeudi),AND(WEEKDAY(AH8)=6,Vendredi),AND(WEEKDAY(AH8)=7,Samedi),AH8=férié),0,1)","v":1},"JEU","2017-07-06",null,null,{"$f":"IF(OR(AND(WEEKDAY(AM8)=1,Dimanche),AND(WEEKDAY(AM8)=2,Lundi),AND(WEEKDAY(AM8)=3,Mardi),AND(WEEKDAY(AM8)=4,Mercredi),AND(WEEKDAY(AM8)=5,Jeudi),AND(WEEKDAY(AM8)=6,Vendredi),AND(WEEKDAY(AM8)=7,Samedi),AM8=férié),0,1)","v":0},"DIM","2017-08-06",null,null,{"$f":"IF(OR(AND(WEEKDAY(AR8)=1,Dimanche),AND(WEEKDAY(AR8)=2,Lundi),AND(WEEKDAY(AR8)=3,Mardi),AND(WEEKDAY(AR8)=4,Mercredi),AND(WEEKDAY(AR8)=5,Jeudi),AND(WEEKDAY(AR8)=6,Vendredi),AND(WEEKDAY(AR8)=7,Samedi),AR8=férié),0,1)","v":1},"MER","2017-09-06",null,null,{"$f":"IF(OR(AND(WEEKDAY(AW8)=1,Dimanche),AND(WEEKDAY(AW8)=2,Lundi),AND(WEEKDAY(AW8)=3,Mardi),AND(WEEKDAY(AW8)=4,Mercredi),AND(WEEKDAY(AW8)=5,Jeudi),AND(WEEKDAY(AW8)=6,Vendredi),AND(WEEKDAY(AW8)=7,Samedi),AW8=férié),0,1)","v":1},"VEN","2017-10-06",null,null,{"$f":"IF(OR(AND(WEEKDAY(BB8)=1,Dimanche),AND(WEEKDAY(BB8)=2,Lundi),AND(WEEKDAY(BB8)=3,Mardi),AND(WEEKDAY(BB8)=4,Mercredi),AND(WEEKDAY(BB8)=5,Jeudi),AND(WEEKDAY(BB8)=6,Vendredi),AND(WEEKDAY(BB8)=7,Samedi),BB8=férié),0,1)","v":1},"LUN","2017-11-06",null,null,{"$f":"IF(OR(AND(WEEKDAY(BG8)=1,Dimanche),AND(WEEKDAY(BG8)=2,Lundi),AND(WEEKDAY(BG8)=3,Mardi),AND(WEEKDAY(BG8)=4,Mercredi),AND(WEEKDAY(BG8)=5,Jeudi),AND(WEEKDAY(BG8)=6,Vendredi),AND(WEEKDAY(BG8)=7,Samedi),BG8=férié),0,1)","v":1},"MER","2017-12-06"]
[null,{"$f":"IF(OR(AND(WEEKDAY(D9)=1,Dimanche),AND(WEEKDAY(D9)=2,Lundi),AND(WEEKDAY(D9)=3,Mardi),AND(WEEKDAY(D9)=4,Mercredi),AND(WEEKDAY(D9)=5,Jeudi),AND(WEEKDAY(D9)=6,Vendredi),AND(WEEKDAY(D9)=7,Samedi),D9=férié),0,1)","v":0},"SAM","2017-01-07",null,null,{"$f":"IF(OR(AND(WEEKDAY(I9)=1,Dimanche),AND(WEEKDAY(I9)=2,Lundi),AND(WEEKDAY(I9)=3,Mardi),AND(WEEKDAY(I9)=4,Mercredi),AND(WEEKDAY(I9)=5,Jeudi),AND(WEEKDAY(I9)=6,Vendredi),AND(WEEKDAY(I9)=7,Samedi),I9=férié),0,1)","v":1},"MAR","2017-02-07",null,null,{"$f":"IF(OR(AND(WEEKDAY(N9)=1,Dimanche),AND(WEEKDAY(N9)=2,Lundi),AND(WEEKDAY(N9)=3,Mardi),AND(WEEKDAY(N9)=4,Mercredi),AND(WEEKDAY(N9)=5,Jeudi),AND(WEEKDAY(N9)=6,Vendredi),AND(WEEKDAY(N9)=7,Samedi),N9=férié),0,1)","v":1},"MAR","2017-03-07",null,null,{"$f":"IF(OR(AND(WEEKDAY(S9)=1,Dimanche),AND(WEEKDAY(S9)=2,Lundi),AND(WEEKDAY(S9)=3,Mardi),AND(WEEKDAY(S9)=4,Mercredi),AND(WEEKDAY(S9)=5,Jeudi),AND(WEEKDAY(S9)=6,Vendredi),AND(WEEKDAY(S9)=7,Samedi),S9=férié),0,1)","v":1},"VEN","2017-04-07",null,null,{"$f":"IF(OR(AND(WEEKDAY(X9)=1,Dimanche),AND(WEEKDAY(X9)=2,Lundi),AND(WEEKDAY(X9)=3,Mardi),AND(WEEKDAY(X9)=4,Mercredi),AND(WEEKDAY(X9)=5,Jeudi),AND(WEEKDAY(X9)=6,Vendredi),AND(WEEKDAY(X9)=7,Samedi),X9=férié),0,1)","v":0},"DIM","2017-05-07",null,null,{"$f":"IF(OR(AND(WEEKDAY(AC9)=1,Dimanche),AND(WEEKDAY(AC9)=2,Lundi),AND(WEEKDAY(AC9)=3,Mardi),AND(WEEKDAY(AC9)=4,Mercredi),AND(WEEKDAY(AC9)=5,Jeudi),AND(WEEKDAY(AC9)=6,Vendredi),AND(WEEKDAY(AC9)=7,Samedi),AC9=férié),0,1)","v":1},"MER","2017-06-07",null,null,{"$f":"IF(OR(AND(WEEKDAY(AH9)=1,Dimanche),AND(WEEKDAY(AH9)=2,Lundi),AND(WEEKDAY(AH9)=3,Mardi),AND(WEEKDAY(AH9)=4,Mercredi),AND(WEEKDAY(AH9)=5,Jeudi),AND(WEEKDAY(AH9)=6,Vendredi),AND(WEEKDAY(AH9)=7,Samedi),AH9=férié),0,1)","v":1},"VEN","2017-07-07",null,null,{"$f":"IF(OR(AND(WEEKDAY(AM9)=1,Dimanche),AND(WEEKDAY(AM9)=2,Lundi),AND(WEEKDAY(AM9)=3,Mardi),AND(WEEKDAY(AM9)=4,Mercredi),AND(WEEKDAY(AM9)=5,Jeudi),AND(WEEKDAY(AM9)=6,Vendredi),AND(WEEKDAY(AM9)=7,Samedi),AM9=férié),0,1)","v":1},"LUN","2017-08-07",null,null,{"$f":"IF(OR(AND(WEEKDAY(AR9)=1,Dimanche),AND(WEEKDAY(AR9)=2,Lundi),AND(WEEKDAY(AR9)=3,Mardi),AND(WEEKDAY(AR9)=4,Mercredi),AND(WEEKDAY(AR9)=5,Jeudi),AND(WEEKDAY(AR9)=6,Vendredi),AND(WEEKDAY(AR9)=7,Samedi),AR9=férié),0,1)","v":1},"JEU","2017-09-07",null,null,{"$f":"IF(OR(AND(WEEKDAY(AW9)=1,Dimanche),AND(WEEKDAY(AW9)=2,Lundi),AND(WEEKDAY(AW9)=3,Mardi),AND(WEEKDAY(AW9)=4,Mercredi),AND(WEEKDAY(AW9)=5,Jeudi),AND(WEEKDAY(AW9)=6,Vendredi),AND(WEEKDAY(AW9)=7,Samedi),AW9=férié),0,1)","v":0},"SAM","2017-10-07",null,null,{"$f":"IF(OR(AND(WEEKDAY(BB9)=1,Dimanche),AND(WEEKDAY(BB9)=2,Lundi),AND(WEEKDAY(BB9)=3,Mardi),AND(WEEKDAY(BB9)=4,Mercredi),AND(WEEKDAY(BB9)=5,Jeudi),AND(WEEKDAY(BB9)=6,Vendredi),AND(WEEKDAY(BB9)=7,Samedi),BB9=férié),0,1)","v":1},"MAR","2017-11-07",null,null,{"$f":"IF(OR(AND(WEEKDAY(BG9)=1,Dimanche),AND(WEEKDAY(BG9)=2,Lundi),AND(WEEKDAY(BG9)=3,Mardi),AND(WEEKDAY(BG9)=4,Mercredi),AND(WEEKDAY(BG9)=5,Jeudi),AND(WEEKDAY(BG9)=6,Vendredi),AND(WEEKDAY(BG9)=7,Samedi),BG9=férié),0,1)","v":1},"JEU","2017-12-07"]
[null,{"$f":"IF(OR(AND(WEEKDAY(D10)=1,Dimanche),AND(WEEKDAY(D10)=2,Lundi),AND(WEEKDAY(D10)=3,Mardi),AND(WEEKDAY(D10)=4,Mercredi),AND(WEEKDAY(D10)=5,Jeudi),AND(WEEKDAY(D10)=6,Vendredi),AND(WEEKDAY(D10)=7,Samedi),D10=férié),0,1)","v":0},"DIM","2017-01-08",null,null,{"$f":"IF(OR(AND(WEEKDAY(I10)=1,Dimanche),AND(WEEKDAY(I10)=2,Lundi),AND(WEEKDAY(I10)=3,Mardi),AND(WEEKDAY(I10)=4,Mercredi),AND(WEEKDAY(I10)=5,Jeudi),AND(WEEKDAY(I10)=6,Vendredi),AND(WEEKDAY(I10)=7,Samedi),I10=férié),0,1)","v":1},"MER","2017-02-08",null,null,{"$f":"IF(OR(AND(WEEKDAY(N10)=1,Dimanche),AND(WEEKDAY(N10)=2,Lundi),AND(WEEKDAY(N10)=3,Mardi),AND(WEEKDAY(N10)=4,Mercredi),AND(WEEKDAY(N10)=5,Jeudi),AND(WEEKDAY(N10)=6,Vendredi),AND(WEEKDAY(N10)=7,Samedi),N10=férié),0,1)","v":1},"MER","2017-03-08",null,null,{"$f":"IF(OR(AND(WEEKDAY(S10)=1,Dimanche),AND(WEEKDAY(S10)=2,Lundi),AND(WEEKDAY(S10)=3,Mardi),AND(WEEKDAY(S10)=4,Mercredi),AND(WEEKDAY(S10)=5,Jeudi),AND(WEEKDAY(S10)=6,Vendredi),AND(WEEKDAY(S10)=7,Samedi),S10=férié),0,1)","v":0},"SAM","2017-04-08",null,null,{"$f":"IF(OR(AND(WEEKDAY(X10)=1,Dimanche),AND(WEEKDAY(X10)=2,Lundi),AND(WEEKDAY(X10)=3,Mardi),AND(WEEKDAY(X10)=4,Mercredi),AND(WEEKDAY(X10)=5,Jeudi),AND(WEEKDAY(X10)=6,Vendredi),AND(WEEKDAY(X10)=7,Samedi),X10=férié),0,1)","v":0},"LUN","2017-05-08",null,null,{"$f":"IF(OR(AND(WEEKDAY(AC10)=1,Dimanche),AND(WEEKDAY(AC10)=2,Lundi),AND(WEEKDAY(AC10)=3,Mardi),AND(WEEKDAY(AC10)=4,Mercredi),AND(WEEKDAY(AC10)=5,Jeudi),AND(WEEKDAY(AC10)=6,Vendredi),AND(WEEKDAY(AC10)=7,Samedi),AC10=férié),0,1)","v":1},"JEU","2017-06-08",null,null,{"$f":"IF(OR(AND(WEEKDAY(AH10)=1,Dimanche),AND(WEEKDAY(AH10)=2,Lundi),AND(WEEKDAY(AH10)=3,Mardi),AND(WEEKDAY(AH10)=4,Mercredi),AND(WEEKDAY(AH10)=5,Jeudi),AND(WEEKDAY(AH10)=6,Vendredi),AND(WEEKDAY(AH10)=7,Samedi),AH10=férié),0,1)","v":0},"SAM","2017-07-08",null,null,{"$f":"IF(OR(AND(WEEKDAY(AM10)=1,Dimanche),AND(WEEKDAY(AM10)=2,Lundi),AND(WEEKDAY(AM10)=3,Mardi),AND(WEEKDAY(AM10)=4,Mercredi),AND(WEEKDAY(AM10)=5,Jeudi),AND(WEEKDAY(AM10)=6,Vendredi),AND(WEEKDAY(AM10)=7,Samedi),AM10=férié),0,1)","v":1},"MAR","2017-08-08",null,null,{"$f":"IF(OR(AND(WEEKDAY(AR10)=1,Dimanche),AND(WEEKDAY(AR10)=2,Lundi),AND(WEEKDAY(AR10)=3,Mardi),AND(WEEKDAY(AR10)=4,Mercredi),AND(WEEKDAY(AR10)=5,Jeudi),AND(WEEKDAY(AR10)=6,Vendredi),AND(WEEKDAY(AR10)=7,Samedi),AR10=férié),0,1)","v":1},"VEN","2017-09-08",null,null,{"$f":"IF(OR(AND(WEEKDAY(AW10)=1,Dimanche),AND(WEEKDAY(AW10)=2,Lundi),AND(WEEKDAY(AW10)=3,Mardi),AND(WEEKDAY(AW10)=4,Mercredi),AND(WEEKDAY(AW10)=5,Jeudi),AND(WEEKDAY(AW10)=6,Vendredi),AND(WEEKDAY(AW10)=7,Samedi),AW10=férié),0,1)","v":0},"DIM","2017-10-08",null,null,{"$f":"IF(OR(AND(WEEKDAY(BB10)=1,Dimanche),AND(WEEKDAY(BB10)=2,Lundi),AND(WEEKDAY(BB10)=3,Mardi),AND(WEEKDAY(BB10)=4,Mercredi),AND(WEEKDAY(BB10)=5,Jeudi),AND(WEEKDAY(BB10)=6,Vendredi),AND(WEEKDAY(BB10)=7,Samedi),BB10=férié),0,1)","v":1},"MER","2017-11-08",null,null,{"$f":"IF(OR(AND(WEEKDAY(BG10)=1,Dimanche),AND(WEEKDAY(BG10)=2,Lundi),AND(WEEKDAY(BG10)=3,Mardi),AND(WEEKDAY(BG10)=4,Mercredi),AND(WEEKDAY(BG10)=5,Jeudi),AND(WEEKDAY(BG10)=6,Vendredi),AND(WEEKDAY(BG10)=7,Samedi),BG10=férié),0,1)","v":1},"VEN","2017-12-08"]
[null,{"$f":"IF(OR(AND(WEEKDAY(D11)=1,Dimanche),AND(WEEKDAY(D11)=2,Lundi),AND(WEEKDAY(D11)=3,Mardi),AND(WEEKDAY(D11)=4,Mercredi),AND(WEEKDAY(D11)=5,Jeudi),AND(WEEKDAY(D11)=6,Vendredi),AND(WEEKDAY(D11)=7,Samedi),D11=férié),0,1)","v":1},"LUN","2017-01-09",null,null,{"$f":"IF(OR(AND(WEEKDAY(I11)=1,Dimanche),AND(WEEKDAY(I11)=2,Lundi),AND(WEEKDAY(I11)=3,Mardi),AND(WEEKDAY(I11)=4,Mercredi),AND(WEEKDAY(I11)=5,Jeudi),AND(WEEKDAY(I11)=6,Vendredi),AND(WEEKDAY(I11)=7,Samedi),I11=férié),0,1)","v":1},"JEU","2017-02-09",null,null,{"$f":"IF(OR(AND(WEEKDAY(N11)=1,Dimanche),AND(WEEKDAY(N11)=2,Lundi),AND(WEEKDAY(N11)=3,Mardi),AND(WEEKDAY(N11)=4,Mercredi),AND(WEEKDAY(N11)=5,Jeudi),AND(WEEKDAY(N11)=6,Vendredi),AND(WEEKDAY(N11)=7,Samedi),N11=férié),0,1)","v":1},"JEU","2017-03-09",null,null,{"$f":"IF(OR(AND(WEEKDAY(S11)=1,Dimanche),AND(WEEKDAY(S11)=2,Lundi),AND(WEEKDAY(S11)=3,Mardi),AND(WEEKDAY(S11)=4,Mercredi),AND(WEEKDAY(S11)=5,Jeudi),AND(WEEKDAY(S11)=6,Vendredi),AND(WEEKDAY(S11)=7,Samedi),S11=férié),0,1)","v":0},"DIM","2017-04-09",null,null,{"$f":"IF(OR(AND(WEEKDAY(X11)=1,Dimanche),AND(WEEKDAY(X11)=2,Lundi),AND(WEEKDAY(X11)=3,Mardi),AND(WEEKDAY(X11)=4,Mercredi),AND(WEEKDAY(X11)=5,Jeudi),AND(WEEKDAY(X11)=6,Vendredi),AND(WEEKDAY(X11)=7,Samedi),X11=férié),0,1)","v":1},"MAR","2017-05-09",null,null,{"$f":"IF(OR(AND(WEEKDAY(AC11)=1,Dimanche),AND(WEEKDAY(AC11)=2,Lundi),AND(WEEKDAY(AC11)=3,Mardi),AND(WEEKDAY(AC11)=4,Mercredi),AND(WEEKDAY(AC11)=5,Jeudi),AND(WEEKDAY(AC11)=6,Vendredi),AND(WEEKDAY(AC11)=7,Samedi),AC11=férié),0,1)","v":1},"VEN","2017-06-09",null,null,{"$f":"IF(OR(AND(WEEKDAY(AH11)=1,Dimanche),AND(WEEKDAY(AH11)=2,Lundi),AND(WEEKDAY(AH11)=3,Mardi),AND(WEEKDAY(AH11)=4,Mercredi),AND(WEEKDAY(AH11)=5,Jeudi),AND(WEEKDAY(AH11)=6,Vendredi),AND(WEEKDAY(AH11)=7,Samedi),AH11=férié),0,1)","v":0},"DIM","2017-07-09",null,null,{"$f":"IF(OR(AND(WEEKDAY(AM11)=1,Dimanche),AND(WEEKDAY(AM11)=2,Lundi),AND(WEEKDAY(AM11)=3,Mardi),AND(WEEKDAY(AM11)=4,Mercredi),AND(WEEKDAY(AM11)=5,Jeudi),AND(WEEKDAY(AM11)=6,Vendredi),AND(WEEKDAY(AM11)=7,Samedi),AM11=férié),0,1)","v":1},"MER","2017-08-09",null,null,{"$f":"IF(OR(AND(WEEKDAY(AR11)=1,Dimanche),AND(WEEKDAY(AR11)=2,Lundi),AND(WEEKDAY(AR11)=3,Mardi),AND(WEEKDAY(AR11)=4,Mercredi),AND(WEEKDAY(AR11)=5,Jeudi),AND(WEEKDAY(AR11)=6,Vendredi),AND(WEEKDAY(AR11)=7,Samedi),AR11=férié),0,1)","v":0},"SAM","2017-09-09",null,null,{"$f":"IF(OR(AND(WEEKDAY(AW11)=1,Dimanche),AND(WEEKDAY(AW11)=2,Lundi),AND(WEEKDAY(AW11)=3,Mardi),AND(WEEKDAY(AW11)=4,Mercredi),AND(WEEKDAY(AW11)=5,Jeudi),AND(WEEKDAY(AW11)=6,Vendredi),AND(WEEKDAY(AW11)=7,Samedi),AW11=férié),0,1)","v":1},"LUN","2017-10-09",null,null,{"$f":"IF(OR(AND(WEEKDAY(BB11)=1,Dimanche),AND(WEEKDAY(BB11)=2,Lundi),AND(WEEKDAY(BB11)=3,Mardi),AND(WEEKDAY(BB11)=4,Mercredi),AND(WEEKDAY(BB11)=5,Jeudi),AND(WEEKDAY(BB11)=6,Vendredi),AND(WEEKDAY(BB11)=7,Samedi),BB11=férié),0,1)","v":1},"JEU","2017-11-09",null,null,{"$f":"IF(OR(AND(WEEKDAY(BG11)=1,Dimanche),AND(WEEKDAY(BG11)=2,Lundi),AND(WEEKDAY(BG11)=3,Mardi),AND(WEEKDAY(BG11)=4,Mercredi),AND(WEEKDAY(BG11)=5,Jeudi),AND(WEEKDAY(BG11)=6,Vendredi),AND(WEEKDAY(BG11)=7,Samedi),BG11=férié),0,1)","v":0},"SAM","2017-12-09"]
[null,{"$f":"IF(OR(AND(WEEKDAY(D12)=1,Dimanche),AND(WEEKDAY(D12)=2,Lundi),AND(WEEKDAY(D12)=3,Mardi),AND(WEEKDAY(D12)=4,Mercredi),AND(WEEKDAY(D12)=5,Jeudi),AND(WEEKDAY(D12)=6,Vendredi),AND(WEEKDAY(D12)=7,Samedi),D12=férié),0,1)","v":1},"MAR","2017-01-10",null,null,{"$f":"IF(OR(AND(WEEKDAY(I12)=1,Dimanche),AND(WEEKDAY(I12)=2,Lundi),AND(WEEKDAY(I12)=3,Mardi),AND(WEEKDAY(I12)=4,Mercredi),AND(WEEKDAY(I12)=5,Jeudi),AND(WEEKDAY(I12)=6,Vendredi),AND(WEEKDAY(I12)=7,Samedi),I12=férié),0,1)","v":1},"VEN","2017-02-10",null,null,{"$f":"IF(OR(AND(WEEKDAY(N12)=1,Dimanche),AND(WEEKDAY(N12)=2,Lundi),AND(WEEKDAY(N12)=3,Mardi),AND(WEEKDAY(N12)=4,Mercredi),AND(WEEKDAY(N12)=5,Jeudi),AND(WEEKDAY(N12)=6,Vendredi),AND(WEEKDAY(N12)=7,Samedi),N12=férié),0,1)","v":1},"VEN","2017-03-10",null,null,{"$f":"IF(OR(AND(WEEKDAY(S12)=1,Dimanche),AND(WEEKDAY(S12)=2,Lundi),AND(WEEKDAY(S12)=3,Mardi),AND(WEEKDAY(S12)=4,Mercredi),AND(WEEKDAY(S12)=5,Jeudi),AND(WEEKDAY(S12)=6,Vendredi),AND(WEEKDAY(S12)=7,Samedi),S12=férié),0,1)","v":1},"LUN","2017-04-10",null,null,{"$f":"IF(OR(AND(WEEKDAY(X12)=1,Dimanche),AND(WEEKDAY(X12)=2,Lundi),AND(WEEKDAY(X12)=3,Mardi),AND(WEEKDAY(X12)=4,Mercredi),AND(WEEKDAY(X12)=5,Jeudi),AND(WEEKDAY(X12)=6,Vendredi),AND(WEEKDAY(X12)=7,Samedi),X12=férié),0,1)","v":1},"MER","2017-05-10",null,null,{"$f":"IF(OR(AND(WEEKDAY(AC12)=1,Dimanche),AND(WEEKDAY(AC12)=2,Lundi),AND(WEEKDAY(AC12)=3,Mardi),AND(WEEKDAY(AC12)=4,Mercredi),AND(WEEKDAY(AC12)=5,Jeudi),AND(WEEKDAY(AC12)=6,Vendredi),AND(WEEKDAY(AC12)=7,Samedi),AC12=férié),0,1)","v":0},"SAM","2017-06-10",null,null,{"$f":"IF(OR(AND(WEEKDAY(AH12)=1,Dimanche),AND(WEEKDAY(AH12)=2,Lundi),AND(WEEKDAY(AH12)=3,Mardi),AND(WEEKDAY(AH12)=4,Mercredi),AND(WEEKDAY(AH12)=5,Jeudi),AND(WEEKDAY(AH12)=6,Vendredi),AND(WEEKDAY(AH12)=7,Samedi),AH12=férié),0,1)","v":1},"LUN","2017-07-10",null,null,{"$f":"IF(OR(AND(WEEKDAY(AM12)=1,Dimanche),AND(WEEKDAY(AM12)=2,Lundi),AND(WEEKDAY(AM12)=3,Mardi),AND(WEEKDAY(AM12)=4,Mercredi),AND(WEEKDAY(AM12)=5,Jeudi),AND(WEEKDAY(AM12)=6,Vendredi),AND(WEEKDAY(AM12)=7,Samedi),AM12=férié),0,1)","v":1},"JEU","2017-08-10",null,null,{"$f":"IF(OR(AND(WEEKDAY(AR12)=1,Dimanche),AND(WEEKDAY(AR12)=2,Lundi),AND(WEEKDAY(AR12)=3,Mardi),AND(WEEKDAY(AR12)=4,Mercredi),AND(WEEKDAY(AR12)=5,Jeudi),AND(WEEKDAY(AR12)=6,Vendredi),AND(WEEKDAY(AR12)=7,Samedi),AR12=férié),0,1)","v":0},"DIM","2017-09-10",null,null,{"$f":"IF(OR(AND(WEEKDAY(AW12)=1,Dimanche),AND(WEEKDAY(AW12)=2,Lundi),AND(WEEKDAY(AW12)=3,Mardi),AND(WEEKDAY(AW12)=4,Mercredi),AND(WEEKDAY(AW12)=5,Jeudi),AND(WEEKDAY(AW12)=6,Vendredi),AND(WEEKDAY(AW12)=7,Samedi),AW12=férié),0,1)","v":1},"MAR","2017-10-10",null,null,{"$f":"IF(OR(AND(WEEKDAY(BB12)=1,Dimanche),AND(WEEKDAY(BB12)=2,Lundi),AND(WEEKDAY(BB12)=3,Mardi),AND(WEEKDAY(BB12)=4,Mercredi),AND(WEEKDAY(BB12)=5,Jeudi),AND(WEEKDAY(BB12)=6,Vendredi),AND(WEEKDAY(BB12)=7,Samedi),BB12=férié),0,1)","v":1},"VEN","2017-11-10",null,null,{"$f":"IF(OR(AND(WEEKDAY(BG12)=1,Dimanche),AND(WEEKDAY(BG12)=2,Lundi),AND(WEEKDAY(BG12)=3,Mardi),AND(WEEKDAY(BG12)=4,Mercredi),AND(WEEKDAY(BG12)=5,Jeudi),AND(WEEKDAY(BG12)=6,Vendredi),AND(WEEKDAY(BG12)=7,Samedi),BG12=férié),0,1)","v":0},"DIM","2017-12-10"]
[null,{"$f":"IF(OR(AND(WEEKDAY(D13)=1,Dimanche),AND(WEEKDAY(D13)=2,Lundi),AND(WEEKDAY(D13)=3,Mardi),AND(WEEKDAY(D13)=4,Mercredi),AND(WEEKDAY(D13)=5,Jeudi),AND(WEEKDAY(D13)=6,Vendredi),AND(WEEKDAY(D13)=7,Samedi),D13=férié),0,1)","v":1},"MER","2017-01-11",null,null,{"$f":"IF(OR(AND(WEEKDAY(I13)=1,Dimanche),AND(WEEKDAY(I13)=2,Lundi),AND(WEEKDAY(I13)=3,Mardi),AND(WEEKDAY(I13)=4,Mercredi),AND(WEEKDAY(I13)=5,Jeudi),AND(WEEKDAY(I13)=6,Vendredi),AND(WEEKDAY(I13)=7,Samedi),I13=férié),0,1)","v":0},"SAM","2017-02-11",null,null,{"$f":"IF(OR(AND(WEEKDAY(N13)=1,Dimanche),AND(WEEKDAY(N13)=2,Lundi),AND(WEEKDAY(N13)=3,Mardi),AND(WEEKDAY(N13)=4,Mercredi),AND(WEEKDAY(N13)=5,Jeudi),AND(WEEKDAY(N13)=6,Vendredi),AND(WEEKDAY(N13)=7,Samedi),N13=férié),0,1)","v":0},"SAM","2017-03-11",null,null,{"$f":"IF(OR(AND(WEEKDAY(S13)=1,Dimanche),AND(WEEKDAY(S13)=2,Lundi),AND(WEEKDAY(S13)=3,Mardi),AND(WEEKDAY(S13)=4,Mercredi),AND(WEEKDAY(S13)=5,Jeudi),AND(WEEKDAY(S13)=6,Vendredi),AND(WEEKDAY(S13)=7,Samedi),S13=férié),0,1)","v":1},"MAR","2017-04-11",null,null,{"$f":"IF(OR(AND(WEEKDAY(X13)=1,Dimanche),AND(WEEKDAY(X13)=2,Lundi),AND(WEEKDAY(X13)=3,Mardi),AND(WEEKDAY(X13)=4,Mercredi),AND(WEEKDAY(X13)=5,Jeudi),AND(WEEKDAY(X13)=6,Vendredi),AND(WEEKDAY(X13)=7,Samedi),X13=férié),0,1)","v":1},"JEU","2017-05-11",null,null,{"$f":"IF(OR(AND(WEEKDAY(AC13)=1,Dimanche),AND(WEEKDAY(AC13)=2,Lundi),AND(WEEKDAY(AC13)=3,Mardi),AND(WEEKDAY(AC13)=4,Mercredi),AND(WEEKDAY(AC13)=5,Jeudi),AND(WEEKDAY(AC13)=6,Vendredi),AND(WEEKDAY(AC13)=7,Samedi),AC13=férié),0,1)","v":0},"DIM","2017-06-11",null,null,{"$f":"IF(OR(AND(WEEKDAY(AH13)=1,Dimanche),AND(WEEKDAY(AH13)=2,Lundi),AND(WEEKDAY(AH13)=3,Mardi),AND(WEEKDAY(AH13)=4,Mercredi),AND(WEEKDAY(AH13)=5,Jeudi),AND(WEEKDAY(AH13)=6,Vendredi),AND(WEEKDAY(AH13)=7,Samedi),AH13=férié),0,1)","v":1},"MAR","2017-07-11",null,null,{"$f":"IF(OR(AND(WEEKDAY(AM13)=1,Dimanche),AND(WEEKDAY(AM13)=2,Lundi),AND(WEEKDAY(AM13)=3,Mardi),AND(WEEKDAY(AM13)=4,Mercredi),AND(WEEKDAY(AM13)=5,Jeudi),AND(WEEKDAY(AM13)=6,Vendredi),AND(WEEKDAY(AM13)=7,Samedi),AM13=férié),0,1)","v":1},"VEN","2017-08-11",null,null,{"$f":"IF(OR(AND(WEEKDAY(AR13)=1,Dimanche),AND(WEEKDAY(AR13)=2,Lundi),AND(WEEKDAY(AR13)=3,Mardi),AND(WEEKDAY(AR13)=4,Mercredi),AND(WEEKDAY(AR13)=5,Jeudi),AND(WEEKDAY(AR13)=6,Vendredi),AND(WEEKDAY(AR13)=7,Samedi),AR13=férié),0,1)","v":1},"LUN","2017-09-11",null,null,{"$f":"IF(OR(AND(WEEKDAY(AW13)=1,Dimanche),AND(WEEKDAY(AW13)=2,Lundi),AND(WEEKDAY(AW13)=3,Mardi),AND(WEEKDAY(AW13)=4,Mercredi),AND(WEEKDAY(AW13)=5,Jeudi),AND(WEEKDAY(AW13)=6,Vendredi),AND(WEEKDAY(AW13)=7,Samedi),AW13=férié),0,1)","v":1},"MER","2017-10-11",null,null,{"$f":"IF(OR(AND(WEEKDAY(BB13)=1,Dimanche),AND(WEEKDAY(BB13)=2,Lundi),AND(WEEKDAY(BB13)=3,Mardi),AND(WEEKDAY(BB13)=4,Mercredi),AND(WEEKDAY(BB13)=5,Jeudi),AND(WEEKDAY(BB13)=6,Vendredi),AND(WEEKDAY(BB13)=7,Samedi),BB13=férié),0,1)","v":0},"SAM","2017-11-11",null,null,{"$f":"IF(OR(AND(WEEKDAY(BG13)=1,Dimanche),AND(WEEKDAY(BG13)=2,Lundi),AND(WEEKDAY(BG13)=3,Mardi),AND(WEEKDAY(BG13)=4,Mercredi),AND(WEEKDAY(BG13)=5,Jeudi),AND(WEEKDAY(BG13)=6,Vendredi),AND(WEEKDAY(BG13)=7,Samedi),BG13=férié),0,1)","v":1},"LUN","2017-12-11"]
[null,{"$f":"IF(OR(AND(WEEKDAY(D14)=1,Dimanche),AND(WEEKDAY(D14)=2,Lundi),AND(WEEKDAY(D14)=3,Mardi),AND(WEEKDAY(D14)=4,Mercredi),AND(WEEKDAY(D14)=5,Jeudi),AND(WEEKDAY(D14)=6,Vendredi),AND(WEEKDAY(D14)=7,Samedi),D14=férié),0,1)","v":1},"JEU","2017-01-12",null,null,{"$f":"IF(OR(AND(WEEKDAY(I14)=1,Dimanche),AND(WEEKDAY(I14)=2,Lundi),AND(WEEKDAY(I14)=3,Mardi),AND(WEEKDAY(I14)=4,Mercredi),AND(WEEKDAY(I14)=5,Jeudi),AND(WEEKDAY(I14)=6,Vendredi),AND(WEEKDAY(I14)=7,Samedi),I14=férié),0,1)","v":0},"DIM","2017-02-12",null,null,{"$f":"IF(OR(AND(WEEKDAY(N14)=1,Dimanche),AND(WEEKDAY(N14)=2,Lundi),AND(WEEKDAY(N14)=3,Mardi),AND(WEEKDAY(N14)=4,Mercredi),AND(WEEKDAY(N14)=5,Jeudi),AND(WEEKDAY(N14)=6,Vendredi),AND(WEEKDAY(N14)=7,Samedi),N14=férié),0,1)","v":0},"DIM","2017-03-12",null,null,{"$f":"IF(OR(AND(WEEKDAY(S14)=1,Dimanche),AND(WEEKDAY(S14)=2,Lundi),AND(WEEKDAY(S14)=3,Mardi),AND(WEEKDAY(S14)=4,Mercredi),AND(WEEKDAY(S14)=5,Jeudi),AND(WEEKDAY(S14)=6,Vendredi),AND(WEEKDAY(S14)=7,Samedi),S14=férié),0,1)","v":1},"MER","2017-04-12",null,null,{"$f":"IF(OR(AND(WEEKDAY(X14)=1,Dimanche),AND(WEEKDAY(X14)=2,Lundi),AND(WEEKDAY(X14)=3,Mardi),AND(WEEKDAY(X14)=4,Mercredi),AND(WEEKDAY(X14)=5,Jeudi),AND(WEEKDAY(X14)=6,Vendredi),AND(WEEKDAY(X14)=7,Samedi),X14=férié),0,1)","v":1},"VEN","2017-05-12",null,null,{"$f":"IF(OR(AND(WEEKDAY(AC14)=1,Dimanche),AND(WEEKDAY(AC14)=2,Lundi),AND(WEEKDAY(AC14)=3,Mardi),AND(WEEKDAY(AC14)=4,Mercredi),AND(WEEKDAY(AC14)=5,Jeudi),AND(WEEKDAY(AC14)=6,Vendredi),AND(WEEKDAY(AC14)=7,Samedi),AC14=férié),0,1)","v":1},"LUN","2017-06-12",null,null,{"$f":"IF(OR(AND(WEEKDAY(AH14)=1,Dimanche),AND(WEEKDAY(AH14)=2,Lundi),AND(WEEKDAY(AH14)=3,Mardi),AND(WEEKDAY(AH14)=4,Mercredi),AND(WEEKDAY(AH14)=5,Jeudi),AND(WEEKDAY(AH14)=6,Vendredi),AND(WEEKDAY(AH14)=7,Samedi),AH14=férié),0,1)","v":1},"MER","2017-07-12",null,null,{"$f":"IF(OR(AND(WEEKDAY(AM14)=1,Dimanche),AND(WEEKDAY(AM14)=2,Lundi),AND(WEEKDAY(AM14)=3,Mardi),AND(WEEKDAY(AM14)=4,Mercredi),AND(WEEKDAY(AM14)=5,Jeudi),AND(WEEKDAY(AM14)=6,Vendredi),AND(WEEKDAY(AM14)=7,Samedi),AM14=férié),0,1)","v":0},"SAM","2017-08-12",null,null,{"$f":"IF(OR(AND(WEEKDAY(AR14)=1,Dimanche),AND(WEEKDAY(AR14)=2,Lundi),AND(WEEKDAY(AR14)=3,Mardi),AND(WEEKDAY(AR14)=4,Mercredi),AND(WEEKDAY(AR14)=5,Jeudi),AND(WEEKDAY(AR14)=6,Vendredi),AND(WEEKDAY(AR14)=7,Samedi),AR14=férié),0,1)","v":1},"MAR","2017-09-12",null,null,{"$f":"IF(OR(AND(WEEKDAY(AW14)=1,Dimanche),AND(WEEKDAY(AW14)=2,Lundi),AND(WEEKDAY(AW14)=3,Mardi),AND(WEEKDAY(AW14)=4,Mercredi),AND(WEEKDAY(AW14)=5,Jeudi),AND(WEEKDAY(AW14)=6,Vendredi),AND(WEEKDAY(AW14)=7,Samedi),AW14=férié),0,1)","v":1},"JEU","2017-10-12",null,null,{"$f":"IF(OR(AND(WEEKDAY(BB14)=1,Dimanche),AND(WEEKDAY(BB14)=2,Lundi),AND(WEEKDAY(BB14)=3,Mardi),AND(WEEKDAY(BB14)=4,Mercredi),AND(WEEKDAY(BB14)=5,Jeudi),AND(WEEKDAY(BB14)=6,Vendredi),AND(WEEKDAY(BB14)=7,Samedi),BB14=férié),0,1)","v":0},"DIM","2017-11-12",null,null,{"$f":"IF(OR(AND(WEEKDAY(BG14)=1,Dimanche),AND(WEEKDAY(BG14)=2,Lundi),AND(WEEKDAY(BG14)=3,Mardi),AND(WEEKDAY(BG14)=4,Mercredi),AND(WEEKDAY(BG14)=5,Jeudi),AND(WEEKDAY(BG14)=6,Vendredi),AND(WEEKDAY(BG14)=7,Samedi),BG14=férié),0,1)","v":1},"MAR","2017-12-12"]
[null,{"$f":"IF(OR(AND(WEEKDAY(D15)=1,Dimanche),AND(WEEKDAY(D15)=2,Lundi),AND(WEEKDAY(D15)=3,Mardi),AND(WEEKDAY(D15)=4,Mercredi),AND(WEEKDAY(D15)=5,Jeudi),AND(WEEKDAY(D15)=6,Vendredi),AND(WEEKDAY(D15)=7,Samedi),D15=férié),0,1)","v":1},"VEN","2017-01-13",null,null,{"$f":"IF(OR(AND(WEEKDAY(I15)=1,Dimanche),AND(WEEKDAY(I15)=2,Lundi),AND(WEEKDAY(I15)=3,Mardi),AND(WEEKDAY(I15)=4,Mercredi),AND(WEEKDAY(I15)=5,Jeudi),AND(WEEKDAY(I15)=6,Vendredi),AND(WEEKDAY(I15)=7,Samedi),I15=férié),0,1)","v":1},"LUN","2017-02-13",null,null,{"$f":"IF(OR(AND(WEEKDAY(N15)=1,Dimanche),AND(WEEKDAY(N15)=2,Lundi),AND(WEEKDAY(N15)=3,Mardi),AND(WEEKDAY(N15)=4,Mercredi),AND(WEEKDAY(N15)=5,Jeudi),AND(WEEKDAY(N15)=6,Vendredi),AND(WEEKDAY(N15)=7,Samedi),N15=férié),0,1)","v":1},"LUN","2017-03-13",null,null,{"$f":"IF(OR(AND(WEEKDAY(S15)=1,Dimanche),AND(WEEKDAY(S15)=2,Lundi),AND(WEEKDAY(S15)=3,Mardi),AND(WEEKDAY(S15)=4,Mercredi),AND(WEEKDAY(S15)=5,Jeudi),AND(WEEKDAY(S15)=6,Vendredi),AND(WEEKDAY(S15)=7,Samedi),S15=férié),0,1)","v":1},"JEU","2017-04-13",null,null,{"$f":"IF(OR(AND(WEEKDAY(X15)=1,Dimanche),AND(WEEKDAY(X15)=2,Lundi),AND(WEEKDAY(X15)=3,Mardi),AND(WEEKDAY(X15)=4,Mercredi),AND(WEEKDAY(X15)=5,Jeudi),AND(WEEKDAY(X15)=6,Vendredi),AND(WEEKDAY(X15)=7,Samedi),X15=férié),0,1)","v":0},"SAM","2017-05-13",null,null,{"$f":"IF(OR(AND(WEEKDAY(AC15)=1,Dimanche),AND(WEEKDAY(AC15)=2,Lundi),AND(WEEKDAY(AC15)=3,Mardi),AND(WEEKDAY(AC15)=4,Mercredi),AND(WEEKDAY(AC15)=5,Jeudi),AND(WEEKDAY(AC15)=6,Vendredi),AND(WEEKDAY(AC15)=7,Samedi),AC15=férié),0,1)","v":1},"MAR","2017-06-13",null,null,{"$f":"IF(OR(AND(WEEKDAY(AH15)=1,Dimanche),AND(WEEKDAY(AH15)=2,Lundi),AND(WEEKDAY(AH15)=3,Mardi),AND(WEEKDAY(AH15)=4,Mercredi),AND(WEEKDAY(AH15)=5,Jeudi),AND(WEEKDAY(AH15)=6,Vendredi),AND(WEEKDAY(AH15)=7,Samedi),AH15=férié),0,1)","v":1},"JEU","2017-07-13",null,null,{"$f":"IF(OR(AND(WEEKDAY(AM15)=1,Dimanche),AND(WEEKDAY(AM15)=2,Lundi),AND(WEEKDAY(AM15)=3,Mardi),AND(WEEKDAY(AM15)=4,Mercredi),AND(WEEKDAY(AM15)=5,Jeudi),AND(WEEKDAY(AM15)=6,Vendredi),AND(WEEKDAY(AM15)=7,Samedi),AM15=férié),0,1)","v":0},"DIM","2017-08-13",null,null,{"$f":"IF(OR(AND(WEEKDAY(AR15)=1,Dimanche),AND(WEEKDAY(AR15)=2,Lundi),AND(WEEKDAY(AR15)=3,Mardi),AND(WEEKDAY(AR15)=4,Mercredi),AND(WEEKDAY(AR15)=5,Jeudi),AND(WEEKDAY(AR15)=6,Vendredi),AND(WEEKDAY(AR15)=7,Samedi),AR15=férié),0,1)","v":1},"MER","2017-09-13",null,null,{"$f":"IF(OR(AND(WEEKDAY(AW15)=1,Dimanche),AND(WEEKDAY(AW15)=2,Lundi),AND(WEEKDAY(AW15)=3,Mardi),AND(WEEKDAY(AW15)=4,Mercredi),AND(WEEKDAY(AW15)=5,Jeudi),AND(WEEKDAY(AW15)=6,Vendredi),AND(WEEKDAY(AW15)=7,Samedi),AW15=férié),0,1)","v":1},"VEN","2017-10-13",null,null,{"$f":"IF(OR(AND(WEEKDAY(BB15)=1,Dimanche),AND(WEEKDAY(BB15)=2,Lundi),AND(WEEKDAY(BB15)=3,Mardi),AND(WEEKDAY(BB15)=4,Mercredi),AND(WEEKDAY(BB15)=5,Jeudi),AND(WEEKDAY(BB15)=6,Vendredi),AND(WEEKDAY(BB15)=7,Samedi),BB15=férié),0,1)","v":1},"LUN","2017-11-13",null,null,{"$f":"IF(OR(AND(WEEKDAY(BG15)=1,Dimanche),AND(WEEKDAY(BG15)=2,Lundi),AND(WEEKDAY(BG15)=3,Mardi),AND(WEEKDAY(BG15)=4,Mercredi),AND(WEEKDAY(BG15)=5,Jeudi),AND(WEEKDAY(BG15)=6,Vendredi),AND(WEEKDAY(BG15)=7,Samedi),BG15=férié),0,1)","v":1},"MER","2017-12-13"]
[null,{"$f":"IF(OR(AND(WEEKDAY(D16)=1,Dimanche),AND(WEEKDAY(D16)=2,Lundi),AND(WEEKDAY(D16)=3,Mardi),AND(WEEKDAY(D16)=4,Mercredi),AND(WEEKDAY(D16)=5,Jeudi),AND(WEEKDAY(D16)=6,Vendredi),AND(WEEKDAY(D16)=7,Samedi),D16=férié),0,1)","v":0},"SAM","2017-01-14",null,null,{"$f":"IF(OR(AND(WEEKDAY(I16)=1,Dimanche),AND(WEEKDAY(I16)=2,Lundi),AND(WEEKDAY(I16)=3,Mardi),AND(WEEKDAY(I16)=4,Mercredi),AND(WEEKDAY(I16)=5,Jeudi),AND(WEEKDAY(I16)=6,Vendredi),AND(WEEKDAY(I16)=7,Samedi),I16=férié),0,1)","v":1},"MAR","2017-02-14",null,null,{"$f":"IF(OR(AND(WEEKDAY(N16)=1,Dimanche),AND(WEEKDAY(N16)=2,Lundi),AND(WEEKDAY(N16)=3,Mardi),AND(WEEKDAY(N16)=4,Mercredi),AND(WEEKDAY(N16)=5,Jeudi),AND(WEEKDAY(N16)=6,Vendredi),AND(WEEKDAY(N16)=7,Samedi),N16=férié),0,1)","v":1},"MAR","2017-03-14",null,null,{"$f":"IF(OR(AND(WEEKDAY(S16)=1,Dimanche),AND(WEEKDAY(S16)=2,Lundi),AND(WEEKDAY(S16)=3,Mardi),AND(WEEKDAY(S16)=4,Mercredi),AND(WEEKDAY(S16)=5,Jeudi),AND(WEEKDAY(S16)=6,Vendredi),AND(WEEKDAY(S16)=7,Samedi),S16=férié),0,1)","v":1},"VEN","2017-04-14",null,null,{"$f":"IF(OR(AND(WEEKDAY(X16)=1,Dimanche),AND(WEEKDAY(X16)=2,Lundi),AND(WEEKDAY(X16)=3,Mardi),AND(WEEKDAY(X16)=4,Mercredi),AND(WEEKDAY(X16)=5,Jeudi),AND(WEEKDAY(X16)=6,Vendredi),AND(WEEKDAY(X16)=7,Samedi),X16=férié),0,1)","v":0},"DIM","2017-05-14",null,null,{"$f":"IF(OR(AND(WEEKDAY(AC16)=1,Dimanche),AND(WEEKDAY(AC16)=2,Lundi),AND(WEEKDAY(AC16)=3,Mardi),AND(WEEKDAY(AC16)=4,Mercredi),AND(WEEKDAY(AC16)=5,Jeudi),AND(WEEKDAY(AC16)=6,Vendredi),AND(WEEKDAY(AC16)=7,Samedi),AC16=férié),0,1)","v":1},"MER","2017-06-14",null,null,{"$f":"IF(OR(AND(WEEKDAY(AH16)=1,Dimanche),AND(WEEKDAY(AH16)=2,Lundi),AND(WEEKDAY(AH16)=3,Mardi),AND(WEEKDAY(AH16)=4,Mercredi),AND(WEEKDAY(AH16)=5,Jeudi),AND(WEEKDAY(AH16)=6,Vendredi),AND(WEEKDAY(AH16)=7,Samedi),AH16=férié),0,1)","v":0},"VEN","2017-07-14",null,null,{"$f":"IF(OR(AND(WEEKDAY(AM16)=1,Dimanche),AND(WEEKDAY(AM16)=2,Lundi),AND(WEEKDAY(AM16)=3,Mardi),AND(WEEKDAY(AM16)=4,Mercredi),AND(WEEKDAY(AM16)=5,Jeudi),AND(WEEKDAY(AM16)=6,Vendredi),AND(WEEKDAY(AM16)=7,Samedi),AM16=férié),0,1)","v":1},"LUN","2017-08-14",null,null,{"$f":"IF(OR(AND(WEEKDAY(AR16)=1,Dimanche),AND(WEEKDAY(AR16)=2,Lundi),AND(WEEKDAY(AR16)=3,Mardi),AND(WEEKDAY(AR16)=4,Mercredi),AND(WEEKDAY(AR16)=5,Jeudi),AND(WEEKDAY(AR16)=6,Vendredi),AND(WEEKDAY(AR16)=7,Samedi),AR16=férié),0,1)","v":1},"JEU","2017-09-14",null,null,{"$f":"IF(OR(AND(WEEKDAY(AW16)=1,Dimanche),AND(WEEKDAY(AW16)=2,Lundi),AND(WEEKDAY(AW16)=3,Mardi),AND(WEEKDAY(AW16)=4,Mercredi),AND(WEEKDAY(AW16)=5,Jeudi),AND(WEEKDAY(AW16)=6,Vendredi),AND(WEEKDAY(AW16)=7,Samedi),AW16=férié),0,1)","v":0},"SAM","2017-10-14",null,null,{"$f":"IF(OR(AND(WEEKDAY(BB16)=1,Dimanche),AND(WEEKDAY(BB16)=2,Lundi),AND(WEEKDAY(BB16)=3,Mardi),AND(WEEKDAY(BB16)=4,Mercredi),AND(WEEKDAY(BB16)=5,Jeudi),AND(WEEKDAY(BB16)=6,Vendredi),AND(WEEKDAY(BB16)=7,Samedi),BB16=férié),0,1)","v":1},"MAR","2017-11-14",null,null,{"$f":"IF(OR(AND(WEEKDAY(BG16)=1,Dimanche),AND(WEEKDAY(BG16)=2,Lundi),AND(WEEKDAY(BG16)=3,Mardi),AND(WEEKDAY(BG16)=4,Mercredi),AND(WEEKDAY(BG16)=5,Jeudi),AND(WEEKDAY(BG16)=6,Vendredi),AND(WEEKDAY(BG16)=7,Samedi),BG16=férié),0,1)","v":1},"JEU","2017-12-14"]
[null,{"$f":"IF(OR(AND(WEEKDAY(D17)=1,Dimanche),AND(WEEKDAY(D17)=2,Lundi),AND(WEEKDAY(D17)=3,Mardi),AND(WEEKDAY(D17)=4,Mercredi),AND(WEEKDAY(D17)=5,Jeudi),AND(WEEKDAY(D17)=6,Vendredi),AND(WEEKDAY(D17)=7,Samedi),D17=férié),0,1)","v":0},"DIM","2017-01-15",null,null,{"$f":"IF(OR(AND(WEEKDAY(I17)=1,Dimanche),AND(WEEKDAY(I17)=2,Lundi),AND(WEEKDAY(I17)=3,Mardi),AND(WEEKDAY(I17)=4,Mercredi),AND(WEEKDAY(I17)=5,Jeudi),AND(WEEKDAY(I17)=6,Vendredi),AND(WEEKDAY(I17)=7,Samedi),I17=férié),0,1)","v":1},"MER","2017-02-15",null,null,{"$f":"IF(OR(AND(WEEKDAY(N17)=1,Dimanche),AND(WEEKDAY(N17)=2,Lundi),AND(WEEKDAY(N17)=3,Mardi),AND(WEEKDAY(N17)=4,Mercredi),AND(WEEKDAY(N17)=5,Jeudi),AND(WEEKDAY(N17)=6,Vendredi),AND(WEEKDAY(N17)=7,Samedi),N17=férié),0,1)","v":1},"MER","2017-03-15",null,null,{"$f":"IF(OR(AND(WEEKDAY(S17)=1,Dimanche),AND(WEEKDAY(S17)=2,Lundi),AND(WEEKDAY(S17)=3,Mardi),AND(WEEKDAY(S17)=4,Mercredi),AND(WEEKDAY(S17)=5,Jeudi),AND(WEEKDAY(S17)=6,Vendredi),AND(WEEKDAY(S17)=7,Samedi),S17=férié),0,1)","v":0},"SAM","2017-04-15",null,null,{"$f":"IF(OR(AND(WEEKDAY(X17)=1,Dimanche),AND(WEEKDAY(X17)=2,Lundi),AND(WEEKDAY(X17)=3,Mardi),AND(WEEKDAY(X17)=4,Mercredi),AND(WEEKDAY(X17)=5,Jeudi),AND(WEEKDAY(X17)=6,Vendredi),AND(WEEKDAY(X17)=7,Samedi),X17=férié),0,1)","v":1},"LUN","2017-05-15",null,null,{"$f":"IF(OR(AND(WEEKDAY(AC17)=1,Dimanche),AND(WEEKDAY(AC17)=2,Lundi),AND(WEEKDAY(AC17)=3,Mardi),AND(WEEKDAY(AC17)=4,Mercredi),AND(WEEKDAY(AC17)=5,Jeudi),AND(WEEKDAY(AC17)=6,Vendredi),AND(WEEKDAY(AC17)=7,Samedi),AC17=férié),0,1)","v":1},"JEU","2017-06-15",null,null,{"$f":"IF(OR(AND(WEEKDAY(AH17)=1,Dimanche),AND(WEEKDAY(AH17)=2,Lundi),AND(WEEKDAY(AH17)=3,Mardi),AND(WEEKDAY(AH17)=4,Mercredi),AND(WEEKDAY(AH17)=5,Jeudi),AND(WEEKDAY(AH17)=6,Vendredi),AND(WEEKDAY(AH17)=7,Samedi),AH17=férié),0,1)","v":0},"SAM","2017-07-15",null,null,{"$f":"IF(OR(AND(WEEKDAY(AM17)=1,Dimanche),AND(WEEKDAY(AM17)=2,Lundi),AND(WEEKDAY(AM17)=3,Mardi),AND(WEEKDAY(AM17)=4,Mercredi),AND(WEEKDAY(AM17)=5,Jeudi),AND(WEEKDAY(AM17)=6,Vendredi),AND(WEEKDAY(AM17)=7,Samedi),AM17=férié),0,1)","v":0},"MAR","2017-08-15",null,null,{"$f":"IF(OR(AND(WEEKDAY(AR17)=1,Dimanche),AND(WEEKDAY(AR17)=2,Lundi),AND(WEEKDAY(AR17)=3,Mardi),AND(WEEKDAY(AR17)=4,Mercredi),AND(WEEKDAY(AR17)=5,Jeudi),AND(WEEKDAY(AR17)=6,Vendredi),AND(WEEKDAY(AR17)=7,Samedi),AR17=férié),0,1)","v":1},"VEN","2017-09-15",null,null,{"$f":"IF(OR(AND(WEEKDAY(AW17)=1,Dimanche),AND(WEEKDAY(AW17)=2,Lundi),AND(WEEKDAY(AW17)=3,Mardi),AND(WEEKDAY(AW17)=4,Mercredi),AND(WEEKDAY(AW17)=5,Jeudi),AND(WEEKDAY(AW17)=6,Vendredi),AND(WEEKDAY(AW17)=7,Samedi),AW17=férié),0,1)","v":0},"DIM","2017-10-15",null,null,{"$f":"IF(OR(AND(WEEKDAY(BB17)=1,Dimanche),AND(WEEKDAY(BB17)=2,Lundi),AND(WEEKDAY(BB17)=3,Mardi),AND(WEEKDAY(BB17)=4,Mercredi),AND(WEEKDAY(BB17)=5,Jeudi),AND(WEEKDAY(BB17)=6,Vendredi),AND(WEEKDAY(BB17)=7,Samedi),BB17=férié),0,1)","v":1},"MER","2017-11-15",null,null,{"$f":"IF(OR(AND(WEEKDAY(BG17)=1,Dimanche),AND(WEEKDAY(BG17)=2,Lundi),AND(WEEKDAY(BG17)=3,Mardi),AND(WEEKDAY(BG17)=4,Mercredi),AND(WEEKDAY(BG17)=5,Jeudi),AND(WEEKDAY(BG17)=6,Vendredi),AND(WEEKDAY(BG17)=7,Samedi),BG17=férié),0,1)","v":1},"VEN","2017-12-15"]
[null,{"$f":"IF(OR(AND(WEEKDAY(D18)=1,Dimanche),AND(WEEKDAY(D18)=2,Lundi),AND(WEEKDAY(D18)=3,Mardi),AND(WEEKDAY(D18)=4,Mercredi),AND(WEEKDAY(D18)=5,Jeudi),AND(WEEKDAY(D18)=6,Vendredi),AND(WEEKDAY(D18)=7,Samedi),D18=férié),0,1)","v":1},"LUN","2017-01-16",null,null,{"$f":"IF(OR(AND(WEEKDAY(I18)=1,Dimanche),AND(WEEKDAY(I18)=2,Lundi),AND(WEEKDAY(I18)=3,Mardi),AND(WEEKDAY(I18)=4,Mercredi),AND(WEEKDAY(I18)=5,Jeudi),AND(WEEKDAY(I18)=6,Vendredi),AND(WEEKDAY(I18)=7,Samedi),I18=férié),0,1)","v":1},"JEU","2017-02-16",null,null,{"$f":"IF(OR(AND(WEEKDAY(N18)=1,Dimanche),AND(WEEKDAY(N18)=2,Lundi),AND(WEEKDAY(N18)=3,Mardi),AND(WEEKDAY(N18)=4,Mercredi),AND(WEEKDAY(N18)=5,Jeudi),AND(WEEKDAY(N18)=6,Vendredi),AND(WEEKDAY(N18)=7,Samedi),N18=férié),0,1)","v":1},"JEU","2017-03-16",null,null,{"$f":"IF(OR(AND(WEEKDAY(S18)=1,Dimanche),AND(WEEKDAY(S18)=2,Lundi),AND(WEEKDAY(S18)=3,Mardi),AND(WEEKDAY(S18)=4,Mercredi),AND(WEEKDAY(S18)=5,Jeudi),AND(WEEKDAY(S18)=6,Vendredi),AND(WEEKDAY(S18)=7,Samedi),S18=férié),0,1)","v":0},"DIM","2017-04-16",null,null,{"$f":"IF(OR(AND(WEEKDAY(X18)=1,Dimanche),AND(WEEKDAY(X18)=2,Lundi),AND(WEEKDAY(X18)=3,Mardi),AND(WEEKDAY(X18)=4,Mercredi),AND(WEEKDAY(X18)=5,Jeudi),AND(WEEKDAY(X18)=6,Vendredi),AND(WEEKDAY(X18)=7,Samedi),X18=férié),0,1)","v":1},"MAR","2017-05-16",null,null,{"$f":"IF(OR(AND(WEEKDAY(AC18)=1,Dimanche),AND(WEEKDAY(AC18)=2,Lundi),AND(WEEKDAY(AC18)=3,Mardi),AND(WEEKDAY(AC18)=4,Mercredi),AND(WEEKDAY(AC18)=5,Jeudi),AND(WEEKDAY(AC18)=6,Vendredi),AND(WEEKDAY(AC18)=7,Samedi),AC18=férié),0,1)","v":1},"VEN","2017-06-16",null,null,{"$f":"IF(OR(AND(WEEKDAY(AH18)=1,Dimanche),AND(WEEKDAY(AH18)=2,Lundi),AND(WEEKDAY(AH18)=3,Mardi),AND(WEEKDAY(AH18)=4,Mercredi),AND(WEEKDAY(AH18)=5,Jeudi),AND(WEEKDAY(AH18)=6,Vendredi),AND(WEEKDAY(AH18)=7,Samedi),AH18=férié),0,1)","v":0},"DIM","2017-07-16",null,null,{"$f":"IF(OR(AND(WEEKDAY(AM18)=1,Dimanche),AND(WEEKDAY(AM18)=2,Lundi),AND(WEEKDAY(AM18)=3,Mardi),AND(WEEKDAY(AM18)=4,Mercredi),AND(WEEKDAY(AM18)=5,Jeudi),AND(WEEKDAY(AM18)=6,Vendredi),AND(WEEKDAY(AM18)=7,Samedi),AM18=férié),0,1)","v":1},"MER","2017-08-16",null,null,{"$f":"IF(OR(AND(WEEKDAY(AR18)=1,Dimanche),AND(WEEKDAY(AR18)=2,Lundi),AND(WEEKDAY(AR18)=3,Mardi),AND(WEEKDAY(AR18)=4,Mercredi),AND(WEEKDAY(AR18)=5,Jeudi),AND(WEEKDAY(AR18)=6,Vendredi),AND(WEEKDAY(AR18)=7,Samedi),AR18=férié),0,1)","v":0},"SAM","2017-09-16",null,null,{"$f":"IF(OR(AND(WEEKDAY(AW18)=1,Dimanche),AND(WEEKDAY(AW18)=2,Lundi),AND(WEEKDAY(AW18)=3,Mardi),AND(WEEKDAY(AW18)=4,Mercredi),AND(WEEKDAY(AW18)=5,Jeudi),AND(WEEKDAY(AW18)=6,Vendredi),AND(WEEKDAY(AW18)=7,Samedi),AW18=férié),0,1)","v":1},"LUN","2017-10-16",null,null,{"$f":"IF(OR(AND(WEEKDAY(BB18)=1,Dimanche),AND(WEEKDAY(BB18)=2,Lundi),AND(WEEKDAY(BB18)=3,Mardi),AND(WEEKDAY(BB18)=4,Mercredi),AND(WEEKDAY(BB18)=5,Jeudi),AND(WEEKDAY(BB18)=6,Vendredi),AND(WEEKDAY(BB18)=7,Samedi),BB18=férié),0,1)","v":1},"JEU","2017-11-16",null,null,{"$f":"IF(OR(AND(WEEKDAY(BG18)=1,Dimanche),AND(WEEKDAY(BG18)=2,Lundi),AND(WEEKDAY(BG18)=3,Mardi),AND(WEEKDAY(BG18)=4,Mercredi),AND(WEEKDAY(BG18)=5,Jeudi),AND(WEEKDAY(BG18)=6,Vendredi),AND(WEEKDAY(BG18)=7,Samedi),BG18=férié),0,1)","v":0},"SAM","2017-12-16"]
[null,{"$f":"IF(OR(AND(WEEKDAY(D19)=1,Dimanche),AND(WEEKDAY(D19)=2,Lundi),AND(WEEKDAY(D19)=3,Mardi),AND(WEEKDAY(D19)=4,Mercredi),AND(WEEKDAY(D19)=5,Jeudi),AND(WEEKDAY(D19)=6,Vendredi),AND(WEEKDAY(D19)=7,Samedi),D19=férié),0,1)","v":1},"MAR","2017-01-17",null,null,{"$f":"IF(OR(AND(WEEKDAY(I19)=1,Dimanche),AND(WEEKDAY(I19)=2,Lundi),AND(WEEKDAY(I19)=3,Mardi),AND(WEEKDAY(I19)=4,Mercredi),AND(WEEKDAY(I19)=5,Jeudi),AND(WEEKDAY(I19)=6,Vendredi),AND(WEEKDAY(I19)=7,Samedi),I19=férié),0,1)","v":1},"VEN","2017-02-17",null,null,{"$f":"IF(OR(AND(WEEKDAY(N19)=1,Dimanche),AND(WEEKDAY(N19)=2,Lundi),AND(WEEKDAY(N19)=3,Mardi),AND(WEEKDAY(N19)=4,Mercredi),AND(WEEKDAY(N19)=5,Jeudi),AND(WEEKDAY(N19)=6,Vendredi),AND(WEEKDAY(N19)=7,Samedi),N19=férié),0,1)","v":1},"VEN","2017-03-17",null,null,{"$f":"IF(OR(AND(WEEKDAY(S19)=1,Dimanche),AND(WEEKDAY(S19)=2,Lundi),AND(WEEKDAY(S19)=3,Mardi),AND(WEEKDAY(S19)=4,Mercredi),AND(WEEKDAY(S19)=5,Jeudi),AND(WEEKDAY(S19)=6,Vendredi),AND(WEEKDAY(S19)=7,Samedi),S19=férié),0,1)","v":0},"LUN","2017-04-17",null,null,{"$f":"IF(OR(AND(WEEKDAY(X19)=1,Dimanche),AND(WEEKDAY(X19)=2,Lundi),AND(WEEKDAY(X19)=3,Mardi),AND(WEEKDAY(X19)=4,Mercredi),AND(WEEKDAY(X19)=5,Jeudi),AND(WEEKDAY(X19)=6,Vendredi),AND(WEEKDAY(X19)=7,Samedi),X19=férié),0,1)","v":1},"MER","2017-05-17",null,null,{"$f":"IF(OR(AND(WEEKDAY(AC19)=1,Dimanche),AND(WEEKDAY(AC19)=2,Lundi),AND(WEEKDAY(AC19)=3,Mardi),AND(WEEKDAY(AC19)=4,Mercredi),AND(WEEKDAY(AC19)=5,Jeudi),AND(WEEKDAY(AC19)=6,Vendredi),AND(WEEKDAY(AC19)=7,Samedi),AC19=férié),0,1)","v":0},"SAM","2017-06-17",null,null,{"$f":"IF(OR(AND(WEEKDAY(AH19)=1,Dimanche),AND(WEEKDAY(AH19)=2,Lundi),AND(WEEKDAY(AH19)=3,Mardi),AND(WEEKDAY(AH19)=4,Mercredi),AND(WEEKDAY(AH19)=5,Jeudi),AND(WEEKDAY(AH19)=6,Vendredi),AND(WEEKDAY(AH19)=7,Samedi),AH19=férié),0,1)","v":1},"LUN","2017-07-17",null,null,{"$f":"IF(OR(AND(WEEKDAY(AM19)=1,Dimanche),AND(WEEKDAY(AM19)=2,Lundi),AND(WEEKDAY(AM19)=3,Mardi),AND(WEEKDAY(AM19)=4,Mercredi),AND(WEEKDAY(AM19)=5,Jeudi),AND(WEEKDAY(AM19)=6,Vendredi),AND(WEEKDAY(AM19)=7,Samedi),AM19=férié),0,1)","v":1},"JEU","2017-08-17",null,null,{"$f":"IF(OR(AND(WEEKDAY(AR19)=1,Dimanche),AND(WEEKDAY(AR19)=2,Lundi),AND(WEEKDAY(AR19)=3,Mardi),AND(WEEKDAY(AR19)=4,Mercredi),AND(WEEKDAY(AR19)=5,Jeudi),AND(WEEKDAY(AR19)=6,Vendredi),AND(WEEKDAY(AR19)=7,Samedi),AR19=férié),0,1)","v":0},"DIM","2017-09-17",null,null,{"$f":"IF(OR(AND(WEEKDAY(AW19)=1,Dimanche),AND(WEEKDAY(AW19)=2,Lundi),AND(WEEKDAY(AW19)=3,Mardi),AND(WEEKDAY(AW19)=4,Mercredi),AND(WEEKDAY(AW19)=5,Jeudi),AND(WEEKDAY(AW19)=6,Vendredi),AND(WEEKDAY(AW19)=7,Samedi),AW19=férié),0,1)","v":1},"MAR","2017-10-17",null,null,{"$f":"IF(OR(AND(WEEKDAY(BB19)=1,Dimanche),AND(WEEKDAY(BB19)=2,Lundi),AND(WEEKDAY(BB19)=3,Mardi),AND(WEEKDAY(BB19)=4,Mercredi),AND(WEEKDAY(BB19)=5,Jeudi),AND(WEEKDAY(BB19)=6,Vendredi),AND(WEEKDAY(BB19)=7,Samedi),BB19=férié),0,1)","v":1},"VEN","2017-11-17",null,null,{"$f":"IF(OR(AND(WEEKDAY(BG19)=1,Dimanche),AND(WEEKDAY(BG19)=2,Lundi),AND(WEEKDAY(BG19)=3,Mardi),AND(WEEKDAY(BG19)=4,Mercredi),AND(WEEKDAY(BG19)=5,Jeudi),AND(WEEKDAY(BG19)=6,Vendredi),AND(WEEKDAY(BG19)=7,Samedi),BG19=férié),0,1)","v":0},"DIM","2017-12-17"]
[null,{"$f":"IF(OR(AND(WEEKDAY(D20)=1,Dimanche),AND(WEEKDAY(D20)=2,Lundi),AND(WEEKDAY(D20)=3,Mardi),AND(WEEKDAY(D20)=4,Mercredi),AND(WEEKDAY(D20)=5,Jeudi),AND(WEEKDAY(D20)=6,Vendredi),AND(WEEKDAY(D20)=7,Samedi),D20=férié),0,1)","v":1},"MER","2017-01-18",null,null,{"$f":"IF(OR(AND(WEEKDAY(I20)=1,Dimanche),AND(WEEKDAY(I20)=2,Lundi),AND(WEEKDAY(I20)=3,Mardi),AND(WEEKDAY(I20)=4,Mercredi),AND(WEEKDAY(I20)=5,Jeudi),AND(WEEKDAY(I20)=6,Vendredi),AND(WEEKDAY(I20)=7,Samedi),I20=férié),0,1)","v":0},"SAM","2017-02-18",null,null,{"$f":"IF(OR(AND(WEEKDAY(N20)=1,Dimanche),AND(WEEKDAY(N20)=2,Lundi),AND(WEEKDAY(N20)=3,Mardi),AND(WEEKDAY(N20)=4,Mercredi),AND(WEEKDAY(N20)=5,Jeudi),AND(WEEKDAY(N20)=6,Vendredi),AND(WEEKDAY(N20)=7,Samedi),N20=férié),0,1)","v":0},"SAM","2017-03-18",null,null,{"$f":"IF(OR(AND(WEEKDAY(S20)=1,Dimanche),AND(WEEKDAY(S20)=2,Lundi),AND(WEEKDAY(S20)=3,Mardi),AND(WEEKDAY(S20)=4,Mercredi),AND(WEEKDAY(S20)=5,Jeudi),AND(WEEKDAY(S20)=6,Vendredi),AND(WEEKDAY(S20)=7,Samedi),S20=férié),0,1)","v":1},"MAR","2017-04-18",null,null,{"$f":"IF(OR(AND(WEEKDAY(X20)=1,Dimanche),AND(WEEKDAY(X20)=2,Lundi),AND(WEEKDAY(X20)=3,Mardi),AND(WEEKDAY(X20)=4,Mercredi),AND(WEEKDAY(X20)=5,Jeudi),AND(WEEKDAY(X20)=6,Vendredi),AND(WEEKDAY(X20)=7,Samedi),X20=férié),0,1)","v":1},"JEU","2017-05-18",null,null,{"$f":"IF(OR(AND(WEEKDAY(AC20)=1,Dimanche),AND(WEEKDAY(AC20)=2,Lundi),AND(WEEKDAY(AC20)=3,Mardi),AND(WEEKDAY(AC20)=4,Mercredi),AND(WEEKDAY(AC20)=5,Jeudi),AND(WEEKDAY(AC20)=6,Vendredi),AND(WEEKDAY(AC20)=7,Samedi),AC20=férié),0,1)","v":0},"DIM","2017-06-18",null,null,{"$f":"IF(OR(AND(WEEKDAY(AH20)=1,Dimanche),AND(WEEKDAY(AH20)=2,Lundi),AND(WEEKDAY(AH20)=3,Mardi),AND(WEEKDAY(AH20)=4,Mercredi),AND(WEEKDAY(AH20)=5,Jeudi),AND(WEEKDAY(AH20)=6,Vendredi),AND(WEEKDAY(AH20)=7,Samedi),AH20=férié),0,1)","v":1},"MAR","2017-07-18",null,null,{"$f":"IF(OR(AND(WEEKDAY(AM20)=1,Dimanche),AND(WEEKDAY(AM20)=2,Lundi),AND(WEEKDAY(AM20)=3,Mardi),AND(WEEKDAY(AM20)=4,Mercredi),AND(WEEKDAY(AM20)=5,Jeudi),AND(WEEKDAY(AM20)=6,Vendredi),AND(WEEKDAY(AM20)=7,Samedi),AM20=férié),0,1)","v":1},"VEN","2017-08-18",null,null,{"$f":"IF(OR(AND(WEEKDAY(AR20)=1,Dimanche),AND(WEEKDAY(AR20)=2,Lundi),AND(WEEKDAY(AR20)=3,Mardi),AND(WEEKDAY(AR20)=4,Mercredi),AND(WEEKDAY(AR20)=5,Jeudi),AND(WEEKDAY(AR20)=6,Vendredi),AND(WEEKDAY(AR20)=7,Samedi),AR20=férié),0,1)","v":1},"LUN","2017-09-18",null,null,{"$f":"IF(OR(AND(WEEKDAY(AW20)=1,Dimanche),AND(WEEKDAY(AW20)=2,Lundi),AND(WEEKDAY(AW20)=3,Mardi),AND(WEEKDAY(AW20)=4,Mercredi),AND(WEEKDAY(AW20)=5,Jeudi),AND(WEEKDAY(AW20)=6,Vendredi),AND(WEEKDAY(AW20)=7,Samedi),AW20=férié),0,1)","v":1},"MER","2017-10-18",null,null,{"$f":"IF(OR(AND(WEEKDAY(BB20)=1,Dimanche),AND(WEEKDAY(BB20)=2,Lundi),AND(WEEKDAY(BB20)=3,Mardi),AND(WEEKDAY(BB20)=4,Mercredi),AND(WEEKDAY(BB20)=5,Jeudi),AND(WEEKDAY(BB20)=6,Vendredi),AND(WEEKDAY(BB20)=7,Samedi),BB20=férié),0,1)","v":0},"SAM","2017-11-18",null,null,{"$f":"IF(OR(AND(WEEKDAY(BG20)=1,Dimanche),AND(WEEKDAY(BG20)=2,Lundi),AND(WEEKDAY(BG20)=3,Mardi),AND(WEEKDAY(BG20)=4,Mercredi),AND(WEEKDAY(BG20)=5,Jeudi),AND(WEEKDAY(BG20)=6,Vendredi),AND(WEEKDAY(BG20)=7,Samedi),BG20=férié),0,1)","v":1},"LUN","2017-12-18"]
[null,{"$f":"IF(OR(AND(WEEKDAY(D21)=1,Dimanche),AND(WEEKDAY(D21)=2,Lundi),AND(WEEKDAY(D21)=3,Mardi),AND(WEEKDAY(D21)=4,Mercredi),AND(WEEKDAY(D21)=5,Jeudi),AND(WEEKDAY(D21)=6,Vendredi),AND(WEEKDAY(D21)=7,Samedi),D21=férié),0,1)","v":1},"JEU","2017-01-19",null,null,{"$f":"IF(OR(AND(WEEKDAY(I21)=1,Dimanche),AND(WEEKDAY(I21)=2,Lundi),AND(WEEKDAY(I21)=3,Mardi),AND(WEEKDAY(I21)=4,Mercredi),AND(WEEKDAY(I21)=5,Jeudi),AND(WEEKDAY(I21)=6,Vendredi),AND(WEEKDAY(I21)=7,Samedi),I21=férié),0,1)","v":0},"DIM","2017-02-19",null,null,{"$f":"IF(OR(AND(WEEKDAY(N21)=1,Dimanche),AND(WEEKDAY(N21)=2,Lundi),AND(WEEKDAY(N21)=3,Mardi),AND(WEEKDAY(N21)=4,Mercredi),AND(WEEKDAY(N21)=5,Jeudi),AND(WEEKDAY(N21)=6,Vendredi),AND(WEEKDAY(N21)=7,Samedi),N21=férié),0,1)","v":0},"DIM","2017-03-19",null,null,{"$f":"IF(OR(AND(WEEKDAY(S21)=1,Dimanche),AND(WEEKDAY(S21)=2,Lundi),AND(WEEKDAY(S21)=3,Mardi),AND(WEEKDAY(S21)=4,Mercredi),AND(WEEKDAY(S21)=5,Jeudi),AND(WEEKDAY(S21)=6,Vendredi),AND(WEEKDAY(S21)=7,Samedi),S21=férié),0,1)","v":1},"MER","2017-04-19",null,null,{"$f":"IF(OR(AND(WEEKDAY(X21)=1,Dimanche),AND(WEEKDAY(X21)=2,Lundi),AND(WEEKDAY(X21)=3,Mardi),AND(WEEKDAY(X21)=4,Mercredi),AND(WEEKDAY(X21)=5,Jeudi),AND(WEEKDAY(X21)=6,Vendredi),AND(WEEKDAY(X21)=7,Samedi),X21=férié),0,1)","v":1},"VEN","2017-05-19",null,null,{"$f":"IF(OR(AND(WEEKDAY(AC21)=1,Dimanche),AND(WEEKDAY(AC21)=2,Lundi),AND(WEEKDAY(AC21)=3,Mardi),AND(WEEKDAY(AC21)=4,Mercredi),AND(WEEKDAY(AC21)=5,Jeudi),AND(WEEKDAY(AC21)=6,Vendredi),AND(WEEKDAY(AC21)=7,Samedi),AC21=férié),0,1)","v":1},"LUN","2017-06-19",null,null,{"$f":"IF(OR(AND(WEEKDAY(AH21)=1,Dimanche),AND(WEEKDAY(AH21)=2,Lundi),AND(WEEKDAY(AH21)=3,Mardi),AND(WEEKDAY(AH21)=4,Mercredi),AND(WEEKDAY(AH21)=5,Jeudi),AND(WEEKDAY(AH21)=6,Vendredi),AND(WEEKDAY(AH21)=7,Samedi),AH21=férié),0,1)","v":1},"MER","2017-07-19",null,null,{"$f":"IF(OR(AND(WEEKDAY(AM21)=1,Dimanche),AND(WEEKDAY(AM21)=2,Lundi),AND(WEEKDAY(AM21)=3,Mardi),AND(WEEKDAY(AM21)=4,Mercredi),AND(WEEKDAY(AM21)=5,Jeudi),AND(WEEKDAY(AM21)=6,Vendredi),AND(WEEKDAY(AM21)=7,Samedi),AM21=férié),0,1)","v":0},"SAM","2017-08-19",null,null,{"$f":"IF(OR(AND(WEEKDAY(AR21)=1,Dimanche),AND(WEEKDAY(AR21)=2,Lundi),AND(WEEKDAY(AR21)=3,Mardi),AND(WEEKDAY(AR21)=4,Mercredi),AND(WEEKDAY(AR21)=5,Jeudi),AND(WEEKDAY(AR21)=6,Vendredi),AND(WEEKDAY(AR21)=7,Samedi),AR21=férié),0,1)","v":1},"MAR","2017-09-19",null,null,{"$f":"IF(OR(AND(WEEKDAY(AW21)=1,Dimanche),AND(WEEKDAY(AW21)=2,Lundi),AND(WEEKDAY(AW21)=3,Mardi),AND(WEEKDAY(AW21)=4,Mercredi),AND(WEEKDAY(AW21)=5,Jeudi),AND(WEEKDAY(AW21)=6,Vendredi),AND(WEEKDAY(AW21)=7,Samedi),AW21=férié),0,1)","v":1},"JEU","2017-10-19",null,null,{"$f":"IF(OR(AND(WEEKDAY(BB21)=1,Dimanche),AND(WEEKDAY(BB21)=2,Lundi),AND(WEEKDAY(BB21)=3,Mardi),AND(WEEKDAY(BB21)=4,Mercredi),AND(WEEKDAY(BB21)=5,Jeudi),AND(WEEKDAY(BB21)=6,Vendredi),AND(WEEKDAY(BB21)=7,Samedi),BB21=férié),0,1)","v":0},"DIM","2017-11-19",null,null,{"$f":"IF(OR(AND(WEEKDAY(BG21)=1,Dimanche),AND(WEEKDAY(BG21)=2,Lundi),AND(WEEKDAY(BG21)=3,Mardi),AND(WEEKDAY(BG21)=4,Mercredi),AND(WEEKDAY(BG21)=5,Jeudi),AND(WEEKDAY(BG21)=6,Vendredi),AND(WEEKDAY(BG21)=7,Samedi),BG21=férié),0,1)","v":1},"MAR","2017-12-19"]
[null,{"$f":"IF(OR(AND(WEEKDAY(D22)=1,Dimanche),AND(WEEKDAY(D22)=2,Lundi),AND(WEEKDAY(D22)=3,Mardi),AND(WEEKDAY(D22)=4,Mercredi),AND(WEEKDAY(D22)=5,Jeudi),AND(WEEKDAY(D22)=6,Vendredi),AND(WEEKDAY(D22)=7,Samedi),D22=férié),0,1)","v":1},"VEN","2017-01-20",null,null,{"$f":"IF(OR(AND(WEEKDAY(I22)=1,Dimanche),AND(WEEKDAY(I22)=2,Lundi),AND(WEEKDAY(I22)=3,Mardi),AND(WEEKDAY(I22)=4,Mercredi),AND(WEEKDAY(I22)=5,Jeudi),AND(WEEKDAY(I22)=6,Vendredi),AND(WEEKDAY(I22)=7,Samedi),I22=férié),0,1)","v":1},"LUN","2017-02-20",null,null,{"$f":"IF(OR(AND(WEEKDAY(N22)=1,Dimanche),AND(WEEKDAY(N22)=2,Lundi),AND(WEEKDAY(N22)=3,Mardi),AND(WEEKDAY(N22)=4,Mercredi),AND(WEEKDAY(N22)=5,Jeudi),AND(WEEKDAY(N22)=6,Vendredi),AND(WEEKDAY(N22)=7,Samedi),N22=férié),0,1)","v":1},"LUN","2017-03-20",null,null,{"$f":"IF(OR(AND(WEEKDAY(S22)=1,Dimanche),AND(WEEKDAY(S22)=2,Lundi),AND(WEEKDAY(S22)=3,Mardi),AND(WEEKDAY(S22)=4,Mercredi),AND(WEEKDAY(S22)=5,Jeudi),AND(WEEKDAY(S22)=6,Vendredi),AND(WEEKDAY(S22)=7,Samedi),S22=férié),0,1)","v":1},"JEU","2017-04-20",null,null,{"$f":"IF(OR(AND(WEEKDAY(X22)=1,Dimanche),AND(WEEKDAY(X22)=2,Lundi),AND(WEEKDAY(X22)=3,Mardi),AND(WEEKDAY(X22)=4,Mercredi),AND(WEEKDAY(X22)=5,Jeudi),AND(WEEKDAY(X22)=6,Vendredi),AND(WEEKDAY(X22)=7,Samedi),X22=férié),0,1)","v":0},"SAM","2017-05-20",null,null,{"$f":"IF(OR(AND(WEEKDAY(AC22)=1,Dimanche),AND(WEEKDAY(AC22)=2,Lundi),AND(WEEKDAY(AC22)=3,Mardi),AND(WEEKDAY(AC22)=4,Mercredi),AND(WEEKDAY(AC22)=5,Jeudi),AND(WEEKDAY(AC22)=6,Vendredi),AND(WEEKDAY(AC22)=7,Samedi),AC22=férié),0,1)","v":1},"MAR","2017-06-20",null,null,{"$f":"IF(OR(AND(WEEKDAY(AH22)=1,Dimanche),AND(WEEKDAY(AH22)=2,Lundi),AND(WEEKDAY(AH22)=3,Mardi),AND(WEEKDAY(AH22)=4,Mercredi),AND(WEEKDAY(AH22)=5,Jeudi),AND(WEEKDAY(AH22)=6,Vendredi),AND(WEEKDAY(AH22)=7,Samedi),AH22=férié),0,1)","v":1},"JEU","2017-07-20",null,null,{"$f":"IF(OR(AND(WEEKDAY(AM22)=1,Dimanche),AND(WEEKDAY(AM22)=2,Lundi),AND(WEEKDAY(AM22)=3,Mardi),AND(WEEKDAY(AM22)=4,Mercredi),AND(WEEKDAY(AM22)=5,Jeudi),AND(WEEKDAY(AM22)=6,Vendredi),AND(WEEKDAY(AM22)=7,Samedi),AM22=férié),0,1)","v":0},"DIM","2017-08-20",null,null,{"$f":"IF(OR(AND(WEEKDAY(AR22)=1,Dimanche),AND(WEEKDAY(AR22)=2,Lundi),AND(WEEKDAY(AR22)=3,Mardi),AND(WEEKDAY(AR22)=4,Mercredi),AND(WEEKDAY(AR22)=5,Jeudi),AND(WEEKDAY(AR22)=6,Vendredi),AND(WEEKDAY(AR22)=7,Samedi),AR22=férié),0,1)","v":1},"MER","2017-09-20",null,null,{"$f":"IF(OR(AND(WEEKDAY(AW22)=1,Dimanche),AND(WEEKDAY(AW22)=2,Lundi),AND(WEEKDAY(AW22)=3,Mardi),AND(WEEKDAY(AW22)=4,Mercredi),AND(WEEKDAY(AW22)=5,Jeudi),AND(WEEKDAY(AW22)=6,Vendredi),AND(WEEKDAY(AW22)=7,Samedi),AW22=férié),0,1)","v":1},"VEN","2017-10-20",null,null,{"$f":"IF(OR(AND(WEEKDAY(BB22)=1,Dimanche),AND(WEEKDAY(BB22)=2,Lundi),AND(WEEKDAY(BB22)=3,Mardi),AND(WEEKDAY(BB22)=4,Mercredi),AND(WEEKDAY(BB22)=5,Jeudi),AND(WEEKDAY(BB22)=6,Vendredi),AND(WEEKDAY(BB22)=7,Samedi),BB22=férié),0,1)","v":1},"LUN","2017-11-20",null,null,{"$f":"IF(OR(AND(WEEKDAY(BG22)=1,Dimanche),AND(WEEKDAY(BG22)=2,Lundi),AND(WEEKDAY(BG22)=3,Mardi),AND(WEEKDAY(BG22)=4,Mercredi),AND(WEEKDAY(BG22)=5,Jeudi),AND(WEEKDAY(BG22)=6,Vendredi),AND(WEEKDAY(BG22)=7,Samedi),BG22=férié),0,1)","v":1},"MER","2017-12-20"]
[null,{"$f":"IF(OR(AND(WEEKDAY(D23)=1,Dimanche),AND(WEEKDAY(D23)=2,Lundi),AND(WEEKDAY(D23)=3,Mardi),AND(WEEKDAY(D23)=4,Mercredi),AND(WEEKDAY(D23)=5,Jeudi),AND(WEEKDAY(D23)=6,Vendredi),AND(WEEKDAY(D23)=7,Samedi),D23=férié),0,1)","v":0},"SAM","2017-01-21",null,null,{"$f":"IF(OR(AND(WEEKDAY(I23)=1,Dimanche),AND(WEEKDAY(I23)=2,Lundi),AND(WEEKDAY(I23)=3,Mardi),AND(WEEKDAY(I23)=4,Mercredi),AND(WEEKDAY(I23)=5,Jeudi),AND(WEEKDAY(I23)=6,Vendredi),AND(WEEKDAY(I23)=7,Samedi),I23=férié),0,1)","v":1},"MAR","2017-02-21",null,null,{"$f":"IF(OR(AND(WEEKDAY(N23)=1,Dimanche),AND(WEEKDAY(N23)=2,Lundi),AND(WEEKDAY(N23)=3,Mardi),AND(WEEKDAY(N23)=4,Mercredi),AND(WEEKDAY(N23)=5,Jeudi),AND(WEEKDAY(N23)=6,Vendredi),AND(WEEKDAY(N23)=7,Samedi),N23=férié),0,1)","v":1},"MAR","2017-03-21",null,null,{"$f":"IF(OR(AND(WEEKDAY(S23)=1,Dimanche),AND(WEEKDAY(S23)=2,Lundi),AND(WEEKDAY(S23)=3,Mardi),AND(WEEKDAY(S23)=4,Mercredi),AND(WEEKDAY(S23)=5,Jeudi),AND(WEEKDAY(S23)=6,Vendredi),AND(WEEKDAY(S23)=7,Samedi),S23=férié),0,1)","v":1},"VEN","2017-04-21",null,null,{"$f":"IF(OR(AND(WEEKDAY(X23)=1,Dimanche),AND(WEEKDAY(X23)=2,Lundi),AND(WEEKDAY(X23)=3,Mardi),AND(WEEKDAY(X23)=4,Mercredi),AND(WEEKDAY(X23)=5,Jeudi),AND(WEEKDAY(X23)=6,Vendredi),AND(WEEKDAY(X23)=7,Samedi),X23=férié),0,1)","v":0},"DIM","2017-05-21",null,null,{"$f":"IF(OR(AND(WEEKDAY(AC23)=1,Dimanche),AND(WEEKDAY(AC23)=2,Lundi),AND(WEEKDAY(AC23)=3,Mardi),AND(WEEKDAY(AC23)=4,Mercredi),AND(WEEKDAY(AC23)=5,Jeudi),AND(WEEKDAY(AC23)=6,Vendredi),AND(WEEKDAY(AC23)=7,Samedi),AC23=férié),0,1)","v":1},"MER","2017-06-21",null,null,{"$f":"IF(OR(AND(WEEKDAY(AH23)=1,Dimanche),AND(WEEKDAY(AH23)=2,Lundi),AND(WEEKDAY(AH23)=3,Mardi),AND(WEEKDAY(AH23)=4,Mercredi),AND(WEEKDAY(AH23)=5,Jeudi),AND(WEEKDAY(AH23)=6,Vendredi),AND(WEEKDAY(AH23)=7,Samedi),AH23=férié),0,1)","v":1},"VEN","2017-07-21",null,null,{"$f":"IF(OR(AND(WEEKDAY(AM23)=1,Dimanche),AND(WEEKDAY(AM23)=2,Lundi),AND(WEEKDAY(AM23)=3,Mardi),AND(WEEKDAY(AM23)=4,Mercredi),AND(WEEKDAY(AM23)=5,Jeudi),AND(WEEKDAY(AM23)=6,Vendredi),AND(WEEKDAY(AM23)=7,Samedi),AM23=férié),0,1)","v":1},"LUN","2017-08-21",null,null,{"$f":"IF(OR(AND(WEEKDAY(AR23)=1,Dimanche),AND(WEEKDAY(AR23)=2,Lundi),AND(WEEKDAY(AR23)=3,Mardi),AND(WEEKDAY(AR23)=4,Mercredi),AND(WEEKDAY(AR23)=5,Jeudi),AND(WEEKDAY(AR23)=6,Vendredi),AND(WEEKDAY(AR23)=7,Samedi),AR23=férié),0,1)","v":1},"JEU","2017-09-21",null,null,{"$f":"IF(OR(AND(WEEKDAY(AW23)=1,Dimanche),AND(WEEKDAY(AW23)=2,Lundi),AND(WEEKDAY(AW23)=3,Mardi),AND(WEEKDAY(AW23)=4,Mercredi),AND(WEEKDAY(AW23)=5,Jeudi),AND(WEEKDAY(AW23)=6,Vendredi),AND(WEEKDAY(AW23)=7,Samedi),AW23=férié),0,1)","v":0},"SAM","2017-10-21",null,null,{"$f":"IF(OR(AND(WEEKDAY(BB23)=1,Dimanche),AND(WEEKDAY(BB23)=2,Lundi),AND(WEEKDAY(BB23)=3,Mardi),AND(WEEKDAY(BB23)=4,Mercredi),AND(WEEKDAY(BB23)=5,Jeudi),AND(WEEKDAY(BB23)=6,Vendredi),AND(WEEKDAY(BB23)=7,Samedi),BB23=férié),0,1)","v":1},"MAR","2017-11-21",null,null,{"$f":"IF(OR(AND(WEEKDAY(BG23)=1,Dimanche),AND(WEEKDAY(BG23)=2,Lundi),AND(WEEKDAY(BG23)=3,Mardi),AND(WEEKDAY(BG23)=4,Mercredi),AND(WEEKDAY(BG23)=5,Jeudi),AND(WEEKDAY(BG23)=6,Vendredi),AND(WEEKDAY(BG23)=7,Samedi),BG23=férié),0,1)","v":1},"JEU","2017-12-21"]
[null,{"$f":"IF(OR(AND(WEEKDAY(D24)=1,Dimanche),AND(WEEKDAY(D24)=2,Lundi),AND(WEEKDAY(D24)=3,Mardi),AND(WEEKDAY(D24)=4,Mercredi),AND(WEEKDAY(D24)=5,Jeudi),AND(WEEKDAY(D24)=6,Vendredi),AND(WEEKDAY(D24)=7,Samedi),D24=férié),0,1)","v":0},"DIM","2017-01-22",null,null,{"$f":"IF(OR(AND(WEEKDAY(I24)=1,Dimanche),AND(WEEKDAY(I24)=2,Lundi),AND(WEEKDAY(I24)=3,Mardi),AND(WEEKDAY(I24)=4,Mercredi),AND(WEEKDAY(I24)=5,Jeudi),AND(WEEKDAY(I24)=6,Vendredi),AND(WEEKDAY(I24)=7,Samedi),I24=férié),0,1)","v":1},"MER","2017-02-22",null,null,{"$f":"IF(OR(AND(WEEKDAY(N24)=1,Dimanche),AND(WEEKDAY(N24)=2,Lundi),AND(WEEKDAY(N24)=3,Mardi),AND(WEEKDAY(N24)=4,Mercredi),AND(WEEKDAY(N24)=5,Jeudi),AND(WEEKDAY(N24)=6,Vendredi),AND(WEEKDAY(N24)=7,Samedi),N24=férié),0,1)","v":1},"MER","2017-03-22",null,null,{"$f":"IF(OR(AND(WEEKDAY(S24)=1,Dimanche),AND(WEEKDAY(S24)=2,Lundi),AND(WEEKDAY(S24)=3,Mardi),AND(WEEKDAY(S24)=4,Mercredi),AND(WEEKDAY(S24)=5,Jeudi),AND(WEEKDAY(S24)=6,Vendredi),AND(WEEKDAY(S24)=7,Samedi),S24=férié),0,1)","v":0},"SAM","2017-04-22",null,null,{"$f":"IF(OR(AND(WEEKDAY(X24)=1,Dimanche),AND(WEEKDAY(X24)=2,Lundi),AND(WEEKDAY(X24)=3,Mardi),AND(WEEKDAY(X24)=4,Mercredi),AND(WEEKDAY(X24)=5,Jeudi),AND(WEEKDAY(X24)=6,Vendredi),AND(WEEKDAY(X24)=7,Samedi),X24=férié),0,1)","v":1},"LUN","2017-05-22",null,null,{"$f":"IF(OR(AND(WEEKDAY(AC24)=1,Dimanche),AND(WEEKDAY(AC24)=2,Lundi),AND(WEEKDAY(AC24)=3,Mardi),AND(WEEKDAY(AC24)=4,Mercredi),AND(WEEKDAY(AC24)=5,Jeudi),AND(WEEKDAY(AC24)=6,Vendredi),AND(WEEKDAY(AC24)=7,Samedi),AC24=férié),0,1)","v":1},"JEU","2017-06-22",null,null,{"$f":"IF(OR(AND(WEEKDAY(AH24)=1,Dimanche),AND(WEEKDAY(AH24)=2,Lundi),AND(WEEKDAY(AH24)=3,Mardi),AND(WEEKDAY(AH24)=4,Mercredi),AND(WEEKDAY(AH24)=5,Jeudi),AND(WEEKDAY(AH24)=6,Vendredi),AND(WEEKDAY(AH24)=7,Samedi),AH24=férié),0,1)","v":0},"SAM","2017-07-22",null,null,{"$f":"IF(OR(AND(WEEKDAY(AM24)=1,Dimanche),AND(WEEKDAY(AM24)=2,Lundi),AND(WEEKDAY(AM24)=3,Mardi),AND(WEEKDAY(AM24)=4,Mercredi),AND(WEEKDAY(AM24)=5,Jeudi),AND(WEEKDAY(AM24)=6,Vendredi),AND(WEEKDAY(AM24)=7,Samedi),AM24=férié),0,1)","v":1},"MAR","2017-08-22",null,null,{"$f":"IF(OR(AND(WEEKDAY(AR24)=1,Dimanche),AND(WEEKDAY(AR24)=2,Lundi),AND(WEEKDAY(AR24)=3,Mardi),AND(WEEKDAY(AR24)=4,Mercredi),AND(WEEKDAY(AR24)=5,Jeudi),AND(WEEKDAY(AR24)=6,Vendredi),AND(WEEKDAY(AR24)=7,Samedi),AR24=férié),0,1)","v":1},"VEN","2017-09-22",null,null,{"$f":"IF(OR(AND(WEEKDAY(AW24)=1,Dimanche),AND(WEEKDAY(AW24)=2,Lundi),AND(WEEKDAY(AW24)=3,Mardi),AND(WEEKDAY(AW24)=4,Mercredi),AND(WEEKDAY(AW24)=5,Jeudi),AND(WEEKDAY(AW24)=6,Vendredi),AND(WEEKDAY(AW24)=7,Samedi),AW24=férié),0,1)","v":0},"DIM","2017-10-22",null,null,{"$f":"IF(OR(AND(WEEKDAY(BB24)=1,Dimanche),AND(WEEKDAY(BB24)=2,Lundi),AND(WEEKDAY(BB24)=3,Mardi),AND(WEEKDAY(BB24)=4,Mercredi),AND(WEEKDAY(BB24)=5,Jeudi),AND(WEEKDAY(BB24)=6,Vendredi),AND(WEEKDAY(BB24)=7,Samedi),BB24=férié),0,1)","v":1},"MER","2017-11-22",null,null,{"$f":"IF(OR(AND(WEEKDAY(BG24)=1,Dimanche),AND(WEEKDAY(BG24)=2,Lundi),AND(WEEKDAY(BG24)=3,Mardi),AND(WEEKDAY(BG24)=4,Mercredi),AND(WEEKDAY(BG24)=5,Jeudi),AND(WEEKDAY(BG24)=6,Vendredi),AND(WEEKDAY(BG24)=7,Samedi),BG24=férié),0,1)","v":1},"VEN","2017-12-22"]
[null,{"$f":"IF(OR(AND(WEEKDAY(D25)=1,Dimanche),AND(WEEKDAY(D25)=2,Lundi),AND(WEEKDAY(D25)=3,Mardi),AND(WEEKDAY(D25)=4,Mercredi),AND(WEEKDAY(D25)=5,Jeudi),AND(WEEKDAY(D25)=6,Vendredi),AND(WEEKDAY(D25)=7,Samedi),D25=férié),0,1)","v":1},"LUN","2017-01-23",null,null,{"$f":"IF(OR(AND(WEEKDAY(I25)=1,Dimanche),AND(WEEKDAY(I25)=2,Lundi),AND(WEEKDAY(I25)=3,Mardi),AND(WEEKDAY(I25)=4,Mercredi),AND(WEEKDAY(I25)=5,Jeudi),AND(WEEKDAY(I25)=6,Vendredi),AND(WEEKDAY(I25)=7,Samedi),I25=férié),0,1)","v":1},"JEU","2017-02-23",null,null,{"$f":"IF(OR(AND(WEEKDAY(N25)=1,Dimanche),AND(WEEKDAY(N25)=2,Lundi),AND(WEEKDAY(N25)=3,Mardi),AND(WEEKDAY(N25)=4,Mercredi),AND(WEEKDAY(N25)=5,Jeudi),AND(WEEKDAY(N25)=6,Vendredi),AND(WEEKDAY(N25)=7,Samedi),N25=férié),0,1)","v":1},"JEU","2017-03-23",null,null,{"$f":"IF(OR(AND(WEEKDAY(S25)=1,Dimanche),AND(WEEKDAY(S25)=2,Lundi),AND(WEEKDAY(S25)=3,Mardi),AND(WEEKDAY(S25)=4,Mercredi),AND(WEEKDAY(S25)=5,Jeudi),AND(WEEKDAY(S25)=6,Vendredi),AND(WEEKDAY(S25)=7,Samedi),S25=férié),0,1)","v":0},"DIM","2017-04-23",null,null,{"$f":"IF(OR(AND(WEEKDAY(X25)=1,Dimanche),AND(WEEKDAY(X25)=2,Lundi),AND(WEEKDAY(X25)=3,Mardi),AND(WEEKDAY(X25)=4,Mercredi),AND(WEEKDAY(X25)=5,Jeudi),AND(WEEKDAY(X25)=6,Vendredi),AND(WEEKDAY(X25)=7,Samedi),X25=férié),0,1)","v":1},"MAR","2017-05-23",null,null,{"$f":"IF(OR(AND(WEEKDAY(AC25)=1,Dimanche),AND(WEEKDAY(AC25)=2,Lundi),AND(WEEKDAY(AC25)=3,Mardi),AND(WEEKDAY(AC25)=4,Mercredi),AND(WEEKDAY(AC25)=5,Jeudi),AND(WEEKDAY(AC25)=6,Vendredi),AND(WEEKDAY(AC25)=7,Samedi),AC25=férié),0,1)","v":1},"VEN","2017-06-23",null,null,{"$f":"IF(OR(AND(WEEKDAY(AH25)=1,Dimanche),AND(WEEKDAY(AH25)=2,Lundi),AND(WEEKDAY(AH25)=3,Mardi),AND(WEEKDAY(AH25)=4,Mercredi),AND(WEEKDAY(AH25)=5,Jeudi),AND(WEEKDAY(AH25)=6,Vendredi),AND(WEEKDAY(AH25)=7,Samedi),AH25=férié),0,1)","v":0},"DIM","2017-07-23",null,null,{"$f":"IF(OR(AND(WEEKDAY(AM25)=1,Dimanche),AND(WEEKDAY(AM25)=2,Lundi),AND(WEEKDAY(AM25)=3,Mardi),AND(WEEKDAY(AM25)=4,Mercredi),AND(WEEKDAY(AM25)=5,Jeudi),AND(WEEKDAY(AM25)=6,Vendredi),AND(WEEKDAY(AM25)=7,Samedi),AM25=férié),0,1)","v":1},"MER","2017-08-23",null,null,{"$f":"IF(OR(AND(WEEKDAY(AR25)=1,Dimanche),AND(WEEKDAY(AR25)=2,Lundi),AND(WEEKDAY(AR25)=3,Mardi),AND(WEEKDAY(AR25)=4,Mercredi),AND(WEEKDAY(AR25)=5,Jeudi),AND(WEEKDAY(AR25)=6,Vendredi),AND(WEEKDAY(AR25)=7,Samedi),AR25=férié),0,1)","v":0},"SAM","2017-09-23",null,null,{"$f":"IF(OR(AND(WEEKDAY(AW25)=1,Dimanche),AND(WEEKDAY(AW25)=2,Lundi),AND(WEEKDAY(AW25)=3,Mardi),AND(WEEKDAY(AW25)=4,Mercredi),AND(WEEKDAY(AW25)=5,Jeudi),AND(WEEKDAY(AW25)=6,Vendredi),AND(WEEKDAY(AW25)=7,Samedi),AW25=férié),0,1)","v":1},"LUN","2017-10-23",null,null,{"$f":"IF(OR(AND(WEEKDAY(BB25)=1,Dimanche),AND(WEEKDAY(BB25)=2,Lundi),AND(WEEKDAY(BB25)=3,Mardi),AND(WEEKDAY(BB25)=4,Mercredi),AND(WEEKDAY(BB25)=5,Jeudi),AND(WEEKDAY(BB25)=6,Vendredi),AND(WEEKDAY(BB25)=7,Samedi),BB25=férié),0,1)","v":1},"JEU","2017-11-23",null,null,{"$f":"IF(OR(AND(WEEKDAY(BG25)=1,Dimanche),AND(WEEKDAY(BG25)=2,Lundi),AND(WEEKDAY(BG25)=3,Mardi),AND(WEEKDAY(BG25)=4,Mercredi),AND(WEEKDAY(BG25)=5,Jeudi),AND(WEEKDAY(BG25)=6,Vendredi),AND(WEEKDAY(BG25)=7,Samedi),BG25=férié),0,1)","v":0},"SAM","2017-12-23"]
[null,{"$f":"IF(OR(AND(WEEKDAY(D26)=1,Dimanche),AND(WEEKDAY(D26)=2,Lundi),AND(WEEKDAY(D26)=3,Mardi),AND(WEEKDAY(D26)=4,Mercredi),AND(WEEKDAY(D26)=5,Jeudi),AND(WEEKDAY(D26)=6,Vendredi),AND(WEEKDAY(D26)=7,Samedi),D26=férié),0,1)","v":1},"MAR","2017-01-24",null,null,{"$f":"IF(OR(AND(WEEKDAY(I26)=1,Dimanche),AND(WEEKDAY(I26)=2,Lundi),AND(WEEKDAY(I26)=3,Mardi),AND(WEEKDAY(I26)=4,Mercredi),AND(WEEKDAY(I26)=5,Jeudi),AND(WEEKDAY(I26)=6,Vendredi),AND(WEEKDAY(I26)=7,Samedi),I26=férié),0,1)","v":1},"VEN","2017-02-24",null,null,{"$f":"IF(OR(AND(WEEKDAY(N26)=1,Dimanche),AND(WEEKDAY(N26)=2,Lundi),AND(WEEKDAY(N26)=3,Mardi),AND(WEEKDAY(N26)=4,Mercredi),AND(WEEKDAY(N26)=5,Jeudi),AND(WEEKDAY(N26)=6,Vendredi),AND(WEEKDAY(N26)=7,Samedi),N26=férié),0,1)","v":1},"VEN","2017-03-24",null,null,{"$f":"IF(OR(AND(WEEKDAY(S26)=1,Dimanche),AND(WEEKDAY(S26)=2,Lundi),AND(WEEKDAY(S26)=3,Mardi),AND(WEEKDAY(S26)=4,Mercredi),AND(WEEKDAY(S26)=5,Jeudi),AND(WEEKDAY(S26)=6,Vendredi),AND(WEEKDAY(S26)=7,Samedi),S26=férié),0,1)","v":1},"LUN","2017-04-24",null,null,{"$f":"IF(OR(AND(WEEKDAY(X26)=1,Dimanche),AND(WEEKDAY(X26)=2,Lundi),AND(WEEKDAY(X26)=3,Mardi),AND(WEEKDAY(X26)=4,Mercredi),AND(WEEKDAY(X26)=5,Jeudi),AND(WEEKDAY(X26)=6,Vendredi),AND(WEEKDAY(X26)=7,Samedi),X26=férié),0,1)","v":1},"MER","2017-05-24",null,null,{"$f":"IF(OR(AND(WEEKDAY(AC26)=1,Dimanche),AND(WEEKDAY(AC26)=2,Lundi),AND(WEEKDAY(AC26)=3,Mardi),AND(WEEKDAY(AC26)=4,Mercredi),AND(WEEKDAY(AC26)=5,Jeudi),AND(WEEKDAY(AC26)=6,Vendredi),AND(WEEKDAY(AC26)=7,Samedi),AC26=férié),0,1)","v":0},"SAM","2017-06-24",null,null,{"$f":"IF(OR(AND(WEEKDAY(AH26)=1,Dimanche),AND(WEEKDAY(AH26)=2,Lundi),AND(WEEKDAY(AH26)=3,Mardi),AND(WEEKDAY(AH26)=4,Mercredi),AND(WEEKDAY(AH26)=5,Jeudi),AND(WEEKDAY(AH26)=6,Vendredi),AND(WEEKDAY(AH26)=7,Samedi),AH26=férié),0,1)","v":1},"LUN","2017-07-24",null,null,{"$f":"IF(OR(AND(WEEKDAY(AM26)=1,Dimanche),AND(WEEKDAY(AM26)=2,Lundi),AND(WEEKDAY(AM26)=3,Mardi),AND(WEEKDAY(AM26)=4,Mercredi),AND(WEEKDAY(AM26)=5,Jeudi),AND(WEEKDAY(AM26)=6,Vendredi),AND(WEEKDAY(AM26)=7,Samedi),AM26=férié),0,1)","v":1},"JEU","2017-08-24",null,null,{"$f":"IF(OR(AND(WEEKDAY(AR26)=1,Dimanche),AND(WEEKDAY(AR26)=2,Lundi),AND(WEEKDAY(AR26)=3,Mardi),AND(WEEKDAY(AR26)=4,Mercredi),AND(WEEKDAY(AR26)=5,Jeudi),AND(WEEKDAY(AR26)=6,Vendredi),AND(WEEKDAY(AR26)=7,Samedi),AR26=férié),0,1)","v":0},"DIM","2017-09-24",null,null,{"$f":"IF(OR(AND(WEEKDAY(AW26)=1,Dimanche),AND(WEEKDAY(AW26)=2,Lundi),AND(WEEKDAY(AW26)=3,Mardi),AND(WEEKDAY(AW26)=4,Mercredi),AND(WEEKDAY(AW26)=5,Jeudi),AND(WEEKDAY(AW26)=6,Vendredi),AND(WEEKDAY(AW26)=7,Samedi),AW26=férié),0,1)","v":1},"MAR","2017-10-24",null,null,{"$f":"IF(OR(AND(WEEKDAY(BB26)=1,Dimanche),AND(WEEKDAY(BB26)=2,Lundi),AND(WEEKDAY(BB26)=3,Mardi),AND(WEEKDAY(BB26)=4,Mercredi),AND(WEEKDAY(BB26)=5,Jeudi),AND(WEEKDAY(BB26)=6,Vendredi),AND(WEEKDAY(BB26)=7,Samedi),BB26=férié),0,1)","v":1},"VEN","2017-11-24",null,null,{"$f":"IF(OR(AND(WEEKDAY(BG26)=1,Dimanche),AND(WEEKDAY(BG26)=2,Lundi),AND(WEEKDAY(BG26)=3,Mardi),AND(WEEKDAY(BG26)=4,Mercredi),AND(WEEKDAY(BG26)=5,Jeudi),AND(WEEKDAY(BG26)=6,Vendredi),AND(WEEKDAY(BG26)=7,Samedi),BG26=férié),0,1)","v":0},"DIM","2017-12-24"]
[null,{"$f":"IF(OR(AND(WEEKDAY(D27)=1,Dimanche),AND(WEEKDAY(D27)=2,Lundi),AND(WEEKDAY(D27)=3,Mardi),AND(WEEKDAY(D27)=4,Mercredi),AND(WEEKDAY(D27)=5,Jeudi),AND(WEEKDAY(D27)=6,Vendredi),AND(WEEKDAY(D27)=7,Samedi),D27=férié),0,1)","v":1},"MER","2017-01-25",null,null,{"$f":"IF(OR(AND(WEEKDAY(I27)=1,Dimanche),AND(WEEKDAY(I27)=2,Lundi),AND(WEEKDAY(I27)=3,Mardi),AND(WEEKDAY(I27)=4,Mercredi),AND(WEEKDAY(I27)=5,Jeudi),AND(WEEKDAY(I27)=6,Vendredi),AND(WEEKDAY(I27)=7,Samedi),I27=férié),0,1)","v":0},"SAM","2017-02-25",null,null,{"$f":"IF(OR(AND(WEEKDAY(N27)=1,Dimanche),AND(WEEKDAY(N27)=2,Lundi),AND(WEEKDAY(N27)=3,Mardi),AND(WEEKDAY(N27)=4,Mercredi),AND(WEEKDAY(N27)=5,Jeudi),AND(WEEKDAY(N27)=6,Vendredi),AND(WEEKDAY(N27)=7,Samedi),N27=férié),0,1)","v":0},"SAM","2017-03-25",null,null,{"$f":"IF(OR(AND(WEEKDAY(S27)=1,Dimanche),AND(WEEKDAY(S27)=2,Lundi),AND(WEEKDAY(S27)=3,Mardi),AND(WEEKDAY(S27)=4,Mercredi),AND(WEEKDAY(S27)=5,Jeudi),AND(WEEKDAY(S27)=6,Vendredi),AND(WEEKDAY(S27)=7,Samedi),S27=férié),0,1)","v":1},"MAR","2017-04-25",null,null,{"$f":"IF(OR(AND(WEEKDAY(X27)=1,Dimanche),AND(WEEKDAY(X27)=2,Lundi),AND(WEEKDAY(X27)=3,Mardi),AND(WEEKDAY(X27)=4,Mercredi),AND(WEEKDAY(X27)=5,Jeudi),AND(WEEKDAY(X27)=6,Vendredi),AND(WEEKDAY(X27)=7,Samedi),X27=férié),0,1)","v":0},"JEU","2017-05-25",null,null,{"$f":"IF(OR(AND(WEEKDAY(AC27)=1,Dimanche),AND(WEEKDAY(AC27)=2,Lundi),AND(WEEKDAY(AC27)=3,Mardi),AND(WEEKDAY(AC27)=4,Mercredi),AND(WEEKDAY(AC27)=5,Jeudi),AND(WEEKDAY(AC27)=6,Vendredi),AND(WEEKDAY(AC27)=7,Samedi),AC27=férié),0,1)","v":0},"DIM","2017-06-25",null,null,{"$f":"IF(OR(AND(WEEKDAY(AH27)=1,Dimanche),AND(WEEKDAY(AH27)=2,Lundi),AND(WEEKDAY(AH27)=3,Mardi),AND(WEEKDAY(AH27)=4,Mercredi),AND(WEEKDAY(AH27)=5,Jeudi),AND(WEEKDAY(AH27)=6,Vendredi),AND(WEEKDAY(AH27)=7,Samedi),AH27=férié),0,1)","v":1},"MAR","2017-07-25",null,null,{"$f":"IF(OR(AND(WEEKDAY(AM27)=1,Dimanche),AND(WEEKDAY(AM27)=2,Lundi),AND(WEEKDAY(AM27)=3,Mardi),AND(WEEKDAY(AM27)=4,Mercredi),AND(WEEKDAY(AM27)=5,Jeudi),AND(WEEKDAY(AM27)=6,Vendredi),AND(WEEKDAY(AM27)=7,Samedi),AM27=férié),0,1)","v":1},"VEN","2017-08-25",null,null,{"$f":"IF(OR(AND(WEEKDAY(AR27)=1,Dimanche),AND(WEEKDAY(AR27)=2,Lundi),AND(WEEKDAY(AR27)=3,Mardi),AND(WEEKDAY(AR27)=4,Mercredi),AND(WEEKDAY(AR27)=5,Jeudi),AND(WEEKDAY(AR27)=6,Vendredi),AND(WEEKDAY(AR27)=7,Samedi),AR27=férié),0,1)","v":1},"LUN","2017-09-25",null,null,{"$f":"IF(OR(AND(WEEKDAY(AW27)=1,Dimanche),AND(WEEKDAY(AW27)=2,Lundi),AND(WEEKDAY(AW27)=3,Mardi),AND(WEEKDAY(AW27)=4,Mercredi),AND(WEEKDAY(AW27)=5,Jeudi),AND(WEEKDAY(AW27)=6,Vendredi),AND(WEEKDAY(AW27)=7,Samedi),AW27=férié),0,1)","v":1},"MER","2017-10-25",null,null,{"$f":"IF(OR(AND(WEEKDAY(BB27)=1,Dimanche),AND(WEEKDAY(BB27)=2,Lundi),AND(WEEKDAY(BB27)=3,Mardi),AND(WEEKDAY(BB27)=4,Mercredi),AND(WEEKDAY(BB27)=5,Jeudi),AND(WEEKDAY(BB27)=6,Vendredi),AND(WEEKDAY(BB27)=7,Samedi),BB27=férié),0,1)","v":0},"SAM","2017-11-25",null,null,{"$f":"IF(OR(AND(WEEKDAY(BG27)=1,Dimanche),AND(WEEKDAY(BG27)=2,Lundi),AND(WEEKDAY(BG27)=3,Mardi),AND(WEEKDAY(BG27)=4,Mercredi),AND(WEEKDAY(BG27)=5,Jeudi),AND(WEEKDAY(BG27)=6,Vendredi),AND(WEEKDAY(BG27)=7,Samedi),BG27=férié),0,1)","v":0},"LUN","2017-12-25"]
[null,{"$f":"IF(OR(AND(WEEKDAY(D28)=1,Dimanche),AND(WEEKDAY(D28)=2,Lundi),AND(WEEKDAY(D28)=3,Mardi),AND(WEEKDAY(D28)=4,Mercredi),AND(WEEKDAY(D28)=5,Jeudi),AND(WEEKDAY(D28)=6,Vendredi),AND(WEEKDAY(D28)=7,Samedi),D28=férié),0,1)","v":1},"JEU","2017-01-26",null,null,{"$f":"IF(OR(AND(WEEKDAY(I28)=1,Dimanche),AND(WEEKDAY(I28)=2,Lundi),AND(WEEKDAY(I28)=3,Mardi),AND(WEEKDAY(I28)=4,Mercredi),AND(WEEKDAY(I28)=5,Jeudi),AND(WEEKDAY(I28)=6,Vendredi),AND(WEEKDAY(I28)=7,Samedi),I28=férié),0,1)","v":0},"DIM","2017-02-26",null,null,{"$f":"IF(OR(AND(WEEKDAY(N28)=1,Dimanche),AND(WEEKDAY(N28)=2,Lundi),AND(WEEKDAY(N28)=3,Mardi),AND(WEEKDAY(N28)=4,Mercredi),AND(WEEKDAY(N28)=5,Jeudi),AND(WEEKDAY(N28)=6,Vendredi),AND(WEEKDAY(N28)=7,Samedi),N28=férié),0,1)","v":0},"DIM","2017-03-26",null,null,{"$f":"IF(OR(AND(WEEKDAY(S28)=1,Dimanche),AND(WEEKDAY(S28)=2,Lundi),AND(WEEKDAY(S28)=3,Mardi),AND(WEEKDAY(S28)=4,Mercredi),AND(WEEKDAY(S28)=5,Jeudi),AND(WEEKDAY(S28)=6,Vendredi),AND(WEEKDAY(S28)=7,Samedi),S28=férié),0,1)","v":1},"MER","2017-04-26",null,null,{"$f":"IF(OR(AND(WEEKDAY(X28)=1,Dimanche),AND(WEEKDAY(X28)=2,Lundi),AND(WEEKDAY(X28)=3,Mardi),AND(WEEKDAY(X28)=4,Mercredi),AND(WEEKDAY(X28)=5,Jeudi),AND(WEEKDAY(X28)=6,Vendredi),AND(WEEKDAY(X28)=7,Samedi),X28=férié),0,1)","v":1},"VEN","2017-05-26",null,null,{"$f":"IF(OR(AND(WEEKDAY(AC28)=1,Dimanche),AND(WEEKDAY(AC28)=2,Lundi),AND(WEEKDAY(AC28)=3,Mardi),AND(WEEKDAY(AC28)=4,Mercredi),AND(WEEKDAY(AC28)=5,Jeudi),AND(WEEKDAY(AC28)=6,Vendredi),AND(WEEKDAY(AC28)=7,Samedi),AC28=férié),0,1)","v":1},"LUN","2017-06-26",null,null,{"$f":"IF(OR(AND(WEEKDAY(AH28)=1,Dimanche),AND(WEEKDAY(AH28)=2,Lundi),AND(WEEKDAY(AH28)=3,Mardi),AND(WEEKDAY(AH28)=4,Mercredi),AND(WEEKDAY(AH28)=5,Jeudi),AND(WEEKDAY(AH28)=6,Vendredi),AND(WEEKDAY(AH28)=7,Samedi),AH28=férié),0,1)","v":1},"MER","2017-07-26",null,null,{"$f":"IF(OR(AND(WEEKDAY(AM28)=1,Dimanche),AND(WEEKDAY(AM28)=2,Lundi),AND(WEEKDAY(AM28)=3,Mardi),AND(WEEKDAY(AM28)=4,Mercredi),AND(WEEKDAY(AM28)=5,Jeudi),AND(WEEKDAY(AM28)=6,Vendredi),AND(WEEKDAY(AM28)=7,Samedi),AM28=férié),0,1)","v":0},"SAM","2017-08-26",null,null,{"$f":"IF(OR(AND(WEEKDAY(AR28)=1,Dimanche),AND(WEEKDAY(AR28)=2,Lundi),AND(WEEKDAY(AR28)=3,Mardi),AND(WEEKDAY(AR28)=4,Mercredi),AND(WEEKDAY(AR28)=5,Jeudi),AND(WEEKDAY(AR28)=6,Vendredi),AND(WEEKDAY(AR28)=7,Samedi),AR28=férié),0,1)","v":1},"MAR","2017-09-26",null,null,{"$f":"IF(OR(AND(WEEKDAY(AW28)=1,Dimanche),AND(WEEKDAY(AW28)=2,Lundi),AND(WEEKDAY(AW28)=3,Mardi),AND(WEEKDAY(AW28)=4,Mercredi),AND(WEEKDAY(AW28)=5,Jeudi),AND(WEEKDAY(AW28)=6,Vendredi),AND(WEEKDAY(AW28)=7,Samedi),AW28=férié),0,1)","v":1},"JEU","2017-10-26",null,null,{"$f":"IF(OR(AND(WEEKDAY(BB28)=1,Dimanche),AND(WEEKDAY(BB28)=2,Lundi),AND(WEEKDAY(BB28)=3,Mardi),AND(WEEKDAY(BB28)=4,Mercredi),AND(WEEKDAY(BB28)=5,Jeudi),AND(WEEKDAY(BB28)=6,Vendredi),AND(WEEKDAY(BB28)=7,Samedi),BB28=férié),0,1)","v":0},"DIM","2017-11-26",null,null,{"$f":"IF(OR(AND(WEEKDAY(BG28)=1,Dimanche),AND(WEEKDAY(BG28)=2,Lundi),AND(WEEKDAY(BG28)=3,Mardi),AND(WEEKDAY(BG28)=4,Mercredi),AND(WEEKDAY(BG28)=5,Jeudi),AND(WEEKDAY(BG28)=6,Vendredi),AND(WEEKDAY(BG28)=7,Samedi),BG28=férié),0,1)","v":1},"MAR","2017-12-26"]
[null,{"$f":"IF(OR(AND(WEEKDAY(D29)=1,Dimanche),AND(WEEKDAY(D29)=2,Lundi),AND(WEEKDAY(D29)=3,Mardi),AND(WEEKDAY(D29)=4,Mercredi),AND(WEEKDAY(D29)=5,Jeudi),AND(WEEKDAY(D29)=6,Vendredi),AND(WEEKDAY(D29)=7,Samedi),D29=férié),0,1)","v":1},"VEN","2017-01-27",null,null,{"$f":"IF(OR(AND(WEEKDAY(I29)=1,Dimanche),AND(WEEKDAY(I29)=2,Lundi),AND(WEEKDAY(I29)=3,Mardi),AND(WEEKDAY(I29)=4,Mercredi),AND(WEEKDAY(I29)=5,Jeudi),AND(WEEKDAY(I29)=6,Vendredi),AND(WEEKDAY(I29)=7,Samedi),I29=férié),0,1)","v":1},"LUN","2017-02-27",null,null,{"$f":"IF(OR(AND(WEEKDAY(N29)=1,Dimanche),AND(WEEKDAY(N29)=2,Lundi),AND(WEEKDAY(N29)=3,Mardi),AND(WEEKDAY(N29)=4,Mercredi),AND(WEEKDAY(N29)=5,Jeudi),AND(WEEKDAY(N29)=6,Vendredi),AND(WEEKDAY(N29)=7,Samedi),N29=férié),0,1)","v":1},"LUN","2017-03-27",null,null,{"$f":"IF(OR(AND(WEEKDAY(S29)=1,Dimanche),AND(WEEKDAY(S29)=2,Lundi),AND(WEEKDAY(S29)=3,Mardi),AND(WEEKDAY(S29)=4,Mercredi),AND(WEEKDAY(S29)=5,Jeudi),AND(WEEKDAY(S29)=6,Vendredi),AND(WEEKDAY(S29)=7,Samedi),S29=férié),0,1)","v":1},"JEU","2017-04-27",null,null,{"$f":"IF(OR(AND(WEEKDAY(X29)=1,Dimanche),AND(WEEKDAY(X29)=2,Lundi),AND(WEEKDAY(X29)=3,Mardi),AND(WEEKDAY(X29)=4,Mercredi),AND(WEEKDAY(X29)=5,Jeudi),AND(WEEKDAY(X29)=6,Vendredi),AND(WEEKDAY(X29)=7,Samedi),X29=férié),0,1)","v":0},"SAM","2017-05-27",null,null,{"$f":"IF(OR(AND(WEEKDAY(AC29)=1,Dimanche),AND(WEEKDAY(AC29)=2,Lundi),AND(WEEKDAY(AC29)=3,Mardi),AND(WEEKDAY(AC29)=4,Mercredi),AND(WEEKDAY(AC29)=5,Jeudi),AND(WEEKDAY(AC29)=6,Vendredi),AND(WEEKDAY(AC29)=7,Samedi),AC29=férié),0,1)","v":1},"MAR","2017-06-27",null,null,{"$f":"IF(OR(AND(WEEKDAY(AH29)=1,Dimanche),AND(WEEKDAY(AH29)=2,Lundi),AND(WEEKDAY(AH29)=3,Mardi),AND(WEEKDAY(AH29)=4,Mercredi),AND(WEEKDAY(AH29)=5,Jeudi),AND(WEEKDAY(AH29)=6,Vendredi),AND(WEEKDAY(AH29)=7,Samedi),AH29=férié),0,1)","v":1},"JEU","2017-07-27",null,null,{"$f":"IF(OR(AND(WEEKDAY(AM29)=1,Dimanche),AND(WEEKDAY(AM29)=2,Lundi),AND(WEEKDAY(AM29)=3,Mardi),AND(WEEKDAY(AM29)=4,Mercredi),AND(WEEKDAY(AM29)=5,Jeudi),AND(WEEKDAY(AM29)=6,Vendredi),AND(WEEKDAY(AM29)=7,Samedi),AM29=férié),0,1)","v":0},"DIM","2017-08-27",null,null,{"$f":"IF(OR(AND(WEEKDAY(AR29)=1,Dimanche),AND(WEEKDAY(AR29)=2,Lundi),AND(WEEKDAY(AR29)=3,Mardi),AND(WEEKDAY(AR29)=4,Mercredi),AND(WEEKDAY(AR29)=5,Jeudi),AND(WEEKDAY(AR29)=6,Vendredi),AND(WEEKDAY(AR29)=7,Samedi),AR29=férié),0,1)","v":1},"MER","2017-09-27",null,null,{"$f":"IF(OR(AND(WEEKDAY(AW29)=1,Dimanche),AND(WEEKDAY(AW29)=2,Lundi),AND(WEEKDAY(AW29)=3,Mardi),AND(WEEKDAY(AW29)=4,Mercredi),AND(WEEKDAY(AW29)=5,Jeudi),AND(WEEKDAY(AW29)=6,Vendredi),AND(WEEKDAY(AW29)=7,Samedi),AW29=férié),0,1)","v":1},"VEN","2017-10-27",null,null,{"$f":"IF(OR(AND(WEEKDAY(BB29)=1,Dimanche),AND(WEEKDAY(BB29)=2,Lundi),AND(WEEKDAY(BB29)=3,Mardi),AND(WEEKDAY(BB29)=4,Mercredi),AND(WEEKDAY(BB29)=5,Jeudi),AND(WEEKDAY(BB29)=6,Vendredi),AND(WEEKDAY(BB29)=7,Samedi),BB29=férié),0,1)","v":1},"LUN","2017-11-27",null,null,{"$f":"IF(OR(AND(WEEKDAY(BG29)=1,Dimanche),AND(WEEKDAY(BG29)=2,Lundi),AND(WEEKDAY(BG29)=3,Mardi),AND(WEEKDAY(BG29)=4,Mercredi),AND(WEEKDAY(BG29)=5,Jeudi),AND(WEEKDAY(BG29)=6,Vendredi),AND(WEEKDAY(BG29)=7,Samedi),BG29=férié),0,1)","v":1},"MER","2017-12-27"]
[null,{"$f":"IF(OR(AND(WEEKDAY(D30)=1,Dimanche),AND(WEEKDAY(D30)=2,Lundi),AND(WEEKDAY(D30)=3,Mardi),AND(WEEKDAY(D30)=4,Mercredi),AND(WEEKDAY(D30)=5,Jeudi),AND(WEEKDAY(D30)=6,Vendredi),AND(WEEKDAY(D30)=7,Samedi),D30=férié),0,1)","v":0},"SAM","2017-01-28",null,null,{"$f":"IF(OR(AND(WEEKDAY(I30)=1,Dimanche),AND(WEEKDAY(I30)=2,Lundi),AND(WEEKDAY(I30)=3,Mardi),AND(WEEKDAY(I30)=4,Mercredi),AND(WEEKDAY(I30)=5,Jeudi),AND(WEEKDAY(I30)=6,Vendredi),AND(WEEKDAY(I30)=7,Samedi),I30=férié),0,1)","v":1},"MAR","2017-02-28",null,null,{"$f":"IF(OR(AND(WEEKDAY(N30)=1,Dimanche),AND(WEEKDAY(N30)=2,Lundi),AND(WEEKDAY(N30)=3,Mardi),AND(WEEKDAY(N30)=4,Mercredi),AND(WEEKDAY(N30)=5,Jeudi),AND(WEEKDAY(N30)=6,Vendredi),AND(WEEKDAY(N30)=7,Samedi),N30=férié),0,1)","v":1},"MAR","2017-03-28",null,null,{"$f":"IF(OR(AND(WEEKDAY(S30)=1,Dimanche),AND(WEEKDAY(S30)=2,Lundi),AND(WEEKDAY(S30)=3,Mardi),AND(WEEKDAY(S30)=4,Mercredi),AND(WEEKDAY(S30)=5,Jeudi),AND(WEEKDAY(S30)=6,Vendredi),AND(WEEKDAY(S30)=7,Samedi),S30=férié),0,1)","v":1},"VEN","2017-04-28",null,null,{"$f":"IF(OR(AND(WEEKDAY(X30)=1,Dimanche),AND(WEEKDAY(X30)=2,Lundi),AND(WEEKDAY(X30)=3,Mardi),AND(WEEKDAY(X30)=4,Mercredi),AND(WEEKDAY(X30)=5,Jeudi),AND(WEEKDAY(X30)=6,Vendredi),AND(WEEKDAY(X30)=7,Samedi),X30=férié),0,1)","v":0},"DIM","2017-05-28",null,null,{"$f":"IF(OR(AND(WEEKDAY(AC30)=1,Dimanche),AND(WEEKDAY(AC30)=2,Lundi),AND(WEEKDAY(AC30)=3,Mardi),AND(WEEKDAY(AC30)=4,Mercredi),AND(WEEKDAY(AC30)=5,Jeudi),AND(WEEKDAY(AC30)=6,Vendredi),AND(WEEKDAY(AC30)=7,Samedi),AC30=férié),0,1)","v":1},"MER","2017-06-28",null,null,{"$f":"IF(OR(AND(WEEKDAY(AH30)=1,Dimanche),AND(WEEKDAY(AH30)=2,Lundi),AND(WEEKDAY(AH30)=3,Mardi),AND(WEEKDAY(AH30)=4,Mercredi),AND(WEEKDAY(AH30)=5,Jeudi),AND(WEEKDAY(AH30)=6,Vendredi),AND(WEEKDAY(AH30)=7,Samedi),AH30=férié),0,1)","v":1},"VEN","2017-07-28",null,null,{"$f":"IF(OR(AND(WEEKDAY(AM30)=1,Dimanche),AND(WEEKDAY(AM30)=2,Lundi),AND(WEEKDAY(AM30)=3,Mardi),AND(WEEKDAY(AM30)=4,Mercredi),AND(WEEKDAY(AM30)=5,Jeudi),AND(WEEKDAY(AM30)=6,Vendredi),AND(WEEKDAY(AM30)=7,Samedi),AM30=férié),0,1)","v":1},"LUN","2017-08-28",null,null,{"$f":"IF(OR(AND(WEEKDAY(AR30)=1,Dimanche),AND(WEEKDAY(AR30)=2,Lundi),AND(WEEKDAY(AR30)=3,Mardi),AND(WEEKDAY(AR30)=4,Mercredi),AND(WEEKDAY(AR30)=5,Jeudi),AND(WEEKDAY(AR30)=6,Vendredi),AND(WEEKDAY(AR30)=7,Samedi),AR30=férié),0,1)","v":1},"JEU","2017-09-28",null,null,{"$f":"IF(OR(AND(WEEKDAY(AW30)=1,Dimanche),AND(WEEKDAY(AW30)=2,Lundi),AND(WEEKDAY(AW30)=3,Mardi),AND(WEEKDAY(AW30)=4,Mercredi),AND(WEEKDAY(AW30)=5,Jeudi),AND(WEEKDAY(AW30)=6,Vendredi),AND(WEEKDAY(AW30)=7,Samedi),AW30=férié),0,1)","v":0},"SAM","2017-10-28",null,null,{"$f":"IF(OR(AND(WEEKDAY(BB30)=1,Dimanche),AND(WEEKDAY(BB30)=2,Lundi),AND(WEEKDAY(BB30)=3,Mardi),AND(WEEKDAY(BB30)=4,Mercredi),AND(WEEKDAY(BB30)=5,Jeudi),AND(WEEKDAY(BB30)=6,Vendredi),AND(WEEKDAY(BB30)=7,Samedi),BB30=férié),0,1)","v":1},"MAR","2017-11-28",null,null,{"$f":"IF(OR(AND(WEEKDAY(BG30)=1,Dimanche),AND(WEEKDAY(BG30)=2,Lundi),AND(WEEKDAY(BG30)=3,Mardi),AND(WEEKDAY(BG30)=4,Mercredi),AND(WEEKDAY(BG30)=5,Jeudi),AND(WEEKDAY(BG30)=6,Vendredi),AND(WEEKDAY(BG30)=7,Samedi),BG30=férié),0,1)","v":1},"JEU","2017-12-28"]
[null,{"$f":"IF(OR(AND(WEEKDAY(D31)=1,Dimanche),AND(WEEKDAY(D31)=2,Lundi),AND(WEEKDAY(D31)=3,Mardi),AND(WEEKDAY(D31)=4,Mercredi),AND(WEEKDAY(D31)=5,Jeudi),AND(WEEKDAY(D31)=6,Vendredi),AND(WEEKDAY(D31)=7,Samedi),D31=férié),0,1)","v":0},"DIM",{"$f":"IF(D30=EOMONTH(D$3,0),\"\",D30+1)","v":"2017-01-29"},null,null,{"$f":"IF(OR(AND(WEEKDAY(I31)=1,Dimanche),AND(WEEKDAY(I31)=2,Lundi),AND(WEEKDAY(I31)=3,Mardi),AND(WEEKDAY(I31)=4,Mercredi),AND(WEEKDAY(I31)=5,Jeudi),AND(WEEKDAY(I31)=6,Vendredi),AND(WEEKDAY(I31)=7,Samedi),I31=férié),0,1)","v":{"$error":"#VALUE!"}},"",{"$f":"IF(I30=EOMONTH(I$3,0),\"\",I30+1)","v":""},null,null,{"$f":"IF(OR(AND(WEEKDAY(N31)=1,Dimanche),AND(WEEKDAY(N31)=2,Lundi),AND(WEEKDAY(N31)=3,Mardi),AND(WEEKDAY(N31)=4,Mercredi),AND(WEEKDAY(N31)=5,Jeudi),AND(WEEKDAY(N31)=6,Vendredi),AND(WEEKDAY(N31)=7,Samedi),N31=férié),0,1)","v":1},"MER",{"$f":"IF(N30=EOMONTH(N$3,0),\"\",N30+1)","v":"2017-03-29"},null,null,{"$f":"IF(OR(AND(WEEKDAY(S31)=1,Dimanche),AND(WEEKDAY(S31)=2,Lundi),AND(WEEKDAY(S31)=3,Mardi),AND(WEEKDAY(S31)=4,Mercredi),AND(WEEKDAY(S31)=5,Jeudi),AND(WEEKDAY(S31)=6,Vendredi),AND(WEEKDAY(S31)=7,Samedi),S31=férié),0,1)","v":0},"SAM",{"$f":"IF(S30=EOMONTH(S$3,0),\"\",S30+1)","v":"2017-04-29"},null,null,{"$f":"IF(OR(AND(WEEKDAY(X31)=1,Dimanche),AND(WEEKDAY(X31)=2,Lundi),AND(WEEKDAY(X31)=3,Mardi),AND(WEEKDAY(X31)=4,Mercredi),AND(WEEKDAY(X31)=5,Jeudi),AND(WEEKDAY(X31)=6,Vendredi),AND(WEEKDAY(X31)=7,Samedi),X31=férié),0,1)","v":1},"LUN",{"$f":"IF(X30=EOMONTH(X$3,0),\"\",X30+1)","v":"2017-05-29"},null,null,{"$f":"IF(OR(AND(WEEKDAY(AC31)=1,Dimanche),AND(WEEKDAY(AC31)=2,Lundi),AND(WEEKDAY(AC31)=3,Mardi),AND(WEEKDAY(AC31)=4,Mercredi),AND(WEEKDAY(AC31)=5,Jeudi),AND(WEEKDAY(AC31)=6,Vendredi),AND(WEEKDAY(AC31)=7,Samedi),AC31=férié),0,1)","v":1},"JEU",{"$f":"IF(AC30=EOMONTH(AC$3,0),\"\",AC30+1)","v":"2017-06-29"},null,null,{"$f":"IF(OR(AND(WEEKDAY(AH31)=1,Dimanche),AND(WEEKDAY(AH31)=2,Lundi),AND(WEEKDAY(AH31)=3,Mardi),AND(WEEKDAY(AH31)=4,Mercredi),AND(WEEKDAY(AH31)=5,Jeudi),AND(WEEKDAY(AH31)=6,Vendredi),AND(WEEKDAY(AH31)=7,Samedi),AH31=férié),0,1)","v":0},"SAM",{"$f":"IF(AH30=EOMONTH(AH$3,0),\"\",AH30+1)","v":"2017-07-29"},null,null,{"$f":"IF(OR(AND(WEEKDAY(AM31)=1,Dimanche),AND(WEEKDAY(AM31)=2,Lundi),AND(WEEKDAY(AM31)=3,Mardi),AND(WEEKDAY(AM31)=4,Mercredi),AND(WEEKDAY(AM31)=5,Jeudi),AND(WEEKDAY(AM31)=6,Vendredi),AND(WEEKDAY(AM31)=7,Samedi),AM31=férié),0,1)","v":1},"MAR",{"$f":"IF(AM30=EOMONTH(AM$3,0),\"\",AM30+1)","v":"2017-08-29"},null,null,{"$f":"IF(OR(AND(WEEKDAY(AR31)=1,Dimanche),AND(WEEKDAY(AR31)=2,Lundi),AND(WEEKDAY(AR31)=3,Mardi),AND(WEEKDAY(AR31)=4,Mercredi),AND(WEEKDAY(AR31)=5,Jeudi),AND(WEEKDAY(AR31)=6,Vendredi),AND(WEEKDAY(AR31)=7,Samedi),AR31=férié),0,1)","v":1},"VEN",{"$f":"IF(AR30=EOMONTH(AR$3,0),\"\",AR30+1)","v":"2017-09-29"},null,null,{"$f":"IF(OR(AND(WEEKDAY(AW31)=1,Dimanche),AND(WEEKDAY(AW31)=2,Lundi),AND(WEEKDAY(AW31)=3,Mardi),AND(WEEKDAY(AW31)=4,Mercredi),AND(WEEKDAY(AW31)=5,Jeudi),AND(WEEKDAY(AW31)=6,Vendredi),AND(WEEKDAY(AW31)=7,Samedi),AW31=férié),0,1)","v":0},"DIM",{"$f":"IF(AW30=EOMONTH(AW$3,0),\"\",AW30+1)","v":"2017-10-29"},null,null,{"$f":"IF(OR(AND(WEEKDAY(BB31)=1,Dimanche),AND(WEEKDAY(BB31)=2,Lundi),AND(WEEKDAY(BB31)=3,Mardi),AND(WEEKDAY(BB31)=4,Mercredi),AND(WEEKDAY(BB31)=5,Jeudi),AND(WEEKDAY(BB31)=6,Vendredi),AND(WEEKDAY(BB31)=7,Samedi),BB31=férié),0,1)","v":1},"MER",{"$f":"IF(BB30=EOMONTH(BB$3,0),\"\",BB30+1)","v":"2017-11-29"},null,null,{"$f":"IF(OR(AND(WEEKDAY(BG31)=1,Dimanche),AND(WEEKDAY(BG31)=2,Lundi),AND(WEEKDAY(BG31)=3,Mardi),AND(WEEKDAY(BG31)=4,Mercredi),AND(WEEKDAY(BG31)=5,Jeudi),AND(WEEKDAY(BG31)=6,Vendredi),AND(WEEKDAY(BG31)=7,Samedi),BG31=férié),0,1)","v":1},"VEN",{"$f":"IF(BG30=EOMONTH(BG$3,0),\"\",BG30+1)","v":"2017-12-29"}]
[null,{"$f":"IF(OR(AND(WEEKDAY(D32)=1,Dimanche),AND(WEEKDAY(D32)=2,Lundi),AND(WEEKDAY(D32)=3,Mardi),AND(WEEKDAY(D32)=4,Mercredi),AND(WEEKDAY(D32)=5,Jeudi),AND(WEEKDAY(D32)=6,Vendredi),AND(WEEKDAY(D32)=7,Samedi),D32=férié),0,1)","v":1},"LUN",{"$f":"IFERROR(IF(D31=EOMONTH(D$3,0),\"\",D31+1),\"\")","v":"2017-01-30"},null,null,{"$f":"IF(OR(AND(WEEKDAY(I32)=1,Dimanche),AND(WEEKDAY(I32)=2,Lundi),AND(WEEKDAY(I32)=3,Mardi),AND(WEEKDAY(I32)=4,Mercredi),AND(WEEKDAY(I32)=5,Jeudi),AND(WEEKDAY(I32)=6,Vendredi),AND(WEEKDAY(I32)=7,Samedi),I32=férié),0,1)","v":{"$error":"#VALUE!"}},"",{"$f":"IFERROR(IF(I31=EOMONTH(I$3,0),\"\",I31+1),\"\")","v":""},null,null,{"$f":"IF(OR(AND(WEEKDAY(N32)=1,Dimanche),AND(WEEKDAY(N32)=2,Lundi),AND(WEEKDAY(N32)=3,Mardi),AND(WEEKDAY(N32)=4,Mercredi),AND(WEEKDAY(N32)=5,Jeudi),AND(WEEKDAY(N32)=6,Vendredi),AND(WEEKDAY(N32)=7,Samedi),N32=férié),0,1)","v":1},"JEU",{"$f":"IFERROR(IF(N31=EOMONTH(N$3,0),\"\",N31+1),\"\")","v":"2017-03-30"},null,null,{"$f":"IF(OR(AND(WEEKDAY(S32)=1,Dimanche),AND(WEEKDAY(S32)=2,Lundi),AND(WEEKDAY(S32)=3,Mardi),AND(WEEKDAY(S32)=4,Mercredi),AND(WEEKDAY(S32)=5,Jeudi),AND(WEEKDAY(S32)=6,Vendredi),AND(WEEKDAY(S32)=7,Samedi),S32=férié),0,1)","v":0},"DIM",{"$f":"IFERROR(IF(S31=EOMONTH(S$3,0),\"\",S31+1),\"\")","v":"2017-04-30"},null,null,{"$f":"IF(OR(AND(WEEKDAY(X32)=1,Dimanche),AND(WEEKDAY(X32)=2,Lundi),AND(WEEKDAY(X32)=3,Mardi),AND(WEEKDAY(X32)=4,Mercredi),AND(WEEKDAY(X32)=5,Jeudi),AND(WEEKDAY(X32)=6,Vendredi),AND(WEEKDAY(X32)=7,Samedi),X32=férié),0,1)","v":1},"MAR",{"$f":"IFERROR(IF(X31=EOMONTH(X$3,0),\"\",X31+1),\"\")","v":"2017-05-30"},null,null,{"$f":"IF(OR(AND(WEEKDAY(AC32)=1,Dimanche),AND(WEEKDAY(AC32)=2,Lundi),AND(WEEKDAY(AC32)=3,Mardi),AND(WEEKDAY(AC32)=4,Mercredi),AND(WEEKDAY(AC32)=5,Jeudi),AND(WEEKDAY(AC32)=6,Vendredi),AND(WEEKDAY(AC32)=7,Samedi),AC32=férié),0,1)","v":1},"VEN",{"$f":"IFERROR(IF(AC31=EOMONTH(AC$3,0),\"\",AC31+1),\"\")","v":"2017-06-30"},null,null,{"$f":"IF(OR(AND(WEEKDAY(AH32)=1,Dimanche),AND(WEEKDAY(AH32)=2,Lundi),AND(WEEKDAY(AH32)=3,Mardi),AND(WEEKDAY(AH32)=4,Mercredi),AND(WEEKDAY(AH32)=5,Jeudi),AND(WEEKDAY(AH32)=6,Vendredi),AND(WEEKDAY(AH32)=7,Samedi),AH32=férié),0,1)","v":0},"DIM",{"$f":"IFERROR(IF(AH31=EOMONTH(AH$3,0),\"\",AH31+1),\"\")","v":"2017-07-30"},null,null,{"$f":"IF(OR(AND(WEEKDAY(AM32)=1,Dimanche),AND(WEEKDAY(AM32)=2,Lundi),AND(WEEKDAY(AM32)=3,Mardi),AND(WEEKDAY(AM32)=4,Mercredi),AND(WEEKDAY(AM32)=5,Jeudi),AND(WEEKDAY(AM32)=6,Vendredi),AND(WEEKDAY(AM32)=7,Samedi),AM32=férié),0,1)","v":1},"MER",{"$f":"IFERROR(IF(AM31=EOMONTH(AM$3,0),\"\",AM31+1),\"\")","v":"2017-08-30"},null,null,{"$f":"IF(OR(AND(WEEKDAY(AR32)=1,Dimanche),AND(WEEKDAY(AR32)=2,Lundi),AND(WEEKDAY(AR32)=3,Mardi),AND(WEEKDAY(AR32)=4,Mercredi),AND(WEEKDAY(AR32)=5,Jeudi),AND(WEEKDAY(AR32)=6,Vendredi),AND(WEEKDAY(AR32)=7,Samedi),AR32=férié),0,1)","v":0},"SAM",{"$f":"IFERROR(IF(AR31=EOMONTH(AR$3,0),\"\",AR31+1),\"\")","v":"2017-09-30"},null,null,{"$f":"IF(OR(AND(WEEKDAY(AW32)=1,Dimanche),AND(WEEKDAY(AW32)=2,Lundi),AND(WEEKDAY(AW32)=3,Mardi),AND(WEEKDAY(AW32)=4,Mercredi),AND(WEEKDAY(AW32)=5,Jeudi),AND(WEEKDAY(AW32)=6,Vendredi),AND(WEEKDAY(AW32)=7,Samedi),AW32=férié),0,1)","v":1},"LUN",{"$f":"IFERROR(IF(AW31=EOMONTH(AW$3,0),\"\",AW31+1),\"\")","v":"2017-10-30"},null,null,{"$f":"IF(OR(AND(WEEKDAY(BB32)=1,Dimanche),AND(WEEKDAY(BB32)=2,Lundi),AND(WEEKDAY(BB32)=3,Mardi),AND(WEEKDAY(BB32)=4,Mercredi),AND(WEEKDAY(BB32)=5,Jeudi),AND(WEEKDAY(BB32)=6,Vendredi),AND(WEEKDAY(BB32)=7,Samedi),BB32=férié),0,1)","v":1},"JEU",{"$f":"IFERROR(IF(BB31=EOMONTH(BB$3,0),\"\",BB31+1),\"\")","v":"2017-11-30"},null,null,{"$f":"IF(OR(AND(WEEKDAY(BG32)=1,Dimanche),AND(WEEKDAY(BG32)=2,Lundi),AND(WEEKDAY(BG32)=3,Mardi),AND(WEEKDAY(BG32)=4,Mercredi),AND(WEEKDAY(BG32)=5,Jeudi),AND(WEEKDAY(BG32)=6,Vendredi),AND(WEEKDAY(BG32)=7,Samedi),BG32=férié),0,1)","v":0},"SAM",{"$f":"IFERROR(IF(BG31=EOMONTH(BG$3,0),\"\",BG31+1),\"\")","v":"2017-12-30"}]
[null,{"$f":"IF(OR(AND(WEEKDAY(D33)=1,Dimanche),AND(WEEKDAY(D33)=2,Lundi),AND(WEEKDAY(D33)=3,Mardi),AND(WEEKDAY(D33)=4,Mercredi),AND(WEEKDAY(D33)=5,Jeudi),AND(WEEKDAY(D33)=6,Vendredi),AND(WEEKDAY(D33)=7,Samedi),D33=férié),0,1)","v":1},"MAR",{"$f":"IFERROR(IF(D32=EOMONTH(D$3,0),\"\",D32+1),\"\")","v":"2017-01-31"},null,null,{"$f":"IF(OR(AND(WEEKDAY(I33)=1,Dimanche),AND(WEEKDAY(I33)=2,Lundi),AND(WEEKDAY(I33)=3,Mardi),AND(WEEKDAY(I33)=4,Mercredi),AND(WEEKDAY(I33)=5,Jeudi),AND(WEEKDAY(I33)=6,Vendredi),AND(WEEKDAY(I33)=7,Samedi),I33=férié),0,1)","v":{"$error":"#VALUE!"}},"",{"$f":"IFERROR(IF(I32=EOMONTH(I$3,0),\"\",I32+1),\"\")","v":""},null,null,{"$f":"IF(OR(AND(WEEKDAY(N33)=1,Dimanche),AND(WEEKDAY(N33)=2,Lundi),AND(WEEKDAY(N33)=3,Mardi),AND(WEEKDAY(N33)=4,Mercredi),AND(WEEKDAY(N33)=5,Jeudi),AND(WEEKDAY(N33)=6,Vendredi),AND(WEEKDAY(N33)=7,Samedi),N33=férié),0,1)","v":1},"VEN",{"$f":"IFERROR(IF(N32=EOMONTH(N$3,0),\"\",N32+1),\"\")","v":"2017-03-31"},null,null,{"$f":"IF(OR(AND(WEEKDAY(S33)=1,Dimanche),AND(WEEKDAY(S33)=2,Lundi),AND(WEEKDAY(S33)=3,Mardi),AND(WEEKDAY(S33)=4,Mercredi),AND(WEEKDAY(S33)=5,Jeudi),AND(WEEKDAY(S33)=6,Vendredi),AND(WEEKDAY(S33)=7,Samedi),S33=férié),0,1)","v":{"$error":"#VALUE!"}},"",{"$f":"IFERROR(IF(S32=EOMONTH(S$3,0),\"\",S32+1),\"\")","v":""},null,null,{"$f":"IF(OR(AND(WEEKDAY(X33)=1,Dimanche),AND(WEEKDAY(X33)=2,Lundi),AND(WEEKDAY(X33)=3,Mardi),AND(WEEKDAY(X33)=4,Mercredi),AND(WEEKDAY(X33)=5,Jeudi),AND(WEEKDAY(X33)=6,Vendredi),AND(WEEKDAY(X33)=7,Samedi),X33=férié),0,1)","v":1},"MER",{"$f":"IFERROR(IF(X32=EOMONTH(X$3,0),\"\",X32+1),\"\")","v":"2017-05-31"},null,null,{"$f":"IF(OR(AND(WEEKDAY(AC33)=1,Dimanche),AND(WEEKDAY(AC33)=2,Lundi),AND(WEEKDAY(AC33)=3,Mardi),AND(WEEKDAY(AC33)=4,Mercredi),AND(WEEKDAY(AC33)=5,Jeudi),AND(WEEKDAY(AC33)=6,Vendredi),AND(WEEKDAY(AC33)=7,Samedi),AC33=férié),0,1)","v":{"$error":"#VALUE!"}},"",{"$f":"IFERROR(IF(AC32=EOMONTH(AC$3,0),\"\",AC32+1),\"\")","v":""},null,null,{"$f":"IF(OR(AND(WEEKDAY(AH33)=1,Dimanche),AND(WEEKDAY(AH33)=2,Lundi),AND(WEEKDAY(AH33)=3,Mardi),AND(WEEKDAY(AH33)=4,Mercredi),AND(WEEKDAY(AH33)=5,Jeudi),AND(WEEKDAY(AH33)=6,Vendredi),AND(WEEKDAY(AH33)=7,Samedi),AH33=férié),0,1)","v":1},"LUN",{"$f":"IFERROR(IF(AH32=EOMONTH(AH$3,0),\"\",AH32+1),\"\")","v":"2017-07-31"},null,null,{"$f":"IF(OR(AND(WEEKDAY(AM33)=1,Dimanche),AND(WEEKDAY(AM33)=2,Lundi),AND(WEEKDAY(AM33)=3,Mardi),AND(WEEKDAY(AM33)=4,Mercredi),AND(WEEKDAY(AM33)=5,Jeudi),AND(WEEKDAY(AM33)=6,Vendredi),AND(WEEKDAY(AM33)=7,Samedi),AM33=férié),0,1)","v":1},"JEU",{"$f":"IFERROR(IF(AM32=EOMONTH(AM$3,0),\"\",AM32+1),\"\")","v":"2017-08-31"},null,null,{"$f":"IF(OR(AND(WEEKDAY(AR33)=1,Dimanche),AND(WEEKDAY(AR33)=2,Lundi),AND(WEEKDAY(AR33)=3,Mardi),AND(WEEKDAY(AR33)=4,Mercredi),AND(WEEKDAY(AR33)=5,Jeudi),AND(WEEKDAY(AR33)=6,Vendredi),AND(WEEKDAY(AR33)=7,Samedi),AR33=férié),0,1)","v":{"$error":"#VALUE!"}},"",{"$f":"IFERROR(IF(AR32=EOMONTH(AR$3,0),\"\",AR32+1),\"\")","v":""},null,null,{"$f":"IF(OR(AND(WEEKDAY(AW33)=1,Dimanche),AND(WEEKDAY(AW33)=2,Lundi),AND(WEEKDAY(AW33)=3,Mardi),AND(WEEKDAY(AW33)=4,Mercredi),AND(WEEKDAY(AW33)=5,Jeudi),AND(WEEKDAY(AW33)=6,Vendredi),AND(WEEKDAY(AW33)=7,Samedi),AW33=férié),0,1)","v":1},"MAR",{"$f":"IFERROR(IF(AW32=EOMONTH(AW$3,0),\"\",AW32+1),\"\")","v":"2017-10-31"},null,null,{"$f":"IF(OR(AND(WEEKDAY(BB33)=1,Dimanche),AND(WEEKDAY(BB33)=2,Lundi),AND(WEEKDAY(BB33)=3,Mardi),AND(WEEKDAY(BB33)=4,Mercredi),AND(WEEKDAY(BB33)=5,Jeudi),AND(WEEKDAY(BB33)=6,Vendredi),AND(WEEKDAY(BB33)=7,Samedi),BB33=férié),0,1)","v":{"$error":"#VALUE!"}},"",{"$f":"IFERROR(IF(BB32=EOMONTH(BB$3,0),\"\",BB32+1),\"\")","v":""},null,null,{"$f":"IF(OR(AND(WEEKDAY(BG33)=1,Dimanche),AND(WEEKDAY(BG33)=2,Lundi),AND(WEEKDAY(BG33)=3,Mardi),AND(WEEKDAY(BG33)=4,Mercredi),AND(WEEKDAY(BG33)=5,Jeudi),AND(WEEKDAY(BG33)=6,Vendredi),AND(WEEKDAY(BG33)=7,Samedi),BG33=férié),0,1)","v":0},"DIM",{"$f":"IFERROR(IF(BG32=EOMONTH(BG$3,0),\"\",BG32+1),\"\")","v":"2017-12-31"}]

{"sheet":"Personnel 01_AN","index":11,"n_rows":33,"n_cols":59,"rows_kept":33,"cut":false,"hidden":false,"merged":[[1,47,1,49],[1,52,1,54],[1,57,1,59],[0,3,0,59],[1,2,1,4],[1,7,1,9],[1,12,1,14],[1,17,1,19],[1,22,1,24],[1,27,1,29],[1,32,1,34],[1,37,1,39],[1,42,1,44]]}
[null,null,{"$f":"MID(CELL(\"nomfichier\",D1),FIND(\"]\",CELL(\"nomfichier\",D1))+1,100)","v":"Personnel 01_AN"},{"$f":"\"Feuille Annuelle Récapitulative de\n\"&MID(C1,1,LEN(C1)-3)&\" - pour l'année \"&YEAR(debut)&IF(YEAR(BG30)=YEAR(debut),\"\",\" / \"&YEAR(debut)+1)","v":"Feuille Annuelle Récapitulative de\nPersonnel 01 - pour l'année 2017"}]
[null,null,{"$f":"UPPER(TEXT(DATE(AN,Mois_deb_planning,1),\"MMMM AAAA\"))","v":"JANVIER 2017"},null,null,null,null,{"$f":"UPPER(TEXT(DATE(AN,Mois_deb_planning+1,1),\"MMMM AAAA\"))","v":"FÉVRIER 2017"},null,null,null,null,{"$f":"UPPER(TEXT(DATE(AN,Mois_deb_planning+2,1),\"MMMM AAAA\"))","v":"MARS 2017"},null,null,null,null,{"$f":"UPPER(TEXT(DATE(AN,Mois_deb_planning+3,1),\"MMMM AAAA\"))","v":"AVRIL 2017"},null,null,null,null,{"$f":"UPPER(TEXT(DATE(AN,Mois_deb_planning+4,1),\"MMMM AAAA\"))","v":"MAI 2017"},null,null,null,null,{"$f":"UPPER(TEXT(DATE(AN,Mois_deb_planning+5,1),\"MMMM AAAA\"))","v":"JUIN 2017"},null,null,null,null,{"$f":"UPPER(TEXT(DATE(AN,Mois_deb_planning+6,1),\"MMMM AAAA\"))","v":"JUILLET 2017"},null,null,null,null,{"$f":"UPPER(TEXT(DATE(AN,Mois_deb_planning+7,1),\"MMMM AAAA\"))","v":"AOÛT 2017"},null,null,null,null,{"$f":"UPPER(TEXT(DATE(AN,Mois_deb_planning+8,1),\"MMMM AAAA\"))","v":"SEPTEMBRE 2017"},null,null,null,null,{"$f":"UPPER(TEXT(DATE(AN,Mois_deb_planning+9,1),\"MMMM AAAA\"))","v":"OCTOBRE 2017"},null,null,null,null,{"$f":"UPPER(TEXT(DATE(AN,Mois_deb_planning+10,1),\"MMMM AAAA\"))","v":"NOVEMBRE 2017"},null,null,null,null,{"$f":"UPPER(TEXT(DATE(AN,Mois_deb_planning+11,1),\"MMMM AAAA\"))","v":"DÉCEMBRE 2017"}]
[null,{"$f":"IF(OR(AND(WEEKDAY(D3)=1,Dimanche),AND(WEEKDAY(D3)=2,Lundi),AND(WEEKDAY(D3)=3,Mardi),AND(WEEKDAY(D3)=4,Mercredi),AND(WEEKDAY(D3)=5,Jeudi),AND(WEEKDAY(D3)=6,Vendredi),AND(WEEKDAY(D3)=7,Samedi),D3=férié),0,1)","v":0},{"$f":"UPPER(TEXT(D3,\"jjj\"))","v":"DIM"},{"$f":"debut","v":"2017-01-01"},null,null,{"$f":"IF(OR(AND(WEEKDAY(I3)=1,Dimanche),AND(WEEKDAY(I3)=2,Lundi),AND(WEEKDAY(I3)=3,Mardi),AND(WEEKDAY(I3)=4,Mercredi),AND(WEEKDAY(I3)=5,Jeudi),AND(WEEKDAY(I3)=6,Vendredi),AND(WEEKDAY(I3)=7,Samedi),I3=férié),0,1)","v":1},{"$f":"UPPER(TEXT(I3,\"jjj\"))","v":"MER"},{"$f":"DATE(AN,MONTH(debut)+1,1)","v":"2017-02-01"},null,null,{"$f":"IF(OR(AND(WEEKDAY(N3)=1,Dimanche),AND(WEEKDAY(N3)=2,Lundi),AND(WEEKDAY(N3)=3,Mardi),AND(WEEKDAY(N3)=4,Mercredi),AND(WEEKDAY(N3)=5,Jeudi),AND(WEEKDAY(N3)=6,Vendredi),AND(WEEKDAY(N3)=7,Samedi),N3=férié),0,1)","v":1},{"$f":"UPPER(TEXT(N3,\"jjj\"))","v":"MER"},{"$f":"DATE(AN,MONTH(debut)+2,1)","v":"2017-03-01"},null,null,{"$f":"IF(OR(AND(WEEKDAY(S3)=1,Dimanche),AND(WEEKDAY(S3)=2,Lundi),AND(WEEKDAY(S3)=3,Mardi),AND(WEEKDAY(S3)=4,Mercredi),AND(WEEKDAY(S3)=5,Jeudi),AND(WEEKDAY(S3)=6,Vendredi),AND(WEEKDAY(S3)=7,Samedi),S3=férié),0,1)","v":0},{"$f":"UPPER(TEXT(S3,\"jjj\"))","v":"SAM"},{"$f":"DATE(AN,MONTH(debut)+3,1)","v":"2017-04-01"},null,null,{"$f":"IF(OR(AND(WEEKDAY(X3)=1,Dimanche),AND(WEEKDAY(X3)=2,Lundi),AND(WEEKDAY(X3)=3,Mardi),AND(WEEKDAY(X3)=4,Mercredi),AND(WEEKDAY(X3)=5,Jeudi),AND(WEEKDAY(X3)=6,Vendredi),AND(WEEKDAY(X3)=7,Samedi),X3=férié),0,1)","v":0},{"$f":"UPPER(TEXT(X3,\"jjj\"))","v":"LUN"},{"$f":"DATE(AN,MONTH(debut)+4,1)","v":"2017-05-01"},null,null,{"$f":"IF(OR(AND(WEEKDAY(AC3)=1,Dimanche),AND(WEEKDAY(AC3)=2,Lundi),AND(WEEKDAY(AC3)=3,Mardi),AND(WEEKDAY(AC3)=4,Mercredi),AND(WEEKDAY(AC3)=5,Jeudi),AND(WEEKDAY(AC3)=6,Vendredi),AND(WEEKDAY(AC3)=7,Samedi),AC3=férié),0,1)","v":1},{"$f":"UPPER(TEXT(AC3,\"jjj\"))","v":"JEU"},{"$f":"DATE(AN,MONTH(debut)+5,1)","v":"2017-06-01"},null,null,{"$f":"IF(OR(AND(WEEKDAY(AH3)=1,Dimanche),AND(WEEKDAY(AH3)=2,Lundi),AND(WEEKDAY(AH3)=3,Mardi),AND(WEEKDAY(AH3)=4,Mercredi),AND(WEEKDAY(AH3)=5,Jeudi),AND(WEEKDAY(AH3)=6,Vendredi),AND(WEEKDAY(AH3)=7,Samedi),AH3=férié),0,1)","v":0},{"$f":"UPPER(TEXT(AH3,\"jjj\"))","v":"SAM"},{"$f":"DATE(AN,MONTH(debut)+6,1)","v":"2017-07-01"},null,null,{"$f":"IF(OR(AND(WEEKDAY(AM3)=1,Dimanche),AND(WEEKDAY(AM3)=2,Lundi),AND(WEEKDAY(AM3)=3,Mardi),AND(WEEKDAY(AM3)=4,Mercredi),AND(WEEKDAY(AM3)=5,Jeudi),AND(WEEKDAY(AM3)=6,Vendredi),AND(WEEKDAY(AM3)=7,Samedi),AM3=férié),0,1)","v":1},{"$f":"UPPER(TEXT(AM3,\"jjj\"))","v":"MAR"},{"$f":"DATE(AN,MONTH(debut)+7,1)","v":"2017-08-01"},null,null,{"$f":"IF(OR(AND(WEEKDAY(AR3)=1,Dimanche),AND(WEEKDAY(AR3)=2,Lundi),AND(WEEKDAY(AR3)=3,Mardi),AND(WEEKDAY(AR3)=4,Mercredi),AND(WEEKDAY(AR3)=5,Jeudi),AND(WEEKDAY(AR3)=6,Vendredi),AND(WEEKDAY(AR3)=7,Samedi),AR3=férié),0,1)","v":1},{"$f":"UPPER(TEXT(AR3,\"jjj\"))","v":"VEN"},{"$f":"DATE(AN,MONTH(debut)+8,1)","v":"2017-09-01"},null,null,{"$f":"IF(OR(AND(WEEKDAY(AW3)=1,Dimanche),AND(WEEKDAY(AW3)=2,Lundi),AND(WEEKDAY(AW3)=3,Mardi),AND(WEEKDAY(AW3)=4,Mercredi),AND(WEEKDAY(AW3)=5,Jeudi),AND(WEEKDAY(AW3)=6,Vendredi),AND(WEEKDAY(AW3)=7,Samedi),AW3=férié),0,1)","v":0},{"$f":"UPPER(TEXT(AW3,\"jjj\"))","v":"DIM"},{"$f":"DATE(AN,MONTH(debut)+9,1)","v":"2017-10-01"},null,null,{"$f":"IF(OR(AND(WEEKDAY(BB3)=1,Dimanche),AND(WEEKDAY(BB3)=2,Lundi),AND(WEEKDAY(BB3)=3,Mardi),AND(WEEKDAY(BB3)=4,Mercredi),AND(WEEKDAY(BB3)=5,Jeudi),AND(WEEKDAY(BB3)=6,Vendredi),AND(WEEKDAY(BB3)=7,Samedi),BB3=férié),0,1)","v":0},{"$f":"UPPER(TEXT(BB3,\"jjj\"))","v":"MER"},{"$f":"DATE(AN,MONTH(debut)+10,1)","v":"2017-11-01"},null,null,{"$f":"IF(OR(AND(WEEKDAY(BG3)=1,Dimanche),AND(WEEKDAY(BG3)=2,Lundi),AND(WEEKDAY(BG3)=3,Mardi),AND(WEEKDAY(BG3)=4,Mercredi),AND(WEEKDAY(BG3)=5,Jeudi),AND(WEEKDAY(BG3)=6,Vendredi),AND(WEEKDAY(BG3)=7,Samedi),BG3=férié),0,1)","v":1},{"$f":"UPPER(TEXT(BG3,\"jjj\"))","v":"VEN"},{"$f":"DATE(AN,MONTH(debut)+11,1)","v":"2017-12-01"}]
[null,{"$f":"IF(OR(AND(WEEKDAY(D4)=1,Dimanche),AND(WEEKDAY(D4)=2,Lundi),AND(WEEKDAY(D4)=3,Mardi),AND(WEEKDAY(D4)=4,Mercredi),AND(WEEKDAY(D4)=5,Jeudi),AND(WEEKDAY(D4)=6,Vendredi),AND(WEEKDAY(D4)=7,Samedi),D4=férié),0,1)","v":1},{"$f":"UPPER(TEXT(D4,\"jjj\"))","v":"LUN"},{"$f":"D3+1","v":"2017-01-02"},null,null,{"$f":"IF(OR(AND(WEEKDAY(I4)=1,Dimanche),AND(WEEKDAY(I4)=2,Lundi),AND(WEEKDAY(I4)=3,Mardi),AND(WEEKDAY(I4)=4,Mercredi),AND(WEEKDAY(I4)=5,Jeudi),AND(WEEKDAY(I4)=6,Vendredi),AND(WEEKDAY(I4)=7,Samedi),I4=férié),0,1)","v":1},{"$f":"UPPER(TEXT(I4,\"jjj\"))","v":"JEU"},{"$f":"I3+1","v":"2017-02-02"},null,null,{"$f":"IF(OR(AND(WEEKDAY(N4)=1,Dimanche),AND(WEEKDAY(N4)=2,Lundi),AND(WEEKDAY(N4)=3,Mardi),AND(WEEKDAY(N4)=4,Mercredi),AND(WEEKDAY(N4)=5,Jeudi),AND(WEEKDAY(N4)=6,Vendredi),AND(WEEKDAY(N4)=7,Samedi),N4=férié),0,1)","v":1},{"$f":"UPPER(TEXT(N4,\"jjj\"))","v":"JEU"},{"$f":"N3+1","v":"2017-03-02"},null,null,{"$f":"IF(OR(AND(WEEKDAY(S4)=1,Dimanche),AND(WEEKDAY(S4)=2,Lundi),AND(WEEKDAY(S4)=3,Mardi),AND(WEEKDAY(S4)=4,Mercredi),AND(WEEKDAY(S4)=5,Jeudi),AND(WEEKDAY(S4)=6,Vendredi),AND(WEEKDAY(S4)=7,Samedi),S4=férié),0,1)","v":0},{"$f":"UPPER(TEXT(S4,\"jjj\"))","v":"DIM"},{"$f":"S3+1","v":"2017-04-02"},null,null,{"$f":"IF(OR(AND(WEEKDAY(X4)=1,Dimanche),AND(WEEKDAY(X4)=2,Lundi),AND(WEEKDAY(X4)=3,Mardi),AND(WEEKDAY(X4)=4,Mercredi),AND(WEEKDAY(X4)=5,Jeudi),AND(WEEKDAY(X4)=6,Vendredi),AND(WEEKDAY(X4)=7,Samedi),X4=férié),0,1)","v":1},{"$f":"UPPER(TEXT(X4,\"jjj\"))","v":"MAR"},{"$f":"X3+1","v":"2017-05-02"},null,null,{"$f":"IF(OR(AND(WEEKDAY(AC4)=1,Dimanche),AND(WEEKDAY(AC4)=2,Lundi),AND(WEEKDAY(AC4)=3,Mardi),AND(WEEKDAY(AC4)=4,Mercredi),AND(WEEKDAY(AC4)=5,Jeudi),AND(WEEKDAY(AC4)=6,Vendredi),AND(WEEKDAY(AC4)=7,Samedi),AC4=férié),0,1)","v":1},{"$f":"UPPER(TEXT(AC4,\"jjj\"))","v":"VEN"},{"$f":"AC3+1","v":"2017-06-02"},null,null,{"$f":"IF(OR(AND(WEEKDAY(AH4)=1,Dimanche),AND(WEEKDAY(AH4)=2,Lundi),AND(WEEKDAY(AH4)=3,Mardi),AND(WEEKDAY(AH4)=4,Mercredi),AND(WEEKDAY(AH4)=5,Jeudi),AND(WEEKDAY(AH4)=6,Vendredi),AND(WEEKDAY(AH4)=7,Samedi),AH4=férié),0,1)","v":0},{"$f":"UPPER(TEXT(AH4,\"jjj\"))","v":"DIM"},{"$f":"AH3+1","v":"2017-07-02"},null,null,{"$f":"IF(OR(AND(WEEKDAY(AM4)=1,Dimanche),AND(WEEKDAY(AM4)=2,Lundi),AND(WEEKDAY(AM4)=3,Mardi),AND(WEEKDAY(AM4)=4,Mercredi),AND(WEEKDAY(AM4)=5,Jeudi),AND(WEEKDAY(AM4)=6,Vendredi),AND(WEEKDAY(AM4)=7,Samedi),AM4=férié),0,1)","v":1},{"$f":"UPPER(TEXT(AM4,\"jjj\"))","v":"MER"},{"$f":"AM3+1","v":"2017-08-02"},null,null,{"$f":"IF(OR(AND(WEEKDAY(AR4)=1,Dimanche),AND(WEEKDAY(AR4)=2,Lundi),AND(WEEKDAY(AR4)=3,Mardi),AND(WEEKDAY(AR4)=4,Mercredi),AND(WEEKDAY(AR4)=5,Jeudi),AND(WEEKDAY(AR4)=6,Vendredi),AND(WEEKDAY(AR4)=7,Samedi),AR4=férié),0,1)","v":0},{"$f":"UPPER(TEXT(AR4,\"jjj\"))","v":"SAM"},{"$f":"AR3+1","v":"2017-09-02"},null,null,{"$f":"IF(OR(AND(WEEKDAY(AW4)=1,Dimanche),AND(WEEKDAY(AW4)=2,Lundi),AND(WEEKDAY(AW4)=3,Mardi),AND(WEEKDAY(AW4)=4,Mercredi),AND(WEEKDAY(AW4)=5,Jeudi),AND(WEEKDAY(AW4)=6,Vendredi),AND(WEEKDAY(AW4)=7,Samedi),AW4=férié),0,1)","v":1},{"$f":"UPPER(TEXT(AW4,\"jjj\"))","v":"LUN"},{"$f":"AW3+1","v":"2017-10-02"},null,null,{"$f":"IF(OR(AND(WEEKDAY(BB4)=1,Dimanche),AND(WEEKDAY(BB4)=2,Lundi),AND(WEEKDAY(BB4)=3,Mardi),AND(WEEKDAY(BB4)=4,Mercredi),AND(WEEKDAY(BB4)=5,Jeudi),AND(WEEKDAY(BB4)=6,Vendredi),AND(WEEKDAY(BB4)=7,Samedi),BB4=férié),0,1)","v":1},{"$f":"UPPER(TEXT(BB4,\"jjj\"))","v":"JEU"},{"$f":"BB3+1","v":"2017-11-02"},null,null,{"$f":"IF(OR(AND(WEEKDAY(BG4)=1,Dimanche),AND(WEEKDAY(BG4)=2,Lundi),AND(WEEKDAY(BG4)=3,Mardi),AND(WEEKDAY(BG4)=4,Mercredi),AND(WEEKDAY(BG4)=5,Jeudi),AND(WEEKDAY(BG4)=6,Vendredi),AND(WEEKDAY(BG4)=7,Samedi),BG4=férié),0,1)","v":0},{"$f":"UPPER(TEXT(BG4,\"jjj\"))","v":"SAM"},{"$f":"BG3+1","v":"2017-12-02"}]
[null,{"$f":"IF(OR(AND(WEEKDAY(D5)=1,Dimanche),AND(WEEKDAY(D5)=2,Lundi),AND(WEEKDAY(D5)=3,Mardi),AND(WEEKDAY(D5)=4,Mercredi),AND(WEEKDAY(D5)=5,Jeudi),AND(WEEKDAY(D5)=6,Vendredi),AND(WEEKDAY(D5)=7,Samedi),D5=férié),0,1)","v":1},{"$f":"UPPER(TEXT(D5,\"jjj\"))","v":"MAR"},{"$f":"D4+1","v":"2017-01-03"},null,null,{"$f":"IF(OR(AND(WEEKDAY(I5)=1,Dimanche),AND(WEEKDAY(I5)=2,Lundi),AND(WEEKDAY(I5)=3,Mardi),AND(WEEKDAY(I5)=4,Mercredi),AND(WEEKDAY(I5)=5,Jeudi),AND(WEEKDAY(I5)=6,Vendredi),AND(WEEKDAY(I5)=7,Samedi),I5=férié),0,1)","v":1},{"$f":"UPPER(TEXT(I5,\"jjj\"))","v":"VEN"},{"$f":"I4+1","v":"2017-02-03"},null,null,{"$f":"IF(OR(AND(WEEKDAY(N5)=1,Dimanche),AND(WEEKDAY(N5)=2,Lundi),AND(WEEKDAY(N5)=3,Mardi),AND(WEEKDAY(N5)=4,Mercredi),AND(WEEKDAY(N5)=5,Jeudi),AND(WEEKDAY(N5)=6,Vendredi),AND(WEEKDAY(N5)=7,Samedi),N5=férié),0,1)","v":1},{"$f":"UPPER(TEXT(N5,\"jjj\"))","v":"VEN"},{"$f":"N4+1","v":"2017-03-03"},null,null,{"$f":"IF(OR(AND(WEEKDAY(S5)=1,Dimanche),AND(WEEKDAY(S5)=2,Lundi),AND(WEEKDAY(S5)=3,Mardi),AND(WEEKDAY(S5)=4,Mercredi),AND(WEEKDAY(S5)=5,Jeudi),AND(WEEKDAY(S5)=6,Vendredi),AND(WEEKDAY(S5)=7,Samedi),S5=férié),0,1)","v":1},{"$f":"UPPER(TEXT(S5,\"jjj\"))","v":"LUN"},{"$f":"S4+1","v":"2017-04-03"},null,null,{"$f":"IF(OR(AND(WEEKDAY(X5)=1,Dimanche),AND(WEEKDAY(X5)=2,Lundi),AND(WEEKDAY(X5)=3,Mardi),AND(WEEKDAY(X5)=4,Mercredi),AND(WEEKDAY(X5)=5,Jeudi),AND(WEEKDAY(X5)=6,Vendredi),AND(WEEKDAY(X5)=7,Samedi),X5=férié),0,1)","v":1},{"$f":"UPPER(TEXT(X5,\"jjj\"))","v":"MER"},{"$f":"X4+1","v":"2017-05-03"},null,null,{"$f":"IF(OR(AND(WEEKDAY(AC5)=1,Dimanche),AND(WEEKDAY(AC5)=2,Lundi),AND(WEEKDAY(AC5)=3,Mardi),AND(WEEKDAY(AC5)=4,Mercredi),AND(WEEKDAY(AC5)=5,Jeudi),AND(WEEKDAY(AC5)=6,Vendredi),AND(WEEKDAY(AC5)=7,Samedi),AC5=férié),0,1)","v":0},{"$f":"UPPER(TEXT(AC5,\"jjj\"))","v":"SAM"},{"$f":"AC4+1","v":"2017-06-03"},null,null,{"$f":"IF(OR(AND(WEEKDAY(AH5)=1,Dimanche),AND(WEEKDAY(AH5)=2,Lundi),AND(WEEKDAY(AH5)=3,Mardi),AND(WEEKDAY(AH5)=4,Mercredi),AND(WEEKDAY(AH5)=5,Jeudi),AND(WEEKDAY(AH5)=6,Vendredi),AND(WEEKDAY(AH5)=7,Samedi),AH5=férié),0,1)","v":1},{"$f":"UPPER(TEXT(AH5,\"jjj\"))","v":"LUN"},{"$f":"AH4+1","v":"2017-07-03"},null,null,{"$f":"IF(OR(AND(WEEKDAY(AM5)=1,Dimanche),AND(WEEKDAY(AM5)=2,Lundi),AND(WEEKDAY(AM5)=3,Mardi),AND(WEEKDAY(AM5)=4,Mercredi),AND(WEEKDAY(AM5)=5,Jeudi),AND(WEEKDAY(AM5)=6,Vendredi),AND(WEEKDAY(AM5)=7,Samedi),AM5=férié),0,1)","v":1},{"$f":"UPPER(TEXT(AM5,\"jjj\"))","v":"JEU"},{"$f":"AM4+1","v":"2017-08-03"},null,null,{"$f":"IF(OR(AND(WEEKDAY(AR5)=1,Dimanche),AND(WEEKDAY(AR5)=2,Lundi),AND(WEEKDAY(AR5)=3,Mardi),AND(WEEKDAY(AR5)=4,Mercredi),AND(WEEKDAY(AR5)=5,Jeudi),AND(WEEKDAY(AR5)=6,Vendredi),AND(WEEKDAY(AR5)=7,Samedi),AR5=férié),0,1)","v":0},{"$f":"UPPER(TEXT(AR5,\"jjj\"))","v":"DIM"},{"$f":"AR4+1","v":"2017-09-03"},null,null,{"$f":"IF(OR(AND(WEEKDAY(AW5)=1,Dimanche),AND(WEEKDAY(AW5)=2,Lundi),AND(WEEKDAY(AW5)=3,Mardi),AND(WEEKDAY(AW5)=4,Mercredi),AND(WEEKDAY(AW5)=5,Jeudi),AND(WEEKDAY(AW5)=6,Vendredi),AND(WEEKDAY(AW5)=7,Samedi),AW5=férié),0,1)","v":1},{"$f":"UPPER(TEXT(AW5,\"jjj\"))","v":"MAR"},{"$f":"AW4+1","v":"2017-10-03"},null,null,{"$f":"IF(OR(AND(WEEKDAY(BB5)=1,Dimanche),AND(WEEKDAY(BB5)=2,Lundi),AND(WEEKDAY(BB5)=3,Mardi),AND(WEEKDAY(BB5)=4,Mercredi),AND(WEEKDAY(BB5)=5,Jeudi),AND(WEEKDAY(BB5)=6,Vendredi),AND(WEEKDAY(BB5)=7,Samedi),BB5=férié),0,1)","v":1},{"$f":"UPPER(TEXT(BB5,\"jjj\"))","v":"VEN"},{"$f":"BB4+1","v":"2017-11-03"},null,null,{"$f":"IF(OR(AND(WEEKDAY(BG5)=1,Dimanche),AND(WEEKDAY(BG5)=2,Lundi),AND(WEEKDAY(BG5)=3,Mardi),AND(WEEKDAY(BG5)=4,Mercredi),AND(WEEKDAY(BG5)=5,Jeudi),AND(WEEKDAY(BG5)=6,Vendredi),AND(WEEKDAY(BG5)=7,Samedi),BG5=férié),0,1)","v":0},{"$f":"UPPER(TEXT(BG5,\"jjj\"))","v":"DIM"},{"$f":"BG4+1","v":"2017-12-03"}]
[null,{"$f":"IF(OR(AND(WEEKDAY(D6)=1,Dimanche),AND(WEEKDAY(D6)=2,Lundi),AND(WEEKDAY(D6)=3,Mardi),AND(WEEKDAY(D6)=4,Mercredi),AND(WEEKDAY(D6)=5,Jeudi),AND(WEEKDAY(D6)=6,Vendredi),AND(WEEKDAY(D6)=7,Samedi),D6=férié),0,1)","v":1},"MER","2017-01-04",null,null,{"$f":"IF(OR(AND(WEEKDAY(I6)=1,Dimanche),AND(WEEKDAY(I6)=2,Lundi),AND(WEEKDAY(I6)=3,Mardi),AND(WEEKDAY(I6)=4,Mercredi),AND(WEEKDAY(I6)=5,Jeudi),AND(WEEKDAY(I6)=6,Vendredi),AND(WEEKDAY(I6)=7,Samedi),I6=férié),0,1)","v":0},"SAM","2017-02-04",null,null,{"$f":"IF(OR(AND(WEEKDAY(N6)=1,Dimanche),AND(WEEKDAY(N6)=2,Lundi),AND(WEEKDAY(N6)=3,Mardi),AND(WEEKDAY(N6)=4,Mercredi),AND(WEEKDAY(N6)=5,Jeudi),AND(WEEKDAY(N6)=6,Vendredi),AND(WEEKDAY(N6)=7,Samedi),N6=férié),0,1)","v":0},"SAM","2017-03-04",null,null,{"$f":"IF(OR(AND(WEEKDAY(S6)=1,Dimanche),AND(WEEKDAY(S6)=2,Lundi),AND(WEEKDAY(S6)=3,Mardi),AND(WEEKDAY(S6)=4,Mercredi),AND(WEEKDAY(S6)=5,Jeudi),AND(WEEKDAY(S6)=6,Vendredi),AND(WEEKDAY(S6)=7,Samedi),S6=férié),0,1)","v":1},"MAR","2017-04-04",null,null,{"$f":"IF(OR(AND(WEEKDAY(X6)=1,Dimanche),AND(WEEKDAY(X6)=2,Lundi),AND(WEEKDAY(X6)=3,Mardi),AND(WEEKDAY(X6)=4,Mercredi),AND(WEEKDAY(X6)=5,Jeudi),AND(WEEKDAY(X6)=6,Vendredi),AND(WEEKDAY(X6)=7,Samedi),X6=férié),0,1)","v":1},"JEU","2017-05-04",null,null,{"$f":"IF(OR(AND(WEEKDAY(AC6)=1,Dimanche),AND(WEEKDAY(AC6)=2,Lundi),AND(WEEKDAY(AC6)=3,Mardi),AND(WEEKDAY(AC6)=4,Mercredi),AND(WEEKDAY(AC6)=5,Jeudi),AND(WEEKDAY(AC6)=6,Vendredi),AND(WEEKDAY(AC6)=7,Samedi),AC6=férié),0,1)","v":0},"DIM","2017-06-04",null,null,{"$f":"IF(OR(AND(WEEKDAY(AH6)=1,Dimanche),AND(WEEKDAY(AH6)=2,Lundi),AND(WEEKDAY(AH6)=3,Mardi),AND(WEEKDAY(AH6)=4,Mercredi),AND(WEEKDAY(AH6)=5,Jeudi),AND(WEEKDAY(AH6)=6,Vendredi),AND(WEEKDAY(AH6)=7,Samedi),AH6=férié),0,1)","v":1},"MAR","2017-07-04",null,null,{"$f":"IF(OR(AND(WEEKDAY(AM6)=1,Dimanche),AND(WEEKDAY(AM6)=2,Lundi),AND(WEEKDAY(AM6)=3,Mardi),AND(WEEKDAY(AM6)=4,Mercredi),AND(WEEKDAY(AM6)=5,Jeudi),AND(WEEKDAY(AM6)=6,Vendredi),AND(WEEKDAY(AM6)=7,Samedi),AM6=férié),0,1)","v":1},"VEN","2017-08-04",null,null,{"$f":"IF(OR(AND(WEEKDAY(AR6)=1,Dimanche),AND(WEEKDAY(AR6)=2,Lundi),AND(WEEKDAY(AR6)=3,Mardi),AND(WEEKDAY(AR6)=4,Mercredi),AND(WEEKDAY(AR6)=5,Jeudi),AND(WEEKDAY(AR6)=6,Vendredi),AND(WEEKDAY(AR6)=7,Samedi),AR6=férié),0,1)","v":1},"LUN","2017-09-04",null,null,{"$f":"IF(OR(AND(WEEKDAY(AW6)=1,Dimanche),AND(WEEKDAY(AW6)=2,Lundi),AND(WEEKDAY(AW6)=3,Mardi),AND(WEEKDAY(AW6)=4,Mercredi),AND(WEEKDAY(AW6)=5,Jeudi),AND(WEEKDAY(AW6)=6,Vendredi),AND(WEEKDAY(AW6)=7,Samedi),AW6=férié),0,1)","v":1},"MER","2017-10-04",null,null,{"$f":"IF(OR(AND(WEEKDAY(BB6)=1,Dimanche),AND(WEEKDAY(BB6)=2,Lundi),AND(WEEKDAY(BB6)=3,Mardi),AND(WEEKDAY(BB6)=4,Mercredi),AND(WEEKDAY(BB6)=5,Jeudi),AND(WEEKDAY(BB6)=6,Vendredi),AND(WEEKDAY(BB6)=7,Samedi),BB6=férié),0,1)","v":0},"SAM","2017-11-04",null,null,{"$f":"IF(OR(AND(WEEKDAY(BG6)=1,Dimanche),AND(WEEKDAY(BG6)=2,Lundi),AND(WEEKDAY(BG6)=3,Mardi),AND(WEEKDAY(BG6)=4,Mercredi),AND(WEEKDAY(BG6)=5,Jeudi),AND(WEEKDAY(BG6)=6,Vendredi),AND(WEEKDAY(BG6)=7,Samedi),BG6=férié),0,1)","v":1},"LUN","2017-12-04"]
[null,{"$f":"IF(OR(AND(WEEKDAY(D7)=1,Dimanche),AND(WEEKDAY(D7)=2,Lundi),AND(WEEKDAY(D7)=3,Mardi),AND(WEEKDAY(D7)=4,Mercredi),AND(WEEKDAY(D7)=5,Jeudi),AND(WEEKDAY(D7)=6,Vendredi),AND(WEEKDAY(D7)=7,Samedi),D7=férié),0,1)","v":1},"JEU","2017-01-05",null,null,{"$f":"IF(OR(AND(WEEKDAY(I7)=1,Dimanche),AND(WEEKDAY(I7)=2,Lundi),AND(WEEKDAY(I7)=3,Mardi),AND(WEEKDAY(I7)=4,Mercredi),AND(WEEKDAY(I7)=5,Jeudi),AND(WEEKDAY(I7)=6,Vendredi),AND(WEEKDAY(I7)=7,Samedi),I7=férié),0,1)","v":0},"DIM","2017-02-05",null,null,{"$f":"IF(OR(AND(WEEKDAY(N7)=1,Dimanche),AND(WEEKDAY(N7)=2,Lundi),AND(WEEKDAY(N7)=3,Mardi),AND(WEEKDAY(N7)=4,Mercredi),AND(WEEKDAY(N7)=5,Jeudi),AND(WEEKDAY(N7)=6,Vendredi),AND(WEEKDAY(N7)=7,Samedi),N7=férié),0,1)","v":0},"DIM","2017-03-05",null,null,{"$f":"IF(OR(AND(WEEKDAY(S7)=1,Dimanche),AND(WEEKDAY(S7)=2,Lundi),AND(WEEKDAY(S7)=3,Mardi),AND(WEEKDAY(S7)=4,Mercredi),AND(WEEKDAY(S7)=5,Jeudi),AND(WEEKDAY(S7)=6,Vendredi),AND(WEEKDAY(S7)=7,Samedi),S7=férié),0,1)","v":1},"MER","2017-04-05",null,null,{"$f":"IF(OR(AND(WEEKDAY(X7)=1,Dimanche),AND(WEEKDAY(X7)=2,Lundi),AND(WEEKDAY(X7)=3,Mardi),AND(WEEKDAY(X7)=4,Mercredi),AND(WEEKDAY(X7)=5,Jeudi),AND(WEEKDAY(X7)=6,Vendredi),AND(WEEKDAY(X7)=7,Samedi),X7=férié),0,1)","v":1},"VEN","2017-05-05",null,null,{"$f":"IF(OR(AND(WEEKDAY(AC7)=1,Dimanche),AND(WEEKDAY(AC7)=2,Lundi),AND(WEEKDAY(AC7)=3,Mardi),AND(WEEKDAY(AC7)=4,Mercredi),AND(WEEKDAY(AC7)=5,Jeudi),AND(WEEKDAY(AC7)=6,Vendredi),AND(WEEKDAY(AC7)=7,Samedi),AC7=férié),0,1)","v":0},"LUN","2017-06-05",null,null,{"$f":"IF(OR(AND(WEEKDAY(AH7)=1,Dimanche),AND(WEEKDAY(AH7)=2,Lundi),AND(WEEKDAY(AH7)=3,Mardi),AND(WEEKDAY(AH7)=4,Mercredi),AND(WEEKDAY(AH7)=5,Jeudi),AND(WEEKDAY(AH7)=6,Vendredi),AND(WEEKDAY(AH7)=7,Samedi),AH7=férié),0,1)","v":1},"MER","2017-07-05",null,null,{"$f":"IF(OR(AND(WEEKDAY(AM7)=1,Dimanche),AND(WEEKDAY(AM7)=2,Lundi),AND(WEEKDAY(AM7)=3,Mardi),AND(WEEKDAY(AM7)=4,Mercredi),AND(WEEKDAY(AM7)=5,Jeudi),AND(WEEKDAY(AM7)=6,Vendredi),AND(WEEKDAY(AM7)=7,Samedi),AM7=férié),0,1)","v":0},"SAM","2017-08-05",null,null,{"$f":"IF(OR(AND(WEEKDAY(AR7)=1,Dimanche),AND(WEEKDAY(AR7)=2,Lundi),AND(WEEKDAY(AR7)=3,Mardi),AND(WEEKDAY(AR7)=4,Mercredi),AND(WEEKDAY(AR7)=5,Jeudi),AND(WEEKDAY(AR7)=6,Vendredi),AND(WEEKDAY(AR7)=7,Samedi),AR7=férié),0,1)","v":1},"MAR","2017-09-05",null,null,{"$f":"IF(OR(AND(WEEKDAY(AW7)=1,Dimanche),AND(WEEKDAY(AW7)=2,Lundi),AND(WEEKDAY(AW7)=3,Mardi),AND(WEEKDAY(AW7)=4,Mercredi),AND(WEEKDAY(AW7)=5,Jeudi),AND(WEEKDAY(AW7)=6,Vendredi),AND(WEEKDAY(AW7)=7,Samedi),AW7=férié),0,1)","v":1},"JEU","2017-10-05",null,null,{"$f":"IF(OR(AND(WEEKDAY(BB7)=1,Dimanche),AND(WEEKDAY(BB7)=2,Lundi),AND(WEEKDAY(BB7)=3,Mardi),AND(WEEKDAY(BB7)=4,Mercredi),AND(WEEKDAY(BB7)=5,Jeudi),AND(WEEKDAY(BB7)=6,Vendredi),AND(WEEKDAY(BB7)=7,Samedi),BB7=férié),0,1)","v":0},"DIM","2017-11-05",null,null,{"$f":"IF(OR(AND(WEEKDAY(BG7)=1,Dimanche),AND(WEEKDAY(BG7)=2,Lundi),AND(WEEKDAY(BG7)=3,Mardi),AND(WEEKDAY(BG7)=4,Mercredi),AND(WEEKDAY(BG7)=5,Jeudi),AND(WEEKDAY(BG7)=6,Vendredi),AND(WEEKDAY(BG7)=7,Samedi),BG7=férié),0,1)","v":1},"MAR","2017-12-05"]
[null,{"$f":"IF(OR(AND(WEEKDAY(D8)=1,Dimanche),AND(WEEKDAY(D8)=2,Lundi),AND(WEEKDAY(D8)=3,Mardi),AND(WEEKDAY(D8)=4,Mercredi),AND(WEEKDAY(D8)=5,Jeudi),AND(WEEKDAY(D8)=6,Vendredi),AND(WEEKDAY(D8)=7,Samedi),D8=férié),0,1)","v":1},"VEN","2017-01-06",null,null,{"$f":"IF(OR(AND(WEEKDAY(I8)=1,Dimanche),AND(WEEKDAY(I8)=2,Lundi),AND(WEEKDAY(I8)=3,Mardi),AND(WEEKDAY(I8)=4,Mercredi),AND(WEEKDAY(I8)=5,Jeudi),AND(WEEKDAY(I8)=6,Vendredi),AND(WEEKDAY(I8)=7,Samedi),I8=férié),0,1)","v":1},"LUN","2017-02-06",null,null,{"$f":"IF(OR(AND(WEEKDAY(N8)=1,Dimanche),AND(WEEKDAY(N8)=2,Lundi),AND(WEEKDAY(N8)=3,Mardi),AND(WEEKDAY(N8)=4,Mercredi),AND(WEEKDAY(N8)=5,Jeudi),AND(WEEKDAY(N8)=6,Vendredi),AND(WEEKDAY(N8)=7,Samedi),N8=férié),0,1)","v":1},"LUN","2017-03-06",null,null,{"$f":"IF(OR(AND(WEEKDAY(S8)=1,Dimanche),AND(WEEKDAY(S8)=2,Lundi),AND(WEEKDAY(S8)=3,Mardi),AND(WEEKDAY(S8)=4,Mercredi),AND(WEEKDAY(S8)=5,Jeudi),AND(WEEKDAY(S8)=6,Vendredi),AND(WEEKDAY(S8)=7,Samedi),S8=férié),0,1)","v":1},"JEU","2017-04-06",null,null,{"$f":"IF(OR(AND(WEEKDAY(X8)=1,Dimanche),AND(WEEKDAY(X8)=2,Lundi),AND(WEEKDAY(X8)=3,Mardi),AND(WEEKDAY(X8)=4,Mercredi),AND(WEEKDAY(X8)=5,Jeudi),AND(WEEKDAY(X8)=6,Vendredi),AND(WEEKDAY(X8)=7,Samedi),X8=férié),0,1)","v":0},"SAM","2017-05-06",null,null,{"$f":"IF(OR(AND(WEEKDAY(AC8)=1,Dimanche),AND(WEEKDAY(AC8)=2,Lundi),AND(WEEKDAY(AC8)=3,Mardi),AND(WEEKDAY(AC8)=4,Mercredi),AND(WEEKDAY(AC8)=5,Jeudi),AND(WEEKDAY(AC8)=6,Vendredi),AND(WEEKDAY(AC8)=7,Samedi),AC8=férié),0,1)","v":1},"MAR","2017-06-06",null,null,{"$f":"IF(OR(AND(WEEKDAY(AH8)=1,Dimanche),AND(WEEKDAY(AH8)=2,Lundi),AND(WEEKDAY(AH8)=3,Mardi),AND(WEEKDAY(AH8)=4,Mercredi),AND(WEEKDAY(AH8)=5,Jeudi),AND(WEEKDAY(AH8)=6,Vendredi),AND(WEEKDAY(AH8)=7,Samedi),AH8=férié),0,1)","v":1},"JEU","2017-07-06",null,null,{"$f":"IF(OR(AND(WEEKDAY(AM8)=1,Dimanche),AND(WEEKDAY(AM8)=2,Lundi),AND(WEEKDAY(AM8)=3,Mardi),AND(WEEKDAY(AM8)=4,Mercredi),AND(WEEKDAY(AM8)=5,Jeudi),AND(WEEKDAY(AM8)=6,Vendredi),AND(WEEKDAY(AM8)=7,Samedi),AM8=férié),0,1)","v":0},"DIM","2017-08-06",null,null,{"$f":"IF(OR(AND(WEEKDAY(AR8)=1,Dimanche),AND(WEEKDAY(AR8)=2,Lundi),AND(WEEKDAY(AR8)=3,Mardi),AND(WEEKDAY(AR8)=4,Mercredi),AND(WEEKDAY(AR8)=5,Jeudi),AND(WEEKDAY(AR8)=6,Vendredi),AND(WEEKDAY(AR8)=7,Samedi),AR8=férié),0,1)","v":1},"MER","2017-09-06",null,null,{"$f":"IF(OR(AND(WEEKDAY(AW8)=1,Dimanche),AND(WEEKDAY(AW8)=2,Lundi),AND(WEEKDAY(AW8)=3,Mardi),AND(WEEKDAY(AW8)=4,Mercredi),AND(WEEKDAY(AW8)=5,Jeudi),AND(WEEKDAY(AW8)=6,Vendredi),AND(WEEKDAY(AW8)=7,Samedi),AW8=férié),0,1)","v":1},"VEN","2017-10-06",null,null,{"$f":"IF(OR(AND(WEEKDAY(BB8)=1,Dimanche),AND(WEEKDAY(BB8)=2,Lundi),AND(WEEKDAY(BB8)=3,Mardi),AND(WEEKDAY(BB8)=4,Mercredi),AND(WEEKDAY(BB8)=5,Jeudi),AND(WEEKDAY(BB8)=6,Vendredi),AND(WEEKDAY(BB8)=7,Samedi),BB8=férié),0,1)","v":1},"LUN","2017-11-06",null,null,{"$f":"IF(OR(AND(WEEKDAY(BG8)=1,Dimanche),AND(WEEKDAY(BG8)=2,Lundi),AND(WEEKDAY(BG8)=3,Mardi),AND(WEEKDAY(BG8)=4,Mercredi),AND(WEEKDAY(BG8)=5,Jeudi),AND(WEEKDAY(BG8)=6,Vendredi),AND(WEEKDAY(BG8)=7,Samedi),BG8=férié),0,1)","v":1},"MER","2017-12-06"]
[null,{"$f":"IF(OR(AND(WEEKDAY(D9)=1,Dimanche),AND(WEEKDAY(D9)=2,Lundi),AND(WEEKDAY(D9)=3,Mardi),AND(WEEKDAY(D9)=4,Mercredi),AND(WEEKDAY(D9)=5,Jeudi),AND(WEEKDAY(D9)=6,Vendredi),AND(WEEKDAY(D9)=7,Samedi),D9=férié),0,1)","v":0},"SAM","2017-01-07",null,null,{"$f":"IF(OR(AND(WEEKDAY(I9)=1,Dimanche),AND(WEEKDAY(I9)=2,Lundi),AND(WEEKDAY(I9)=3,Mardi),AND(WEEKDAY(I9)=4,Mercredi),AND(WEEKDAY(I9)=5,Jeudi),AND(WEEKDAY(I9)=6,Vendredi),AND(WEEKDAY(I9)=7,Samedi),I9=férié),0,1)","v":1},"MAR","2017-02-07",null,null,{"$f":"IF(OR(AND(WEEKDAY(N9)=1,Dimanche),AND(WEEKDAY(N9)=2,Lundi),AND(WEEKDAY(N9)=3,Mardi),AND(WEEKDAY(N9)=4,Mercredi),AND(WEEKDAY(N9)=5,Jeudi),AND(WEEKDAY(N9)=6,Vendredi),AND(WEEKDAY(N9)=7,Samedi),N9=férié),0,1)","v":1},"MAR","2017-03-07",null,null,{"$f":"IF(OR(AND(WEEKDAY(S9)=1,Dimanche),AND(WEEKDAY(S9)=2,Lundi),AND(WEEKDAY(S9)=3,Mardi),AND(WEEKDAY(S9)=4,Mercredi),AND(WEEKDAY(S9)=5,Jeudi),AND(WEEKDAY(S9)=6,Vendredi),AND(WEEKDAY(S9)=7,Samedi),S9=férié),0,1)","v":1},"VEN","2017-04-07",null,null,{"$f":"IF(OR(AND(WEEKDAY(X9)=1,Dimanche),AND(WEEKDAY(X9)=2,Lundi),AND(WEEKDAY(X9)=3,Mardi),AND(WEEKDAY(X9)=4,Mercredi),AND(WEEKDAY(X9)=5,Jeudi),AND(WEEKDAY(X9)=6,Vendredi),AND(WEEKDAY(X9)=7,Samedi),X9=férié),0,1)","v":0},"DIM","2017-05-07",null,null,{"$f":"IF(OR(AND(WEEKDAY(AC9)=1,Dimanche),AND(WEEKDAY(AC9)=2,Lundi),AND(WEEKDAY(AC9)=3,Mardi),AND(WEEKDAY(AC9)=4,Mercredi),AND(WEEKDAY(AC9)=5,Jeudi),AND(WEEKDAY(AC9)=6,Vendredi),AND(WEEKDAY(AC9)=7,Samedi),AC9=férié),0,1)","v":1},"MER","2017-06-07",null,null,{"$f":"IF(OR(AND(WEEKDAY(AH9)=1,Dimanche),AND(WEEKDAY(AH9)=2,Lundi),AND(WEEKDAY(AH9)=3,Mardi),AND(WEEKDAY(AH9)=4,Mercredi),AND(WEEKDAY(AH9)=5,Jeudi),AND(WEEKDAY(AH9)=6,Vendredi),AND(WEEKDAY(AH9)=7,Samedi),AH9=férié),0,1)","v":1},"VEN","2017-07-07",null,null,{"$f":"IF(OR(AND(WEEKDAY(AM9)=1,Dimanche),AND(WEEKDAY(AM9)=2,Lundi),AND(WEEKDAY(AM9)=3,Mardi),AND(WEEKDAY(AM9)=4,Mercredi),AND(WEEKDAY(AM9)=5,Jeudi),AND(WEEKDAY(AM9)=6,Vendredi),AND(WEEKDAY(AM9)=7,Samedi),AM9=férié),0,1)","v":1},"LUN","2017-08-07",null,null,{"$f":"IF(OR(AND(WEEKDAY(AR9)=1,Dimanche),AND(WEEKDAY(AR9)=2,Lundi),AND(WEEKDAY(AR9)=3,Mardi),AND(WEEKDAY(AR9)=4,Mercredi),AND(WEEKDAY(AR9)=5,Jeudi),AND(WEEKDAY(AR9)=6,Vendredi),AND(WEEKDAY(AR9)=7,Samedi),AR9=férié),0,1)","v":1},"JEU","2017-09-07",null,null,{"$f":"IF(OR(AND(WEEKDAY(AW9)=1,Dimanche),AND(WEEKDAY(AW9)=2,Lundi),AND(WEEKDAY(AW9)=3,Mardi),AND(WEEKDAY(AW9)=4,Mercredi),AND(WEEKDAY(AW9)=5,Jeudi),AND(WEEKDAY(AW9)=6,Vendredi),AND(WEEKDAY(AW9)=7,Samedi),AW9=férié),0,1)","v":0},"SAM","2017-10-07",null,null,{"$f":"IF(OR(AND(WEEKDAY(BB9)=1,Dimanche),AND(WEEKDAY(BB9)=2,Lundi),AND(WEEKDAY(BB9)=3,Mardi),AND(WEEKDAY(BB9)=4,Mercredi),AND(WEEKDAY(BB9)=5,Jeudi),AND(WEEKDAY(BB9)=6,Vendredi),AND(WEEKDAY(BB9)=7,Samedi),BB9=férié),0,1)","v":1},"MAR","2017-11-07",null,null,{"$f":"IF(OR(AND(WEEKDAY(BG9)=1,Dimanche),AND(WEEKDAY(BG9)=2,Lundi),AND(WEEKDAY(BG9)=3,Mardi),AND(WEEKDAY(BG9)=4,Mercredi),AND(WEEKDAY(BG9)=5,Jeudi),AND(WEEKDAY(BG9)=6,Vendredi),AND(WEEKDAY(BG9)=7,Samedi),BG9=férié),0,1)","v":1},"JEU","2017-12-07"]
[null,{"$f":"IF(OR(AND(WEEKDAY(D10)=1,Dimanche),AND(WEEKDAY(D10)=2,Lundi),AND(WEEKDAY(D10)=3,Mardi),AND(WEEKDAY(D10)=4,Mercredi),AND(WEEKDAY(D10)=5,Jeudi),AND(WEEKDAY(D10)=6,Vendredi),AND(WEEKDAY(D10)=7,Samedi),D10=férié),0,1)","v":0},"DIM","2017-01-08",null,null,{"$f":"IF(OR(AND(WEEKDAY(I10)=1,Dimanche),AND(WEEKDAY(I10)=2,Lundi),AND(WEEKDAY(I10)=3,Mardi),AND(WEEKDAY(I10)=4,Mercredi),AND(WEEKDAY(I10)=5,Jeudi),AND(WEEKDAY(I10)=6,Vendredi),AND(WEEKDAY(I10)=7,Samedi),I10=férié),0,1)","v":1},"MER","2017-02-08",null,null,{"$f":"IF(OR(AND(WEEKDAY(N10)=1,Dimanche),AND(WEEKDAY(N10)=2,Lundi),AND(WEEKDAY(N10)=3,Mardi),AND(WEEKDAY(N10)=4,Mercredi),AND(WEEKDAY(N10)=5,Jeudi),AND(WEEKDAY(N10)=6,Vendredi),AND(WEEKDAY(N10)=7,Samedi),N10=férié),0,1)","v":1},"MER","2017-03-08",null,null,{"$f":"IF(OR(AND(WEEKDAY(S10)=1,Dimanche),AND(WEEKDAY(S10)=2,Lundi),AND(WEEKDAY(S10)=3,Mardi),AND(WEEKDAY(S10)=4,Mercredi),AND(WEEKDAY(S10)=5,Jeudi),AND(WEEKDAY(S10)=6,Vendredi),AND(WEEKDAY(S10)=7,Samedi),S10=férié),0,1)","v":0},"SAM","2017-04-08",null,null,{"$f":"IF(OR(AND(WEEKDAY(X10)=1,Dimanche),AND(WEEKDAY(X10)=2,Lundi),AND(WEEKDAY(X10)=3,Mardi),AND(WEEKDAY(X10)=4,Mercredi),AND(WEEKDAY(X10)=5,Jeudi),AND(WEEKDAY(X10)=6,Vendredi),AND(WEEKDAY(X10)=7,Samedi),X10=férié),0,1)","v":0},"LUN","2017-05-08",null,null,{"$f":"IF(OR(AND(WEEKDAY(AC10)=1,Dimanche),AND(WEEKDAY(AC10)=2,Lundi),AND(WEEKDAY(AC10)=3,Mardi),AND(WEEKDAY(AC10)=4,Mercredi),AND(WEEKDAY(AC10)=5,Jeudi),AND(WEEKDAY(AC10)=6,Vendredi),AND(WEEKDAY(AC10)=7,Samedi),AC10=férié),0,1)","v":1},"JEU","2017-06-08",null,null,{"$f":"IF(OR(AND(WEEKDAY(AH10)=1,Dimanche),AND(WEEKDAY(AH10)=2,Lundi),AND(WEEKDAY(AH10)=3,Mardi),AND(WEEKDAY(AH10)=4,Mercredi),AND(WEEKDAY(AH10)=5,Jeudi),AND(WEEKDAY(AH10)=6,Vendredi),AND(WEEKDAY(AH10)=7,Samedi),AH10=férié),0,1)","v":0},"SAM","2017-07-08",null,null,{"$f":"IF(OR(AND(WEEKDAY(AM10)=1,Dimanche),AND(WEEKDAY(AM10)=2,Lundi),AND(WEEKDAY(AM10)=3,Mardi),AND(WEEKDAY(AM10)=4,Mercredi),AND(WEEKDAY(AM10)=5,Jeudi),AND(WEEKDAY(AM10)=6,Vendredi),AND(WEEKDAY(AM10)=7,Samedi),AM10=férié),0,1)","v":1},"MAR","2017-08-08",null,null,{"$f":"IF(OR(AND(WEEKDAY(AR10)=1,Dimanche),AND(WEEKDAY(AR10)=2,Lundi),AND(WEEKDAY(AR10)=3,Mardi),AND(WEEKDAY(AR10)=4,Mercredi),AND(WEEKDAY(AR10)=5,Jeudi),AND(WEEKDAY(AR10)=6,Vendredi),AND(WEEKDAY(AR10)=7,Samedi),AR10=férié),0,1)","v":1},"VEN","2017-09-08",null,null,{"$f":"IF(OR(AND(WEEKDAY(AW10)=1,Dimanche),AND(WEEKDAY(AW10)=2,Lundi),AND(WEEKDAY(AW10)=3,Mardi),AND(WEEKDAY(AW10)=4,Mercredi),AND(WEEKDAY(AW10)=5,Jeudi),AND(WEEKDAY(AW10)=6,Vendredi),AND(WEEKDAY(AW10)=7,Samedi),AW10=férié),0,1)","v":0},"DIM","2017-10-08",null,null,{"$f":"IF(OR(AND(WEEKDAY(BB10)=1,Dimanche),AND(WEEKDAY(BB10)=2,Lundi),AND(WEEKDAY(BB10)=3,Mardi),AND(WEEKDAY(BB10)=4,Mercredi),AND(WEEKDAY(BB10)=5,Jeudi),AND(WEEKDAY(BB10)=6,Vendredi),AND(WEEKDAY(BB10)=7,Samedi),BB10=férié),0,1)","v":1},"MER","2017-11-08",null,null,{"$f":"IF(OR(AND(WEEKDAY(BG10)=1,Dimanche),AND(WEEKDAY(BG10)=2,Lundi),AND(WEEKDAY(BG10)=3,Mardi),AND(WEEKDAY(BG10)=4,Mercredi),AND(WEEKDAY(BG10)=5,Jeudi),AND(WEEKDAY(BG10)=6,Vendredi),AND(WEEKDAY(BG10)=7,Samedi),BG10=férié),0,1)","v":1},"VEN","2017-12-08"]
[null,{"$f":"IF(OR(AND(WEEKDAY(D11)=1,Dimanche),AND(WEEKDAY(D11)=2,Lundi),AND(WEEKDAY(D11)=3,Mardi),AND(WEEKDAY(D11)=4,Mercredi),AND(WEEKDAY(D11)=5,Jeudi),AND(WEEKDAY(D11)=6,Vendredi),AND(WEEKDAY(D11)=7,Samedi),D11=férié),0,1)","v":1},"LUN","2017-01-09",null,null,{"$f":"IF(OR(AND(WEEKDAY(I11)=1,Dimanche),AND(WEEKDAY(I11)=2,Lundi),AND(WEEKDAY(I11)=3,Mardi),AND(WEEKDAY(I11)=4,Mercredi),AND(WEEKDAY(I11)=5,Jeudi),AND(WEEKDAY(I11)=6,Vendredi),AND(WEEKDAY(I11)=7,Samedi),I11=férié),0,1)","v":1},"JEU","2017-02-09",null,null,{"$f":"IF(OR(AND(WEEKDAY(N11)=1,Dimanche),AND(WEEKDAY(N11)=2,Lundi),AND(WEEKDAY(N11)=3,Mardi),AND(WEEKDAY(N11)=4,Mercredi),AND(WEEKDAY(N11)=5,Jeudi),AND(WEEKDAY(N11)=6,Vendredi),AND(WEEKDAY(N11)=7,Samedi),N11=férié),0,1)","v":1},"JEU","2017-03-09",null,null,{"$f":"IF(OR(AND(WEEKDAY(S11)=1,Dimanche),AND(WEEKDAY(S11)=2,Lundi),AND(WEEKDAY(S11)=3,Mardi),AND(WEEKDAY(S11)=4,Mercredi),AND(WEEKDAY(S11)=5,Jeudi),AND(WEEKDAY(S11)=6,Vendredi),AND(WEEKDAY(S11)=7,Samedi),S11=férié),0,1)","v":0},"DIM","2017-04-09",null,null,{"$f":"IF(OR(AND(WEEKDAY(X11)=1,Dimanche),AND(WEEKDAY(X11)=2,Lundi),AND(WEEKDAY(X11)=3,Mardi),AND(WEEKDAY(X11)=4,Mercredi),AND(WEEKDAY(X11)=5,Jeudi),AND(WEEKDAY(X11)=6,Vendredi),AND(WEEKDAY(X11)=7,Samedi),X11=férié),0,1)","v":1},"MAR","2017-05-09",null,null,{"$f":"IF(OR(AND(WEEKDAY(AC11)=1,Dimanche),AND(WEEKDAY(AC11)=2,Lundi),AND(WEEKDAY(AC11)=3,Mardi),AND(WEEKDAY(AC11)=4,Mercredi),AND(WEEKDAY(AC11)=5,Jeudi),AND(WEEKDAY(AC11)=6,Vendredi),AND(WEEKDAY(AC11)=7,Samedi),AC11=férié),0,1)","v":1},"VEN","2017-06-09",null,null,{"$f":"IF(OR(AND(WEEKDAY(AH11)=1,Dimanche),AND(WEEKDAY(AH11)=2,Lundi),AND(WEEKDAY(AH11)=3,Mardi),AND(WEEKDAY(AH11)=4,Mercredi),AND(WEEKDAY(AH11)=5,Jeudi),AND(WEEKDAY(AH11)=6,Vendredi),AND(WEEKDAY(AH11)=7,Samedi),AH11=férié),0,1)","v":0},"DIM","2017-07-09",null,null,{"$f":"IF(OR(AND(WEEKDAY(AM11)=1,Dimanche),AND(WEEKDAY(AM11)=2,Lundi),AND(WEEKDAY(AM11)=3,Mardi),AND(WEEKDAY(AM11)=4,Mercredi),AND(WEEKDAY(AM11)=5,Jeudi),AND(WEEKDAY(AM11)=6,Vendredi),AND(WEEKDAY(AM11)=7,Samedi),AM11=férié),0,1)","v":1},"MER","2017-08-09",null,null,{"$f":"IF(OR(AND(WEEKDAY(AR11)=1,Dimanche),AND(WEEKDAY(AR11)=2,Lundi),AND(WEEKDAY(AR11)=3,Mardi),AND(WEEKDAY(AR11)=4,Mercredi),AND(WEEKDAY(AR11)=5,Jeudi),AND(WEEKDAY(AR11)=6,Vendredi),AND(WEEKDAY(AR11)=7,Samedi),AR11=férié),0,1)","v":0},"SAM","2017-09-09",null,null,{"$f":"IF(OR(AND(WEEKDAY(AW11)=1,Dimanche),AND(WEEKDAY(AW11)=2,Lundi),AND(WEEKDAY(AW11)=3,Mardi),AND(WEEKDAY(AW11)=4,Mercredi),AND(WEEKDAY(AW11)=5,Jeudi),AND(WEEKDAY(AW11)=6,Vendredi),AND(WEEKDAY(AW11)=7,Samedi),AW11=férié),0,1)","v":1},"LUN","2017-10-09",null,null,{"$f":"IF(OR(AND(WEEKDAY(BB11)=1,Dimanche),AND(WEEKDAY(BB11)=2,Lundi),AND(WEEKDAY(BB11)=3,Mardi),AND(WEEKDAY(BB11)=4,Mercredi),AND(WEEKDAY(BB11)=5,Jeudi),AND(WEEKDAY(BB11)=6,Vendredi),AND(WEEKDAY(BB11)=7,Samedi),BB11=férié),0,1)","v":1},"JEU","2017-11-09",null,null,{"$f":"IF(OR(AND(WEEKDAY(BG11)=1,Dimanche),AND(WEEKDAY(BG11)=2,Lundi),AND(WEEKDAY(BG11)=3,Mardi),AND(WEEKDAY(BG11)=4,Mercredi),AND(WEEKDAY(BG11)=5,Jeudi),AND(WEEKDAY(BG11)=6,Vendredi),AND(WEEKDAY(BG11)=7,Samedi),BG11=férié),0,1)","v":0},"SAM","2017-12-09"]
[null,{"$f":"IF(OR(AND(WEEKDAY(D12)=1,Dimanche),AND(WEEKDAY(D12)=2,Lundi),AND(WEEKDAY(D12)=3,Mardi),AND(WEEKDAY(D12)=4,Mercredi),AND(WEEKDAY(D12)=5,Jeudi),AND(WEEKDAY(D12)=6,Vendredi),AND(WEEKDAY(D12)=7,Samedi),D12=férié),0,1)","v":1},"MAR","2017-01-10",null,null,{"$f":"IF(OR(AND(WEEKDAY(I12)=1,Dimanche),AND(WEEKDAY(I12)=2,Lundi),AND(WEEKDAY(I12)=3,Mardi),AND(WEEKDAY(I12)=4,Mercredi),AND(WEEKDAY(I12)=5,Jeudi),AND(WEEKDAY(I12)=6,Vendredi),AND(WEEKDAY(I12)=7,Samedi),I12=férié),0,1)","v":1},"VEN","2017-02-10",null,null,{"$f":"IF(OR(AND(WEEKDAY(N12)=1,Dimanche),AND(WEEKDAY(N12)=2,Lundi),AND(WEEKDAY(N12)=3,Mardi),AND(WEEKDAY(N12)=4,Mercredi),AND(WEEKDAY(N12)=5,Jeudi),AND(WEEKDAY(N12)=6,Vendredi),AND(WEEKDAY(N12)=7,Samedi),N12=férié),0,1)","v":1},"VEN","2017-03-10",null,null,{"$f":"IF(OR(AND(WEEKDAY(S12)=1,Dimanche),AND(WEEKDAY(S12)=2,Lundi),AND(WEEKDAY(S12)=3,Mardi),AND(WEEKDAY(S12)=4,Mercredi),AND(WEEKDAY(S12)=5,Jeudi),AND(WEEKDAY(S12)=6,Vendredi),AND(WEEKDAY(S12)=7,Samedi),S12=férié),0,1)","v":1},"LUN","2017-04-10",null,null,{"$f":"IF(OR(AND(WEEKDAY(X12)=1,Dimanche),AND(WEEKDAY(X12)=2,Lundi),AND(WEEKDAY(X12)=3,Mardi),AND(WEEKDAY(X12)=4,Mercredi),AND(WEEKDAY(X12)=5,Jeudi),AND(WEEKDAY(X12)=6,Vendredi),AND(WEEKDAY(X12)=7,Samedi),X12=férié),0,1)","v":1},"MER","2017-05-10",null,null,{"$f":"IF(OR(AND(WEEKDAY(AC12)=1,Dimanche),AND(WEEKDAY(AC12)=2,Lundi),AND(WEEKDAY(AC12)=3,Mardi),AND(WEEKDAY(AC12)=4,Mercredi),AND(WEEKDAY(AC12)=5,Jeudi),AND(WEEKDAY(AC12)=6,Vendredi),AND(WEEKDAY(AC12)=7,Samedi),AC12=férié),0,1)","v":0},"SAM","2017-06-10",null,null,{"$f":"IF(OR(AND(WEEKDAY(AH12)=1,Dimanche),AND(WEEKDAY(AH12)=2,Lundi),AND(WEEKDAY(AH12)=3,Mardi),AND(WEEKDAY(AH12)=4,Mercredi),AND(WEEKDAY(AH12)=5,Jeudi),AND(WEEKDAY(AH12)=6,Vendredi),AND(WEEKDAY(AH12)=7,Samedi),AH12=férié),0,1)","v":1},"LUN","2017-07-10",null,null,{"$f":"IF(OR(AND(WEEKDAY(AM12)=1,Dimanche),AND(WEEKDAY(AM12)=2,Lundi),AND(WEEKDAY(AM12)=3,Mardi),AND(WEEKDAY(AM12)=4,Mercredi),AND(WEEKDAY(AM12)=5,Jeudi),AND(WEEKDAY(AM12)=6,Vendredi),AND(WEEKDAY(AM12)=7,Samedi),AM12=férié),0,1)","v":1},"JEU","2017-08-10",null,null,{"$f":"IF(OR(AND(WEEKDAY(AR12)=1,Dimanche),AND(WEEKDAY(AR12)=2,Lundi),AND(WEEKDAY(AR12)=3,Mardi),AND(WEEKDAY(AR12)=4,Mercredi),AND(WEEKDAY(AR12)=5,Jeudi),AND(WEEKDAY(AR12)=6,Vendredi),AND(WEEKDAY(AR12)=7,Samedi),AR12=férié),0,1)","v":0},"DIM","2017-09-10",null,null,{"$f":"IF(OR(AND(WEEKDAY(AW12)=1,Dimanche),AND(WEEKDAY(AW12)=2,Lundi),AND(WEEKDAY(AW12)=3,Mardi),AND(WEEKDAY(AW12)=4,Mercredi),AND(WEEKDAY(AW12)=5,Jeudi),AND(WEEKDAY(AW12)=6,Vendredi),AND(WEEKDAY(AW12)=7,Samedi),AW12=férié),0,1)","v":1},"MAR","2017-10-10",null,null,{"$f":"IF(OR(AND(WEEKDAY(BB12)=1,Dimanche),AND(WEEKDAY(BB12)=2,Lundi),AND(WEEKDAY(BB12)=3,Mardi),AND(WEEKDAY(BB12)=4,Mercredi),AND(WEEKDAY(BB12)=5,Jeudi),AND(WEEKDAY(BB12)=6,Vendredi),AND(WEEKDAY(BB12)=7,Samedi),BB12=férié),0,1)","v":1},"VEN","2017-11-10",null,null,{"$f":"IF(OR(AND(WEEKDAY(BG12)=1,Dimanche),AND(WEEKDAY(BG12)=2,Lundi),AND(WEEKDAY(BG12)=3,Mardi),AND(WEEKDAY(BG12)=4,Mercredi),AND(WEEKDAY(BG12)=5,Jeudi),AND(WEEKDAY(BG12)=6,Vendredi),AND(WEEKDAY(BG12)=7,Samedi),BG12=férié),0,1)","v":0},"DIM","2017-12-10"]
[null,{"$f":"IF(OR(AND(WEEKDAY(D13)=1,Dimanche),AND(WEEKDAY(D13)=2,Lundi),AND(WEEKDAY(D13)=3,Mardi),AND(WEEKDAY(D13)=4,Mercredi),AND(WEEKDAY(D13)=5,Jeudi),AND(WEEKDAY(D13)=6,Vendredi),AND(WEEKDAY(D13)=7,Samedi),D13=férié),0,1)","v":1},"MER","2017-01-11",null,null,{"$f":"IF(OR(AND(WEEKDAY(I13)=1,Dimanche),AND(WEEKDAY(I13)=2,Lundi),AND(WEEKDAY(I13)=3,Mardi),AND(WEEKDAY(I13)=4,Mercredi),AND(WEEKDAY(I13)=5,Jeudi),AND(WEEKDAY(I13)=6,Vendredi),AND(WEEKDAY(I13)=7,Samedi),I13=férié),0,1)","v":0},"SAM","2017-02-11",null,null,{"$f":"IF(OR(AND(WEEKDAY(N13)=1,Dimanche),AND(WEEKDAY(N13)=2,Lundi),AND(WEEKDAY(N13)=3,Mardi),AND(WEEKDAY(N13)=4,Mercredi),AND(WEEKDAY(N13)=5,Jeudi),AND(WEEKDAY(N13)=6,Vendredi),AND(WEEKDAY(N13)=7,Samedi),N13=férié),0,1)","v":0},"SAM","2017-03-11",null,null,{"$f":"IF(OR(AND(WEEKDAY(S13)=1,Dimanche),AND(WEEKDAY(S13)=2,Lundi),AND(WEEKDAY(S13)=3,Mardi),AND(WEEKDAY(S13)=4,Mercredi),AND(WEEKDAY(S13)=5,Jeudi),AND(WEEKDAY(S13)=6,Vendredi),AND(WEEKDAY(S13)=7,Samedi),S13=férié),0,1)","v":1},"MAR","2017-04-11",null,null,{"$f":"IF(OR(AND(WEEKDAY(X13)=1,Dimanche),AND(WEEKDAY(X13)=2,Lundi),AND(WEEKDAY(X13)=3,Mardi),AND(WEEKDAY(X13)=4,Mercredi),AND(WEEKDAY(X13)=5,Jeudi),AND(WEEKDAY(X13)=6,Vendredi),AND(WEEKDAY(X13)=7,Samedi),X13=férié),0,1)","v":1},"JEU","2017-05-11",null,null,{"$f":"IF(OR(AND(WEEKDAY(AC13)=1,Dimanche),AND(WEEKDAY(AC13)=2,Lundi),AND(WEEKDAY(AC13)=3,Mardi),AND(WEEKDAY(AC13)=4,Mercredi),AND(WEEKDAY(AC13)=5,Jeudi),AND(WEEKDAY(AC13)=6,Vendredi),AND(WEEKDAY(AC13)=7,Samedi),AC13=férié),0,1)","v":0},"DIM","2017-06-11",null,null,{"$f":"IF(OR(AND(WEEKDAY(AH13)=1,Dimanche),AND(WEEKDAY(AH13)=2,Lundi),AND(WEEKDAY(AH13)=3,Mardi),AND(WEEKDAY(AH13)=4,Mercredi),AND(WEEKDAY(AH13)=5,Jeudi),AND(WEEKDAY(AH13)=6,Vendredi),AND(WEEKDAY(AH13)=7,Samedi),AH13=férié),0,1)","v":1},"MAR","2017-07-11",null,null,{"$f":"IF(OR(AND(WEEKDAY(AM13)=1,Dimanche),AND(WEEKDAY(AM13)=2,Lundi),AND(WEEKDAY(AM13)=3,Mardi),AND(WEEKDAY(AM13)=4,Mercredi),AND(WEEKDAY(AM13)=5,Jeudi),AND(WEEKDAY(AM13)=6,Vendredi),AND(WEEKDAY(AM13)=7,Samedi),AM13=férié),0,1)","v":1},"VEN","2017-08-11",null,null,{"$f":"IF(OR(AND(WEEKDAY(AR13)=1,Dimanche),AND(WEEKDAY(AR13)=2,Lundi),AND(WEEKDAY(AR13)=3,Mardi),AND(WEEKDAY(AR13)=4,Mercredi),AND(WEEKDAY(AR13)=5,Jeudi),AND(WEEKDAY(AR13)=6,Vendredi),AND(WEEKDAY(AR13)=7,Samedi),AR13=férié),0,1)","v":1},"LUN","2017-09-11",null,null,{"$f":"IF(OR(AND(WEEKDAY(AW13)=1,Dimanche),AND(WEEKDAY(AW13)=2,Lundi),AND(WEEKDAY(AW13)=3,Mardi),AND(WEEKDAY(AW13)=4,Mercredi),AND(WEEKDAY(AW13)=5,Jeudi),AND(WEEKDAY(AW13)=6,Vendredi),AND(WEEKDAY(AW13)=7,Samedi),AW13=férié),0,1)","v":1},"MER","2017-10-11",null,null,{"$f":"IF(OR(AND(WEEKDAY(BB13)=1,Dimanche),AND(WEEKDAY(BB13)=2,Lundi),AND(WEEKDAY(BB13)=3,Mardi),AND(WEEKDAY(BB13)=4,Mercredi),AND(WEEKDAY(BB13)=5,Jeudi),AND(WEEKDAY(BB13)=6,Vendredi),AND(WEEKDAY(BB13)=7,Samedi),BB13=férié),0,1)","v":0},"SAM","2017-11-11",null,null,{"$f":"IF(OR(AND(WEEKDAY(BG13)=1,Dimanche),AND(WEEKDAY(BG13)=2,Lundi),AND(WEEKDAY(BG13)=3,Mardi),AND(WEEKDAY(BG13)=4,Mercredi),AND(WEEKDAY(BG13)=5,Jeudi),AND(WEEKDAY(BG13)=6,Vendredi),AND(WEEKDAY(BG13)=7,Samedi),BG13=férié),0,1)","v":1},"LUN","2017-12-11"]
[null,{"$f":"IF(OR(AND(WEEKDAY(D14)=1,Dimanche),AND(WEEKDAY(D14)=2,Lundi),AND(WEEKDAY(D14)=3,Mardi),AND(WEEKDAY(D14)=4,Mercredi),AND(WEEKDAY(D14)=5,Jeudi),AND(WEEKDAY(D14)=6,Vendredi),AND(WEEKDAY(D14)=7,Samedi),D14=férié),0,1)","v":1},"JEU","2017-01-12",null,null,{"$f":"IF(OR(AND(WEEKDAY(I14)=1,Dimanche),AND(WEEKDAY(I14)=2,Lundi),AND(WEEKDAY(I14)=3,Mardi),AND(WEEKDAY(I14)=4,Mercredi),AND(WEEKDAY(I14)=5,Jeudi),AND(WEEKDAY(I14)=6,Vendredi),AND(WEEKDAY(I14)=7,Samedi),I14=férié),0,1)","v":0},"DIM","2017-02-12",null,null,{"$f":"IF(OR(AND(WEEKDAY(N14)=1,Dimanche),AND(WEEKDAY(N14)=2,Lundi),AND(WEEKDAY(N14)=3,Mardi),AND(WEEKDAY(N14)=4,Mercredi),AND(WEEKDAY(N14)=5,Jeudi),AND(WEEKDAY(N14)=6,Vendredi),AND(WEEKDAY(N14)=7,Samedi),N14=férié),0,1)","v":0},"DIM","2017-03-12",null,null,{"$f":"IF(OR(AND(WEEKDAY(S14)=1,Dimanche),AND(WEEKDAY(S14)=2,Lundi),AND(WEEKDAY(S14)=3,Mardi),AND(WEEKDAY(S14)=4,Mercredi),AND(WEEKDAY(S14)=5,Jeudi),AND(WEEKDAY(S14)=6,Vendredi),AND(WEEKDAY(S14)=7,Samedi),S14=férié),0,1)","v":1},"MER","2017-04-12",null,null,{"$f":"IF(OR(AND(WEEKDAY(X14)=1,Dimanche),AND(WEEKDAY(X14)=2,Lundi),AND(WEEKDAY(X14)=3,Mardi),AND(WEEKDAY(X14)=4,Mercredi),AND(WEEKDAY(X14)=5,Jeudi),AND(WEEKDAY(X14)=6,Vendredi),AND(WEEKDAY(X14)=7,Samedi),X14=férié),0,1)","v":1},"VEN","2017-05-12",null,null,{"$f":"IF(OR(AND(WEEKDAY(AC14)=1,Dimanche),AND(WEEKDAY(AC14)=2,Lundi),AND(WEEKDAY(AC14)=3,Mardi),AND(WEEKDAY(AC14)=4,Mercredi),AND(WEEKDAY(AC14)=5,Jeudi),AND(WEEKDAY(AC14)=6,Vendredi),AND(WEEKDAY(AC14)=7,Samedi),AC14=férié),0,1)","v":1},"LUN","2017-06-12",null,null,{"$f":"IF(OR(AND(WEEKDAY(AH14)=1,Dimanche),AND(WEEKDAY(AH14)=2,Lundi),AND(WEEKDAY(AH14)=3,Mardi),AND(WEEKDAY(AH14)=4,Mercredi),AND(WEEKDAY(AH14)=5,Jeudi),AND(WEEKDAY(AH14)=6,Vendredi),AND(WEEKDAY(AH14)=7,Samedi),AH14=férié),0,1)","v":1},"MER","2017-07-12",null,null,{"$f":"IF(OR(AND(WEEKDAY(AM14)=1,Dimanche),AND(WEEKDAY(AM14)=2,Lundi),AND(WEEKDAY(AM14)=3,Mardi),AND(WEEKDAY(AM14)=4,Mercredi),AND(WEEKDAY(AM14)=5,Jeudi),AND(WEEKDAY(AM14)=6,Vendredi),AND(WEEKDAY(AM14)=7,Samedi),AM14=férié),0,1)","v":0},"SAM","2017-08-12",null,null,{"$f":"IF(OR(AND(WEEKDAY(AR14)=1,Dimanche),AND(WEEKDAY(AR14)=2,Lundi),AND(WEEKDAY(AR14)=3,Mardi),AND(WEEKDAY(AR14)=4,Mercredi),AND(WEEKDAY(AR14)=5,Jeudi),AND(WEEKDAY(AR14)=6,Vendredi),AND(WEEKDAY(AR14)=7,Samedi),AR14=férié),0,1)","v":1},"MAR","2017-09-12",null,null,{"$f":"IF(OR(AND(WEEKDAY(AW14)=1,Dimanche),AND(WEEKDAY(AW14)=2,Lundi),AND(WEEKDAY(AW14)=3,Mardi),AND(WEEKDAY(AW14)=4,Mercredi),AND(WEEKDAY(AW14)=5,Jeudi),AND(WEEKDAY(AW14)=6,Vendredi),AND(WEEKDAY(AW14)=7,Samedi),AW14=férié),0,1)","v":1},"JEU","2017-10-12",null,null,{"$f":"IF(OR(AND(WEEKDAY(BB14)=1,Dimanche),AND(WEEKDAY(BB14)=2,Lundi),AND(WEEKDAY(BB14)=3,Mardi),AND(WEEKDAY(BB14)=4,Mercredi),AND(WEEKDAY(BB14)=5,Jeudi),AND(WEEKDAY(BB14)=6,Vendredi),AND(WEEKDAY(BB14)=7,Samedi),BB14=férié),0,1)","v":0},"DIM","2017-11-12",null,null,{"$f":"IF(OR(AND(WEEKDAY(BG14)=1,Dimanche),AND(WEEKDAY(BG14)=2,Lundi),AND(WEEKDAY(BG14)=3,Mardi),AND(WEEKDAY(BG14)=4,Mercredi),AND(WEEKDAY(BG14)=5,Jeudi),AND(WEEKDAY(BG14)=6,Vendredi),AND(WEEKDAY(BG14)=7,Samedi),BG14=férié),0,1)","v":1},"MAR","2017-12-12"]
[null,{"$f":"IF(OR(AND(WEEKDAY(D15)=1,Dimanche),AND(WEEKDAY(D15)=2,Lundi),AND(WEEKDAY(D15)=3,Mardi),AND(WEEKDAY(D15)=4,Mercredi),AND(WEEKDAY(D15)=5,Jeudi),AND(WEEKDAY(D15)=6,Vendredi),AND(WEEKDAY(D15)=7,Samedi),D15=férié),0,1)","v":1},"VEN","2017-01-13",null,null,{"$f":"IF(OR(AND(WEEKDAY(I15)=1,Dimanche),AND(WEEKDAY(I15)=2,Lundi),AND(WEEKDAY(I15)=3,Mardi),AND(WEEKDAY(I15)=4,Mercredi),AND(WEEKDAY(I15)=5,Jeudi),AND(WEEKDAY(I15)=6,Vendredi),AND(WEEKDAY(I15)=7,Samedi),I15=férié),0,1)","v":1},"LUN","2017-02-13",null,null,{"$f":"IF(OR(AND(WEEKDAY(N15)=1,Dimanche),AND(WEEKDAY(N15)=2,Lundi),AND(WEEKDAY(N15)=3,Mardi),AND(WEEKDAY(N15)=4,Mercredi),AND(WEEKDAY(N15)=5,Jeudi),AND(WEEKDAY(N15)=6,Vendredi),AND(WEEKDAY(N15)=7,Samedi),N15=férié),0,1)","v":1},"LUN","2017-03-13",null,null,{"$f":"IF(OR(AND(WEEKDAY(S15)=1,Dimanche),AND(WEEKDAY(S15)=2,Lundi),AND(WEEKDAY(S15)=3,Mardi),AND(WEEKDAY(S15)=4,Mercredi),AND(WEEKDAY(S15)=5,Jeudi),AND(WEEKDAY(S15)=6,Vendredi),AND(WEEKDAY(S15)=7,Samedi),S15=férié),0,1)","v":1},"JEU","2017-04-13",null,null,{"$f":"IF(OR(AND(WEEKDAY(X15)=1,Dimanche),AND(WEEKDAY(X15)=2,Lundi),AND(WEEKDAY(X15)=3,Mardi),AND(WEEKDAY(X15)=4,Mercredi),AND(WEEKDAY(X15)=5,Jeudi),AND(WEEKDAY(X15)=6,Vendredi),AND(WEEKDAY(X15)=7,Samedi),X15=férié),0,1)","v":0},"SAM","2017-05-13",null,null,{"$f":"IF(OR(AND(WEEKDAY(AC15)=1,Dimanche),AND(WEEKDAY(AC15)=2,Lundi),AND(WEEKDAY(AC15)=3,Mardi),AND(WEEKDAY(AC15)=4,Mercredi),AND(WEEKDAY(AC15)=5,Jeudi),AND(WEEKDAY(AC15)=6,Vendredi),AND(WEEKDAY(AC15)=7,Samedi),AC15=férié),0,1)","v":1},"MAR","2017-06-13",null,null,{"$f":"IF(OR(AND(WEEKDAY(AH15)=1,Dimanche),AND(WEEKDAY(AH15)=2,Lundi),AND(WEEKDAY(AH15)=3,Mardi),AND(WEEKDAY(AH15)=4,Mercredi),AND(WEEKDAY(AH15)=5,Jeudi),AND(WEEKDAY(AH15)=6,Vendredi),AND(WEEKDAY(AH15)=7,Samedi),AH15=férié),0,1)","v":1},"JEU","2017-07-13",null,null,{"$f":"IF(OR(AND(WEEKDAY(AM15)=1,Dimanche),AND(WEEKDAY(AM15)=2,Lundi),AND(WEEKDAY(AM15)=3,Mardi),AND(WEEKDAY(AM15)=4,Mercredi),AND(WEEKDAY(AM15)=5,Jeudi),AND(WEEKDAY(AM15)=6,Vendredi),AND(WEEKDAY(AM15)=7,Samedi),AM15=férié),0,1)","v":0},"DIM","2017-08-13",null,null,{"$f":"IF(OR(AND(WEEKDAY(AR15)=1,Dimanche),AND(WEEKDAY(AR15)=2,Lundi),AND(WEEKDAY(AR15)=3,Mardi),AND(WEEKDAY(AR15)=4,Mercredi),AND(WEEKDAY(AR15)=5,Jeudi),AND(WEEKDAY(AR15)=6,Vendredi),AND(WEEKDAY(AR15)=7,Samedi),AR15=férié),0,1)","v":1},"MER","2017-09-13",null,null,{"$f":"IF(OR(AND(WEEKDAY(AW15)=1,Dimanche),AND(WEEKDAY(AW15)=2,Lundi),AND(WEEKDAY(AW15)=3,Mardi),AND(WEEKDAY(AW15)=4,Mercredi),AND(WEEKDAY(AW15)=5,Jeudi),AND(WEEKDAY(AW15)=6,Vendredi),AND(WEEKDAY(AW15)=7,Samedi),AW15=férié),0,1)","v":1},"VEN","2017-10-13",null,null,{"$f":"IF(OR(AND(WEEKDAY(BB15)=1,Dimanche),AND(WEEKDAY(BB15)=2,Lundi),AND(WEEKDAY(BB15)=3,Mardi),AND(WEEKDAY(BB15)=4,Mercredi),AND(WEEKDAY(BB15)=5,Jeudi),AND(WEEKDAY(BB15)=6,Vendredi),AND(WEEKDAY(BB15)=7,Samedi),BB15=férié),0,1)","v":1},"LUN","2017-11-13",null,null,{"$f":"IF(OR(AND(WEEKDAY(BG15)=1,Dimanche),AND(WEEKDAY(BG15)=2,Lundi),AND(WEEKDAY(BG15)=3,Mardi),AND(WEEKDAY(BG15)=4,Mercredi),AND(WEEKDAY(BG15)=5,Jeudi),AND(WEEKDAY(BG15)=6,Vendredi),AND(WEEKDAY(BG15)=7,Samedi),BG15=férié),0,1)","v":1},"MER","2017-12-13"]
[null,{"$f":"IF(OR(AND(WEEKDAY(D16)=1,Dimanche),AND(WEEKDAY(D16)=2,Lundi),AND(WEEKDAY(D16)=3,Mardi),AND(WEEKDAY(D16)=4,Mercredi),AND(WEEKDAY(D16)=5,Jeudi),AND(WEEKDAY(D16)=6,Vendredi),AND(WEEKDAY(D16)=7,Samedi),D16=férié),0,1)","v":0},"SAM","2017-01-14",null,null,{"$f":"IF(OR(AND(WEEKDAY(I16)=1,Dimanche),AND(WEEKDAY(I16)=2,Lundi),AND(WEEKDAY(I16)=3,Mardi),AND(WEEKDAY(I16)=4,Mercredi),AND(WEEKDAY(I16)=5,Jeudi),AND(WEEKDAY(I16)=6,Vendredi),AND(WEEKDAY(I16)=7,Samedi),I16=férié),0,1)","v":1},"MAR","2017-02-14",null,null,{"$f":"IF(OR(AND(WEEKDAY(N16)=1,Dimanche),AND(WEEKDAY(N16)=2,Lundi),AND(WEEKDAY(N16)=3,Mardi),AND(WEEKDAY(N16)=4,Mercredi),AND(WEEKDAY(N16)=5,Jeudi),AND(WEEKDAY(N16)=6,Vendredi),AND(WEEKDAY(N16)=7,Samedi),N16=férié),0,1)","v":1},"MAR","2017-03-14",null,null,{"$f":"IF(OR(AND(WEEKDAY(S16)=1,Dimanche),AND(WEEKDAY(S16)=2,Lundi),AND(WEEKDAY(S16)=3,Mardi),AND(WEEKDAY(S16)=4,Mercredi),AND(WEEKDAY(S16)=5,Jeudi),AND(WEEKDAY(S16)=6,Vendredi),AND(WEEKDAY(S16)=7,Samedi),S16=férié),0,1)","v":1},"VEN","2017-04-14",null,null,{"$f":"IF(OR(AND(WEEKDAY(X16)=1,Dimanche),AND(WEEKDAY(X16)=2,Lundi),AND(WEEKDAY(X16)=3,Mardi),AND(WEEKDAY(X16)=4,Mercredi),AND(WEEKDAY(X16)=5,Jeudi),AND(WEEKDAY(X16)=6,Vendredi),AND(WEEKDAY(X16)=7,Samedi),X16=férié),0,1)","v":0},"DIM","2017-05-14",null,null,{"$f":"IF(OR(AND(WEEKDAY(AC16)=1,Dimanche),AND(WEEKDAY(AC16)=2,Lundi),AND(WEEKDAY(AC16)=3,Mardi),AND(WEEKDAY(AC16)=4,Mercredi),AND(WEEKDAY(AC16)=5,Jeudi),AND(WEEKDAY(AC16)=6,Vendredi),AND(WEEKDAY(AC16)=7,Samedi),AC16=férié),0,1)","v":1},"MER","2017-06-14",null,null,{"$f":"IF(OR(AND(WEEKDAY(AH16)=1,Dimanche),AND(WEEKDAY(AH16)=2,Lundi),AND(WEEKDAY(AH16)=3,Mardi),AND(WEEKDAY(AH16)=4,Mercredi),AND(WEEKDAY(AH16)=5,Jeudi),AND(WEEKDAY(AH16)=6,Vendredi),AND(WEEKDAY(AH16)=7,Samedi),AH16=férié),0,1)","v":0},"VEN","2017-07-14",null,null,{"$f":"IF(OR(AND(WEEKDAY(AM16)=1,Dimanche),AND(WEEKDAY(AM16)=2,Lundi),AND(WEEKDAY(AM16)=3,Mardi),AND(WEEKDAY(AM16)=4,Mercredi),AND(WEEKDAY(AM16)=5,Jeudi),AND(WEEKDAY(AM16)=6,Vendredi),AND(WEEKDAY(AM16)=7,Samedi),AM16=férié),0,1)","v":1},"LUN","2017-08-14",null,null,{"$f":"IF(OR(AND(WEEKDAY(AR16)=1,Dimanche),AND(WEEKDAY(AR16)=2,Lundi),AND(WEEKDAY(AR16)=3,Mardi),AND(WEEKDAY(AR16)=4,Mercredi),AND(WEEKDAY(AR16)=5,Jeudi),AND(WEEKDAY(AR16)=6,Vendredi),AND(WEEKDAY(AR16)=7,Samedi),AR16=férié),0,1)","v":1},"JEU","2017-09-14",null,null,{"$f":"IF(OR(AND(WEEKDAY(AW16)=1,Dimanche),AND(WEEKDAY(AW16)=2,Lundi),AND(WEEKDAY(AW16)=3,Mardi),AND(WEEKDAY(AW16)=4,Mercredi),AND(WEEKDAY(AW16)=5,Jeudi),AND(WEEKDAY(AW16)=6,Vendredi),AND(WEEKDAY(AW16)=7,Samedi),AW16=férié),0,1)","v":0},"SAM","2017-10-14",null,null,{"$f":"IF(OR(AND(WEEKDAY(BB16)=1,Dimanche),AND(WEEKDAY(BB16)=2,Lundi),AND(WEEKDAY(BB16)=3,Mardi),AND(WEEKDAY(BB16)=4,Mercredi),AND(WEEKDAY(BB16)=5,Jeudi),AND(WEEKDAY(BB16)=6,Vendredi),AND(WEEKDAY(BB16)=7,Samedi),BB16=férié),0,1)","v":1},"MAR","2017-11-14",null,null,{"$f":"IF(OR(AND(WEEKDAY(BG16)=1,Dimanche),AND(WEEKDAY(BG16)=2,Lundi),AND(WEEKDAY(BG16)=3,Mardi),AND(WEEKDAY(BG16)=4,Mercredi),AND(WEEKDAY(BG16)=5,Jeudi),AND(WEEKDAY(BG16)=6,Vendredi),AND(WEEKDAY(BG16)=7,Samedi),BG16=férié),0,1)","v":1},"JEU","2017-12-14"]
[null,{"$f":"IF(OR(AND(WEEKDAY(D17)=1,Dimanche),AND(WEEKDAY(D17)=2,Lundi),AND(WEEKDAY(D17)=3,Mardi),AND(WEEKDAY(D17)=4,Mercredi),AND(WEEKDAY(D17)=5,Jeudi),AND(WEEKDAY(D17)=6,Vendredi),AND(WEEKDAY(D17)=7,Samedi),D17=férié),0,1)","v":0},"DIM","2017-01-15",null,null,{"$f":"IF(OR(AND(WEEKDAY(I17)=1,Dimanche),AND(WEEKDAY(I17)=2,Lundi),AND(WEEKDAY(I17)=3,Mardi),AND(WEEKDAY(I17)=4,Mercredi),AND(WEEKDAY(I17)=5,Jeudi),AND(WEEKDAY(I17)=6,Vendredi),AND(WEEKDAY(I17)=7,Samedi),I17=férié),0,1)","v":1},"MER","2017-02-15",null,null,{"$f":"IF(OR(AND(WEEKDAY(N17)=1,Dimanche),AND(WEEKDAY(N17)=2,Lundi),AND(WEEKDAY(N17)=3,Mardi),AND(WEEKDAY(N17)=4,Mercredi),AND(WEEKDAY(N17)=5,Jeudi),AND(WEEKDAY(N17)=6,Vendredi),AND(WEEKDAY(N17)=7,Samedi),N17=férié),0,1)","v":1},"MER","2017-03-15",null,null,{"$f":"IF(OR(AND(WEEKDAY(S17)=1,Dimanche),AND(WEEKDAY(S17)=2,Lundi),AND(WEEKDAY(S17)=3,Mardi),AND(WEEKDAY(S17)=4,Mercredi),AND(WEEKDAY(S17)=5,Jeudi),AND(WEEKDAY(S17)=6,Vendredi),AND(WEEKDAY(S17)=7,Samedi),S17=férié),0,1)","v":0},"SAM","2017-04-15",null,null,{"$f":"IF(OR(AND(WEEKDAY(X17)=1,Dimanche),AND(WEEKDAY(X17)=2,Lundi),AND(WEEKDAY(X17)=3,Mardi),AND(WEEKDAY(X17)=4,Mercredi),AND(WEEKDAY(X17)=5,Jeudi),AND(WEEKDAY(X17)=6,Vendredi),AND(WEEKDAY(X17)=7,Samedi),X17=férié),0,1)","v":1},"LUN","2017-05-15",null,null,{"$f":"IF(OR(AND(WEEKDAY(AC17)=1,Dimanche),AND(WEEKDAY(AC17)=2,Lundi),AND(WEEKDAY(AC17)=3,Mardi),AND(WEEKDAY(AC17)=4,Mercredi),AND(WEEKDAY(AC17)=5,Jeudi),AND(WEEKDAY(AC17)=6,Vendredi),AND(WEEKDAY(AC17)=7,Samedi),AC17=férié),0,1)","v":1},"JEU","2017-06-15",null,null,{"$f":"IF(OR(AND(WEEKDAY(AH17)=1,Dimanche),AND(WEEKDAY(AH17)=2,Lundi),AND(WEEKDAY(AH17)=3,Mardi),AND(WEEKDAY(AH17)=4,Mercredi),AND(WEEKDAY(AH17)=5,Jeudi),AND(WEEKDAY(AH17)=6,Vendredi),AND(WEEKDAY(AH17)=7,Samedi),AH17=férié),0,1)","v":0},"SAM","2017-07-15",null,null,{"$f":"IF(OR(AND(WEEKDAY(AM17)=1,Dimanche),AND(WEEKDAY(AM17)=2,Lundi),AND(WEEKDAY(AM17)=3,Mardi),AND(WEEKDAY(AM17)=4,Mercredi),AND(WEEKDAY(AM17)=5,Jeudi),AND(WEEKDAY(AM17)=6,Vendredi),AND(WEEKDAY(AM17)=7,Samedi),AM17=férié),0,1)","v":0},"MAR","2017-08-15",null,null,{"$f":"IF(OR(AND(WEEKDAY(AR17)=1,Dimanche),AND(WEEKDAY(AR17)=2,Lundi),AND(WEEKDAY(AR17)=3,Mardi),AND(WEEKDAY(AR17)=4,Mercredi),AND(WEEKDAY(AR17)=5,Jeudi),AND(WEEKDAY(AR17)=6,Vendredi),AND(WEEKDAY(AR17)=7,Samedi),AR17=férié),0,1)","v":1},"VEN","2017-09-15",null,null,{"$f":"IF(OR(AND(WEEKDAY(AW17)=1,Dimanche),AND(WEEKDAY(AW17)=2,Lundi),AND(WEEKDAY(AW17)=3,Mardi),AND(WEEKDAY(AW17)=4,Mercredi),AND(WEEKDAY(AW17)=5,Jeudi),AND(WEEKDAY(AW17)=6,Vendredi),AND(WEEKDAY(AW17)=7,Samedi),AW17=férié),0,1)","v":0},"DIM","2017-10-15",null,null,{"$f":"IF(OR(AND(WEEKDAY(BB17)=1,Dimanche),AND(WEEKDAY(BB17)=2,Lundi),AND(WEEKDAY(BB17)=3,Mardi),AND(WEEKDAY(BB17)=4,Mercredi),AND(WEEKDAY(BB17)=5,Jeudi),AND(WEEKDAY(BB17)=6,Vendredi),AND(WEEKDAY(BB17)=7,Samedi),BB17=férié),0,1)","v":1},"MER","2017-11-15",null,null,{"$f":"IF(OR(AND(WEEKDAY(BG17)=1,Dimanche),AND(WEEKDAY(BG17)=2,Lundi),AND(WEEKDAY(BG17)=3,Mardi),AND(WEEKDAY(BG17)=4,Mercredi),AND(WEEKDAY(BG17)=5,Jeudi),AND(WEEKDAY(BG17)=6,Vendredi),AND(WEEKDAY(BG17)=7,Samedi),BG17=férié),0,1)","v":1},"VEN","2017-12-15"]
[null,{"$f":"IF(OR(AND(WEEKDAY(D18)=1,Dimanche),AND(WEEKDAY(D18)=2,Lundi),AND(WEEKDAY(D18)=3,Mardi),AND(WEEKDAY(D18)=4,Mercredi),AND(WEEKDAY(D18)=5,Jeudi),AND(WEEKDAY(D18)=6,Vendredi),AND(WEEKDAY(D18)=7,Samedi),D18=férié),0,1)","v":1},"LUN","2017-01-16",null,null,{"$f":"IF(OR(AND(WEEKDAY(I18)=1,Dimanche),AND(WEEKDAY(I18)=2,Lundi),AND(WEEKDAY(I18)=3,Mardi),AND(WEEKDAY(I18)=4,Mercredi),AND(WEEKDAY(I18)=5,Jeudi),AND(WEEKDAY(I18)=6,Vendredi),AND(WEEKDAY(I18)=7,Samedi),I18=férié),0,1)","v":1},"JEU","2017-02-16",null,null,{"$f":"IF(OR(AND(WEEKDAY(N18)=1,Dimanche),AND(WEEKDAY(N18)=2,Lundi),AND(WEEKDAY(N18)=3,Mardi),AND(WEEKDAY(N18)=4,Mercredi),AND(WEEKDAY(N18)=5,Jeudi),AND(WEEKDAY(N18)=6,Vendredi),AND(WEEKDAY(N18)=7,Samedi),N18=férié),0,1)","v":1},"JEU","2017-03-16",null,null,{"$f":"IF(OR(AND(WEEKDAY(S18)=1,Dimanche),AND(WEEKDAY(S18)=2,Lundi),AND(WEEKDAY(S18)=3,Mardi),AND(WEEKDAY(S18)=4,Mercredi),AND(WEEKDAY(S18)=5,Jeudi),AND(WEEKDAY(S18)=6,Vendredi),AND(WEEKDAY(S18)=7,Samedi),S18=férié),0,1)","v":0},"DIM","2017-04-16",null,null,{"$f":"IF(OR(AND(WEEKDAY(X18)=1,Dimanche),AND(WEEKDAY(X18)=2,Lundi),AND(WEEKDAY(X18)=3,Mardi),AND(WEEKDAY(X18)=4,Mercredi),AND(WEEKDAY(X18)=5,Jeudi),AND(WEEKDAY(X18)=6,Vendredi),AND(WEEKDAY(X18)=7,Samedi),X18=férié),0,1)","v":1},"MAR","2017-05-16",null,null,{"$f":"IF(OR(AND(WEEKDAY(AC18)=1,Dimanche),AND(WEEKDAY(AC18)=2,Lundi),AND(WEEKDAY(AC18)=3,Mardi),AND(WEEKDAY(AC18)=4,Mercredi),AND(WEEKDAY(AC18)=5,Jeudi),AND(WEEKDAY(AC18)=6,Vendredi),AND(WEEKDAY(AC18)=7,Samedi),AC18=férié),0,1)","v":1},"VEN","2017-06-16",null,null,{"$f":"IF(OR(AND(WEEKDAY(AH18)=1,Dimanche),AND(WEEKDAY(AH18)=2,Lundi),AND(WEEKDAY(AH18)=3,Mardi),AND(WEEKDAY(AH18)=4,Mercredi),AND(WEEKDAY(AH18)=5,Jeudi),AND(WEEKDAY(AH18)=6,Vendredi),AND(WEEKDAY(AH18)=7,Samedi),AH18=férié),0,1)","v":0},"DIM","2017-07-16",null,null,{"$f":"IF(OR(AND(WEEKDAY(AM18)=1,Dimanche),AND(WEEKDAY(AM18)=2,Lundi),AND(WEEKDAY(AM18)=3,Mardi),AND(WEEKDAY(AM18)=4,Mercredi),AND(WEEKDAY(AM18)=5,Jeudi),AND(WEEKDAY(AM18)=6,Vendredi),AND(WEEKDAY(AM18)=7,Samedi),AM18=férié),0,1)","v":1},"MER","2017-08-16",null,null,{"$f":"IF(OR(AND(WEEKDAY(AR18)=1,Dimanche),AND(WEEKDAY(AR18)=2,Lundi),AND(WEEKDAY(AR18)=3,Mardi),AND(WEEKDAY(AR18)=4,Mercredi),AND(WEEKDAY(AR18)=5,Jeudi),AND(WEEKDAY(AR18)=6,Vendredi),AND(WEEKDAY(AR18)=7,Samedi),AR18=férié),0,1)","v":0},"SAM","2017-09-16",null,null,{"$f":"IF(OR(AND(WEEKDAY(AW18)=1,Dimanche),AND(WEEKDAY(AW18)=2,Lundi),AND(WEEKDAY(AW18)=3,Mardi),AND(WEEKDAY(AW18)=4,Mercredi),AND(WEEKDAY(AW18)=5,Jeudi),AND(WEEKDAY(AW18)=6,Vendredi),AND(WEEKDAY(AW18)=7,Samedi),AW18=férié),0,1)","v":1},"LUN","2017-10-16",null,null,{"$f":"IF(OR(AND(WEEKDAY(BB18)=1,Dimanche),AND(WEEKDAY(BB18)=2,Lundi),AND(WEEKDAY(BB18)=3,Mardi),AND(WEEKDAY(BB18)=4,Mercredi),AND(WEEKDAY(BB18)=5,Jeudi),AND(WEEKDAY(BB18)=6,Vendredi),AND(WEEKDAY(BB18)=7,Samedi),BB18=férié),0,1)","v":1},"JEU","2017-11-16",null,null,{"$f":"IF(OR(AND(WEEKDAY(BG18)=1,Dimanche),AND(WEEKDAY(BG18)=2,Lundi),AND(WEEKDAY(BG18)=3,Mardi),AND(WEEKDAY(BG18)=4,Mercredi),AND(WEEKDAY(BG18)=5,Jeudi),AND(WEEKDAY(BG18)=6,Vendredi),AND(WEEKDAY(BG18)=7,Samedi),BG18=férié),0,1)","v":0},"SAM","2017-12-16"]
[null,{"$f":"IF(OR(AND(WEEKDAY(D19)=1,Dimanche),AND(WEEKDAY(D19)=2,Lundi),AND(WEEKDAY(D19)=3,Mardi),AND(WEEKDAY(D19)=4,Mercredi),AND(WEEKDAY(D19)=5,Jeudi),AND(WEEKDAY(D19)=6,Vendredi),AND(WEEKDAY(D19)=7,Samedi),D19=férié),0,1)","v":1},"MAR","2017-01-17",null,null,{"$f":"IF(OR(AND(WEEKDAY(I19)=1,Dimanche),AND(WEEKDAY(I19)=2,Lundi),AND(WEEKDAY(I19)=3,Mardi),AND(WEEKDAY(I19)=4,Mercredi),AND(WEEKDAY(I19)=5,Jeudi),AND(WEEKDAY(I19)=6,Vendredi),AND(WEEKDAY(I19)=7,Samedi),I19=férié),0,1)","v":1},"VEN","2017-02-17",null,null,{"$f":"IF(OR(AND(WEEKDAY(N19)=1,Dimanche),AND(WEEKDAY(N19)=2,Lundi),AND(WEEKDAY(N19)=3,Mardi),AND(WEEKDAY(N19)=4,Mercredi),AND(WEEKDAY(N19)=5,Jeudi),AND(WEEKDAY(N19)=6,Vendredi),AND(WEEKDAY(N19)=7,Samedi),N19=férié),0,1)","v":1},"VEN","2017-03-17",null,null,{"$f":"IF(OR(AND(WEEKDAY(S19)=1,Dimanche),AND(WEEKDAY(S19)=2,Lundi),AND(WEEKDAY(S19)=3,Mardi),AND(WEEKDAY(S19)=4,Mercredi),AND(WEEKDAY(S19)=5,Jeudi),AND(WEEKDAY(S19)=6,Vendredi),AND(WEEKDAY(S19)=7,Samedi),S19=férié),0,1)","v":0},"LUN","2017-04-17",null,null,{"$f":"IF(OR(AND(WEEKDAY(X19)=1,Dimanche),AND(WEEKDAY(X19)=2,Lundi),AND(WEEKDAY(X19)=3,Mardi),AND(WEEKDAY(X19)=4,Mercredi),AND(WEEKDAY(X19)=5,Jeudi),AND(WEEKDAY(X19)=6,Vendredi),AND(WEEKDAY(X19)=7,Samedi),X19=férié),0,1)","v":1},"MER","2017-05-17",null,null,{"$f":"IF(OR(AND(WEEKDAY(AC19)=1,Dimanche),AND(WEEKDAY(AC19)=2,Lundi),AND(WEEKDAY(AC19)=3,Mardi),AND(WEEKDAY(AC19)=4,Mercredi),AND(WEEKDAY(AC19)=5,Jeudi),AND(WEEKDAY(AC19)=6,Vendredi),AND(WEEKDAY(AC19)=7,Samedi),AC19=férié),0,1)","v":0},"SAM","2017-06-17",null,null,{"$f":"IF(OR(AND(WEEKDAY(AH19)=1,Dimanche),AND(WEEKDAY(AH19)=2,Lundi),AND(WEEKDAY(AH19)=3,Mardi),AND(WEEKDAY(AH19)=4,Mercredi),AND(WEEKDAY(AH19)=5,Jeudi),AND(WEEKDAY(AH19)=6,Vendredi),AND(WEEKDAY(AH19)=7,Samedi),AH19=férié),0,1)","v":1},"LUN","2017-07-17",null,null,{"$f":"IF(OR(AND(WEEKDAY(AM19)=1,Dimanche),AND(WEEKDAY(AM19)=2,Lundi),AND(WEEKDAY(AM19)=3,Mardi),AND(WEEKDAY(AM19)=4,Mercredi),AND(WEEKDAY(AM19)=5,Jeudi),AND(WEEKDAY(AM19)=6,Vendredi),AND(WEEKDAY(AM19)=7,Samedi),AM19=férié),0,1)","v":1},"JEU","2017-08-17",null,null,{"$f":"IF(OR(AND(WEEKDAY(AR19)=1,Dimanche),AND(WEEKDAY(AR19)=2,Lundi),AND(WEEKDAY(AR19)=3,Mardi),AND(WEEKDAY(AR19)=4,Mercredi),AND(WEEKDAY(AR19)=5,Jeudi),AND(WEEKDAY(AR19)=6,Vendredi),AND(WEEKDAY(AR19)=7,Samedi),AR19=férié),0,1)","v":0},"DIM","2017-09-17",null,null,{"$f":"IF(OR(AND(WEEKDAY(AW19)=1,Dimanche),AND(WEEKDAY(AW19)=2,Lundi),AND(WEEKDAY(AW19)=3,Mardi),AND(WEEKDAY(AW19)=4,Mercredi),AND(WEEKDAY(AW19)=5,Jeudi),AND(WEEKDAY(AW19)=6,Vendredi),AND(WEEKDAY(AW19)=7,Samedi),AW19=férié),0,1)","v":1},"MAR","2017-10-17",null,null,{"$f":"IF(OR(AND(WEEKDAY(BB19)=1,Dimanche),AND(WEEKDAY(BB19)=2,Lundi),AND(WEEKDAY(BB19)=3,Mardi),AND(WEEKDAY(BB19)=4,Mercredi),AND(WEEKDAY(BB19)=5,Jeudi),AND(WEEKDAY(BB19)=6,Vendredi),AND(WEEKDAY(BB19)=7,Samedi),BB19=férié),0,1)","v":1},"VEN","2017-11-17",null,null,{"$f":"IF(OR(AND(WEEKDAY(BG19)=1,Dimanche),AND(WEEKDAY(BG19)=2,Lundi),AND(WEEKDAY(BG19)=3,Mardi),AND(WEEKDAY(BG19)=4,Mercredi),AND(WEEKDAY(BG19)=5,Jeudi),AND(WEEKDAY(BG19)=6,Vendredi),AND(WEEKDAY(BG19)=7,Samedi),BG19=férié),0,1)","v":0},"DIM","2017-12-17"]
[null,{"$f":"IF(OR(AND(WEEKDAY(D20)=1,Dimanche),AND(WEEKDAY(D20)=2,Lundi),AND(WEEKDAY(D20)=3,Mardi),AND(WEEKDAY(D20)=4,Mercredi),AND(WEEKDAY(D20)=5,Jeudi),AND(WEEKDAY(D20)=6,Vendredi),AND(WEEKDAY(D20)=7,Samedi),D20=férié),0,1)","v":1},"MER","2017-01-18",null,null,{"$f":"IF(OR(AND(WEEKDAY(I20)=1,Dimanche),AND(WEEKDAY(I20)=2,Lundi),AND(WEEKDAY(I20)=3,Mardi),AND(WEEKDAY(I20)=4,Mercredi),AND(WEEKDAY(I20)=5,Jeudi),AND(WEEKDAY(I20)=6,Vendredi),AND(WEEKDAY(I20)=7,Samedi),I20=férié),0,1)","v":0},"SAM","2017-02-18",null,null,{"$f":"IF(OR(AND(WEEKDAY(N20)=1,Dimanche),AND(WEEKDAY(N20)=2,Lundi),AND(WEEKDAY(N20)=3,Mardi),AND(WEEKDAY(N20)=4,Mercredi),AND(WEEKDAY(N20)=5,Jeudi),AND(WEEKDAY(N20)=6,Vendredi),AND(WEEKDAY(N20)=7,Samedi),N20=férié),0,1)","v":0},"SAM","2017-03-18",null,null,{"$f":"IF(OR(AND(WEEKDAY(S20)=1,Dimanche),AND(WEEKDAY(S20)=2,Lundi),AND(WEEKDAY(S20)=3,Mardi),AND(WEEKDAY(S20)=4,Mercredi),AND(WEEKDAY(S20)=5,Jeudi),AND(WEEKDAY(S20)=6,Vendredi),AND(WEEKDAY(S20)=7,Samedi),S20=férié),0,1)","v":1},"MAR","2017-04-18",null,null,{"$f":"IF(OR(AND(WEEKDAY(X20)=1,Dimanche),AND(WEEKDAY(X20)=2,Lundi),AND(WEEKDAY(X20)=3,Mardi),AND(WEEKDAY(X20)=4,Mercredi),AND(WEEKDAY(X20)=5,Jeudi),AND(WEEKDAY(X20)=6,Vendredi),AND(WEEKDAY(X20)=7,Samedi),X20=férié),0,1)","v":1},"JEU","2017-05-18",null,null,{"$f":"IF(OR(AND(WEEKDAY(AC20)=1,Dimanche),AND(WEEKDAY(AC20)=2,Lundi),AND(WEEKDAY(AC20)=3,Mardi),AND(WEEKDAY(AC20)=4,Mercredi),AND(WEEKDAY(AC20)=5,Jeudi),AND(WEEKDAY(AC20)=6,Vendredi),AND(WEEKDAY(AC20)=7,Samedi),AC20=férié),0,1)","v":0},"DIM","2017-06-18",null,null,{"$f":"IF(OR(AND(WEEKDAY(AH20)=1,Dimanche),AND(WEEKDAY(AH20)=2,Lundi),AND(WEEKDAY(AH20)=3,Mardi),AND(WEEKDAY(AH20)=4,Mercredi),AND(WEEKDAY(AH20)=5,Jeudi),AND(WEEKDAY(AH20)=6,Vendredi),AND(WEEKDAY(AH20)=7,Samedi),AH20=férié),0,1)","v":1},"MAR","2017-07-18",null,null,{"$f":"IF(OR(AND(WEEKDAY(AM20)=1,Dimanche),AND(WEEKDAY(AM20)=2,Lundi),AND(WEEKDAY(AM20)=3,Mardi),AND(WEEKDAY(AM20)=4,Mercredi),AND(WEEKDAY(AM20)=5,Jeudi),AND(WEEKDAY(AM20)=6,Vendredi),AND(WEEKDAY(AM20)=7,Samedi),AM20=férié),0,1)","v":1},"VEN","2017-08-18",null,null,{"$f":"IF(OR(AND(WEEKDAY(AR20)=1,Dimanche),AND(WEEKDAY(AR20)=2,Lundi),AND(WEEKDAY(AR20)=3,Mardi),AND(WEEKDAY(AR20)=4,Mercredi),AND(WEEKDAY(AR20)=5,Jeudi),AND(WEEKDAY(AR20)=6,Vendredi),AND(WEEKDAY(AR20)=7,Samedi),AR20=férié),0,1)","v":1},"LUN","2017-09-18",null,null,{"$f":"IF(OR(AND(WEEKDAY(AW20)=1,Dimanche),AND(WEEKDAY(AW20)=2,Lundi),AND(WEEKDAY(AW20)=3,Mardi),AND(WEEKDAY(AW20)=4,Mercredi),AND(WEEKDAY(AW20)=5,Jeudi),AND(WEEKDAY(AW20)=6,Vendredi),AND(WEEKDAY(AW20)=7,Samedi),AW20=férié),0,1)","v":1},"MER","2017-10-18",null,null,{"$f":"IF(OR(AND(WEEKDAY(BB20)=1,Dimanche),AND(WEEKDAY(BB20)=2,Lundi),AND(WEEKDAY(BB20)=3,Mardi),AND(WEEKDAY(BB20)=4,Mercredi),AND(WEEKDAY(BB20)=5,Jeudi),AND(WEEKDAY(BB20)=6,Vendredi),AND(WEEKDAY(BB20)=7,Samedi),BB20=férié),0,1)","v":0},"SAM","2017-11-18",null,null,{"$f":"IF(OR(AND(WEEKDAY(BG20)=1,Dimanche),AND(WEEKDAY(BG20)=2,Lundi),AND(WEEKDAY(BG20)=3,Mardi),AND(WEEKDAY(BG20)=4,Mercredi),AND(WEEKDAY(BG20)=5,Jeudi),AND(WEEKDAY(BG20)=6,Vendredi),AND(WEEKDAY(BG20)=7,Samedi),BG20=férié),0,1)","v":1},"LUN","2017-12-18"]
[null,{"$f":"IF(OR(AND(WEEKDAY(D21)=1,Dimanche),AND(WEEKDAY(D21)=2,Lundi),AND(WEEKDAY(D21)=3,Mardi),AND(WEEKDAY(D21)=4,Mercredi),AND(WEEKDAY(D21)=5,Jeudi),AND(WEEKDAY(D21)=6,Vendredi),AND(WEEKDAY(D21)=7,Samedi),D21=férié),0,1)","v":1},"JEU","2017-01-19",null,null,{"$f":"IF(OR(AND(WEEKDAY(I21)=1,Dimanche),AND(WEEKDAY(I21)=2,Lundi),AND(WEEKDAY(I21)=3,Mardi),AND(WEEKDAY(I21)=4,Mercredi),AND(WEEKDAY(I21)=5,Jeudi),AND(WEEKDAY(I21)=6,Vendredi),AND(WEEKDAY(I21)=7,Samedi),I21=férié),0,1)","v":0},"DIM","2017-02-19",null,null,{"$f":"IF(OR(AND(WEEKDAY(N21)=1,Dimanche),AND(WEEKDAY(N21)=2,Lundi),AND(WEEKDAY(N21)=3,Mardi),AND(WEEKDAY(N21)=4,Mercredi),AND(WEEKDAY(N21)=5,Jeudi),AND(WEEKDAY(N21)=6,Vendredi),AND(WEEKDAY(N21)=7,Samedi),N21=férié),0,1)","v":0},"DIM","2017-03-19",null,null,{"$f":"IF(OR(AND(WEEKDAY(S21)=1,Dimanche),AND(WEEKDAY(S21)=2,Lundi),AND(WEEKDAY(S21)=3,Mardi),AND(WEEKDAY(S21)=4,Mercredi),AND(WEEKDAY(S21)=5,Jeudi),AND(WEEKDAY(S21)=6,Vendredi),AND(WEEKDAY(S21)=7,Samedi),S21=férié),0,1)","v":1},"MER","2017-04-19",null,null,{"$f":"IF(OR(AND(WEEKDAY(X21)=1,Dimanche),AND(WEEKDAY(X21)=2,Lundi),AND(WEEKDAY(X21)=3,Mardi),AND(WEEKDAY(X21)=4,Mercredi),AND(WEEKDAY(X21)=5,Jeudi),AND(WEEKDAY(X21)=6,Vendredi),AND(WEEKDAY(X21)=7,Samedi),X21=férié),0,1)","v":1},"VEN","2017-05-19",null,null,{"$f":"IF(OR(AND(WEEKDAY(AC21)=1,Dimanche),AND(WEEKDAY(AC21)=2,Lundi),AND(WEEKDAY(AC21)=3,Mardi),AND(WEEKDAY(AC21)=4,Mercredi),AND(WEEKDAY(AC21)=5,Jeudi),AND(WEEKDAY(AC21)=6,Vendredi),AND(WEEKDAY(AC21)=7,Samedi),AC21=férié),0,1)","v":1},"LUN","2017-06-19",null,null,{"$f":"IF(OR(AND(WEEKDAY(AH21)=1,Dimanche),AND(WEEKDAY(AH21)=2,Lundi),AND(WEEKDAY(AH21)=3,Mardi),AND(WEEKDAY(AH21)=4,Mercredi),AND(WEEKDAY(AH21)=5,Jeudi),AND(WEEKDAY(AH21)=6,Vendredi),AND(WEEKDAY(AH21)=7,Samedi),AH21=férié),0,1)","v":1},"MER","2017-07-19",null,null,{"$f":"IF(OR(AND(WEEKDAY(AM21)=1,Dimanche),AND(WEEKDAY(AM21)=2,Lundi),AND(WEEKDAY(AM21)=3,Mardi),AND(WEEKDAY(AM21)=4,Mercredi),AND(WEEKDAY(AM21)=5,Jeudi),AND(WEEKDAY(AM21)=6,Vendredi),AND(WEEKDAY(AM21)=7,Samedi),AM21=férié),0,1)","v":0},"SAM","2017-08-19",null,null,{"$f":"IF(OR(AND(WEEKDAY(AR21)=1,Dimanche),AND(WEEKDAY(AR21)=2,Lundi),AND(WEEKDAY(AR21)=3,Mardi),AND(WEEKDAY(AR21)=4,Mercredi),AND(WEEKDAY(AR21)=5,Jeudi),AND(WEEKDAY(AR21)=6,Vendredi),AND(WEEKDAY(AR21)=7,Samedi),AR21=férié),0,1)","v":1},"MAR","2017-09-19",null,null,{"$f":"IF(OR(AND(WEEKDAY(AW21)=1,Dimanche),AND(WEEKDAY(AW21)=2,Lundi),AND(WEEKDAY(AW21)=3,Mardi),AND(WEEKDAY(AW21)=4,Mercredi),AND(WEEKDAY(AW21)=5,Jeudi),AND(WEEKDAY(AW21)=6,Vendredi),AND(WEEKDAY(AW21)=7,Samedi),AW21=férié),0,1)","v":1},"JEU","2017-10-19",null,null,{"$f":"IF(OR(AND(WEEKDAY(BB21)=1,Dimanche),AND(WEEKDAY(BB21)=2,Lundi),AND(WEEKDAY(BB21)=3,Mardi),AND(WEEKDAY(BB21)=4,Mercredi),AND(WEEKDAY(BB21)=5,Jeudi),AND(WEEKDAY(BB21)=6,Vendredi),AND(WEEKDAY(BB21)=7,Samedi),BB21=férié),0,1)","v":0},"DIM","2017-11-19",null,null,{"$f":"IF(OR(AND(WEEKDAY(BG21)=1,Dimanche),AND(WEEKDAY(BG21)=2,Lundi),AND(WEEKDAY(BG21)=3,Mardi),AND(WEEKDAY(BG21)=4,Mercredi),AND(WEEKDAY(BG21)=5,Jeudi),AND(WEEKDAY(BG21)=6,Vendredi),AND(WEEKDAY(BG21)=7,Samedi),BG21=férié),0,1)","v":1},"MAR","2017-12-19"]
[null,{"$f":"IF(OR(AND(WEEKDAY(D22)=1,Dimanche),AND(WEEKDAY(D22)=2,Lundi),AND(WEEKDAY(D22)=3,Mardi),AND(WEEKDAY(D22)=4,Mercredi),AND(WEEKDAY(D22)=5,Jeudi),AND(WEEKDAY(D22)=6,Vendredi),AND(WEEKDAY(D22)=7,Samedi),D22=férié),0,1)","v":1},"VEN","2017-01-20",null,null,{"$f":"IF(OR(AND(WEEKDAY(I22)=1,Dimanche),AND(WEEKDAY(I22)=2,Lundi),AND(WEEKDAY(I22)=3,Mardi),AND(WEEKDAY(I22)=4,Mercredi),AND(WEEKDAY(I22)=5,Jeudi),AND(WEEKDAY(I22)=6,Vendredi),AND(WEEKDAY(I22)=7,Samedi),I22=férié),0,1)","v":1},"LUN","2017-02-20",null,null,{"$f":"IF(OR(AND(WEEKDAY(N22)=1,Dimanche),AND(WEEKDAY(N22)=2,Lundi),AND(WEEKDAY(N22)=3,Mardi),AND(WEEKDAY(N22)=4,Mercredi),AND(WEEKDAY(N22)=5,Jeudi),AND(WEEKDAY(N22)=6,Vendredi),AND(WEEKDAY(N22)=7,Samedi),N22=férié),0,1)","v":1},"LUN","2017-03-20",null,null,{"$f":"IF(OR(AND(WEEKDAY(S22)=1,Dimanche),AND(WEEKDAY(S22)=2,Lundi),AND(WEEKDAY(S22)=3,Mardi),AND(WEEKDAY(S22)=4,Mercredi),AND(WEEKDAY(S22)=5,Jeudi),AND(WEEKDAY(S22)=6,Vendredi),AND(WEEKDAY(S22)=7,Samedi),S22=férié),0,1)","v":1},"JEU","2017-04-20",null,null,{"$f":"IF(OR(AND(WEEKDAY(X22)=1,Dimanche),AND(WEEKDAY(X22)=2,Lundi),AND(WEEKDAY(X22)=3,Mardi),AND(WEEKDAY(X22)=4,Mercredi),AND(WEEKDAY(X22)=5,Jeudi),AND(WEEKDAY(X22)=6,Vendredi),AND(WEEKDAY(X22)=7,Samedi),X22=férié),0,1)","v":0},"SAM","2017-05-20",null,null,{"$f":"IF(OR(AND(WEEKDAY(AC22)=1,Dimanche),AND(WEEKDAY(AC22)=2,Lundi),AND(WEEKDAY(AC22)=3,Mardi),AND(WEEKDAY(AC22)=4,Mercredi),AND(WEEKDAY(AC22)=5,Jeudi),AND(WEEKDAY(AC22)=6,Vendredi),AND(WEEKDAY(AC22)=7,Samedi),AC22=férié),0,1)","v":1},"MAR","2017-06-20",null,null,{"$f":"IF(OR(AND(WEEKDAY(AH22)=1,Dimanche),AND(WEEKDAY(AH22)=2,Lundi),AND(WEEKDAY(AH22)=3,Mardi),AND(WEEKDAY(AH22)=4,Mercredi),AND(WEEKDAY(AH22)=5,Jeudi),AND(WEEKDAY(AH22)=6,Vendredi),AND(WEEKDAY(AH22)=7,Samedi),AH22=férié),0,1)","v":1},"JEU","2017-07-20",null,null,{"$f":"IF(OR(AND(WEEKDAY(AM22)=1,Dimanche),AND(WEEKDAY(AM22)=2,Lundi),AND(WEEKDAY(AM22)=3,Mardi),AND(WEEKDAY(AM22)=4,Mercredi),AND(WEEKDAY(AM22)=5,Jeudi),AND(WEEKDAY(AM22)=6,Vendredi),AND(WEEKDAY(AM22)=7,Samedi),AM22=férié),0,1)","v":0},"DIM","2017-08-20",null,null,{"$f":"IF(OR(AND(WEEKDAY(AR22)=1,Dimanche),AND(WEEKDAY(AR22)=2,Lundi),AND(WEEKDAY(AR22)=3,Mardi),AND(WEEKDAY(AR22)=4,Mercredi),AND(WEEKDAY(AR22)=5,Jeudi),AND(WEEKDAY(AR22)=6,Vendredi),AND(WEEKDAY(AR22)=7,Samedi),AR22=férié),0,1)","v":1},"MER","2017-09-20",null,null,{"$f":"IF(OR(AND(WEEKDAY(AW22)=1,Dimanche),AND(WEEKDAY(AW22)=2,Lundi),AND(WEEKDAY(AW22)=3,Mardi),AND(WEEKDAY(AW22)=4,Mercredi),AND(WEEKDAY(AW22)=5,Jeudi),AND(WEEKDAY(AW22)=6,Vendredi),AND(WEEKDAY(AW22)=7,Samedi),AW22=férié),0,1)","v":1},"VEN","2017-10-20",null,null,{"$f":"IF(OR(AND(WEEKDAY(BB22)=1,Dimanche),AND(WEEKDAY(BB22)=2,Lundi),AND(WEEKDAY(BB22)=3,Mardi),AND(WEEKDAY(BB22)=4,Mercredi),AND(WEEKDAY(BB22)=5,Jeudi),AND(WEEKDAY(BB22)=6,Vendredi),AND(WEEKDAY(BB22)=7,Samedi),BB22=férié),0,1)","v":1},"LUN","2017-11-20",null,null,{"$f":"IF(OR(AND(WEEKDAY(BG22)=1,Dimanche),AND(WEEKDAY(BG22)=2,Lundi),AND(WEEKDAY(BG22)=3,Mardi),AND(WEEKDAY(BG22)=4,Mercredi),AND(WEEKDAY(BG22)=5,Jeudi),AND(WEEKDAY(BG22)=6,Vendredi),AND(WEEKDAY(BG22)=7,Samedi),BG22=férié),0,1)","v":1},"MER","2017-12-20"]
[null,{"$f":"IF(OR(AND(WEEKDAY(D23)=1,Dimanche),AND(WEEKDAY(D23)=2,Lundi),AND(WEEKDAY(D23)=3,Mardi),AND(WEEKDAY(D23)=4,Mercredi),AND(WEEKDAY(D23)=5,Jeudi),AND(WEEKDAY(D23)=6,Vendredi),AND(WEEKDAY(D23)=7,Samedi),D23=férié),0,1)","v":0},"SAM","2017-01-21",null,null,{"$f":"IF(OR(AND(WEEKDAY(I23)=1,Dimanche),AND(WEEKDAY(I23)=2,Lundi),AND(WEEKDAY(I23)=3,Mardi),AND(WEEKDAY(I23)=4,Mercredi),AND(WEEKDAY(I23)=5,Jeudi),AND(WEEKDAY(I23)=6,Vendredi),AND(WEEKDAY(I23)=7,Samedi),I23=férié),0,1)","v":1},"MAR","2017-02-21",null,null,{"$f":"IF(OR(AND(WEEKDAY(N23)=1,Dimanche),AND(WEEKDAY(N23)=2,Lundi),AND(WEEKDAY(N23)=3,Mardi),AND(WEEKDAY(N23)=4,Mercredi),AND(WEEKDAY(N23)=5,Jeudi),AND(WEEKDAY(N23)=6,Vendredi),AND(WEEKDAY(N23)=7,Samedi),N23=férié),0,1)","v":1},"MAR","2017-03-21",null,null,{"$f":"IF(OR(AND(WEEKDAY(S23)=1,Dimanche),AND(WEEKDAY(S23)=2,Lundi),AND(WEEKDAY(S23)=3,Mardi),AND(WEEKDAY(S23)=4,Mercredi),AND(WEEKDAY(S23)=5,Jeudi),AND(WEEKDAY(S23)=6,Vendredi),AND(WEEKDAY(S23)=7,Samedi),S23=férié),0,1)","v":1},"VEN","2017-04-21",null,null,{"$f":"IF(OR(AND(WEEKDAY(X23)=1,Dimanche),AND(WEEKDAY(X23)=2,Lundi),AND(WEEKDAY(X23)=3,Mardi),AND(WEEKDAY(X23)=4,Mercredi),AND(WEEKDAY(X23)=5,Jeudi),AND(WEEKDAY(X23)=6,Vendredi),AND(WEEKDAY(X23)=7,Samedi),X23=férié),0,1)","v":0},"DIM","2017-05-21",null,null,{"$f":"IF(OR(AND(WEEKDAY(AC23)=1,Dimanche),AND(WEEKDAY(AC23)=2,Lundi),AND(WEEKDAY(AC23)=3,Mardi),AND(WEEKDAY(AC23)=4,Mercredi),AND(WEEKDAY(AC23)=5,Jeudi),AND(WEEKDAY(AC23)=6,Vendredi),AND(WEEKDAY(AC23)=7,Samedi),AC23=férié),0,1)","v":1},"MER","2017-06-21",null,null,{"$f":"IF(OR(AND(WEEKDAY(AH23)=1,Dimanche),AND(WEEKDAY(AH23)=2,Lundi),AND(WEEKDAY(AH23)=3,Mardi),AND(WEEKDAY(AH23)=4,Mercredi),AND(WEEKDAY(AH23)=5,Jeudi),AND(WEEKDAY(AH23)=6,Vendredi),AND(WEEKDAY(AH23)=7,Samedi),AH23=férié),0,1)","v":1},"VEN","2017-07-21",null,null,{"$f":"IF(OR(AND(WEEKDAY(AM23)=1,Dimanche),AND(WEEKDAY(AM23)=2,Lundi),AND(WEEKDAY(AM23)=3,Mardi),AND(WEEKDAY(AM23)=4,Mercredi),AND(WEEKDAY(AM23)=5,Jeudi),AND(WEEKDAY(AM23)=6,Vendredi),AND(WEEKDAY(AM23)=7,Samedi),AM23=férié),0,1)","v":1},"LUN","2017-08-21",null,null,{"$f":"IF(OR(AND(WEEKDAY(AR23)=1,Dimanche),AND(WEEKDAY(AR23)=2,Lundi),AND(WEEKDAY(AR23)=3,Mardi),AND(WEEKDAY(AR23)=4,Mercredi),AND(WEEKDAY(AR23)=5,Jeudi),AND(WEEKDAY(AR23)=6,Vendredi),AND(WEEKDAY(AR23)=7,Samedi),AR23=férié),0,1)","v":1},"JEU","2017-09-21",null,null,{"$f":"IF(OR(AND(WEEKDAY(AW23)=1,Dimanche),AND(WEEKDAY(AW23)=2,Lundi),AND(WEEKDAY(AW23)=3,Mardi),AND(WEEKDAY(AW23)=4,Mercredi),AND(WEEKDAY(AW23)=5,Jeudi),AND(WEEKDAY(AW23)=6,Vendredi),AND(WEEKDAY(AW23)=7,Samedi),AW23=férié),0,1)","v":0},"SAM","2017-10-21",null,null,{"$f":"IF(OR(AND(WEEKDAY(BB23)=1,Dimanche),AND(WEEKDAY(BB23)=2,Lundi),AND(WEEKDAY(BB23)=3,Mardi),AND(WEEKDAY(BB23)=4,Mercredi),AND(WEEKDAY(BB23)=5,Jeudi),AND(WEEKDAY(BB23)=6,Vendredi),AND(WEEKDAY(BB23)=7,Samedi),BB23=férié),0,1)","v":1},"MAR","2017-11-21",null,null,{"$f":"IF(OR(AND(WEEKDAY(BG23)=1,Dimanche),AND(WEEKDAY(BG23)=2,Lundi),AND(WEEKDAY(BG23)=3,Mardi),AND(WEEKDAY(BG23)=4,Mercredi),AND(WEEKDAY(BG23)=5,Jeudi),AND(WEEKDAY(BG23)=6,Vendredi),AND(WEEKDAY(BG23)=7,Samedi),BG23=férié),0,1)","v":1},"JEU","2017-12-21"]
[null,{"$f":"IF(OR(AND(WEEKDAY(D24)=1,Dimanche),AND(WEEKDAY(D24)=2,Lundi),AND(WEEKDAY(D24)=3,Mardi),AND(WEEKDAY(D24)=4,Mercredi),AND(WEEKDAY(D24)=5,Jeudi),AND(WEEKDAY(D24)=6,Vendredi),AND(WEEKDAY(D24)=7,Samedi),D24=férié),0,1)","v":0},"DIM","2017-01-22",null,null,{"$f":"IF(OR(AND(WEEKDAY(I24)=1,Dimanche),AND(WEEKDAY(I24)=2,Lundi),AND(WEEKDAY(I24)=3,Mardi),AND(WEEKDAY(I24)=4,Mercredi),AND(WEEKDAY(I24)=5,Jeudi),AND(WEEKDAY(I24)=6,Vendredi),AND(WEEKDAY(I24)=7,Samedi),I24=férié),0,1)","v":1},"MER","2017-02-22",null,null,{"$f":"IF(OR(AND(WEEKDAY(N24)=1,Dimanche),AND(WEEKDAY(N24)=2,Lundi),AND(WEEKDAY(N24)=3,Mardi),AND(WEEKDAY(N24)=4,Mercredi),AND(WEEKDAY(N24)=5,Jeudi),AND(WEEKDAY(N24)=6,Vendredi),AND(WEEKDAY(N24)=7,Samedi),N24=férié),0,1)","v":1},"MER","2017-03-22",null,null,{"$f":"IF(OR(AND(WEEKDAY(S24)=1,Dimanche),AND(WEEKDAY(S24)=2,Lundi),AND(WEEKDAY(S24)=3,Mardi),AND(WEEKDAY(S24)=4,Mercredi),AND(WEEKDAY(S24)=5,Jeudi),AND(WEEKDAY(S24)=6,Vendredi),AND(WEEKDAY(S24)=7,Samedi),S24=férié),0,1)","v":0},"SAM","2017-04-22",null,null,{"$f":"IF(OR(AND(WEEKDAY(X24)=1,Dimanche),AND(WEEKDAY(X24)=2,Lundi),AND(WEEKDAY(X24)=3,Mardi),AND(WEEKDAY(X24)=4,Mercredi),AND(WEEKDAY(X24)=5,Jeudi),AND(WEEKDAY(X24)=6,Vendredi),AND(WEEKDAY(X24)=7,Samedi),X24=férié),0,1)","v":1},"LUN","2017-05-22",null,null,{"$f":"IF(OR(AND(WEEKDAY(AC24)=1,Dimanche),AND(WEEKDAY(AC24)=2,Lundi),AND(WEEKDAY(AC24)=3,Mardi),AND(WEEKDAY(AC24)=4,Mercredi),AND(WEEKDAY(AC24)=5,Jeudi),AND(WEEKDAY(AC24)=6,Vendredi),AND(WEEKDAY(AC24)=7,Samedi),AC24=férié),0,1)","v":1},"JEU","2017-06-22",null,null,{"$f":"IF(OR(AND(WEEKDAY(AH24)=1,Dimanche),AND(WEEKDAY(AH24)=2,Lundi),AND(WEEKDAY(AH24)=3,Mardi),AND(WEEKDAY(AH24)=4,Mercredi),AND(WEEKDAY(AH24)=5,Jeudi),AND(WEEKDAY(AH24)=6,Vendredi),AND(WEEKDAY(AH24)=7,Samedi),AH24=férié),0,1)","v":0},"SAM","2017-07-22",null,null,{"$f":"IF(OR(AND(WEEKDAY(AM24)=1,Dimanche),AND(WEEKDAY(AM24)=2,Lundi),AND(WEEKDAY(AM24)=3,Mardi),AND(WEEKDAY(AM24)=4,Mercredi),AND(WEEKDAY(AM24)=5,Jeudi),AND(WEEKDAY(AM24)=6,Vendredi),AND(WEEKDAY(AM24)=7,Samedi),AM24=férié),0,1)","v":1},"MAR","2017-08-22",null,null,{"$f":"IF(OR(AND(WEEKDAY(AR24)=1,Dimanche),AND(WEEKDAY(AR24)=2,Lundi),AND(WEEKDAY(AR24)=3,Mardi),AND(WEEKDAY(AR24)=4,Mercredi),AND(WEEKDAY(AR24)=5,Jeudi),AND(WEEKDAY(AR24)=6,Vendredi),AND(WEEKDAY(AR24)=7,Samedi),AR24=férié),0,1)","v":1},"VEN","2017-09-22",null,null,{"$f":"IF(OR(AND(WEEKDAY(AW24)=1,Dimanche),AND(WEEKDAY(AW24)=2,Lundi),AND(WEEKDAY(AW24)=3,Mardi),AND(WEEKDAY(AW24)=4,Mercredi),AND(WEEKDAY(AW24)=5,Jeudi),AND(WEEKDAY(AW24)=6,Vendredi),AND(WEEKDAY(AW24)=7,Samedi),AW24=férié),0,1)","v":0},"DIM","2017-10-22",null,null,{"$f":"IF(OR(AND(WEEKDAY(BB24)=1,Dimanche),AND(WEEKDAY(BB24)=2,Lundi),AND(WEEKDAY(BB24)=3,Mardi),AND(WEEKDAY(BB24)=4,Mercredi),AND(WEEKDAY(BB24)=5,Jeudi),AND(WEEKDAY(BB24)=6,Vendredi),AND(WEEKDAY(BB24)=7,Samedi),BB24=férié),0,1)","v":1},"MER","2017-11-22",null,null,{"$f":"IF(OR(AND(WEEKDAY(BG24)=1,Dimanche),AND(WEEKDAY(BG24)=2,Lundi),AND(WEEKDAY(BG24)=3,Mardi),AND(WEEKDAY(BG24)=4,Mercredi),AND(WEEKDAY(BG24)=5,Jeudi),AND(WEEKDAY(BG24)=6,Vendredi),AND(WEEKDAY(BG24)=7,Samedi),BG24=férié),0,1)","v":1},"VEN","2017-12-22"]
[null,{"$f":"IF(OR(AND(WEEKDAY(D25)=1,Dimanche),AND(WEEKDAY(D25)=2,Lundi),AND(WEEKDAY(D25)=3,Mardi),AND(WEEKDAY(D25)=4,Mercredi),AND(WEEKDAY(D25)=5,Jeudi),AND(WEEKDAY(D25)=6,Vendredi),AND(WEEKDAY(D25)=7,Samedi),D25=férié),0,1)","v":1},"LUN","2017-01-23",null,null,{"$f":"IF(OR(AND(WEEKDAY(I25)=1,Dimanche),AND(WEEKDAY(I25)=2,Lundi),AND(WEEKDAY(I25)=3,Mardi),AND(WEEKDAY(I25)=4,Mercredi),AND(WEEKDAY(I25)=5,Jeudi),AND(WEEKDAY(I25)=6,Vendredi),AND(WEEKDAY(I25)=7,Samedi),I25=férié),0,1)","v":1},"JEU","2017-02-23",null,null,{"$f":"IF(OR(AND(WEEKDAY(N25)=1,Dimanche),AND(WEEKDAY(N25)=2,Lundi),AND(WEEKDAY(N25)=3,Mardi),AND(WEEKDAY(N25)=4,Mercredi),AND(WEEKDAY(N25)=5,Jeudi),AND(WEEKDAY(N25)=6,Vendredi),AND(WEEKDAY(N25)=7,Samedi),N25=férié),0,1)","v":1},"JEU","2017-03-23",null,null,{"$f":"IF(OR(AND(WEEKDAY(S25)=1,Dimanche),AND(WEEKDAY(S25)=2,Lundi),AND(WEEKDAY(S25)=3,Mardi),AND(WEEKDAY(S25)=4,Mercredi),AND(WEEKDAY(S25)=5,Jeudi),AND(WEEKDAY(S25)=6,Vendredi),AND(WEEKDAY(S25)=7,Samedi),S25=férié),0,1)","v":0},"DIM","2017-04-23",null,null,{"$f":"IF(OR(AND(WEEKDAY(X25)=1,Dimanche),AND(WEEKDAY(X25)=2,Lundi),AND(WEEKDAY(X25)=3,Mardi),AND(WEEKDAY(X25)=4,Mercredi),AND(WEEKDAY(X25)=5,Jeudi),AND(WEEKDAY(X25)=6,Vendredi),AND(WEEKDAY(X25)=7,Samedi),X25=férié),0,1)","v":1},"MAR","2017-05-23",null,null,{"$f":"IF(OR(AND(WEEKDAY(AC25)=1,Dimanche),AND(WEEKDAY(AC25)=2,Lundi),AND(WEEKDAY(AC25)=3,Mardi),AND(WEEKDAY(AC25)=4,Mercredi),AND(WEEKDAY(AC25)=5,Jeudi),AND(WEEKDAY(AC25)=6,Vendredi),AND(WEEKDAY(AC25)=7,Samedi),AC25=férié),0,1)","v":1},"VEN","2017-06-23",null,null,{"$f":"IF(OR(AND(WEEKDAY(AH25)=1,Dimanche),AND(WEEKDAY(AH25)=2,Lundi),AND(WEEKDAY(AH25)=3,Mardi),AND(WEEKDAY(AH25)=4,Mercredi),AND(WEEKDAY(AH25)=5,Jeudi),AND(WEEKDAY(AH25)=6,Vendredi),AND(WEEKDAY(AH25)=7,Samedi),AH25=férié),0,1)","v":0},"DIM","2017-07-23",null,null,{"$f":"IF(OR(AND(WEEKDAY(AM25)=1,Dimanche),AND(WEEKDAY(AM25)=2,Lundi),AND(WEEKDAY(AM25)=3,Mardi),AND(WEEKDAY(AM25)=4,Mercredi),AND(WEEKDAY(AM25)=5,Jeudi),AND(WEEKDAY(AM25)=6,Vendredi),AND(WEEKDAY(AM25)=7,Samedi),AM25=férié),0,1)","v":1},"MER","2017-08-23",null,null,{"$f":"IF(OR(AND(WEEKDAY(AR25)=1,Dimanche),AND(WEEKDAY(AR25)=2,Lundi),AND(WEEKDAY(AR25)=3,Mardi),AND(WEEKDAY(AR25)=4,Mercredi),AND(WEEKDAY(AR25)=5,Jeudi),AND(WEEKDAY(AR25)=6,Vendredi),AND(WEEKDAY(AR25)=7,Samedi),AR25=férié),0,1)","v":0},"SAM","2017-09-23",null,null,{"$f":"IF(OR(AND(WEEKDAY(AW25)=1,Dimanche),AND(WEEKDAY(AW25)=2,Lundi),AND(WEEKDAY(AW25)=3,Mardi),AND(WEEKDAY(AW25)=4,Mercredi),AND(WEEKDAY(AW25)=5,Jeudi),AND(WEEKDAY(AW25)=6,Vendredi),AND(WEEKDAY(AW25)=7,Samedi),AW25=férié),0,1)","v":1},"LUN","2017-10-23",null,null,{"$f":"IF(OR(AND(WEEKDAY(BB25)=1,Dimanche),AND(WEEKDAY(BB25)=2,Lundi),AND(WEEKDAY(BB25)=3,Mardi),AND(WEEKDAY(BB25)=4,Mercredi),AND(WEEKDAY(BB25)=5,Jeudi),AND(WEEKDAY(BB25)=6,Vendredi),AND(WEEKDAY(BB25)=7,Samedi),BB25=férié),0,1)","v":1},"JEU","2017-11-23",null,null,{"$f":"IF(OR(AND(WEEKDAY(BG25)=1,Dimanche),AND(WEEKDAY(BG25)=2,Lundi),AND(WEEKDAY(BG25)=3,Mardi),AND(WEEKDAY(BG25)=4,Mercredi),AND(WEEKDAY(BG25)=5,Jeudi),AND(WEEKDAY(BG25)=6,Vendredi),AND(WEEKDAY(BG25)=7,Samedi),BG25=férié),0,1)","v":0},"SAM","2017-12-23"]
[null,{"$f":"IF(OR(AND(WEEKDAY(D26)=1,Dimanche),AND(WEEKDAY(D26)=2,Lundi),AND(WEEKDAY(D26)=3,Mardi),AND(WEEKDAY(D26)=4,Mercredi),AND(WEEKDAY(D26)=5,Jeudi),AND(WEEKDAY(D26)=6,Vendredi),AND(WEEKDAY(D26)=7,Samedi),D26=férié),0,1)","v":1},"MAR","2017-01-24",null,null,{"$f":"IF(OR(AND(WEEKDAY(I26)=1,Dimanche),AND(WEEKDAY(I26)=2,Lundi),AND(WEEKDAY(I26)=3,Mardi),AND(WEEKDAY(I26)=4,Mercredi),AND(WEEKDAY(I26)=5,Jeudi),AND(WEEKDAY(I26)=6,Vendredi),AND(WEEKDAY(I26)=7,Samedi),I26=férié),0,1)","v":1},"VEN","2017-02-24",null,null,{"$f":"IF(OR(AND(WEEKDAY(N26)=1,Dimanche),AND(WEEKDAY(N26)=2,Lundi),AND(WEEKDAY(N26)=3,Mardi),AND(WEEKDAY(N26)=4,Mercredi),AND(WEEKDAY(N26)=5,Jeudi),AND(WEEKDAY(N26)=6,Vendredi),AND(WEEKDAY(N26)=7,Samedi),N26=férié),0,1)","v":1},"VEN","2017-03-24",null,null,{"$f":"IF(OR(AND(WEEKDAY(S26)=1,Dimanche),AND(WEEKDAY(S26)=2,Lundi),AND(WEEKDAY(S26)=3,Mardi),AND(WEEKDAY(S26)=4,Mercredi),AND(WEEKDAY(S26)=5,Jeudi),AND(WEEKDAY(S26)=6,Vendredi),AND(WEEKDAY(S26)=7,Samedi),S26=férié),0,1)","v":1},"LUN","2017-04-24",null,null,{"$f":"IF(OR(AND(WEEKDAY(X26)=1,Dimanche),AND(WEEKDAY(X26)=2,Lundi),AND(WEEKDAY(X26)=3,Mardi),AND(WEEKDAY(X26)=4,Mercredi),AND(WEEKDAY(X26)=5,Jeudi),AND(WEEKDAY(X26)=6,Vendredi),AND(WEEKDAY(X26)=7,Samedi),X26=férié),0,1)","v":1},"MER","2017-05-24",null,null,{"$f":"IF(OR(AND(WEEKDAY(AC26)=1,Dimanche),AND(WEEKDAY(AC26)=2,Lundi),AND(WEEKDAY(AC26)=3,Mardi),AND(WEEKDAY(AC26)=4,Mercredi),AND(WEEKDAY(AC26)=5,Jeudi),AND(WEEKDAY(AC26)=6,Vendredi),AND(WEEKDAY(AC26)=7,Samedi),AC26=férié),0,1)","v":0},"SAM","2017-06-24",null,null,{"$f":"IF(OR(AND(WEEKDAY(AH26)=1,Dimanche),AND(WEEKDAY(AH26)=2,Lundi),AND(WEEKDAY(AH26)=3,Mardi),AND(WEEKDAY(AH26)=4,Mercredi),AND(WEEKDAY(AH26)=5,Jeudi),AND(WEEKDAY(AH26)=6,Vendredi),AND(WEEKDAY(AH26)=7,Samedi),AH26=férié),0,1)","v":1},"LUN","2017-07-24",null,null,{"$f":"IF(OR(AND(WEEKDAY(AM26)=1,Dimanche),AND(WEEKDAY(AM26)=2,Lundi),AND(WEEKDAY(AM26)=3,Mardi),AND(WEEKDAY(AM26)=4,Mercredi),AND(WEEKDAY(AM26)=5,Jeudi),AND(WEEKDAY(AM26)=6,Vendredi),AND(WEEKDAY(AM26)=7,Samedi),AM26=férié),0,1)","v":1},"JEU","2017-08-24",null,null,{"$f":"IF(OR(AND(WEEKDAY(AR26)=1,Dimanche),AND(WEEKDAY(AR26)=2,Lundi),AND(WEEKDAY(AR26)=3,Mardi),AND(WEEKDAY(AR26)=4,Mercredi),AND(WEEKDAY(AR26)=5,Jeudi),AND(WEEKDAY(AR26)=6,Vendredi),AND(WEEKDAY(AR26)=7,Samedi),AR26=férié),0,1)","v":0},"DIM","2017-09-24",null,null,{"$f":"IF(OR(AND(WEEKDAY(AW26)=1,Dimanche),AND(WEEKDAY(AW26)=2,Lundi),AND(WEEKDAY(AW26)=3,Mardi),AND(WEEKDAY(AW26)=4,Mercredi),AND(WEEKDAY(AW26)=5,Jeudi),AND(WEEKDAY(AW26)=6,Vendredi),AND(WEEKDAY(AW26)=7,Samedi),AW26=férié),0,1)","v":1},"MAR","2017-10-24",null,null,{"$f":"IF(OR(AND(WEEKDAY(BB26)=1,Dimanche),AND(WEEKDAY(BB26)=2,Lundi),AND(WEEKDAY(BB26)=3,Mardi),AND(WEEKDAY(BB26)=4,Mercredi),AND(WEEKDAY(BB26)=5,Jeudi),AND(WEEKDAY(BB26)=6,Vendredi),AND(WEEKDAY(BB26)=7,Samedi),BB26=férié),0,1)","v":1},"VEN","2017-11-24",null,null,{"$f":"IF(OR(AND(WEEKDAY(BG26)=1,Dimanche),AND(WEEKDAY(BG26)=2,Lundi),AND(WEEKDAY(BG26)=3,Mardi),AND(WEEKDAY(BG26)=4,Mercredi),AND(WEEKDAY(BG26)=5,Jeudi),AND(WEEKDAY(BG26)=6,Vendredi),AND(WEEKDAY(BG26)=7,Samedi),BG26=férié),0,1)","v":0},"DIM","2017-12-24"]
[null,{"$f":"IF(OR(AND(WEEKDAY(D27)=1,Dimanche),AND(WEEKDAY(D27)=2,Lundi),AND(WEEKDAY(D27)=3,Mardi),AND(WEEKDAY(D27)=4,Mercredi),AND(WEEKDAY(D27)=5,Jeudi),AND(WEEKDAY(D27)=6,Vendredi),AND(WEEKDAY(D27)=7,Samedi),D27=férié),0,1)","v":1},"MER","2017-01-25",null,null,{"$f":"IF(OR(AND(WEEKDAY(I27)=1,Dimanche),AND(WEEKDAY(I27)=2,Lundi),AND(WEEKDAY(I27)=3,Mardi),AND(WEEKDAY(I27)=4,Mercredi),AND(WEEKDAY(I27)=5,Jeudi),AND(WEEKDAY(I27)=6,Vendredi),AND(WEEKDAY(I27)=7,Samedi),I27=férié),0,1)","v":0},"SAM","2017-02-25",null,null,{"$f":"IF(OR(AND(WEEKDAY(N27)=1,Dimanche),AND(WEEKDAY(N27)=2,Lundi),AND(WEEKDAY(N27)=3,Mardi),AND(WEEKDAY(N27)=4,Mercredi),AND(WEEKDAY(N27)=5,Jeudi),AND(WEEKDAY(N27)=6,Vendredi),AND(WEEKDAY(N27)=7,Samedi),N27=férié),0,1)","v":0},"SAM","2017-03-25",null,null,{"$f":"IF(OR(AND(WEEKDAY(S27)=1,Dimanche),AND(WEEKDAY(S27)=2,Lundi),AND(WEEKDAY(S27)=3,Mardi),AND(WEEKDAY(S27)=4,Mercredi),AND(WEEKDAY(S27)=5,Jeudi),AND(WEEKDAY(S27)=6,Vendredi),AND(WEEKDAY(S27)=7,Samedi),S27=férié),0,1)","v":1},"MAR","2017-04-25",null,null,{"$f":"IF(OR(AND(WEEKDAY(X27)=1,Dimanche),AND(WEEKDAY(X27)=2,Lundi),AND(WEEKDAY(X27)=3,Mardi),AND(WEEKDAY(X27)=4,Mercredi),AND(WEEKDAY(X27)=5,Jeudi),AND(WEEKDAY(X27)=6,Vendredi),AND(WEEKDAY(X27)=7,Samedi),X27=férié),0,1)","v":0},"JEU","2017-05-25",null,null,{"$f":"IF(OR(AND(WEEKDAY(AC27)=1,Dimanche),AND(WEEKDAY(AC27)=2,Lundi),AND(WEEKDAY(AC27)=3,Mardi),AND(WEEKDAY(AC27)=4,Mercredi),AND(WEEKDAY(AC27)=5,Jeudi),AND(WEEKDAY(AC27)=6,Vendredi),AND(WEEKDAY(AC27)=7,Samedi),AC27=férié),0,1)","v":0},"DIM","2017-06-25",null,null,{"$f":"IF(OR(AND(WEEKDAY(AH27)=1,Dimanche),AND(WEEKDAY(AH27)=2,Lundi),AND(WEEKDAY(AH27)=3,Mardi),AND(WEEKDAY(AH27)=4,Mercredi),AND(WEEKDAY(AH27)=5,Jeudi),AND(WEEKDAY(AH27)=6,Vendredi),AND(WEEKDAY(AH27)=7,Samedi),AH27=férié),0,1)","v":1},"MAR","2017-07-25",null,null,{"$f":"IF(OR(AND(WEEKDAY(AM27)=1,Dimanche),AND(WEEKDAY(AM27)=2,Lundi),AND(WEEKDAY(AM27)=3,Mardi),AND(WEEKDAY(AM27)=4,Mercredi),AND(WEEKDAY(AM27)=5,Jeudi),AND(WEEKDAY(AM27)=6,Vendredi),AND(WEEKDAY(AM27)=7,Samedi),AM27=férié),0,1)","v":1},"VEN","2017-08-25",null,null,{"$f":"IF(OR(AND(WEEKDAY(AR27)=1,Dimanche),AND(WEEKDAY(AR27)=2,Lundi),AND(WEEKDAY(AR27)=3,Mardi),AND(WEEKDAY(AR27)=4,Mercredi),AND(WEEKDAY(AR27)=5,Jeudi),AND(WEEKDAY(AR27)=6,Vendredi),AND(WEEKDAY(AR27)=7,Samedi),AR27=férié),0,1)","v":1},"LUN","2017-09-25",null,null,{"$f":"IF(OR(AND(WEEKDAY(AW27)=1,Dimanche),AND(WEEKDAY(AW27)=2,Lundi),AND(WEEKDAY(AW27)=3,Mardi),AND(WEEKDAY(AW27)=4,Mercredi),AND(WEEKDAY(AW27)=5,Jeudi),AND(WEEKDAY(AW27)=6,Vendredi),AND(WEEKDAY(AW27)=7,Samedi),AW27=férié),0,1)","v":1},"MER","2017-10-25",null,null,{"$f":"IF(OR(AND(WEEKDAY(BB27)=1,Dimanche),AND(WEEKDAY(BB27)=2,Lundi),AND(WEEKDAY(BB27)=3,Mardi),AND(WEEKDAY(BB27)=4,Mercredi),AND(WEEKDAY(BB27)=5,Jeudi),AND(WEEKDAY(BB27)=6,Vendredi),AND(WEEKDAY(BB27)=7,Samedi),BB27=férié),0,1)","v":0},"SAM","2017-11-25",null,null,{"$f":"IF(OR(AND(WEEKDAY(BG27)=1,Dimanche),AND(WEEKDAY(BG27)=2,Lundi),AND(WEEKDAY(BG27)=3,Mardi),AND(WEEKDAY(BG27)=4,Mercredi),AND(WEEKDAY(BG27)=5,Jeudi),AND(WEEKDAY(BG27)=6,Vendredi),AND(WEEKDAY(BG27)=7,Samedi),BG27=férié),0,1)","v":0},"LUN","2017-12-25"]
[null,{"$f":"IF(OR(AND(WEEKDAY(D28)=1,Dimanche),AND(WEEKDAY(D28)=2,Lundi),AND(WEEKDAY(D28)=3,Mardi),AND(WEEKDAY(D28)=4,Mercredi),AND(WEEKDAY(D28)=5,Jeudi),AND(WEEKDAY(D28)=6,Vendredi),AND(WEEKDAY(D28)=7,Samedi),D28=férié),0,1)","v":1},"JEU","2017-01-26",null,null,{"$f":"IF(OR(AND(WEEKDAY(I28)=1,Dimanche),AND(WEEKDAY(I28)=2,Lundi),AND(WEEKDAY(I28)=3,Mardi),AND(WEEKDAY(I28)=4,Mercredi),AND(WEEKDAY(I28)=5,Jeudi),AND(WEEKDAY(I28)=6,Vendredi),AND(WEEKDAY(I28)=7,Samedi),I28=férié),0,1)","v":0},"DIM","2017-02-26",null,null,{"$f":"IF(OR(AND(WEEKDAY(N28)=1,Dimanche),AND(WEEKDAY(N28)=2,Lundi),AND(WEEKDAY(N28)=3,Mardi),AND(WEEKDAY(N28)=4,Mercredi),AND(WEEKDAY(N28)=5,Jeudi),AND(WEEKDAY(N28)=6,Vendredi),AND(WEEKDAY(N28)=7,Samedi),N28=férié),0,1)","v":0},"DIM","2017-03-26",null,null,{"$f":"IF(OR(AND(WEEKDAY(S28)=1,Dimanche),AND(WEEKDAY(S28)=2,Lundi),AND(WEEKDAY(S28)=3,Mardi),AND(WEEKDAY(S28)=4,Mercredi),AND(WEEKDAY(S28)=5,Jeudi),AND(WEEKDAY(S28)=6,Vendredi),AND(WEEKDAY(S28)=7,Samedi),S28=férié),0,1)","v":1},"MER","2017-04-26",null,null,{"$f":"IF(OR(AND(WEEKDAY(X28)=1,Dimanche),AND(WEEKDAY(X28)=2,Lundi),AND(WEEKDAY(X28)=3,Mardi),AND(WEEKDAY(X28)=4,Mercredi),AND(WEEKDAY(X28)=5,Jeudi),AND(WEEKDAY(X28)=6,Vendredi),AND(WEEKDAY(X28)=7,Samedi),X28=férié),0,1)","v":1},"VEN","2017-05-26",null,null,{"$f":"IF(OR(AND(WEEKDAY(AC28)=1,Dimanche),AND(WEEKDAY(AC28)=2,Lundi),AND(WEEKDAY(AC28)=3,Mardi),AND(WEEKDAY(AC28)=4,Mercredi),AND(WEEKDAY(AC28)=5,Jeudi),AND(WEEKDAY(AC28)=6,Vendredi),AND(WEEKDAY(AC28)=7,Samedi),AC28=férié),0,1)","v":1},"LUN","2017-06-26",null,null,{"$f":"IF(OR(AND(WEEKDAY(AH28)=1,Dimanche),AND(WEEKDAY(AH28)=2,Lundi),AND(WEEKDAY(AH28)=3,Mardi),AND(WEEKDAY(AH28)=4,Mercredi),AND(WEEKDAY(AH28)=5,Jeudi),AND(WEEKDAY(AH28)=6,Vendredi),AND(WEEKDAY(AH28)=7,Samedi),AH28=férié),0,1)","v":1},"MER","2017-07-26",null,null,{"$f":"IF(OR(AND(WEEKDAY(AM28)=1,Dimanche),AND(WEEKDAY(AM28)=2,Lundi),AND(WEEKDAY(AM28)=3,Mardi),AND(WEEKDAY(AM28)=4,Mercredi),AND(WEEKDAY(AM28)=5,Jeudi),AND(WEEKDAY(AM28)=6,Vendredi),AND(WEEKDAY(AM28)=7,Samedi),AM28=férié),0,1)","v":0},"SAM","2017-08-26",null,null,{"$f":"IF(OR(AND(WEEKDAY(AR28)=1,Dimanche),AND(WEEKDAY(AR28)=2,Lundi),AND(WEEKDAY(AR28)=3,Mardi),AND(WEEKDAY(AR28)=4,Mercredi),AND(WEEKDAY(AR28)=5,Jeudi),AND(WEEKDAY(AR28)=6,Vendredi),AND(WEEKDAY(AR28)=7,Samedi),AR28=férié),0,1)","v":1},"MAR","2017-09-26",null,null,{"$f":"IF(OR(AND(WEEKDAY(AW28)=1,Dimanche),AND(WEEKDAY(AW28)=2,Lundi),AND(WEEKDAY(AW28)=3,Mardi),AND(WEEKDAY(AW28)=4,Mercredi),AND(WEEKDAY(AW28)=5,Jeudi),AND(WEEKDAY(AW28)=6,Vendredi),AND(WEEKDAY(AW28)=7,Samedi),AW28=férié),0,1)","v":1},"JEU","2017-10-26",null,null,{"$f":"IF(OR(AND(WEEKDAY(BB28)=1,Dimanche),AND(WEEKDAY(BB28)=2,Lundi),AND(WEEKDAY(BB28)=3,Mardi),AND(WEEKDAY(BB28)=4,Mercredi),AND(WEEKDAY(BB28)=5,Jeudi),AND(WEEKDAY(BB28)=6,Vendredi),AND(WEEKDAY(BB28)=7,Samedi),BB28=férié),0,1)","v":0},"DIM","2017-11-26",null,null,{"$f":"IF(OR(AND(WEEKDAY(BG28)=1,Dimanche),AND(WEEKDAY(BG28)=2,Lundi),AND(WEEKDAY(BG28)=3,Mardi),AND(WEEKDAY(BG28)=4,Mercredi),AND(WEEKDAY(BG28)=5,Jeudi),AND(WEEKDAY(BG28)=6,Vendredi),AND(WEEKDAY(BG28)=7,Samedi),BG28=férié),0,1)","v":1},"MAR","2017-12-26"]
[null,{"$f":"IF(OR(AND(WEEKDAY(D29)=1,Dimanche),AND(WEEKDAY(D29)=2,Lundi),AND(WEEKDAY(D29)=3,Mardi),AND(WEEKDAY(D29)=4,Mercredi),AND(WEEKDAY(D29)=5,Jeudi),AND(WEEKDAY(D29)=6,Vendredi),AND(WEEKDAY(D29)=7,Samedi),D29=férié),0,1)","v":1},"VEN","2017-01-27",null,null,{"$f":"IF(OR(AND(WEEKDAY(I29)=1,Dimanche),AND(WEEKDAY(I29)=2,Lundi),AND(WEEKDAY(I29)=3,Mardi),AND(WEEKDAY(I29)=4,Mercredi),AND(WEEKDAY(I29)=5,Jeudi),AND(WEEKDAY(I29)=6,Vendredi),AND(WEEKDAY(I29)=7,Samedi),I29=férié),0,1)","v":1},"LUN","2017-02-27",null,null,{"$f":"IF(OR(AND(WEEKDAY(N29)=1,Dimanche),AND(WEEKDAY(N29)=2,Lundi),AND(WEEKDAY(N29)=3,Mardi),AND(WEEKDAY(N29)=4,Mercredi),AND(WEEKDAY(N29)=5,Jeudi),AND(WEEKDAY(N29)=6,Vendredi),AND(WEEKDAY(N29)=7,Samedi),N29=férié),0,1)","v":1},"LUN","2017-03-27",null,null,{"$f":"IF(OR(AND(WEEKDAY(S29)=1,Dimanche),AND(WEEKDAY(S29)=2,Lundi),AND(WEEKDAY(S29)=3,Mardi),AND(WEEKDAY(S29)=4,Mercredi),AND(WEEKDAY(S29)=5,Jeudi),AND(WEEKDAY(S29)=6,Vendredi),AND(WEEKDAY(S29)=7,Samedi),S29=férié),0,1)","v":1},"JEU","2017-04-27",null,null,{"$f":"IF(OR(AND(WEEKDAY(X29)=1,Dimanche),AND(WEEKDAY(X29)=2,Lundi),AND(WEEKDAY(X29)=3,Mardi),AND(WEEKDAY(X29)=4,Mercredi),AND(WEEKDAY(X29)=5,Jeudi),AND(WEEKDAY(X29)=6,Vendredi),AND(WEEKDAY(X29)=7,Samedi),X29=férié),0,1)","v":0},"SAM","2017-05-27",null,null,{"$f":"IF(OR(AND(WEEKDAY(AC29)=1,Dimanche),AND(WEEKDAY(AC29)=2,Lundi),AND(WEEKDAY(AC29)=3,Mardi),AND(WEEKDAY(AC29)=4,Mercredi),AND(WEEKDAY(AC29)=5,Jeudi),AND(WEEKDAY(AC29)=6,Vendredi),AND(WEEKDAY(AC29)=7,Samedi),AC29=férié),0,1)","v":1},"MAR","2017-06-27",null,null,{"$f":"IF(OR(AND(WEEKDAY(AH29)=1,Dimanche),AND(WEEKDAY(AH29)=2,Lundi),AND(WEEKDAY(AH29)=3,Mardi),AND(WEEKDAY(AH29)=4,Mercredi),AND(WEEKDAY(AH29)=5,Jeudi),AND(WEEKDAY(AH29)=6,Vendredi),AND(WEEKDAY(AH29)=7,Samedi),AH29=férié),0,1)","v":1},"JEU","2017-07-27",null,null,{"$f":"IF(OR(AND(WEEKDAY(AM29)=1,Dimanche),AND(WEEKDAY(AM29)=2,Lundi),AND(WEEKDAY(AM29)=3,Mardi),AND(WEEKDAY(AM29)=4,Mercredi),AND(WEEKDAY(AM29)=5,Jeudi),AND(WEEKDAY(AM29)=6,Vendredi),AND(WEEKDAY(AM29)=7,Samedi),AM29=férié),0,1)","v":0},"DIM","2017-08-27",null,null,{"$f":"IF(OR(AND(WEEKDAY(AR29)=1,Dimanche),AND(WEEKDAY(AR29)=2,Lundi),AND(WEEKDAY(AR29)=3,Mardi),AND(WEEKDAY(AR29)=4,Mercredi),AND(WEEKDAY(AR29)=5,Jeudi),AND(WEEKDAY(AR29)=6,Vendredi),AND(WEEKDAY(AR29)=7,Samedi),AR29=férié),0,1)","v":1},"MER","2017-09-27",null,null,{"$f":"IF(OR(AND(WEEKDAY(AW29)=1,Dimanche),AND(WEEKDAY(AW29)=2,Lundi),AND(WEEKDAY(AW29)=3,Mardi),AND(WEEKDAY(AW29)=4,Mercredi),AND(WEEKDAY(AW29)=5,Jeudi),AND(WEEKDAY(AW29)=6,Vendredi),AND(WEEKDAY(AW29)=7,Samedi),AW29=férié),0,1)","v":1},"VEN","2017-10-27",null,null,{"$f":"IF(OR(AND(WEEKDAY(BB29)=1,Dimanche),AND(WEEKDAY(BB29)=2,Lundi),AND(WEEKDAY(BB29)=3,Mardi),AND(WEEKDAY(BB29)=4,Mercredi),AND(WEEKDAY(BB29)=5,Jeudi),AND(WEEKDAY(BB29)=6,Vendredi),AND(WEEKDAY(BB29)=7,Samedi),BB29=férié),0,1)","v":1},"LUN","2017-11-27",null,null,{"$f":"IF(OR(AND(WEEKDAY(BG29)=1,Dimanche),AND(WEEKDAY(BG29)=2,Lundi),AND(WEEKDAY(BG29)=3,Mardi),AND(WEEKDAY(BG29)=4,Mercredi),AND(WEEKDAY(BG29)=5,Jeudi),AND(WEEKDAY(BG29)=6,Vendredi),AND(WEEKDAY(BG29)=7,Samedi),BG29=férié),0,1)","v":1},"MER","2017-12-27"]
[null,{"$f":"IF(OR(AND(WEEKDAY(D30)=1,Dimanche),AND(WEEKDAY(D30)=2,Lundi),AND(WEEKDAY(D30)=3,Mardi),AND(WEEKDAY(D30)=4,Mercredi),AND(WEEKDAY(D30)=5,Jeudi),AND(WEEKDAY(D30)=6,Vendredi),AND(WEEKDAY(D30)=7,Samedi),D30=férié),0,1)","v":0},"SAM","2017-01-28",null,null,{"$f":"IF(OR(AND(WEEKDAY(I30)=1,Dimanche),AND(WEEKDAY(I30)=2,Lundi),AND(WEEKDAY(I30)=3,Mardi),AND(WEEKDAY(I30)=4,Mercredi),AND(WEEKDAY(I30)=5,Jeudi),AND(WEEKDAY(I30)=6,Vendredi),AND(WEEKDAY(I30)=7,Samedi),I30=férié),0,1)","v":1},"MAR","2017-02-28",null,null,{"$f":"IF(OR(AND(WEEKDAY(N30)=1,Dimanche),AND(WEEKDAY(N30)=2,Lundi),AND(WEEKDAY(N30)=3,Mardi),AND(WEEKDAY(N30)=4,Mercredi),AND(WEEKDAY(N30)=5,Jeudi),AND(WEEKDAY(N30)=6,Vendredi),AND(WEEKDAY(N30)=7,Samedi),N30=férié),0,1)","v":1},"MAR","2017-03-28",null,null,{"$f":"IF(OR(AND(WEEKDAY(S30)=1,Dimanche),AND(WEEKDAY(S30)=2,Lundi),AND(WEEKDAY(S30)=3,Mardi),AND(WEEKDAY(S30)=4,Mercredi),AND(WEEKDAY(S30)=5,Jeudi),AND(WEEKDAY(S30)=6,Vendredi),AND(WEEKDAY(S30)=7,Samedi),S30=férié),0,1)","v":1},"VEN","2017-04-28",null,null,{"$f":"IF(OR(AND(WEEKDAY(X30)=1,Dimanche),AND(WEEKDAY(X30)=2,Lundi),AND(WEEKDAY(X30)=3,Mardi),AND(WEEKDAY(X30)=4,Mercredi),AND(WEEKDAY(X30)=5,Jeudi),AND(WEEKDAY(X30)=6,Vendredi),AND(WEEKDAY(X30)=7,Samedi),X30=férié),0,1)","v":0},"DIM","2017-05-28",null,null,{"$f":"IF(OR(AND(WEEKDAY(AC30)=1,Dimanche),AND(WEEKDAY(AC30)=2,Lundi),AND(WEEKDAY(AC30)=3,Mardi),AND(WEEKDAY(AC30)=4,Mercredi),AND(WEEKDAY(AC30)=5,Jeudi),AND(WEEKDAY(AC30)=6,Vendredi),AND(WEEKDAY(AC30)=7,Samedi),AC30=férié),0,1)","v":1},"MER","2017-06-28",null,null,{"$f":"IF(OR(AND(WEEKDAY(AH30)=1,Dimanche),AND(WEEKDAY(AH30)=2,Lundi),AND(WEEKDAY(AH30)=3,Mardi),AND(WEEKDAY(AH30)=4,Mercredi),AND(WEEKDAY(AH30)=5,Jeudi),AND(WEEKDAY(AH30)=6,Vendredi),AND(WEEKDAY(AH30)=7,Samedi),AH30=férié),0,1)","v":1},"VEN","2017-07-28",null,null,{"$f":"IF(OR(AND(WEEKDAY(AM30)=1,Dimanche),AND(WEEKDAY(AM30)=2,Lundi),AND(WEEKDAY(AM30)=3,Mardi),AND(WEEKDAY(AM30)=4,Mercredi),AND(WEEKDAY(AM30)=5,Jeudi),AND(WEEKDAY(AM30)=6,Vendredi),AND(WEEKDAY(AM30)=7,Samedi),AM30=férié),0,1)","v":1},"LUN","2017-08-28",null,null,{"$f":"IF(OR(AND(WEEKDAY(AR30)=1,Dimanche),AND(WEEKDAY(AR30)=2,Lundi),AND(WEEKDAY(AR30)=3,Mardi),AND(WEEKDAY(AR30)=4,Mercredi),AND(WEEKDAY(AR30)=5,Jeudi),AND(WEEKDAY(AR30)=6,Vendredi),AND(WEEKDAY(AR30)=7,Samedi),AR30=férié),0,1)","v":1},"JEU","2017-09-28",null,null,{"$f":"IF(OR(AND(WEEKDAY(AW30)=1,Dimanche),AND(WEEKDAY(AW30)=2,Lundi),AND(WEEKDAY(AW30)=3,Mardi),AND(WEEKDAY(AW30)=4,Mercredi),AND(WEEKDAY(AW30)=5,Jeudi),AND(WEEKDAY(AW30)=6,Vendredi),AND(WEEKDAY(AW30)=7,Samedi),AW30=férié),0,1)","v":0},"SAM","2017-10-28",null,null,{"$f":"IF(OR(AND(WEEKDAY(BB30)=1,Dimanche),AND(WEEKDAY(BB30)=2,Lundi),AND(WEEKDAY(BB30)=3,Mardi),AND(WEEKDAY(BB30)=4,Mercredi),AND(WEEKDAY(BB30)=5,Jeudi),AND(WEEKDAY(BB30)=6,Vendredi),AND(WEEKDAY(BB30)=7,Samedi),BB30=férié),0,1)","v":1},"MAR","2017-11-28",null,null,{"$f":"IF(OR(AND(WEEKDAY(BG30)=1,Dimanche),AND(WEEKDAY(BG30)=2,Lundi),AND(WEEKDAY(BG30)=3,Mardi),AND(WEEKDAY(BG30)=4,Mercredi),AND(WEEKDAY(BG30)=5,Jeudi),AND(WEEKDAY(BG30)=6,Vendredi),AND(WEEKDAY(BG30)=7,Samedi),BG30=férié),0,1)","v":1},"JEU","2017-12-28"]
[null,{"$f":"IF(OR(AND(WEEKDAY(D31)=1,Dimanche),AND(WEEKDAY(D31)=2,Lundi),AND(WEEKDAY(D31)=3,Mardi),AND(WEEKDAY(D31)=4,Mercredi),AND(WEEKDAY(D31)=5,Jeudi),AND(WEEKDAY(D31)=6,Vendredi),AND(WEEKDAY(D31)=7,Samedi),D31=férié),0,1)","v":0},"DIM",{"$f":"IF(D30=EOMONTH(D$3,0),\"\",D30+1)","v":"2017-01-29"},null,null,{"$f":"IF(OR(AND(WEEKDAY(I31)=1,Dimanche),AND(WEEKDAY(I31)=2,Lundi),AND(WEEKDAY(I31)=3,Mardi),AND(WEEKDAY(I31)=4,Mercredi),AND(WEEKDAY(I31)=5,Jeudi),AND(WEEKDAY(I31)=6,Vendredi),AND(WEEKDAY(I31)=7,Samedi),I31=férié),0,1)","v":{"$error":"#VALUE!"}},"",{"$f":"IF(I30=EOMONTH(I$3,0),\"\",I30+1)","v":""},null,null,{"$f":"IF(OR(AND(WEEKDAY(N31)=1,Dimanche),AND(WEEKDAY(N31)=2,Lundi),AND(WEEKDAY(N31)=3,Mardi),AND(WEEKDAY(N31)=4,Mercredi),AND(WEEKDAY(N31)=5,Jeudi),AND(WEEKDAY(N31)=6,Vendredi),AND(WEEKDAY(N31)=7,Samedi),N31=férié),0,1)","v":1},"MER",{"$f":"IF(N30=EOMONTH(N$3,0),\"\",N30+1)","v":"2017-03-29"},null,null,{"$f":"IF(OR(AND(WEEKDAY(S31)=1,Dimanche),AND(WEEKDAY(S31)=2,Lundi),AND(WEEKDAY(S31)=3,Mardi),AND(WEEKDAY(S31)=4,Mercredi),AND(WEEKDAY(S31)=5,Jeudi),AND(WEEKDAY(S31)=6,Vendredi),AND(WEEKDAY(S31)=7,Samedi),S31=férié),0,1)","v":0},"SAM",{"$f":"IF(S30=EOMONTH(S$3,0),\"\",S30+1)","v":"2017-04-29"},null,null,{"$f":"IF(OR(AND(WEEKDAY(X31)=1,Dimanche),AND(WEEKDAY(X31)=2,Lundi),AND(WEEKDAY(X31)=3,Mardi),AND(WEEKDAY(X31)=4,Mercredi),AND(WEEKDAY(X31)=5,Jeudi),AND(WEEKDAY(X31)=6,Vendredi),AND(WEEKDAY(X31)=7,Samedi),X31=férié),0,1)","v":1},"LUN",{"$f":"IF(X30=EOMONTH(X$3,0),\"\",X30+1)","v":"2017-05-29"},null,null,{"$f":"IF(OR(AND(WEEKDAY(AC31)=1,Dimanche),AND(WEEKDAY(AC31)=2,Lundi),AND(WEEKDAY(AC31)=3,Mardi),AND(WEEKDAY(AC31)=4,Mercredi),AND(WEEKDAY(AC31)=5,Jeudi),AND(WEEKDAY(AC31)=6,Vendredi),AND(WEEKDAY(AC31)=7,Samedi),AC31=férié),0,1)","v":1},"JEU",{"$f":"IF(AC30=EOMONTH(AC$3,0),\"\",AC30+1)","v":"2017-06-29"},null,null,{"$f":"IF(OR(AND(WEEKDAY(AH31)=1,Dimanche),AND(WEEKDAY(AH31)=2,Lundi),AND(WEEKDAY(AH31)=3,Mardi),AND(WEEKDAY(AH31)=4,Mercredi),AND(WEEKDAY(AH31)=5,Jeudi),AND(WEEKDAY(AH31)=6,Vendredi),AND(WEEKDAY(AH31)=7,Samedi),AH31=férié),0,1)","v":0},"SAM",{"$f":"IF(AH30=EOMONTH(AH$3,0),\"\",AH30+1)","v":"2017-07-29"},null,null,{"$f":"IF(OR(AND(WEEKDAY(AM31)=1,Dimanche),AND(WEEKDAY(AM31)=2,Lundi),AND(WEEKDAY(AM31)=3,Mardi),AND(WEEKDAY(AM31)=4,Mercredi),AND(WEEKDAY(AM31)=5,Jeudi),AND(WEEKDAY(AM31)=6,Vendredi),AND(WEEKDAY(AM31)=7,Samedi),AM31=férié),0,1)","v":1},"MAR",{"$f":"IF(AM30=EOMONTH(AM$3,0),\"\",AM30+1)","v":"2017-08-29"},null,null,{"$f":"IF(OR(AND(WEEKDAY(AR31)=1,Dimanche),AND(WEEKDAY(AR31)=2,Lundi),AND(WEEKDAY(AR31)=3,Mardi),AND(WEEKDAY(AR31)=4,Mercredi),AND(WEEKDAY(AR31)=5,Jeudi),AND(WEEKDAY(AR31)=6,Vendredi),AND(WEEKDAY(AR31)=7,Samedi),AR31=férié),0,1)","v":1},"VEN",{"$f":"IF(AR30=EOMONTH(AR$3,0),\"\",AR30+1)","v":"2017-09-29"},null,null,{"$f":"IF(OR(AND(WEEKDAY(AW31)=1,Dimanche),AND(WEEKDAY(AW31)=2,Lundi),AND(WEEKDAY(AW31)=3,Mardi),AND(WEEKDAY(AW31)=4,Mercredi),AND(WEEKDAY(AW31)=5,Jeudi),AND(WEEKDAY(AW31)=6,Vendredi),AND(WEEKDAY(AW31)=7,Samedi),AW31=férié),0,1)","v":0},"DIM",{"$f":"IF(AW30=EOMONTH(AW$3,0),\"\",AW30+1)","v":"2017-10-29"},null,null,{"$f":"IF(OR(AND(WEEKDAY(BB31)=1,Dimanche),AND(WEEKDAY(BB31)=2,Lundi),AND(WEEKDAY(BB31)=3,Mardi),AND(WEEKDAY(BB31)=4,Mercredi),AND(WEEKDAY(BB31)=5,Jeudi),AND(WEEKDAY(BB31)=6,Vendredi),AND(WEEKDAY(BB31)=7,Samedi),BB31=férié),0,1)","v":1},"MER",{"$f":"IF(BB30=EOMONTH(BB$3,0),\"\",BB30+1)","v":"2017-11-29"},null,null,{"$f":"IF(OR(AND(WEEKDAY(BG31)=1,Dimanche),AND(WEEKDAY(BG31)=2,Lundi),AND(WEEKDAY(BG31)=3,Mardi),AND(WEEKDAY(BG31)=4,Mercredi),AND(WEEKDAY(BG31)=5,Jeudi),AND(WEEKDAY(BG31)=6,Vendredi),AND(WEEKDAY(BG31)=7,Samedi),BG31=férié),0,1)","v":1},"VEN",{"$f":"IF(BG30=EOMONTH(BG$3,0),\"\",BG30+1)","v":"2017-12-29"}]
[null,{"$f":"IF(OR(AND(WEEKDAY(D32)=1,Dimanche),AND(WEEKDAY(D32)=2,Lundi),AND(WEEKDAY(D32)=3,Mardi),AND(WEEKDAY(D32)=4,Mercredi),AND(WEEKDAY(D32)=5,Jeudi),AND(WEEKDAY(D32)=6,Vendredi),AND(WEEKDAY(D32)=7,Samedi),D32=férié),0,1)","v":1},"LUN",{"$f":"IFERROR(IF(D31=EOMONTH(D$3,0),\"\",D31+1),\"\")","v":"2017-01-30"},null,null,{"$f":"IF(OR(AND(WEEKDAY(I32)=1,Dimanche),AND(WEEKDAY(I32)=2,Lundi),AND(WEEKDAY(I32)=3,Mardi),AND(WEEKDAY(I32)=4,Mercredi),AND(WEEKDAY(I32)=5,Jeudi),AND(WEEKDAY(I32)=6,Vendredi),AND(WEEKDAY(I32)=7,Samedi),I32=férié),0,1)","v":{"$error":"#VALUE!"}},"",{"$f":"IFERROR(IF(I31=EOMONTH(I$3,0),\"\",I31+1),\"\")","v":""},null,null,{"$f":"IF(OR(AND(WEEKDAY(N32)=1,Dimanche),AND(WEEKDAY(N32)=2,Lundi),AND(WEEKDAY(N32)=3,Mardi),AND(WEEKDAY(N32)=4,Mercredi),AND(WEEKDAY(N32)=5,Jeudi),AND(WEEKDAY(N32)=6,Vendredi),AND(WEEKDAY(N32)=7,Samedi),N32=férié),0,1)","v":1},"JEU",{"$f":"IFERROR(IF(N31=EOMONTH(N$3,0),\"\",N31+1),\"\")","v":"2017-03-30"},null,null,{"$f":"IF(OR(AND(WEEKDAY(S32)=1,Dimanche),AND(WEEKDAY(S32)=2,Lundi),AND(WEEKDAY(S32)=3,Mardi),AND(WEEKDAY(S32)=4,Mercredi),AND(WEEKDAY(S32)=5,Jeudi),AND(WEEKDAY(S32)=6,Vendredi),AND(WEEKDAY(S32)=7,Samedi),S32=férié),0,1)","v":0},"DIM",{"$f":"IFERROR(IF(S31=EOMONTH(S$3,0),\"\",S31+1),\"\")","v":"2017-04-30"},null,null,{"$f":"IF(OR(AND(WEEKDAY(X32)=1,Dimanche),AND(WEEKDAY(X32)=2,Lundi),AND(WEEKDAY(X32)=3,Mardi),AND(WEEKDAY(X32)=4,Mercredi),AND(WEEKDAY(X32)=5,Jeudi),AND(WEEKDAY(X32)=6,Vendredi),AND(WEEKDAY(X32)=7,Samedi),X32=férié),0,1)","v":1},"MAR",{"$f":"IFERROR(IF(X31=EOMONTH(X$3,0),\"\",X31+1),\"\")","v":"2017-05-30"},null,null,{"$f":"IF(OR(AND(WEEKDAY(AC32)=1,Dimanche),AND(WEEKDAY(AC32)=2,Lundi),AND(WEEKDAY(AC32)=3,Mardi),AND(WEEKDAY(AC32)=4,Mercredi),AND(WEEKDAY(AC32)=5,Jeudi),AND(WEEKDAY(AC32)=6,Vendredi),AND(WEEKDAY(AC32)=7,Samedi),AC32=férié),0,1)","v":1},"VEN",{"$f":"IFERROR(IF(AC31=EOMONTH(AC$3,0),\"\",AC31+1),\"\")","v":"2017-06-30"},null,null,{"$f":"IF(OR(AND(WEEKDAY(AH32)=1,Dimanche),AND(WEEKDAY(AH32)=2,Lundi),AND(WEEKDAY(AH32)=3,Mardi),AND(WEEKDAY(AH32)=4,Mercredi),AND(WEEKDAY(AH32)=5,Jeudi),AND(WEEKDAY(AH32)=6,Vendredi),AND(WEEKDAY(AH32)=7,Samedi),AH32=férié),0,1)","v":0},"DIM",{"$f":"IFERROR(IF(AH31=EOMONTH(AH$3,0),\"\",AH31+1),\"\")","v":"2017-07-30"},null,null,{"$f":"IF(OR(AND(WEEKDAY(AM32)=1,Dimanche),AND(WEEKDAY(AM32)=2,Lundi),AND(WEEKDAY(AM32)=3,Mardi),AND(WEEKDAY(AM32)=4,Mercredi),AND(WEEKDAY(AM32)=5,Jeudi),AND(WEEKDAY(AM32)=6,Vendredi),AND(WEEKDAY(AM32)=7,Samedi),AM32=férié),0,1)","v":1},"MER",{"$f":"IFERROR(IF(AM31=EOMONTH(AM$3,0),\"\",AM31+1),\"\")","v":"2017-08-30"},null,null,{"$f":"IF(OR(AND(WEEKDAY(AR32)=1,Dimanche),AND(WEEKDAY(AR32)=2,Lundi),AND(WEEKDAY(AR32)=3,Mardi),AND(WEEKDAY(AR32)=4,Mercredi),AND(WEEKDAY(AR32)=5,Jeudi),AND(WEEKDAY(AR32)=6,Vendredi),AND(WEEKDAY(AR32)=7,Samedi),AR32=férié),0,1)","v":0},"SAM",{"$f":"IFERROR(IF(AR31=EOMONTH(AR$3,0),\"\",AR31+1),\"\")","v":"2017-09-30"},null,null,{"$f":"IF(OR(AND(WEEKDAY(AW32)=1,Dimanche),AND(WEEKDAY(AW32)=2,Lundi),AND(WEEKDAY(AW32)=3,Mardi),AND(WEEKDAY(AW32)=4,Mercredi),AND(WEEKDAY(AW32)=5,Jeudi),AND(WEEKDAY(AW32)=6,Vendredi),AND(WEEKDAY(AW32)=7,Samedi),AW32=férié),0,1)","v":1},"LUN",{"$f":"IFERROR(IF(AW31=EOMONTH(AW$3,0),\"\",AW31+1),\"\")","v":"2017-10-30"},null,null,{"$f":"IF(OR(AND(WEEKDAY(BB32)=1,Dimanche),AND(WEEKDAY(BB32)=2,Lundi),AND(WEEKDAY(BB32)=3,Mardi),AND(WEEKDAY(BB32)=4,Mercredi),AND(WEEKDAY(BB32)=5,Jeudi),AND(WEEKDAY(BB32)=6,Vendredi),AND(WEEKDAY(BB32)=7,Samedi),BB32=férié),0,1)","v":1},"JEU",{"$f":"IFERROR(IF(BB31=EOMONTH(BB$3,0),\"\",BB31+1),\"\")","v":"2017-11-30"},null,null,{"$f":"IF(OR(AND(WEEKDAY(BG32)=1,Dimanche),AND(WEEKDAY(BG32)=2,Lundi),AND(WEEKDAY(BG32)=3,Mardi),AND(WEEKDAY(BG32)=4,Mercredi),AND(WEEKDAY(BG32)=5,Jeudi),AND(WEEKDAY(BG32)=6,Vendredi),AND(WEEKDAY(BG32)=7,Samedi),BG32=férié),0,1)","v":0},"SAM",{"$f":"IFERROR(IF(BG31=EOMONTH(BG$3,0),\"\",BG31+1),\"\")","v":"2017-12-30"}]
[null,{"$f":"IF(OR(AND(WEEKDAY(D33)=1,Dimanche),AND(WEEKDAY(D33)=2,Lundi),AND(WEEKDAY(D33)=3,Mardi),AND(WEEKDAY(D33)=4,Mercredi),AND(WEEKDAY(D33)=5,Jeudi),AND(WEEKDAY(D33)=6,Vendredi),AND(WEEKDAY(D33)=7,Samedi),D33=férié),0,1)","v":1},"MAR",{"$f":"IFERROR(IF(D32=EOMONTH(D$3,0),\"\",D32+1),\"\")","v":"2017-01-31"},null,null,{"$f":"IF(OR(AND(WEEKDAY(I33)=1,Dimanche),AND(WEEKDAY(I33)=2,Lundi),AND(WEEKDAY(I33)=3,Mardi),AND(WEEKDAY(I33)=4,Mercredi),AND(WEEKDAY(I33)=5,Jeudi),AND(WEEKDAY(I33)=6,Vendredi),AND(WEEKDAY(I33)=7,Samedi),I33=férié),0,1)","v":{"$error":"#VALUE!"}},"",{"$f":"IFERROR(IF(I32=EOMONTH(I$3,0),\"\",I32+1),\"\")","v":""},null,null,{"$f":"IF(OR(AND(WEEKDAY(N33)=1,Dimanche),AND(WEEKDAY(N33)=2,Lundi),AND(WEEKDAY(N33)=3,Mardi),AND(WEEKDAY(N33)=4,Mercredi),AND(WEEKDAY(N33)=5,Jeudi),AND(WEEKDAY(N33)=6,Vendredi),AND(WEEKDAY(N33)=7,Samedi),N33=férié),0,1)","v":1},"VEN",{"$f":"IFERROR(IF(N32=EOMONTH(N$3,0),\"\",N32+1),\"\")","v":"2017-03-31"},null,null,{"$f":"IF(OR(AND(WEEKDAY(S33)=1,Dimanche),AND(WEEKDAY(S33)=2,Lundi),AND(WEEKDAY(S33)=3,Mardi),AND(WEEKDAY(S33)=4,Mercredi),AND(WEEKDAY(S33)=5,Jeudi),AND(WEEKDAY(S33)=6,Vendredi),AND(WEEKDAY(S33)=7,Samedi),S33=férié),0,1)","v":{"$error":"#VALUE!"}},"",{"$f":"IFERROR(IF(S32=EOMONTH(S$3,0),\"\",S32+1),\"\")","v":""},null,null,{"$f":"IF(OR(AND(WEEKDAY(X33)=1,Dimanche),AND(WEEKDAY(X33)=2,Lundi),AND(WEEKDAY(X33)=3,Mardi),AND(WEEKDAY(X33)=4,Mercredi),AND(WEEKDAY(X33)=5,Jeudi),AND(WEEKDAY(X33)=6,Vendredi),AND(WEEKDAY(X33)=7,Samedi),X33=férié),0,1)","v":1},"MER",{"$f":"IFERROR(IF(X32=EOMONTH(X$3,0),\"\",X32+1),\"\")","v":"2017-05-31"},null,null,{"$f":"IF(OR(AND(WEEKDAY(AC33)=1,Dimanche),AND(WEEKDAY(AC33)=2,Lundi),AND(WEEKDAY(AC33)=3,Mardi),AND(WEEKDAY(AC33)=4,Mercredi),AND(WEEKDAY(AC33)=5,Jeudi),AND(WEEKDAY(AC33)=6,Vendredi),AND(WEEKDAY(AC33)=7,Samedi),AC33=férié),0,1)","v":{"$error":"#VALUE!"}},"",{"$f":"IFERROR(IF(AC32=EOMONTH(AC$3,0),\"\",AC32+1),\"\")","v":""},null,null,{"$f":"IF(OR(AND(WEEKDAY(AH33)=1,Dimanche),AND(WEEKDAY(AH33)=2,Lundi),AND(WEEKDAY(AH33)=3,Mardi),AND(WEEKDAY(AH33)=4,Mercredi),AND(WEEKDAY(AH33)=5,Jeudi),AND(WEEKDAY(AH33)=6,Vendredi),AND(WEEKDAY(AH33)=7,Samedi),AH33=férié),0,1)","v":1},"LUN",{"$f":"IFERROR(IF(AH32=EOMONTH(AH$3,0),\"\",AH32+1),\"\")","v":"2017-07-31"},null,null,{"$f":"IF(OR(AND(WEEKDAY(AM33)=1,Dimanche),AND(WEEKDAY(AM33)=2,Lundi),AND(WEEKDAY(AM33)=3,Mardi),AND(WEEKDAY(AM33)=4,Mercredi),AND(WEEKDAY(AM33)=5,Jeudi),AND(WEEKDAY(AM33)=6,Vendredi),AND(WEEKDAY(AM33)=7,Samedi),AM33=férié),0,1)","v":1},"JEU",{"$f":"IFERROR(IF(AM32=EOMONTH(AM$3,0),\"\",AM32+1),\"\")","v":"2017-08-31"},null,null,{"$f":"IF(OR(AND(WEEKDAY(AR33)=1,Dimanche),AND(WEEKDAY(AR33)=2,Lundi),AND(WEEKDAY(AR33)=3,Mardi),AND(WEEKDAY(AR33)=4,Mercredi),AND(WEEKDAY(AR33)=5,Jeudi),AND(WEEKDAY(AR33)=6,Vendredi),AND(WEEKDAY(AR33)=7,Samedi),AR33=férié),0,1)","v":{"$error":"#VALUE!"}},"",{"$f":"IFERROR(IF(AR32=EOMONTH(AR$3,0),\"\",AR32+1),\"\")","v":""},null,null,{"$f":"IF(OR(AND(WEEKDAY(AW33)=1,Dimanche),AND(WEEKDAY(AW33)=2,Lundi),AND(WEEKDAY(AW33)=3,Mardi),AND(WEEKDAY(AW33)=4,Mercredi),AND(WEEKDAY(AW33)=5,Jeudi),AND(WEEKDAY(AW33)=6,Vendredi),AND(WEEKDAY(AW33)=7,Samedi),AW33=férié),0,1)","v":1},"MAR",{"$f":"IFERROR(IF(AW32=EOMONTH(AW$3,0),\"\",AW32+1),\"\")","v":"2017-10-31"},null,null,{"$f":"IF(OR(AND(WEEKDAY(BB33)=1,Dimanche),AND(WEEKDAY(BB33)=2,Lundi),AND(WEEKDAY(BB33)=3,Mardi),AND(WEEKDAY(BB33)=4,Mercredi),AND(WEEKDAY(BB33)=5,Jeudi),AND(WEEKDAY(BB33)=6,Vendredi),AND(WEEKDAY(BB33)=7,Samedi),BB33=férié),0,1)","v":{"$error":"#VALUE!"}},"",{"$f":"IFERROR(IF(BB32=EOMONTH(BB$3,0),\"\",BB32+1),\"\")","v":""},null,null,{"$f":"IF(OR(AND(WEEKDAY(BG33)=1,Dimanche),AND(WEEKDAY(BG33)=2,Lundi),AND(WEEKDAY(BG33)=3,Mardi),AND(WEEKDAY(BG33)=4,Mercredi),AND(WEEKDAY(BG33)=5,Jeudi),AND(WEEKDAY(BG33)=6,Vendredi),AND(WEEKDAY(BG33)=7,Samedi),BG33=férié),0,1)","v":0},"DIM",{"$f":"IFERROR(IF(BG32=EOMONTH(BG$3,0),\"\",BG32+1),\"\")","v":"2017-12-31"}]